{"text_format":"2","workbook":"xlsx","n_sheets":12,"sheets":["Roster_Selection_Men","Roster_Selection_Women","Individual_Scores_Men_Var","Individual_Scores_Men_JV","Individual_Scores_Women_Var","Individual_Scores_Women_JV","Qual_Team_Standings_Men_Var","Qual_Team_Standings_Men_JV","Qual_Team_Standings_Women_Var","Qual_Team_Standings_Women_JV","Indiv_Combined_Scores_Men","Indiv_Combined_Scores_Women"],"not_rendered":{"charts":0,"images":1,"macros":1,"external_links":4,"defined_names":0,"comments":0,"pivot_tables":0},"unopened":[],"bounds":{"document_bytes":16777216,"sheet_cells":100000,"run_cost":"one","rows_first":2000,"rows_last":500,"rows_between":2000,"halvings":0,"cell_chars":16384,"cell_head_chars":4096},"cells_cut":0,"cells_raw":0,"read":"whole","date_system":"1900"}

{"sheet":"Roster_Selection_Men","index":0,"n_rows":248,"n_cols":54,"rows_kept":248,"cut":false,"hidden":false,"merged":[[0,0,0,9]]}
["Tournament Details - Rosters"]
[]
[null,"NAIA Weekend-West-Sunday"]
[null,"Tier 2","NAIA",{"$nulls":12},"2443","7","0","5","","",null,null,"7",{"$nulls":29},"IBCYouth"]
[null,"<<Dates>>","<<Event#>>","02/04/2024 - 02/04/2024",{"$nulls":9},"V"]
[null,"<<Location>>",null,"Lawrence, KS",{"$nulls":9},"JV1"]
[{"$nulls":13},"JV2"]
[null,"Men's Division",null,"Cert No:","04110"]
[]
[null,"School/Team","State","Bowler ID","Bowler","Division"]
[null,"Avila University",null,"19-81745","Aidan Tesdall","V",null,4597.0,null,false,{"$nulls":17},{"$f":"IFERROR(INDEX(B11:B26, SMALL(IF(\"V\"=F11:F26, ROW(F11:F26)-MIN(ROW(F11:F26))+1, \"\"), ROW() -10 )), \"\")","v":"Avila University"},{"$f":"IFERROR(INDEX(C11:C26, SMALL(IF(\"V\"=F11:F26, ROW(F11:F26)-MIN(ROW(F11:F26))+1, \"\"), ROW() -10 )), \"\")","v":""},{"$f":"IFERROR(INDEX(D11:D26, SMALL(IF(\"V\"=F11:F26, ROW(F11:F26)-MIN(ROW(F11:F26))+1, \"\"), ROW() -10 )), \"\")","v":"19-81745"},{"$f":"IFERROR(INDEX(E11:E26, SMALL(IF(\"V\"=F11:F26, ROW(F11:F26)-MIN(ROW(F11:F26))+1, \"\"), ROW() -10 )), \"\")","v":"Aidan Tesdall"},{"$f":"IFERROR(INDEX(B11:B26, SMALL(IF(ISNUMBER(SEARCH(\"JV1\",F11:F26)), ROW(F11:F26)-MIN(ROW(F11:F26))+1, \"\"), ROW() -10 )), \"\")","v":"Avila University"},{"$f":"IFERROR(INDEX(C11:C26, SMALL(IF(ISNUMBER(SEARCH(\"JV1\",F11:F26)), ROW(F11:F26)-MIN(ROW(F11:F26))+1, \"\"), ROW() -10 )), \"\")","v":""},{"$f":"IFERROR(INDEX(D11:D26, SMALL(IF(ISNUMBER(SEARCH(\"JV1\",F11:F26)), ROW(F11:F26)-MIN(ROW(F11:F26))+1, \"\"), ROW() -10 )), \"\")","v":"11-393421"},{"$f":"IFERROR(INDEX(E11:E26, SMALL(IF(ISNUMBER(SEARCH(\"JV1\",F11:F26)), ROW(F11:F26)-MIN(ROW(F11:F26))+1, \"\"), ROW() -10 )), \"\")","v":"Brady Darr"},{"$f":"IFERROR(INDEX(B11:B26, SMALL(IF(ISNUMBER(SEARCH(\"JV2\",F11:F26)), ROW(F11:F26)-MIN(ROW(F11:F26))+1, \"\"), ROW() -10 )), \"\")","v":""},{"$f":"IFERROR(INDEX(C11:C26, SMALL(IF(ISNUMBER(SEARCH(\"JV2\",F11:F26)), ROW(F11:F26)-MIN(ROW(F11:F26))+1, \"\"), ROW() -10 )), \"\")","v":""},{"$f":"IFERROR(INDEX(D11:D26, SMALL(IF(ISNUMBER(SEARCH(\"JV2\",F11:F26)), ROW(F11:F26)-MIN(ROW(F11:F26))+1, \"\"), ROW() -10 )), \"\")","v":""},{"$f":"IFERROR(INDEX(E11:E26, SMALL(IF(ISNUMBER(SEARCH(\"JV2\",F11:F26)), ROW(F11:F26)-MIN(ROW(F11:F26))+1, \"\"), ROW() -10 )), \"\")","v":""}]
[null,"Avila University",null,"11-393421","Brady Darr","JV1",null,4597.0,null,false,{"$nulls":17},{"$f":"IFERROR(INDEX(B11:B26, SMALL(IF(\"V\"=F11:F26, ROW(F11:F26)-MIN(ROW(F11:F26))+1, \"\"), ROW() -10 )), \"\")","v":"Avila University"},{"$f":"IFERROR(INDEX(C11:C26, SMALL(IF(\"V\"=F11:F26, ROW(F11:F26)-MIN(ROW(F11:F26))+1, \"\"), ROW() -10 )), \"\")","v":""},{"$f":"IFERROR(INDEX(D11:D26, SMALL(IF(\"V\"=F11:F26, ROW(F11:F26)-MIN(ROW(F11:F26))+1, \"\"), ROW() -10 )), \"\")","v":"11-392672"},{"$f":"IFERROR(INDEX(E11:E26, SMALL(IF(\"V\"=F11:F26, ROW(F11:F26)-MIN(ROW(F11:F26))+1, \"\"), ROW() -10 )), \"\")","v":"Brody Stanback"},{"$f":"IFERROR(INDEX(B11:B26, SMALL(IF(ISNUMBER(SEARCH(\"JV1\",F11:F26)), ROW(F11:F26)-MIN(ROW(F11:F26))+1, \"\"), ROW() -10 )), \"\")","v":"Avila University"},{"$f":"IFERROR(INDEX(C11:C26, SMALL(IF(ISNUMBER(SEARCH(\"JV1\",F11:F26)), ROW(F11:F26)-MIN(ROW(F11:F26))+1, \"\"), ROW() -10 )), \"\")","v":""},{"$f":"IFERROR(INDEX(D11:D26, SMALL(IF(ISNUMBER(SEARCH(\"JV1\",F11:F26)), ROW(F11:F26)-MIN(ROW(F11:F26))+1, \"\"), ROW() -10 )), \"\")","v":"16-105571"},{"$f":"IFERROR(INDEX(E11:E26, SMALL(IF(ISNUMBER(SEARCH(\"JV1\",F11:F26)), ROW(F11:F26)-MIN(ROW(F11:F26))+1, \"\"), ROW() -10 )), \"\")","v":"Calvin Mcmiller"},{"$f":"IFERROR(INDEX(B11:B26, SMALL(IF(ISNUMBER(SEARCH(\"JV2\",F11:F26)), ROW(F11:F26)-MIN(ROW(F11:F26))+1, \"\"), ROW() -10 )), \"\")","v":""},{"$f":"IFERROR(INDEX(C11:C26, SMALL(IF(ISNUMBER(SEARCH(\"JV2\",F11:F26)), ROW(F11:F26)-MIN(ROW(F11:F26))+1, \"\"), ROW() -10 )), \"\")","v":""},{"$f":"IFERROR(INDEX(D11:D26, SMALL(IF(ISNUMBER(SEARCH(\"JV2\",F11:F26)), ROW(F11:F26)-MIN(ROW(F11:F26))+1, \"\"), ROW() -10 )), \"\")","v":""},{"$f":"IFERROR(INDEX(E11:E26, SMALL(IF(ISNUMBER(SEARCH(\"JV2\",F11:F26)), ROW(F11:F26)-MIN(ROW(F11:F26))+1, \"\"), ROW() -10 )), \"\")","v":""}]
[null,"Avila University",null,"11-392672","Brody Stanback","V",null,4597.0,null,false,{"$nulls":17},{"$f":"IFERROR(INDEX(B11:B26, SMALL(IF(\"V\"=F11:F26, ROW(F11:F26)-MIN(ROW(F11:F26))+1, \"\"), ROW() -10 )), \"\")","v":"Avila University"},{"$f":"IFERROR(INDEX(C11:C26, SMALL(IF(\"V\"=F11:F26, ROW(F11:F26)-MIN(ROW(F11:F26))+1, \"\"), ROW() -10 )), \"\")","v":""},{"$f":"IFERROR(INDEX(D11:D26, SMALL(IF(\"V\"=F11:F26, ROW(F11:F26)-MIN(ROW(F11:F26))+1, \"\"), ROW() -10 )), \"\")","v":"8599-78423"},{"$f":"IFERROR(INDEX(E11:E26, SMALL(IF(\"V\"=F11:F26, ROW(F11:F26)-MIN(ROW(F11:F26))+1, \"\"), ROW() -10 )), \"\")","v":"Bryce Stewart"},{"$f":"IFERROR(INDEX(B11:B26, SMALL(IF(ISNUMBER(SEARCH(\"JV1\",F11:F26)), ROW(F11:F26)-MIN(ROW(F11:F26))+1, \"\"), ROW() -10 )), \"\")","v":"Avila University"},{"$f":"IFERROR(INDEX(C11:C26, SMALL(IF(ISNUMBER(SEARCH(\"JV1\",F11:F26)), ROW(F11:F26)-MIN(ROW(F11:F26))+1, \"\"), ROW() -10 )), \"\")","v":""},{"$f":"IFERROR(INDEX(D11:D26, SMALL(IF(ISNUMBER(SEARCH(\"JV1\",F11:F26)), ROW(F11:F26)-MIN(ROW(F11:F26))+1, \"\"), ROW() -10 )), \"\")","v":"15-3085"},{"$f":"IFERROR(INDEX(E11:E26, SMALL(IF(ISNUMBER(SEARCH(\"JV1\",F11:F26)), ROW(F11:F26)-MIN(ROW(F11:F26))+1, \"\"), ROW() -10 )), \"\")","v":"Colton Cline"},{"$f":"IFERROR(INDEX(B11:B26, SMALL(IF(ISNUMBER(SEARCH(\"JV2\",F11:F26)), ROW(F11:F26)-MIN(ROW(F11:F26))+1, \"\"), ROW() -10 )), \"\")","v":""},{"$f":"IFERROR(INDEX(C11:C26, SMALL(IF(ISNUMBER(SEARCH(\"JV2\",F11:F26)), ROW(F11:F26)-MIN(ROW(F11:F26))+1, \"\"), ROW() -10 )), \"\")","v":""},{"$f":"IFERROR(INDEX(D11:D26, SMALL(IF(ISNUMBER(SEARCH(\"JV2\",F11:F26)), ROW(F11:F26)-MIN(ROW(F11:F26))+1, \"\"), ROW() -10 )), \"\")","v":""},{"$f":"IFERROR(INDEX(E11:E26, SMALL(IF(ISNUMBER(SEARCH(\"JV2\",F11:F26)), ROW(F11:F26)-MIN(ROW(F11:F26))+1, \"\"), ROW() -10 )), \"\")","v":""}]
[null,"Avila University",null,"8599-78423","Bryce Stewart","V",null,4597.0,null,false,{"$nulls":17},{"$f":"IFERROR(INDEX(B11:B26, SMALL(IF(\"V\"=F11:F26, ROW(F11:F26)-MIN(ROW(F11:F26))+1, \"\"), ROW() -10 )), \"\")","v":"Avila University"},{"$f":"IFERROR(INDEX(C11:C26, SMALL(IF(\"V\"=F11:F26, ROW(F11:F26)-MIN(ROW(F11:F26))+1, \"\"), ROW() -10 )), \"\")","v":""},{"$f":"IFERROR(INDEX(D11:D26, SMALL(IF(\"V\"=F11:F26, ROW(F11:F26)-MIN(ROW(F11:F26))+1, \"\"), ROW() -10 )), \"\")","v":"11-485194"},{"$f":"IFERROR(INDEX(E11:E26, SMALL(IF(\"V\"=F11:F26, ROW(F11:F26)-MIN(ROW(F11:F26))+1, \"\"), ROW() -10 )), \"\")","v":"Caleb Wangler"},{"$f":"IFERROR(INDEX(B11:B26, SMALL(IF(ISNUMBER(SEARCH(\"JV1\",F11:F26)), ROW(F11:F26)-MIN(ROW(F11:F26))+1, \"\"), ROW() -10 )), \"\")","v":"Avila University"},{"$f":"IFERROR(INDEX(C11:C26, SMALL(IF(ISNUMBER(SEARCH(\"JV1\",F11:F26)), ROW(F11:F26)-MIN(ROW(F11:F26))+1, \"\"), ROW() -10 )), \"\")","v":""},{"$f":"IFERROR(INDEX(D11:D26, SMALL(IF(ISNUMBER(SEARCH(\"JV1\",F11:F26)), ROW(F11:F26)-MIN(ROW(F11:F26))+1, \"\"), ROW() -10 )), \"\")","v":"15-43120"},{"$f":"IFERROR(INDEX(E11:E26, SMALL(IF(ISNUMBER(SEARCH(\"JV1\",F11:F26)), ROW(F11:F26)-MIN(ROW(F11:F26))+1, \"\"), ROW() -10 )), \"\")","v":"Gage Warren"},{"$f":"IFERROR(INDEX(B11:B26, SMALL(IF(ISNUMBER(SEARCH(\"JV2\",F11:F26)), ROW(F11:F26)-MIN(ROW(F11:F26))+1, \"\"), ROW() -10 )), \"\")","v":""},{"$f":"IFERROR(INDEX(C11:C26, SMALL(IF(ISNUMBER(SEARCH(\"JV2\",F11:F26)), ROW(F11:F26)-MIN(ROW(F11:F26))+1, \"\"), ROW() -10 )), \"\")","v":""},{"$f":"IFERROR(INDEX(D11:D26, SMALL(IF(ISNUMBER(SEARCH(\"JV2\",F11:F26)), ROW(F11:F26)-MIN(ROW(F11:F26))+1, \"\"), ROW() -10 )), \"\")","v":""},{"$f":"IFERROR(INDEX(E11:E26, SMALL(IF(ISNUMBER(SEARCH(\"JV2\",F11:F26)), ROW(F11:F26)-MIN(ROW(F11:F26))+1, \"\"), ROW() -10 )), \"\")","v":""}]
[null,"Avila University",null,"11-485194","Caleb Wangler","V",null,4597.0,null,false,{"$nulls":17},{"$f":"IFERROR(INDEX(B11:B26, SMALL(IF(\"V\"=F11:F26, ROW(F11:F26)-MIN(ROW(F11:F26))+1, \"\"), ROW() -10 )), \"\")","v":"Avila University"},{"$f":"IFERROR(INDEX(C11:C26, SMALL(IF(\"V\"=F11:F26, ROW(F11:F26)-MIN(ROW(F11:F26))+1, \"\"), ROW() -10 )), \"\")","v":""},{"$f":"IFERROR(INDEX(D11:D26, SMALL(IF(\"V\"=F11:F26, ROW(F11:F26)-MIN(ROW(F11:F26))+1, \"\"), ROW() -10 )), \"\")","v":"15-18094"},{"$f":"IFERROR(INDEX(E11:E26, SMALL(IF(\"V\"=F11:F26, ROW(F11:F26)-MIN(ROW(F11:F26))+1, \"\"), ROW() -10 )), \"\")","v":"Evan Serrage"},{"$f":"IFERROR(INDEX(B11:B26, SMALL(IF(ISNUMBER(SEARCH(\"JV1\",F11:F26)), ROW(F11:F26)-MIN(ROW(F11:F26))+1, \"\"), ROW() -10 )), \"\")","v":"Avila University"},{"$f":"IFERROR(INDEX(C11:C26, SMALL(IF(ISNUMBER(SEARCH(\"JV1\",F11:F26)), ROW(F11:F26)-MIN(ROW(F11:F26))+1, \"\"), ROW() -10 )), \"\")","v":""},{"$f":"IFERROR(INDEX(D11:D26, SMALL(IF(ISNUMBER(SEARCH(\"JV1\",F11:F26)), ROW(F11:F26)-MIN(ROW(F11:F26))+1, \"\"), ROW() -10 )), \"\")","v":"17-38986"},{"$f":"IFERROR(INDEX(E11:E26, SMALL(IF(ISNUMBER(SEARCH(\"JV1\",F11:F26)), ROW(F11:F26)-MIN(ROW(F11:F26))+1, \"\"), ROW() -10 )), \"\")","v":"Garrett Messenger"},{"$f":"IFERROR(INDEX(B11:B26, SMALL(IF(ISNUMBER(SEARCH(\"JV2\",F11:F26)), ROW(F11:F26)-MIN(ROW(F11:F26))+1, \"\"), ROW() -10 )), \"\")","v":""},{"$f":"IFERROR(INDEX(C11:C26, SMALL(IF(ISNUMBER(SEARCH(\"JV2\",F11:F26)), ROW(F11:F26)-MIN(ROW(F11:F26))+1, \"\"), ROW() -10 )), \"\")","v":""},{"$f":"IFERROR(INDEX(D11:D26, SMALL(IF(ISNUMBER(SEARCH(\"JV2\",F11:F26)), ROW(F11:F26)-MIN(ROW(F11:F26))+1, \"\"), ROW() -10 )), \"\")","v":""},{"$f":"IFERROR(INDEX(E11:E26, SMALL(IF(ISNUMBER(SEARCH(\"JV2\",F11:F26)), ROW(F11:F26)-MIN(ROW(F11:F26))+1, \"\"), ROW() -10 )), \"\")","v":""}]
[null,"Avila University",null,"16-105571","Calvin Mcmiller","JV1",null,4597.0,null,false,{"$nulls":17},{"$f":"IFERROR(INDEX(B11:B26, SMALL(IF(\"V\"=F11:F26, ROW(F11:F26)-MIN(ROW(F11:F26))+1, \"\"), ROW() -10 )), \"\")","v":"Avila University"},{"$f":"IFERROR(INDEX(C11:C26, SMALL(IF(\"V\"=F11:F26, ROW(F11:F26)-MIN(ROW(F11:F26))+1, \"\"), ROW() -10 )), \"\")","v":""},{"$f":"IFERROR(INDEX(D11:D26, SMALL(IF(\"V\"=F11:F26, ROW(F11:F26)-MIN(ROW(F11:F26))+1, \"\"), ROW() -10 )), \"\")","v":"21-11945"},{"$f":"IFERROR(INDEX(E11:E26, SMALL(IF(\"V\"=F11:F26, ROW(F11:F26)-MIN(ROW(F11:F26))+1, \"\"), ROW() -10 )), \"\")","v":"Max Sturgeon"},{"$f":"IFERROR(INDEX(B11:B26, SMALL(IF(ISNUMBER(SEARCH(\"JV1\",F11:F26)), ROW(F11:F26)-MIN(ROW(F11:F26))+1, \"\"), ROW() -10 )), \"\")","v":"Avila University"},{"$f":"IFERROR(INDEX(C11:C26, SMALL(IF(ISNUMBER(SEARCH(\"JV1\",F11:F26)), ROW(F11:F26)-MIN(ROW(F11:F26))+1, \"\"), ROW() -10 )), \"\")","v":""},{"$f":"IFERROR(INDEX(D11:D26, SMALL(IF(ISNUMBER(SEARCH(\"JV1\",F11:F26)), ROW(F11:F26)-MIN(ROW(F11:F26))+1, \"\"), ROW() -10 )), \"\")","v":"16-64964"},{"$f":"IFERROR(INDEX(E11:E26, SMALL(IF(ISNUMBER(SEARCH(\"JV1\",F11:F26)), ROW(F11:F26)-MIN(ROW(F11:F26))+1, \"\"), ROW() -10 )), \"\")","v":"Joshua Oldham"},{"$f":"IFERROR(INDEX(B11:B26, SMALL(IF(ISNUMBER(SEARCH(\"JV2\",F11:F26)), ROW(F11:F26)-MIN(ROW(F11:F26))+1, \"\"), ROW() -10 )), \"\")","v":""},{"$f":"IFERROR(INDEX(C11:C26, SMALL(IF(ISNUMBER(SEARCH(\"JV2\",F11:F26)), ROW(F11:F26)-MIN(ROW(F11:F26))+1, \"\"), ROW() -10 )), \"\")","v":""},{"$f":"IFERROR(INDEX(D11:D26, SMALL(IF(ISNUMBER(SEARCH(\"JV2\",F11:F26)), ROW(F11:F26)-MIN(ROW(F11:F26))+1, \"\"), ROW() -10 )), \"\")","v":""},{"$f":"IFERROR(INDEX(E11:E26, SMALL(IF(ISNUMBER(SEARCH(\"JV2\",F11:F26)), ROW(F11:F26)-MIN(ROW(F11:F26))+1, \"\"), ROW() -10 )), \"\")","v":""}]
[null,"Avila University",null,"15-3085","Colton Cline","JV1",null,4597.0,null,false,{"$nulls":17},{"$f":"IFERROR(INDEX(B11:B26, SMALL(IF(\"V\"=F11:F26, ROW(F11:F26)-MIN(ROW(F11:F26))+1, \"\"), ROW() -10 )), \"\")","v":"Avila University"},{"$f":"IFERROR(INDEX(C11:C26, SMALL(IF(\"V\"=F11:F26, ROW(F11:F26)-MIN(ROW(F11:F26))+1, \"\"), ROW() -10 )), \"\")","v":""},{"$f":"IFERROR(INDEX(D11:D26, SMALL(IF(\"V\"=F11:F26, ROW(F11:F26)-MIN(ROW(F11:F26))+1, \"\"), ROW() -10 )), \"\")","v":"931-90083"},{"$f":"IFERROR(INDEX(E11:E26, SMALL(IF(\"V\"=F11:F26, ROW(F11:F26)-MIN(ROW(F11:F26))+1, \"\"), ROW() -10 )), \"\")","v":"Nicolas Garza"},{"$f":"IFERROR(INDEX(B11:B26, SMALL(IF(ISNUMBER(SEARCH(\"JV1\",F11:F26)), ROW(F11:F26)-MIN(ROW(F11:F26))+1, \"\"), ROW() -10 )), \"\")","v":"Avila University"},{"$f":"IFERROR(INDEX(C11:C26, SMALL(IF(ISNUMBER(SEARCH(\"JV1\",F11:F26)), ROW(F11:F26)-MIN(ROW(F11:F26))+1, \"\"), ROW() -10 )), \"\")","v":""},{"$f":"IFERROR(INDEX(D11:D26, SMALL(IF(ISNUMBER(SEARCH(\"JV1\",F11:F26)), ROW(F11:F26)-MIN(ROW(F11:F26))+1, \"\"), ROW() -10 )), \"\")","v":"11-429373"},{"$f":"IFERROR(INDEX(E11:E26, SMALL(IF(ISNUMBER(SEARCH(\"JV1\",F11:F26)), ROW(F11:F26)-MIN(ROW(F11:F26))+1, \"\"), ROW() -10 )), \"\")","v":"Wesley Smith"},{"$f":"IFERROR(INDEX(B11:B26, SMALL(IF(ISNUMBER(SEARCH(\"JV2\",F11:F26)), ROW(F11:F26)-MIN(ROW(F11:F26))+1, \"\"), ROW() -10 )), \"\")","v":""},{"$f":"IFERROR(INDEX(C11:C26, SMALL(IF(ISNUMBER(SEARCH(\"JV2\",F11:F26)), ROW(F11:F26)-MIN(ROW(F11:F26))+1, \"\"), ROW() -10 )), \"\")","v":""},{"$f":"IFERROR(INDEX(D11:D26, SMALL(IF(ISNUMBER(SEARCH(\"JV2\",F11:F26)), ROW(F11:F26)-MIN(ROW(F11:F26))+1, \"\"), ROW() -10 )), \"\")","v":""},{"$f":"IFERROR(INDEX(E11:E26, SMALL(IF(ISNUMBER(SEARCH(\"JV2\",F11:F26)), ROW(F11:F26)-MIN(ROW(F11:F26))+1, \"\"), ROW() -10 )), \"\")","v":""}]
[null,"Avila University",null,"15-18094","Evan Serrage","V",null,4597.0,null,false,{"$nulls":17},{"$f":"IFERROR(INDEX(B11:B26, SMALL(IF(\"V\"=F11:F26, ROW(F11:F26)-MIN(ROW(F11:F26))+1, \"\"), ROW() -10 )), \"\")","v":""},{"$f":"IFERROR(INDEX(C11:C26, SMALL(IF(\"V\"=F11:F26, ROW(F11:F26)-MIN(ROW(F11:F26))+1, \"\"), ROW() -10 )), \"\")","v":""},{"$f":"IFERROR(INDEX(D11:D26, SMALL(IF(\"V\"=F11:F26, ROW(F11:F26)-MIN(ROW(F11:F26))+1, \"\"), ROW() -10 )), \"\")","v":""},{"$f":"IFERROR(INDEX(E11:E26, SMALL(IF(\"V\"=F11:F26, ROW(F11:F26)-MIN(ROW(F11:F26))+1, \"\"), ROW() -10 )), \"\")","v":""},{"$f":"IFERROR(INDEX(B11:B26, SMALL(IF(ISNUMBER(SEARCH(\"JV1\",F11:F26)), ROW(F11:F26)-MIN(ROW(F11:F26))+1, \"\"), ROW() -10 )), \"\")","v":""},{"$f":"IFERROR(INDEX(C11:C26, SMALL(IF(ISNUMBER(SEARCH(\"JV1\",F11:F26)), ROW(F11:F26)-MIN(ROW(F11:F26))+1, \"\"), ROW() -10 )), \"\")","v":""},{"$f":"IFERROR(INDEX(D11:D26, SMALL(IF(ISNUMBER(SEARCH(\"JV1\",F11:F26)), ROW(F11:F26)-MIN(ROW(F11:F26))+1, \"\"), ROW() -10 )), \"\")","v":""},{"$f":"IFERROR(INDEX(E11:E26, SMALL(IF(ISNUMBER(SEARCH(\"JV1\",F11:F26)), ROW(F11:F26)-MIN(ROW(F11:F26))+1, \"\"), ROW() -10 )), \"\")","v":""},{"$f":"IFERROR(INDEX(B11:B26, SMALL(IF(ISNUMBER(SEARCH(\"JV2\",F11:F26)), ROW(F11:F26)-MIN(ROW(F11:F26))+1, \"\"), ROW() -10 )), \"\")","v":""},{"$f":"IFERROR(INDEX(C11:C26, SMALL(IF(ISNUMBER(SEARCH(\"JV2\",F11:F26)), ROW(F11:F26)-MIN(ROW(F11:F26))+1, \"\"), ROW() -10 )), \"\")","v":""},{"$f":"IFERROR(INDEX(D11:D26, SMALL(IF(ISNUMBER(SEARCH(\"JV2\",F11:F26)), ROW(F11:F26)-MIN(ROW(F11:F26))+1, \"\"), ROW() -10 )), \"\")","v":""},{"$f":"IFERROR(INDEX(E11:E26, SMALL(IF(ISNUMBER(SEARCH(\"JV2\",F11:F26)), ROW(F11:F26)-MIN(ROW(F11:F26))+1, \"\"), ROW() -10 )), \"\")","v":""}]
[null,"Avila University",null,"15-43120","Gage Warren","JV1",null,4597.0,null,false]
[null,"Avila University",null,"17-38986","Garrett Messenger","JV1",null,4597.0,null,false]
[null,"Avila University",null,"16-64964","Joshua Oldham","JV1",null,4597.0,null,false]
[null,"Avila University",null,"9569-68340","Kaben Lentzner",null,null,4597.0,null,false]
[null,"Avila University",null,"21-11945","Max Sturgeon","V",null,4597.0,null,false]
[null,"Avila University",null,"11-280786","Nicholas Hays",null,null,4597.0,null,false]
[null,"Avila University",null,"931-90083","Nicolas Garza","V",null,4597.0,null,false]
[null,"Avila University",null,"11-429373","Wesley Smith","JV1",null,4597.0,null,false]
[null,"Baker University",null,"19-16176","Aidan Vanmetre","V",null,3432.0,null,false,{"$nulls":17},{"$f":"IFERROR(INDEX(B27:B38, SMALL(IF(\"V\"=F27:F38, ROW(F27:F38)-MIN(ROW(F27:F38))+1, \"\"), ROW() -26 )), \"\")","v":"Baker University"},{"$f":"IFERROR(INDEX(C27:C38, SMALL(IF(\"V\"=F27:F38, ROW(F27:F38)-MIN(ROW(F27:F38))+1, \"\"), ROW() -26 )), \"\")","v":""},{"$f":"IFERROR(INDEX(D27:D38, SMALL(IF(\"V\"=F27:F38, ROW(F27:F38)-MIN(ROW(F27:F38))+1, \"\"), ROW() -26 )), \"\")","v":"19-16176"},{"$f":"IFERROR(INDEX(E27:E38, SMALL(IF(\"V\"=F27:F38, ROW(F27:F38)-MIN(ROW(F27:F38))+1, \"\"), ROW() -26 )), \"\")","v":"Aidan Vanmetre"},{"$f":"IFERROR(INDEX(B27:B38, SMALL(IF(ISNUMBER(SEARCH(\"JV1\",F27:F38)), ROW(F27:F38)-MIN(ROW(F27:F38))+1, \"\"), ROW() -26 )), \"\")","v":"Baker University"},{"$f":"IFERROR(INDEX(C27:C38, SMALL(IF(ISNUMBER(SEARCH(\"JV1\",F27:F38)), ROW(F27:F38)-MIN(ROW(F27:F38))+1, \"\"), ROW() -26 )), \"\")","v":""},{"$f":"IFERROR(INDEX(D27:D38, SMALL(IF(ISNUMBER(SEARCH(\"JV1\",F27:F38)), ROW(F27:F38)-MIN(ROW(F27:F38))+1, \"\"), ROW() -26 )), \"\")","v":"17-4319"},{"$f":"IFERROR(INDEX(E27:E38, SMALL(IF(ISNUMBER(SEARCH(\"JV1\",F27:F38)), ROW(F27:F38)-MIN(ROW(F27:F38))+1, \"\"), ROW() -26 )), \"\")","v":"Alex Wright"},{"$f":"IFERROR(INDEX(B27:B38, SMALL(IF(ISNUMBER(SEARCH(\"JV2\",F27:F38)), ROW(F27:F38)-MIN(ROW(F27:F38))+1, \"\"), ROW() -26 )), \"\")","v":""},{"$f":"IFERROR(INDEX(C27:C38, SMALL(IF(ISNUMBER(SEARCH(\"JV2\",F27:F38)), ROW(F27:F38)-MIN(ROW(F27:F38))+1, \"\"), ROW() -26 )), \"\")","v":""},{"$f":"IFERROR(INDEX(D27:D38, SMALL(IF(ISNUMBER(SEARCH(\"JV2\",F27:F38)), ROW(F27:F38)-MIN(ROW(F27:F38))+1, \"\"), ROW() -26 )), \"\")","v":""},{"$f":"IFERROR(INDEX(E27:E38, SMALL(IF(ISNUMBER(SEARCH(\"JV2\",F27:F38)), ROW(F27:F38)-MIN(ROW(F27:F38))+1, \"\"), ROW() -26 )), \"\")","v":""}]
[null,"Baker University",null,"17-4319","Alex Wright","JV1",null,3432.0,null,false,{"$nulls":17},{"$f":"IFERROR(INDEX(B27:B38, SMALL(IF(\"V\"=F27:F38, ROW(F27:F38)-MIN(ROW(F27:F38))+1, \"\"), ROW() -26 )), \"\")","v":"Baker University"},{"$f":"IFERROR(INDEX(C27:C38, SMALL(IF(\"V\"=F27:F38, ROW(F27:F38)-MIN(ROW(F27:F38))+1, \"\"), ROW() -26 )), \"\")","v":""},{"$f":"IFERROR(INDEX(D27:D38, SMALL(IF(\"V\"=F27:F38, ROW(F27:F38)-MIN(ROW(F27:F38))+1, \"\"), ROW() -26 )), \"\")","v":"18-1332"},{"$f":"IFERROR(INDEX(E27:E38, SMALL(IF(\"V\"=F27:F38, ROW(F27:F38)-MIN(ROW(F27:F38))+1, \"\"), ROW() -26 )), \"\")","v":"Brett Gamber"},{"$f":"IFERROR(INDEX(B27:B38, SMALL(IF(ISNUMBER(SEARCH(\"JV1\",F27:F38)), ROW(F27:F38)-MIN(ROW(F27:F38))+1, \"\"), ROW() -26 )), \"\")","v":"Baker University"},{"$f":"IFERROR(INDEX(C27:C38, SMALL(IF(ISNUMBER(SEARCH(\"JV1\",F27:F38)), ROW(F27:F38)-MIN(ROW(F27:F38))+1, \"\"), ROW() -26 )), \"\")","v":""},{"$f":"IFERROR(INDEX(D27:D38, SMALL(IF(ISNUMBER(SEARCH(\"JV1\",F27:F38)), ROW(F27:F38)-MIN(ROW(F27:F38))+1, \"\"), ROW() -26 )), \"\")","v":"19-83494"},{"$f":"IFERROR(INDEX(E27:E38, SMALL(IF(ISNUMBER(SEARCH(\"JV1\",F27:F38)), ROW(F27:F38)-MIN(ROW(F27:F38))+1, \"\"), ROW() -26 )), \"\")","v":"Deken Penny"},{"$f":"IFERROR(INDEX(B27:B38, SMALL(IF(ISNUMBER(SEARCH(\"JV2\",F27:F38)), ROW(F27:F38)-MIN(ROW(F27:F38))+1, \"\"), ROW() -26 )), \"\")","v":""},{"$f":"IFERROR(INDEX(C27:C38, SMALL(IF(ISNUMBER(SEARCH(\"JV2\",F27:F38)), ROW(F27:F38)-MIN(ROW(F27:F38))+1, \"\"), ROW() -26 )), \"\")","v":""},{"$f":"IFERROR(INDEX(D27:D38, SMALL(IF(ISNUMBER(SEARCH(\"JV2\",F27:F38)), ROW(F27:F38)-MIN(ROW(F27:F38))+1, \"\"), ROW() -26 )), \"\")","v":""},{"$f":"IFERROR(INDEX(E27:E38, SMALL(IF(ISNUMBER(SEARCH(\"JV2\",F27:F38)), ROW(F27:F38)-MIN(ROW(F27:F38))+1, \"\"), ROW() -26 )), \"\")","v":""}]
[null,"Baker University",null,"18-1332","Brett Gamber","V",null,3432.0,null,false,{"$nulls":17},{"$f":"IFERROR(INDEX(B27:B38, SMALL(IF(\"V\"=F27:F38, ROW(F27:F38)-MIN(ROW(F27:F38))+1, \"\"), ROW() -26 )), \"\")","v":"Baker University"},{"$f":"IFERROR(INDEX(C27:C38, SMALL(IF(\"V\"=F27:F38, ROW(F27:F38)-MIN(ROW(F27:F38))+1, \"\"), ROW() -26 )), \"\")","v":""},{"$f":"IFERROR(INDEX(D27:D38, SMALL(IF(\"V\"=F27:F38, ROW(F27:F38)-MIN(ROW(F27:F38))+1, \"\"), ROW() -26 )), \"\")","v":"18-43056"},{"$f":"IFERROR(INDEX(E27:E38, SMALL(IF(\"V\"=F27:F38, ROW(F27:F38)-MIN(ROW(F27:F38))+1, \"\"), ROW() -26 )), \"\")","v":"Josh King"},{"$f":"IFERROR(INDEX(B27:B38, SMALL(IF(ISNUMBER(SEARCH(\"JV1\",F27:F38)), ROW(F27:F38)-MIN(ROW(F27:F38))+1, \"\"), ROW() -26 )), \"\")","v":"Baker University"},{"$f":"IFERROR(INDEX(C27:C38, SMALL(IF(ISNUMBER(SEARCH(\"JV1\",F27:F38)), ROW(F27:F38)-MIN(ROW(F27:F38))+1, \"\"), ROW() -26 )), \"\")","v":""},{"$f":"IFERROR(INDEX(D27:D38, SMALL(IF(ISNUMBER(SEARCH(\"JV1\",F27:F38)), ROW(F27:F38)-MIN(ROW(F27:F38))+1, \"\"), ROW() -26 )), \"\")","v":"11-758428"},{"$f":"IFERROR(INDEX(E27:E38, SMALL(IF(ISNUMBER(SEARCH(\"JV1\",F27:F38)), ROW(F27:F38)-MIN(ROW(F27:F38))+1, \"\"), ROW() -26 )), \"\")","v":"Justin Brookens"},{"$f":"IFERROR(INDEX(B27:B38, SMALL(IF(ISNUMBER(SEARCH(\"JV2\",F27:F38)), ROW(F27:F38)-MIN(ROW(F27:F38))+1, \"\"), ROW() -26 )), \"\")","v":""},{"$f":"IFERROR(INDEX(C27:C38, SMALL(IF(ISNUMBER(SEARCH(\"JV2\",F27:F38)), ROW(F27:F38)-MIN(ROW(F27:F38))+1, \"\"), ROW() -26 )), \"\")","v":""},{"$f":"IFERROR(INDEX(D27:D38, SMALL(IF(ISNUMBER(SEARCH(\"JV2\",F27:F38)), ROW(F27:F38)-MIN(ROW(F27:F38))+1, \"\"), ROW() -26 )), \"\")","v":""},{"$f":"IFERROR(INDEX(E27:E38, SMALL(IF(ISNUMBER(SEARCH(\"JV2\",F27:F38)), ROW(F27:F38)-MIN(ROW(F27:F38))+1, \"\"), ROW() -26 )), \"\")","v":""}]
[null,"Baker University",null,"11-498787","Chase Swift",null,null,3432.0,null,false,{"$nulls":17},{"$f":"IFERROR(INDEX(B27:B38, SMALL(IF(\"V\"=F27:F38, ROW(F27:F38)-MIN(ROW(F27:F38))+1, \"\"), ROW() -26 )), \"\")","v":"Baker University"},{"$f":"IFERROR(INDEX(C27:C38, SMALL(IF(\"V\"=F27:F38, ROW(F27:F38)-MIN(ROW(F27:F38))+1, \"\"), ROW() -26 )), \"\")","v":""},{"$f":"IFERROR(INDEX(D27:D38, SMALL(IF(\"V\"=F27:F38, ROW(F27:F38)-MIN(ROW(F27:F38))+1, \"\"), ROW() -26 )), \"\")","v":"18-50479"},{"$f":"IFERROR(INDEX(E27:E38, SMALL(IF(\"V\"=F27:F38, ROW(F27:F38)-MIN(ROW(F27:F38))+1, \"\"), ROW() -26 )), \"\")","v":"Ken Rowland"},{"$f":"IFERROR(INDEX(B27:B38, SMALL(IF(ISNUMBER(SEARCH(\"JV1\",F27:F38)), ROW(F27:F38)-MIN(ROW(F27:F38))+1, \"\"), ROW() -26 )), \"\")","v":"Baker University"},{"$f":"IFERROR(INDEX(C27:C38, SMALL(IF(ISNUMBER(SEARCH(\"JV1\",F27:F38)), ROW(F27:F38)-MIN(ROW(F27:F38))+1, \"\"), ROW() -26 )), \"\")","v":""},{"$f":"IFERROR(INDEX(D27:D38, SMALL(IF(ISNUMBER(SEARCH(\"JV1\",F27:F38)), ROW(F27:F38)-MIN(ROW(F27:F38))+1, \"\"), ROW() -26 )), \"\")","v":"18-98789"},{"$f":"IFERROR(INDEX(E27:E38, SMALL(IF(ISNUMBER(SEARCH(\"JV1\",F27:F38)), ROW(F27:F38)-MIN(ROW(F27:F38))+1, \"\"), ROW() -26 )), \"\")","v":"Landon Scott"},{"$f":"IFERROR(INDEX(B27:B38, SMALL(IF(ISNUMBER(SEARCH(\"JV2\",F27:F38)), ROW(F27:F38)-MIN(ROW(F27:F38))+1, \"\"), ROW() -26 )), \"\")","v":""},{"$f":"IFERROR(INDEX(C27:C38, SMALL(IF(ISNUMBER(SEARCH(\"JV2\",F27:F38)), ROW(F27:F38)-MIN(ROW(F27:F38))+1, \"\"), ROW() -26 )), \"\")","v":""},{"$f":"IFERROR(INDEX(D27:D38, SMALL(IF(ISNUMBER(SEARCH(\"JV2\",F27:F38)), ROW(F27:F38)-MIN(ROW(F27:F38))+1, \"\"), ROW() -26 )), \"\")","v":""},{"$f":"IFERROR(INDEX(E27:E38, SMALL(IF(ISNUMBER(SEARCH(\"JV2\",F27:F38)), ROW(F27:F38)-MIN(ROW(F27:F38))+1, \"\"), ROW() -26 )), \"\")","v":""}]
[null,"Baker University",null,"19-83494","Deken Penny","JV1",null,3432.0,null,false,{"$nulls":17},{"$f":"IFERROR(INDEX(B27:B38, SMALL(IF(\"V\"=F27:F38, ROW(F27:F38)-MIN(ROW(F27:F38))+1, \"\"), ROW() -26 )), \"\")","v":"Baker University"},{"$f":"IFERROR(INDEX(C27:C38, SMALL(IF(\"V\"=F27:F38, ROW(F27:F38)-MIN(ROW(F27:F38))+1, \"\"), ROW() -26 )), \"\")","v":""},{"$f":"IFERROR(INDEX(D27:D38, SMALL(IF(\"V\"=F27:F38, ROW(F27:F38)-MIN(ROW(F27:F38))+1, \"\"), ROW() -26 )), \"\")","v":"11-439937"},{"$f":"IFERROR(INDEX(E27:E38, SMALL(IF(\"V\"=F27:F38, ROW(F27:F38)-MIN(ROW(F27:F38))+1, \"\"), ROW() -26 )), \"\")","v":"Tanner Eckerle"},{"$f":"IFERROR(INDEX(B27:B38, SMALL(IF(ISNUMBER(SEARCH(\"JV1\",F27:F38)), ROW(F27:F38)-MIN(ROW(F27:F38))+1, \"\"), ROW() -26 )), \"\")","v":"Baker University"},{"$f":"IFERROR(INDEX(C27:C38, SMALL(IF(ISNUMBER(SEARCH(\"JV1\",F27:F38)), ROW(F27:F38)-MIN(ROW(F27:F38))+1, \"\"), ROW() -26 )), \"\")","v":""},{"$f":"IFERROR(INDEX(D27:D38, SMALL(IF(ISNUMBER(SEARCH(\"JV1\",F27:F38)), ROW(F27:F38)-MIN(ROW(F27:F38))+1, \"\"), ROW() -26 )), \"\")","v":"20-33157"},{"$f":"IFERROR(INDEX(E27:E38, SMALL(IF(ISNUMBER(SEARCH(\"JV1\",F27:F38)), ROW(F27:F38)-MIN(ROW(F27:F38))+1, \"\"), ROW() -26 )), \"\")","v":"Tanner Lindquist"},{"$f":"IFERROR(INDEX(B27:B38, SMALL(IF(ISNUMBER(SEARCH(\"JV2\",F27:F38)), ROW(F27:F38)-MIN(ROW(F27:F38))+1, \"\"), ROW() -26 )), \"\")","v":""},{"$f":"IFERROR(INDEX(C27:C38, SMALL(IF(ISNUMBER(SEARCH(\"JV2\",F27:F38)), ROW(F27:F38)-MIN(ROW(F27:F38))+1, \"\"), ROW() -26 )), \"\")","v":""},{"$f":"IFERROR(INDEX(D27:D38, SMALL(IF(ISNUMBER(SEARCH(\"JV2\",F27:F38)), ROW(F27:F38)-MIN(ROW(F27:F38))+1, \"\"), ROW() -26 )), \"\")","v":""},{"$f":"IFERROR(INDEX(E27:E38, SMALL(IF(ISNUMBER(SEARCH(\"JV2\",F27:F38)), ROW(F27:F38)-MIN(ROW(F27:F38))+1, \"\"), ROW() -26 )), \"\")","v":""}]
[null,"Baker University",null,"18-43056","Josh King","V",null,3432.0,null,false,{"$nulls":17},{"$f":"IFERROR(INDEX(B27:B38, SMALL(IF(\"V\"=F27:F38, ROW(F27:F38)-MIN(ROW(F27:F38))+1, \"\"), ROW() -26 )), \"\")","v":""},{"$f":"IFERROR(INDEX(C27:C38, SMALL(IF(\"V\"=F27:F38, ROW(F27:F38)-MIN(ROW(F27:F38))+1, \"\"), ROW() -26 )), \"\")","v":""},{"$f":"IFERROR(INDEX(D27:D38, SMALL(IF(\"V\"=F27:F38, ROW(F27:F38)-MIN(ROW(F27:F38))+1, \"\"), ROW() -26 )), \"\")","v":""},{"$f":"IFERROR(INDEX(E27:E38, SMALL(IF(\"V\"=F27:F38, ROW(F27:F38)-MIN(ROW(F27:F38))+1, \"\"), ROW() -26 )), \"\")","v":""},{"$f":"IFERROR(INDEX(B27:B38, SMALL(IF(ISNUMBER(SEARCH(\"JV1\",F27:F38)), ROW(F27:F38)-MIN(ROW(F27:F38))+1, \"\"), ROW() -26 )), \"\")","v":"Baker University"},{"$f":"IFERROR(INDEX(C27:C38, SMALL(IF(ISNUMBER(SEARCH(\"JV1\",F27:F38)), ROW(F27:F38)-MIN(ROW(F27:F38))+1, \"\"), ROW() -26 )), \"\")","v":""},{"$f":"IFERROR(INDEX(D27:D38, SMALL(IF(ISNUMBER(SEARCH(\"JV1\",F27:F38)), ROW(F27:F38)-MIN(ROW(F27:F38))+1, \"\"), ROW() -26 )), \"\")","v":"18-84159"},{"$f":"IFERROR(INDEX(E27:E38, SMALL(IF(ISNUMBER(SEARCH(\"JV1\",F27:F38)), ROW(F27:F38)-MIN(ROW(F27:F38))+1, \"\"), ROW() -26 )), \"\")","v":"Tanner Mcguire"},{"$f":"IFERROR(INDEX(B27:B38, SMALL(IF(ISNUMBER(SEARCH(\"JV2\",F27:F38)), ROW(F27:F38)-MIN(ROW(F27:F38))+1, \"\"), ROW() -26 )), \"\")","v":""},{"$f":"IFERROR(INDEX(C27:C38, SMALL(IF(ISNUMBER(SEARCH(\"JV2\",F27:F38)), ROW(F27:F38)-MIN(ROW(F27:F38))+1, \"\"), ROW() -26 )), \"\")","v":""},{"$f":"IFERROR(INDEX(D27:D38, SMALL(IF(ISNUMBER(SEARCH(\"JV2\",F27:F38)), ROW(F27:F38)-MIN(ROW(F27:F38))+1, \"\"), ROW() -26 )), \"\")","v":""},{"$f":"IFERROR(INDEX(E27:E38, SMALL(IF(ISNUMBER(SEARCH(\"JV2\",F27:F38)), ROW(F27:F38)-MIN(ROW(F27:F38))+1, \"\"), ROW() -26 )), \"\")","v":""}]
[null,"Baker University",null,"11-758428","Justin Brookens","JV1",null,3432.0,null,false,{"$nulls":17},{"$f":"IFERROR(INDEX(B27:B38, SMALL(IF(\"V\"=F27:F38, ROW(F27:F38)-MIN(ROW(F27:F38))+1, \"\"), ROW() -26 )), \"\")","v":""},{"$f":"IFERROR(INDEX(C27:C38, SMALL(IF(\"V\"=F27:F38, ROW(F27:F38)-MIN(ROW(F27:F38))+1, \"\"), ROW() -26 )), \"\")","v":""},{"$f":"IFERROR(INDEX(D27:D38, SMALL(IF(\"V\"=F27:F38, ROW(F27:F38)-MIN(ROW(F27:F38))+1, \"\"), ROW() -26 )), \"\")","v":""},{"$f":"IFERROR(INDEX(E27:E38, SMALL(IF(\"V\"=F27:F38, ROW(F27:F38)-MIN(ROW(F27:F38))+1, \"\"), ROW() -26 )), \"\")","v":""},{"$f":"IFERROR(INDEX(B27:B38, SMALL(IF(ISNUMBER(SEARCH(\"JV1\",F27:F38)), ROW(F27:F38)-MIN(ROW(F27:F38))+1, \"\"), ROW() -26 )), \"\")","v":""},{"$f":"IFERROR(INDEX(C27:C38, SMALL(IF(ISNUMBER(SEARCH(\"JV1\",F27:F38)), ROW(F27:F38)-MIN(ROW(F27:F38))+1, \"\"), ROW() -26 )), \"\")","v":""},{"$f":"IFERROR(INDEX(D27:D38, SMALL(IF(ISNUMBER(SEARCH(\"JV1\",F27:F38)), ROW(F27:F38)-MIN(ROW(F27:F38))+1, \"\"), ROW() -26 )), \"\")","v":""},{"$f":"IFERROR(INDEX(E27:E38, SMALL(IF(ISNUMBER(SEARCH(\"JV1\",F27:F38)), ROW(F27:F38)-MIN(ROW(F27:F38))+1, \"\"), ROW() -26 )), \"\")","v":""},{"$f":"IFERROR(INDEX(B27:B38, SMALL(IF(ISNUMBER(SEARCH(\"JV2\",F27:F38)), ROW(F27:F38)-MIN(ROW(F27:F38))+1, \"\"), ROW() -26 )), \"\")","v":""},{"$f":"IFERROR(INDEX(C27:C38, SMALL(IF(ISNUMBER(SEARCH(\"JV2\",F27:F38)), ROW(F27:F38)-MIN(ROW(F27:F38))+1, \"\"), ROW() -26 )), \"\")","v":""},{"$f":"IFERROR(INDEX(D27:D38, SMALL(IF(ISNUMBER(SEARCH(\"JV2\",F27:F38)), ROW(F27:F38)-MIN(ROW(F27:F38))+1, \"\"), ROW() -26 )), \"\")","v":""},{"$f":"IFERROR(INDEX(E27:E38, SMALL(IF(ISNUMBER(SEARCH(\"JV2\",F27:F38)), ROW(F27:F38)-MIN(ROW(F27:F38))+1, \"\"), ROW() -26 )), \"\")","v":""}]
[null,"Baker University",null,"18-50479","Ken Rowland","V",null,3432.0,null,false,{"$nulls":17},{"$f":"IFERROR(INDEX(B27:B38, SMALL(IF(\"V\"=F27:F38, ROW(F27:F38)-MIN(ROW(F27:F38))+1, \"\"), ROW() -26 )), \"\")","v":""},{"$f":"IFERROR(INDEX(C27:C38, SMALL(IF(\"V\"=F27:F38, ROW(F27:F38)-MIN(ROW(F27:F38))+1, \"\"), ROW() -26 )), \"\")","v":""},{"$f":"IFERROR(INDEX(D27:D38, SMALL(IF(\"V\"=F27:F38, ROW(F27:F38)-MIN(ROW(F27:F38))+1, \"\"), ROW() -26 )), \"\")","v":""},{"$f":"IFERROR(INDEX(E27:E38, SMALL(IF(\"V\"=F27:F38, ROW(F27:F38)-MIN(ROW(F27:F38))+1, \"\"), ROW() -26 )), \"\")","v":""},{"$f":"IFERROR(INDEX(B27:B38, SMALL(IF(ISNUMBER(SEARCH(\"JV1\",F27:F38)), ROW(F27:F38)-MIN(ROW(F27:F38))+1, \"\"), ROW() -26 )), \"\")","v":""},{"$f":"IFERROR(INDEX(C27:C38, SMALL(IF(ISNUMBER(SEARCH(\"JV1\",F27:F38)), ROW(F27:F38)-MIN(ROW(F27:F38))+1, \"\"), ROW() -26 )), \"\")","v":""},{"$f":"IFERROR(INDEX(D27:D38, SMALL(IF(ISNUMBER(SEARCH(\"JV1\",F27:F38)), ROW(F27:F38)-MIN(ROW(F27:F38))+1, \"\"), ROW() -26 )), \"\")","v":""},{"$f":"IFERROR(INDEX(E27:E38, SMALL(IF(ISNUMBER(SEARCH(\"JV1\",F27:F38)), ROW(F27:F38)-MIN(ROW(F27:F38))+1, \"\"), ROW() -26 )), \"\")","v":""},{"$f":"IFERROR(INDEX(B27:B38, SMALL(IF(ISNUMBER(SEARCH(\"JV2\",F27:F38)), ROW(F27:F38)-MIN(ROW(F27:F38))+1, \"\"), ROW() -26 )), \"\")","v":""},{"$f":"IFERROR(INDEX(C27:C38, SMALL(IF(ISNUMBER(SEARCH(\"JV2\",F27:F38)), ROW(F27:F38)-MIN(ROW(F27:F38))+1, \"\"), ROW() -26 )), \"\")","v":""},{"$f":"IFERROR(INDEX(D27:D38, SMALL(IF(ISNUMBER(SEARCH(\"JV2\",F27:F38)), ROW(F27:F38)-MIN(ROW(F27:F38))+1, \"\"), ROW() -26 )), \"\")","v":""},{"$f":"IFERROR(INDEX(E27:E38, SMALL(IF(ISNUMBER(SEARCH(\"JV2\",F27:F38)), ROW(F27:F38)-MIN(ROW(F27:F38))+1, \"\"), ROW() -26 )), \"\")","v":""}]
[null,"Baker University",null,"18-98789","Landon Scott","JV1",null,3432.0,null,false]
[null,"Baker University",null,"11-439937","Tanner Eckerle","V",null,3432.0,null,false]
[null,"Baker University",null,"20-33157","Tanner Lindquist","JV1",null,3432.0,null,false]
[null,"Baker University",null,"18-84159","Tanner Mcguire","JV1",null,3432.0,null,false]
[null,"Barton Community College",null,"11-765034","Alexander Flinn",null,null,4505.0,null,false,{"$nulls":17},{"$f":"IFERROR(INDEX(B39:B52, SMALL(IF(\"V\"=F39:F52, ROW(F39:F52)-MIN(ROW(F39:F52))+1, \"\"), ROW() -38 )), \"\")","v":"Barton Community College"},{"$f":"IFERROR(INDEX(C39:C52, SMALL(IF(\"V\"=F39:F52, ROW(F39:F52)-MIN(ROW(F39:F52))+1, \"\"), ROW() -38 )), \"\")","v":""},{"$f":"IFERROR(INDEX(D39:D52, SMALL(IF(\"V\"=F39:F52, ROW(F39:F52)-MIN(ROW(F39:F52))+1, \"\"), ROW() -38 )), \"\")","v":"17-15924"},{"$f":"IFERROR(INDEX(E39:E52, SMALL(IF(\"V\"=F39:F52, ROW(F39:F52)-MIN(ROW(F39:F52))+1, \"\"), ROW() -38 )), \"\")","v":"Braden Boswell"},{"$f":"IFERROR(INDEX(B39:B52, SMALL(IF(ISNUMBER(SEARCH(\"JV1\",F39:F52)), ROW(F39:F52)-MIN(ROW(F39:F52))+1, \"\"), ROW() -38 )), \"\")","v":""},{"$f":"IFERROR(INDEX(C39:C52, SMALL(IF(ISNUMBER(SEARCH(\"JV1\",F39:F52)), ROW(F39:F52)-MIN(ROW(F39:F52))+1, \"\"), ROW() -38 )), \"\")","v":""},{"$f":"IFERROR(INDEX(D39:D52, SMALL(IF(ISNUMBER(SEARCH(\"JV1\",F39:F52)), ROW(F39:F52)-MIN(ROW(F39:F52))+1, \"\"), ROW() -38 )), \"\")","v":""},{"$f":"IFERROR(INDEX(E39:E52, SMALL(IF(ISNUMBER(SEARCH(\"JV1\",F39:F52)), ROW(F39:F52)-MIN(ROW(F39:F52))+1, \"\"), ROW() -38 )), \"\")","v":""},{"$f":"IFERROR(INDEX(B39:B52, SMALL(IF(ISNUMBER(SEARCH(\"JV2\",F39:F52)), ROW(F39:F52)-MIN(ROW(F39:F52))+1, \"\"), ROW() -38 )), \"\")","v":""},{"$f":"IFERROR(INDEX(C39:C52, SMALL(IF(ISNUMBER(SEARCH(\"JV2\",F39:F52)), ROW(F39:F52)-MIN(ROW(F39:F52))+1, \"\"), ROW() -38 )), \"\")","v":""},{"$f":"IFERROR(INDEX(D39:D52, SMALL(IF(ISNUMBER(SEARCH(\"JV2\",F39:F52)), ROW(F39:F52)-MIN(ROW(F39:F52))+1, \"\"), ROW() -38 )), \"\")","v":""},{"$f":"IFERROR(INDEX(E39:E52, SMALL(IF(ISNUMBER(SEARCH(\"JV2\",F39:F52)), ROW(F39:F52)-MIN(ROW(F39:F52))+1, \"\"), ROW() -38 )), \"\")","v":""}]
[null,"Barton Community College",null,"17-15924","Braden Boswell","V",null,4505.0,null,false,{"$nulls":17},{"$f":"IFERROR(INDEX(B39:B52, SMALL(IF(\"V\"=F39:F52, ROW(F39:F52)-MIN(ROW(F39:F52))+1, \"\"), ROW() -38 )), \"\")","v":"Barton Community College"},{"$f":"IFERROR(INDEX(C39:C52, SMALL(IF(\"V\"=F39:F52, ROW(F39:F52)-MIN(ROW(F39:F52))+1, \"\"), ROW() -38 )), \"\")","v":""},{"$f":"IFERROR(INDEX(D39:D52, SMALL(IF(\"V\"=F39:F52, ROW(F39:F52)-MIN(ROW(F39:F52))+1, \"\"), ROW() -38 )), \"\")","v":"17-107341"},{"$f":"IFERROR(INDEX(E39:E52, SMALL(IF(\"V\"=F39:F52, ROW(F39:F52)-MIN(ROW(F39:F52))+1, \"\"), ROW() -38 )), \"\")","v":"Cale McConnell"},{"$f":"IFERROR(INDEX(B39:B52, SMALL(IF(ISNUMBER(SEARCH(\"JV1\",F39:F52)), ROW(F39:F52)-MIN(ROW(F39:F52))+1, \"\"), ROW() -38 )), \"\")","v":""},{"$f":"IFERROR(INDEX(C39:C52, SMALL(IF(ISNUMBER(SEARCH(\"JV1\",F39:F52)), ROW(F39:F52)-MIN(ROW(F39:F52))+1, \"\"), ROW() -38 )), \"\")","v":""},{"$f":"IFERROR(INDEX(D39:D52, SMALL(IF(ISNUMBER(SEARCH(\"JV1\",F39:F52)), ROW(F39:F52)-MIN(ROW(F39:F52))+1, \"\"), ROW() -38 )), \"\")","v":""},{"$f":"IFERROR(INDEX(E39:E52, SMALL(IF(ISNUMBER(SEARCH(\"JV1\",F39:F52)), ROW(F39:F52)-MIN(ROW(F39:F52))+1, \"\"), ROW() -38 )), \"\")","v":""},{"$f":"IFERROR(INDEX(B39:B52, SMALL(IF(ISNUMBER(SEARCH(\"JV2\",F39:F52)), ROW(F39:F52)-MIN(ROW(F39:F52))+1, \"\"), ROW() -38 )), \"\")","v":""},{"$f":"IFERROR(INDEX(C39:C52, SMALL(IF(ISNUMBER(SEARCH(\"JV2\",F39:F52)), ROW(F39:F52)-MIN(ROW(F39:F52))+1, \"\"), ROW() -38 )), \"\")","v":""},{"$f":"IFERROR(INDEX(D39:D52, SMALL(IF(ISNUMBER(SEARCH(\"JV2\",F39:F52)), ROW(F39:F52)-MIN(ROW(F39:F52))+1, \"\"), ROW() -38 )), \"\")","v":""},{"$f":"IFERROR(INDEX(E39:E52, SMALL(IF(ISNUMBER(SEARCH(\"JV2\",F39:F52)), ROW(F39:F52)-MIN(ROW(F39:F52))+1, \"\"), ROW() -38 )), \"\")","v":""}]
[null,"Barton Community College",null,"17-107341","Cale McConnell","V",null,4505.0,null,false,{"$nulls":17},{"$f":"IFERROR(INDEX(B39:B52, SMALL(IF(\"V\"=F39:F52, ROW(F39:F52)-MIN(ROW(F39:F52))+1, \"\"), ROW() -38 )), \"\")","v":"Barton Community College"},{"$f":"IFERROR(INDEX(C39:C52, SMALL(IF(\"V\"=F39:F52, ROW(F39:F52)-MIN(ROW(F39:F52))+1, \"\"), ROW() -38 )), \"\")","v":""},{"$f":"IFERROR(INDEX(D39:D52, SMALL(IF(\"V\"=F39:F52, ROW(F39:F52)-MIN(ROW(F39:F52))+1, \"\"), ROW() -38 )), \"\")","v":"18-7262"},{"$f":"IFERROR(INDEX(E39:E52, SMALL(IF(\"V\"=F39:F52, ROW(F39:F52)-MIN(ROW(F39:F52))+1, \"\"), ROW() -38 )), \"\")","v":"Caleb Murphy"},{"$f":"IFERROR(INDEX(B39:B52, SMALL(IF(ISNUMBER(SEARCH(\"JV1\",F39:F52)), ROW(F39:F52)-MIN(ROW(F39:F52))+1, \"\"), ROW() -38 )), \"\")","v":""},{"$f":"IFERROR(INDEX(C39:C52, SMALL(IF(ISNUMBER(SEARCH(\"JV1\",F39:F52)), ROW(F39:F52)-MIN(ROW(F39:F52))+1, \"\"), ROW() -38 )), \"\")","v":""},{"$f":"IFERROR(INDEX(D39:D52, SMALL(IF(ISNUMBER(SEARCH(\"JV1\",F39:F52)), ROW(F39:F52)-MIN(ROW(F39:F52))+1, \"\"), ROW() -38 )), \"\")","v":""},{"$f":"IFERROR(INDEX(E39:E52, SMALL(IF(ISNUMBER(SEARCH(\"JV1\",F39:F52)), ROW(F39:F52)-MIN(ROW(F39:F52))+1, \"\"), ROW() -38 )), \"\")","v":""},{"$f":"IFERROR(INDEX(B39:B52, SMALL(IF(ISNUMBER(SEARCH(\"JV2\",F39:F52)), ROW(F39:F52)-MIN(ROW(F39:F52))+1, \"\"), ROW() -38 )), \"\")","v":""},{"$f":"IFERROR(INDEX(C39:C52, SMALL(IF(ISNUMBER(SEARCH(\"JV2\",F39:F52)), ROW(F39:F52)-MIN(ROW(F39:F52))+1, \"\"), ROW() -38 )), \"\")","v":""},{"$f":"IFERROR(INDEX(D39:D52, SMALL(IF(ISNUMBER(SEARCH(\"JV2\",F39:F52)), ROW(F39:F52)-MIN(ROW(F39:F52))+1, \"\"), ROW() -38 )), \"\")","v":""},{"$f":"IFERROR(INDEX(E39:E52, SMALL(IF(ISNUMBER(SEARCH(\"JV2\",F39:F52)), ROW(F39:F52)-MIN(ROW(F39:F52))+1, \"\"), ROW() -38 )), \"\")","v":""}]
[null,"Barton Community College",null,"18-7262","Caleb Murphy","V",null,4505.0,null,false,{"$nulls":17},{"$f":"IFERROR(INDEX(B39:B52, SMALL(IF(\"V\"=F39:F52, ROW(F39:F52)-MIN(ROW(F39:F52))+1, \"\"), ROW() -38 )), \"\")","v":"Barton Community College"},{"$f":"IFERROR(INDEX(C39:C52, SMALL(IF(\"V\"=F39:F52, ROW(F39:F52)-MIN(ROW(F39:F52))+1, \"\"), ROW() -38 )), \"\")","v":""},{"$f":"IFERROR(INDEX(D39:D52, SMALL(IF(\"V\"=F39:F52, ROW(F39:F52)-MIN(ROW(F39:F52))+1, \"\"), ROW() -38 )), \"\")","v":"11-342282"},{"$f":"IFERROR(INDEX(E39:E52, SMALL(IF(\"V\"=F39:F52, ROW(F39:F52)-MIN(ROW(F39:F52))+1, \"\"), ROW() -38 )), \"\")","v":"Carter Lambeth"},{"$f":"IFERROR(INDEX(B39:B52, SMALL(IF(ISNUMBER(SEARCH(\"JV1\",F39:F52)), ROW(F39:F52)-MIN(ROW(F39:F52))+1, \"\"), ROW() -38 )), \"\")","v":""},{"$f":"IFERROR(INDEX(C39:C52, SMALL(IF(ISNUMBER(SEARCH(\"JV1\",F39:F52)), ROW(F39:F52)-MIN(ROW(F39:F52))+1, \"\"), ROW() -38 )), \"\")","v":""},{"$f":"IFERROR(INDEX(D39:D52, SMALL(IF(ISNUMBER(SEARCH(\"JV1\",F39:F52)), ROW(F39:F52)-MIN(ROW(F39:F52))+1, \"\"), ROW() -38 )), \"\")","v":""},{"$f":"IFERROR(INDEX(E39:E52, SMALL(IF(ISNUMBER(SEARCH(\"JV1\",F39:F52)), ROW(F39:F52)-MIN(ROW(F39:F52))+1, \"\"), ROW() -38 )), \"\")","v":""},{"$f":"IFERROR(INDEX(B39:B52, SMALL(IF(ISNUMBER(SEARCH(\"JV2\",F39:F52)), ROW(F39:F52)-MIN(ROW(F39:F52))+1, \"\"), ROW() -38 )), \"\")","v":""},{"$f":"IFERROR(INDEX(C39:C52, SMALL(IF(ISNUMBER(SEARCH(\"JV2\",F39:F52)), ROW(F39:F52)-MIN(ROW(F39:F52))+1, \"\"), ROW() -38 )), \"\")","v":""},{"$f":"IFERROR(INDEX(D39:D52, SMALL(IF(ISNUMBER(SEARCH(\"JV2\",F39:F52)), ROW(F39:F52)-MIN(ROW(F39:F52))+1, \"\"), ROW() -38 )), \"\")","v":""},{"$f":"IFERROR(INDEX(E39:E52, SMALL(IF(ISNUMBER(SEARCH(\"JV2\",F39:F52)), ROW(F39:F52)-MIN(ROW(F39:F52))+1, \"\"), ROW() -38 )), \"\")","v":""}]
[null,"Barton Community College",null,"11-342282","Carter Lambeth","V",null,4505.0,null,false,{"$nulls":17},{"$f":"IFERROR(INDEX(B39:B52, SMALL(IF(\"V\"=F39:F52, ROW(F39:F52)-MIN(ROW(F39:F52))+1, \"\"), ROW() -38 )), \"\")","v":"Barton Community College"},{"$f":"IFERROR(INDEX(C39:C52, SMALL(IF(\"V\"=F39:F52, ROW(F39:F52)-MIN(ROW(F39:F52))+1, \"\"), ROW() -38 )), \"\")","v":""},{"$f":"IFERROR(INDEX(D39:D52, SMALL(IF(\"V\"=F39:F52, ROW(F39:F52)-MIN(ROW(F39:F52))+1, \"\"), ROW() -38 )), \"\")","v":"19-1488"},{"$f":"IFERROR(INDEX(E39:E52, SMALL(IF(\"V\"=F39:F52, ROW(F39:F52)-MIN(ROW(F39:F52))+1, \"\"), ROW() -38 )), \"\")","v":"Christopher O'Connor"},{"$f":"IFERROR(INDEX(B39:B52, SMALL(IF(ISNUMBER(SEARCH(\"JV1\",F39:F52)), ROW(F39:F52)-MIN(ROW(F39:F52))+1, \"\"), ROW() -38 )), \"\")","v":""},{"$f":"IFERROR(INDEX(C39:C52, SMALL(IF(ISNUMBER(SEARCH(\"JV1\",F39:F52)), ROW(F39:F52)-MIN(ROW(F39:F52))+1, \"\"), ROW() -38 )), \"\")","v":""},{"$f":"IFERROR(INDEX(D39:D52, SMALL(IF(ISNUMBER(SEARCH(\"JV1\",F39:F52)), ROW(F39:F52)-MIN(ROW(F39:F52))+1, \"\"), ROW() -38 )), \"\")","v":""},{"$f":"IFERROR(INDEX(E39:E52, SMALL(IF(ISNUMBER(SEARCH(\"JV1\",F39:F52)), ROW(F39:F52)-MIN(ROW(F39:F52))+1, \"\"), ROW() -38 )), \"\")","v":""},{"$f":"IFERROR(INDEX(B39:B52, SMALL(IF(ISNUMBER(SEARCH(\"JV2\",F39:F52)), ROW(F39:F52)-MIN(ROW(F39:F52))+1, \"\"), ROW() -38 )), \"\")","v":""},{"$f":"IFERROR(INDEX(C39:C52, SMALL(IF(ISNUMBER(SEARCH(\"JV2\",F39:F52)), ROW(F39:F52)-MIN(ROW(F39:F52))+1, \"\"), ROW() -38 )), \"\")","v":""},{"$f":"IFERROR(INDEX(D39:D52, SMALL(IF(ISNUMBER(SEARCH(\"JV2\",F39:F52)), ROW(F39:F52)-MIN(ROW(F39:F52))+1, \"\"), ROW() -38 )), \"\")","v":""},{"$f":"IFERROR(INDEX(E39:E52, SMALL(IF(ISNUMBER(SEARCH(\"JV2\",F39:F52)), ROW(F39:F52)-MIN(ROW(F39:F52))+1, \"\"), ROW() -38 )), \"\")","v":""}]
[null,"Barton Community College",null,"19-1488","Christopher O'Connor","V",null,4505.0,null,false,{"$nulls":17},{"$f":"IFERROR(INDEX(B39:B52, SMALL(IF(\"V\"=F39:F52, ROW(F39:F52)-MIN(ROW(F39:F52))+1, \"\"), ROW() -38 )), \"\")","v":"Barton Community College"},{"$f":"IFERROR(INDEX(C39:C52, SMALL(IF(\"V\"=F39:F52, ROW(F39:F52)-MIN(ROW(F39:F52))+1, \"\"), ROW() -38 )), \"\")","v":""},{"$f":"IFERROR(INDEX(D39:D52, SMALL(IF(\"V\"=F39:F52, ROW(F39:F52)-MIN(ROW(F39:F52))+1, \"\"), ROW() -38 )), \"\")","v":"19-11824"},{"$f":"IFERROR(INDEX(E39:E52, SMALL(IF(\"V\"=F39:F52, ROW(F39:F52)-MIN(ROW(F39:F52))+1, \"\"), ROW() -38 )), \"\")","v":"Cooper Holloway"},{"$f":"IFERROR(INDEX(B39:B52, SMALL(IF(ISNUMBER(SEARCH(\"JV1\",F39:F52)), ROW(F39:F52)-MIN(ROW(F39:F52))+1, \"\"), ROW() -38 )), \"\")","v":""},{"$f":"IFERROR(INDEX(C39:C52, SMALL(IF(ISNUMBER(SEARCH(\"JV1\",F39:F52)), ROW(F39:F52)-MIN(ROW(F39:F52))+1, \"\"), ROW() -38 )), \"\")","v":""},{"$f":"IFERROR(INDEX(D39:D52, SMALL(IF(ISNUMBER(SEARCH(\"JV1\",F39:F52)), ROW(F39:F52)-MIN(ROW(F39:F52))+1, \"\"), ROW() -38 )), \"\")","v":""},{"$f":"IFERROR(INDEX(E39:E52, SMALL(IF(ISNUMBER(SEARCH(\"JV1\",F39:F52)), ROW(F39:F52)-MIN(ROW(F39:F52))+1, \"\"), ROW() -38 )), \"\")","v":""},{"$f":"IFERROR(INDEX(B39:B52, SMALL(IF(ISNUMBER(SEARCH(\"JV2\",F39:F52)), ROW(F39:F52)-MIN(ROW(F39:F52))+1, \"\"), ROW() -38 )), \"\")","v":""},{"$f":"IFERROR(INDEX(C39:C52, SMALL(IF(ISNUMBER(SEARCH(\"JV2\",F39:F52)), ROW(F39:F52)-MIN(ROW(F39:F52))+1, \"\"), ROW() -38 )), \"\")","v":""},{"$f":"IFERROR(INDEX(D39:D52, SMALL(IF(ISNUMBER(SEARCH(\"JV2\",F39:F52)), ROW(F39:F52)-MIN(ROW(F39:F52))+1, \"\"), ROW() -38 )), \"\")","v":""},{"$f":"IFERROR(INDEX(E39:E52, SMALL(IF(ISNUMBER(SEARCH(\"JV2\",F39:F52)), ROW(F39:F52)-MIN(ROW(F39:F52))+1, \"\"), ROW() -38 )), \"\")","v":""}]
[null,"Barton Community College",null,"21-52547","Cole Brown",null,null,4505.0,null,false,{"$nulls":17},{"$f":"IFERROR(INDEX(B39:B52, SMALL(IF(\"V\"=F39:F52, ROW(F39:F52)-MIN(ROW(F39:F52))+1, \"\"), ROW() -38 )), \"\")","v":"Barton Community College"},{"$f":"IFERROR(INDEX(C39:C52, SMALL(IF(\"V\"=F39:F52, ROW(F39:F52)-MIN(ROW(F39:F52))+1, \"\"), ROW() -38 )), \"\")","v":""},{"$f":"IFERROR(INDEX(D39:D52, SMALL(IF(\"V\"=F39:F52, ROW(F39:F52)-MIN(ROW(F39:F52))+1, \"\"), ROW() -38 )), \"\")","v":"11-629150"},{"$f":"IFERROR(INDEX(E39:E52, SMALL(IF(\"V\"=F39:F52, ROW(F39:F52)-MIN(ROW(F39:F52))+1, \"\"), ROW() -38 )), \"\")","v":"Logan Lindsley"},{"$f":"IFERROR(INDEX(B39:B52, SMALL(IF(ISNUMBER(SEARCH(\"JV1\",F39:F52)), ROW(F39:F52)-MIN(ROW(F39:F52))+1, \"\"), ROW() -38 )), \"\")","v":""},{"$f":"IFERROR(INDEX(C39:C52, SMALL(IF(ISNUMBER(SEARCH(\"JV1\",F39:F52)), ROW(F39:F52)-MIN(ROW(F39:F52))+1, \"\"), ROW() -38 )), \"\")","v":""},{"$f":"IFERROR(INDEX(D39:D52, SMALL(IF(ISNUMBER(SEARCH(\"JV1\",F39:F52)), ROW(F39:F52)-MIN(ROW(F39:F52))+1, \"\"), ROW() -38 )), \"\")","v":""},{"$f":"IFERROR(INDEX(E39:E52, SMALL(IF(ISNUMBER(SEARCH(\"JV1\",F39:F52)), ROW(F39:F52)-MIN(ROW(F39:F52))+1, \"\"), ROW() -38 )), \"\")","v":""},{"$f":"IFERROR(INDEX(B39:B52, SMALL(IF(ISNUMBER(SEARCH(\"JV2\",F39:F52)), ROW(F39:F52)-MIN(ROW(F39:F52))+1, \"\"), ROW() -38 )), \"\")","v":""},{"$f":"IFERROR(INDEX(C39:C52, SMALL(IF(ISNUMBER(SEARCH(\"JV2\",F39:F52)), ROW(F39:F52)-MIN(ROW(F39:F52))+1, \"\"), ROW() -38 )), \"\")","v":""},{"$f":"IFERROR(INDEX(D39:D52, SMALL(IF(ISNUMBER(SEARCH(\"JV2\",F39:F52)), ROW(F39:F52)-MIN(ROW(F39:F52))+1, \"\"), ROW() -38 )), \"\")","v":""},{"$f":"IFERROR(INDEX(E39:E52, SMALL(IF(ISNUMBER(SEARCH(\"JV2\",F39:F52)), ROW(F39:F52)-MIN(ROW(F39:F52))+1, \"\"), ROW() -38 )), \"\")","v":""}]
[null,"Barton Community College",null,"19-11824","Cooper Holloway","V",null,4505.0,null,false,{"$nulls":17},{"$f":"IFERROR(INDEX(B39:B52, SMALL(IF(\"V\"=F39:F52, ROW(F39:F52)-MIN(ROW(F39:F52))+1, \"\"), ROW() -38 )), \"\")","v":"Barton Community College"},{"$f":"IFERROR(INDEX(C39:C52, SMALL(IF(\"V\"=F39:F52, ROW(F39:F52)-MIN(ROW(F39:F52))+1, \"\"), ROW() -38 )), \"\")","v":""},{"$f":"IFERROR(INDEX(D39:D52, SMALL(IF(\"V\"=F39:F52, ROW(F39:F52)-MIN(ROW(F39:F52))+1, \"\"), ROW() -38 )), \"\")","v":"15-22092"},{"$f":"IFERROR(INDEX(E39:E52, SMALL(IF(\"V\"=F39:F52, ROW(F39:F52)-MIN(ROW(F39:F52))+1, \"\"), ROW() -38 )), \"\")","v":"Torrey Lindsay"},{"$f":"IFERROR(INDEX(B39:B52, SMALL(IF(ISNUMBER(SEARCH(\"JV1\",F39:F52)), ROW(F39:F52)-MIN(ROW(F39:F52))+1, \"\"), ROW() -38 )), \"\")","v":""},{"$f":"IFERROR(INDEX(C39:C52, SMALL(IF(ISNUMBER(SEARCH(\"JV1\",F39:F52)), ROW(F39:F52)-MIN(ROW(F39:F52))+1, \"\"), ROW() -38 )), \"\")","v":""},{"$f":"IFERROR(INDEX(D39:D52, SMALL(IF(ISNUMBER(SEARCH(\"JV1\",F39:F52)), ROW(F39:F52)-MIN(ROW(F39:F52))+1, \"\"), ROW() -38 )), \"\")","v":""},{"$f":"IFERROR(INDEX(E39:E52, SMALL(IF(ISNUMBER(SEARCH(\"JV1\",F39:F52)), ROW(F39:F52)-MIN(ROW(F39:F52))+1, \"\"), ROW() -38 )), \"\")","v":""},{"$f":"IFERROR(INDEX(B39:B52, SMALL(IF(ISNUMBER(SEARCH(\"JV2\",F39:F52)), ROW(F39:F52)-MIN(ROW(F39:F52))+1, \"\"), ROW() -38 )), \"\")","v":""},{"$f":"IFERROR(INDEX(C39:C52, SMALL(IF(ISNUMBER(SEARCH(\"JV2\",F39:F52)), ROW(F39:F52)-MIN(ROW(F39:F52))+1, \"\"), ROW() -38 )), \"\")","v":""},{"$f":"IFERROR(INDEX(D39:D52, SMALL(IF(ISNUMBER(SEARCH(\"JV2\",F39:F52)), ROW(F39:F52)-MIN(ROW(F39:F52))+1, \"\"), ROW() -38 )), \"\")","v":""},{"$f":"IFERROR(INDEX(E39:E52, SMALL(IF(ISNUMBER(SEARCH(\"JV2\",F39:F52)), ROW(F39:F52)-MIN(ROW(F39:F52))+1, \"\"), ROW() -38 )), \"\")","v":""}]
[null,"Barton Community College",null,"20-663","Jaden Lang",null,null,4505.0,null,false]
[null,"Barton Community College",null,"22-57403","Kamron Stude",null,null,4505.0,null,false]
[null,"Barton Community College",null,"18-84163","Khalil Sanchez",null,null,4505.0,null,false]
[null,"Barton Community College",null,"19-4682","Landon Wareman",null,null,4505.0,null,false]
[null,"Barton Community College",null,"11-629150","Logan Lindsley","V",null,4505.0,null,false]
[null,"Barton Community College",null,"15-22092","Torrey Lindsay","V",null,4505.0,null,false]
[null,"Central Methodist University",null,""," ",null,null,4599.0,null,false,{"$nulls":17},{"$f":"IFERROR(INDEX(B53:B60, SMALL(IF(\"V\"=F53:F60, ROW(F53:F60)-MIN(ROW(F53:F60))+1, \"\"), ROW() -52 )), \"\")","v":"Central Methodist University"},{"$f":"IFERROR(INDEX(C53:C60, SMALL(IF(\"V\"=F53:F60, ROW(F53:F60)-MIN(ROW(F53:F60))+1, \"\"), ROW() -52 )), \"\")","v":""},{"$f":"IFERROR(INDEX(D53:D60, SMALL(IF(\"V\"=F53:F60, ROW(F53:F60)-MIN(ROW(F53:F60))+1, \"\"), ROW() -52 )), \"\")","v":"11-403752"},{"$f":"IFERROR(INDEX(E53:E60, SMALL(IF(\"V\"=F53:F60, ROW(F53:F60)-MIN(ROW(F53:F60))+1, \"\"), ROW() -52 )), \"\")","v":"Cole Johnson"},{"$f":"IFERROR(INDEX(B53:B60, SMALL(IF(ISNUMBER(SEARCH(\"JV1\",F53:F60)), ROW(F53:F60)-MIN(ROW(F53:F60))+1, \"\"), ROW() -52 )), \"\")","v":""},{"$f":"IFERROR(INDEX(C53:C60, SMALL(IF(ISNUMBER(SEARCH(\"JV1\",F53:F60)), ROW(F53:F60)-MIN(ROW(F53:F60))+1, \"\"), ROW() -52 )), \"\")","v":""},{"$f":"IFERROR(INDEX(D53:D60, SMALL(IF(ISNUMBER(SEARCH(\"JV1\",F53:F60)), ROW(F53:F60)-MIN(ROW(F53:F60))+1, \"\"), ROW() -52 )), \"\")","v":""},{"$f":"IFERROR(INDEX(E53:E60, SMALL(IF(ISNUMBER(SEARCH(\"JV1\",F53:F60)), ROW(F53:F60)-MIN(ROW(F53:F60))+1, \"\"), ROW() -52 )), \"\")","v":""},{"$f":"IFERROR(INDEX(B53:B60, SMALL(IF(ISNUMBER(SEARCH(\"JV2\",F53:F60)), ROW(F53:F60)-MIN(ROW(F53:F60))+1, \"\"), ROW() -52 )), \"\")","v":""},{"$f":"IFERROR(INDEX(C53:C60, SMALL(IF(ISNUMBER(SEARCH(\"JV2\",F53:F60)), ROW(F53:F60)-MIN(ROW(F53:F60))+1, \"\"), ROW() -52 )), \"\")","v":""},{"$f":"IFERROR(INDEX(D53:D60, SMALL(IF(ISNUMBER(SEARCH(\"JV2\",F53:F60)), ROW(F53:F60)-MIN(ROW(F53:F60))+1, \"\"), ROW() -52 )), \"\")","v":""},{"$f":"IFERROR(INDEX(E53:E60, SMALL(IF(ISNUMBER(SEARCH(\"JV2\",F53:F60)), ROW(F53:F60)-MIN(ROW(F53:F60))+1, \"\"), ROW() -52 )), \"\")","v":""}]
[null,"Central Methodist University",null,"11-403752","Cole Johnson","V",null,4599.0,null,false,{"$nulls":17},{"$f":"IFERROR(INDEX(B53:B60, SMALL(IF(\"V\"=F53:F60, ROW(F53:F60)-MIN(ROW(F53:F60))+1, \"\"), ROW() -52 )), \"\")","v":"Central Methodist University"},{"$f":"IFERROR(INDEX(C53:C60, SMALL(IF(\"V\"=F53:F60, ROW(F53:F60)-MIN(ROW(F53:F60))+1, \"\"), ROW() -52 )), \"\")","v":""},{"$f":"IFERROR(INDEX(D53:D60, SMALL(IF(\"V\"=F53:F60, ROW(F53:F60)-MIN(ROW(F53:F60))+1, \"\"), ROW() -52 )), \"\")","v":"22-31273"},{"$f":"IFERROR(INDEX(E53:E60, SMALL(IF(\"V\"=F53:F60, ROW(F53:F60)-MIN(ROW(F53:F60))+1, \"\"), ROW() -52 )), \"\")","v":"Colton Carrier"},{"$f":"IFERROR(INDEX(B53:B60, SMALL(IF(ISNUMBER(SEARCH(\"JV1\",F53:F60)), ROW(F53:F60)-MIN(ROW(F53:F60))+1, \"\"), ROW() -52 )), \"\")","v":""},{"$f":"IFERROR(INDEX(C53:C60, SMALL(IF(ISNUMBER(SEARCH(\"JV1\",F53:F60)), ROW(F53:F60)-MIN(ROW(F53:F60))+1, \"\"), ROW() -52 )), \"\")","v":""},{"$f":"IFERROR(INDEX(D53:D60, SMALL(IF(ISNUMBER(SEARCH(\"JV1\",F53:F60)), ROW(F53:F60)-MIN(ROW(F53:F60))+1, \"\"), ROW() -52 )), \"\")","v":""},{"$f":"IFERROR(INDEX(E53:E60, SMALL(IF(ISNUMBER(SEARCH(\"JV1\",F53:F60)), ROW(F53:F60)-MIN(ROW(F53:F60))+1, \"\"), ROW() -52 )), \"\")","v":""},{"$f":"IFERROR(INDEX(B53:B60, SMALL(IF(ISNUMBER(SEARCH(\"JV2\",F53:F60)), ROW(F53:F60)-MIN(ROW(F53:F60))+1, \"\"), ROW() -52 )), \"\")","v":""},{"$f":"IFERROR(INDEX(C53:C60, SMALL(IF(ISNUMBER(SEARCH(\"JV2\",F53:F60)), ROW(F53:F60)-MIN(ROW(F53:F60))+1, \"\"), ROW() -52 )), \"\")","v":""},{"$f":"IFERROR(INDEX(D53:D60, SMALL(IF(ISNUMBER(SEARCH(\"JV2\",F53:F60)), ROW(F53:F60)-MIN(ROW(F53:F60))+1, \"\"), ROW() -52 )), \"\")","v":""},{"$f":"IFERROR(INDEX(E53:E60, SMALL(IF(ISNUMBER(SEARCH(\"JV2\",F53:F60)), ROW(F53:F60)-MIN(ROW(F53:F60))+1, \"\"), ROW() -52 )), \"\")","v":""}]
[null,"Central Methodist University",null,"22-31273","Colton Carrier","V",null,4599.0,null,false,{"$nulls":17},{"$f":"IFERROR(INDEX(B53:B60, SMALL(IF(\"V\"=F53:F60, ROW(F53:F60)-MIN(ROW(F53:F60))+1, \"\"), ROW() -52 )), \"\")","v":"Central Methodist University"},{"$f":"IFERROR(INDEX(C53:C60, SMALL(IF(\"V\"=F53:F60, ROW(F53:F60)-MIN(ROW(F53:F60))+1, \"\"), ROW() -52 )), \"\")","v":""},{"$f":"IFERROR(INDEX(D53:D60, SMALL(IF(\"V\"=F53:F60, ROW(F53:F60)-MIN(ROW(F53:F60))+1, \"\"), ROW() -52 )), \"\")","v":"8191-648"},{"$f":"IFERROR(INDEX(E53:E60, SMALL(IF(\"V\"=F53:F60, ROW(F53:F60)-MIN(ROW(F53:F60))+1, \"\"), ROW() -52 )), \"\")","v":"Dustin Linneman"},{"$f":"IFERROR(INDEX(B53:B60, SMALL(IF(ISNUMBER(SEARCH(\"JV1\",F53:F60)), ROW(F53:F60)-MIN(ROW(F53:F60))+1, \"\"), ROW() -52 )), \"\")","v":""},{"$f":"IFERROR(INDEX(C53:C60, SMALL(IF(ISNUMBER(SEARCH(\"JV1\",F53:F60)), ROW(F53:F60)-MIN(ROW(F53:F60))+1, \"\"), ROW() -52 )), \"\")","v":""},{"$f":"IFERROR(INDEX(D53:D60, SMALL(IF(ISNUMBER(SEARCH(\"JV1\",F53:F60)), ROW(F53:F60)-MIN(ROW(F53:F60))+1, \"\"), ROW() -52 )), \"\")","v":""},{"$f":"IFERROR(INDEX(E53:E60, SMALL(IF(ISNUMBER(SEARCH(\"JV1\",F53:F60)), ROW(F53:F60)-MIN(ROW(F53:F60))+1, \"\"), ROW() -52 )), \"\")","v":""},{"$f":"IFERROR(INDEX(B53:B60, SMALL(IF(ISNUMBER(SEARCH(\"JV2\",F53:F60)), ROW(F53:F60)-MIN(ROW(F53:F60))+1, \"\"), ROW() -52 )), \"\")","v":""},{"$f":"IFERROR(INDEX(C53:C60, SMALL(IF(ISNUMBER(SEARCH(\"JV2\",F53:F60)), ROW(F53:F60)-MIN(ROW(F53:F60))+1, \"\"), ROW() -52 )), \"\")","v":""},{"$f":"IFERROR(INDEX(D53:D60, SMALL(IF(ISNUMBER(SEARCH(\"JV2\",F53:F60)), ROW(F53:F60)-MIN(ROW(F53:F60))+1, \"\"), ROW() -52 )), \"\")","v":""},{"$f":"IFERROR(INDEX(E53:E60, SMALL(IF(ISNUMBER(SEARCH(\"JV2\",F53:F60)), ROW(F53:F60)-MIN(ROW(F53:F60))+1, \"\"), ROW() -52 )), \"\")","v":""}]
[null,"Central Methodist University",null,"8191-648","Dustin Linneman","V",null,4599.0,null,false,{"$nulls":17},{"$f":"IFERROR(INDEX(B53:B60, SMALL(IF(\"V\"=F53:F60, ROW(F53:F60)-MIN(ROW(F53:F60))+1, \"\"), ROW() -52 )), \"\")","v":"Central Methodist University"},{"$f":"IFERROR(INDEX(C53:C60, SMALL(IF(\"V\"=F53:F60, ROW(F53:F60)-MIN(ROW(F53:F60))+1, \"\"), ROW() -52 )), \"\")","v":""},{"$f":"IFERROR(INDEX(D53:D60, SMALL(IF(\"V\"=F53:F60, ROW(F53:F60)-MIN(ROW(F53:F60))+1, \"\"), ROW() -52 )), \"\")","v":"8938-1568"},{"$f":"IFERROR(INDEX(E53:E60, SMALL(IF(\"V\"=F53:F60, ROW(F53:F60)-MIN(ROW(F53:F60))+1, \"\"), ROW() -52 )), \"\")","v":"Eric Moore"},{"$f":"IFERROR(INDEX(B53:B60, SMALL(IF(ISNUMBER(SEARCH(\"JV1\",F53:F60)), ROW(F53:F60)-MIN(ROW(F53:F60))+1, \"\"), ROW() -52 )), \"\")","v":""},{"$f":"IFERROR(INDEX(C53:C60, SMALL(IF(ISNUMBER(SEARCH(\"JV1\",F53:F60)), ROW(F53:F60)-MIN(ROW(F53:F60))+1, \"\"), ROW() -52 )), \"\")","v":""},{"$f":"IFERROR(INDEX(D53:D60, SMALL(IF(ISNUMBER(SEARCH(\"JV1\",F53:F60)), ROW(F53:F60)-MIN(ROW(F53:F60))+1, \"\"), ROW() -52 )), \"\")","v":""},{"$f":"IFERROR(INDEX(E53:E60, SMALL(IF(ISNUMBER(SEARCH(\"JV1\",F53:F60)), ROW(F53:F60)-MIN(ROW(F53:F60))+1, \"\"), ROW() -52 )), \"\")","v":""},{"$f":"IFERROR(INDEX(B53:B60, SMALL(IF(ISNUMBER(SEARCH(\"JV2\",F53:F60)), ROW(F53:F60)-MIN(ROW(F53:F60))+1, \"\"), ROW() -52 )), \"\")","v":""},{"$f":"IFERROR(INDEX(C53:C60, SMALL(IF(ISNUMBER(SEARCH(\"JV2\",F53:F60)), ROW(F53:F60)-MIN(ROW(F53:F60))+1, \"\"), ROW() -52 )), \"\")","v":""},{"$f":"IFERROR(INDEX(D53:D60, SMALL(IF(ISNUMBER(SEARCH(\"JV2\",F53:F60)), ROW(F53:F60)-MIN(ROW(F53:F60))+1, \"\"), ROW() -52 )), \"\")","v":""},{"$f":"IFERROR(INDEX(E53:E60, SMALL(IF(ISNUMBER(SEARCH(\"JV2\",F53:F60)), ROW(F53:F60)-MIN(ROW(F53:F60))+1, \"\"), ROW() -52 )), \"\")","v":""}]
[null,"Central Methodist University",null,"8938-1568","Eric Moore","V",null,4599.0,null,false,{"$nulls":17},{"$f":"IFERROR(INDEX(B53:B60, SMALL(IF(\"V\"=F53:F60, ROW(F53:F60)-MIN(ROW(F53:F60))+1, \"\"), ROW() -52 )), \"\")","v":"Central Methodist University"},{"$f":"IFERROR(INDEX(C53:C60, SMALL(IF(\"V\"=F53:F60, ROW(F53:F60)-MIN(ROW(F53:F60))+1, \"\"), ROW() -52 )), \"\")","v":""},{"$f":"IFERROR(INDEX(D53:D60, SMALL(IF(\"V\"=F53:F60, ROW(F53:F60)-MIN(ROW(F53:F60))+1, \"\"), ROW() -52 )), \"\")","v":"11-468547"},{"$f":"IFERROR(INDEX(E53:E60, SMALL(IF(\"V\"=F53:F60, ROW(F53:F60)-MIN(ROW(F53:F60))+1, \"\"), ROW() -52 )), \"\")","v":"Kenneth Lolley"},{"$f":"IFERROR(INDEX(B53:B60, SMALL(IF(ISNUMBER(SEARCH(\"JV1\",F53:F60)), ROW(F53:F60)-MIN(ROW(F53:F60))+1, \"\"), ROW() -52 )), \"\")","v":""},{"$f":"IFERROR(INDEX(C53:C60, SMALL(IF(ISNUMBER(SEARCH(\"JV1\",F53:F60)), ROW(F53:F60)-MIN(ROW(F53:F60))+1, \"\"), ROW() -52 )), \"\")","v":""},{"$f":"IFERROR(INDEX(D53:D60, SMALL(IF(ISNUMBER(SEARCH(\"JV1\",F53:F60)), ROW(F53:F60)-MIN(ROW(F53:F60))+1, \"\"), ROW() -52 )), \"\")","v":""},{"$f":"IFERROR(INDEX(E53:E60, SMALL(IF(ISNUMBER(SEARCH(\"JV1\",F53:F60)), ROW(F53:F60)-MIN(ROW(F53:F60))+1, \"\"), ROW() -52 )), \"\")","v":""},{"$f":"IFERROR(INDEX(B53:B60, SMALL(IF(ISNUMBER(SEARCH(\"JV2\",F53:F60)), ROW(F53:F60)-MIN(ROW(F53:F60))+1, \"\"), ROW() -52 )), \"\")","v":""},{"$f":"IFERROR(INDEX(C53:C60, SMALL(IF(ISNUMBER(SEARCH(\"JV2\",F53:F60)), ROW(F53:F60)-MIN(ROW(F53:F60))+1, \"\"), ROW() -52 )), \"\")","v":""},{"$f":"IFERROR(INDEX(D53:D60, SMALL(IF(ISNUMBER(SEARCH(\"JV2\",F53:F60)), ROW(F53:F60)-MIN(ROW(F53:F60))+1, \"\"), ROW() -52 )), \"\")","v":""},{"$f":"IFERROR(INDEX(E53:E60, SMALL(IF(ISNUMBER(SEARCH(\"JV2\",F53:F60)), ROW(F53:F60)-MIN(ROW(F53:F60))+1, \"\"), ROW() -52 )), \"\")","v":""}]
[null,"Central Methodist University",null,"11-468547","Kenneth Lolley","V",null,4599.0,null,false,{"$nulls":17},{"$f":"IFERROR(INDEX(B53:B60, SMALL(IF(\"V\"=F53:F60, ROW(F53:F60)-MIN(ROW(F53:F60))+1, \"\"), ROW() -52 )), \"\")","v":""},{"$f":"IFERROR(INDEX(C53:C60, SMALL(IF(\"V\"=F53:F60, ROW(F53:F60)-MIN(ROW(F53:F60))+1, \"\"), ROW() -52 )), \"\")","v":""},{"$f":"IFERROR(INDEX(D53:D60, SMALL(IF(\"V\"=F53:F60, ROW(F53:F60)-MIN(ROW(F53:F60))+1, \"\"), ROW() -52 )), \"\")","v":""},{"$f":"IFERROR(INDEX(E53:E60, SMALL(IF(\"V\"=F53:F60, ROW(F53:F60)-MIN(ROW(F53:F60))+1, \"\"), ROW() -52 )), \"\")","v":""},{"$f":"IFERROR(INDEX(B53:B60, SMALL(IF(ISNUMBER(SEARCH(\"JV1\",F53:F60)), ROW(F53:F60)-MIN(ROW(F53:F60))+1, \"\"), ROW() -52 )), \"\")","v":""},{"$f":"IFERROR(INDEX(C53:C60, SMALL(IF(ISNUMBER(SEARCH(\"JV1\",F53:F60)), ROW(F53:F60)-MIN(ROW(F53:F60))+1, \"\"), ROW() -52 )), \"\")","v":""},{"$f":"IFERROR(INDEX(D53:D60, SMALL(IF(ISNUMBER(SEARCH(\"JV1\",F53:F60)), ROW(F53:F60)-MIN(ROW(F53:F60))+1, \"\"), ROW() -52 )), \"\")","v":""},{"$f":"IFERROR(INDEX(E53:E60, SMALL(IF(ISNUMBER(SEARCH(\"JV1\",F53:F60)), ROW(F53:F60)-MIN(ROW(F53:F60))+1, \"\"), ROW() -52 )), \"\")","v":""},{"$f":"IFERROR(INDEX(B53:B60, SMALL(IF(ISNUMBER(SEARCH(\"JV2\",F53:F60)), ROW(F53:F60)-MIN(ROW(F53:F60))+1, \"\"), ROW() -52 )), \"\")","v":""},{"$f":"IFERROR(INDEX(C53:C60, SMALL(IF(ISNUMBER(SEARCH(\"JV2\",F53:F60)), ROW(F53:F60)-MIN(ROW(F53:F60))+1, \"\"), ROW() -52 )), \"\")","v":""},{"$f":"IFERROR(INDEX(D53:D60, SMALL(IF(ISNUMBER(SEARCH(\"JV2\",F53:F60)), ROW(F53:F60)-MIN(ROW(F53:F60))+1, \"\"), ROW() -52 )), \"\")","v":""},{"$f":"IFERROR(INDEX(E53:E60, SMALL(IF(ISNUMBER(SEARCH(\"JV2\",F53:F60)), ROW(F53:F60)-MIN(ROW(F53:F60))+1, \"\"), ROW() -52 )), \"\")","v":""}]
[null,"Central Methodist University",null,"21-40754","Ryan Wilburn",null,null,4599.0,null,false,{"$nulls":17},{"$f":"IFERROR(INDEX(B53:B60, SMALL(IF(\"V\"=F53:F60, ROW(F53:F60)-MIN(ROW(F53:F60))+1, \"\"), ROW() -52 )), \"\")","v":""},{"$f":"IFERROR(INDEX(C53:C60, SMALL(IF(\"V\"=F53:F60, ROW(F53:F60)-MIN(ROW(F53:F60))+1, \"\"), ROW() -52 )), \"\")","v":""},{"$f":"IFERROR(INDEX(D53:D60, SMALL(IF(\"V\"=F53:F60, ROW(F53:F60)-MIN(ROW(F53:F60))+1, \"\"), ROW() -52 )), \"\")","v":""},{"$f":"IFERROR(INDEX(E53:E60, SMALL(IF(\"V\"=F53:F60, ROW(F53:F60)-MIN(ROW(F53:F60))+1, \"\"), ROW() -52 )), \"\")","v":""},{"$f":"IFERROR(INDEX(B53:B60, SMALL(IF(ISNUMBER(SEARCH(\"JV1\",F53:F60)), ROW(F53:F60)-MIN(ROW(F53:F60))+1, \"\"), ROW() -52 )), \"\")","v":""},{"$f":"IFERROR(INDEX(C53:C60, SMALL(IF(ISNUMBER(SEARCH(\"JV1\",F53:F60)), ROW(F53:F60)-MIN(ROW(F53:F60))+1, \"\"), ROW() -52 )), \"\")","v":""},{"$f":"IFERROR(INDEX(D53:D60, SMALL(IF(ISNUMBER(SEARCH(\"JV1\",F53:F60)), ROW(F53:F60)-MIN(ROW(F53:F60))+1, \"\"), ROW() -52 )), \"\")","v":""},{"$f":"IFERROR(INDEX(E53:E60, SMALL(IF(ISNUMBER(SEARCH(\"JV1\",F53:F60)), ROW(F53:F60)-MIN(ROW(F53:F60))+1, \"\"), ROW() -52 )), \"\")","v":""},{"$f":"IFERROR(INDEX(B53:B60, SMALL(IF(ISNUMBER(SEARCH(\"JV2\",F53:F60)), ROW(F53:F60)-MIN(ROW(F53:F60))+1, \"\"), ROW() -52 )), \"\")","v":""},{"$f":"IFERROR(INDEX(C53:C60, SMALL(IF(ISNUMBER(SEARCH(\"JV2\",F53:F60)), ROW(F53:F60)-MIN(ROW(F53:F60))+1, \"\"), ROW() -52 )), \"\")","v":""},{"$f":"IFERROR(INDEX(D53:D60, SMALL(IF(ISNUMBER(SEARCH(\"JV2\",F53:F60)), ROW(F53:F60)-MIN(ROW(F53:F60))+1, \"\"), ROW() -52 )), \"\")","v":""},{"$f":"IFERROR(INDEX(E53:E60, SMALL(IF(ISNUMBER(SEARCH(\"JV2\",F53:F60)), ROW(F53:F60)-MIN(ROW(F53:F60))+1, \"\"), ROW() -52 )), \"\")","v":""}]
[null,"Central Methodist University",null,"22-31270","Takudzwa Mukonzamariro",null,null,4599.0,null,false,{"$nulls":17},{"$f":"IFERROR(INDEX(B53:B60, SMALL(IF(\"V\"=F53:F60, ROW(F53:F60)-MIN(ROW(F53:F60))+1, \"\"), ROW() -52 )), \"\")","v":""},{"$f":"IFERROR(INDEX(C53:C60, SMALL(IF(\"V\"=F53:F60, ROW(F53:F60)-MIN(ROW(F53:F60))+1, \"\"), ROW() -52 )), \"\")","v":""},{"$f":"IFERROR(INDEX(D53:D60, SMALL(IF(\"V\"=F53:F60, ROW(F53:F60)-MIN(ROW(F53:F60))+1, \"\"), ROW() -52 )), \"\")","v":""},{"$f":"IFERROR(INDEX(E53:E60, SMALL(IF(\"V\"=F53:F60, ROW(F53:F60)-MIN(ROW(F53:F60))+1, \"\"), ROW() -52 )), \"\")","v":""},{"$f":"IFERROR(INDEX(B53:B60, SMALL(IF(ISNUMBER(SEARCH(\"JV1\",F53:F60)), ROW(F53:F60)-MIN(ROW(F53:F60))+1, \"\"), ROW() -52 )), \"\")","v":""},{"$f":"IFERROR(INDEX(C53:C60, SMALL(IF(ISNUMBER(SEARCH(\"JV1\",F53:F60)), ROW(F53:F60)-MIN(ROW(F53:F60))+1, \"\"), ROW() -52 )), \"\")","v":""},{"$f":"IFERROR(INDEX(D53:D60, SMALL(IF(ISNUMBER(SEARCH(\"JV1\",F53:F60)), ROW(F53:F60)-MIN(ROW(F53:F60))+1, \"\"), ROW() -52 )), \"\")","v":""},{"$f":"IFERROR(INDEX(E53:E60, SMALL(IF(ISNUMBER(SEARCH(\"JV1\",F53:F60)), ROW(F53:F60)-MIN(ROW(F53:F60))+1, \"\"), ROW() -52 )), \"\")","v":""},{"$f":"IFERROR(INDEX(B53:B60, SMALL(IF(ISNUMBER(SEARCH(\"JV2\",F53:F60)), ROW(F53:F60)-MIN(ROW(F53:F60))+1, \"\"), ROW() -52 )), \"\")","v":""},{"$f":"IFERROR(INDEX(C53:C60, SMALL(IF(ISNUMBER(SEARCH(\"JV2\",F53:F60)), ROW(F53:F60)-MIN(ROW(F53:F60))+1, \"\"), ROW() -52 )), \"\")","v":""},{"$f":"IFERROR(INDEX(D53:D60, SMALL(IF(ISNUMBER(SEARCH(\"JV2\",F53:F60)), ROW(F53:F60)-MIN(ROW(F53:F60))+1, \"\"), ROW() -52 )), \"\")","v":""},{"$f":"IFERROR(INDEX(E53:E60, SMALL(IF(ISNUMBER(SEARCH(\"JV2\",F53:F60)), ROW(F53:F60)-MIN(ROW(F53:F60))+1, \"\"), ROW() -52 )), \"\")","v":""}]
[null,"Clarke University",null,"8568-365435","Adante Jones","V",null,3464.0,null,false,{"$nulls":17},{"$f":"IFERROR(INDEX(B61:B72, SMALL(IF(\"V\"=F61:F72, ROW(F61:F72)-MIN(ROW(F61:F72))+1, \"\"), ROW() -60 )), \"\")","v":"Clarke University"},{"$f":"IFERROR(INDEX(C61:C72, SMALL(IF(\"V\"=F61:F72, ROW(F61:F72)-MIN(ROW(F61:F72))+1, \"\"), ROW() -60 )), \"\")","v":""},{"$f":"IFERROR(INDEX(D61:D72, SMALL(IF(\"V\"=F61:F72, ROW(F61:F72)-MIN(ROW(F61:F72))+1, \"\"), ROW() -60 )), \"\")","v":"8568-365435"},{"$f":"IFERROR(INDEX(E61:E72, SMALL(IF(\"V\"=F61:F72, ROW(F61:F72)-MIN(ROW(F61:F72))+1, \"\"), ROW() -60 )), \"\")","v":"Adante Jones"},{"$f":"IFERROR(INDEX(B61:B72, SMALL(IF(ISNUMBER(SEARCH(\"JV1\",F61:F72)), ROW(F61:F72)-MIN(ROW(F61:F72))+1, \"\"), ROW() -60 )), \"\")","v":""},{"$f":"IFERROR(INDEX(C61:C72, SMALL(IF(ISNUMBER(SEARCH(\"JV1\",F61:F72)), ROW(F61:F72)-MIN(ROW(F61:F72))+1, \"\"), ROW() -60 )), \"\")","v":""},{"$f":"IFERROR(INDEX(D61:D72, SMALL(IF(ISNUMBER(SEARCH(\"JV1\",F61:F72)), ROW(F61:F72)-MIN(ROW(F61:F72))+1, \"\"), ROW() -60 )), \"\")","v":""},{"$f":"IFERROR(INDEX(E61:E72, SMALL(IF(ISNUMBER(SEARCH(\"JV1\",F61:F72)), ROW(F61:F72)-MIN(ROW(F61:F72))+1, \"\"), ROW() -60 )), \"\")","v":""},{"$f":"IFERROR(INDEX(B61:B72, SMALL(IF(ISNUMBER(SEARCH(\"JV2\",F61:F72)), ROW(F61:F72)-MIN(ROW(F61:F72))+1, \"\"), ROW() -60 )), \"\")","v":""},{"$f":"IFERROR(INDEX(C61:C72, SMALL(IF(ISNUMBER(SEARCH(\"JV2\",F61:F72)), ROW(F61:F72)-MIN(ROW(F61:F72))+1, \"\"), ROW() -60 )), \"\")","v":""},{"$f":"IFERROR(INDEX(D61:D72, SMALL(IF(ISNUMBER(SEARCH(\"JV2\",F61:F72)), ROW(F61:F72)-MIN(ROW(F61:F72))+1, \"\"), ROW() -60 )), \"\")","v":""},{"$f":"IFERROR(INDEX(E61:E72, SMALL(IF(ISNUMBER(SEARCH(\"JV2\",F61:F72)), ROW(F61:F72)-MIN(ROW(F61:F72))+1, \"\"), ROW() -60 )), \"\")","v":""}]
[null,"Clarke University",null,"21-1742","Caden Bainbridge",null,null,3464.0,null,false,{"$nulls":17},{"$f":"IFERROR(INDEX(B61:B72, SMALL(IF(\"V\"=F61:F72, ROW(F61:F72)-MIN(ROW(F61:F72))+1, \"\"), ROW() -60 )), \"\")","v":"Clarke University"},{"$f":"IFERROR(INDEX(C61:C72, SMALL(IF(\"V\"=F61:F72, ROW(F61:F72)-MIN(ROW(F61:F72))+1, \"\"), ROW() -60 )), \"\")","v":""},{"$f":"IFERROR(INDEX(D61:D72, SMALL(IF(\"V\"=F61:F72, ROW(F61:F72)-MIN(ROW(F61:F72))+1, \"\"), ROW() -60 )), \"\")","v":"20-10059"},{"$f":"IFERROR(INDEX(E61:E72, SMALL(IF(\"V\"=F61:F72, ROW(F61:F72)-MIN(ROW(F61:F72))+1, \"\"), ROW() -60 )), \"\")","v":"Cole Nietert"},{"$f":"IFERROR(INDEX(B61:B72, SMALL(IF(ISNUMBER(SEARCH(\"JV1\",F61:F72)), ROW(F61:F72)-MIN(ROW(F61:F72))+1, \"\"), ROW() -60 )), \"\")","v":""},{"$f":"IFERROR(INDEX(C61:C72, SMALL(IF(ISNUMBER(SEARCH(\"JV1\",F61:F72)), ROW(F61:F72)-MIN(ROW(F61:F72))+1, \"\"), ROW() -60 )), \"\")","v":""},{"$f":"IFERROR(INDEX(D61:D72, SMALL(IF(ISNUMBER(SEARCH(\"JV1\",F61:F72)), ROW(F61:F72)-MIN(ROW(F61:F72))+1, \"\"), ROW() -60 )), \"\")","v":""},{"$f":"IFERROR(INDEX(E61:E72, SMALL(IF(ISNUMBER(SEARCH(\"JV1\",F61:F72)), ROW(F61:F72)-MIN(ROW(F61:F72))+1, \"\"), ROW() -60 )), \"\")","v":""},{"$f":"IFERROR(INDEX(B61:B72, SMALL(IF(ISNUMBER(SEARCH(\"JV2\",F61:F72)), ROW(F61:F72)-MIN(ROW(F61:F72))+1, \"\"), ROW() -60 )), \"\")","v":""},{"$f":"IFERROR(INDEX(C61:C72, SMALL(IF(ISNUMBER(SEARCH(\"JV2\",F61:F72)), ROW(F61:F72)-MIN(ROW(F61:F72))+1, \"\"), ROW() -60 )), \"\")","v":""},{"$f":"IFERROR(INDEX(D61:D72, SMALL(IF(ISNUMBER(SEARCH(\"JV2\",F61:F72)), ROW(F61:F72)-MIN(ROW(F61:F72))+1, \"\"), ROW() -60 )), \"\")","v":""},{"$f":"IFERROR(INDEX(E61:E72, SMALL(IF(ISNUMBER(SEARCH(\"JV2\",F61:F72)), ROW(F61:F72)-MIN(ROW(F61:F72))+1, \"\"), ROW() -60 )), \"\")","v":""}]
[null,"Clarke University",null,"20-10059","Cole Nietert","V",null,3464.0,null,false,{"$nulls":17},{"$f":"IFERROR(INDEX(B61:B72, SMALL(IF(\"V\"=F61:F72, ROW(F61:F72)-MIN(ROW(F61:F72))+1, \"\"), ROW() -60 )), \"\")","v":"Clarke University"},{"$f":"IFERROR(INDEX(C61:C72, SMALL(IF(\"V\"=F61:F72, ROW(F61:F72)-MIN(ROW(F61:F72))+1, \"\"), ROW() -60 )), \"\")","v":""},{"$f":"IFERROR(INDEX(D61:D72, SMALL(IF(\"V\"=F61:F72, ROW(F61:F72)-MIN(ROW(F61:F72))+1, \"\"), ROW() -60 )), \"\")","v":"7914-28980"},{"$f":"IFERROR(INDEX(E61:E72, SMALL(IF(\"V\"=F61:F72, ROW(F61:F72)-MIN(ROW(F61:F72))+1, \"\"), ROW() -60 )), \"\")","v":"Harley Redding"},{"$f":"IFERROR(INDEX(B61:B72, SMALL(IF(ISNUMBER(SEARCH(\"JV1\",F61:F72)), ROW(F61:F72)-MIN(ROW(F61:F72))+1, \"\"), ROW() -60 )), \"\")","v":""},{"$f":"IFERROR(INDEX(C61:C72, SMALL(IF(ISNUMBER(SEARCH(\"JV1\",F61:F72)), ROW(F61:F72)-MIN(ROW(F61:F72))+1, \"\"), ROW() -60 )), \"\")","v":""},{"$f":"IFERROR(INDEX(D61:D72, SMALL(IF(ISNUMBER(SEARCH(\"JV1\",F61:F72)), ROW(F61:F72)-MIN(ROW(F61:F72))+1, \"\"), ROW() -60 )), \"\")","v":""},{"$f":"IFERROR(INDEX(E61:E72, SMALL(IF(ISNUMBER(SEARCH(\"JV1\",F61:F72)), ROW(F61:F72)-MIN(ROW(F61:F72))+1, \"\"), ROW() -60 )), \"\")","v":""},{"$f":"IFERROR(INDEX(B61:B72, SMALL(IF(ISNUMBER(SEARCH(\"JV2\",F61:F72)), ROW(F61:F72)-MIN(ROW(F61:F72))+1, \"\"), ROW() -60 )), \"\")","v":""},{"$f":"IFERROR(INDEX(C61:C72, SMALL(IF(ISNUMBER(SEARCH(\"JV2\",F61:F72)), ROW(F61:F72)-MIN(ROW(F61:F72))+1, \"\"), ROW() -60 )), \"\")","v":""},{"$f":"IFERROR(INDEX(D61:D72, SMALL(IF(ISNUMBER(SEARCH(\"JV2\",F61:F72)), ROW(F61:F72)-MIN(ROW(F61:F72))+1, \"\"), ROW() -60 )), \"\")","v":""},{"$f":"IFERROR(INDEX(E61:E72, SMALL(IF(ISNUMBER(SEARCH(\"JV2\",F61:F72)), ROW(F61:F72)-MIN(ROW(F61:F72))+1, \"\"), ROW() -60 )), \"\")","v":""}]
[null,"Clarke University",null,"7914-28980","Harley Redding","V",null,3464.0,null,false,{"$nulls":17},{"$f":"IFERROR(INDEX(B61:B72, SMALL(IF(\"V\"=F61:F72, ROW(F61:F72)-MIN(ROW(F61:F72))+1, \"\"), ROW() -60 )), \"\")","v":"Clarke University"},{"$f":"IFERROR(INDEX(C61:C72, SMALL(IF(\"V\"=F61:F72, ROW(F61:F72)-MIN(ROW(F61:F72))+1, \"\"), ROW() -60 )), \"\")","v":""},{"$f":"IFERROR(INDEX(D61:D72, SMALL(IF(\"V\"=F61:F72, ROW(F61:F72)-MIN(ROW(F61:F72))+1, \"\"), ROW() -60 )), \"\")","v":"11-68634"},{"$f":"IFERROR(INDEX(E61:E72, SMALL(IF(\"V\"=F61:F72, ROW(F61:F72)-MIN(ROW(F61:F72))+1, \"\"), ROW() -60 )), \"\")","v":"Jordan Gorgas"},{"$f":"IFERROR(INDEX(B61:B72, SMALL(IF(ISNUMBER(SEARCH(\"JV1\",F61:F72)), ROW(F61:F72)-MIN(ROW(F61:F72))+1, \"\"), ROW() -60 )), \"\")","v":""},{"$f":"IFERROR(INDEX(C61:C72, SMALL(IF(ISNUMBER(SEARCH(\"JV1\",F61:F72)), ROW(F61:F72)-MIN(ROW(F61:F72))+1, \"\"), ROW() -60 )), \"\")","v":""},{"$f":"IFERROR(INDEX(D61:D72, SMALL(IF(ISNUMBER(SEARCH(\"JV1\",F61:F72)), ROW(F61:F72)-MIN(ROW(F61:F72))+1, \"\"), ROW() -60 )), \"\")","v":""},{"$f":"IFERROR(INDEX(E61:E72, SMALL(IF(ISNUMBER(SEARCH(\"JV1\",F61:F72)), ROW(F61:F72)-MIN(ROW(F61:F72))+1, \"\"), ROW() -60 )), \"\")","v":""},{"$f":"IFERROR(INDEX(B61:B72, SMALL(IF(ISNUMBER(SEARCH(\"JV2\",F61:F72)), ROW(F61:F72)-MIN(ROW(F61:F72))+1, \"\"), ROW() -60 )), \"\")","v":""},{"$f":"IFERROR(INDEX(C61:C72, SMALL(IF(ISNUMBER(SEARCH(\"JV2\",F61:F72)), ROW(F61:F72)-MIN(ROW(F61:F72))+1, \"\"), ROW() -60 )), \"\")","v":""},{"$f":"IFERROR(INDEX(D61:D72, SMALL(IF(ISNUMBER(SEARCH(\"JV2\",F61:F72)), ROW(F61:F72)-MIN(ROW(F61:F72))+1, \"\"), ROW() -60 )), \"\")","v":""},{"$f":"IFERROR(INDEX(E61:E72, SMALL(IF(ISNUMBER(SEARCH(\"JV2\",F61:F72)), ROW(F61:F72)-MIN(ROW(F61:F72))+1, \"\"), ROW() -60 )), \"\")","v":""}]
[null,"Clarke University",null,"11-68634","Jordan Gorgas","V",null,3464.0,null,false,{"$nulls":17},{"$f":"IFERROR(INDEX(B61:B72, SMALL(IF(\"V\"=F61:F72, ROW(F61:F72)-MIN(ROW(F61:F72))+1, \"\"), ROW() -60 )), \"\")","v":"Clarke University"},{"$f":"IFERROR(INDEX(C61:C72, SMALL(IF(\"V\"=F61:F72, ROW(F61:F72)-MIN(ROW(F61:F72))+1, \"\"), ROW() -60 )), \"\")","v":""},{"$f":"IFERROR(INDEX(D61:D72, SMALL(IF(\"V\"=F61:F72, ROW(F61:F72)-MIN(ROW(F61:F72))+1, \"\"), ROW() -60 )), \"\")","v":"18-31111"},{"$f":"IFERROR(INDEX(E61:E72, SMALL(IF(\"V\"=F61:F72, ROW(F61:F72)-MIN(ROW(F61:F72))+1, \"\"), ROW() -60 )), \"\")","v":"Mannix Amos"},{"$f":"IFERROR(INDEX(B61:B72, SMALL(IF(ISNUMBER(SEARCH(\"JV1\",F61:F72)), ROW(F61:F72)-MIN(ROW(F61:F72))+1, \"\"), ROW() -60 )), \"\")","v":""},{"$f":"IFERROR(INDEX(C61:C72, SMALL(IF(ISNUMBER(SEARCH(\"JV1\",F61:F72)), ROW(F61:F72)-MIN(ROW(F61:F72))+1, \"\"), ROW() -60 )), \"\")","v":""},{"$f":"IFERROR(INDEX(D61:D72, SMALL(IF(ISNUMBER(SEARCH(\"JV1\",F61:F72)), ROW(F61:F72)-MIN(ROW(F61:F72))+1, \"\"), ROW() -60 )), \"\")","v":""},{"$f":"IFERROR(INDEX(E61:E72, SMALL(IF(ISNUMBER(SEARCH(\"JV1\",F61:F72)), ROW(F61:F72)-MIN(ROW(F61:F72))+1, \"\"), ROW() -60 )), \"\")","v":""},{"$f":"IFERROR(INDEX(B61:B72, SMALL(IF(ISNUMBER(SEARCH(\"JV2\",F61:F72)), ROW(F61:F72)-MIN(ROW(F61:F72))+1, \"\"), ROW() -60 )), \"\")","v":""},{"$f":"IFERROR(INDEX(C61:C72, SMALL(IF(ISNUMBER(SEARCH(\"JV2\",F61:F72)), ROW(F61:F72)-MIN(ROW(F61:F72))+1, \"\"), ROW() -60 )), \"\")","v":""},{"$f":"IFERROR(INDEX(D61:D72, SMALL(IF(ISNUMBER(SEARCH(\"JV2\",F61:F72)), ROW(F61:F72)-MIN(ROW(F61:F72))+1, \"\"), ROW() -60 )), \"\")","v":""},{"$f":"IFERROR(INDEX(E61:E72, SMALL(IF(ISNUMBER(SEARCH(\"JV2\",F61:F72)), ROW(F61:F72)-MIN(ROW(F61:F72))+1, \"\"), ROW() -60 )), \"\")","v":""}]
[null,"Clarke University",null,"16-131130","Joseph Pagan",null,null,3464.0,null,false,{"$nulls":17},{"$f":"IFERROR(INDEX(B61:B72, SMALL(IF(\"V\"=F61:F72, ROW(F61:F72)-MIN(ROW(F61:F72))+1, \"\"), ROW() -60 )), \"\")","v":"Clarke University"},{"$f":"IFERROR(INDEX(C61:C72, SMALL(IF(\"V\"=F61:F72, ROW(F61:F72)-MIN(ROW(F61:F72))+1, \"\"), ROW() -60 )), \"\")","v":""},{"$f":"IFERROR(INDEX(D61:D72, SMALL(IF(\"V\"=F61:F72, ROW(F61:F72)-MIN(ROW(F61:F72))+1, \"\"), ROW() -60 )), \"\")","v":"11-421706"},{"$f":"IFERROR(INDEX(E61:E72, SMALL(IF(\"V\"=F61:F72, ROW(F61:F72)-MIN(ROW(F61:F72))+1, \"\"), ROW() -60 )), \"\")","v":"Shane Jordan"},{"$f":"IFERROR(INDEX(B61:B72, SMALL(IF(ISNUMBER(SEARCH(\"JV1\",F61:F72)), ROW(F61:F72)-MIN(ROW(F61:F72))+1, \"\"), ROW() -60 )), \"\")","v":""},{"$f":"IFERROR(INDEX(C61:C72, SMALL(IF(ISNUMBER(SEARCH(\"JV1\",F61:F72)), ROW(F61:F72)-MIN(ROW(F61:F72))+1, \"\"), ROW() -60 )), \"\")","v":""},{"$f":"IFERROR(INDEX(D61:D72, SMALL(IF(ISNUMBER(SEARCH(\"JV1\",F61:F72)), ROW(F61:F72)-MIN(ROW(F61:F72))+1, \"\"), ROW() -60 )), \"\")","v":""},{"$f":"IFERROR(INDEX(E61:E72, SMALL(IF(ISNUMBER(SEARCH(\"JV1\",F61:F72)), ROW(F61:F72)-MIN(ROW(F61:F72))+1, \"\"), ROW() -60 )), \"\")","v":""},{"$f":"IFERROR(INDEX(B61:B72, SMALL(IF(ISNUMBER(SEARCH(\"JV2\",F61:F72)), ROW(F61:F72)-MIN(ROW(F61:F72))+1, \"\"), ROW() -60 )), \"\")","v":""},{"$f":"IFERROR(INDEX(C61:C72, SMALL(IF(ISNUMBER(SEARCH(\"JV2\",F61:F72)), ROW(F61:F72)-MIN(ROW(F61:F72))+1, \"\"), ROW() -60 )), \"\")","v":""},{"$f":"IFERROR(INDEX(D61:D72, SMALL(IF(ISNUMBER(SEARCH(\"JV2\",F61:F72)), ROW(F61:F72)-MIN(ROW(F61:F72))+1, \"\"), ROW() -60 )), \"\")","v":""},{"$f":"IFERROR(INDEX(E61:E72, SMALL(IF(ISNUMBER(SEARCH(\"JV2\",F61:F72)), ROW(F61:F72)-MIN(ROW(F61:F72))+1, \"\"), ROW() -60 )), \"\")","v":""}]
[null,"Clarke University",null,"17-72496","Justin Fichter",null,null,3464.0,null,false,{"$nulls":17},{"$f":"IFERROR(INDEX(B61:B72, SMALL(IF(\"V\"=F61:F72, ROW(F61:F72)-MIN(ROW(F61:F72))+1, \"\"), ROW() -60 )), \"\")","v":"Clarke University"},{"$f":"IFERROR(INDEX(C61:C72, SMALL(IF(\"V\"=F61:F72, ROW(F61:F72)-MIN(ROW(F61:F72))+1, \"\"), ROW() -60 )), \"\")","v":""},{"$f":"IFERROR(INDEX(D61:D72, SMALL(IF(\"V\"=F61:F72, ROW(F61:F72)-MIN(ROW(F61:F72))+1, \"\"), ROW() -60 )), \"\")","v":"11-397609"},{"$f":"IFERROR(INDEX(E61:E72, SMALL(IF(\"V\"=F61:F72, ROW(F61:F72)-MIN(ROW(F61:F72))+1, \"\"), ROW() -60 )), \"\")","v":"Tanner Webb"},{"$f":"IFERROR(INDEX(B61:B72, SMALL(IF(ISNUMBER(SEARCH(\"JV1\",F61:F72)), ROW(F61:F72)-MIN(ROW(F61:F72))+1, \"\"), ROW() -60 )), \"\")","v":""},{"$f":"IFERROR(INDEX(C61:C72, SMALL(IF(ISNUMBER(SEARCH(\"JV1\",F61:F72)), ROW(F61:F72)-MIN(ROW(F61:F72))+1, \"\"), ROW() -60 )), \"\")","v":""},{"$f":"IFERROR(INDEX(D61:D72, SMALL(IF(ISNUMBER(SEARCH(\"JV1\",F61:F72)), ROW(F61:F72)-MIN(ROW(F61:F72))+1, \"\"), ROW() -60 )), \"\")","v":""},{"$f":"IFERROR(INDEX(E61:E72, SMALL(IF(ISNUMBER(SEARCH(\"JV1\",F61:F72)), ROW(F61:F72)-MIN(ROW(F61:F72))+1, \"\"), ROW() -60 )), \"\")","v":""},{"$f":"IFERROR(INDEX(B61:B72, SMALL(IF(ISNUMBER(SEARCH(\"JV2\",F61:F72)), ROW(F61:F72)-MIN(ROW(F61:F72))+1, \"\"), ROW() -60 )), \"\")","v":""},{"$f":"IFERROR(INDEX(C61:C72, SMALL(IF(ISNUMBER(SEARCH(\"JV2\",F61:F72)), ROW(F61:F72)-MIN(ROW(F61:F72))+1, \"\"), ROW() -60 )), \"\")","v":""},{"$f":"IFERROR(INDEX(D61:D72, SMALL(IF(ISNUMBER(SEARCH(\"JV2\",F61:F72)), ROW(F61:F72)-MIN(ROW(F61:F72))+1, \"\"), ROW() -60 )), \"\")","v":""},{"$f":"IFERROR(INDEX(E61:E72, SMALL(IF(ISNUMBER(SEARCH(\"JV2\",F61:F72)), ROW(F61:F72)-MIN(ROW(F61:F72))+1, \"\"), ROW() -60 )), \"\")","v":""}]
[null,"Clarke University",null,"18-31111","Mannix Amos","V",null,3464.0,null,false,{"$nulls":17},{"$f":"IFERROR(INDEX(B61:B72, SMALL(IF(\"V\"=F61:F72, ROW(F61:F72)-MIN(ROW(F61:F72))+1, \"\"), ROW() -60 )), \"\")","v":"Clarke University"},{"$f":"IFERROR(INDEX(C61:C72, SMALL(IF(\"V\"=F61:F72, ROW(F61:F72)-MIN(ROW(F61:F72))+1, \"\"), ROW() -60 )), \"\")","v":""},{"$f":"IFERROR(INDEX(D61:D72, SMALL(IF(\"V\"=F61:F72, ROW(F61:F72)-MIN(ROW(F61:F72))+1, \"\"), ROW() -60 )), \"\")","v":"20-11563"},{"$f":"IFERROR(INDEX(E61:E72, SMALL(IF(\"V\"=F61:F72, ROW(F61:F72)-MIN(ROW(F61:F72))+1, \"\"), ROW() -60 )), \"\")","v":"Zachary Reuter"},{"$f":"IFERROR(INDEX(B61:B72, SMALL(IF(ISNUMBER(SEARCH(\"JV1\",F61:F72)), ROW(F61:F72)-MIN(ROW(F61:F72))+1, \"\"), ROW() -60 )), \"\")","v":""},{"$f":"IFERROR(INDEX(C61:C72, SMALL(IF(ISNUMBER(SEARCH(\"JV1\",F61:F72)), ROW(F61:F72)-MIN(ROW(F61:F72))+1, \"\"), ROW() -60 )), \"\")","v":""},{"$f":"IFERROR(INDEX(D61:D72, SMALL(IF(ISNUMBER(SEARCH(\"JV1\",F61:F72)), ROW(F61:F72)-MIN(ROW(F61:F72))+1, \"\"), ROW() -60 )), \"\")","v":""},{"$f":"IFERROR(INDEX(E61:E72, SMALL(IF(ISNUMBER(SEARCH(\"JV1\",F61:F72)), ROW(F61:F72)-MIN(ROW(F61:F72))+1, \"\"), ROW() -60 )), \"\")","v":""},{"$f":"IFERROR(INDEX(B61:B72, SMALL(IF(ISNUMBER(SEARCH(\"JV2\",F61:F72)), ROW(F61:F72)-MIN(ROW(F61:F72))+1, \"\"), ROW() -60 )), \"\")","v":""},{"$f":"IFERROR(INDEX(C61:C72, SMALL(IF(ISNUMBER(SEARCH(\"JV2\",F61:F72)), ROW(F61:F72)-MIN(ROW(F61:F72))+1, \"\"), ROW() -60 )), \"\")","v":""},{"$f":"IFERROR(INDEX(D61:D72, SMALL(IF(ISNUMBER(SEARCH(\"JV2\",F61:F72)), ROW(F61:F72)-MIN(ROW(F61:F72))+1, \"\"), ROW() -60 )), \"\")","v":""},{"$f":"IFERROR(INDEX(E61:E72, SMALL(IF(ISNUMBER(SEARCH(\"JV2\",F61:F72)), ROW(F61:F72)-MIN(ROW(F61:F72))+1, \"\"), ROW() -60 )), \"\")","v":""}]
[null,"Clarke University",null,"11-76164","Sammy Schatteman",null,null,3464.0,null,false]
[null,"Clarke University",null,"11-421706","Shane Jordan","V",null,3464.0,null,false]
[null,"Clarke University",null,"11-397609","Tanner Webb","V",null,3464.0,null,false]
[null,"Clarke University",null,"20-11563","Zachary Reuter","V",null,3464.0,null,false]
[null,"Culver-Stockton College",null,"20-14741","Cole Gillenwater","V",null,4352.0,null,false,{"$nulls":17},{"$f":"IFERROR(INDEX(B73:B81, SMALL(IF(\"V\"=F73:F81, ROW(F73:F81)-MIN(ROW(F73:F81))+1, \"\"), ROW() -72 )), \"\")","v":"Culver-Stockton College"},{"$f":"IFERROR(INDEX(C73:C81, SMALL(IF(\"V\"=F73:F81, ROW(F73:F81)-MIN(ROW(F73:F81))+1, \"\"), ROW() -72 )), \"\")","v":""},{"$f":"IFERROR(INDEX(D73:D81, SMALL(IF(\"V\"=F73:F81, ROW(F73:F81)-MIN(ROW(F73:F81))+1, \"\"), ROW() -72 )), \"\")","v":"20-14741"},{"$f":"IFERROR(INDEX(E73:E81, SMALL(IF(\"V\"=F73:F81, ROW(F73:F81)-MIN(ROW(F73:F81))+1, \"\"), ROW() -72 )), \"\")","v":"Cole Gillenwater"},{"$f":"IFERROR(INDEX(B73:B81, SMALL(IF(ISNUMBER(SEARCH(\"JV1\",F73:F81)), ROW(F73:F81)-MIN(ROW(F73:F81))+1, \"\"), ROW() -72 )), \"\")","v":""},{"$f":"IFERROR(INDEX(C73:C81, SMALL(IF(ISNUMBER(SEARCH(\"JV1\",F73:F81)), ROW(F73:F81)-MIN(ROW(F73:F81))+1, \"\"), ROW() -72 )), \"\")","v":""},{"$f":"IFERROR(INDEX(D73:D81, SMALL(IF(ISNUMBER(SEARCH(\"JV1\",F73:F81)), ROW(F73:F81)-MIN(ROW(F73:F81))+1, \"\"), ROW() -72 )), \"\")","v":""},{"$f":"IFERROR(INDEX(E73:E81, SMALL(IF(ISNUMBER(SEARCH(\"JV1\",F73:F81)), ROW(F73:F81)-MIN(ROW(F73:F81))+1, \"\"), ROW() -72 )), \"\")","v":""},{"$f":"IFERROR(INDEX(B73:B81, SMALL(IF(ISNUMBER(SEARCH(\"JV2\",F73:F81)), ROW(F73:F81)-MIN(ROW(F73:F81))+1, \"\"), ROW() -72 )), \"\")","v":""},{"$f":"IFERROR(INDEX(C73:C81, SMALL(IF(ISNUMBER(SEARCH(\"JV2\",F73:F81)), ROW(F73:F81)-MIN(ROW(F73:F81))+1, \"\"), ROW() -72 )), \"\")","v":""},{"$f":"IFERROR(INDEX(D73:D81, SMALL(IF(ISNUMBER(SEARCH(\"JV2\",F73:F81)), ROW(F73:F81)-MIN(ROW(F73:F81))+1, \"\"), ROW() -72 )), \"\")","v":""},{"$f":"IFERROR(INDEX(E73:E81, SMALL(IF(ISNUMBER(SEARCH(\"JV2\",F73:F81)), ROW(F73:F81)-MIN(ROW(F73:F81))+1, \"\"), ROW() -72 )), \"\")","v":""}]
[null,"Culver-Stockton College",null,"19-3783","Gavin Moeller","V",null,4352.0,null,false,{"$nulls":17},{"$f":"IFERROR(INDEX(B73:B81, SMALL(IF(\"V\"=F73:F81, ROW(F73:F81)-MIN(ROW(F73:F81))+1, \"\"), ROW() -72 )), \"\")","v":"Culver-Stockton College"},{"$f":"IFERROR(INDEX(C73:C81, SMALL(IF(\"V\"=F73:F81, ROW(F73:F81)-MIN(ROW(F73:F81))+1, \"\"), ROW() -72 )), \"\")","v":""},{"$f":"IFERROR(INDEX(D73:D81, SMALL(IF(\"V\"=F73:F81, ROW(F73:F81)-MIN(ROW(F73:F81))+1, \"\"), ROW() -72 )), \"\")","v":"19-3783"},{"$f":"IFERROR(INDEX(E73:E81, SMALL(IF(\"V\"=F73:F81, ROW(F73:F81)-MIN(ROW(F73:F81))+1, \"\"), ROW() -72 )), \"\")","v":"Gavin Moeller"},{"$f":"IFERROR(INDEX(B73:B81, SMALL(IF(ISNUMBER(SEARCH(\"JV1\",F73:F81)), ROW(F73:F81)-MIN(ROW(F73:F81))+1, \"\"), ROW() -72 )), \"\")","v":""},{"$f":"IFERROR(INDEX(C73:C81, SMALL(IF(ISNUMBER(SEARCH(\"JV1\",F73:F81)), ROW(F73:F81)-MIN(ROW(F73:F81))+1, \"\"), ROW() -72 )), \"\")","v":""},{"$f":"IFERROR(INDEX(D73:D81, SMALL(IF(ISNUMBER(SEARCH(\"JV1\",F73:F81)), ROW(F73:F81)-MIN(ROW(F73:F81))+1, \"\"), ROW() -72 )), \"\")","v":""},{"$f":"IFERROR(INDEX(E73:E81, SMALL(IF(ISNUMBER(SEARCH(\"JV1\",F73:F81)), ROW(F73:F81)-MIN(ROW(F73:F81))+1, \"\"), ROW() -72 )), \"\")","v":""},{"$f":"IFERROR(INDEX(B73:B81, SMALL(IF(ISNUMBER(SEARCH(\"JV2\",F73:F81)), ROW(F73:F81)-MIN(ROW(F73:F81))+1, \"\"), ROW() -72 )), \"\")","v":""},{"$f":"IFERROR(INDEX(C73:C81, SMALL(IF(ISNUMBER(SEARCH(\"JV2\",F73:F81)), ROW(F73:F81)-MIN(ROW(F73:F81))+1, \"\"), ROW() -72 )), \"\")","v":""},{"$f":"IFERROR(INDEX(D73:D81, SMALL(IF(ISNUMBER(SEARCH(\"JV2\",F73:F81)), ROW(F73:F81)-MIN(ROW(F73:F81))+1, \"\"), ROW() -72 )), \"\")","v":""},{"$f":"IFERROR(INDEX(E73:E81, SMALL(IF(ISNUMBER(SEARCH(\"JV2\",F73:F81)), ROW(F73:F81)-MIN(ROW(F73:F81))+1, \"\"), ROW() -72 )), \"\")","v":""}]
[null,"Culver-Stockton College",null,"11-32574","Jake Evitts","V",null,4352.0,null,false,{"$nulls":17},{"$f":"IFERROR(INDEX(B73:B81, SMALL(IF(\"V\"=F73:F81, ROW(F73:F81)-MIN(ROW(F73:F81))+1, \"\"), ROW() -72 )), \"\")","v":"Culver-Stockton College"},{"$f":"IFERROR(INDEX(C73:C81, SMALL(IF(\"V\"=F73:F81, ROW(F73:F81)-MIN(ROW(F73:F81))+1, \"\"), ROW() -72 )), \"\")","v":""},{"$f":"IFERROR(INDEX(D73:D81, SMALL(IF(\"V\"=F73:F81, ROW(F73:F81)-MIN(ROW(F73:F81))+1, \"\"), ROW() -72 )), \"\")","v":"11-32574"},{"$f":"IFERROR(INDEX(E73:E81, SMALL(IF(\"V\"=F73:F81, ROW(F73:F81)-MIN(ROW(F73:F81))+1, \"\"), ROW() -72 )), \"\")","v":"Jake Evitts"},{"$f":"IFERROR(INDEX(B73:B81, SMALL(IF(ISNUMBER(SEARCH(\"JV1\",F73:F81)), ROW(F73:F81)-MIN(ROW(F73:F81))+1, \"\"), ROW() -72 )), \"\")","v":""},{"$f":"IFERROR(INDEX(C73:C81, SMALL(IF(ISNUMBER(SEARCH(\"JV1\",F73:F81)), ROW(F73:F81)-MIN(ROW(F73:F81))+1, \"\"), ROW() -72 )), \"\")","v":""},{"$f":"IFERROR(INDEX(D73:D81, SMALL(IF(ISNUMBER(SEARCH(\"JV1\",F73:F81)), ROW(F73:F81)-MIN(ROW(F73:F81))+1, \"\"), ROW() -72 )), \"\")","v":""},{"$f":"IFERROR(INDEX(E73:E81, SMALL(IF(ISNUMBER(SEARCH(\"JV1\",F73:F81)), ROW(F73:F81)-MIN(ROW(F73:F81))+1, \"\"), ROW() -72 )), \"\")","v":""},{"$f":"IFERROR(INDEX(B73:B81, SMALL(IF(ISNUMBER(SEARCH(\"JV2\",F73:F81)), ROW(F73:F81)-MIN(ROW(F73:F81))+1, \"\"), ROW() -72 )), \"\")","v":""},{"$f":"IFERROR(INDEX(C73:C81, SMALL(IF(ISNUMBER(SEARCH(\"JV2\",F73:F81)), ROW(F73:F81)-MIN(ROW(F73:F81))+1, \"\"), ROW() -72 )), \"\")","v":""},{"$f":"IFERROR(INDEX(D73:D81, SMALL(IF(ISNUMBER(SEARCH(\"JV2\",F73:F81)), ROW(F73:F81)-MIN(ROW(F73:F81))+1, \"\"), ROW() -72 )), \"\")","v":""},{"$f":"IFERROR(INDEX(E73:E81, SMALL(IF(ISNUMBER(SEARCH(\"JV2\",F73:F81)), ROW(F73:F81)-MIN(ROW(F73:F81))+1, \"\"), ROW() -72 )), \"\")","v":""}]
[null,"Culver-Stockton College",null,"11-499974","Keaten Bieri","V",null,4352.0,null,false,{"$nulls":17},{"$f":"IFERROR(INDEX(B73:B81, SMALL(IF(\"V\"=F73:F81, ROW(F73:F81)-MIN(ROW(F73:F81))+1, \"\"), ROW() -72 )), \"\")","v":"Culver-Stockton College"},{"$f":"IFERROR(INDEX(C73:C81, SMALL(IF(\"V\"=F73:F81, ROW(F73:F81)-MIN(ROW(F73:F81))+1, \"\"), ROW() -72 )), \"\")","v":""},{"$f":"IFERROR(INDEX(D73:D81, SMALL(IF(\"V\"=F73:F81, ROW(F73:F81)-MIN(ROW(F73:F81))+1, \"\"), ROW() -72 )), \"\")","v":"11-499974"},{"$f":"IFERROR(INDEX(E73:E81, SMALL(IF(\"V\"=F73:F81, ROW(F73:F81)-MIN(ROW(F73:F81))+1, \"\"), ROW() -72 )), \"\")","v":"Keaten Bieri"},{"$f":"IFERROR(INDEX(B73:B81, SMALL(IF(ISNUMBER(SEARCH(\"JV1\",F73:F81)), ROW(F73:F81)-MIN(ROW(F73:F81))+1, \"\"), ROW() -72 )), \"\")","v":""},{"$f":"IFERROR(INDEX(C73:C81, SMALL(IF(ISNUMBER(SEARCH(\"JV1\",F73:F81)), ROW(F73:F81)-MIN(ROW(F73:F81))+1, \"\"), ROW() -72 )), \"\")","v":""},{"$f":"IFERROR(INDEX(D73:D81, SMALL(IF(ISNUMBER(SEARCH(\"JV1\",F73:F81)), ROW(F73:F81)-MIN(ROW(F73:F81))+1, \"\"), ROW() -72 )), \"\")","v":""},{"$f":"IFERROR(INDEX(E73:E81, SMALL(IF(ISNUMBER(SEARCH(\"JV1\",F73:F81)), ROW(F73:F81)-MIN(ROW(F73:F81))+1, \"\"), ROW() -72 )), \"\")","v":""},{"$f":"IFERROR(INDEX(B73:B81, SMALL(IF(ISNUMBER(SEARCH(\"JV2\",F73:F81)), ROW(F73:F81)-MIN(ROW(F73:F81))+1, \"\"), ROW() -72 )), \"\")","v":""},{"$f":"IFERROR(INDEX(C73:C81, SMALL(IF(ISNUMBER(SEARCH(\"JV2\",F73:F81)), ROW(F73:F81)-MIN(ROW(F73:F81))+1, \"\"), ROW() -72 )), \"\")","v":""},{"$f":"IFERROR(INDEX(D73:D81, SMALL(IF(ISNUMBER(SEARCH(\"JV2\",F73:F81)), ROW(F73:F81)-MIN(ROW(F73:F81))+1, \"\"), ROW() -72 )), \"\")","v":""},{"$f":"IFERROR(INDEX(E73:E81, SMALL(IF(ISNUMBER(SEARCH(\"JV2\",F73:F81)), ROW(F73:F81)-MIN(ROW(F73:F81))+1, \"\"), ROW() -72 )), \"\")","v":""}]
[null,"Culver-Stockton College",null,"8497-738","Kiante DePree",null,null,4352.0,null,false,{"$nulls":17},{"$f":"IFERROR(INDEX(B73:B81, SMALL(IF(\"V\"=F73:F81, ROW(F73:F81)-MIN(ROW(F73:F81))+1, \"\"), ROW() -72 )), \"\")","v":"Culver-Stockton College"},{"$f":"IFERROR(INDEX(C73:C81, SMALL(IF(\"V\"=F73:F81, ROW(F73:F81)-MIN(ROW(F73:F81))+1, \"\"), ROW() -72 )), \"\")","v":""},{"$f":"IFERROR(INDEX(D73:D81, SMALL(IF(\"V\"=F73:F81, ROW(F73:F81)-MIN(ROW(F73:F81))+1, \"\"), ROW() -72 )), \"\")","v":"7914-19067"},{"$f":"IFERROR(INDEX(E73:E81, SMALL(IF(\"V\"=F73:F81, ROW(F73:F81)-MIN(ROW(F73:F81))+1, \"\"), ROW() -72 )), \"\")","v":"Levi Staley"},{"$f":"IFERROR(INDEX(B73:B81, SMALL(IF(ISNUMBER(SEARCH(\"JV1\",F73:F81)), ROW(F73:F81)-MIN(ROW(F73:F81))+1, \"\"), ROW() -72 )), \"\")","v":""},{"$f":"IFERROR(INDEX(C73:C81, SMALL(IF(ISNUMBER(SEARCH(\"JV1\",F73:F81)), ROW(F73:F81)-MIN(ROW(F73:F81))+1, \"\"), ROW() -72 )), \"\")","v":""},{"$f":"IFERROR(INDEX(D73:D81, SMALL(IF(ISNUMBER(SEARCH(\"JV1\",F73:F81)), ROW(F73:F81)-MIN(ROW(F73:F81))+1, \"\"), ROW() -72 )), \"\")","v":""},{"$f":"IFERROR(INDEX(E73:E81, SMALL(IF(ISNUMBER(SEARCH(\"JV1\",F73:F81)), ROW(F73:F81)-MIN(ROW(F73:F81))+1, \"\"), ROW() -72 )), \"\")","v":""},{"$f":"IFERROR(INDEX(B73:B81, SMALL(IF(ISNUMBER(SEARCH(\"JV2\",F73:F81)), ROW(F73:F81)-MIN(ROW(F73:F81))+1, \"\"), ROW() -72 )), \"\")","v":""},{"$f":"IFERROR(INDEX(C73:C81, SMALL(IF(ISNUMBER(SEARCH(\"JV2\",F73:F81)), ROW(F73:F81)-MIN(ROW(F73:F81))+1, \"\"), ROW() -72 )), \"\")","v":""},{"$f":"IFERROR(INDEX(D73:D81, SMALL(IF(ISNUMBER(SEARCH(\"JV2\",F73:F81)), ROW(F73:F81)-MIN(ROW(F73:F81))+1, \"\"), ROW() -72 )), \"\")","v":""},{"$f":"IFERROR(INDEX(E73:E81, SMALL(IF(ISNUMBER(SEARCH(\"JV2\",F73:F81)), ROW(F73:F81)-MIN(ROW(F73:F81))+1, \"\"), ROW() -72 )), \"\")","v":""}]
[null,"Culver-Stockton College",null,"7914-19067","Levi Staley","V",null,4352.0,null,false,{"$nulls":17},{"$f":"IFERROR(INDEX(B73:B81, SMALL(IF(\"V\"=F73:F81, ROW(F73:F81)-MIN(ROW(F73:F81))+1, \"\"), ROW() -72 )), \"\")","v":"Culver-Stockton College"},{"$f":"IFERROR(INDEX(C73:C81, SMALL(IF(\"V\"=F73:F81, ROW(F73:F81)-MIN(ROW(F73:F81))+1, \"\"), ROW() -72 )), \"\")","v":""},{"$f":"IFERROR(INDEX(D73:D81, SMALL(IF(\"V\"=F73:F81, ROW(F73:F81)-MIN(ROW(F73:F81))+1, \"\"), ROW() -72 )), \"\")","v":"11-503053"},{"$f":"IFERROR(INDEX(E73:E81, SMALL(IF(\"V\"=F73:F81, ROW(F73:F81)-MIN(ROW(F73:F81))+1, \"\"), ROW() -72 )), \"\")","v":"Mason Will"},{"$f":"IFERROR(INDEX(B73:B81, SMALL(IF(ISNUMBER(SEARCH(\"JV1\",F73:F81)), ROW(F73:F81)-MIN(ROW(F73:F81))+1, \"\"), ROW() -72 )), \"\")","v":""},{"$f":"IFERROR(INDEX(C73:C81, SMALL(IF(ISNUMBER(SEARCH(\"JV1\",F73:F81)), ROW(F73:F81)-MIN(ROW(F73:F81))+1, \"\"), ROW() -72 )), \"\")","v":""},{"$f":"IFERROR(INDEX(D73:D81, SMALL(IF(ISNUMBER(SEARCH(\"JV1\",F73:F81)), ROW(F73:F81)-MIN(ROW(F73:F81))+1, \"\"), ROW() -72 )), \"\")","v":""},{"$f":"IFERROR(INDEX(E73:E81, SMALL(IF(ISNUMBER(SEARCH(\"JV1\",F73:F81)), ROW(F73:F81)-MIN(ROW(F73:F81))+1, \"\"), ROW() -72 )), \"\")","v":""},{"$f":"IFERROR(INDEX(B73:B81, SMALL(IF(ISNUMBER(SEARCH(\"JV2\",F73:F81)), ROW(F73:F81)-MIN(ROW(F73:F81))+1, \"\"), ROW() -72 )), \"\")","v":""},{"$f":"IFERROR(INDEX(C73:C81, SMALL(IF(ISNUMBER(SEARCH(\"JV2\",F73:F81)), ROW(F73:F81)-MIN(ROW(F73:F81))+1, \"\"), ROW() -72 )), \"\")","v":""},{"$f":"IFERROR(INDEX(D73:D81, SMALL(IF(ISNUMBER(SEARCH(\"JV2\",F73:F81)), ROW(F73:F81)-MIN(ROW(F73:F81))+1, \"\"), ROW() -72 )), \"\")","v":""},{"$f":"IFERROR(INDEX(E73:E81, SMALL(IF(ISNUMBER(SEARCH(\"JV2\",F73:F81)), ROW(F73:F81)-MIN(ROW(F73:F81))+1, \"\"), ROW() -72 )), \"\")","v":""}]
[null,"Culver-Stockton College",null,"11-503053","Mason Will","V",null,4352.0,null,false,{"$nulls":17},{"$f":"IFERROR(INDEX(B73:B81, SMALL(IF(\"V\"=F73:F81, ROW(F73:F81)-MIN(ROW(F73:F81))+1, \"\"), ROW() -72 )), \"\")","v":"Culver-Stockton College"},{"$f":"IFERROR(INDEX(C73:C81, SMALL(IF(\"V\"=F73:F81, ROW(F73:F81)-MIN(ROW(F73:F81))+1, \"\"), ROW() -72 )), \"\")","v":""},{"$f":"IFERROR(INDEX(D73:D81, SMALL(IF(\"V\"=F73:F81, ROW(F73:F81)-MIN(ROW(F73:F81))+1, \"\"), ROW() -72 )), \"\")","v":"17-52681"},{"$f":"IFERROR(INDEX(E73:E81, SMALL(IF(\"V\"=F73:F81, ROW(F73:F81)-MIN(ROW(F73:F81))+1, \"\"), ROW() -72 )), \"\")","v":"River Vanveghel"},{"$f":"IFERROR(INDEX(B73:B81, SMALL(IF(ISNUMBER(SEARCH(\"JV1\",F73:F81)), ROW(F73:F81)-MIN(ROW(F73:F81))+1, \"\"), ROW() -72 )), \"\")","v":""},{"$f":"IFERROR(INDEX(C73:C81, SMALL(IF(ISNUMBER(SEARCH(\"JV1\",F73:F81)), ROW(F73:F81)-MIN(ROW(F73:F81))+1, \"\"), ROW() -72 )), \"\")","v":""},{"$f":"IFERROR(INDEX(D73:D81, SMALL(IF(ISNUMBER(SEARCH(\"JV1\",F73:F81)), ROW(F73:F81)-MIN(ROW(F73:F81))+1, \"\"), ROW() -72 )), \"\")","v":""},{"$f":"IFERROR(INDEX(E73:E81, SMALL(IF(ISNUMBER(SEARCH(\"JV1\",F73:F81)), ROW(F73:F81)-MIN(ROW(F73:F81))+1, \"\"), ROW() -72 )), \"\")","v":""},{"$f":"IFERROR(INDEX(B73:B81, SMALL(IF(ISNUMBER(SEARCH(\"JV2\",F73:F81)), ROW(F73:F81)-MIN(ROW(F73:F81))+1, \"\"), ROW() -72 )), \"\")","v":""},{"$f":"IFERROR(INDEX(C73:C81, SMALL(IF(ISNUMBER(SEARCH(\"JV2\",F73:F81)), ROW(F73:F81)-MIN(ROW(F73:F81))+1, \"\"), ROW() -72 )), \"\")","v":""},{"$f":"IFERROR(INDEX(D73:D81, SMALL(IF(ISNUMBER(SEARCH(\"JV2\",F73:F81)), ROW(F73:F81)-MIN(ROW(F73:F81))+1, \"\"), ROW() -72 )), \"\")","v":""},{"$f":"IFERROR(INDEX(E73:E81, SMALL(IF(ISNUMBER(SEARCH(\"JV2\",F73:F81)), ROW(F73:F81)-MIN(ROW(F73:F81))+1, \"\"), ROW() -72 )), \"\")","v":""}]
[null,"Culver-Stockton College",null,"17-52681","River Vanveghel","V",null,4352.0,null,false,{"$nulls":17},{"$f":"IFERROR(INDEX(B73:B81, SMALL(IF(\"V\"=F73:F81, ROW(F73:F81)-MIN(ROW(F73:F81))+1, \"\"), ROW() -72 )), \"\")","v":""},{"$f":"IFERROR(INDEX(C73:C81, SMALL(IF(\"V\"=F73:F81, ROW(F73:F81)-MIN(ROW(F73:F81))+1, \"\"), ROW() -72 )), \"\")","v":""},{"$f":"IFERROR(INDEX(D73:D81, SMALL(IF(\"V\"=F73:F81, ROW(F73:F81)-MIN(ROW(F73:F81))+1, \"\"), ROW() -72 )), \"\")","v":""},{"$f":"IFERROR(INDEX(E73:E81, SMALL(IF(\"V\"=F73:F81, ROW(F73:F81)-MIN(ROW(F73:F81))+1, \"\"), ROW() -72 )), \"\")","v":""},{"$f":"IFERROR(INDEX(B73:B81, SMALL(IF(ISNUMBER(SEARCH(\"JV1\",F73:F81)), ROW(F73:F81)-MIN(ROW(F73:F81))+1, \"\"), ROW() -72 )), \"\")","v":""},{"$f":"IFERROR(INDEX(C73:C81, SMALL(IF(ISNUMBER(SEARCH(\"JV1\",F73:F81)), ROW(F73:F81)-MIN(ROW(F73:F81))+1, \"\"), ROW() -72 )), \"\")","v":""},{"$f":"IFERROR(INDEX(D73:D81, SMALL(IF(ISNUMBER(SEARCH(\"JV1\",F73:F81)), ROW(F73:F81)-MIN(ROW(F73:F81))+1, \"\"), ROW() -72 )), \"\")","v":""},{"$f":"IFERROR(INDEX(E73:E81, SMALL(IF(ISNUMBER(SEARCH(\"JV1\",F73:F81)), ROW(F73:F81)-MIN(ROW(F73:F81))+1, \"\"), ROW() -72 )), \"\")","v":""},{"$f":"IFERROR(INDEX(B73:B81, SMALL(IF(ISNUMBER(SEARCH(\"JV2\",F73:F81)), ROW(F73:F81)-MIN(ROW(F73:F81))+1, \"\"), ROW() -72 )), \"\")","v":""},{"$f":"IFERROR(INDEX(C73:C81, SMALL(IF(ISNUMBER(SEARCH(\"JV2\",F73:F81)), ROW(F73:F81)-MIN(ROW(F73:F81))+1, \"\"), ROW() -72 )), \"\")","v":""},{"$f":"IFERROR(INDEX(D73:D81, SMALL(IF(ISNUMBER(SEARCH(\"JV2\",F73:F81)), ROW(F73:F81)-MIN(ROW(F73:F81))+1, \"\"), ROW() -72 )), \"\")","v":""},{"$f":"IFERROR(INDEX(E73:E81, SMALL(IF(ISNUMBER(SEARCH(\"JV2\",F73:F81)), ROW(F73:F81)-MIN(ROW(F73:F81))+1, \"\"), ROW() -72 )), \"\")","v":""}]
[null,"Culver-Stockton College",null,"18-73390","Simon Larsen",null,null,4352.0,null,false]
[null,"Grand View University",null,"17-40277","Alex Knoshaug","V",null,3743.0,null,false,{"$nulls":17},{"$f":"IFERROR(INDEX(B82:B99, SMALL(IF(\"V\"=F82:F99, ROW(F82:F99)-MIN(ROW(F82:F99))+1, \"\"), ROW() -81 )), \"\")","v":"Grand View University"},{"$f":"IFERROR(INDEX(C82:C99, SMALL(IF(\"V\"=F82:F99, ROW(F82:F99)-MIN(ROW(F82:F99))+1, \"\"), ROW() -81 )), \"\")","v":""},{"$f":"IFERROR(INDEX(D82:D99, SMALL(IF(\"V\"=F82:F99, ROW(F82:F99)-MIN(ROW(F82:F99))+1, \"\"), ROW() -81 )), \"\")","v":"17-40277"},{"$f":"IFERROR(INDEX(E82:E99, SMALL(IF(\"V\"=F82:F99, ROW(F82:F99)-MIN(ROW(F82:F99))+1, \"\"), ROW() -81 )), \"\")","v":"Alex Knoshaug"},{"$f":"IFERROR(INDEX(B82:B99, SMALL(IF(ISNUMBER(SEARCH(\"JV1\",F82:F99)), ROW(F82:F99)-MIN(ROW(F82:F99))+1, \"\"), ROW() -81 )), \"\")","v":"Grand View University"},{"$f":"IFERROR(INDEX(C82:C99, SMALL(IF(ISNUMBER(SEARCH(\"JV1\",F82:F99)), ROW(F82:F99)-MIN(ROW(F82:F99))+1, \"\"), ROW() -81 )), \"\")","v":""},{"$f":"IFERROR(INDEX(D82:D99, SMALL(IF(ISNUMBER(SEARCH(\"JV1\",F82:F99)), ROW(F82:F99)-MIN(ROW(F82:F99))+1, \"\"), ROW() -81 )), \"\")","v":"15-194051"},{"$f":"IFERROR(INDEX(E82:E99, SMALL(IF(ISNUMBER(SEARCH(\"JV1\",F82:F99)), ROW(F82:F99)-MIN(ROW(F82:F99))+1, \"\"), ROW() -81 )), \"\")","v":"Camrey Cavan"},{"$f":"IFERROR(INDEX(B82:B99, SMALL(IF(ISNUMBER(SEARCH(\"JV2\",F82:F99)), ROW(F82:F99)-MIN(ROW(F82:F99))+1, \"\"), ROW() -81 )), \"\")","v":""},{"$f":"IFERROR(INDEX(C82:C99, SMALL(IF(ISNUMBER(SEARCH(\"JV2\",F82:F99)), ROW(F82:F99)-MIN(ROW(F82:F99))+1, \"\"), ROW() -81 )), \"\")","v":""},{"$f":"IFERROR(INDEX(D82:D99, SMALL(IF(ISNUMBER(SEARCH(\"JV2\",F82:F99)), ROW(F82:F99)-MIN(ROW(F82:F99))+1, \"\"), ROW() -81 )), \"\")","v":""},{"$f":"IFERROR(INDEX(E82:E99, SMALL(IF(ISNUMBER(SEARCH(\"JV2\",F82:F99)), ROW(F82:F99)-MIN(ROW(F82:F99))+1, \"\"), ROW() -81 )), \"\")","v":""}]
[null,"Grand View University",null,"11-389770","Andru Wilder","V",null,3743.0,null,false,{"$nulls":17},{"$f":"IFERROR(INDEX(B82:B99, SMALL(IF(\"V\"=F82:F99, ROW(F82:F99)-MIN(ROW(F82:F99))+1, \"\"), ROW() -81 )), \"\")","v":"Grand View University"},{"$f":"IFERROR(INDEX(C82:C99, SMALL(IF(\"V\"=F82:F99, ROW(F82:F99)-MIN(ROW(F82:F99))+1, \"\"), ROW() -81 )), \"\")","v":""},{"$f":"IFERROR(INDEX(D82:D99, SMALL(IF(\"V\"=F82:F99, ROW(F82:F99)-MIN(ROW(F82:F99))+1, \"\"), ROW() -81 )), \"\")","v":"11-389770"},{"$f":"IFERROR(INDEX(E82:E99, SMALL(IF(\"V\"=F82:F99, ROW(F82:F99)-MIN(ROW(F82:F99))+1, \"\"), ROW() -81 )), \"\")","v":"Andru Wilder"},{"$f":"IFERROR(INDEX(B82:B99, SMALL(IF(ISNUMBER(SEARCH(\"JV1\",F82:F99)), ROW(F82:F99)-MIN(ROW(F82:F99))+1, \"\"), ROW() -81 )), \"\")","v":"Grand View University"},{"$f":"IFERROR(INDEX(C82:C99, SMALL(IF(ISNUMBER(SEARCH(\"JV1\",F82:F99)), ROW(F82:F99)-MIN(ROW(F82:F99))+1, \"\"), ROW() -81 )), \"\")","v":""},{"$f":"IFERROR(INDEX(D82:D99, SMALL(IF(ISNUMBER(SEARCH(\"JV1\",F82:F99)), ROW(F82:F99)-MIN(ROW(F82:F99))+1, \"\"), ROW() -81 )), \"\")","v":"11-260073"},{"$f":"IFERROR(INDEX(E82:E99, SMALL(IF(ISNUMBER(SEARCH(\"JV1\",F82:F99)), ROW(F82:F99)-MIN(ROW(F82:F99))+1, \"\"), ROW() -81 )), \"\")","v":"Dominick Judge"},{"$f":"IFERROR(INDEX(B82:B99, SMALL(IF(ISNUMBER(SEARCH(\"JV2\",F82:F99)), ROW(F82:F99)-MIN(ROW(F82:F99))+1, \"\"), ROW() -81 )), \"\")","v":""},{"$f":"IFERROR(INDEX(C82:C99, SMALL(IF(ISNUMBER(SEARCH(\"JV2\",F82:F99)), ROW(F82:F99)-MIN(ROW(F82:F99))+1, \"\"), ROW() -81 )), \"\")","v":""},{"$f":"IFERROR(INDEX(D82:D99, SMALL(IF(ISNUMBER(SEARCH(\"JV2\",F82:F99)), ROW(F82:F99)-MIN(ROW(F82:F99))+1, \"\"), ROW() -81 )), \"\")","v":""},{"$f":"IFERROR(INDEX(E82:E99, SMALL(IF(ISNUMBER(SEARCH(\"JV2\",F82:F99)), ROW(F82:F99)-MIN(ROW(F82:F99))+1, \"\"), ROW() -81 )), \"\")","v":""}]
[null,"Grand View University",null,"18-27046","Bennett Olsen",null,null,3743.0,null,false,{"$nulls":17},{"$f":"IFERROR(INDEX(B82:B99, SMALL(IF(\"V\"=F82:F99, ROW(F82:F99)-MIN(ROW(F82:F99))+1, \"\"), ROW() -81 )), \"\")","v":"Grand View University"},{"$f":"IFERROR(INDEX(C82:C99, SMALL(IF(\"V\"=F82:F99, ROW(F82:F99)-MIN(ROW(F82:F99))+1, \"\"), ROW() -81 )), \"\")","v":""},{"$f":"IFERROR(INDEX(D82:D99, SMALL(IF(\"V\"=F82:F99, ROW(F82:F99)-MIN(ROW(F82:F99))+1, \"\"), ROW() -81 )), \"\")","v":"11-569567"},{"$f":"IFERROR(INDEX(E82:E99, SMALL(IF(\"V\"=F82:F99, ROW(F82:F99)-MIN(ROW(F82:F99))+1, \"\"), ROW() -81 )), \"\")","v":"Brandon Nakaoka"},{"$f":"IFERROR(INDEX(B82:B99, SMALL(IF(ISNUMBER(SEARCH(\"JV1\",F82:F99)), ROW(F82:F99)-MIN(ROW(F82:F99))+1, \"\"), ROW() -81 )), \"\")","v":"Grand View University"},{"$f":"IFERROR(INDEX(C82:C99, SMALL(IF(ISNUMBER(SEARCH(\"JV1\",F82:F99)), ROW(F82:F99)-MIN(ROW(F82:F99))+1, \"\"), ROW() -81 )), \"\")","v":""},{"$f":"IFERROR(INDEX(D82:D99, SMALL(IF(ISNUMBER(SEARCH(\"JV1\",F82:F99)), ROW(F82:F99)-MIN(ROW(F82:F99))+1, \"\"), ROW() -81 )), \"\")","v":"21-88052"},{"$f":"IFERROR(INDEX(E82:E99, SMALL(IF(ISNUMBER(SEARCH(\"JV1\",F82:F99)), ROW(F82:F99)-MIN(ROW(F82:F99))+1, \"\"), ROW() -81 )), \"\")","v":"Ethan Simpson"},{"$f":"IFERROR(INDEX(B82:B99, SMALL(IF(ISNUMBER(SEARCH(\"JV2\",F82:F99)), ROW(F82:F99)-MIN(ROW(F82:F99))+1, \"\"), ROW() -81 )), \"\")","v":""},{"$f":"IFERROR(INDEX(C82:C99, SMALL(IF(ISNUMBER(SEARCH(\"JV2\",F82:F99)), ROW(F82:F99)-MIN(ROW(F82:F99))+1, \"\"), ROW() -81 )), \"\")","v":""},{"$f":"IFERROR(INDEX(D82:D99, SMALL(IF(ISNUMBER(SEARCH(\"JV2\",F82:F99)), ROW(F82:F99)-MIN(ROW(F82:F99))+1, \"\"), ROW() -81 )), \"\")","v":""},{"$f":"IFERROR(INDEX(E82:E99, SMALL(IF(ISNUMBER(SEARCH(\"JV2\",F82:F99)), ROW(F82:F99)-MIN(ROW(F82:F99))+1, \"\"), ROW() -81 )), \"\")","v":""}]
[null,"Grand View University",null,"11-569567","Brandon Nakaoka","V",null,3743.0,null,false,{"$nulls":17},{"$f":"IFERROR(INDEX(B82:B99, SMALL(IF(\"V\"=F82:F99, ROW(F82:F99)-MIN(ROW(F82:F99))+1, \"\"), ROW() -81 )), \"\")","v":"Grand View University"},{"$f":"IFERROR(INDEX(C82:C99, SMALL(IF(\"V\"=F82:F99, ROW(F82:F99)-MIN(ROW(F82:F99))+1, \"\"), ROW() -81 )), \"\")","v":""},{"$f":"IFERROR(INDEX(D82:D99, SMALL(IF(\"V\"=F82:F99, ROW(F82:F99)-MIN(ROW(F82:F99))+1, \"\"), ROW() -81 )), \"\")","v":"9138-8600"},{"$f":"IFERROR(INDEX(E82:E99, SMALL(IF(\"V\"=F82:F99, ROW(F82:F99)-MIN(ROW(F82:F99))+1, \"\"), ROW() -81 )), \"\")","v":"Johnathan Hemmingsen"},{"$f":"IFERROR(INDEX(B82:B99, SMALL(IF(ISNUMBER(SEARCH(\"JV1\",F82:F99)), ROW(F82:F99)-MIN(ROW(F82:F99))+1, \"\"), ROW() -81 )), \"\")","v":"Grand View University"},{"$f":"IFERROR(INDEX(C82:C99, SMALL(IF(ISNUMBER(SEARCH(\"JV1\",F82:F99)), ROW(F82:F99)-MIN(ROW(F82:F99))+1, \"\"), ROW() -81 )), \"\")","v":""},{"$f":"IFERROR(INDEX(D82:D99, SMALL(IF(ISNUMBER(SEARCH(\"JV1\",F82:F99)), ROW(F82:F99)-MIN(ROW(F82:F99))+1, \"\"), ROW() -81 )), \"\")","v":"5849-84"},{"$f":"IFERROR(INDEX(E82:E99, SMALL(IF(ISNUMBER(SEARCH(\"JV1\",F82:F99)), ROW(F82:F99)-MIN(ROW(F82:F99))+1, \"\"), ROW() -81 )), \"\")","v":"Hunter Shannon"},{"$f":"IFERROR(INDEX(B82:B99, SMALL(IF(ISNUMBER(SEARCH(\"JV2\",F82:F99)), ROW(F82:F99)-MIN(ROW(F82:F99))+1, \"\"), ROW() -81 )), \"\")","v":""},{"$f":"IFERROR(INDEX(C82:C99, SMALL(IF(ISNUMBER(SEARCH(\"JV2\",F82:F99)), ROW(F82:F99)-MIN(ROW(F82:F99))+1, \"\"), ROW() -81 )), \"\")","v":""},{"$f":"IFERROR(INDEX(D82:D99, SMALL(IF(ISNUMBER(SEARCH(\"JV2\",F82:F99)), ROW(F82:F99)-MIN(ROW(F82:F99))+1, \"\"), ROW() -81 )), \"\")","v":""},{"$f":"IFERROR(INDEX(E82:E99, SMALL(IF(ISNUMBER(SEARCH(\"JV2\",F82:F99)), ROW(F82:F99)-MIN(ROW(F82:F99))+1, \"\"), ROW() -81 )), \"\")","v":""}]
[null,"Grand View University",null,"11-742664","Caden Ziegler",null,null,3743.0,null,false,{"$nulls":17},{"$f":"IFERROR(INDEX(B82:B99, SMALL(IF(\"V\"=F82:F99, ROW(F82:F99)-MIN(ROW(F82:F99))+1, \"\"), ROW() -81 )), \"\")","v":"Grand View University"},{"$f":"IFERROR(INDEX(C82:C99, SMALL(IF(\"V\"=F82:F99, ROW(F82:F99)-MIN(ROW(F82:F99))+1, \"\"), ROW() -81 )), \"\")","v":""},{"$f":"IFERROR(INDEX(D82:D99, SMALL(IF(\"V\"=F82:F99, ROW(F82:F99)-MIN(ROW(F82:F99))+1, \"\"), ROW() -81 )), \"\")","v":"5689-4652"},{"$f":"IFERROR(INDEX(E82:E99, SMALL(IF(\"V\"=F82:F99, ROW(F82:F99)-MIN(ROW(F82:F99))+1, \"\"), ROW() -81 )), \"\")","v":"Nicholas Prochnow"},{"$f":"IFERROR(INDEX(B82:B99, SMALL(IF(ISNUMBER(SEARCH(\"JV1\",F82:F99)), ROW(F82:F99)-MIN(ROW(F82:F99))+1, \"\"), ROW() -81 )), \"\")","v":"Grand View University"},{"$f":"IFERROR(INDEX(C82:C99, SMALL(IF(ISNUMBER(SEARCH(\"JV1\",F82:F99)), ROW(F82:F99)-MIN(ROW(F82:F99))+1, \"\"), ROW() -81 )), \"\")","v":""},{"$f":"IFERROR(INDEX(D82:D99, SMALL(IF(ISNUMBER(SEARCH(\"JV1\",F82:F99)), ROW(F82:F99)-MIN(ROW(F82:F99))+1, \"\"), ROW() -81 )), \"\")","v":"11-230185"},{"$f":"IFERROR(INDEX(E82:E99, SMALL(IF(ISNUMBER(SEARCH(\"JV1\",F82:F99)), ROW(F82:F99)-MIN(ROW(F82:F99))+1, \"\"), ROW() -81 )), \"\")","v":"Jonathan Featherston"},{"$f":"IFERROR(INDEX(B82:B99, SMALL(IF(ISNUMBER(SEARCH(\"JV2\",F82:F99)), ROW(F82:F99)-MIN(ROW(F82:F99))+1, \"\"), ROW() -81 )), \"\")","v":""},{"$f":"IFERROR(INDEX(C82:C99, SMALL(IF(ISNUMBER(SEARCH(\"JV2\",F82:F99)), ROW(F82:F99)-MIN(ROW(F82:F99))+1, \"\"), ROW() -81 )), \"\")","v":""},{"$f":"IFERROR(INDEX(D82:D99, SMALL(IF(ISNUMBER(SEARCH(\"JV2\",F82:F99)), ROW(F82:F99)-MIN(ROW(F82:F99))+1, \"\"), ROW() -81 )), \"\")","v":""},{"$f":"IFERROR(INDEX(E82:E99, SMALL(IF(ISNUMBER(SEARCH(\"JV2\",F82:F99)), ROW(F82:F99)-MIN(ROW(F82:F99))+1, \"\"), ROW() -81 )), \"\")","v":""}]
[null,"Grand View University",null,"15-194051","Camrey Cavan","JV1",null,3743.0,null,false,{"$nulls":17},{"$f":"IFERROR(INDEX(B82:B99, SMALL(IF(\"V\"=F82:F99, ROW(F82:F99)-MIN(ROW(F82:F99))+1, \"\"), ROW() -81 )), \"\")","v":"Grand View University"},{"$f":"IFERROR(INDEX(C82:C99, SMALL(IF(\"V\"=F82:F99, ROW(F82:F99)-MIN(ROW(F82:F99))+1, \"\"), ROW() -81 )), \"\")","v":""},{"$f":"IFERROR(INDEX(D82:D99, SMALL(IF(\"V\"=F82:F99, ROW(F82:F99)-MIN(ROW(F82:F99))+1, \"\"), ROW() -81 )), \"\")","v":"15-193757"},{"$f":"IFERROR(INDEX(E82:E99, SMALL(IF(\"V\"=F82:F99, ROW(F82:F99)-MIN(ROW(F82:F99))+1, \"\"), ROW() -81 )), \"\")","v":"Skyler Vong"},{"$f":"IFERROR(INDEX(B82:B99, SMALL(IF(ISNUMBER(SEARCH(\"JV1\",F82:F99)), ROW(F82:F99)-MIN(ROW(F82:F99))+1, \"\"), ROW() -81 )), \"\")","v":"Grand View University"},{"$f":"IFERROR(INDEX(C82:C99, SMALL(IF(ISNUMBER(SEARCH(\"JV1\",F82:F99)), ROW(F82:F99)-MIN(ROW(F82:F99))+1, \"\"), ROW() -81 )), \"\")","v":""},{"$f":"IFERROR(INDEX(D82:D99, SMALL(IF(ISNUMBER(SEARCH(\"JV1\",F82:F99)), ROW(F82:F99)-MIN(ROW(F82:F99))+1, \"\"), ROW() -81 )), \"\")","v":"15-149463"},{"$f":"IFERROR(INDEX(E82:E99, SMALL(IF(ISNUMBER(SEARCH(\"JV1\",F82:F99)), ROW(F82:F99)-MIN(ROW(F82:F99))+1, \"\"), ROW() -81 )), \"\")","v":"Kory Ludden"},{"$f":"IFERROR(INDEX(B82:B99, SMALL(IF(ISNUMBER(SEARCH(\"JV2\",F82:F99)), ROW(F82:F99)-MIN(ROW(F82:F99))+1, \"\"), ROW() -81 )), \"\")","v":""},{"$f":"IFERROR(INDEX(C82:C99, SMALL(IF(ISNUMBER(SEARCH(\"JV2\",F82:F99)), ROW(F82:F99)-MIN(ROW(F82:F99))+1, \"\"), ROW() -81 )), \"\")","v":""},{"$f":"IFERROR(INDEX(D82:D99, SMALL(IF(ISNUMBER(SEARCH(\"JV2\",F82:F99)), ROW(F82:F99)-MIN(ROW(F82:F99))+1, \"\"), ROW() -81 )), \"\")","v":""},{"$f":"IFERROR(INDEX(E82:E99, SMALL(IF(ISNUMBER(SEARCH(\"JV2\",F82:F99)), ROW(F82:F99)-MIN(ROW(F82:F99))+1, \"\"), ROW() -81 )), \"\")","v":""}]
[null,"Grand View University",null,"11-260073","Dominick Judge","JV1",null,3743.0,null,false,{"$nulls":17},{"$f":"IFERROR(INDEX(B82:B99, SMALL(IF(\"V\"=F82:F99, ROW(F82:F99)-MIN(ROW(F82:F99))+1, \"\"), ROW() -81 )), \"\")","v":"Grand View University"},{"$f":"IFERROR(INDEX(C82:C99, SMALL(IF(\"V\"=F82:F99, ROW(F82:F99)-MIN(ROW(F82:F99))+1, \"\"), ROW() -81 )), \"\")","v":""},{"$f":"IFERROR(INDEX(D82:D99, SMALL(IF(\"V\"=F82:F99, ROW(F82:F99)-MIN(ROW(F82:F99))+1, \"\"), ROW() -81 )), \"\")","v":"11-242166"},{"$f":"IFERROR(INDEX(E82:E99, SMALL(IF(\"V\"=F82:F99, ROW(F82:F99)-MIN(ROW(F82:F99))+1, \"\"), ROW() -81 )), \"\")","v":"Xander Pickett"},{"$f":"IFERROR(INDEX(B82:B99, SMALL(IF(ISNUMBER(SEARCH(\"JV1\",F82:F99)), ROW(F82:F99)-MIN(ROW(F82:F99))+1, \"\"), ROW() -81 )), \"\")","v":"Grand View University"},{"$f":"IFERROR(INDEX(C82:C99, SMALL(IF(ISNUMBER(SEARCH(\"JV1\",F82:F99)), ROW(F82:F99)-MIN(ROW(F82:F99))+1, \"\"), ROW() -81 )), \"\")","v":""},{"$f":"IFERROR(INDEX(D82:D99, SMALL(IF(ISNUMBER(SEARCH(\"JV1\",F82:F99)), ROW(F82:F99)-MIN(ROW(F82:F99))+1, \"\"), ROW() -81 )), \"\")","v":"16-164014"},{"$f":"IFERROR(INDEX(E82:E99, SMALL(IF(ISNUMBER(SEARCH(\"JV1\",F82:F99)), ROW(F82:F99)-MIN(ROW(F82:F99))+1, \"\"), ROW() -81 )), \"\")","v":"Maxwell Martin"},{"$f":"IFERROR(INDEX(B82:B99, SMALL(IF(ISNUMBER(SEARCH(\"JV2\",F82:F99)), ROW(F82:F99)-MIN(ROW(F82:F99))+1, \"\"), ROW() -81 )), \"\")","v":""},{"$f":"IFERROR(INDEX(C82:C99, SMALL(IF(ISNUMBER(SEARCH(\"JV2\",F82:F99)), ROW(F82:F99)-MIN(ROW(F82:F99))+1, \"\"), ROW() -81 )), \"\")","v":""},{"$f":"IFERROR(INDEX(D82:D99, SMALL(IF(ISNUMBER(SEARCH(\"JV2\",F82:F99)), ROW(F82:F99)-MIN(ROW(F82:F99))+1, \"\"), ROW() -81 )), \"\")","v":""},{"$f":"IFERROR(INDEX(E82:E99, SMALL(IF(ISNUMBER(SEARCH(\"JV2\",F82:F99)), ROW(F82:F99)-MIN(ROW(F82:F99))+1, \"\"), ROW() -81 )), \"\")","v":""}]
[null,"Grand View University",null,"21-88052","Ethan Simpson","JV1",null,3743.0,null,false,{"$nulls":17},{"$f":"IFERROR(INDEX(B82:B99, SMALL(IF(\"V\"=F82:F99, ROW(F82:F99)-MIN(ROW(F82:F99))+1, \"\"), ROW() -81 )), \"\")","v":""},{"$f":"IFERROR(INDEX(C82:C99, SMALL(IF(\"V\"=F82:F99, ROW(F82:F99)-MIN(ROW(F82:F99))+1, \"\"), ROW() -81 )), \"\")","v":""},{"$f":"IFERROR(INDEX(D82:D99, SMALL(IF(\"V\"=F82:F99, ROW(F82:F99)-MIN(ROW(F82:F99))+1, \"\"), ROW() -81 )), \"\")","v":""},{"$f":"IFERROR(INDEX(E82:E99, SMALL(IF(\"V\"=F82:F99, ROW(F82:F99)-MIN(ROW(F82:F99))+1, \"\"), ROW() -81 )), \"\")","v":""},{"$f":"IFERROR(INDEX(B82:B99, SMALL(IF(ISNUMBER(SEARCH(\"JV1\",F82:F99)), ROW(F82:F99)-MIN(ROW(F82:F99))+1, \"\"), ROW() -81 )), \"\")","v":""},{"$f":"IFERROR(INDEX(C82:C99, SMALL(IF(ISNUMBER(SEARCH(\"JV1\",F82:F99)), ROW(F82:F99)-MIN(ROW(F82:F99))+1, \"\"), ROW() -81 )), \"\")","v":""},{"$f":"IFERROR(INDEX(D82:D99, SMALL(IF(ISNUMBER(SEARCH(\"JV1\",F82:F99)), ROW(F82:F99)-MIN(ROW(F82:F99))+1, \"\"), ROW() -81 )), \"\")","v":""},{"$f":"IFERROR(INDEX(E82:E99, SMALL(IF(ISNUMBER(SEARCH(\"JV1\",F82:F99)), ROW(F82:F99)-MIN(ROW(F82:F99))+1, \"\"), ROW() -81 )), \"\")","v":""},{"$f":"IFERROR(INDEX(B82:B99, SMALL(IF(ISNUMBER(SEARCH(\"JV2\",F82:F99)), ROW(F82:F99)-MIN(ROW(F82:F99))+1, \"\"), ROW() -81 )), \"\")","v":""},{"$f":"IFERROR(INDEX(C82:C99, SMALL(IF(ISNUMBER(SEARCH(\"JV2\",F82:F99)), ROW(F82:F99)-MIN(ROW(F82:F99))+1, \"\"), ROW() -81 )), \"\")","v":""},{"$f":"IFERROR(INDEX(D82:D99, SMALL(IF(ISNUMBER(SEARCH(\"JV2\",F82:F99)), ROW(F82:F99)-MIN(ROW(F82:F99))+1, \"\"), ROW() -81 )), \"\")","v":""},{"$f":"IFERROR(INDEX(E82:E99, SMALL(IF(ISNUMBER(SEARCH(\"JV2\",F82:F99)), ROW(F82:F99)-MIN(ROW(F82:F99))+1, \"\"), ROW() -81 )), \"\")","v":""}]
[null,"Grand View University",null,"5849-84","Hunter Shannon","JV1",null,3743.0,null,false]
[null,"Grand View University",null,"9138-8600","Johnathan Hemmingsen","V",null,3743.0,null,false]
[null,"Grand View University",null,"11-230185","Jonathan Featherston","JV1",null,3743.0,null,false]
[null,"Grand View University",null,"15-149463","Kory Ludden","JV1",null,3743.0,null,false]
[null,"Grand View University",null,"5860-323","Lucas Kramer",null,null,3743.0,null,false]
[null,"Grand View University",null,"16-164014","Maxwell Martin","JV1",null,3743.0,null,false]
[null,"Grand View University",null,"5689-4652","Nicholas Prochnow","V",null,3743.0,null,false]
[null,"Grand View University",null,"15-193757","Skyler Vong","V",null,3743.0,null,false]
[null,"Grand View University",null,"9138-8601","Tim Lincoln",null,null,3743.0,null,false]
[null,"Grand View University",null,"11-242166","Xander Pickett","V",null,3743.0,null,false]
[null,"Hastings College",null,"6238-1210","Anthony Hernandez","V",null,4331.0,null,false,{"$nulls":17},{"$f":"IFERROR(INDEX(B100:B115, SMALL(IF(\"V\"=F100:F115, ROW(F100:F115)-MIN(ROW(F100:F115))+1, \"\"), ROW() -99 )), \"\")","v":"Hastings College"},{"$f":"IFERROR(INDEX(C100:C115, SMALL(IF(\"V\"=F100:F115, ROW(F100:F115)-MIN(ROW(F100:F115))+1, \"\"), ROW() -99 )), \"\")","v":""},{"$f":"IFERROR(INDEX(D100:D115, SMALL(IF(\"V\"=F100:F115, ROW(F100:F115)-MIN(ROW(F100:F115))+1, \"\"), ROW() -99 )), \"\")","v":"6238-1210"},{"$f":"IFERROR(INDEX(E100:E115, SMALL(IF(\"V\"=F100:F115, ROW(F100:F115)-MIN(ROW(F100:F115))+1, \"\"), ROW() -99 )), \"\")","v":"Anthony Hernandez"},{"$f":"IFERROR(INDEX(B100:B115, SMALL(IF(ISNUMBER(SEARCH(\"JV1\",F100:F115)), ROW(F100:F115)-MIN(ROW(F100:F115))+1, \"\"), ROW() -99 )), \"\")","v":""},{"$f":"IFERROR(INDEX(C100:C115, SMALL(IF(ISNUMBER(SEARCH(\"JV1\",F100:F115)), ROW(F100:F115)-MIN(ROW(F100:F115))+1, \"\"), ROW() -99 )), \"\")","v":""},{"$f":"IFERROR(INDEX(D100:D115, SMALL(IF(ISNUMBER(SEARCH(\"JV1\",F100:F115)), ROW(F100:F115)-MIN(ROW(F100:F115))+1, \"\"), ROW() -99 )), \"\")","v":""},{"$f":"IFERROR(INDEX(E100:E115, SMALL(IF(ISNUMBER(SEARCH(\"JV1\",F100:F115)), ROW(F100:F115)-MIN(ROW(F100:F115))+1, \"\"), ROW() -99 )), \"\")","v":""},{"$f":"IFERROR(INDEX(B100:B115, SMALL(IF(ISNUMBER(SEARCH(\"JV2\",F100:F115)), ROW(F100:F115)-MIN(ROW(F100:F115))+1, \"\"), ROW() -99 )), \"\")","v":""},{"$f":"IFERROR(INDEX(C100:C115, SMALL(IF(ISNUMBER(SEARCH(\"JV2\",F100:F115)), ROW(F100:F115)-MIN(ROW(F100:F115))+1, \"\"), ROW() -99 )), \"\")","v":""},{"$f":"IFERROR(INDEX(D100:D115, SMALL(IF(ISNUMBER(SEARCH(\"JV2\",F100:F115)), ROW(F100:F115)-MIN(ROW(F100:F115))+1, \"\"), ROW() -99 )), \"\")","v":""},{"$f":"IFERROR(INDEX(E100:E115, SMALL(IF(ISNUMBER(SEARCH(\"JV2\",F100:F115)), ROW(F100:F115)-MIN(ROW(F100:F115))+1, \"\"), ROW() -99 )), \"\")","v":""}]
[null,"Hastings College",null,"16-129865","Anthony Morella","V",null,4331.0,null,false,{"$nulls":17},{"$f":"IFERROR(INDEX(B100:B115, SMALL(IF(\"V\"=F100:F115, ROW(F100:F115)-MIN(ROW(F100:F115))+1, \"\"), ROW() -99 )), \"\")","v":"Hastings College"},{"$f":"IFERROR(INDEX(C100:C115, SMALL(IF(\"V\"=F100:F115, ROW(F100:F115)-MIN(ROW(F100:F115))+1, \"\"), ROW() -99 )), \"\")","v":""},{"$f":"IFERROR(INDEX(D100:D115, SMALL(IF(\"V\"=F100:F115, ROW(F100:F115)-MIN(ROW(F100:F115))+1, \"\"), ROW() -99 )), \"\")","v":"16-129865"},{"$f":"IFERROR(INDEX(E100:E115, SMALL(IF(\"V\"=F100:F115, ROW(F100:F115)-MIN(ROW(F100:F115))+1, \"\"), ROW() -99 )), \"\")","v":"Anthony Morella"},{"$f":"IFERROR(INDEX(B100:B115, SMALL(IF(ISNUMBER(SEARCH(\"JV1\",F100:F115)), ROW(F100:F115)-MIN(ROW(F100:F115))+1, \"\"), ROW() -99 )), \"\")","v":""},{"$f":"IFERROR(INDEX(C100:C115, SMALL(IF(ISNUMBER(SEARCH(\"JV1\",F100:F115)), ROW(F100:F115)-MIN(ROW(F100:F115))+1, \"\"), ROW() -99 )), \"\")","v":""},{"$f":"IFERROR(INDEX(D100:D115, SMALL(IF(ISNUMBER(SEARCH(\"JV1\",F100:F115)), ROW(F100:F115)-MIN(ROW(F100:F115))+1, \"\"), ROW() -99 )), \"\")","v":""},{"$f":"IFERROR(INDEX(E100:E115, SMALL(IF(ISNUMBER(SEARCH(\"JV1\",F100:F115)), ROW(F100:F115)-MIN(ROW(F100:F115))+1, \"\"), ROW() -99 )), \"\")","v":""},{"$f":"IFERROR(INDEX(B100:B115, SMALL(IF(ISNUMBER(SEARCH(\"JV2\",F100:F115)), ROW(F100:F115)-MIN(ROW(F100:F115))+1, \"\"), ROW() -99 )), \"\")","v":""},{"$f":"IFERROR(INDEX(C100:C115, SMALL(IF(ISNUMBER(SEARCH(\"JV2\",F100:F115)), ROW(F100:F115)-MIN(ROW(F100:F115))+1, \"\"), ROW() -99 )), \"\")","v":""},{"$f":"IFERROR(INDEX(D100:D115, SMALL(IF(ISNUMBER(SEARCH(\"JV2\",F100:F115)), ROW(F100:F115)-MIN(ROW(F100:F115))+1, \"\"), ROW() -99 )), \"\")","v":""},{"$f":"IFERROR(INDEX(E100:E115, SMALL(IF(ISNUMBER(SEARCH(\"JV2\",F100:F115)), ROW(F100:F115)-MIN(ROW(F100:F115))+1, \"\"), ROW() -99 )), \"\")","v":""}]
[null,"Hastings College",null,"8219-74921","Brady Kaufmann",null,null,4331.0,null,false,{"$nulls":17},{"$f":"IFERROR(INDEX(B100:B115, SMALL(IF(\"V\"=F100:F115, ROW(F100:F115)-MIN(ROW(F100:F115))+1, \"\"), ROW() -99 )), \"\")","v":"Hastings College"},{"$f":"IFERROR(INDEX(C100:C115, SMALL(IF(\"V\"=F100:F115, ROW(F100:F115)-MIN(ROW(F100:F115))+1, \"\"), ROW() -99 )), \"\")","v":""},{"$f":"IFERROR(INDEX(D100:D115, SMALL(IF(\"V\"=F100:F115, ROW(F100:F115)-MIN(ROW(F100:F115))+1, \"\"), ROW() -99 )), \"\")","v":"11-607179"},{"$f":"IFERROR(INDEX(E100:E115, SMALL(IF(\"V\"=F100:F115, ROW(F100:F115)-MIN(ROW(F100:F115))+1, \"\"), ROW() -99 )), \"\")","v":"Brandon Engels"},{"$f":"IFERROR(INDEX(B100:B115, SMALL(IF(ISNUMBER(SEARCH(\"JV1\",F100:F115)), ROW(F100:F115)-MIN(ROW(F100:F115))+1, \"\"), ROW() -99 )), \"\")","v":""},{"$f":"IFERROR(INDEX(C100:C115, SMALL(IF(ISNUMBER(SEARCH(\"JV1\",F100:F115)), ROW(F100:F115)-MIN(ROW(F100:F115))+1, \"\"), ROW() -99 )), \"\")","v":""},{"$f":"IFERROR(INDEX(D100:D115, SMALL(IF(ISNUMBER(SEARCH(\"JV1\",F100:F115)), ROW(F100:F115)-MIN(ROW(F100:F115))+1, \"\"), ROW() -99 )), \"\")","v":""},{"$f":"IFERROR(INDEX(E100:E115, SMALL(IF(ISNUMBER(SEARCH(\"JV1\",F100:F115)), ROW(F100:F115)-MIN(ROW(F100:F115))+1, \"\"), ROW() -99 )), \"\")","v":""},{"$f":"IFERROR(INDEX(B100:B115, SMALL(IF(ISNUMBER(SEARCH(\"JV2\",F100:F115)), ROW(F100:F115)-MIN(ROW(F100:F115))+1, \"\"), ROW() -99 )), \"\")","v":""},{"$f":"IFERROR(INDEX(C100:C115, SMALL(IF(ISNUMBER(SEARCH(\"JV2\",F100:F115)), ROW(F100:F115)-MIN(ROW(F100:F115))+1, \"\"), ROW() -99 )), \"\")","v":""},{"$f":"IFERROR(INDEX(D100:D115, SMALL(IF(ISNUMBER(SEARCH(\"JV2\",F100:F115)), ROW(F100:F115)-MIN(ROW(F100:F115))+1, \"\"), ROW() -99 )), \"\")","v":""},{"$f":"IFERROR(INDEX(E100:E115, SMALL(IF(ISNUMBER(SEARCH(\"JV2\",F100:F115)), ROW(F100:F115)-MIN(ROW(F100:F115))+1, \"\"), ROW() -99 )), \"\")","v":""}]
[null,"Hastings College",null,"11-607179","Brandon Engels","V",null,4331.0,null,false,{"$nulls":17},{"$f":"IFERROR(INDEX(B100:B115, SMALL(IF(\"V\"=F100:F115, ROW(F100:F115)-MIN(ROW(F100:F115))+1, \"\"), ROW() -99 )), \"\")","v":"Hastings College"},{"$f":"IFERROR(INDEX(C100:C115, SMALL(IF(\"V\"=F100:F115, ROW(F100:F115)-MIN(ROW(F100:F115))+1, \"\"), ROW() -99 )), \"\")","v":""},{"$f":"IFERROR(INDEX(D100:D115, SMALL(IF(\"V\"=F100:F115, ROW(F100:F115)-MIN(ROW(F100:F115))+1, \"\"), ROW() -99 )), \"\")","v":"11-120329"},{"$f":"IFERROR(INDEX(E100:E115, SMALL(IF(\"V\"=F100:F115, ROW(F100:F115)-MIN(ROW(F100:F115))+1, \"\"), ROW() -99 )), \"\")","v":"Carstin Olson"},{"$f":"IFERROR(INDEX(B100:B115, SMALL(IF(ISNUMBER(SEARCH(\"JV1\",F100:F115)), ROW(F100:F115)-MIN(ROW(F100:F115))+1, \"\"), ROW() -99 )), \"\")","v":""},{"$f":"IFERROR(INDEX(C100:C115, SMALL(IF(ISNUMBER(SEARCH(\"JV1\",F100:F115)), ROW(F100:F115)-MIN(ROW(F100:F115))+1, \"\"), ROW() -99 )), \"\")","v":""},{"$f":"IFERROR(INDEX(D100:D115, SMALL(IF(ISNUMBER(SEARCH(\"JV1\",F100:F115)), ROW(F100:F115)-MIN(ROW(F100:F115))+1, \"\"), ROW() -99 )), \"\")","v":""},{"$f":"IFERROR(INDEX(E100:E115, SMALL(IF(ISNUMBER(SEARCH(\"JV1\",F100:F115)), ROW(F100:F115)-MIN(ROW(F100:F115))+1, \"\"), ROW() -99 )), \"\")","v":""},{"$f":"IFERROR(INDEX(B100:B115, SMALL(IF(ISNUMBER(SEARCH(\"JV2\",F100:F115)), ROW(F100:F115)-MIN(ROW(F100:F115))+1, \"\"), ROW() -99 )), \"\")","v":""},{"$f":"IFERROR(INDEX(C100:C115, SMALL(IF(ISNUMBER(SEARCH(\"JV2\",F100:F115)), ROW(F100:F115)-MIN(ROW(F100:F115))+1, \"\"), ROW() -99 )), \"\")","v":""},{"$f":"IFERROR(INDEX(D100:D115, SMALL(IF(ISNUMBER(SEARCH(\"JV2\",F100:F115)), ROW(F100:F115)-MIN(ROW(F100:F115))+1, \"\"), ROW() -99 )), \"\")","v":""},{"$f":"IFERROR(INDEX(E100:E115, SMALL(IF(ISNUMBER(SEARCH(\"JV2\",F100:F115)), ROW(F100:F115)-MIN(ROW(F100:F115))+1, \"\"), ROW() -99 )), \"\")","v":""}]
[null,"Hastings College",null,"17-42184","Brayden Schmieding",null,null,4331.0,null,false,{"$nulls":17},{"$f":"IFERROR(INDEX(B100:B115, SMALL(IF(\"V\"=F100:F115, ROW(F100:F115)-MIN(ROW(F100:F115))+1, \"\"), ROW() -99 )), \"\")","v":"Hastings College"},{"$f":"IFERROR(INDEX(C100:C115, SMALL(IF(\"V\"=F100:F115, ROW(F100:F115)-MIN(ROW(F100:F115))+1, \"\"), ROW() -99 )), \"\")","v":""},{"$f":"IFERROR(INDEX(D100:D115, SMALL(IF(\"V\"=F100:F115, ROW(F100:F115)-MIN(ROW(F100:F115))+1, \"\"), ROW() -99 )), \"\")","v":"11-292690"},{"$f":"IFERROR(INDEX(E100:E115, SMALL(IF(\"V\"=F100:F115, ROW(F100:F115)-MIN(ROW(F100:F115))+1, \"\"), ROW() -99 )), \"\")","v":"Kaden Kuusela"},{"$f":"IFERROR(INDEX(B100:B115, SMALL(IF(ISNUMBER(SEARCH(\"JV1\",F100:F115)), ROW(F100:F115)-MIN(ROW(F100:F115))+1, \"\"), ROW() -99 )), \"\")","v":""},{"$f":"IFERROR(INDEX(C100:C115, SMALL(IF(ISNUMBER(SEARCH(\"JV1\",F100:F115)), ROW(F100:F115)-MIN(ROW(F100:F115))+1, \"\"), ROW() -99 )), \"\")","v":""},{"$f":"IFERROR(INDEX(D100:D115, SMALL(IF(ISNUMBER(SEARCH(\"JV1\",F100:F115)), ROW(F100:F115)-MIN(ROW(F100:F115))+1, \"\"), ROW() -99 )), \"\")","v":""},{"$f":"IFERROR(INDEX(E100:E115, SMALL(IF(ISNUMBER(SEARCH(\"JV1\",F100:F115)), ROW(F100:F115)-MIN(ROW(F100:F115))+1, \"\"), ROW() -99 )), \"\")","v":""},{"$f":"IFERROR(INDEX(B100:B115, SMALL(IF(ISNUMBER(SEARCH(\"JV2\",F100:F115)), ROW(F100:F115)-MIN(ROW(F100:F115))+1, \"\"), ROW() -99 )), \"\")","v":""},{"$f":"IFERROR(INDEX(C100:C115, SMALL(IF(ISNUMBER(SEARCH(\"JV2\",F100:F115)), ROW(F100:F115)-MIN(ROW(F100:F115))+1, \"\"), ROW() -99 )), \"\")","v":""},{"$f":"IFERROR(INDEX(D100:D115, SMALL(IF(ISNUMBER(SEARCH(\"JV2\",F100:F115)), ROW(F100:F115)-MIN(ROW(F100:F115))+1, \"\"), ROW() -99 )), \"\")","v":""},{"$f":"IFERROR(INDEX(E100:E115, SMALL(IF(ISNUMBER(SEARCH(\"JV2\",F100:F115)), ROW(F100:F115)-MIN(ROW(F100:F115))+1, \"\"), ROW() -99 )), \"\")","v":""}]
[null,"Hastings College",null,"11-120329","Carstin Olson","V",null,4331.0,null,false,{"$nulls":17},{"$f":"IFERROR(INDEX(B100:B115, SMALL(IF(\"V\"=F100:F115, ROW(F100:F115)-MIN(ROW(F100:F115))+1, \"\"), ROW() -99 )), \"\")","v":"Hastings College"},{"$f":"IFERROR(INDEX(C100:C115, SMALL(IF(\"V\"=F100:F115, ROW(F100:F115)-MIN(ROW(F100:F115))+1, \"\"), ROW() -99 )), \"\")","v":""},{"$f":"IFERROR(INDEX(D100:D115, SMALL(IF(\"V\"=F100:F115, ROW(F100:F115)-MIN(ROW(F100:F115))+1, \"\"), ROW() -99 )), \"\")","v":"11-672708"},{"$f":"IFERROR(INDEX(E100:E115, SMALL(IF(\"V\"=F100:F115, ROW(F100:F115)-MIN(ROW(F100:F115))+1, \"\"), ROW() -99 )), \"\")","v":"Kenneth High"},{"$f":"IFERROR(INDEX(B100:B115, SMALL(IF(ISNUMBER(SEARCH(\"JV1\",F100:F115)), ROW(F100:F115)-MIN(ROW(F100:F115))+1, \"\"), ROW() -99 )), \"\")","v":""},{"$f":"IFERROR(INDEX(C100:C115, SMALL(IF(ISNUMBER(SEARCH(\"JV1\",F100:F115)), ROW(F100:F115)-MIN(ROW(F100:F115))+1, \"\"), ROW() -99 )), \"\")","v":""},{"$f":"IFERROR(INDEX(D100:D115, SMALL(IF(ISNUMBER(SEARCH(\"JV1\",F100:F115)), ROW(F100:F115)-MIN(ROW(F100:F115))+1, \"\"), ROW() -99 )), \"\")","v":""},{"$f":"IFERROR(INDEX(E100:E115, SMALL(IF(ISNUMBER(SEARCH(\"JV1\",F100:F115)), ROW(F100:F115)-MIN(ROW(F100:F115))+1, \"\"), ROW() -99 )), \"\")","v":""},{"$f":"IFERROR(INDEX(B100:B115, SMALL(IF(ISNUMBER(SEARCH(\"JV2\",F100:F115)), ROW(F100:F115)-MIN(ROW(F100:F115))+1, \"\"), ROW() -99 )), \"\")","v":""},{"$f":"IFERROR(INDEX(C100:C115, SMALL(IF(ISNUMBER(SEARCH(\"JV2\",F100:F115)), ROW(F100:F115)-MIN(ROW(F100:F115))+1, \"\"), ROW() -99 )), \"\")","v":""},{"$f":"IFERROR(INDEX(D100:D115, SMALL(IF(ISNUMBER(SEARCH(\"JV2\",F100:F115)), ROW(F100:F115)-MIN(ROW(F100:F115))+1, \"\"), ROW() -99 )), \"\")","v":""},{"$f":"IFERROR(INDEX(E100:E115, SMALL(IF(ISNUMBER(SEARCH(\"JV2\",F100:F115)), ROW(F100:F115)-MIN(ROW(F100:F115))+1, \"\"), ROW() -99 )), \"\")","v":""}]
[null,"Hastings College",null,"8337-13790","Cody Koepke",null,null,4331.0,null,false,{"$nulls":17},{"$f":"IFERROR(INDEX(B100:B115, SMALL(IF(\"V\"=F100:F115, ROW(F100:F115)-MIN(ROW(F100:F115))+1, \"\"), ROW() -99 )), \"\")","v":"Hastings College"},{"$f":"IFERROR(INDEX(C100:C115, SMALL(IF(\"V\"=F100:F115, ROW(F100:F115)-MIN(ROW(F100:F115))+1, \"\"), ROW() -99 )), \"\")","v":""},{"$f":"IFERROR(INDEX(D100:D115, SMALL(IF(\"V\"=F100:F115, ROW(F100:F115)-MIN(ROW(F100:F115))+1, \"\"), ROW() -99 )), \"\")","v":"11-104662"},{"$f":"IFERROR(INDEX(E100:E115, SMALL(IF(\"V\"=F100:F115, ROW(F100:F115)-MIN(ROW(F100:F115))+1, \"\"), ROW() -99 )), \"\")","v":"Trevor Seeley"},{"$f":"IFERROR(INDEX(B100:B115, SMALL(IF(ISNUMBER(SEARCH(\"JV1\",F100:F115)), ROW(F100:F115)-MIN(ROW(F100:F115))+1, \"\"), ROW() -99 )), \"\")","v":""},{"$f":"IFERROR(INDEX(C100:C115, SMALL(IF(ISNUMBER(SEARCH(\"JV1\",F100:F115)), ROW(F100:F115)-MIN(ROW(F100:F115))+1, \"\"), ROW() -99 )), \"\")","v":""},{"$f":"IFERROR(INDEX(D100:D115, SMALL(IF(ISNUMBER(SEARCH(\"JV1\",F100:F115)), ROW(F100:F115)-MIN(ROW(F100:F115))+1, \"\"), ROW() -99 )), \"\")","v":""},{"$f":"IFERROR(INDEX(E100:E115, SMALL(IF(ISNUMBER(SEARCH(\"JV1\",F100:F115)), ROW(F100:F115)-MIN(ROW(F100:F115))+1, \"\"), ROW() -99 )), \"\")","v":""},{"$f":"IFERROR(INDEX(B100:B115, SMALL(IF(ISNUMBER(SEARCH(\"JV2\",F100:F115)), ROW(F100:F115)-MIN(ROW(F100:F115))+1, \"\"), ROW() -99 )), \"\")","v":""},{"$f":"IFERROR(INDEX(C100:C115, SMALL(IF(ISNUMBER(SEARCH(\"JV2\",F100:F115)), ROW(F100:F115)-MIN(ROW(F100:F115))+1, \"\"), ROW() -99 )), \"\")","v":""},{"$f":"IFERROR(INDEX(D100:D115, SMALL(IF(ISNUMBER(SEARCH(\"JV2\",F100:F115)), ROW(F100:F115)-MIN(ROW(F100:F115))+1, \"\"), ROW() -99 )), \"\")","v":""},{"$f":"IFERROR(INDEX(E100:E115, SMALL(IF(ISNUMBER(SEARCH(\"JV2\",F100:F115)), ROW(F100:F115)-MIN(ROW(F100:F115))+1, \"\"), ROW() -99 )), \"\")","v":""}]
[null,"Hastings College",null,"11-422293","Ethan Lester",null,null,4331.0,null,false,{"$nulls":17},{"$f":"IFERROR(INDEX(B100:B115, SMALL(IF(\"V\"=F100:F115, ROW(F100:F115)-MIN(ROW(F100:F115))+1, \"\"), ROW() -99 )), \"\")","v":"Hastings College"},{"$f":"IFERROR(INDEX(C100:C115, SMALL(IF(\"V\"=F100:F115, ROW(F100:F115)-MIN(ROW(F100:F115))+1, \"\"), ROW() -99 )), \"\")","v":""},{"$f":"IFERROR(INDEX(D100:D115, SMALL(IF(\"V\"=F100:F115, ROW(F100:F115)-MIN(ROW(F100:F115))+1, \"\"), ROW() -99 )), \"\")","v":"8813-4825"},{"$f":"IFERROR(INDEX(E100:E115, SMALL(IF(\"V\"=F100:F115, ROW(F100:F115)-MIN(ROW(F100:F115))+1, \"\"), ROW() -99 )), \"\")","v":"Tyler Call"},{"$f":"IFERROR(INDEX(B100:B115, SMALL(IF(ISNUMBER(SEARCH(\"JV1\",F100:F115)), ROW(F100:F115)-MIN(ROW(F100:F115))+1, \"\"), ROW() -99 )), \"\")","v":""},{"$f":"IFERROR(INDEX(C100:C115, SMALL(IF(ISNUMBER(SEARCH(\"JV1\",F100:F115)), ROW(F100:F115)-MIN(ROW(F100:F115))+1, \"\"), ROW() -99 )), \"\")","v":""},{"$f":"IFERROR(INDEX(D100:D115, SMALL(IF(ISNUMBER(SEARCH(\"JV1\",F100:F115)), ROW(F100:F115)-MIN(ROW(F100:F115))+1, \"\"), ROW() -99 )), \"\")","v":""},{"$f":"IFERROR(INDEX(E100:E115, SMALL(IF(ISNUMBER(SEARCH(\"JV1\",F100:F115)), ROW(F100:F115)-MIN(ROW(F100:F115))+1, \"\"), ROW() -99 )), \"\")","v":""},{"$f":"IFERROR(INDEX(B100:B115, SMALL(IF(ISNUMBER(SEARCH(\"JV2\",F100:F115)), ROW(F100:F115)-MIN(ROW(F100:F115))+1, \"\"), ROW() -99 )), \"\")","v":""},{"$f":"IFERROR(INDEX(C100:C115, SMALL(IF(ISNUMBER(SEARCH(\"JV2\",F100:F115)), ROW(F100:F115)-MIN(ROW(F100:F115))+1, \"\"), ROW() -99 )), \"\")","v":""},{"$f":"IFERROR(INDEX(D100:D115, SMALL(IF(ISNUMBER(SEARCH(\"JV2\",F100:F115)), ROW(F100:F115)-MIN(ROW(F100:F115))+1, \"\"), ROW() -99 )), \"\")","v":""},{"$f":"IFERROR(INDEX(E100:E115, SMALL(IF(ISNUMBER(SEARCH(\"JV2\",F100:F115)), ROW(F100:F115)-MIN(ROW(F100:F115))+1, \"\"), ROW() -99 )), \"\")","v":""}]
[null,"Hastings College",null,"15-22201","Hunter Bell",null,null,4331.0,null,false]
[null,"Hastings College",null,"11-292690","Kaden Kuusela","V",null,4331.0,null,false]
[null,"Hastings College",null,"11-672708","Kenneth High","V",null,4331.0,null,false]
[null,"Hastings College",null,"11-429466","Nathan Stinemates",null,null,4331.0,null,false]
[null,"Hastings College",null,"20-25681","Richard Jarosik",null,null,4331.0,null,false]
[null,"Hastings College",null,"11-104662","Trevor Seeley","V",null,4331.0,null,false]
[null,"Hastings College",null,"8813-4825","Tyler Call","V",null,4331.0,null,false]
[null,"Hastings College",null,"11-317301","Will Wallace",null,null,4331.0,null,false]
[null,"Kansas ,University Of",null,"20-739","Antonio Miranda",null,null,2329.0,null,false,{"$nulls":17},{"$f":"IFERROR(INDEX(B116:B129, SMALL(IF(\"V\"=F116:F129, ROW(F116:F129)-MIN(ROW(F116:F129))+1, \"\"), ROW() -115 )), \"\")","v":"Kansas ,University Of"},{"$f":"IFERROR(INDEX(C116:C129, SMALL(IF(\"V\"=F116:F129, ROW(F116:F129)-MIN(ROW(F116:F129))+1, \"\"), ROW() -115 )), \"\")","v":""},{"$f":"IFERROR(INDEX(D116:D129, SMALL(IF(\"V\"=F116:F129, ROW(F116:F129)-MIN(ROW(F116:F129))+1, \"\"), ROW() -115 )), \"\")","v":"19-37444"},{"$f":"IFERROR(INDEX(E116:E129, SMALL(IF(\"V\"=F116:F129, ROW(F116:F129)-MIN(ROW(F116:F129))+1, \"\"), ROW() -115 )), \"\")","v":"Ayden Ammann"},{"$f":"IFERROR(INDEX(B116:B129, SMALL(IF(ISNUMBER(SEARCH(\"JV1\",F116:F129)), ROW(F116:F129)-MIN(ROW(F116:F129))+1, \"\"), ROW() -115 )), \"\")","v":""},{"$f":"IFERROR(INDEX(C116:C129, SMALL(IF(ISNUMBER(SEARCH(\"JV1\",F116:F129)), ROW(F116:F129)-MIN(ROW(F116:F129))+1, \"\"), ROW() -115 )), \"\")","v":""},{"$f":"IFERROR(INDEX(D116:D129, SMALL(IF(ISNUMBER(SEARCH(\"JV1\",F116:F129)), ROW(F116:F129)-MIN(ROW(F116:F129))+1, \"\"), ROW() -115 )), \"\")","v":""},{"$f":"IFERROR(INDEX(E116:E129, SMALL(IF(ISNUMBER(SEARCH(\"JV1\",F116:F129)), ROW(F116:F129)-MIN(ROW(F116:F129))+1, \"\"), ROW() -115 )), \"\")","v":""},{"$f":"IFERROR(INDEX(B116:B129, SMALL(IF(ISNUMBER(SEARCH(\"JV2\",F116:F129)), ROW(F116:F129)-MIN(ROW(F116:F129))+1, \"\"), ROW() -115 )), \"\")","v":""},{"$f":"IFERROR(INDEX(C116:C129, SMALL(IF(ISNUMBER(SEARCH(\"JV2\",F116:F129)), ROW(F116:F129)-MIN(ROW(F116:F129))+1, \"\"), ROW() -115 )), \"\")","v":""},{"$f":"IFERROR(INDEX(D116:D129, SMALL(IF(ISNUMBER(SEARCH(\"JV2\",F116:F129)), ROW(F116:F129)-MIN(ROW(F116:F129))+1, \"\"), ROW() -115 )), \"\")","v":""},{"$f":"IFERROR(INDEX(E116:E129, SMALL(IF(ISNUMBER(SEARCH(\"JV2\",F116:F129)), ROW(F116:F129)-MIN(ROW(F116:F129))+1, \"\"), ROW() -115 )), \"\")","v":""}]
[null,"Kansas ,University Of",null,"19-37444","Ayden Ammann","V",null,2329.0,null,false,{"$nulls":17},{"$f":"IFERROR(INDEX(B116:B129, SMALL(IF(\"V\"=F116:F129, ROW(F116:F129)-MIN(ROW(F116:F129))+1, \"\"), ROW() -115 )), \"\")","v":"Kansas ,University Of"},{"$f":"IFERROR(INDEX(C116:C129, SMALL(IF(\"V\"=F116:F129, ROW(F116:F129)-MIN(ROW(F116:F129))+1, \"\"), ROW() -115 )), \"\")","v":""},{"$f":"IFERROR(INDEX(D116:D129, SMALL(IF(\"V\"=F116:F129, ROW(F116:F129)-MIN(ROW(F116:F129))+1, \"\"), ROW() -115 )), \"\")","v":"16-162899"},{"$f":"IFERROR(INDEX(E116:E129, SMALL(IF(\"V\"=F116:F129, ROW(F116:F129)-MIN(ROW(F116:F129))+1, \"\"), ROW() -115 )), \"\")","v":"Benjamin Weinzirl"},{"$f":"IFERROR(INDEX(B116:B129, SMALL(IF(ISNUMBER(SEARCH(\"JV1\",F116:F129)), ROW(F116:F129)-MIN(ROW(F116:F129))+1, \"\"), ROW() -115 )), \"\")","v":""},{"$f":"IFERROR(INDEX(C116:C129, SMALL(IF(ISNUMBER(SEARCH(\"JV1\",F116:F129)), ROW(F116:F129)-MIN(ROW(F116:F129))+1, \"\"), ROW() -115 )), \"\")","v":""},{"$f":"IFERROR(INDEX(D116:D129, SMALL(IF(ISNUMBER(SEARCH(\"JV1\",F116:F129)), ROW(F116:F129)-MIN(ROW(F116:F129))+1, \"\"), ROW() -115 )), \"\")","v":""},{"$f":"IFERROR(INDEX(E116:E129, SMALL(IF(ISNUMBER(SEARCH(\"JV1\",F116:F129)), ROW(F116:F129)-MIN(ROW(F116:F129))+1, \"\"), ROW() -115 )), \"\")","v":""},{"$f":"IFERROR(INDEX(B116:B129, SMALL(IF(ISNUMBER(SEARCH(\"JV2\",F116:F129)), ROW(F116:F129)-MIN(ROW(F116:F129))+1, \"\"), ROW() -115 )), \"\")","v":""},{"$f":"IFERROR(INDEX(C116:C129, SMALL(IF(ISNUMBER(SEARCH(\"JV2\",F116:F129)), ROW(F116:F129)-MIN(ROW(F116:F129))+1, \"\"), ROW() -115 )), \"\")","v":""},{"$f":"IFERROR(INDEX(D116:D129, SMALL(IF(ISNUMBER(SEARCH(\"JV2\",F116:F129)), ROW(F116:F129)-MIN(ROW(F116:F129))+1, \"\"), ROW() -115 )), \"\")","v":""},{"$f":"IFERROR(INDEX(E116:E129, SMALL(IF(ISNUMBER(SEARCH(\"JV2\",F116:F129)), ROW(F116:F129)-MIN(ROW(F116:F129))+1, \"\"), ROW() -115 )), \"\")","v":""}]
[null,"Kansas ,University Of",null,"16-162899","Benjamin Weinzirl","V",null,2329.0,null,false,{"$nulls":17},{"$f":"IFERROR(INDEX(B116:B129, SMALL(IF(\"V\"=F116:F129, ROW(F116:F129)-MIN(ROW(F116:F129))+1, \"\"), ROW() -115 )), \"\")","v":"Kansas ,University Of"},{"$f":"IFERROR(INDEX(C116:C129, SMALL(IF(\"V\"=F116:F129, ROW(F116:F129)-MIN(ROW(F116:F129))+1, \"\"), ROW() -115 )), \"\")","v":""},{"$f":"IFERROR(INDEX(D116:D129, SMALL(IF(\"V\"=F116:F129, ROW(F116:F129)-MIN(ROW(F116:F129))+1, \"\"), ROW() -115 )), \"\")","v":"11-653325"},{"$f":"IFERROR(INDEX(E116:E129, SMALL(IF(\"V\"=F116:F129, ROW(F116:F129)-MIN(ROW(F116:F129))+1, \"\"), ROW() -115 )), \"\")","v":"Brendan Mcdermott"},{"$f":"IFERROR(INDEX(B116:B129, SMALL(IF(ISNUMBER(SEARCH(\"JV1\",F116:F129)), ROW(F116:F129)-MIN(ROW(F116:F129))+1, \"\"), ROW() -115 )), \"\")","v":""},{"$f":"IFERROR(INDEX(C116:C129, SMALL(IF(ISNUMBER(SEARCH(\"JV1\",F116:F129)), ROW(F116:F129)-MIN(ROW(F116:F129))+1, \"\"), ROW() -115 )), \"\")","v":""},{"$f":"IFERROR(INDEX(D116:D129, SMALL(IF(ISNUMBER(SEARCH(\"JV1\",F116:F129)), ROW(F116:F129)-MIN(ROW(F116:F129))+1, \"\"), ROW() -115 )), \"\")","v":""},{"$f":"IFERROR(INDEX(E116:E129, SMALL(IF(ISNUMBER(SEARCH(\"JV1\",F116:F129)), ROW(F116:F129)-MIN(ROW(F116:F129))+1, \"\"), ROW() -115 )), \"\")","v":""},{"$f":"IFERROR(INDEX(B116:B129, SMALL(IF(ISNUMBER(SEARCH(\"JV2\",F116:F129)), ROW(F116:F129)-MIN(ROW(F116:F129))+1, \"\"), ROW() -115 )), \"\")","v":""},{"$f":"IFERROR(INDEX(C116:C129, SMALL(IF(ISNUMBER(SEARCH(\"JV2\",F116:F129)), ROW(F116:F129)-MIN(ROW(F116:F129))+1, \"\"), ROW() -115 )), \"\")","v":""},{"$f":"IFERROR(INDEX(D116:D129, SMALL(IF(ISNUMBER(SEARCH(\"JV2\",F116:F129)), ROW(F116:F129)-MIN(ROW(F116:F129))+1, \"\"), ROW() -115 )), \"\")","v":""},{"$f":"IFERROR(INDEX(E116:E129, SMALL(IF(ISNUMBER(SEARCH(\"JV2\",F116:F129)), ROW(F116:F129)-MIN(ROW(F116:F129))+1, \"\"), ROW() -115 )), \"\")","v":""}]
[null,"Kansas ,University Of",null,"11-653325","Brendan Mcdermott","V",null,2329.0,null,false,{"$nulls":17},{"$f":"IFERROR(INDEX(B116:B129, SMALL(IF(\"V\"=F116:F129, ROW(F116:F129)-MIN(ROW(F116:F129))+1, \"\"), ROW() -115 )), \"\")","v":"Kansas ,University Of"},{"$f":"IFERROR(INDEX(C116:C129, SMALL(IF(\"V\"=F116:F129, ROW(F116:F129)-MIN(ROW(F116:F129))+1, \"\"), ROW() -115 )), \"\")","v":""},{"$f":"IFERROR(INDEX(D116:D129, SMALL(IF(\"V\"=F116:F129, ROW(F116:F129)-MIN(ROW(F116:F129))+1, \"\"), ROW() -115 )), \"\")","v":"11-489693"},{"$f":"IFERROR(INDEX(E116:E129, SMALL(IF(\"V\"=F116:F129, ROW(F116:F129)-MIN(ROW(F116:F129))+1, \"\"), ROW() -115 )), \"\")","v":"Chase Milledge"},{"$f":"IFERROR(INDEX(B116:B129, SMALL(IF(ISNUMBER(SEARCH(\"JV1\",F116:F129)), ROW(F116:F129)-MIN(ROW(F116:F129))+1, \"\"), ROW() -115 )), \"\")","v":""},{"$f":"IFERROR(INDEX(C116:C129, SMALL(IF(ISNUMBER(SEARCH(\"JV1\",F116:F129)), ROW(F116:F129)-MIN(ROW(F116:F129))+1, \"\"), ROW() -115 )), \"\")","v":""},{"$f":"IFERROR(INDEX(D116:D129, SMALL(IF(ISNUMBER(SEARCH(\"JV1\",F116:F129)), ROW(F116:F129)-MIN(ROW(F116:F129))+1, \"\"), ROW() -115 )), \"\")","v":""},{"$f":"IFERROR(INDEX(E116:E129, SMALL(IF(ISNUMBER(SEARCH(\"JV1\",F116:F129)), ROW(F116:F129)-MIN(ROW(F116:F129))+1, \"\"), ROW() -115 )), \"\")","v":""},{"$f":"IFERROR(INDEX(B116:B129, SMALL(IF(ISNUMBER(SEARCH(\"JV2\",F116:F129)), ROW(F116:F129)-MIN(ROW(F116:F129))+1, \"\"), ROW() -115 )), \"\")","v":""},{"$f":"IFERROR(INDEX(C116:C129, SMALL(IF(ISNUMBER(SEARCH(\"JV2\",F116:F129)), ROW(F116:F129)-MIN(ROW(F116:F129))+1, \"\"), ROW() -115 )), \"\")","v":""},{"$f":"IFERROR(INDEX(D116:D129, SMALL(IF(ISNUMBER(SEARCH(\"JV2\",F116:F129)), ROW(F116:F129)-MIN(ROW(F116:F129))+1, \"\"), ROW() -115 )), \"\")","v":""},{"$f":"IFERROR(INDEX(E116:E129, SMALL(IF(ISNUMBER(SEARCH(\"JV2\",F116:F129)), ROW(F116:F129)-MIN(ROW(F116:F129))+1, \"\"), ROW() -115 )), \"\")","v":""}]
[null,"Kansas ,University Of",null,"11-595310","Cameryn Wheeler",null,null,2329.0,null,false,{"$nulls":17},{"$f":"IFERROR(INDEX(B116:B129, SMALL(IF(\"V\"=F116:F129, ROW(F116:F129)-MIN(ROW(F116:F129))+1, \"\"), ROW() -115 )), \"\")","v":"Kansas ,University Of"},{"$f":"IFERROR(INDEX(C116:C129, SMALL(IF(\"V\"=F116:F129, ROW(F116:F129)-MIN(ROW(F116:F129))+1, \"\"), ROW() -115 )), \"\")","v":""},{"$f":"IFERROR(INDEX(D116:D129, SMALL(IF(\"V\"=F116:F129, ROW(F116:F129)-MIN(ROW(F116:F129))+1, \"\"), ROW() -115 )), \"\")","v":"11-742053"},{"$f":"IFERROR(INDEX(E116:E129, SMALL(IF(\"V\"=F116:F129, ROW(F116:F129)-MIN(ROW(F116:F129))+1, \"\"), ROW() -115 )), \"\")","v":"Geovanny Peoples"},{"$f":"IFERROR(INDEX(B116:B129, SMALL(IF(ISNUMBER(SEARCH(\"JV1\",F116:F129)), ROW(F116:F129)-MIN(ROW(F116:F129))+1, \"\"), ROW() -115 )), \"\")","v":""},{"$f":"IFERROR(INDEX(C116:C129, SMALL(IF(ISNUMBER(SEARCH(\"JV1\",F116:F129)), ROW(F116:F129)-MIN(ROW(F116:F129))+1, \"\"), ROW() -115 )), \"\")","v":""},{"$f":"IFERROR(INDEX(D116:D129, SMALL(IF(ISNUMBER(SEARCH(\"JV1\",F116:F129)), ROW(F116:F129)-MIN(ROW(F116:F129))+1, \"\"), ROW() -115 )), \"\")","v":""},{"$f":"IFERROR(INDEX(E116:E129, SMALL(IF(ISNUMBER(SEARCH(\"JV1\",F116:F129)), ROW(F116:F129)-MIN(ROW(F116:F129))+1, \"\"), ROW() -115 )), \"\")","v":""},{"$f":"IFERROR(INDEX(B116:B129, SMALL(IF(ISNUMBER(SEARCH(\"JV2\",F116:F129)), ROW(F116:F129)-MIN(ROW(F116:F129))+1, \"\"), ROW() -115 )), \"\")","v":""},{"$f":"IFERROR(INDEX(C116:C129, SMALL(IF(ISNUMBER(SEARCH(\"JV2\",F116:F129)), ROW(F116:F129)-MIN(ROW(F116:F129))+1, \"\"), ROW() -115 )), \"\")","v":""},{"$f":"IFERROR(INDEX(D116:D129, SMALL(IF(ISNUMBER(SEARCH(\"JV2\",F116:F129)), ROW(F116:F129)-MIN(ROW(F116:F129))+1, \"\"), ROW() -115 )), \"\")","v":""},{"$f":"IFERROR(INDEX(E116:E129, SMALL(IF(ISNUMBER(SEARCH(\"JV2\",F116:F129)), ROW(F116:F129)-MIN(ROW(F116:F129))+1, \"\"), ROW() -115 )), \"\")","v":""}]
[null,"Kansas ,University Of",null,"11-489693","Chase Milledge","V",null,2329.0,null,false,{"$nulls":17},{"$f":"IFERROR(INDEX(B116:B129, SMALL(IF(\"V\"=F116:F129, ROW(F116:F129)-MIN(ROW(F116:F129))+1, \"\"), ROW() -115 )), \"\")","v":"Kansas ,University Of"},{"$f":"IFERROR(INDEX(C116:C129, SMALL(IF(\"V\"=F116:F129, ROW(F116:F129)-MIN(ROW(F116:F129))+1, \"\"), ROW() -115 )), \"\")","v":""},{"$f":"IFERROR(INDEX(D116:D129, SMALL(IF(\"V\"=F116:F129, ROW(F116:F129)-MIN(ROW(F116:F129))+1, \"\"), ROW() -115 )), \"\")","v":"11-411198"},{"$f":"IFERROR(INDEX(E116:E129, SMALL(IF(\"V\"=F116:F129, ROW(F116:F129)-MIN(ROW(F116:F129))+1, \"\"), ROW() -115 )), \"\")","v":"Jacob Fonyi"},{"$f":"IFERROR(INDEX(B116:B129, SMALL(IF(ISNUMBER(SEARCH(\"JV1\",F116:F129)), ROW(F116:F129)-MIN(ROW(F116:F129))+1, \"\"), ROW() -115 )), \"\")","v":""},{"$f":"IFERROR(INDEX(C116:C129, SMALL(IF(ISNUMBER(SEARCH(\"JV1\",F116:F129)), ROW(F116:F129)-MIN(ROW(F116:F129))+1, \"\"), ROW() -115 )), \"\")","v":""},{"$f":"IFERROR(INDEX(D116:D129, SMALL(IF(ISNUMBER(SEARCH(\"JV1\",F116:F129)), ROW(F116:F129)-MIN(ROW(F116:F129))+1, \"\"), ROW() -115 )), \"\")","v":""},{"$f":"IFERROR(INDEX(E116:E129, SMALL(IF(ISNUMBER(SEARCH(\"JV1\",F116:F129)), ROW(F116:F129)-MIN(ROW(F116:F129))+1, \"\"), ROW() -115 )), \"\")","v":""},{"$f":"IFERROR(INDEX(B116:B129, SMALL(IF(ISNUMBER(SEARCH(\"JV2\",F116:F129)), ROW(F116:F129)-MIN(ROW(F116:F129))+1, \"\"), ROW() -115 )), \"\")","v":""},{"$f":"IFERROR(INDEX(C116:C129, SMALL(IF(ISNUMBER(SEARCH(\"JV2\",F116:F129)), ROW(F116:F129)-MIN(ROW(F116:F129))+1, \"\"), ROW() -115 )), \"\")","v":""},{"$f":"IFERROR(INDEX(D116:D129, SMALL(IF(ISNUMBER(SEARCH(\"JV2\",F116:F129)), ROW(F116:F129)-MIN(ROW(F116:F129))+1, \"\"), ROW() -115 )), \"\")","v":""},{"$f":"IFERROR(INDEX(E116:E129, SMALL(IF(ISNUMBER(SEARCH(\"JV2\",F116:F129)), ROW(F116:F129)-MIN(ROW(F116:F129))+1, \"\"), ROW() -115 )), \"\")","v":""}]
[null,"Kansas ,University Of",null,"11-469451","Daniel Moser",null,null,2329.0,null,false,{"$nulls":17},{"$f":"IFERROR(INDEX(B116:B129, SMALL(IF(\"V\"=F116:F129, ROW(F116:F129)-MIN(ROW(F116:F129))+1, \"\"), ROW() -115 )), \"\")","v":"Kansas ,University Of"},{"$f":"IFERROR(INDEX(C116:C129, SMALL(IF(\"V\"=F116:F129, ROW(F116:F129)-MIN(ROW(F116:F129))+1, \"\"), ROW() -115 )), \"\")","v":""},{"$f":"IFERROR(INDEX(D116:D129, SMALL(IF(\"V\"=F116:F129, ROW(F116:F129)-MIN(ROW(F116:F129))+1, \"\"), ROW() -115 )), \"\")","v":"11-648844"},{"$f":"IFERROR(INDEX(E116:E129, SMALL(IF(\"V\"=F116:F129, ROW(F116:F129)-MIN(ROW(F116:F129))+1, \"\"), ROW() -115 )), \"\")","v":"Josh Hammons"},{"$f":"IFERROR(INDEX(B116:B129, SMALL(IF(ISNUMBER(SEARCH(\"JV1\",F116:F129)), ROW(F116:F129)-MIN(ROW(F116:F129))+1, \"\"), ROW() -115 )), \"\")","v":""},{"$f":"IFERROR(INDEX(C116:C129, SMALL(IF(ISNUMBER(SEARCH(\"JV1\",F116:F129)), ROW(F116:F129)-MIN(ROW(F116:F129))+1, \"\"), ROW() -115 )), \"\")","v":""},{"$f":"IFERROR(INDEX(D116:D129, SMALL(IF(ISNUMBER(SEARCH(\"JV1\",F116:F129)), ROW(F116:F129)-MIN(ROW(F116:F129))+1, \"\"), ROW() -115 )), \"\")","v":""},{"$f":"IFERROR(INDEX(E116:E129, SMALL(IF(ISNUMBER(SEARCH(\"JV1\",F116:F129)), ROW(F116:F129)-MIN(ROW(F116:F129))+1, \"\"), ROW() -115 )), \"\")","v":""},{"$f":"IFERROR(INDEX(B116:B129, SMALL(IF(ISNUMBER(SEARCH(\"JV2\",F116:F129)), ROW(F116:F129)-MIN(ROW(F116:F129))+1, \"\"), ROW() -115 )), \"\")","v":""},{"$f":"IFERROR(INDEX(C116:C129, SMALL(IF(ISNUMBER(SEARCH(\"JV2\",F116:F129)), ROW(F116:F129)-MIN(ROW(F116:F129))+1, \"\"), ROW() -115 )), \"\")","v":""},{"$f":"IFERROR(INDEX(D116:D129, SMALL(IF(ISNUMBER(SEARCH(\"JV2\",F116:F129)), ROW(F116:F129)-MIN(ROW(F116:F129))+1, \"\"), ROW() -115 )), \"\")","v":""},{"$f":"IFERROR(INDEX(E116:E129, SMALL(IF(ISNUMBER(SEARCH(\"JV2\",F116:F129)), ROW(F116:F129)-MIN(ROW(F116:F129))+1, \"\"), ROW() -115 )), \"\")","v":""}]
[null,"Kansas ,University Of",null,"18-1348","Dylan Eblen",null,null,2329.0,null,false,{"$nulls":17},{"$f":"IFERROR(INDEX(B116:B129, SMALL(IF(\"V\"=F116:F129, ROW(F116:F129)-MIN(ROW(F116:F129))+1, \"\"), ROW() -115 )), \"\")","v":"Kansas ,University Of"},{"$f":"IFERROR(INDEX(C116:C129, SMALL(IF(\"V\"=F116:F129, ROW(F116:F129)-MIN(ROW(F116:F129))+1, \"\"), ROW() -115 )), \"\")","v":""},{"$f":"IFERROR(INDEX(D116:D129, SMALL(IF(\"V\"=F116:F129, ROW(F116:F129)-MIN(ROW(F116:F129))+1, \"\"), ROW() -115 )), \"\")","v":"11-348802"},{"$f":"IFERROR(INDEX(E116:E129, SMALL(IF(\"V\"=F116:F129, ROW(F116:F129)-MIN(ROW(F116:F129))+1, \"\"), ROW() -115 )), \"\")","v":"Preston Pacheco"},{"$f":"IFERROR(INDEX(B116:B129, SMALL(IF(ISNUMBER(SEARCH(\"JV1\",F116:F129)), ROW(F116:F129)-MIN(ROW(F116:F129))+1, \"\"), ROW() -115 )), \"\")","v":""},{"$f":"IFERROR(INDEX(C116:C129, SMALL(IF(ISNUMBER(SEARCH(\"JV1\",F116:F129)), ROW(F116:F129)-MIN(ROW(F116:F129))+1, \"\"), ROW() -115 )), \"\")","v":""},{"$f":"IFERROR(INDEX(D116:D129, SMALL(IF(ISNUMBER(SEARCH(\"JV1\",F116:F129)), ROW(F116:F129)-MIN(ROW(F116:F129))+1, \"\"), ROW() -115 )), \"\")","v":""},{"$f":"IFERROR(INDEX(E116:E129, SMALL(IF(ISNUMBER(SEARCH(\"JV1\",F116:F129)), ROW(F116:F129)-MIN(ROW(F116:F129))+1, \"\"), ROW() -115 )), \"\")","v":""},{"$f":"IFERROR(INDEX(B116:B129, SMALL(IF(ISNUMBER(SEARCH(\"JV2\",F116:F129)), ROW(F116:F129)-MIN(ROW(F116:F129))+1, \"\"), ROW() -115 )), \"\")","v":""},{"$f":"IFERROR(INDEX(C116:C129, SMALL(IF(ISNUMBER(SEARCH(\"JV2\",F116:F129)), ROW(F116:F129)-MIN(ROW(F116:F129))+1, \"\"), ROW() -115 )), \"\")","v":""},{"$f":"IFERROR(INDEX(D116:D129, SMALL(IF(ISNUMBER(SEARCH(\"JV2\",F116:F129)), ROW(F116:F129)-MIN(ROW(F116:F129))+1, \"\"), ROW() -115 )), \"\")","v":""},{"$f":"IFERROR(INDEX(E116:E129, SMALL(IF(ISNUMBER(SEARCH(\"JV2\",F116:F129)), ROW(F116:F129)-MIN(ROW(F116:F129))+1, \"\"), ROW() -115 )), \"\")","v":""}]
[null,"Kansas ,University Of",null,"11-742053","Geovanny Peoples","V",null,2329.0,null,false]
[null,"Kansas ,University Of",null,"11-411198","Jacob Fonyi","V",null,2329.0,null,false]
[null,"Kansas ,University Of",null,"11-648844","Josh Hammons","V",null,2329.0,null,false]
[null,"Kansas ,University Of",null,"20-25203","Kellen McGowan",null,null,2329.0,null,false]
[null,"Kansas ,University Of",null,"19-83040","Patrick Bloomer",null,null,2329.0,null,false]
[null,"Kansas ,University Of",null,"11-348802","Preston Pacheco","V",null,2329.0,null,false]
[null,"Kansas State University",null,"9967-292","Benjamin Alvarez",null,null,4450.0,null,false,{"$nulls":17},{"$f":"IFERROR(INDEX(B130:B144, SMALL(IF(\"V\"=F130:F144, ROW(F130:F144)-MIN(ROW(F130:F144))+1, \"\"), ROW() -129 )), \"\")","v":"Kansas State University"},{"$f":"IFERROR(INDEX(C130:C144, SMALL(IF(\"V\"=F130:F144, ROW(F130:F144)-MIN(ROW(F130:F144))+1, \"\"), ROW() -129 )), \"\")","v":""},{"$f":"IFERROR(INDEX(D130:D144, SMALL(IF(\"V\"=F130:F144, ROW(F130:F144)-MIN(ROW(F130:F144))+1, \"\"), ROW() -129 )), \"\")","v":"22-16685"},{"$f":"IFERROR(INDEX(E130:E144, SMALL(IF(\"V\"=F130:F144, ROW(F130:F144)-MIN(ROW(F130:F144))+1, \"\"), ROW() -129 )), \"\")","v":"Braden Maltz"},{"$f":"IFERROR(INDEX(B130:B144, SMALL(IF(ISNUMBER(SEARCH(\"JV1\",F130:F144)), ROW(F130:F144)-MIN(ROW(F130:F144))+1, \"\"), ROW() -129 )), \"\")","v":""},{"$f":"IFERROR(INDEX(C130:C144, SMALL(IF(ISNUMBER(SEARCH(\"JV1\",F130:F144)), ROW(F130:F144)-MIN(ROW(F130:F144))+1, \"\"), ROW() -129 )), \"\")","v":""},{"$f":"IFERROR(INDEX(D130:D144, SMALL(IF(ISNUMBER(SEARCH(\"JV1\",F130:F144)), ROW(F130:F144)-MIN(ROW(F130:F144))+1, \"\"), ROW() -129 )), \"\")","v":""},{"$f":"IFERROR(INDEX(E130:E144, SMALL(IF(ISNUMBER(SEARCH(\"JV1\",F130:F144)), ROW(F130:F144)-MIN(ROW(F130:F144))+1, \"\"), ROW() -129 )), \"\")","v":""},{"$f":"IFERROR(INDEX(B130:B144, SMALL(IF(ISNUMBER(SEARCH(\"JV2\",F130:F144)), ROW(F130:F144)-MIN(ROW(F130:F144))+1, \"\"), ROW() -129 )), \"\")","v":""},{"$f":"IFERROR(INDEX(C130:C144, SMALL(IF(ISNUMBER(SEARCH(\"JV2\",F130:F144)), ROW(F130:F144)-MIN(ROW(F130:F144))+1, \"\"), ROW() -129 )), \"\")","v":""},{"$f":"IFERROR(INDEX(D130:D144, SMALL(IF(ISNUMBER(SEARCH(\"JV2\",F130:F144)), ROW(F130:F144)-MIN(ROW(F130:F144))+1, \"\"), ROW() -129 )), \"\")","v":""},{"$f":"IFERROR(INDEX(E130:E144, SMALL(IF(ISNUMBER(SEARCH(\"JV2\",F130:F144)), ROW(F130:F144)-MIN(ROW(F130:F144))+1, \"\"), ROW() -129 )), \"\")","v":""}]
[null,"Kansas State University",null,"22-16685","Braden Maltz","V",null,4450.0,null,false,{"$nulls":17},{"$f":"IFERROR(INDEX(B130:B144, SMALL(IF(\"V\"=F130:F144, ROW(F130:F144)-MIN(ROW(F130:F144))+1, \"\"), ROW() -129 )), \"\")","v":"Kansas State University"},{"$f":"IFERROR(INDEX(C130:C144, SMALL(IF(\"V\"=F130:F144, ROW(F130:F144)-MIN(ROW(F130:F144))+1, \"\"), ROW() -129 )), \"\")","v":""},{"$f":"IFERROR(INDEX(D130:D144, SMALL(IF(\"V\"=F130:F144, ROW(F130:F144)-MIN(ROW(F130:F144))+1, \"\"), ROW() -129 )), \"\")","v":"19-37440"},{"$f":"IFERROR(INDEX(E130:E144, SMALL(IF(\"V\"=F130:F144, ROW(F130:F144)-MIN(ROW(F130:F144))+1, \"\"), ROW() -129 )), \"\")","v":"Carson Toews"},{"$f":"IFERROR(INDEX(B130:B144, SMALL(IF(ISNUMBER(SEARCH(\"JV1\",F130:F144)), ROW(F130:F144)-MIN(ROW(F130:F144))+1, \"\"), ROW() -129 )), \"\")","v":""},{"$f":"IFERROR(INDEX(C130:C144, SMALL(IF(ISNUMBER(SEARCH(\"JV1\",F130:F144)), ROW(F130:F144)-MIN(ROW(F130:F144))+1, \"\"), ROW() -129 )), \"\")","v":""},{"$f":"IFERROR(INDEX(D130:D144, SMALL(IF(ISNUMBER(SEARCH(\"JV1\",F130:F144)), ROW(F130:F144)-MIN(ROW(F130:F144))+1, \"\"), ROW() -129 )), \"\")","v":""},{"$f":"IFERROR(INDEX(E130:E144, SMALL(IF(ISNUMBER(SEARCH(\"JV1\",F130:F144)), ROW(F130:F144)-MIN(ROW(F130:F144))+1, \"\"), ROW() -129 )), \"\")","v":""},{"$f":"IFERROR(INDEX(B130:B144, SMALL(IF(ISNUMBER(SEARCH(\"JV2\",F130:F144)), ROW(F130:F144)-MIN(ROW(F130:F144))+1, \"\"), ROW() -129 )), \"\")","v":""},{"$f":"IFERROR(INDEX(C130:C144, SMALL(IF(ISNUMBER(SEARCH(\"JV2\",F130:F144)), ROW(F130:F144)-MIN(ROW(F130:F144))+1, \"\"), ROW() -129 )), \"\")","v":""},{"$f":"IFERROR(INDEX(D130:D144, SMALL(IF(ISNUMBER(SEARCH(\"JV2\",F130:F144)), ROW(F130:F144)-MIN(ROW(F130:F144))+1, \"\"), ROW() -129 )), \"\")","v":""},{"$f":"IFERROR(INDEX(E130:E144, SMALL(IF(ISNUMBER(SEARCH(\"JV2\",F130:F144)), ROW(F130:F144)-MIN(ROW(F130:F144))+1, \"\"), ROW() -129 )), \"\")","v":""}]
[null,"Kansas State University",null,"19-85683","Brady Cline",null,null,4450.0,null,false,{"$nulls":17},{"$f":"IFERROR(INDEX(B130:B144, SMALL(IF(\"V\"=F130:F144, ROW(F130:F144)-MIN(ROW(F130:F144))+1, \"\"), ROW() -129 )), \"\")","v":"Kansas State University"},{"$f":"IFERROR(INDEX(C130:C144, SMALL(IF(\"V\"=F130:F144, ROW(F130:F144)-MIN(ROW(F130:F144))+1, \"\"), ROW() -129 )), \"\")","v":""},{"$f":"IFERROR(INDEX(D130:D144, SMALL(IF(\"V\"=F130:F144, ROW(F130:F144)-MIN(ROW(F130:F144))+1, \"\"), ROW() -129 )), \"\")","v":"21-24464"},{"$f":"IFERROR(INDEX(E130:E144, SMALL(IF(\"V\"=F130:F144, ROW(F130:F144)-MIN(ROW(F130:F144))+1, \"\"), ROW() -129 )), \"\")","v":"Carter Schaffer"},{"$f":"IFERROR(INDEX(B130:B144, SMALL(IF(ISNUMBER(SEARCH(\"JV1\",F130:F144)), ROW(F130:F144)-MIN(ROW(F130:F144))+1, \"\"), ROW() -129 )), \"\")","v":""},{"$f":"IFERROR(INDEX(C130:C144, SMALL(IF(ISNUMBER(SEARCH(\"JV1\",F130:F144)), ROW(F130:F144)-MIN(ROW(F130:F144))+1, \"\"), ROW() -129 )), \"\")","v":""},{"$f":"IFERROR(INDEX(D130:D144, SMALL(IF(ISNUMBER(SEARCH(\"JV1\",F130:F144)), ROW(F130:F144)-MIN(ROW(F130:F144))+1, \"\"), ROW() -129 )), \"\")","v":""},{"$f":"IFERROR(INDEX(E130:E144, SMALL(IF(ISNUMBER(SEARCH(\"JV1\",F130:F144)), ROW(F130:F144)-MIN(ROW(F130:F144))+1, \"\"), ROW() -129 )), \"\")","v":""},{"$f":"IFERROR(INDEX(B130:B144, SMALL(IF(ISNUMBER(SEARCH(\"JV2\",F130:F144)), ROW(F130:F144)-MIN(ROW(F130:F144))+1, \"\"), ROW() -129 )), \"\")","v":""},{"$f":"IFERROR(INDEX(C130:C144, SMALL(IF(ISNUMBER(SEARCH(\"JV2\",F130:F144)), ROW(F130:F144)-MIN(ROW(F130:F144))+1, \"\"), ROW() -129 )), \"\")","v":""},{"$f":"IFERROR(INDEX(D130:D144, SMALL(IF(ISNUMBER(SEARCH(\"JV2\",F130:F144)), ROW(F130:F144)-MIN(ROW(F130:F144))+1, \"\"), ROW() -129 )), \"\")","v":""},{"$f":"IFERROR(INDEX(E130:E144, SMALL(IF(ISNUMBER(SEARCH(\"JV2\",F130:F144)), ROW(F130:F144)-MIN(ROW(F130:F144))+1, \"\"), ROW() -129 )), \"\")","v":""}]
[null,"Kansas State University",null,"17-99159","Broderick Boehm",null,null,4450.0,null,false,{"$nulls":17},{"$f":"IFERROR(INDEX(B130:B144, SMALL(IF(\"V\"=F130:F144, ROW(F130:F144)-MIN(ROW(F130:F144))+1, \"\"), ROW() -129 )), \"\")","v":"Kansas State University"},{"$f":"IFERROR(INDEX(C130:C144, SMALL(IF(\"V\"=F130:F144, ROW(F130:F144)-MIN(ROW(F130:F144))+1, \"\"), ROW() -129 )), \"\")","v":""},{"$f":"IFERROR(INDEX(D130:D144, SMALL(IF(\"V\"=F130:F144, ROW(F130:F144)-MIN(ROW(F130:F144))+1, \"\"), ROW() -129 )), \"\")","v":"9600-4102"},{"$f":"IFERROR(INDEX(E130:E144, SMALL(IF(\"V\"=F130:F144, ROW(F130:F144)-MIN(ROW(F130:F144))+1, \"\"), ROW() -129 )), \"\")","v":"David Culp"},{"$f":"IFERROR(INDEX(B130:B144, SMALL(IF(ISNUMBER(SEARCH(\"JV1\",F130:F144)), ROW(F130:F144)-MIN(ROW(F130:F144))+1, \"\"), ROW() -129 )), \"\")","v":""},{"$f":"IFERROR(INDEX(C130:C144, SMALL(IF(ISNUMBER(SEARCH(\"JV1\",F130:F144)), ROW(F130:F144)-MIN(ROW(F130:F144))+1, \"\"), ROW() -129 )), \"\")","v":""},{"$f":"IFERROR(INDEX(D130:D144, SMALL(IF(ISNUMBER(SEARCH(\"JV1\",F130:F144)), ROW(F130:F144)-MIN(ROW(F130:F144))+1, \"\"), ROW() -129 )), \"\")","v":""},{"$f":"IFERROR(INDEX(E130:E144, SMALL(IF(ISNUMBER(SEARCH(\"JV1\",F130:F144)), ROW(F130:F144)-MIN(ROW(F130:F144))+1, \"\"), ROW() -129 )), \"\")","v":""},{"$f":"IFERROR(INDEX(B130:B144, SMALL(IF(ISNUMBER(SEARCH(\"JV2\",F130:F144)), ROW(F130:F144)-MIN(ROW(F130:F144))+1, \"\"), ROW() -129 )), \"\")","v":""},{"$f":"IFERROR(INDEX(C130:C144, SMALL(IF(ISNUMBER(SEARCH(\"JV2\",F130:F144)), ROW(F130:F144)-MIN(ROW(F130:F144))+1, \"\"), ROW() -129 )), \"\")","v":""},{"$f":"IFERROR(INDEX(D130:D144, SMALL(IF(ISNUMBER(SEARCH(\"JV2\",F130:F144)), ROW(F130:F144)-MIN(ROW(F130:F144))+1, \"\"), ROW() -129 )), \"\")","v":""},{"$f":"IFERROR(INDEX(E130:E144, SMALL(IF(ISNUMBER(SEARCH(\"JV2\",F130:F144)), ROW(F130:F144)-MIN(ROW(F130:F144))+1, \"\"), ROW() -129 )), \"\")","v":""}]
[null,"Kansas State University",null,"11-90659","Cameron Kotwitz",null,null,4450.0,null,false,{"$nulls":17},{"$f":"IFERROR(INDEX(B130:B144, SMALL(IF(\"V\"=F130:F144, ROW(F130:F144)-MIN(ROW(F130:F144))+1, \"\"), ROW() -129 )), \"\")","v":"Kansas State University"},{"$f":"IFERROR(INDEX(C130:C144, SMALL(IF(\"V\"=F130:F144, ROW(F130:F144)-MIN(ROW(F130:F144))+1, \"\"), ROW() -129 )), \"\")","v":""},{"$f":"IFERROR(INDEX(D130:D144, SMALL(IF(\"V\"=F130:F144, ROW(F130:F144)-MIN(ROW(F130:F144))+1, \"\"), ROW() -129 )), \"\")","v":"11-275379"},{"$f":"IFERROR(INDEX(E130:E144, SMALL(IF(\"V\"=F130:F144, ROW(F130:F144)-MIN(ROW(F130:F144))+1, \"\"), ROW() -129 )), \"\")","v":"Devin Morelock"},{"$f":"IFERROR(INDEX(B130:B144, SMALL(IF(ISNUMBER(SEARCH(\"JV1\",F130:F144)), ROW(F130:F144)-MIN(ROW(F130:F144))+1, \"\"), ROW() -129 )), \"\")","v":""},{"$f":"IFERROR(INDEX(C130:C144, SMALL(IF(ISNUMBER(SEARCH(\"JV1\",F130:F144)), ROW(F130:F144)-MIN(ROW(F130:F144))+1, \"\"), ROW() -129 )), \"\")","v":""},{"$f":"IFERROR(INDEX(D130:D144, SMALL(IF(ISNUMBER(SEARCH(\"JV1\",F130:F144)), ROW(F130:F144)-MIN(ROW(F130:F144))+1, \"\"), ROW() -129 )), \"\")","v":""},{"$f":"IFERROR(INDEX(E130:E144, SMALL(IF(ISNUMBER(SEARCH(\"JV1\",F130:F144)), ROW(F130:F144)-MIN(ROW(F130:F144))+1, \"\"), ROW() -129 )), \"\")","v":""},{"$f":"IFERROR(INDEX(B130:B144, SMALL(IF(ISNUMBER(SEARCH(\"JV2\",F130:F144)), ROW(F130:F144)-MIN(ROW(F130:F144))+1, \"\"), ROW() -129 )), \"\")","v":""},{"$f":"IFERROR(INDEX(C130:C144, SMALL(IF(ISNUMBER(SEARCH(\"JV2\",F130:F144)), ROW(F130:F144)-MIN(ROW(F130:F144))+1, \"\"), ROW() -129 )), \"\")","v":""},{"$f":"IFERROR(INDEX(D130:D144, SMALL(IF(ISNUMBER(SEARCH(\"JV2\",F130:F144)), ROW(F130:F144)-MIN(ROW(F130:F144))+1, \"\"), ROW() -129 )), \"\")","v":""},{"$f":"IFERROR(INDEX(E130:E144, SMALL(IF(ISNUMBER(SEARCH(\"JV2\",F130:F144)), ROW(F130:F144)-MIN(ROW(F130:F144))+1, \"\"), ROW() -129 )), \"\")","v":""}]
[null,"Kansas State University",null,"19-37440","Carson Toews","V",null,4450.0,null,false,{"$nulls":17},{"$f":"IFERROR(INDEX(B130:B144, SMALL(IF(\"V\"=F130:F144, ROW(F130:F144)-MIN(ROW(F130:F144))+1, \"\"), ROW() -129 )), \"\")","v":"Kansas State University"},{"$f":"IFERROR(INDEX(C130:C144, SMALL(IF(\"V\"=F130:F144, ROW(F130:F144)-MIN(ROW(F130:F144))+1, \"\"), ROW() -129 )), \"\")","v":""},{"$f":"IFERROR(INDEX(D130:D144, SMALL(IF(\"V\"=F130:F144, ROW(F130:F144)-MIN(ROW(F130:F144))+1, \"\"), ROW() -129 )), \"\")","v":"17-101586"},{"$f":"IFERROR(INDEX(E130:E144, SMALL(IF(\"V\"=F130:F144, ROW(F130:F144)-MIN(ROW(F130:F144))+1, \"\"), ROW() -129 )), \"\")","v":"Luke Belvin"},{"$f":"IFERROR(INDEX(B130:B144, SMALL(IF(ISNUMBER(SEARCH(\"JV1\",F130:F144)), ROW(F130:F144)-MIN(ROW(F130:F144))+1, \"\"), ROW() -129 )), \"\")","v":""},{"$f":"IFERROR(INDEX(C130:C144, SMALL(IF(ISNUMBER(SEARCH(\"JV1\",F130:F144)), ROW(F130:F144)-MIN(ROW(F130:F144))+1, \"\"), ROW() -129 )), \"\")","v":""},{"$f":"IFERROR(INDEX(D130:D144, SMALL(IF(ISNUMBER(SEARCH(\"JV1\",F130:F144)), ROW(F130:F144)-MIN(ROW(F130:F144))+1, \"\"), ROW() -129 )), \"\")","v":""},{"$f":"IFERROR(INDEX(E130:E144, SMALL(IF(ISNUMBER(SEARCH(\"JV1\",F130:F144)), ROW(F130:F144)-MIN(ROW(F130:F144))+1, \"\"), ROW() -129 )), \"\")","v":""},{"$f":"IFERROR(INDEX(B130:B144, SMALL(IF(ISNUMBER(SEARCH(\"JV2\",F130:F144)), ROW(F130:F144)-MIN(ROW(F130:F144))+1, \"\"), ROW() -129 )), \"\")","v":""},{"$f":"IFERROR(INDEX(C130:C144, SMALL(IF(ISNUMBER(SEARCH(\"JV2\",F130:F144)), ROW(F130:F144)-MIN(ROW(F130:F144))+1, \"\"), ROW() -129 )), \"\")","v":""},{"$f":"IFERROR(INDEX(D130:D144, SMALL(IF(ISNUMBER(SEARCH(\"JV2\",F130:F144)), ROW(F130:F144)-MIN(ROW(F130:F144))+1, \"\"), ROW() -129 )), \"\")","v":""},{"$f":"IFERROR(INDEX(E130:E144, SMALL(IF(ISNUMBER(SEARCH(\"JV2\",F130:F144)), ROW(F130:F144)-MIN(ROW(F130:F144))+1, \"\"), ROW() -129 )), \"\")","v":""}]
[null,"Kansas State University",null,"21-24464","Carter Schaffer","V",null,4450.0,null,false,{"$nulls":17},{"$f":"IFERROR(INDEX(B130:B144, SMALL(IF(\"V\"=F130:F144, ROW(F130:F144)-MIN(ROW(F130:F144))+1, \"\"), ROW() -129 )), \"\")","v":"Kansas State University"},{"$f":"IFERROR(INDEX(C130:C144, SMALL(IF(\"V\"=F130:F144, ROW(F130:F144)-MIN(ROW(F130:F144))+1, \"\"), ROW() -129 )), \"\")","v":""},{"$f":"IFERROR(INDEX(D130:D144, SMALL(IF(\"V\"=F130:F144, ROW(F130:F144)-MIN(ROW(F130:F144))+1, \"\"), ROW() -129 )), \"\")","v":"21-82211"},{"$f":"IFERROR(INDEX(E130:E144, SMALL(IF(\"V\"=F130:F144, ROW(F130:F144)-MIN(ROW(F130:F144))+1, \"\"), ROW() -129 )), \"\")","v":"Swade Helton"},{"$f":"IFERROR(INDEX(B130:B144, SMALL(IF(ISNUMBER(SEARCH(\"JV1\",F130:F144)), ROW(F130:F144)-MIN(ROW(F130:F144))+1, \"\"), ROW() -129 )), \"\")","v":""},{"$f":"IFERROR(INDEX(C130:C144, SMALL(IF(ISNUMBER(SEARCH(\"JV1\",F130:F144)), ROW(F130:F144)-MIN(ROW(F130:F144))+1, \"\"), ROW() -129 )), \"\")","v":""},{"$f":"IFERROR(INDEX(D130:D144, SMALL(IF(ISNUMBER(SEARCH(\"JV1\",F130:F144)), ROW(F130:F144)-MIN(ROW(F130:F144))+1, \"\"), ROW() -129 )), \"\")","v":""},{"$f":"IFERROR(INDEX(E130:E144, SMALL(IF(ISNUMBER(SEARCH(\"JV1\",F130:F144)), ROW(F130:F144)-MIN(ROW(F130:F144))+1, \"\"), ROW() -129 )), \"\")","v":""},{"$f":"IFERROR(INDEX(B130:B144, SMALL(IF(ISNUMBER(SEARCH(\"JV2\",F130:F144)), ROW(F130:F144)-MIN(ROW(F130:F144))+1, \"\"), ROW() -129 )), \"\")","v":""},{"$f":"IFERROR(INDEX(C130:C144, SMALL(IF(ISNUMBER(SEARCH(\"JV2\",F130:F144)), ROW(F130:F144)-MIN(ROW(F130:F144))+1, \"\"), ROW() -129 )), \"\")","v":""},{"$f":"IFERROR(INDEX(D130:D144, SMALL(IF(ISNUMBER(SEARCH(\"JV2\",F130:F144)), ROW(F130:F144)-MIN(ROW(F130:F144))+1, \"\"), ROW() -129 )), \"\")","v":""},{"$f":"IFERROR(INDEX(E130:E144, SMALL(IF(ISNUMBER(SEARCH(\"JV2\",F130:F144)), ROW(F130:F144)-MIN(ROW(F130:F144))+1, \"\"), ROW() -129 )), \"\")","v":""}]
[null,"Kansas State University",null,"9600-4102","David Culp","V",null,4450.0,null,false,{"$nulls":17},{"$f":"IFERROR(INDEX(B130:B144, SMALL(IF(\"V\"=F130:F144, ROW(F130:F144)-MIN(ROW(F130:F144))+1, \"\"), ROW() -129 )), \"\")","v":""},{"$f":"IFERROR(INDEX(C130:C144, SMALL(IF(\"V\"=F130:F144, ROW(F130:F144)-MIN(ROW(F130:F144))+1, \"\"), ROW() -129 )), \"\")","v":""},{"$f":"IFERROR(INDEX(D130:D144, SMALL(IF(\"V\"=F130:F144, ROW(F130:F144)-MIN(ROW(F130:F144))+1, \"\"), ROW() -129 )), \"\")","v":""},{"$f":"IFERROR(INDEX(E130:E144, SMALL(IF(\"V\"=F130:F144, ROW(F130:F144)-MIN(ROW(F130:F144))+1, \"\"), ROW() -129 )), \"\")","v":""},{"$f":"IFERROR(INDEX(B130:B144, SMALL(IF(ISNUMBER(SEARCH(\"JV1\",F130:F144)), ROW(F130:F144)-MIN(ROW(F130:F144))+1, \"\"), ROW() -129 )), \"\")","v":""},{"$f":"IFERROR(INDEX(C130:C144, SMALL(IF(ISNUMBER(SEARCH(\"JV1\",F130:F144)), ROW(F130:F144)-MIN(ROW(F130:F144))+1, \"\"), ROW() -129 )), \"\")","v":""},{"$f":"IFERROR(INDEX(D130:D144, SMALL(IF(ISNUMBER(SEARCH(\"JV1\",F130:F144)), ROW(F130:F144)-MIN(ROW(F130:F144))+1, \"\"), ROW() -129 )), \"\")","v":""},{"$f":"IFERROR(INDEX(E130:E144, SMALL(IF(ISNUMBER(SEARCH(\"JV1\",F130:F144)), ROW(F130:F144)-MIN(ROW(F130:F144))+1, \"\"), ROW() -129 )), \"\")","v":""},{"$f":"IFERROR(INDEX(B130:B144, SMALL(IF(ISNUMBER(SEARCH(\"JV2\",F130:F144)), ROW(F130:F144)-MIN(ROW(F130:F144))+1, \"\"), ROW() -129 )), \"\")","v":""},{"$f":"IFERROR(INDEX(C130:C144, SMALL(IF(ISNUMBER(SEARCH(\"JV2\",F130:F144)), ROW(F130:F144)-MIN(ROW(F130:F144))+1, \"\"), ROW() -129 )), \"\")","v":""},{"$f":"IFERROR(INDEX(D130:D144, SMALL(IF(ISNUMBER(SEARCH(\"JV2\",F130:F144)), ROW(F130:F144)-MIN(ROW(F130:F144))+1, \"\"), ROW() -129 )), \"\")","v":""},{"$f":"IFERROR(INDEX(E130:E144, SMALL(IF(ISNUMBER(SEARCH(\"JV2\",F130:F144)), ROW(F130:F144)-MIN(ROW(F130:F144))+1, \"\"), ROW() -129 )), \"\")","v":""}]
[null,"Kansas State University",null,"11-275379","Devin Morelock","V",null,4450.0,null,false]
[null,"Kansas State University",null,"8599-78256","Hunter Billings",null,null,4450.0,null,false]
[null,"Kansas State University",null,"11-485773","Jacob Kilgore",null,null,4450.0,null,false]
[null,"Kansas State University",null,"11-309234","Ka'Von Jemison",null,null,4450.0,null,false]
[null,"Kansas State University",null,"17-101586","Luke Belvin","V",null,4450.0,null,false]
[null,"Kansas State University",null,"11-653831","Robby Clausel",null,null,4450.0,null,false]
[null,"Kansas State University",null,"21-82211","Swade Helton","V",null,4450.0,null,false]
[null,"Kansas Wesleyan University",null,"16-163630","Alec Elskamp","V",null,4430.0,null,false,{"$nulls":17},{"$f":"IFERROR(INDEX(B145:B157, SMALL(IF(\"V\"=F145:F157, ROW(F145:F157)-MIN(ROW(F145:F157))+1, \"\"), ROW() -144 )), \"\")","v":"Kansas Wesleyan University"},{"$f":"IFERROR(INDEX(C145:C157, SMALL(IF(\"V\"=F145:F157, ROW(F145:F157)-MIN(ROW(F145:F157))+1, \"\"), ROW() -144 )), \"\")","v":""},{"$f":"IFERROR(INDEX(D145:D157, SMALL(IF(\"V\"=F145:F157, ROW(F145:F157)-MIN(ROW(F145:F157))+1, \"\"), ROW() -144 )), \"\")","v":"16-163630"},{"$f":"IFERROR(INDEX(E145:E157, SMALL(IF(\"V\"=F145:F157, ROW(F145:F157)-MIN(ROW(F145:F157))+1, \"\"), ROW() -144 )), \"\")","v":"Alec Elskamp"},{"$f":"IFERROR(INDEX(B145:B157, SMALL(IF(ISNUMBER(SEARCH(\"JV1\",F145:F157)), ROW(F145:F157)-MIN(ROW(F145:F157))+1, \"\"), ROW() -144 )), \"\")","v":""},{"$f":"IFERROR(INDEX(C145:C157, SMALL(IF(ISNUMBER(SEARCH(\"JV1\",F145:F157)), ROW(F145:F157)-MIN(ROW(F145:F157))+1, \"\"), ROW() -144 )), \"\")","v":""},{"$f":"IFERROR(INDEX(D145:D157, SMALL(IF(ISNUMBER(SEARCH(\"JV1\",F145:F157)), ROW(F145:F157)-MIN(ROW(F145:F157))+1, \"\"), ROW() -144 )), \"\")","v":""},{"$f":"IFERROR(INDEX(E145:E157, SMALL(IF(ISNUMBER(SEARCH(\"JV1\",F145:F157)), ROW(F145:F157)-MIN(ROW(F145:F157))+1, \"\"), ROW() -144 )), \"\")","v":""},{"$f":"IFERROR(INDEX(B145:B157, SMALL(IF(ISNUMBER(SEARCH(\"JV2\",F145:F157)), ROW(F145:F157)-MIN(ROW(F145:F157))+1, \"\"), ROW() -144 )), \"\")","v":""},{"$f":"IFERROR(INDEX(C145:C157, SMALL(IF(ISNUMBER(SEARCH(\"JV2\",F145:F157)), ROW(F145:F157)-MIN(ROW(F145:F157))+1, \"\"), ROW() -144 )), \"\")","v":""},{"$f":"IFERROR(INDEX(D145:D157, SMALL(IF(ISNUMBER(SEARCH(\"JV2\",F145:F157)), ROW(F145:F157)-MIN(ROW(F145:F157))+1, \"\"), ROW() -144 )), \"\")","v":""},{"$f":"IFERROR(INDEX(E145:E157, SMALL(IF(ISNUMBER(SEARCH(\"JV2\",F145:F157)), ROW(F145:F157)-MIN(ROW(F145:F157))+1, \"\"), ROW() -144 )), \"\")","v":""}]
[null,"Kansas Wesleyan University",null,"5900-25891","Andrew Fonseca","V",null,4430.0,null,false,{"$nulls":17},{"$f":"IFERROR(INDEX(B145:B157, SMALL(IF(\"V\"=F145:F157, ROW(F145:F157)-MIN(ROW(F145:F157))+1, \"\"), ROW() -144 )), \"\")","v":"Kansas Wesleyan University"},{"$f":"IFERROR(INDEX(C145:C157, SMALL(IF(\"V\"=F145:F157, ROW(F145:F157)-MIN(ROW(F145:F157))+1, \"\"), ROW() -144 )), \"\")","v":""},{"$f":"IFERROR(INDEX(D145:D157, SMALL(IF(\"V\"=F145:F157, ROW(F145:F157)-MIN(ROW(F145:F157))+1, \"\"), ROW() -144 )), \"\")","v":"5900-25891"},{"$f":"IFERROR(INDEX(E145:E157, SMALL(IF(\"V\"=F145:F157, ROW(F145:F157)-MIN(ROW(F145:F157))+1, \"\"), ROW() -144 )), \"\")","v":"Andrew Fonseca"},{"$f":"IFERROR(INDEX(B145:B157, SMALL(IF(ISNUMBER(SEARCH(\"JV1\",F145:F157)), ROW(F145:F157)-MIN(ROW(F145:F157))+1, \"\"), ROW() -144 )), \"\")","v":""},{"$f":"IFERROR(INDEX(C145:C157, SMALL(IF(ISNUMBER(SEARCH(\"JV1\",F145:F157)), ROW(F145:F157)-MIN(ROW(F145:F157))+1, \"\"), ROW() -144 )), \"\")","v":""},{"$f":"IFERROR(INDEX(D145:D157, SMALL(IF(ISNUMBER(SEARCH(\"JV1\",F145:F157)), ROW(F145:F157)-MIN(ROW(F145:F157))+1, \"\"), ROW() -144 )), \"\")","v":""},{"$f":"IFERROR(INDEX(E145:E157, SMALL(IF(ISNUMBER(SEARCH(\"JV1\",F145:F157)), ROW(F145:F157)-MIN(ROW(F145:F157))+1, \"\"), ROW() -144 )), \"\")","v":""},{"$f":"IFERROR(INDEX(B145:B157, SMALL(IF(ISNUMBER(SEARCH(\"JV2\",F145:F157)), ROW(F145:F157)-MIN(ROW(F145:F157))+1, \"\"), ROW() -144 )), \"\")","v":""},{"$f":"IFERROR(INDEX(C145:C157, SMALL(IF(ISNUMBER(SEARCH(\"JV2\",F145:F157)), ROW(F145:F157)-MIN(ROW(F145:F157))+1, \"\"), ROW() -144 )), \"\")","v":""},{"$f":"IFERROR(INDEX(D145:D157, SMALL(IF(ISNUMBER(SEARCH(\"JV2\",F145:F157)), ROW(F145:F157)-MIN(ROW(F145:F157))+1, \"\"), ROW() -144 )), \"\")","v":""},{"$f":"IFERROR(INDEX(E145:E157, SMALL(IF(ISNUMBER(SEARCH(\"JV2\",F145:F157)), ROW(F145:F157)-MIN(ROW(F145:F157))+1, \"\"), ROW() -144 )), \"\")","v":""}]
[null,"Kansas Wesleyan University",null,"11-543266","Andrew Froetschner","V",null,4430.0,null,false,{"$nulls":17},{"$f":"IFERROR(INDEX(B145:B157, SMALL(IF(\"V\"=F145:F157, ROW(F145:F157)-MIN(ROW(F145:F157))+1, \"\"), ROW() -144 )), \"\")","v":"Kansas Wesleyan University"},{"$f":"IFERROR(INDEX(C145:C157, SMALL(IF(\"V\"=F145:F157, ROW(F145:F157)-MIN(ROW(F145:F157))+1, \"\"), ROW() -144 )), \"\")","v":""},{"$f":"IFERROR(INDEX(D145:D157, SMALL(IF(\"V\"=F145:F157, ROW(F145:F157)-MIN(ROW(F145:F157))+1, \"\"), ROW() -144 )), \"\")","v":"11-543266"},{"$f":"IFERROR(INDEX(E145:E157, SMALL(IF(\"V\"=F145:F157, ROW(F145:F157)-MIN(ROW(F145:F157))+1, \"\"), ROW() -144 )), \"\")","v":"Andrew Froetschner"},{"$f":"IFERROR(INDEX(B145:B157, SMALL(IF(ISNUMBER(SEARCH(\"JV1\",F145:F157)), ROW(F145:F157)-MIN(ROW(F145:F157))+1, \"\"), ROW() -144 )), \"\")","v":""},{"$f":"IFERROR(INDEX(C145:C157, SMALL(IF(ISNUMBER(SEARCH(\"JV1\",F145:F157)), ROW(F145:F157)-MIN(ROW(F145:F157))+1, \"\"), ROW() -144 )), \"\")","v":""},{"$f":"IFERROR(INDEX(D145:D157, SMALL(IF(ISNUMBER(SEARCH(\"JV1\",F145:F157)), ROW(F145:F157)-MIN(ROW(F145:F157))+1, \"\"), ROW() -144 )), \"\")","v":""},{"$f":"IFERROR(INDEX(E145:E157, SMALL(IF(ISNUMBER(SEARCH(\"JV1\",F145:F157)), ROW(F145:F157)-MIN(ROW(F145:F157))+1, \"\"), ROW() -144 )), \"\")","v":""},{"$f":"IFERROR(INDEX(B145:B157, SMALL(IF(ISNUMBER(SEARCH(\"JV2\",F145:F157)), ROW(F145:F157)-MIN(ROW(F145:F157))+1, \"\"), ROW() -144 )), \"\")","v":""},{"$f":"IFERROR(INDEX(C145:C157, SMALL(IF(ISNUMBER(SEARCH(\"JV2\",F145:F157)), ROW(F145:F157)-MIN(ROW(F145:F157))+1, \"\"), ROW() -144 )), \"\")","v":""},{"$f":"IFERROR(INDEX(D145:D157, SMALL(IF(ISNUMBER(SEARCH(\"JV2\",F145:F157)), ROW(F145:F157)-MIN(ROW(F145:F157))+1, \"\"), ROW() -144 )), \"\")","v":""},{"$f":"IFERROR(INDEX(E145:E157, SMALL(IF(ISNUMBER(SEARCH(\"JV2\",F145:F157)), ROW(F145:F157)-MIN(ROW(F145:F157))+1, \"\"), ROW() -144 )), \"\")","v":""}]
[null,"Kansas Wesleyan University",null,"19-73530","Bailey Gassman","V",null,4430.0,null,false,{"$nulls":17},{"$f":"IFERROR(INDEX(B145:B157, SMALL(IF(\"V\"=F145:F157, ROW(F145:F157)-MIN(ROW(F145:F157))+1, \"\"), ROW() -144 )), \"\")","v":"Kansas Wesleyan University"},{"$f":"IFERROR(INDEX(C145:C157, SMALL(IF(\"V\"=F145:F157, ROW(F145:F157)-MIN(ROW(F145:F157))+1, \"\"), ROW() -144 )), \"\")","v":""},{"$f":"IFERROR(INDEX(D145:D157, SMALL(IF(\"V\"=F145:F157, ROW(F145:F157)-MIN(ROW(F145:F157))+1, \"\"), ROW() -144 )), \"\")","v":"19-73530"},{"$f":"IFERROR(INDEX(E145:E157, SMALL(IF(\"V\"=F145:F157, ROW(F145:F157)-MIN(ROW(F145:F157))+1, \"\"), ROW() -144 )), \"\")","v":"Bailey Gassman"},{"$f":"IFERROR(INDEX(B145:B157, SMALL(IF(ISNUMBER(SEARCH(\"JV1\",F145:F157)), ROW(F145:F157)-MIN(ROW(F145:F157))+1, \"\"), ROW() -144 )), \"\")","v":""},{"$f":"IFERROR(INDEX(C145:C157, SMALL(IF(ISNUMBER(SEARCH(\"JV1\",F145:F157)), ROW(F145:F157)-MIN(ROW(F145:F157))+1, \"\"), ROW() -144 )), \"\")","v":""},{"$f":"IFERROR(INDEX(D145:D157, SMALL(IF(ISNUMBER(SEARCH(\"JV1\",F145:F157)), ROW(F145:F157)-MIN(ROW(F145:F157))+1, \"\"), ROW() -144 )), \"\")","v":""},{"$f":"IFERROR(INDEX(E145:E157, SMALL(IF(ISNUMBER(SEARCH(\"JV1\",F145:F157)), ROW(F145:F157)-MIN(ROW(F145:F157))+1, \"\"), ROW() -144 )), \"\")","v":""},{"$f":"IFERROR(INDEX(B145:B157, SMALL(IF(ISNUMBER(SEARCH(\"JV2\",F145:F157)), ROW(F145:F157)-MIN(ROW(F145:F157))+1, \"\"), ROW() -144 )), \"\")","v":""},{"$f":"IFERROR(INDEX(C145:C157, SMALL(IF(ISNUMBER(SEARCH(\"JV2\",F145:F157)), ROW(F145:F157)-MIN(ROW(F145:F157))+1, \"\"), ROW() -144 )), \"\")","v":""},{"$f":"IFERROR(INDEX(D145:D157, SMALL(IF(ISNUMBER(SEARCH(\"JV2\",F145:F157)), ROW(F145:F157)-MIN(ROW(F145:F157))+1, \"\"), ROW() -144 )), \"\")","v":""},{"$f":"IFERROR(INDEX(E145:E157, SMALL(IF(ISNUMBER(SEARCH(\"JV2\",F145:F157)), ROW(F145:F157)-MIN(ROW(F145:F157))+1, \"\"), ROW() -144 )), \"\")","v":""}]
[null,"Kansas Wesleyan University",null,"17-34689","Caleb McNett",null,null,4430.0,null,false,{"$nulls":17},{"$f":"IFERROR(INDEX(B145:B157, SMALL(IF(\"V\"=F145:F157, ROW(F145:F157)-MIN(ROW(F145:F157))+1, \"\"), ROW() -144 )), \"\")","v":"Kansas Wesleyan University"},{"$f":"IFERROR(INDEX(C145:C157, SMALL(IF(\"V\"=F145:F157, ROW(F145:F157)-MIN(ROW(F145:F157))+1, \"\"), ROW() -144 )), \"\")","v":""},{"$f":"IFERROR(INDEX(D145:D157, SMALL(IF(\"V\"=F145:F157, ROW(F145:F157)-MIN(ROW(F145:F157))+1, \"\"), ROW() -144 )), \"\")","v":"21-20530"},{"$f":"IFERROR(INDEX(E145:E157, SMALL(IF(\"V\"=F145:F157, ROW(F145:F157)-MIN(ROW(F145:F157))+1, \"\"), ROW() -144 )), \"\")","v":"Conner Kirby"},{"$f":"IFERROR(INDEX(B145:B157, SMALL(IF(ISNUMBER(SEARCH(\"JV1\",F145:F157)), ROW(F145:F157)-MIN(ROW(F145:F157))+1, \"\"), ROW() -144 )), \"\")","v":""},{"$f":"IFERROR(INDEX(C145:C157, SMALL(IF(ISNUMBER(SEARCH(\"JV1\",F145:F157)), ROW(F145:F157)-MIN(ROW(F145:F157))+1, \"\"), ROW() -144 )), \"\")","v":""},{"$f":"IFERROR(INDEX(D145:D157, SMALL(IF(ISNUMBER(SEARCH(\"JV1\",F145:F157)), ROW(F145:F157)-MIN(ROW(F145:F157))+1, \"\"), ROW() -144 )), \"\")","v":""},{"$f":"IFERROR(INDEX(E145:E157, SMALL(IF(ISNUMBER(SEARCH(\"JV1\",F145:F157)), ROW(F145:F157)-MIN(ROW(F145:F157))+1, \"\"), ROW() -144 )), \"\")","v":""},{"$f":"IFERROR(INDEX(B145:B157, SMALL(IF(ISNUMBER(SEARCH(\"JV2\",F145:F157)), ROW(F145:F157)-MIN(ROW(F145:F157))+1, \"\"), ROW() -144 )), \"\")","v":""},{"$f":"IFERROR(INDEX(C145:C157, SMALL(IF(ISNUMBER(SEARCH(\"JV2\",F145:F157)), ROW(F145:F157)-MIN(ROW(F145:F157))+1, \"\"), ROW() -144 )), \"\")","v":""},{"$f":"IFERROR(INDEX(D145:D157, SMALL(IF(ISNUMBER(SEARCH(\"JV2\",F145:F157)), ROW(F145:F157)-MIN(ROW(F145:F157))+1, \"\"), ROW() -144 )), \"\")","v":""},{"$f":"IFERROR(INDEX(E145:E157, SMALL(IF(ISNUMBER(SEARCH(\"JV2\",F145:F157)), ROW(F145:F157)-MIN(ROW(F145:F157))+1, \"\"), ROW() -144 )), \"\")","v":""}]
[null,"Kansas Wesleyan University",null,"21-20530","Conner Kirby","V",null,4430.0,null,false,{"$nulls":17},{"$f":"IFERROR(INDEX(B145:B157, SMALL(IF(\"V\"=F145:F157, ROW(F145:F157)-MIN(ROW(F145:F157))+1, \"\"), ROW() -144 )), \"\")","v":"Kansas Wesleyan University"},{"$f":"IFERROR(INDEX(C145:C157, SMALL(IF(\"V\"=F145:F157, ROW(F145:F157)-MIN(ROW(F145:F157))+1, \"\"), ROW() -144 )), \"\")","v":""},{"$f":"IFERROR(INDEX(D145:D157, SMALL(IF(\"V\"=F145:F157, ROW(F145:F157)-MIN(ROW(F145:F157))+1, \"\"), ROW() -144 )), \"\")","v":"18-94173"},{"$f":"IFERROR(INDEX(E145:E157, SMALL(IF(\"V\"=F145:F157, ROW(F145:F157)-MIN(ROW(F145:F157))+1, \"\"), ROW() -144 )), \"\")","v":"Jackson Penny"},{"$f":"IFERROR(INDEX(B145:B157, SMALL(IF(ISNUMBER(SEARCH(\"JV1\",F145:F157)), ROW(F145:F157)-MIN(ROW(F145:F157))+1, \"\"), ROW() -144 )), \"\")","v":""},{"$f":"IFERROR(INDEX(C145:C157, SMALL(IF(ISNUMBER(SEARCH(\"JV1\",F145:F157)), ROW(F145:F157)-MIN(ROW(F145:F157))+1, \"\"), ROW() -144 )), \"\")","v":""},{"$f":"IFERROR(INDEX(D145:D157, SMALL(IF(ISNUMBER(SEARCH(\"JV1\",F145:F157)), ROW(F145:F157)-MIN(ROW(F145:F157))+1, \"\"), ROW() -144 )), \"\")","v":""},{"$f":"IFERROR(INDEX(E145:E157, SMALL(IF(ISNUMBER(SEARCH(\"JV1\",F145:F157)), ROW(F145:F157)-MIN(ROW(F145:F157))+1, \"\"), ROW() -144 )), \"\")","v":""},{"$f":"IFERROR(INDEX(B145:B157, SMALL(IF(ISNUMBER(SEARCH(\"JV2\",F145:F157)), ROW(F145:F157)-MIN(ROW(F145:F157))+1, \"\"), ROW() -144 )), \"\")","v":""},{"$f":"IFERROR(INDEX(C145:C157, SMALL(IF(ISNUMBER(SEARCH(\"JV2\",F145:F157)), ROW(F145:F157)-MIN(ROW(F145:F157))+1, \"\"), ROW() -144 )), \"\")","v":""},{"$f":"IFERROR(INDEX(D145:D157, SMALL(IF(ISNUMBER(SEARCH(\"JV2\",F145:F157)), ROW(F145:F157)-MIN(ROW(F145:F157))+1, \"\"), ROW() -144 )), \"\")","v":""},{"$f":"IFERROR(INDEX(E145:E157, SMALL(IF(ISNUMBER(SEARCH(\"JV2\",F145:F157)), ROW(F145:F157)-MIN(ROW(F145:F157))+1, \"\"), ROW() -144 )), \"\")","v":""}]
[null,"Kansas Wesleyan University",null,"18-94173","Jackson Penny","V",null,4430.0,null,false,{"$nulls":17},{"$f":"IFERROR(INDEX(B145:B157, SMALL(IF(\"V\"=F145:F157, ROW(F145:F157)-MIN(ROW(F145:F157))+1, \"\"), ROW() -144 )), \"\")","v":"Kansas Wesleyan University"},{"$f":"IFERROR(INDEX(C145:C157, SMALL(IF(\"V\"=F145:F157, ROW(F145:F157)-MIN(ROW(F145:F157))+1, \"\"), ROW() -144 )), \"\")","v":""},{"$f":"IFERROR(INDEX(D145:D157, SMALL(IF(\"V\"=F145:F157, ROW(F145:F157)-MIN(ROW(F145:F157))+1, \"\"), ROW() -144 )), \"\")","v":"11-762339"},{"$f":"IFERROR(INDEX(E145:E157, SMALL(IF(\"V\"=F145:F157, ROW(F145:F157)-MIN(ROW(F145:F157))+1, \"\"), ROW() -144 )), \"\")","v":"Landon Jones"},{"$f":"IFERROR(INDEX(B145:B157, SMALL(IF(ISNUMBER(SEARCH(\"JV1\",F145:F157)), ROW(F145:F157)-MIN(ROW(F145:F157))+1, \"\"), ROW() -144 )), \"\")","v":""},{"$f":"IFERROR(INDEX(C145:C157, SMALL(IF(ISNUMBER(SEARCH(\"JV1\",F145:F157)), ROW(F145:F157)-MIN(ROW(F145:F157))+1, \"\"), ROW() -144 )), \"\")","v":""},{"$f":"IFERROR(INDEX(D145:D157, SMALL(IF(ISNUMBER(SEARCH(\"JV1\",F145:F157)), ROW(F145:F157)-MIN(ROW(F145:F157))+1, \"\"), ROW() -144 )), \"\")","v":""},{"$f":"IFERROR(INDEX(E145:E157, SMALL(IF(ISNUMBER(SEARCH(\"JV1\",F145:F157)), ROW(F145:F157)-MIN(ROW(F145:F157))+1, \"\"), ROW() -144 )), \"\")","v":""},{"$f":"IFERROR(INDEX(B145:B157, SMALL(IF(ISNUMBER(SEARCH(\"JV2\",F145:F157)), ROW(F145:F157)-MIN(ROW(F145:F157))+1, \"\"), ROW() -144 )), \"\")","v":""},{"$f":"IFERROR(INDEX(C145:C157, SMALL(IF(ISNUMBER(SEARCH(\"JV2\",F145:F157)), ROW(F145:F157)-MIN(ROW(F145:F157))+1, \"\"), ROW() -144 )), \"\")","v":""},{"$f":"IFERROR(INDEX(D145:D157, SMALL(IF(ISNUMBER(SEARCH(\"JV2\",F145:F157)), ROW(F145:F157)-MIN(ROW(F145:F157))+1, \"\"), ROW() -144 )), \"\")","v":""},{"$f":"IFERROR(INDEX(E145:E157, SMALL(IF(ISNUMBER(SEARCH(\"JV2\",F145:F157)), ROW(F145:F157)-MIN(ROW(F145:F157))+1, \"\"), ROW() -144 )), \"\")","v":""}]
[null,"Kansas Wesleyan University",null,"17-34837","Jalen Daniels",null,null,4430.0,null,false,{"$nulls":17},{"$f":"IFERROR(INDEX(B145:B157, SMALL(IF(\"V\"=F145:F157, ROW(F145:F157)-MIN(ROW(F145:F157))+1, \"\"), ROW() -144 )), \"\")","v":""},{"$f":"IFERROR(INDEX(C145:C157, SMALL(IF(\"V\"=F145:F157, ROW(F145:F157)-MIN(ROW(F145:F157))+1, \"\"), ROW() -144 )), \"\")","v":""},{"$f":"IFERROR(INDEX(D145:D157, SMALL(IF(\"V\"=F145:F157, ROW(F145:F157)-MIN(ROW(F145:F157))+1, \"\"), ROW() -144 )), \"\")","v":""},{"$f":"IFERROR(INDEX(E145:E157, SMALL(IF(\"V\"=F145:F157, ROW(F145:F157)-MIN(ROW(F145:F157))+1, \"\"), ROW() -144 )), \"\")","v":""},{"$f":"IFERROR(INDEX(B145:B157, SMALL(IF(ISNUMBER(SEARCH(\"JV1\",F145:F157)), ROW(F145:F157)-MIN(ROW(F145:F157))+1, \"\"), ROW() -144 )), \"\")","v":""},{"$f":"IFERROR(INDEX(C145:C157, SMALL(IF(ISNUMBER(SEARCH(\"JV1\",F145:F157)), ROW(F145:F157)-MIN(ROW(F145:F157))+1, \"\"), ROW() -144 )), \"\")","v":""},{"$f":"IFERROR(INDEX(D145:D157, SMALL(IF(ISNUMBER(SEARCH(\"JV1\",F145:F157)), ROW(F145:F157)-MIN(ROW(F145:F157))+1, \"\"), ROW() -144 )), \"\")","v":""},{"$f":"IFERROR(INDEX(E145:E157, SMALL(IF(ISNUMBER(SEARCH(\"JV1\",F145:F157)), ROW(F145:F157)-MIN(ROW(F145:F157))+1, \"\"), ROW() -144 )), \"\")","v":""},{"$f":"IFERROR(INDEX(B145:B157, SMALL(IF(ISNUMBER(SEARCH(\"JV2\",F145:F157)), ROW(F145:F157)-MIN(ROW(F145:F157))+1, \"\"), ROW() -144 )), \"\")","v":""},{"$f":"IFERROR(INDEX(C145:C157, SMALL(IF(ISNUMBER(SEARCH(\"JV2\",F145:F157)), ROW(F145:F157)-MIN(ROW(F145:F157))+1, \"\"), ROW() -144 )), \"\")","v":""},{"$f":"IFERROR(INDEX(D145:D157, SMALL(IF(ISNUMBER(SEARCH(\"JV2\",F145:F157)), ROW(F145:F157)-MIN(ROW(F145:F157))+1, \"\"), ROW() -144 )), \"\")","v":""},{"$f":"IFERROR(INDEX(E145:E157, SMALL(IF(ISNUMBER(SEARCH(\"JV2\",F145:F157)), ROW(F145:F157)-MIN(ROW(F145:F157))+1, \"\"), ROW() -144 )), \"\")","v":""}]
[null,"Kansas Wesleyan University",null,"23-836","Jesse Owens",null,null,4430.0,null,false]
[null,"Kansas Wesleyan University",null,"9229-58628","Kevin Eghbali",null,null,4430.0,null,false]
[null,"Kansas Wesleyan University",null,"11-762339","Landon Jones","V",null,4430.0,null,false]
[null,"Kansas Wesleyan University",null,"23-837","Taurean Washington",null,null,4430.0,null,false]
[null,"Kansas Wesleyan University",null,"22-69597","Tyler Fink",null,null,4430.0,null,false]
[null,"Midland University",null,"17-28711","Addison Johnson","V",null,3448.0,null,false,{"$nulls":17},{"$f":"IFERROR(INDEX(B158:B168, SMALL(IF(\"V\"=F158:F168, ROW(F158:F168)-MIN(ROW(F158:F168))+1, \"\"), ROW() -157 )), \"\")","v":"Midland University"},{"$f":"IFERROR(INDEX(C158:C168, SMALL(IF(\"V\"=F158:F168, ROW(F158:F168)-MIN(ROW(F158:F168))+1, \"\"), ROW() -157 )), \"\")","v":""},{"$f":"IFERROR(INDEX(D158:D168, SMALL(IF(\"V\"=F158:F168, ROW(F158:F168)-MIN(ROW(F158:F168))+1, \"\"), ROW() -157 )), \"\")","v":"17-28711"},{"$f":"IFERROR(INDEX(E158:E168, SMALL(IF(\"V\"=F158:F168, ROW(F158:F168)-MIN(ROW(F158:F168))+1, \"\"), ROW() -157 )), \"\")","v":"Addison Johnson"},{"$f":"IFERROR(INDEX(B158:B168, SMALL(IF(ISNUMBER(SEARCH(\"JV1\",F158:F168)), ROW(F158:F168)-MIN(ROW(F158:F168))+1, \"\"), ROW() -157 )), \"\")","v":""},{"$f":"IFERROR(INDEX(C158:C168, SMALL(IF(ISNUMBER(SEARCH(\"JV1\",F158:F168)), ROW(F158:F168)-MIN(ROW(F158:F168))+1, \"\"), ROW() -157 )), \"\")","v":""},{"$f":"IFERROR(INDEX(D158:D168, SMALL(IF(ISNUMBER(SEARCH(\"JV1\",F158:F168)), ROW(F158:F168)-MIN(ROW(F158:F168))+1, \"\"), ROW() -157 )), \"\")","v":""},{"$f":"IFERROR(INDEX(E158:E168, SMALL(IF(ISNUMBER(SEARCH(\"JV1\",F158:F168)), ROW(F158:F168)-MIN(ROW(F158:F168))+1, \"\"), ROW() -157 )), \"\")","v":""},{"$f":"IFERROR(INDEX(B158:B168, SMALL(IF(ISNUMBER(SEARCH(\"JV2\",F158:F168)), ROW(F158:F168)-MIN(ROW(F158:F168))+1, \"\"), ROW() -157 )), \"\")","v":""},{"$f":"IFERROR(INDEX(C158:C168, SMALL(IF(ISNUMBER(SEARCH(\"JV2\",F158:F168)), ROW(F158:F168)-MIN(ROW(F158:F168))+1, \"\"), ROW() -157 )), \"\")","v":""},{"$f":"IFERROR(INDEX(D158:D168, SMALL(IF(ISNUMBER(SEARCH(\"JV2\",F158:F168)), ROW(F158:F168)-MIN(ROW(F158:F168))+1, \"\"), ROW() -157 )), \"\")","v":""},{"$f":"IFERROR(INDEX(E158:E168, SMALL(IF(ISNUMBER(SEARCH(\"JV2\",F158:F168)), ROW(F158:F168)-MIN(ROW(F158:F168))+1, \"\"), ROW() -157 )), \"\")","v":""}]
[null,"Midland University",null,"15-183090","Brandon Ogden","V",null,3448.0,null,false,{"$nulls":17},{"$f":"IFERROR(INDEX(B158:B168, SMALL(IF(\"V\"=F158:F168, ROW(F158:F168)-MIN(ROW(F158:F168))+1, \"\"), ROW() -157 )), \"\")","v":"Midland University"},{"$f":"IFERROR(INDEX(C158:C168, SMALL(IF(\"V\"=F158:F168, ROW(F158:F168)-MIN(ROW(F158:F168))+1, \"\"), ROW() -157 )), \"\")","v":""},{"$f":"IFERROR(INDEX(D158:D168, SMALL(IF(\"V\"=F158:F168, ROW(F158:F168)-MIN(ROW(F158:F168))+1, \"\"), ROW() -157 )), \"\")","v":"15-183090"},{"$f":"IFERROR(INDEX(E158:E168, SMALL(IF(\"V\"=F158:F168, ROW(F158:F168)-MIN(ROW(F158:F168))+1, \"\"), ROW() -157 )), \"\")","v":"Brandon Ogden"},{"$f":"IFERROR(INDEX(B158:B168, SMALL(IF(ISNUMBER(SEARCH(\"JV1\",F158:F168)), ROW(F158:F168)-MIN(ROW(F158:F168))+1, \"\"), ROW() -157 )), \"\")","v":""},{"$f":"IFERROR(INDEX(C158:C168, SMALL(IF(ISNUMBER(SEARCH(\"JV1\",F158:F168)), ROW(F158:F168)-MIN(ROW(F158:F168))+1, \"\"), ROW() -157 )), \"\")","v":""},{"$f":"IFERROR(INDEX(D158:D168, SMALL(IF(ISNUMBER(SEARCH(\"JV1\",F158:F168)), ROW(F158:F168)-MIN(ROW(F158:F168))+1, \"\"), ROW() -157 )), \"\")","v":""},{"$f":"IFERROR(INDEX(E158:E168, SMALL(IF(ISNUMBER(SEARCH(\"JV1\",F158:F168)), ROW(F158:F168)-MIN(ROW(F158:F168))+1, \"\"), ROW() -157 )), \"\")","v":""},{"$f":"IFERROR(INDEX(B158:B168, SMALL(IF(ISNUMBER(SEARCH(\"JV2\",F158:F168)), ROW(F158:F168)-MIN(ROW(F158:F168))+1, \"\"), ROW() -157 )), \"\")","v":""},{"$f":"IFERROR(INDEX(C158:C168, SMALL(IF(ISNUMBER(SEARCH(\"JV2\",F158:F168)), ROW(F158:F168)-MIN(ROW(F158:F168))+1, \"\"), ROW() -157 )), \"\")","v":""},{"$f":"IFERROR(INDEX(D158:D168, SMALL(IF(ISNUMBER(SEARCH(\"JV2\",F158:F168)), ROW(F158:F168)-MIN(ROW(F158:F168))+1, \"\"), ROW() -157 )), \"\")","v":""},{"$f":"IFERROR(INDEX(E158:E168, SMALL(IF(ISNUMBER(SEARCH(\"JV2\",F158:F168)), ROW(F158:F168)-MIN(ROW(F158:F168))+1, \"\"), ROW() -157 )), \"\")","v":""}]
[null,"Midland University",null,"11-622863","Casey Upton","V",null,3448.0,null,false,{"$nulls":17},{"$f":"IFERROR(INDEX(B158:B168, SMALL(IF(\"V\"=F158:F168, ROW(F158:F168)-MIN(ROW(F158:F168))+1, \"\"), ROW() -157 )), \"\")","v":"Midland University"},{"$f":"IFERROR(INDEX(C158:C168, SMALL(IF(\"V\"=F158:F168, ROW(F158:F168)-MIN(ROW(F158:F168))+1, \"\"), ROW() -157 )), \"\")","v":""},{"$f":"IFERROR(INDEX(D158:D168, SMALL(IF(\"V\"=F158:F168, ROW(F158:F168)-MIN(ROW(F158:F168))+1, \"\"), ROW() -157 )), \"\")","v":"11-622863"},{"$f":"IFERROR(INDEX(E158:E168, SMALL(IF(\"V\"=F158:F168, ROW(F158:F168)-MIN(ROW(F158:F168))+1, \"\"), ROW() -157 )), \"\")","v":"Casey Upton"},{"$f":"IFERROR(INDEX(B158:B168, SMALL(IF(ISNUMBER(SEARCH(\"JV1\",F158:F168)), ROW(F158:F168)-MIN(ROW(F158:F168))+1, \"\"), ROW() -157 )), \"\")","v":""},{"$f":"IFERROR(INDEX(C158:C168, SMALL(IF(ISNUMBER(SEARCH(\"JV1\",F158:F168)), ROW(F158:F168)-MIN(ROW(F158:F168))+1, \"\"), ROW() -157 )), \"\")","v":""},{"$f":"IFERROR(INDEX(D158:D168, SMALL(IF(ISNUMBER(SEARCH(\"JV1\",F158:F168)), ROW(F158:F168)-MIN(ROW(F158:F168))+1, \"\"), ROW() -157 )), \"\")","v":""},{"$f":"IFERROR(INDEX(E158:E168, SMALL(IF(ISNUMBER(SEARCH(\"JV1\",F158:F168)), ROW(F158:F168)-MIN(ROW(F158:F168))+1, \"\"), ROW() -157 )), \"\")","v":""},{"$f":"IFERROR(INDEX(B158:B168, SMALL(IF(ISNUMBER(SEARCH(\"JV2\",F158:F168)), ROW(F158:F168)-MIN(ROW(F158:F168))+1, \"\"), ROW() -157 )), \"\")","v":""},{"$f":"IFERROR(INDEX(C158:C168, SMALL(IF(ISNUMBER(SEARCH(\"JV2\",F158:F168)), ROW(F158:F168)-MIN(ROW(F158:F168))+1, \"\"), ROW() -157 )), \"\")","v":""},{"$f":"IFERROR(INDEX(D158:D168, SMALL(IF(ISNUMBER(SEARCH(\"JV2\",F158:F168)), ROW(F158:F168)-MIN(ROW(F158:F168))+1, \"\"), ROW() -157 )), \"\")","v":""},{"$f":"IFERROR(INDEX(E158:E168, SMALL(IF(ISNUMBER(SEARCH(\"JV2\",F158:F168)), ROW(F158:F168)-MIN(ROW(F158:F168))+1, \"\"), ROW() -157 )), \"\")","v":""}]
[null,"Midland University",null,"20-61940","Christopher Taliva'a",null,null,3448.0,null,false,{"$nulls":17},{"$f":"IFERROR(INDEX(B158:B168, SMALL(IF(\"V\"=F158:F168, ROW(F158:F168)-MIN(ROW(F158:F168))+1, \"\"), ROW() -157 )), \"\")","v":"Midland University"},{"$f":"IFERROR(INDEX(C158:C168, SMALL(IF(\"V\"=F158:F168, ROW(F158:F168)-MIN(ROW(F158:F168))+1, \"\"), ROW() -157 )), \"\")","v":""},{"$f":"IFERROR(INDEX(D158:D168, SMALL(IF(\"V\"=F158:F168, ROW(F158:F168)-MIN(ROW(F158:F168))+1, \"\"), ROW() -157 )), \"\")","v":"15-195914"},{"$f":"IFERROR(INDEX(E158:E168, SMALL(IF(\"V\"=F158:F168, ROW(F158:F168)-MIN(ROW(F158:F168))+1, \"\"), ROW() -157 )), \"\")","v":"Isiah Bautista"},{"$f":"IFERROR(INDEX(B158:B168, SMALL(IF(ISNUMBER(SEARCH(\"JV1\",F158:F168)), ROW(F158:F168)-MIN(ROW(F158:F168))+1, \"\"), ROW() -157 )), \"\")","v":""},{"$f":"IFERROR(INDEX(C158:C168, SMALL(IF(ISNUMBER(SEARCH(\"JV1\",F158:F168)), ROW(F158:F168)-MIN(ROW(F158:F168))+1, \"\"), ROW() -157 )), \"\")","v":""},{"$f":"IFERROR(INDEX(D158:D168, SMALL(IF(ISNUMBER(SEARCH(\"JV1\",F158:F168)), ROW(F158:F168)-MIN(ROW(F158:F168))+1, \"\"), ROW() -157 )), \"\")","v":""},{"$f":"IFERROR(INDEX(E158:E168, SMALL(IF(ISNUMBER(SEARCH(\"JV1\",F158:F168)), ROW(F158:F168)-MIN(ROW(F158:F168))+1, \"\"), ROW() -157 )), \"\")","v":""},{"$f":"IFERROR(INDEX(B158:B168, SMALL(IF(ISNUMBER(SEARCH(\"JV2\",F158:F168)), ROW(F158:F168)-MIN(ROW(F158:F168))+1, \"\"), ROW() -157 )), \"\")","v":""},{"$f":"IFERROR(INDEX(C158:C168, SMALL(IF(ISNUMBER(SEARCH(\"JV2\",F158:F168)), ROW(F158:F168)-MIN(ROW(F158:F168))+1, \"\"), ROW() -157 )), \"\")","v":""},{"$f":"IFERROR(INDEX(D158:D168, SMALL(IF(ISNUMBER(SEARCH(\"JV2\",F158:F168)), ROW(F158:F168)-MIN(ROW(F158:F168))+1, \"\"), ROW() -157 )), \"\")","v":""},{"$f":"IFERROR(INDEX(E158:E168, SMALL(IF(ISNUMBER(SEARCH(\"JV2\",F158:F168)), ROW(F158:F168)-MIN(ROW(F158:F168))+1, \"\"), ROW() -157 )), \"\")","v":""}]
[null,"Midland University",null,"15-195914","Isiah Bautista","V",null,3448.0,null,false,{"$nulls":17},{"$f":"IFERROR(INDEX(B158:B168, SMALL(IF(\"V\"=F158:F168, ROW(F158:F168)-MIN(ROW(F158:F168))+1, \"\"), ROW() -157 )), \"\")","v":"Midland University"},{"$f":"IFERROR(INDEX(C158:C168, SMALL(IF(\"V\"=F158:F168, ROW(F158:F168)-MIN(ROW(F158:F168))+1, \"\"), ROW() -157 )), \"\")","v":""},{"$f":"IFERROR(INDEX(D158:D168, SMALL(IF(\"V\"=F158:F168, ROW(F158:F168)-MIN(ROW(F158:F168))+1, \"\"), ROW() -157 )), \"\")","v":"11-238306"},{"$f":"IFERROR(INDEX(E158:E168, SMALL(IF(\"V\"=F158:F168, ROW(F158:F168)-MIN(ROW(F158:F168))+1, \"\"), ROW() -157 )), \"\")","v":"Jacob Frazier"},{"$f":"IFERROR(INDEX(B158:B168, SMALL(IF(ISNUMBER(SEARCH(\"JV1\",F158:F168)), ROW(F158:F168)-MIN(ROW(F158:F168))+1, \"\"), ROW() -157 )), \"\")","v":""},{"$f":"IFERROR(INDEX(C158:C168, SMALL(IF(ISNUMBER(SEARCH(\"JV1\",F158:F168)), ROW(F158:F168)-MIN(ROW(F158:F168))+1, \"\"), ROW() -157 )), \"\")","v":""},{"$f":"IFERROR(INDEX(D158:D168, SMALL(IF(ISNUMBER(SEARCH(\"JV1\",F158:F168)), ROW(F158:F168)-MIN(ROW(F158:F168))+1, \"\"), ROW() -157 )), \"\")","v":""},{"$f":"IFERROR(INDEX(E158:E168, SMALL(IF(ISNUMBER(SEARCH(\"JV1\",F158:F168)), ROW(F158:F168)-MIN(ROW(F158:F168))+1, \"\"), ROW() -157 )), \"\")","v":""},{"$f":"IFERROR(INDEX(B158:B168, SMALL(IF(ISNUMBER(SEARCH(\"JV2\",F158:F168)), ROW(F158:F168)-MIN(ROW(F158:F168))+1, \"\"), ROW() -157 )), \"\")","v":""},{"$f":"IFERROR(INDEX(C158:C168, SMALL(IF(ISNUMBER(SEARCH(\"JV2\",F158:F168)), ROW(F158:F168)-MIN(ROW(F158:F168))+1, \"\"), ROW() -157 )), \"\")","v":""},{"$f":"IFERROR(INDEX(D158:D168, SMALL(IF(ISNUMBER(SEARCH(\"JV2\",F158:F168)), ROW(F158:F168)-MIN(ROW(F158:F168))+1, \"\"), ROW() -157 )), \"\")","v":""},{"$f":"IFERROR(INDEX(E158:E168, SMALL(IF(ISNUMBER(SEARCH(\"JV2\",F158:F168)), ROW(F158:F168)-MIN(ROW(F158:F168))+1, \"\"), ROW() -157 )), \"\")","v":""}]
[null,"Midland University",null,"16-68227","Jacob Fowler",null,null,3448.0,null,false,{"$nulls":17},{"$f":"IFERROR(INDEX(B158:B168, SMALL(IF(\"V\"=F158:F168, ROW(F158:F168)-MIN(ROW(F158:F168))+1, \"\"), ROW() -157 )), \"\")","v":"Midland University"},{"$f":"IFERROR(INDEX(C158:C168, SMALL(IF(\"V\"=F158:F168, ROW(F158:F168)-MIN(ROW(F158:F168))+1, \"\"), ROW() -157 )), \"\")","v":""},{"$f":"IFERROR(INDEX(D158:D168, SMALL(IF(\"V\"=F158:F168, ROW(F158:F168)-MIN(ROW(F158:F168))+1, \"\"), ROW() -157 )), \"\")","v":"7914-8291"},{"$f":"IFERROR(INDEX(E158:E168, SMALL(IF(\"V\"=F158:F168, ROW(F158:F168)-MIN(ROW(F158:F168))+1, \"\"), ROW() -157 )), \"\")","v":"Logan Gear"},{"$f":"IFERROR(INDEX(B158:B168, SMALL(IF(ISNUMBER(SEARCH(\"JV1\",F158:F168)), ROW(F158:F168)-MIN(ROW(F158:F168))+1, \"\"), ROW() -157 )), \"\")","v":""},{"$f":"IFERROR(INDEX(C158:C168, SMALL(IF(ISNUMBER(SEARCH(\"JV1\",F158:F168)), ROW(F158:F168)-MIN(ROW(F158:F168))+1, \"\"), ROW() -157 )), \"\")","v":""},{"$f":"IFERROR(INDEX(D158:D168, SMALL(IF(ISNUMBER(SEARCH(\"JV1\",F158:F168)), ROW(F158:F168)-MIN(ROW(F158:F168))+1, \"\"), ROW() -157 )), \"\")","v":""},{"$f":"IFERROR(INDEX(E158:E168, SMALL(IF(ISNUMBER(SEARCH(\"JV1\",F158:F168)), ROW(F158:F168)-MIN(ROW(F158:F168))+1, \"\"), ROW() -157 )), \"\")","v":""},{"$f":"IFERROR(INDEX(B158:B168, SMALL(IF(ISNUMBER(SEARCH(\"JV2\",F158:F168)), ROW(F158:F168)-MIN(ROW(F158:F168))+1, \"\"), ROW() -157 )), \"\")","v":""},{"$f":"IFERROR(INDEX(C158:C168, SMALL(IF(ISNUMBER(SEARCH(\"JV2\",F158:F168)), ROW(F158:F168)-MIN(ROW(F158:F168))+1, \"\"), ROW() -157 )), \"\")","v":""},{"$f":"IFERROR(INDEX(D158:D168, SMALL(IF(ISNUMBER(SEARCH(\"JV2\",F158:F168)), ROW(F158:F168)-MIN(ROW(F158:F168))+1, \"\"), ROW() -157 )), \"\")","v":""},{"$f":"IFERROR(INDEX(E158:E168, SMALL(IF(ISNUMBER(SEARCH(\"JV2\",F158:F168)), ROW(F158:F168)-MIN(ROW(F158:F168))+1, \"\"), ROW() -157 )), \"\")","v":""}]
[null,"Midland University",null,"11-238306","Jacob Frazier","V",null,3448.0,null,false,{"$nulls":17},{"$f":"IFERROR(INDEX(B158:B168, SMALL(IF(\"V\"=F158:F168, ROW(F158:F168)-MIN(ROW(F158:F168))+1, \"\"), ROW() -157 )), \"\")","v":"Midland University"},{"$f":"IFERROR(INDEX(C158:C168, SMALL(IF(\"V\"=F158:F168, ROW(F158:F168)-MIN(ROW(F158:F168))+1, \"\"), ROW() -157 )), \"\")","v":""},{"$f":"IFERROR(INDEX(D158:D168, SMALL(IF(\"V\"=F158:F168, ROW(F158:F168)-MIN(ROW(F158:F168))+1, \"\"), ROW() -157 )), \"\")","v":"11-423986"},{"$f":"IFERROR(INDEX(E158:E168, SMALL(IF(\"V\"=F158:F168, ROW(F158:F168)-MIN(ROW(F158:F168))+1, \"\"), ROW() -157 )), \"\")","v":"Miles Peck"},{"$f":"IFERROR(INDEX(B158:B168, SMALL(IF(ISNUMBER(SEARCH(\"JV1\",F158:F168)), ROW(F158:F168)-MIN(ROW(F158:F168))+1, \"\"), ROW() -157 )), \"\")","v":""},{"$f":"IFERROR(INDEX(C158:C168, SMALL(IF(ISNUMBER(SEARCH(\"JV1\",F158:F168)), ROW(F158:F168)-MIN(ROW(F158:F168))+1, \"\"), ROW() -157 )), \"\")","v":""},{"$f":"IFERROR(INDEX(D158:D168, SMALL(IF(ISNUMBER(SEARCH(\"JV1\",F158:F168)), ROW(F158:F168)-MIN(ROW(F158:F168))+1, \"\"), ROW() -157 )), \"\")","v":""},{"$f":"IFERROR(INDEX(E158:E168, SMALL(IF(ISNUMBER(SEARCH(\"JV1\",F158:F168)), ROW(F158:F168)-MIN(ROW(F158:F168))+1, \"\"), ROW() -157 )), \"\")","v":""},{"$f":"IFERROR(INDEX(B158:B168, SMALL(IF(ISNUMBER(SEARCH(\"JV2\",F158:F168)), ROW(F158:F168)-MIN(ROW(F158:F168))+1, \"\"), ROW() -157 )), \"\")","v":""},{"$f":"IFERROR(INDEX(C158:C168, SMALL(IF(ISNUMBER(SEARCH(\"JV2\",F158:F168)), ROW(F158:F168)-MIN(ROW(F158:F168))+1, \"\"), ROW() -157 )), \"\")","v":""},{"$f":"IFERROR(INDEX(D158:D168, SMALL(IF(ISNUMBER(SEARCH(\"JV2\",F158:F168)), ROW(F158:F168)-MIN(ROW(F158:F168))+1, \"\"), ROW() -157 )), \"\")","v":""},{"$f":"IFERROR(INDEX(E158:E168, SMALL(IF(ISNUMBER(SEARCH(\"JV2\",F158:F168)), ROW(F158:F168)-MIN(ROW(F158:F168))+1, \"\"), ROW() -157 )), \"\")","v":""}]
[null,"Midland University",null,"11-314220","Joseph Raymond",null,null,3448.0,null,false,{"$nulls":17},{"$f":"IFERROR(INDEX(B158:B168, SMALL(IF(\"V\"=F158:F168, ROW(F158:F168)-MIN(ROW(F158:F168))+1, \"\"), ROW() -157 )), \"\")","v":"Midland University"},{"$f":"IFERROR(INDEX(C158:C168, SMALL(IF(\"V\"=F158:F168, ROW(F158:F168)-MIN(ROW(F158:F168))+1, \"\"), ROW() -157 )), \"\")","v":""},{"$f":"IFERROR(INDEX(D158:D168, SMALL(IF(\"V\"=F158:F168, ROW(F158:F168)-MIN(ROW(F158:F168))+1, \"\"), ROW() -157 )), \"\")","v":"15-187886"},{"$f":"IFERROR(INDEX(E158:E168, SMALL(IF(\"V\"=F158:F168, ROW(F158:F168)-MIN(ROW(F158:F168))+1, \"\"), ROW() -157 )), \"\")","v":"Tristyn Forde"},{"$f":"IFERROR(INDEX(B158:B168, SMALL(IF(ISNUMBER(SEARCH(\"JV1\",F158:F168)), ROW(F158:F168)-MIN(ROW(F158:F168))+1, \"\"), ROW() -157 )), \"\")","v":""},{"$f":"IFERROR(INDEX(C158:C168, SMALL(IF(ISNUMBER(SEARCH(\"JV1\",F158:F168)), ROW(F158:F168)-MIN(ROW(F158:F168))+1, \"\"), ROW() -157 )), \"\")","v":""},{"$f":"IFERROR(INDEX(D158:D168, SMALL(IF(ISNUMBER(SEARCH(\"JV1\",F158:F168)), ROW(F158:F168)-MIN(ROW(F158:F168))+1, \"\"), ROW() -157 )), \"\")","v":""},{"$f":"IFERROR(INDEX(E158:E168, SMALL(IF(ISNUMBER(SEARCH(\"JV1\",F158:F168)), ROW(F158:F168)-MIN(ROW(F158:F168))+1, \"\"), ROW() -157 )), \"\")","v":""},{"$f":"IFERROR(INDEX(B158:B168, SMALL(IF(ISNUMBER(SEARCH(\"JV2\",F158:F168)), ROW(F158:F168)-MIN(ROW(F158:F168))+1, \"\"), ROW() -157 )), \"\")","v":""},{"$f":"IFERROR(INDEX(C158:C168, SMALL(IF(ISNUMBER(SEARCH(\"JV2\",F158:F168)), ROW(F158:F168)-MIN(ROW(F158:F168))+1, \"\"), ROW() -157 )), \"\")","v":""},{"$f":"IFERROR(INDEX(D158:D168, SMALL(IF(ISNUMBER(SEARCH(\"JV2\",F158:F168)), ROW(F158:F168)-MIN(ROW(F158:F168))+1, \"\"), ROW() -157 )), \"\")","v":""},{"$f":"IFERROR(INDEX(E158:E168, SMALL(IF(ISNUMBER(SEARCH(\"JV2\",F158:F168)), ROW(F158:F168)-MIN(ROW(F158:F168))+1, \"\"), ROW() -157 )), \"\")","v":""}]
[null,"Midland University",null,"7914-8291","Logan Gear","V",null,3448.0,null,false]
[null,"Midland University",null,"11-423986","Miles Peck","V",null,3448.0,null,false]
[null,"Midland University",null,"15-187886","Tristyn Forde","V",null,3448.0,null,false]
[null,"Missouri Valley College",null,"19-48775","Cesar Medina",null,null,4521.0,null,false,{"$nulls":17},{"$f":"IFERROR(INDEX(B169:B179, SMALL(IF(\"V\"=F169:F179, ROW(F169:F179)-MIN(ROW(F169:F179))+1, \"\"), ROW() -168 )), \"\")","v":"Missouri Valley College"},{"$f":"IFERROR(INDEX(C169:C179, SMALL(IF(\"V\"=F169:F179, ROW(F169:F179)-MIN(ROW(F169:F179))+1, \"\"), ROW() -168 )), \"\")","v":""},{"$f":"IFERROR(INDEX(D169:D179, SMALL(IF(\"V\"=F169:F179, ROW(F169:F179)-MIN(ROW(F169:F179))+1, \"\"), ROW() -168 )), \"\")","v":"7823-316503"},{"$f":"IFERROR(INDEX(E169:E179, SMALL(IF(\"V\"=F169:F179, ROW(F169:F179)-MIN(ROW(F169:F179))+1, \"\"), ROW() -168 )), \"\")","v":"Chris Allison"},{"$f":"IFERROR(INDEX(B169:B179, SMALL(IF(ISNUMBER(SEARCH(\"JV1\",F169:F179)), ROW(F169:F179)-MIN(ROW(F169:F179))+1, \"\"), ROW() -168 )), \"\")","v":""},{"$f":"IFERROR(INDEX(C169:C179, SMALL(IF(ISNUMBER(SEARCH(\"JV1\",F169:F179)), ROW(F169:F179)-MIN(ROW(F169:F179))+1, \"\"), ROW() -168 )), \"\")","v":""},{"$f":"IFERROR(INDEX(D169:D179, SMALL(IF(ISNUMBER(SEARCH(\"JV1\",F169:F179)), ROW(F169:F179)-MIN(ROW(F169:F179))+1, \"\"), ROW() -168 )), \"\")","v":""},{"$f":"IFERROR(INDEX(E169:E179, SMALL(IF(ISNUMBER(SEARCH(\"JV1\",F169:F179)), ROW(F169:F179)-MIN(ROW(F169:F179))+1, \"\"), ROW() -168 )), \"\")","v":""},{"$f":"IFERROR(INDEX(B169:B179, SMALL(IF(ISNUMBER(SEARCH(\"JV2\",F169:F179)), ROW(F169:F179)-MIN(ROW(F169:F179))+1, \"\"), ROW() -168 )), \"\")","v":""},{"$f":"IFERROR(INDEX(C169:C179, SMALL(IF(ISNUMBER(SEARCH(\"JV2\",F169:F179)), ROW(F169:F179)-MIN(ROW(F169:F179))+1, \"\"), ROW() -168 )), \"\")","v":""},{"$f":"IFERROR(INDEX(D169:D179, SMALL(IF(ISNUMBER(SEARCH(\"JV2\",F169:F179)), ROW(F169:F179)-MIN(ROW(F169:F179))+1, \"\"), ROW() -168 )), \"\")","v":""},{"$f":"IFERROR(INDEX(E169:E179, SMALL(IF(ISNUMBER(SEARCH(\"JV2\",F169:F179)), ROW(F169:F179)-MIN(ROW(F169:F179))+1, \"\"), ROW() -168 )), \"\")","v":""}]
[null,"Missouri Valley College",null,"7823-316503","Chris Allison","V",null,4521.0,null,false,{"$nulls":17},{"$f":"IFERROR(INDEX(B169:B179, SMALL(IF(\"V\"=F169:F179, ROW(F169:F179)-MIN(ROW(F169:F179))+1, \"\"), ROW() -168 )), \"\")","v":"Missouri Valley College"},{"$f":"IFERROR(INDEX(C169:C179, SMALL(IF(\"V\"=F169:F179, ROW(F169:F179)-MIN(ROW(F169:F179))+1, \"\"), ROW() -168 )), \"\")","v":""},{"$f":"IFERROR(INDEX(D169:D179, SMALL(IF(\"V\"=F169:F179, ROW(F169:F179)-MIN(ROW(F169:F179))+1, \"\"), ROW() -168 )), \"\")","v":"17-71170"},{"$f":"IFERROR(INDEX(E169:E179, SMALL(IF(\"V\"=F169:F179, ROW(F169:F179)-MIN(ROW(F169:F179))+1, \"\"), ROW() -168 )), \"\")","v":"Garrison Parkhurst"},{"$f":"IFERROR(INDEX(B169:B179, SMALL(IF(ISNUMBER(SEARCH(\"JV1\",F169:F179)), ROW(F169:F179)-MIN(ROW(F169:F179))+1, \"\"), ROW() -168 )), \"\")","v":""},{"$f":"IFERROR(INDEX(C169:C179, SMALL(IF(ISNUMBER(SEARCH(\"JV1\",F169:F179)), ROW(F169:F179)-MIN(ROW(F169:F179))+1, \"\"), ROW() -168 )), \"\")","v":""},{"$f":"IFERROR(INDEX(D169:D179, SMALL(IF(ISNUMBER(SEARCH(\"JV1\",F169:F179)), ROW(F169:F179)-MIN(ROW(F169:F179))+1, \"\"), ROW() -168 )), \"\")","v":""},{"$f":"IFERROR(INDEX(E169:E179, SMALL(IF(ISNUMBER(SEARCH(\"JV1\",F169:F179)), ROW(F169:F179)-MIN(ROW(F169:F179))+1, \"\"), ROW() -168 )), \"\")","v":""},{"$f":"IFERROR(INDEX(B169:B179, SMALL(IF(ISNUMBER(SEARCH(\"JV2\",F169:F179)), ROW(F169:F179)-MIN(ROW(F169:F179))+1, \"\"), ROW() -168 )), \"\")","v":""},{"$f":"IFERROR(INDEX(C169:C179, SMALL(IF(ISNUMBER(SEARCH(\"JV2\",F169:F179)), ROW(F169:F179)-MIN(ROW(F169:F179))+1, \"\"), ROW() -168 )), \"\")","v":""},{"$f":"IFERROR(INDEX(D169:D179, SMALL(IF(ISNUMBER(SEARCH(\"JV2\",F169:F179)), ROW(F169:F179)-MIN(ROW(F169:F179))+1, \"\"), ROW() -168 )), \"\")","v":""},{"$f":"IFERROR(INDEX(E169:E179, SMALL(IF(ISNUMBER(SEARCH(\"JV2\",F169:F179)), ROW(F169:F179)-MIN(ROW(F169:F179))+1, \"\"), ROW() -168 )), \"\")","v":""}]
[null,"Missouri Valley College",null,"7823-304565","Colton Herrin",null,null,4521.0,null,false,{"$nulls":17},{"$f":"IFERROR(INDEX(B169:B179, SMALL(IF(\"V\"=F169:F179, ROW(F169:F179)-MIN(ROW(F169:F179))+1, \"\"), ROW() -168 )), \"\")","v":"Missouri Valley College"},{"$f":"IFERROR(INDEX(C169:C179, SMALL(IF(\"V\"=F169:F179, ROW(F169:F179)-MIN(ROW(F169:F179))+1, \"\"), ROW() -168 )), \"\")","v":""},{"$f":"IFERROR(INDEX(D169:D179, SMALL(IF(\"V\"=F169:F179, ROW(F169:F179)-MIN(ROW(F169:F179))+1, \"\"), ROW() -168 )), \"\")","v":"7914-9005"},{"$f":"IFERROR(INDEX(E169:E179, SMALL(IF(\"V\"=F169:F179, ROW(F169:F179)-MIN(ROW(F169:F179))+1, \"\"), ROW() -168 )), \"\")","v":"Guy Mapstone"},{"$f":"IFERROR(INDEX(B169:B179, SMALL(IF(ISNUMBER(SEARCH(\"JV1\",F169:F179)), ROW(F169:F179)-MIN(ROW(F169:F179))+1, \"\"), ROW() -168 )), \"\")","v":""},{"$f":"IFERROR(INDEX(C169:C179, SMALL(IF(ISNUMBER(SEARCH(\"JV1\",F169:F179)), ROW(F169:F179)-MIN(ROW(F169:F179))+1, \"\"), ROW() -168 )), \"\")","v":""},{"$f":"IFERROR(INDEX(D169:D179, SMALL(IF(ISNUMBER(SEARCH(\"JV1\",F169:F179)), ROW(F169:F179)-MIN(ROW(F169:F179))+1, \"\"), ROW() -168 )), \"\")","v":""},{"$f":"IFERROR(INDEX(E169:E179, SMALL(IF(ISNUMBER(SEARCH(\"JV1\",F169:F179)), ROW(F169:F179)-MIN(ROW(F169:F179))+1, \"\"), ROW() -168 )), \"\")","v":""},{"$f":"IFERROR(INDEX(B169:B179, SMALL(IF(ISNUMBER(SEARCH(\"JV2\",F169:F179)), ROW(F169:F179)-MIN(ROW(F169:F179))+1, \"\"), ROW() -168 )), \"\")","v":""},{"$f":"IFERROR(INDEX(C169:C179, SMALL(IF(ISNUMBER(SEARCH(\"JV2\",F169:F179)), ROW(F169:F179)-MIN(ROW(F169:F179))+1, \"\"), ROW() -168 )), \"\")","v":""},{"$f":"IFERROR(INDEX(D169:D179, SMALL(IF(ISNUMBER(SEARCH(\"JV2\",F169:F179)), ROW(F169:F179)-MIN(ROW(F169:F179))+1, \"\"), ROW() -168 )), \"\")","v":""},{"$f":"IFERROR(INDEX(E169:E179, SMALL(IF(ISNUMBER(SEARCH(\"JV2\",F169:F179)), ROW(F169:F179)-MIN(ROW(F169:F179))+1, \"\"), ROW() -168 )), \"\")","v":""}]
[null,"Missouri Valley College",null,"17-71170","Garrison Parkhurst","V",null,4521.0,null,false,{"$nulls":17},{"$f":"IFERROR(INDEX(B169:B179, SMALL(IF(\"V\"=F169:F179, ROW(F169:F179)-MIN(ROW(F169:F179))+1, \"\"), ROW() -168 )), \"\")","v":"Missouri Valley College"},{"$f":"IFERROR(INDEX(C169:C179, SMALL(IF(\"V\"=F169:F179, ROW(F169:F179)-MIN(ROW(F169:F179))+1, \"\"), ROW() -168 )), \"\")","v":""},{"$f":"IFERROR(INDEX(D169:D179, SMALL(IF(\"V\"=F169:F179, ROW(F169:F179)-MIN(ROW(F169:F179))+1, \"\"), ROW() -168 )), \"\")","v":"16-172292"},{"$f":"IFERROR(INDEX(E169:E179, SMALL(IF(\"V\"=F169:F179, ROW(F169:F179)-MIN(ROW(F169:F179))+1, \"\"), ROW() -168 )), \"\")","v":"Kayla Cowell"},{"$f":"IFERROR(INDEX(B169:B179, SMALL(IF(ISNUMBER(SEARCH(\"JV1\",F169:F179)), ROW(F169:F179)-MIN(ROW(F169:F179))+1, \"\"), ROW() -168 )), \"\")","v":""},{"$f":"IFERROR(INDEX(C169:C179, SMALL(IF(ISNUMBER(SEARCH(\"JV1\",F169:F179)), ROW(F169:F179)-MIN(ROW(F169:F179))+1, \"\"), ROW() -168 )), \"\")","v":""},{"$f":"IFERROR(INDEX(D169:D179, SMALL(IF(ISNUMBER(SEARCH(\"JV1\",F169:F179)), ROW(F169:F179)-MIN(ROW(F169:F179))+1, \"\"), ROW() -168 )), \"\")","v":""},{"$f":"IFERROR(INDEX(E169:E179, SMALL(IF(ISNUMBER(SEARCH(\"JV1\",F169:F179)), ROW(F169:F179)-MIN(ROW(F169:F179))+1, \"\"), ROW() -168 )), \"\")","v":""},{"$f":"IFERROR(INDEX(B169:B179, SMALL(IF(ISNUMBER(SEARCH(\"JV2\",F169:F179)), ROW(F169:F179)-MIN(ROW(F169:F179))+1, \"\"), ROW() -168 )), \"\")","v":""},{"$f":"IFERROR(INDEX(C169:C179, SMALL(IF(ISNUMBER(SEARCH(\"JV2\",F169:F179)), ROW(F169:F179)-MIN(ROW(F169:F179))+1, \"\"), ROW() -168 )), \"\")","v":""},{"$f":"IFERROR(INDEX(D169:D179, SMALL(IF(ISNUMBER(SEARCH(\"JV2\",F169:F179)), ROW(F169:F179)-MIN(ROW(F169:F179))+1, \"\"), ROW() -168 )), \"\")","v":""},{"$f":"IFERROR(INDEX(E169:E179, SMALL(IF(ISNUMBER(SEARCH(\"JV2\",F169:F179)), ROW(F169:F179)-MIN(ROW(F169:F179))+1, \"\"), ROW() -168 )), \"\")","v":""}]
[null,"Missouri Valley College",null,"7914-9005","Guy Mapstone","V",null,4521.0,null,false,{"$nulls":17},{"$f":"IFERROR(INDEX(B169:B179, SMALL(IF(\"V\"=F169:F179, ROW(F169:F179)-MIN(ROW(F169:F179))+1, \"\"), ROW() -168 )), \"\")","v":"Missouri Valley College"},{"$f":"IFERROR(INDEX(C169:C179, SMALL(IF(\"V\"=F169:F179, ROW(F169:F179)-MIN(ROW(F169:F179))+1, \"\"), ROW() -168 )), \"\")","v":""},{"$f":"IFERROR(INDEX(D169:D179, SMALL(IF(\"V\"=F169:F179, ROW(F169:F179)-MIN(ROW(F169:F179))+1, \"\"), ROW() -168 )), \"\")","v":"20-48431"},{"$f":"IFERROR(INDEX(E169:E179, SMALL(IF(\"V\"=F169:F179, ROW(F169:F179)-MIN(ROW(F169:F179))+1, \"\"), ROW() -168 )), \"\")","v":"Natalie Briggs"},{"$f":"IFERROR(INDEX(B169:B179, SMALL(IF(ISNUMBER(SEARCH(\"JV1\",F169:F179)), ROW(F169:F179)-MIN(ROW(F169:F179))+1, \"\"), ROW() -168 )), \"\")","v":""},{"$f":"IFERROR(INDEX(C169:C179, SMALL(IF(ISNUMBER(SEARCH(\"JV1\",F169:F179)), ROW(F169:F179)-MIN(ROW(F169:F179))+1, \"\"), ROW() -168 )), \"\")","v":""},{"$f":"IFERROR(INDEX(D169:D179, SMALL(IF(ISNUMBER(SEARCH(\"JV1\",F169:F179)), ROW(F169:F179)-MIN(ROW(F169:F179))+1, \"\"), ROW() -168 )), \"\")","v":""},{"$f":"IFERROR(INDEX(E169:E179, SMALL(IF(ISNUMBER(SEARCH(\"JV1\",F169:F179)), ROW(F169:F179)-MIN(ROW(F169:F179))+1, \"\"), ROW() -168 )), \"\")","v":""},{"$f":"IFERROR(INDEX(B169:B179, SMALL(IF(ISNUMBER(SEARCH(\"JV2\",F169:F179)), ROW(F169:F179)-MIN(ROW(F169:F179))+1, \"\"), ROW() -168 )), \"\")","v":""},{"$f":"IFERROR(INDEX(C169:C179, SMALL(IF(ISNUMBER(SEARCH(\"JV2\",F169:F179)), ROW(F169:F179)-MIN(ROW(F169:F179))+1, \"\"), ROW() -168 )), \"\")","v":""},{"$f":"IFERROR(INDEX(D169:D179, SMALL(IF(ISNUMBER(SEARCH(\"JV2\",F169:F179)), ROW(F169:F179)-MIN(ROW(F169:F179))+1, \"\"), ROW() -168 )), \"\")","v":""},{"$f":"IFERROR(INDEX(E169:E179, SMALL(IF(ISNUMBER(SEARCH(\"JV2\",F169:F179)), ROW(F169:F179)-MIN(ROW(F169:F179))+1, \"\"), ROW() -168 )), \"\")","v":""}]
[null,"Missouri Valley College",null,"16-67827","Jayden Briggs",null,null,4521.0,null,false,{"$nulls":17},{"$f":"IFERROR(INDEX(B169:B179, SMALL(IF(\"V\"=F169:F179, ROW(F169:F179)-MIN(ROW(F169:F179))+1, \"\"), ROW() -168 )), \"\")","v":"Missouri Valley College"},{"$f":"IFERROR(INDEX(C169:C179, SMALL(IF(\"V\"=F169:F179, ROW(F169:F179)-MIN(ROW(F169:F179))+1, \"\"), ROW() -168 )), \"\")","v":""},{"$f":"IFERROR(INDEX(D169:D179, SMALL(IF(\"V\"=F169:F179, ROW(F169:F179)-MIN(ROW(F169:F179))+1, \"\"), ROW() -168 )), \"\")","v":"11-460695"},{"$f":"IFERROR(INDEX(E169:E179, SMALL(IF(\"V\"=F169:F179, ROW(F169:F179)-MIN(ROW(F169:F179))+1, \"\"), ROW() -168 )), \"\")","v":"Nicholas Miles"},{"$f":"IFERROR(INDEX(B169:B179, SMALL(IF(ISNUMBER(SEARCH(\"JV1\",F169:F179)), ROW(F169:F179)-MIN(ROW(F169:F179))+1, \"\"), ROW() -168 )), \"\")","v":""},{"$f":"IFERROR(INDEX(C169:C179, SMALL(IF(ISNUMBER(SEARCH(\"JV1\",F169:F179)), ROW(F169:F179)-MIN(ROW(F169:F179))+1, \"\"), ROW() -168 )), \"\")","v":""},{"$f":"IFERROR(INDEX(D169:D179, SMALL(IF(ISNUMBER(SEARCH(\"JV1\",F169:F179)), ROW(F169:F179)-MIN(ROW(F169:F179))+1, \"\"), ROW() -168 )), \"\")","v":""},{"$f":"IFERROR(INDEX(E169:E179, SMALL(IF(ISNUMBER(SEARCH(\"JV1\",F169:F179)), ROW(F169:F179)-MIN(ROW(F169:F179))+1, \"\"), ROW() -168 )), \"\")","v":""},{"$f":"IFERROR(INDEX(B169:B179, SMALL(IF(ISNUMBER(SEARCH(\"JV2\",F169:F179)), ROW(F169:F179)-MIN(ROW(F169:F179))+1, \"\"), ROW() -168 )), \"\")","v":""},{"$f":"IFERROR(INDEX(C169:C179, SMALL(IF(ISNUMBER(SEARCH(\"JV2\",F169:F179)), ROW(F169:F179)-MIN(ROW(F169:F179))+1, \"\"), ROW() -168 )), \"\")","v":""},{"$f":"IFERROR(INDEX(D169:D179, SMALL(IF(ISNUMBER(SEARCH(\"JV2\",F169:F179)), ROW(F169:F179)-MIN(ROW(F169:F179))+1, \"\"), ROW() -168 )), \"\")","v":""},{"$f":"IFERROR(INDEX(E169:E179, SMALL(IF(ISNUMBER(SEARCH(\"JV2\",F169:F179)), ROW(F169:F179)-MIN(ROW(F169:F179))+1, \"\"), ROW() -168 )), \"\")","v":""}]
[null,"Missouri Valley College",null,"16-172292","Kayla Cowell","V",null,4521.0,null,false,{"$nulls":17},{"$f":"IFERROR(INDEX(B169:B179, SMALL(IF(\"V\"=F169:F179, ROW(F169:F179)-MIN(ROW(F169:F179))+1, \"\"), ROW() -168 )), \"\")","v":"Missouri Valley College"},{"$f":"IFERROR(INDEX(C169:C179, SMALL(IF(\"V\"=F169:F179, ROW(F169:F179)-MIN(ROW(F169:F179))+1, \"\"), ROW() -168 )), \"\")","v":""},{"$f":"IFERROR(INDEX(D169:D179, SMALL(IF(\"V\"=F169:F179, ROW(F169:F179)-MIN(ROW(F169:F179))+1, \"\"), ROW() -168 )), \"\")","v":"11-540859"},{"$f":"IFERROR(INDEX(E169:E179, SMALL(IF(\"V\"=F169:F179, ROW(F169:F179)-MIN(ROW(F169:F179))+1, \"\"), ROW() -168 )), \"\")","v":"Wyatt Grunwald"},{"$f":"IFERROR(INDEX(B169:B179, SMALL(IF(ISNUMBER(SEARCH(\"JV1\",F169:F179)), ROW(F169:F179)-MIN(ROW(F169:F179))+1, \"\"), ROW() -168 )), \"\")","v":""},{"$f":"IFERROR(INDEX(C169:C179, SMALL(IF(ISNUMBER(SEARCH(\"JV1\",F169:F179)), ROW(F169:F179)-MIN(ROW(F169:F179))+1, \"\"), ROW() -168 )), \"\")","v":""},{"$f":"IFERROR(INDEX(D169:D179, SMALL(IF(ISNUMBER(SEARCH(\"JV1\",F169:F179)), ROW(F169:F179)-MIN(ROW(F169:F179))+1, \"\"), ROW() -168 )), \"\")","v":""},{"$f":"IFERROR(INDEX(E169:E179, SMALL(IF(ISNUMBER(SEARCH(\"JV1\",F169:F179)), ROW(F169:F179)-MIN(ROW(F169:F179))+1, \"\"), ROW() -168 )), \"\")","v":""},{"$f":"IFERROR(INDEX(B169:B179, SMALL(IF(ISNUMBER(SEARCH(\"JV2\",F169:F179)), ROW(F169:F179)-MIN(ROW(F169:F179))+1, \"\"), ROW() -168 )), \"\")","v":""},{"$f":"IFERROR(INDEX(C169:C179, SMALL(IF(ISNUMBER(SEARCH(\"JV2\",F169:F179)), ROW(F169:F179)-MIN(ROW(F169:F179))+1, \"\"), ROW() -168 )), \"\")","v":""},{"$f":"IFERROR(INDEX(D169:D179, SMALL(IF(ISNUMBER(SEARCH(\"JV2\",F169:F179)), ROW(F169:F179)-MIN(ROW(F169:F179))+1, \"\"), ROW() -168 )), \"\")","v":""},{"$f":"IFERROR(INDEX(E169:E179, SMALL(IF(ISNUMBER(SEARCH(\"JV2\",F169:F179)), ROW(F169:F179)-MIN(ROW(F169:F179))+1, \"\"), ROW() -168 )), \"\")","v":""}]
[null,"Missouri Valley College",null,"20-48431","Natalie Briggs","V",null,4521.0,null,false,{"$nulls":17},{"$f":"IFERROR(INDEX(B169:B179, SMALL(IF(\"V\"=F169:F179, ROW(F169:F179)-MIN(ROW(F169:F179))+1, \"\"), ROW() -168 )), \"\")","v":""},{"$f":"IFERROR(INDEX(C169:C179, SMALL(IF(\"V\"=F169:F179, ROW(F169:F179)-MIN(ROW(F169:F179))+1, \"\"), ROW() -168 )), \"\")","v":""},{"$f":"IFERROR(INDEX(D169:D179, SMALL(IF(\"V\"=F169:F179, ROW(F169:F179)-MIN(ROW(F169:F179))+1, \"\"), ROW() -168 )), \"\")","v":""},{"$f":"IFERROR(INDEX(E169:E179, SMALL(IF(\"V\"=F169:F179, ROW(F169:F179)-MIN(ROW(F169:F179))+1, \"\"), ROW() -168 )), \"\")","v":""},{"$f":"IFERROR(INDEX(B169:B179, SMALL(IF(ISNUMBER(SEARCH(\"JV1\",F169:F179)), ROW(F169:F179)-MIN(ROW(F169:F179))+1, \"\"), ROW() -168 )), \"\")","v":""},{"$f":"IFERROR(INDEX(C169:C179, SMALL(IF(ISNUMBER(SEARCH(\"JV1\",F169:F179)), ROW(F169:F179)-MIN(ROW(F169:F179))+1, \"\"), ROW() -168 )), \"\")","v":""},{"$f":"IFERROR(INDEX(D169:D179, SMALL(IF(ISNUMBER(SEARCH(\"JV1\",F169:F179)), ROW(F169:F179)-MIN(ROW(F169:F179))+1, \"\"), ROW() -168 )), \"\")","v":""},{"$f":"IFERROR(INDEX(E169:E179, SMALL(IF(ISNUMBER(SEARCH(\"JV1\",F169:F179)), ROW(F169:F179)-MIN(ROW(F169:F179))+1, \"\"), ROW() -168 )), \"\")","v":""},{"$f":"IFERROR(INDEX(B169:B179, SMALL(IF(ISNUMBER(SEARCH(\"JV2\",F169:F179)), ROW(F169:F179)-MIN(ROW(F169:F179))+1, \"\"), ROW() -168 )), \"\")","v":""},{"$f":"IFERROR(INDEX(C169:C179, SMALL(IF(ISNUMBER(SEARCH(\"JV2\",F169:F179)), ROW(F169:F179)-MIN(ROW(F169:F179))+1, \"\"), ROW() -168 )), \"\")","v":""},{"$f":"IFERROR(INDEX(D169:D179, SMALL(IF(ISNUMBER(SEARCH(\"JV2\",F169:F179)), ROW(F169:F179)-MIN(ROW(F169:F179))+1, \"\"), ROW() -168 )), \"\")","v":""},{"$f":"IFERROR(INDEX(E169:E179, SMALL(IF(ISNUMBER(SEARCH(\"JV2\",F169:F179)), ROW(F169:F179)-MIN(ROW(F169:F179))+1, \"\"), ROW() -168 )), \"\")","v":""}]
[null,"Missouri Valley College",null,"11-460695","Nicholas Miles","V",null,4521.0,null,false]
[null,"Missouri Valley College",null,"16-172288","Nikole Cowell",null,null,4521.0,null,false]
[null,"Missouri Valley College",null,"11-540859","Wyatt Grunwald","V",null,4521.0,null,false]
[null,"Morningside University",null,"6661-372","Alex Badger","JV1",null,4339.0,null,false,{"$nulls":17},{"$f":"IFERROR(INDEX(B180:B189, SMALL(IF(\"V\"=F180:F189, ROW(F180:F189)-MIN(ROW(F180:F189))+1, \"\"), ROW() -179 )), \"\")","v":"Morningside University"},{"$f":"IFERROR(INDEX(C180:C189, SMALL(IF(\"V\"=F180:F189, ROW(F180:F189)-MIN(ROW(F180:F189))+1, \"\"), ROW() -179 )), \"\")","v":""},{"$f":"IFERROR(INDEX(D180:D189, SMALL(IF(\"V\"=F180:F189, ROW(F180:F189)-MIN(ROW(F180:F189))+1, \"\"), ROW() -179 )), \"\")","v":"20-30131"},{"$f":"IFERROR(INDEX(E180:E189, SMALL(IF(\"V\"=F180:F189, ROW(F180:F189)-MIN(ROW(F180:F189))+1, \"\"), ROW() -179 )), \"\")","v":"Brenden Lewis"},{"$f":"IFERROR(INDEX(B180:B189, SMALL(IF(ISNUMBER(SEARCH(\"JV1\",F180:F189)), ROW(F180:F189)-MIN(ROW(F180:F189))+1, \"\"), ROW() -179 )), \"\")","v":"Morningside University"},{"$f":"IFERROR(INDEX(C180:C189, SMALL(IF(ISNUMBER(SEARCH(\"JV1\",F180:F189)), ROW(F180:F189)-MIN(ROW(F180:F189))+1, \"\"), ROW() -179 )), \"\")","v":""},{"$f":"IFERROR(INDEX(D180:D189, SMALL(IF(ISNUMBER(SEARCH(\"JV1\",F180:F189)), ROW(F180:F189)-MIN(ROW(F180:F189))+1, \"\"), ROW() -179 )), \"\")","v":"6661-372"},{"$f":"IFERROR(INDEX(E180:E189, SMALL(IF(ISNUMBER(SEARCH(\"JV1\",F180:F189)), ROW(F180:F189)-MIN(ROW(F180:F189))+1, \"\"), ROW() -179 )), \"\")","v":"Alex Badger"},{"$f":"IFERROR(INDEX(B180:B189, SMALL(IF(ISNUMBER(SEARCH(\"JV2\",F180:F189)), ROW(F180:F189)-MIN(ROW(F180:F189))+1, \"\"), ROW() -179 )), \"\")","v":""},{"$f":"IFERROR(INDEX(C180:C189, SMALL(IF(ISNUMBER(SEARCH(\"JV2\",F180:F189)), ROW(F180:F189)-MIN(ROW(F180:F189))+1, \"\"), ROW() -179 )), \"\")","v":""},{"$f":"IFERROR(INDEX(D180:D189, SMALL(IF(ISNUMBER(SEARCH(\"JV2\",F180:F189)), ROW(F180:F189)-MIN(ROW(F180:F189))+1, \"\"), ROW() -179 )), \"\")","v":""},{"$f":"IFERROR(INDEX(E180:E189, SMALL(IF(ISNUMBER(SEARCH(\"JV2\",F180:F189)), ROW(F180:F189)-MIN(ROW(F180:F189))+1, \"\"), ROW() -179 )), \"\")","v":""}]
[null,"Morningside University",null,"21-81903","Braden Huber","JV1",null,4339.0,null,false,{"$nulls":17},{"$f":"IFERROR(INDEX(B180:B189, SMALL(IF(\"V\"=F180:F189, ROW(F180:F189)-MIN(ROW(F180:F189))+1, \"\"), ROW() -179 )), \"\")","v":"Morningside University"},{"$f":"IFERROR(INDEX(C180:C189, SMALL(IF(\"V\"=F180:F189, ROW(F180:F189)-MIN(ROW(F180:F189))+1, \"\"), ROW() -179 )), \"\")","v":""},{"$f":"IFERROR(INDEX(D180:D189, SMALL(IF(\"V\"=F180:F189, ROW(F180:F189)-MIN(ROW(F180:F189))+1, \"\"), ROW() -179 )), \"\")","v":"11-666678"},{"$f":"IFERROR(INDEX(E180:E189, SMALL(IF(\"V\"=F180:F189, ROW(F180:F189)-MIN(ROW(F180:F189))+1, \"\"), ROW() -179 )), \"\")","v":"Chace Mohrhauser"},{"$f":"IFERROR(INDEX(B180:B189, SMALL(IF(ISNUMBER(SEARCH(\"JV1\",F180:F189)), ROW(F180:F189)-MIN(ROW(F180:F189))+1, \"\"), ROW() -179 )), \"\")","v":"Morningside University"},{"$f":"IFERROR(INDEX(C180:C189, SMALL(IF(ISNUMBER(SEARCH(\"JV1\",F180:F189)), ROW(F180:F189)-MIN(ROW(F180:F189))+1, \"\"), ROW() -179 )), \"\")","v":""},{"$f":"IFERROR(INDEX(D180:D189, SMALL(IF(ISNUMBER(SEARCH(\"JV1\",F180:F189)), ROW(F180:F189)-MIN(ROW(F180:F189))+1, \"\"), ROW() -179 )), \"\")","v":"21-81903"},{"$f":"IFERROR(INDEX(E180:E189, SMALL(IF(ISNUMBER(SEARCH(\"JV1\",F180:F189)), ROW(F180:F189)-MIN(ROW(F180:F189))+1, \"\"), ROW() -179 )), \"\")","v":"Braden Huber"},{"$f":"IFERROR(INDEX(B180:B189, SMALL(IF(ISNUMBER(SEARCH(\"JV2\",F180:F189)), ROW(F180:F189)-MIN(ROW(F180:F189))+1, \"\"), ROW() -179 )), \"\")","v":""},{"$f":"IFERROR(INDEX(C180:C189, SMALL(IF(ISNUMBER(SEARCH(\"JV2\",F180:F189)), ROW(F180:F189)-MIN(ROW(F180:F189))+1, \"\"), ROW() -179 )), \"\")","v":""},{"$f":"IFERROR(INDEX(D180:D189, SMALL(IF(ISNUMBER(SEARCH(\"JV2\",F180:F189)), ROW(F180:F189)-MIN(ROW(F180:F189))+1, \"\"), ROW() -179 )), \"\")","v":""},{"$f":"IFERROR(INDEX(E180:E189, SMALL(IF(ISNUMBER(SEARCH(\"JV2\",F180:F189)), ROW(F180:F189)-MIN(ROW(F180:F189))+1, \"\"), ROW() -179 )), \"\")","v":""}]
[null,"Morningside University",null,"20-30131","Brenden Lewis","V",null,4339.0,null,false,{"$nulls":17},{"$f":"IFERROR(INDEX(B180:B189, SMALL(IF(\"V\"=F180:F189, ROW(F180:F189)-MIN(ROW(F180:F189))+1, \"\"), ROW() -179 )), \"\")","v":"Morningside University"},{"$f":"IFERROR(INDEX(C180:C189, SMALL(IF(\"V\"=F180:F189, ROW(F180:F189)-MIN(ROW(F180:F189))+1, \"\"), ROW() -179 )), \"\")","v":""},{"$f":"IFERROR(INDEX(D180:D189, SMALL(IF(\"V\"=F180:F189, ROW(F180:F189)-MIN(ROW(F180:F189))+1, \"\"), ROW() -179 )), \"\")","v":"18-57615"},{"$f":"IFERROR(INDEX(E180:E189, SMALL(IF(\"V\"=F180:F189, ROW(F180:F189)-MIN(ROW(F180:F189))+1, \"\"), ROW() -179 )), \"\")","v":"Nick Philthilath"},{"$f":"IFERROR(INDEX(B180:B189, SMALL(IF(ISNUMBER(SEARCH(\"JV1\",F180:F189)), ROW(F180:F189)-MIN(ROW(F180:F189))+1, \"\"), ROW() -179 )), \"\")","v":"Morningside University"},{"$f":"IFERROR(INDEX(C180:C189, SMALL(IF(ISNUMBER(SEARCH(\"JV1\",F180:F189)), ROW(F180:F189)-MIN(ROW(F180:F189))+1, \"\"), ROW() -179 )), \"\")","v":""},{"$f":"IFERROR(INDEX(D180:D189, SMALL(IF(ISNUMBER(SEARCH(\"JV1\",F180:F189)), ROW(F180:F189)-MIN(ROW(F180:F189))+1, \"\"), ROW() -179 )), \"\")","v":"11-386701"},{"$f":"IFERROR(INDEX(E180:E189, SMALL(IF(ISNUMBER(SEARCH(\"JV1\",F180:F189)), ROW(F180:F189)-MIN(ROW(F180:F189))+1, \"\"), ROW() -179 )), \"\")","v":"Christian Schmadeke"},{"$f":"IFERROR(INDEX(B180:B189, SMALL(IF(ISNUMBER(SEARCH(\"JV2\",F180:F189)), ROW(F180:F189)-MIN(ROW(F180:F189))+1, \"\"), ROW() -179 )), \"\")","v":""},{"$f":"IFERROR(INDEX(C180:C189, SMALL(IF(ISNUMBER(SEARCH(\"JV2\",F180:F189)), ROW(F180:F189)-MIN(ROW(F180:F189))+1, \"\"), ROW() -179 )), \"\")","v":""},{"$f":"IFERROR(INDEX(D180:D189, SMALL(IF(ISNUMBER(SEARCH(\"JV2\",F180:F189)), ROW(F180:F189)-MIN(ROW(F180:F189))+1, \"\"), ROW() -179 )), \"\")","v":""},{"$f":"IFERROR(INDEX(E180:E189, SMALL(IF(ISNUMBER(SEARCH(\"JV2\",F180:F189)), ROW(F180:F189)-MIN(ROW(F180:F189))+1, \"\"), ROW() -179 )), \"\")","v":""}]
[null,"Morningside University",null,"11-666678","Chace Mohrhauser","V",null,4339.0,null,false,{"$nulls":17},{"$f":"IFERROR(INDEX(B180:B189, SMALL(IF(\"V\"=F180:F189, ROW(F180:F189)-MIN(ROW(F180:F189))+1, \"\"), ROW() -179 )), \"\")","v":"Morningside University"},{"$f":"IFERROR(INDEX(C180:C189, SMALL(IF(\"V\"=F180:F189, ROW(F180:F189)-MIN(ROW(F180:F189))+1, \"\"), ROW() -179 )), \"\")","v":""},{"$f":"IFERROR(INDEX(D180:D189, SMALL(IF(\"V\"=F180:F189, ROW(F180:F189)-MIN(ROW(F180:F189))+1, \"\"), ROW() -179 )), \"\")","v":"11-34850"},{"$f":"IFERROR(INDEX(E180:E189, SMALL(IF(\"V\"=F180:F189, ROW(F180:F189)-MIN(ROW(F180:F189))+1, \"\"), ROW() -179 )), \"\")","v":"Seth Nelson"},{"$f":"IFERROR(INDEX(B180:B189, SMALL(IF(ISNUMBER(SEARCH(\"JV1\",F180:F189)), ROW(F180:F189)-MIN(ROW(F180:F189))+1, \"\"), ROW() -179 )), \"\")","v":"Morningside University"},{"$f":"IFERROR(INDEX(C180:C189, SMALL(IF(ISNUMBER(SEARCH(\"JV1\",F180:F189)), ROW(F180:F189)-MIN(ROW(F180:F189))+1, \"\"), ROW() -179 )), \"\")","v":""},{"$f":"IFERROR(INDEX(D180:D189, SMALL(IF(ISNUMBER(SEARCH(\"JV1\",F180:F189)), ROW(F180:F189)-MIN(ROW(F180:F189))+1, \"\"), ROW() -179 )), \"\")","v":"23-2999"},{"$f":"IFERROR(INDEX(E180:E189, SMALL(IF(ISNUMBER(SEARCH(\"JV1\",F180:F189)), ROW(F180:F189)-MIN(ROW(F180:F189))+1, \"\"), ROW() -179 )), \"\")","v":"Marco Salcedo"},{"$f":"IFERROR(INDEX(B180:B189, SMALL(IF(ISNUMBER(SEARCH(\"JV2\",F180:F189)), ROW(F180:F189)-MIN(ROW(F180:F189))+1, \"\"), ROW() -179 )), \"\")","v":""},{"$f":"IFERROR(INDEX(C180:C189, SMALL(IF(ISNUMBER(SEARCH(\"JV2\",F180:F189)), ROW(F180:F189)-MIN(ROW(F180:F189))+1, \"\"), ROW() -179 )), \"\")","v":""},{"$f":"IFERROR(INDEX(D180:D189, SMALL(IF(ISNUMBER(SEARCH(\"JV2\",F180:F189)), ROW(F180:F189)-MIN(ROW(F180:F189))+1, \"\"), ROW() -179 )), \"\")","v":""},{"$f":"IFERROR(INDEX(E180:E189, SMALL(IF(ISNUMBER(SEARCH(\"JV2\",F180:F189)), ROW(F180:F189)-MIN(ROW(F180:F189))+1, \"\"), ROW() -179 )), \"\")","v":""}]
[null,"Morningside University",null,"11-386701","Christian Schmadeke","JV1",null,4339.0,null,false,{"$nulls":17},{"$f":"IFERROR(INDEX(B180:B189, SMALL(IF(\"V\"=F180:F189, ROW(F180:F189)-MIN(ROW(F180:F189))+1, \"\"), ROW() -179 )), \"\")","v":"Morningside University"},{"$f":"IFERROR(INDEX(C180:C189, SMALL(IF(\"V\"=F180:F189, ROW(F180:F189)-MIN(ROW(F180:F189))+1, \"\"), ROW() -179 )), \"\")","v":""},{"$f":"IFERROR(INDEX(D180:D189, SMALL(IF(\"V\"=F180:F189, ROW(F180:F189)-MIN(ROW(F180:F189))+1, \"\"), ROW() -179 )), \"\")","v":"20-38570"},{"$f":"IFERROR(INDEX(E180:E189, SMALL(IF(\"V\"=F180:F189, ROW(F180:F189)-MIN(ROW(F180:F189))+1, \"\"), ROW() -179 )), \"\")","v":"Zachary Stoltzfus"},{"$f":"IFERROR(INDEX(B180:B189, SMALL(IF(ISNUMBER(SEARCH(\"JV1\",F180:F189)), ROW(F180:F189)-MIN(ROW(F180:F189))+1, \"\"), ROW() -179 )), \"\")","v":"Morningside University"},{"$f":"IFERROR(INDEX(C180:C189, SMALL(IF(ISNUMBER(SEARCH(\"JV1\",F180:F189)), ROW(F180:F189)-MIN(ROW(F180:F189))+1, \"\"), ROW() -179 )), \"\")","v":""},{"$f":"IFERROR(INDEX(D180:D189, SMALL(IF(ISNUMBER(SEARCH(\"JV1\",F180:F189)), ROW(F180:F189)-MIN(ROW(F180:F189))+1, \"\"), ROW() -179 )), \"\")","v":"23-3001"},{"$f":"IFERROR(INDEX(E180:E189, SMALL(IF(ISNUMBER(SEARCH(\"JV1\",F180:F189)), ROW(F180:F189)-MIN(ROW(F180:F189))+1, \"\"), ROW() -179 )), \"\")","v":"Michael Swancutt"},{"$f":"IFERROR(INDEX(B180:B189, SMALL(IF(ISNUMBER(SEARCH(\"JV2\",F180:F189)), ROW(F180:F189)-MIN(ROW(F180:F189))+1, \"\"), ROW() -179 )), \"\")","v":""},{"$f":"IFERROR(INDEX(C180:C189, SMALL(IF(ISNUMBER(SEARCH(\"JV2\",F180:F189)), ROW(F180:F189)-MIN(ROW(F180:F189))+1, \"\"), ROW() -179 )), \"\")","v":""},{"$f":"IFERROR(INDEX(D180:D189, SMALL(IF(ISNUMBER(SEARCH(\"JV2\",F180:F189)), ROW(F180:F189)-MIN(ROW(F180:F189))+1, \"\"), ROW() -179 )), \"\")","v":""},{"$f":"IFERROR(INDEX(E180:E189, SMALL(IF(ISNUMBER(SEARCH(\"JV2\",F180:F189)), ROW(F180:F189)-MIN(ROW(F180:F189))+1, \"\"), ROW() -179 )), \"\")","v":""}]
[null,"Morningside University",null,"23-2999","Marco Salcedo","JV1",null,4339.0,null,false,{"$nulls":17},{"$f":"IFERROR(INDEX(B180:B189, SMALL(IF(\"V\"=F180:F189, ROW(F180:F189)-MIN(ROW(F180:F189))+1, \"\"), ROW() -179 )), \"\")","v":""},{"$f":"IFERROR(INDEX(C180:C189, SMALL(IF(\"V\"=F180:F189, ROW(F180:F189)-MIN(ROW(F180:F189))+1, \"\"), ROW() -179 )), \"\")","v":""},{"$f":"IFERROR(INDEX(D180:D189, SMALL(IF(\"V\"=F180:F189, ROW(F180:F189)-MIN(ROW(F180:F189))+1, \"\"), ROW() -179 )), \"\")","v":""},{"$f":"IFERROR(INDEX(E180:E189, SMALL(IF(\"V\"=F180:F189, ROW(F180:F189)-MIN(ROW(F180:F189))+1, \"\"), ROW() -179 )), \"\")","v":""},{"$f":"IFERROR(INDEX(B180:B189, SMALL(IF(ISNUMBER(SEARCH(\"JV1\",F180:F189)), ROW(F180:F189)-MIN(ROW(F180:F189))+1, \"\"), ROW() -179 )), \"\")","v":""},{"$f":"IFERROR(INDEX(C180:C189, SMALL(IF(ISNUMBER(SEARCH(\"JV1\",F180:F189)), ROW(F180:F189)-MIN(ROW(F180:F189))+1, \"\"), ROW() -179 )), \"\")","v":""},{"$f":"IFERROR(INDEX(D180:D189, SMALL(IF(ISNUMBER(SEARCH(\"JV1\",F180:F189)), ROW(F180:F189)-MIN(ROW(F180:F189))+1, \"\"), ROW() -179 )), \"\")","v":""},{"$f":"IFERROR(INDEX(E180:E189, SMALL(IF(ISNUMBER(SEARCH(\"JV1\",F180:F189)), ROW(F180:F189)-MIN(ROW(F180:F189))+1, \"\"), ROW() -179 )), \"\")","v":""},{"$f":"IFERROR(INDEX(B180:B189, SMALL(IF(ISNUMBER(SEARCH(\"JV2\",F180:F189)), ROW(F180:F189)-MIN(ROW(F180:F189))+1, \"\"), ROW() -179 )), \"\")","v":""},{"$f":"IFERROR(INDEX(C180:C189, SMALL(IF(ISNUMBER(SEARCH(\"JV2\",F180:F189)), ROW(F180:F189)-MIN(ROW(F180:F189))+1, \"\"), ROW() -179 )), \"\")","v":""},{"$f":"IFERROR(INDEX(D180:D189, SMALL(IF(ISNUMBER(SEARCH(\"JV2\",F180:F189)), ROW(F180:F189)-MIN(ROW(F180:F189))+1, \"\"), ROW() -179 )), \"\")","v":""},{"$f":"IFERROR(INDEX(E180:E189, SMALL(IF(ISNUMBER(SEARCH(\"JV2\",F180:F189)), ROW(F180:F189)-MIN(ROW(F180:F189))+1, \"\"), ROW() -179 )), \"\")","v":""}]
[null,"Morningside University",null,"23-3001","Michael Swancutt","JV1",null,4339.0,null,false,{"$nulls":17},{"$f":"IFERROR(INDEX(B180:B189, SMALL(IF(\"V\"=F180:F189, ROW(F180:F189)-MIN(ROW(F180:F189))+1, \"\"), ROW() -179 )), \"\")","v":""},{"$f":"IFERROR(INDEX(C180:C189, SMALL(IF(\"V\"=F180:F189, ROW(F180:F189)-MIN(ROW(F180:F189))+1, \"\"), ROW() -179 )), \"\")","v":""},{"$f":"IFERROR(INDEX(D180:D189, SMALL(IF(\"V\"=F180:F189, ROW(F180:F189)-MIN(ROW(F180:F189))+1, \"\"), ROW() -179 )), \"\")","v":""},{"$f":"IFERROR(INDEX(E180:E189, SMALL(IF(\"V\"=F180:F189, ROW(F180:F189)-MIN(ROW(F180:F189))+1, \"\"), ROW() -179 )), \"\")","v":""},{"$f":"IFERROR(INDEX(B180:B189, SMALL(IF(ISNUMBER(SEARCH(\"JV1\",F180:F189)), ROW(F180:F189)-MIN(ROW(F180:F189))+1, \"\"), ROW() -179 )), \"\")","v":""},{"$f":"IFERROR(INDEX(C180:C189, SMALL(IF(ISNUMBER(SEARCH(\"JV1\",F180:F189)), ROW(F180:F189)-MIN(ROW(F180:F189))+1, \"\"), ROW() -179 )), \"\")","v":""},{"$f":"IFERROR(INDEX(D180:D189, SMALL(IF(ISNUMBER(SEARCH(\"JV1\",F180:F189)), ROW(F180:F189)-MIN(ROW(F180:F189))+1, \"\"), ROW() -179 )), \"\")","v":""},{"$f":"IFERROR(INDEX(E180:E189, SMALL(IF(ISNUMBER(SEARCH(\"JV1\",F180:F189)), ROW(F180:F189)-MIN(ROW(F180:F189))+1, \"\"), ROW() -179 )), \"\")","v":""},{"$f":"IFERROR(INDEX(B180:B189, SMALL(IF(ISNUMBER(SEARCH(\"JV2\",F180:F189)), ROW(F180:F189)-MIN(ROW(F180:F189))+1, \"\"), ROW() -179 )), \"\")","v":""},{"$f":"IFERROR(INDEX(C180:C189, SMALL(IF(ISNUMBER(SEARCH(\"JV2\",F180:F189)), ROW(F180:F189)-MIN(ROW(F180:F189))+1, \"\"), ROW() -179 )), \"\")","v":""},{"$f":"IFERROR(INDEX(D180:D189, SMALL(IF(ISNUMBER(SEARCH(\"JV2\",F180:F189)), ROW(F180:F189)-MIN(ROW(F180:F189))+1, \"\"), ROW() -179 )), \"\")","v":""},{"$f":"IFERROR(INDEX(E180:E189, SMALL(IF(ISNUMBER(SEARCH(\"JV2\",F180:F189)), ROW(F180:F189)-MIN(ROW(F180:F189))+1, \"\"), ROW() -179 )), \"\")","v":""}]
[null,"Morningside University",null,"18-57615","Nick Philthilath","V",null,4339.0,null,false,{"$nulls":17},{"$f":"IFERROR(INDEX(B180:B189, SMALL(IF(\"V\"=F180:F189, ROW(F180:F189)-MIN(ROW(F180:F189))+1, \"\"), ROW() -179 )), \"\")","v":""},{"$f":"IFERROR(INDEX(C180:C189, SMALL(IF(\"V\"=F180:F189, ROW(F180:F189)-MIN(ROW(F180:F189))+1, \"\"), ROW() -179 )), \"\")","v":""},{"$f":"IFERROR(INDEX(D180:D189, SMALL(IF(\"V\"=F180:F189, ROW(F180:F189)-MIN(ROW(F180:F189))+1, \"\"), ROW() -179 )), \"\")","v":""},{"$f":"IFERROR(INDEX(E180:E189, SMALL(IF(\"V\"=F180:F189, ROW(F180:F189)-MIN(ROW(F180:F189))+1, \"\"), ROW() -179 )), \"\")","v":""},{"$f":"IFERROR(INDEX(B180:B189, SMALL(IF(ISNUMBER(SEARCH(\"JV1\",F180:F189)), ROW(F180:F189)-MIN(ROW(F180:F189))+1, \"\"), ROW() -179 )), \"\")","v":""},{"$f":"IFERROR(INDEX(C180:C189, SMALL(IF(ISNUMBER(SEARCH(\"JV1\",F180:F189)), ROW(F180:F189)-MIN(ROW(F180:F189))+1, \"\"), ROW() -179 )), \"\")","v":""},{"$f":"IFERROR(INDEX(D180:D189, SMALL(IF(ISNUMBER(SEARCH(\"JV1\",F180:F189)), ROW(F180:F189)-MIN(ROW(F180:F189))+1, \"\"), ROW() -179 )), \"\")","v":""},{"$f":"IFERROR(INDEX(E180:E189, SMALL(IF(ISNUMBER(SEARCH(\"JV1\",F180:F189)), ROW(F180:F189)-MIN(ROW(F180:F189))+1, \"\"), ROW() -179 )), \"\")","v":""},{"$f":"IFERROR(INDEX(B180:B189, SMALL(IF(ISNUMBER(SEARCH(\"JV2\",F180:F189)), ROW(F180:F189)-MIN(ROW(F180:F189))+1, \"\"), ROW() -179 )), \"\")","v":""},{"$f":"IFERROR(INDEX(C180:C189, SMALL(IF(ISNUMBER(SEARCH(\"JV2\",F180:F189)), ROW(F180:F189)-MIN(ROW(F180:F189))+1, \"\"), ROW() -179 )), \"\")","v":""},{"$f":"IFERROR(INDEX(D180:D189, SMALL(IF(ISNUMBER(SEARCH(\"JV2\",F180:F189)), ROW(F180:F189)-MIN(ROW(F180:F189))+1, \"\"), ROW() -179 )), \"\")","v":""},{"$f":"IFERROR(INDEX(E180:E189, SMALL(IF(ISNUMBER(SEARCH(\"JV2\",F180:F189)), ROW(F180:F189)-MIN(ROW(F180:F189))+1, \"\"), ROW() -179 )), \"\")","v":""}]
[null,"Morningside University",null,"11-34850","Seth Nelson","V",null,4339.0,null,false]
[null,"Morningside University",null,"20-38570","Zachary Stoltzfus","V",null,4339.0,null,false]
[null,"Ottawa University (KS)",null,"7914-32128","Achilles Reyes","JV2",null,4459.0,null,false,{"$nulls":17},{"$f":"IFERROR(INDEX(B190:B207, SMALL(IF(\"V\"=F190:F207, ROW(F190:F207)-MIN(ROW(F190:F207))+1, \"\"), ROW() -189 )), \"\")","v":"Ottawa University (KS)"},{"$f":"IFERROR(INDEX(C190:C207, SMALL(IF(\"V\"=F190:F207, ROW(F190:F207)-MIN(ROW(F190:F207))+1, \"\"), ROW() -189 )), \"\")","v":""},{"$f":"IFERROR(INDEX(D190:D207, SMALL(IF(\"V\"=F190:F207, ROW(F190:F207)-MIN(ROW(F190:F207))+1, \"\"), ROW() -189 )), \"\")","v":"8608-3907"},{"$f":"IFERROR(INDEX(E190:E207, SMALL(IF(\"V\"=F190:F207, ROW(F190:F207)-MIN(ROW(F190:F207))+1, \"\"), ROW() -189 )), \"\")","v":"Jerry Jennings"},{"$f":"IFERROR(INDEX(B190:B207, SMALL(IF(ISNUMBER(SEARCH(\"JV1\",F190:F207)), ROW(F190:F207)-MIN(ROW(F190:F207))+1, \"\"), ROW() -189 )), \"\")","v":"Ottawa University (KS)"},{"$f":"IFERROR(INDEX(C190:C207, SMALL(IF(ISNUMBER(SEARCH(\"JV1\",F190:F207)), ROW(F190:F207)-MIN(ROW(F190:F207))+1, \"\"), ROW() -189 )), \"\")","v":""},{"$f":"IFERROR(INDEX(D190:D207, SMALL(IF(ISNUMBER(SEARCH(\"JV1\",F190:F207)), ROW(F190:F207)-MIN(ROW(F190:F207))+1, \"\"), ROW() -189 )), \"\")","v":"8756-13138"},{"$f":"IFERROR(INDEX(E190:E207, SMALL(IF(ISNUMBER(SEARCH(\"JV1\",F190:F207)), ROW(F190:F207)-MIN(ROW(F190:F207))+1, \"\"), ROW() -189 )), \"\")","v":"Brendan Iaulualo"},{"$f":"IFERROR(INDEX(B190:B207, SMALL(IF(ISNUMBER(SEARCH(\"JV2\",F190:F207)), ROW(F190:F207)-MIN(ROW(F190:F207))+1, \"\"), ROW() -189 )), \"\")","v":"Ottawa University (KS)"},{"$f":"IFERROR(INDEX(C190:C207, SMALL(IF(ISNUMBER(SEARCH(\"JV2\",F190:F207)), ROW(F190:F207)-MIN(ROW(F190:F207))+1, \"\"), ROW() -189 )), \"\")","v":""},{"$f":"IFERROR(INDEX(D190:D207, SMALL(IF(ISNUMBER(SEARCH(\"JV2\",F190:F207)), ROW(F190:F207)-MIN(ROW(F190:F207))+1, \"\"), ROW() -189 )), \"\")","v":"7914-32128"},{"$f":"IFERROR(INDEX(E190:E207, SMALL(IF(ISNUMBER(SEARCH(\"JV2\",F190:F207)), ROW(F190:F207)-MIN(ROW(F190:F207))+1, \"\"), ROW() -189 )), \"\")","v":"Achilles Reyes"}]
[null,"Ottawa University (KS)",null,"7914-32123","Ashton Reyes","JV2",null,4459.0,null,false,{"$nulls":17},{"$f":"IFERROR(INDEX(B190:B207, SMALL(IF(\"V\"=F190:F207, ROW(F190:F207)-MIN(ROW(F190:F207))+1, \"\"), ROW() -189 )), \"\")","v":"Ottawa University (KS)"},{"$f":"IFERROR(INDEX(C190:C207, SMALL(IF(\"V\"=F190:F207, ROW(F190:F207)-MIN(ROW(F190:F207))+1, \"\"), ROW() -189 )), \"\")","v":""},{"$f":"IFERROR(INDEX(D190:D207, SMALL(IF(\"V\"=F190:F207, ROW(F190:F207)-MIN(ROW(F190:F207))+1, \"\"), ROW() -189 )), \"\")","v":"18-65299"},{"$f":"IFERROR(INDEX(E190:E207, SMALL(IF(\"V\"=F190:F207, ROW(F190:F207)-MIN(ROW(F190:F207))+1, \"\"), ROW() -189 )), \"\")","v":"Joseph Enderle"},{"$f":"IFERROR(INDEX(B190:B207, SMALL(IF(ISNUMBER(SEARCH(\"JV1\",F190:F207)), ROW(F190:F207)-MIN(ROW(F190:F207))+1, \"\"), ROW() -189 )), \"\")","v":"Ottawa University (KS)"},{"$f":"IFERROR(INDEX(C190:C207, SMALL(IF(ISNUMBER(SEARCH(\"JV1\",F190:F207)), ROW(F190:F207)-MIN(ROW(F190:F207))+1, \"\"), ROW() -189 )), \"\")","v":""},{"$f":"IFERROR(INDEX(D190:D207, SMALL(IF(ISNUMBER(SEARCH(\"JV1\",F190:F207)), ROW(F190:F207)-MIN(ROW(F190:F207))+1, \"\"), ROW() -189 )), \"\")","v":"11-663062"},{"$f":"IFERROR(INDEX(E190:E207, SMALL(IF(ISNUMBER(SEARCH(\"JV1\",F190:F207)), ROW(F190:F207)-MIN(ROW(F190:F207))+1, \"\"), ROW() -189 )), \"\")","v":"Cole Clough"},{"$f":"IFERROR(INDEX(B190:B207, SMALL(IF(ISNUMBER(SEARCH(\"JV2\",F190:F207)), ROW(F190:F207)-MIN(ROW(F190:F207))+1, \"\"), ROW() -189 )), \"\")","v":"Ottawa University (KS)"},{"$f":"IFERROR(INDEX(C190:C207, SMALL(IF(ISNUMBER(SEARCH(\"JV2\",F190:F207)), ROW(F190:F207)-MIN(ROW(F190:F207))+1, \"\"), ROW() -189 )), \"\")","v":""},{"$f":"IFERROR(INDEX(D190:D207, SMALL(IF(ISNUMBER(SEARCH(\"JV2\",F190:F207)), ROW(F190:F207)-MIN(ROW(F190:F207))+1, \"\"), ROW() -189 )), \"\")","v":"7914-32123"},{"$f":"IFERROR(INDEX(E190:E207, SMALL(IF(ISNUMBER(SEARCH(\"JV2\",F190:F207)), ROW(F190:F207)-MIN(ROW(F190:F207))+1, \"\"), ROW() -189 )), \"\")","v":"Ashton Reyes"}]
[null,"Ottawa University (KS)",null,"8756-13138","Brendan Iaulualo","JV1",null,4459.0,null,false,{"$nulls":17},{"$f":"IFERROR(INDEX(B190:B207, SMALL(IF(\"V\"=F190:F207, ROW(F190:F207)-MIN(ROW(F190:F207))+1, \"\"), ROW() -189 )), \"\")","v":"Ottawa University (KS)"},{"$f":"IFERROR(INDEX(C190:C207, SMALL(IF(\"V\"=F190:F207, ROW(F190:F207)-MIN(ROW(F190:F207))+1, \"\"), ROW() -189 )), \"\")","v":""},{"$f":"IFERROR(INDEX(D190:D207, SMALL(IF(\"V\"=F190:F207, ROW(F190:F207)-MIN(ROW(F190:F207))+1, \"\"), ROW() -189 )), \"\")","v":"16-124170"},{"$f":"IFERROR(INDEX(E190:E207, SMALL(IF(\"V\"=F190:F207, ROW(F190:F207)-MIN(ROW(F190:F207))+1, \"\"), ROW() -189 )), \"\")","v":"Justin Weddige"},{"$f":"IFERROR(INDEX(B190:B207, SMALL(IF(ISNUMBER(SEARCH(\"JV1\",F190:F207)), ROW(F190:F207)-MIN(ROW(F190:F207))+1, \"\"), ROW() -189 )), \"\")","v":"Ottawa University (KS)"},{"$f":"IFERROR(INDEX(C190:C207, SMALL(IF(ISNUMBER(SEARCH(\"JV1\",F190:F207)), ROW(F190:F207)-MIN(ROW(F190:F207))+1, \"\"), ROW() -189 )), \"\")","v":""},{"$f":"IFERROR(INDEX(D190:D207, SMALL(IF(ISNUMBER(SEARCH(\"JV1\",F190:F207)), ROW(F190:F207)-MIN(ROW(F190:F207))+1, \"\"), ROW() -189 )), \"\")","v":"18-65090"},{"$f":"IFERROR(INDEX(E190:E207, SMALL(IF(ISNUMBER(SEARCH(\"JV1\",F190:F207)), ROW(F190:F207)-MIN(ROW(F190:F207))+1, \"\"), ROW() -189 )), \"\")","v":"Josh King"},{"$f":"IFERROR(INDEX(B190:B207, SMALL(IF(ISNUMBER(SEARCH(\"JV2\",F190:F207)), ROW(F190:F207)-MIN(ROW(F190:F207))+1, \"\"), ROW() -189 )), \"\")","v":"Ottawa University (KS)"},{"$f":"IFERROR(INDEX(C190:C207, SMALL(IF(ISNUMBER(SEARCH(\"JV2\",F190:F207)), ROW(F190:F207)-MIN(ROW(F190:F207))+1, \"\"), ROW() -189 )), \"\")","v":""},{"$f":"IFERROR(INDEX(D190:D207, SMALL(IF(ISNUMBER(SEARCH(\"JV2\",F190:F207)), ROW(F190:F207)-MIN(ROW(F190:F207))+1, \"\"), ROW() -189 )), \"\")","v":"11-629159"},{"$f":"IFERROR(INDEX(E190:E207, SMALL(IF(ISNUMBER(SEARCH(\"JV2\",F190:F207)), ROW(F190:F207)-MIN(ROW(F190:F207))+1, \"\"), ROW() -189 )), \"\")","v":"Ian Carpenter"}]
[null,"Ottawa University (KS)",null,"11-457751","Caleb Joseph",null,null,4459.0,null,false,{"$nulls":17},{"$f":"IFERROR(INDEX(B190:B207, SMALL(IF(\"V\"=F190:F207, ROW(F190:F207)-MIN(ROW(F190:F207))+1, \"\"), ROW() -189 )), \"\")","v":"Ottawa University (KS)"},{"$f":"IFERROR(INDEX(C190:C207, SMALL(IF(\"V\"=F190:F207, ROW(F190:F207)-MIN(ROW(F190:F207))+1, \"\"), ROW() -189 )), \"\")","v":""},{"$f":"IFERROR(INDEX(D190:D207, SMALL(IF(\"V\"=F190:F207, ROW(F190:F207)-MIN(ROW(F190:F207))+1, \"\"), ROW() -189 )), \"\")","v":"18-75437"},{"$f":"IFERROR(INDEX(E190:E207, SMALL(IF(\"V\"=F190:F207, ROW(F190:F207)-MIN(ROW(F190:F207))+1, \"\"), ROW() -189 )), \"\")","v":"Matthew Berg"},{"$f":"IFERROR(INDEX(B190:B207, SMALL(IF(ISNUMBER(SEARCH(\"JV1\",F190:F207)), ROW(F190:F207)-MIN(ROW(F190:F207))+1, \"\"), ROW() -189 )), \"\")","v":"Ottawa University (KS)"},{"$f":"IFERROR(INDEX(C190:C207, SMALL(IF(ISNUMBER(SEARCH(\"JV1\",F190:F207)), ROW(F190:F207)-MIN(ROW(F190:F207))+1, \"\"), ROW() -189 )), \"\")","v":""},{"$f":"IFERROR(INDEX(D190:D207, SMALL(IF(ISNUMBER(SEARCH(\"JV1\",F190:F207)), ROW(F190:F207)-MIN(ROW(F190:F207))+1, \"\"), ROW() -189 )), \"\")","v":"11-513059"},{"$f":"IFERROR(INDEX(E190:E207, SMALL(IF(ISNUMBER(SEARCH(\"JV1\",F190:F207)), ROW(F190:F207)-MIN(ROW(F190:F207))+1, \"\"), ROW() -189 )), \"\")","v":"Tre Preston"},{"$f":"IFERROR(INDEX(B190:B207, SMALL(IF(ISNUMBER(SEARCH(\"JV2\",F190:F207)), ROW(F190:F207)-MIN(ROW(F190:F207))+1, \"\"), ROW() -189 )), \"\")","v":"Ottawa University (KS)"},{"$f":"IFERROR(INDEX(C190:C207, SMALL(IF(ISNUMBER(SEARCH(\"JV2\",F190:F207)), ROW(F190:F207)-MIN(ROW(F190:F207))+1, \"\"), ROW() -189 )), \"\")","v":""},{"$f":"IFERROR(INDEX(D190:D207, SMALL(IF(ISNUMBER(SEARCH(\"JV2\",F190:F207)), ROW(F190:F207)-MIN(ROW(F190:F207))+1, \"\"), ROW() -189 )), \"\")","v":"19-86469"},{"$f":"IFERROR(INDEX(E190:E207, SMALL(IF(ISNUMBER(SEARCH(\"JV2\",F190:F207)), ROW(F190:F207)-MIN(ROW(F190:F207))+1, \"\"), ROW() -189 )), \"\")","v":"Justin Preston"}]
[null,"Ottawa University (KS)",null,"11-663062","Cole Clough","JV1",null,4459.0,null,false,{"$nulls":17},{"$f":"IFERROR(INDEX(B190:B207, SMALL(IF(\"V\"=F190:F207, ROW(F190:F207)-MIN(ROW(F190:F207))+1, \"\"), ROW() -189 )), \"\")","v":"Ottawa University (KS)"},{"$f":"IFERROR(INDEX(C190:C207, SMALL(IF(\"V\"=F190:F207, ROW(F190:F207)-MIN(ROW(F190:F207))+1, \"\"), ROW() -189 )), \"\")","v":""},{"$f":"IFERROR(INDEX(D190:D207, SMALL(IF(\"V\"=F190:F207, ROW(F190:F207)-MIN(ROW(F190:F207))+1, \"\"), ROW() -189 )), \"\")","v":"11-661049"},{"$f":"IFERROR(INDEX(E190:E207, SMALL(IF(\"V\"=F190:F207, ROW(F190:F207)-MIN(ROW(F190:F207))+1, \"\"), ROW() -189 )), \"\")","v":"Matthew Lennox"},{"$f":"IFERROR(INDEX(B190:B207, SMALL(IF(ISNUMBER(SEARCH(\"JV1\",F190:F207)), ROW(F190:F207)-MIN(ROW(F190:F207))+1, \"\"), ROW() -189 )), \"\")","v":"Ottawa University (KS)"},{"$f":"IFERROR(INDEX(C190:C207, SMALL(IF(ISNUMBER(SEARCH(\"JV1\",F190:F207)), ROW(F190:F207)-MIN(ROW(F190:F207))+1, \"\"), ROW() -189 )), \"\")","v":""},{"$f":"IFERROR(INDEX(D190:D207, SMALL(IF(ISNUMBER(SEARCH(\"JV1\",F190:F207)), ROW(F190:F207)-MIN(ROW(F190:F207))+1, \"\"), ROW() -189 )), \"\")","v":"11-449090"},{"$f":"IFERROR(INDEX(E190:E207, SMALL(IF(ISNUMBER(SEARCH(\"JV1\",F190:F207)), ROW(F190:F207)-MIN(ROW(F190:F207))+1, \"\"), ROW() -189 )), \"\")","v":"Zonte Spann"},{"$f":"IFERROR(INDEX(B190:B207, SMALL(IF(ISNUMBER(SEARCH(\"JV2\",F190:F207)), ROW(F190:F207)-MIN(ROW(F190:F207))+1, \"\"), ROW() -189 )), \"\")","v":"Ottawa University (KS)"},{"$f":"IFERROR(INDEX(C190:C207, SMALL(IF(ISNUMBER(SEARCH(\"JV2\",F190:F207)), ROW(F190:F207)-MIN(ROW(F190:F207))+1, \"\"), ROW() -189 )), \"\")","v":""},{"$f":"IFERROR(INDEX(D190:D207, SMALL(IF(ISNUMBER(SEARCH(\"JV2\",F190:F207)), ROW(F190:F207)-MIN(ROW(F190:F207))+1, \"\"), ROW() -189 )), \"\")","v":"20-51842"},{"$f":"IFERROR(INDEX(E190:E207, SMALL(IF(ISNUMBER(SEARCH(\"JV2\",F190:F207)), ROW(F190:F207)-MIN(ROW(F190:F207))+1, \"\"), ROW() -189 )), \"\")","v":"Shay White"}]
[null,"Ottawa University (KS)",null,"11-629159","Ian Carpenter","JV2",null,4459.0,null,false,{"$nulls":17},{"$f":"IFERROR(INDEX(B190:B207, SMALL(IF(\"V\"=F190:F207, ROW(F190:F207)-MIN(ROW(F190:F207))+1, \"\"), ROW() -189 )), \"\")","v":"Ottawa University (KS)"},{"$f":"IFERROR(INDEX(C190:C207, SMALL(IF(\"V\"=F190:F207, ROW(F190:F207)-MIN(ROW(F190:F207))+1, \"\"), ROW() -189 )), \"\")","v":""},{"$f":"IFERROR(INDEX(D190:D207, SMALL(IF(\"V\"=F190:F207, ROW(F190:F207)-MIN(ROW(F190:F207))+1, \"\"), ROW() -189 )), \"\")","v":"5900-26017"},{"$f":"IFERROR(INDEX(E190:E207, SMALL(IF(\"V\"=F190:F207, ROW(F190:F207)-MIN(ROW(F190:F207))+1, \"\"), ROW() -189 )), \"\")","v":"Spencer Giffin"},{"$f":"IFERROR(INDEX(B190:B207, SMALL(IF(ISNUMBER(SEARCH(\"JV1\",F190:F207)), ROW(F190:F207)-MIN(ROW(F190:F207))+1, \"\"), ROW() -189 )), \"\")","v":""},{"$f":"IFERROR(INDEX(C190:C207, SMALL(IF(ISNUMBER(SEARCH(\"JV1\",F190:F207)), ROW(F190:F207)-MIN(ROW(F190:F207))+1, \"\"), ROW() -189 )), \"\")","v":""},{"$f":"IFERROR(INDEX(D190:D207, SMALL(IF(ISNUMBER(SEARCH(\"JV1\",F190:F207)), ROW(F190:F207)-MIN(ROW(F190:F207))+1, \"\"), ROW() -189 )), \"\")","v":""},{"$f":"IFERROR(INDEX(E190:E207, SMALL(IF(ISNUMBER(SEARCH(\"JV1\",F190:F207)), ROW(F190:F207)-MIN(ROW(F190:F207))+1, \"\"), ROW() -189 )), \"\")","v":""},{"$f":"IFERROR(INDEX(B190:B207, SMALL(IF(ISNUMBER(SEARCH(\"JV2\",F190:F207)), ROW(F190:F207)-MIN(ROW(F190:F207))+1, \"\"), ROW() -189 )), \"\")","v":""},{"$f":"IFERROR(INDEX(C190:C207, SMALL(IF(ISNUMBER(SEARCH(\"JV2\",F190:F207)), ROW(F190:F207)-MIN(ROW(F190:F207))+1, \"\"), ROW() -189 )), \"\")","v":""},{"$f":"IFERROR(INDEX(D190:D207, SMALL(IF(ISNUMBER(SEARCH(\"JV2\",F190:F207)), ROW(F190:F207)-MIN(ROW(F190:F207))+1, \"\"), ROW() -189 )), \"\")","v":""},{"$f":"IFERROR(INDEX(E190:E207, SMALL(IF(ISNUMBER(SEARCH(\"JV2\",F190:F207)), ROW(F190:F207)-MIN(ROW(F190:F207))+1, \"\"), ROW() -189 )), \"\")","v":""}]
[null,"Ottawa University (KS)",null,"23-1081","Jarret Gage",null,null,4459.0,null,false,{"$nulls":17},{"$f":"IFERROR(INDEX(B190:B207, SMALL(IF(\"V\"=F190:F207, ROW(F190:F207)-MIN(ROW(F190:F207))+1, \"\"), ROW() -189 )), \"\")","v":""},{"$f":"IFERROR(INDEX(C190:C207, SMALL(IF(\"V\"=F190:F207, ROW(F190:F207)-MIN(ROW(F190:F207))+1, \"\"), ROW() -189 )), \"\")","v":""},{"$f":"IFERROR(INDEX(D190:D207, SMALL(IF(\"V\"=F190:F207, ROW(F190:F207)-MIN(ROW(F190:F207))+1, \"\"), ROW() -189 )), \"\")","v":""},{"$f":"IFERROR(INDEX(E190:E207, SMALL(IF(\"V\"=F190:F207, ROW(F190:F207)-MIN(ROW(F190:F207))+1, \"\"), ROW() -189 )), \"\")","v":""},{"$f":"IFERROR(INDEX(B190:B207, SMALL(IF(ISNUMBER(SEARCH(\"JV1\",F190:F207)), ROW(F190:F207)-MIN(ROW(F190:F207))+1, \"\"), ROW() -189 )), \"\")","v":""},{"$f":"IFERROR(INDEX(C190:C207, SMALL(IF(ISNUMBER(SEARCH(\"JV1\",F190:F207)), ROW(F190:F207)-MIN(ROW(F190:F207))+1, \"\"), ROW() -189 )), \"\")","v":""},{"$f":"IFERROR(INDEX(D190:D207, SMALL(IF(ISNUMBER(SEARCH(\"JV1\",F190:F207)), ROW(F190:F207)-MIN(ROW(F190:F207))+1, \"\"), ROW() -189 )), \"\")","v":""},{"$f":"IFERROR(INDEX(E190:E207, SMALL(IF(ISNUMBER(SEARCH(\"JV1\",F190:F207)), ROW(F190:F207)-MIN(ROW(F190:F207))+1, \"\"), ROW() -189 )), \"\")","v":""},{"$f":"IFERROR(INDEX(B190:B207, SMALL(IF(ISNUMBER(SEARCH(\"JV2\",F190:F207)), ROW(F190:F207)-MIN(ROW(F190:F207))+1, \"\"), ROW() -189 )), \"\")","v":""},{"$f":"IFERROR(INDEX(C190:C207, SMALL(IF(ISNUMBER(SEARCH(\"JV2\",F190:F207)), ROW(F190:F207)-MIN(ROW(F190:F207))+1, \"\"), ROW() -189 )), \"\")","v":""},{"$f":"IFERROR(INDEX(D190:D207, SMALL(IF(ISNUMBER(SEARCH(\"JV2\",F190:F207)), ROW(F190:F207)-MIN(ROW(F190:F207))+1, \"\"), ROW() -189 )), \"\")","v":""},{"$f":"IFERROR(INDEX(E190:E207, SMALL(IF(ISNUMBER(SEARCH(\"JV2\",F190:F207)), ROW(F190:F207)-MIN(ROW(F190:F207))+1, \"\"), ROW() -189 )), \"\")","v":""}]
[null,"Ottawa University (KS)",null,"8608-3907","Jerry Jennings","V",null,4459.0,null,false,{"$nulls":17},{"$f":"IFERROR(INDEX(B190:B207, SMALL(IF(\"V\"=F190:F207, ROW(F190:F207)-MIN(ROW(F190:F207))+1, \"\"), ROW() -189 )), \"\")","v":""},{"$f":"IFERROR(INDEX(C190:C207, SMALL(IF(\"V\"=F190:F207, ROW(F190:F207)-MIN(ROW(F190:F207))+1, \"\"), ROW() -189 )), \"\")","v":""},{"$f":"IFERROR(INDEX(D190:D207, SMALL(IF(\"V\"=F190:F207, ROW(F190:F207)-MIN(ROW(F190:F207))+1, \"\"), ROW() -189 )), \"\")","v":""},{"$f":"IFERROR(INDEX(E190:E207, SMALL(IF(\"V\"=F190:F207, ROW(F190:F207)-MIN(ROW(F190:F207))+1, \"\"), ROW() -189 )), \"\")","v":""},{"$f":"IFERROR(INDEX(B190:B207, SMALL(IF(ISNUMBER(SEARCH(\"JV1\",F190:F207)), ROW(F190:F207)-MIN(ROW(F190:F207))+1, \"\"), ROW() -189 )), \"\")","v":""},{"$f":"IFERROR(INDEX(C190:C207, SMALL(IF(ISNUMBER(SEARCH(\"JV1\",F190:F207)), ROW(F190:F207)-MIN(ROW(F190:F207))+1, \"\"), ROW() -189 )), \"\")","v":""},{"$f":"IFERROR(INDEX(D190:D207, SMALL(IF(ISNUMBER(SEARCH(\"JV1\",F190:F207)), ROW(F190:F207)-MIN(ROW(F190:F207))+1, \"\"), ROW() -189 )), \"\")","v":""},{"$f":"IFERROR(INDEX(E190:E207, SMALL(IF(ISNUMBER(SEARCH(\"JV1\",F190:F207)), ROW(F190:F207)-MIN(ROW(F190:F207))+1, \"\"), ROW() -189 )), \"\")","v":""},{"$f":"IFERROR(INDEX(B190:B207, SMALL(IF(ISNUMBER(SEARCH(\"JV2\",F190:F207)), ROW(F190:F207)-MIN(ROW(F190:F207))+1, \"\"), ROW() -189 )), \"\")","v":""},{"$f":"IFERROR(INDEX(C190:C207, SMALL(IF(ISNUMBER(SEARCH(\"JV2\",F190:F207)), ROW(F190:F207)-MIN(ROW(F190:F207))+1, \"\"), ROW() -189 )), \"\")","v":""},{"$f":"IFERROR(INDEX(D190:D207, SMALL(IF(ISNUMBER(SEARCH(\"JV2\",F190:F207)), ROW(F190:F207)-MIN(ROW(F190:F207))+1, \"\"), ROW() -189 )), \"\")","v":""},{"$f":"IFERROR(INDEX(E190:E207, SMALL(IF(ISNUMBER(SEARCH(\"JV2\",F190:F207)), ROW(F190:F207)-MIN(ROW(F190:F207))+1, \"\"), ROW() -189 )), \"\")","v":""}]
[null,"Ottawa University (KS)",null,"18-65299","Joseph Enderle","V",null,4459.0,null,false]
[null,"Ottawa University (KS)",null,"18-65090","Josh King","JV1",null,4459.0,null,false]
[null,"Ottawa University (KS)",null,"19-86469","Justin Preston","JV2",null,4459.0,null,false]
[null,"Ottawa University (KS)",null,"16-124170","Justin Weddige","V",null,4459.0,null,false]
[null,"Ottawa University (KS)",null,"18-75437","Matthew Berg","V",null,4459.0,null,false]
[null,"Ottawa University (KS)",null,"11-661049","Matthew Lennox","V",null,4459.0,null,false]
[null,"Ottawa University (KS)",null,"20-51842","Shay White","JV2",null,4459.0,null,false]
[null,"Ottawa University (KS)",null,"5900-26017","Spencer Giffin","V",null,4459.0,null,false]
[null,"Ottawa University (KS)",null,"11-513059","Tre Preston","JV1",null,4459.0,null,false]
[null,"Ottawa University (KS)",null,"11-449090","Zonte Spann","JV1",null,4459.0,null,false]
[null,"Peru State College",null,"11-276735","Creyton Nisly","V",null,4491.0,null,false,{"$nulls":17},{"$f":"IFERROR(INDEX(B208:B216, SMALL(IF(\"V\"=F208:F216, ROW(F208:F216)-MIN(ROW(F208:F216))+1, \"\"), ROW() -207 )), \"\")","v":"Peru State College"},{"$f":"IFERROR(INDEX(C208:C216, SMALL(IF(\"V\"=F208:F216, ROW(F208:F216)-MIN(ROW(F208:F216))+1, \"\"), ROW() -207 )), \"\")","v":""},{"$f":"IFERROR(INDEX(D208:D216, SMALL(IF(\"V\"=F208:F216, ROW(F208:F216)-MIN(ROW(F208:F216))+1, \"\"), ROW() -207 )), \"\")","v":"11-276735"},{"$f":"IFERROR(INDEX(E208:E216, SMALL(IF(\"V\"=F208:F216, ROW(F208:F216)-MIN(ROW(F208:F216))+1, \"\"), ROW() -207 )), \"\")","v":"Creyton Nisly"},{"$f":"IFERROR(INDEX(B208:B216, SMALL(IF(ISNUMBER(SEARCH(\"JV1\",F208:F216)), ROW(F208:F216)-MIN(ROW(F208:F216))+1, \"\"), ROW() -207 )), \"\")","v":""},{"$f":"IFERROR(INDEX(C208:C216, SMALL(IF(ISNUMBER(SEARCH(\"JV1\",F208:F216)), ROW(F208:F216)-MIN(ROW(F208:F216))+1, \"\"), ROW() -207 )), \"\")","v":""},{"$f":"IFERROR(INDEX(D208:D216, SMALL(IF(ISNUMBER(SEARCH(\"JV1\",F208:F216)), ROW(F208:F216)-MIN(ROW(F208:F216))+1, \"\"), ROW() -207 )), \"\")","v":""},{"$f":"IFERROR(INDEX(E208:E216, SMALL(IF(ISNUMBER(SEARCH(\"JV1\",F208:F216)), ROW(F208:F216)-MIN(ROW(F208:F216))+1, \"\"), ROW() -207 )), \"\")","v":""},{"$f":"IFERROR(INDEX(B208:B216, SMALL(IF(ISNUMBER(SEARCH(\"JV2\",F208:F216)), ROW(F208:F216)-MIN(ROW(F208:F216))+1, \"\"), ROW() -207 )), \"\")","v":""},{"$f":"IFERROR(INDEX(C208:C216, SMALL(IF(ISNUMBER(SEARCH(\"JV2\",F208:F216)), ROW(F208:F216)-MIN(ROW(F208:F216))+1, \"\"), ROW() -207 )), \"\")","v":""},{"$f":"IFERROR(INDEX(D208:D216, SMALL(IF(ISNUMBER(SEARCH(\"JV2\",F208:F216)), ROW(F208:F216)-MIN(ROW(F208:F216))+1, \"\"), ROW() -207 )), \"\")","v":""},{"$f":"IFERROR(INDEX(E208:E216, SMALL(IF(ISNUMBER(SEARCH(\"JV2\",F208:F216)), ROW(F208:F216)-MIN(ROW(F208:F216))+1, \"\"), ROW() -207 )), \"\")","v":""}]
[null,"Peru State College",null,"7914-17029","Dane Conner","V",null,4491.0,null,false,{"$nulls":17},{"$f":"IFERROR(INDEX(B208:B216, SMALL(IF(\"V\"=F208:F216, ROW(F208:F216)-MIN(ROW(F208:F216))+1, \"\"), ROW() -207 )), \"\")","v":"Peru State College"},{"$f":"IFERROR(INDEX(C208:C216, SMALL(IF(\"V\"=F208:F216, ROW(F208:F216)-MIN(ROW(F208:F216))+1, \"\"), ROW() -207 )), \"\")","v":""},{"$f":"IFERROR(INDEX(D208:D216, SMALL(IF(\"V\"=F208:F216, ROW(F208:F216)-MIN(ROW(F208:F216))+1, \"\"), ROW() -207 )), \"\")","v":"7914-17029"},{"$f":"IFERROR(INDEX(E208:E216, SMALL(IF(\"V\"=F208:F216, ROW(F208:F216)-MIN(ROW(F208:F216))+1, \"\"), ROW() -207 )), \"\")","v":"Dane Conner"},{"$f":"IFERROR(INDEX(B208:B216, SMALL(IF(ISNUMBER(SEARCH(\"JV1\",F208:F216)), ROW(F208:F216)-MIN(ROW(F208:F216))+1, \"\"), ROW() -207 )), \"\")","v":""},{"$f":"IFERROR(INDEX(C208:C216, SMALL(IF(ISNUMBER(SEARCH(\"JV1\",F208:F216)), ROW(F208:F216)-MIN(ROW(F208:F216))+1, \"\"), ROW() -207 )), \"\")","v":""},{"$f":"IFERROR(INDEX(D208:D216, SMALL(IF(ISNUMBER(SEARCH(\"JV1\",F208:F216)), ROW(F208:F216)-MIN(ROW(F208:F216))+1, \"\"), ROW() -207 )), \"\")","v":""},{"$f":"IFERROR(INDEX(E208:E216, SMALL(IF(ISNUMBER(SEARCH(\"JV1\",F208:F216)), ROW(F208:F216)-MIN(ROW(F208:F216))+1, \"\"), ROW() -207 )), \"\")","v":""},{"$f":"IFERROR(INDEX(B208:B216, SMALL(IF(ISNUMBER(SEARCH(\"JV2\",F208:F216)), ROW(F208:F216)-MIN(ROW(F208:F216))+1, \"\"), ROW() -207 )), \"\")","v":""},{"$f":"IFERROR(INDEX(C208:C216, SMALL(IF(ISNUMBER(SEARCH(\"JV2\",F208:F216)), ROW(F208:F216)-MIN(ROW(F208:F216))+1, \"\"), ROW() -207 )), \"\")","v":""},{"$f":"IFERROR(INDEX(D208:D216, SMALL(IF(ISNUMBER(SEARCH(\"JV2\",F208:F216)), ROW(F208:F216)-MIN(ROW(F208:F216))+1, \"\"), ROW() -207 )), \"\")","v":""},{"$f":"IFERROR(INDEX(E208:E216, SMALL(IF(ISNUMBER(SEARCH(\"JV2\",F208:F216)), ROW(F208:F216)-MIN(ROW(F208:F216))+1, \"\"), ROW() -207 )), \"\")","v":""}]
[null,"Peru State College",null,"23-4482","Ethan Haas-Oltrogge","V",null,4491.0,null,false,{"$nulls":17},{"$f":"IFERROR(INDEX(B208:B216, SMALL(IF(\"V\"=F208:F216, ROW(F208:F216)-MIN(ROW(F208:F216))+1, \"\"), ROW() -207 )), \"\")","v":"Peru State College"},{"$f":"IFERROR(INDEX(C208:C216, SMALL(IF(\"V\"=F208:F216, ROW(F208:F216)-MIN(ROW(F208:F216))+1, \"\"), ROW() -207 )), \"\")","v":""},{"$f":"IFERROR(INDEX(D208:D216, SMALL(IF(\"V\"=F208:F216, ROW(F208:F216)-MIN(ROW(F208:F216))+1, \"\"), ROW() -207 )), \"\")","v":"23-4482"},{"$f":"IFERROR(INDEX(E208:E216, SMALL(IF(\"V\"=F208:F216, ROW(F208:F216)-MIN(ROW(F208:F216))+1, \"\"), ROW() -207 )), \"\")","v":"Ethan Haas-Oltrogge"},{"$f":"IFERROR(INDEX(B208:B216, SMALL(IF(ISNUMBER(SEARCH(\"JV1\",F208:F216)), ROW(F208:F216)-MIN(ROW(F208:F216))+1, \"\"), ROW() -207 )), \"\")","v":""},{"$f":"IFERROR(INDEX(C208:C216, SMALL(IF(ISNUMBER(SEARCH(\"JV1\",F208:F216)), ROW(F208:F216)-MIN(ROW(F208:F216))+1, \"\"), ROW() -207 )), \"\")","v":""},{"$f":"IFERROR(INDEX(D208:D216, SMALL(IF(ISNUMBER(SEARCH(\"JV1\",F208:F216)), ROW(F208:F216)-MIN(ROW(F208:F216))+1, \"\"), ROW() -207 )), \"\")","v":""},{"$f":"IFERROR(INDEX(E208:E216, SMALL(IF(ISNUMBER(SEARCH(\"JV1\",F208:F216)), ROW(F208:F216)-MIN(ROW(F208:F216))+1, \"\"), ROW() -207 )), \"\")","v":""},{"$f":"IFERROR(INDEX(B208:B216, SMALL(IF(ISNUMBER(SEARCH(\"JV2\",F208:F216)), ROW(F208:F216)-MIN(ROW(F208:F216))+1, \"\"), ROW() -207 )), \"\")","v":""},{"$f":"IFERROR(INDEX(C208:C216, SMALL(IF(ISNUMBER(SEARCH(\"JV2\",F208:F216)), ROW(F208:F216)-MIN(ROW(F208:F216))+1, \"\"), ROW() -207 )), \"\")","v":""},{"$f":"IFERROR(INDEX(D208:D216, SMALL(IF(ISNUMBER(SEARCH(\"JV2\",F208:F216)), ROW(F208:F216)-MIN(ROW(F208:F216))+1, \"\"), ROW() -207 )), \"\")","v":""},{"$f":"IFERROR(INDEX(E208:E216, SMALL(IF(ISNUMBER(SEARCH(\"JV2\",F208:F216)), ROW(F208:F216)-MIN(ROW(F208:F216))+1, \"\"), ROW() -207 )), \"\")","v":""}]
[null,"Peru State College",null,"11-377455","Isaac Skalak","V",null,4491.0,null,false,{"$nulls":17},{"$f":"IFERROR(INDEX(B208:B216, SMALL(IF(\"V\"=F208:F216, ROW(F208:F216)-MIN(ROW(F208:F216))+1, \"\"), ROW() -207 )), \"\")","v":"Peru State College"},{"$f":"IFERROR(INDEX(C208:C216, SMALL(IF(\"V\"=F208:F216, ROW(F208:F216)-MIN(ROW(F208:F216))+1, \"\"), ROW() -207 )), \"\")","v":""},{"$f":"IFERROR(INDEX(D208:D216, SMALL(IF(\"V\"=F208:F216, ROW(F208:F216)-MIN(ROW(F208:F216))+1, \"\"), ROW() -207 )), \"\")","v":"11-377455"},{"$f":"IFERROR(INDEX(E208:E216, SMALL(IF(\"V\"=F208:F216, ROW(F208:F216)-MIN(ROW(F208:F216))+1, \"\"), ROW() -207 )), \"\")","v":"Isaac Skalak"},{"$f":"IFERROR(INDEX(B208:B216, SMALL(IF(ISNUMBER(SEARCH(\"JV1\",F208:F216)), ROW(F208:F216)-MIN(ROW(F208:F216))+1, \"\"), ROW() -207 )), \"\")","v":""},{"$f":"IFERROR(INDEX(C208:C216, SMALL(IF(ISNUMBER(SEARCH(\"JV1\",F208:F216)), ROW(F208:F216)-MIN(ROW(F208:F216))+1, \"\"), ROW() -207 )), \"\")","v":""},{"$f":"IFERROR(INDEX(D208:D216, SMALL(IF(ISNUMBER(SEARCH(\"JV1\",F208:F216)), ROW(F208:F216)-MIN(ROW(F208:F216))+1, \"\"), ROW() -207 )), \"\")","v":""},{"$f":"IFERROR(INDEX(E208:E216, SMALL(IF(ISNUMBER(SEARCH(\"JV1\",F208:F216)), ROW(F208:F216)-MIN(ROW(F208:F216))+1, \"\"), ROW() -207 )), \"\")","v":""},{"$f":"IFERROR(INDEX(B208:B216, SMALL(IF(ISNUMBER(SEARCH(\"JV2\",F208:F216)), ROW(F208:F216)-MIN(ROW(F208:F216))+1, \"\"), ROW() -207 )), \"\")","v":""},{"$f":"IFERROR(INDEX(C208:C216, SMALL(IF(ISNUMBER(SEARCH(\"JV2\",F208:F216)), ROW(F208:F216)-MIN(ROW(F208:F216))+1, \"\"), ROW() -207 )), \"\")","v":""},{"$f":"IFERROR(INDEX(D208:D216, SMALL(IF(ISNUMBER(SEARCH(\"JV2\",F208:F216)), ROW(F208:F216)-MIN(ROW(F208:F216))+1, \"\"), ROW() -207 )), \"\")","v":""},{"$f":"IFERROR(INDEX(E208:E216, SMALL(IF(ISNUMBER(SEARCH(\"JV2\",F208:F216)), ROW(F208:F216)-MIN(ROW(F208:F216))+1, \"\"), ROW() -207 )), \"\")","v":""}]
[null,"Peru State College",null,"6436-419","Jared Dramse","V",null,4491.0,null,false,{"$nulls":17},{"$f":"IFERROR(INDEX(B208:B216, SMALL(IF(\"V\"=F208:F216, ROW(F208:F216)-MIN(ROW(F208:F216))+1, \"\"), ROW() -207 )), \"\")","v":"Peru State College"},{"$f":"IFERROR(INDEX(C208:C216, SMALL(IF(\"V\"=F208:F216, ROW(F208:F216)-MIN(ROW(F208:F216))+1, \"\"), ROW() -207 )), \"\")","v":""},{"$f":"IFERROR(INDEX(D208:D216, SMALL(IF(\"V\"=F208:F216, ROW(F208:F216)-MIN(ROW(F208:F216))+1, \"\"), ROW() -207 )), \"\")","v":"6436-419"},{"$f":"IFERROR(INDEX(E208:E216, SMALL(IF(\"V\"=F208:F216, ROW(F208:F216)-MIN(ROW(F208:F216))+1, \"\"), ROW() -207 )), \"\")","v":"Jared Dramse"},{"$f":"IFERROR(INDEX(B208:B216, SMALL(IF(ISNUMBER(SEARCH(\"JV1\",F208:F216)), ROW(F208:F216)-MIN(ROW(F208:F216))+1, \"\"), ROW() -207 )), \"\")","v":""},{"$f":"IFERROR(INDEX(C208:C216, SMALL(IF(ISNUMBER(SEARCH(\"JV1\",F208:F216)), ROW(F208:F216)-MIN(ROW(F208:F216))+1, \"\"), ROW() -207 )), \"\")","v":""},{"$f":"IFERROR(INDEX(D208:D216, SMALL(IF(ISNUMBER(SEARCH(\"JV1\",F208:F216)), ROW(F208:F216)-MIN(ROW(F208:F216))+1, \"\"), ROW() -207 )), \"\")","v":""},{"$f":"IFERROR(INDEX(E208:E216, SMALL(IF(ISNUMBER(SEARCH(\"JV1\",F208:F216)), ROW(F208:F216)-MIN(ROW(F208:F216))+1, \"\"), ROW() -207 )), \"\")","v":""},{"$f":"IFERROR(INDEX(B208:B216, SMALL(IF(ISNUMBER(SEARCH(\"JV2\",F208:F216)), ROW(F208:F216)-MIN(ROW(F208:F216))+1, \"\"), ROW() -207 )), \"\")","v":""},{"$f":"IFERROR(INDEX(C208:C216, SMALL(IF(ISNUMBER(SEARCH(\"JV2\",F208:F216)), ROW(F208:F216)-MIN(ROW(F208:F216))+1, \"\"), ROW() -207 )), \"\")","v":""},{"$f":"IFERROR(INDEX(D208:D216, SMALL(IF(ISNUMBER(SEARCH(\"JV2\",F208:F216)), ROW(F208:F216)-MIN(ROW(F208:F216))+1, \"\"), ROW() -207 )), \"\")","v":""},{"$f":"IFERROR(INDEX(E208:E216, SMALL(IF(ISNUMBER(SEARCH(\"JV2\",F208:F216)), ROW(F208:F216)-MIN(ROW(F208:F216))+1, \"\"), ROW() -207 )), \"\")","v":""}]
[null,"Peru State College",null,"20-53888","Jett Tolentino","V",null,4491.0,null,false,{"$nulls":17},{"$f":"IFERROR(INDEX(B208:B216, SMALL(IF(\"V\"=F208:F216, ROW(F208:F216)-MIN(ROW(F208:F216))+1, \"\"), ROW() -207 )), \"\")","v":"Peru State College"},{"$f":"IFERROR(INDEX(C208:C216, SMALL(IF(\"V\"=F208:F216, ROW(F208:F216)-MIN(ROW(F208:F216))+1, \"\"), ROW() -207 )), \"\")","v":""},{"$f":"IFERROR(INDEX(D208:D216, SMALL(IF(\"V\"=F208:F216, ROW(F208:F216)-MIN(ROW(F208:F216))+1, \"\"), ROW() -207 )), \"\")","v":"20-53888"},{"$f":"IFERROR(INDEX(E208:E216, SMALL(IF(\"V\"=F208:F216, ROW(F208:F216)-MIN(ROW(F208:F216))+1, \"\"), ROW() -207 )), \"\")","v":"Jett Tolentino"},{"$f":"IFERROR(INDEX(B208:B216, SMALL(IF(ISNUMBER(SEARCH(\"JV1\",F208:F216)), ROW(F208:F216)-MIN(ROW(F208:F216))+1, \"\"), ROW() -207 )), \"\")","v":""},{"$f":"IFERROR(INDEX(C208:C216, SMALL(IF(ISNUMBER(SEARCH(\"JV1\",F208:F216)), ROW(F208:F216)-MIN(ROW(F208:F216))+1, \"\"), ROW() -207 )), \"\")","v":""},{"$f":"IFERROR(INDEX(D208:D216, SMALL(IF(ISNUMBER(SEARCH(\"JV1\",F208:F216)), ROW(F208:F216)-MIN(ROW(F208:F216))+1, \"\"), ROW() -207 )), \"\")","v":""},{"$f":"IFERROR(INDEX(E208:E216, SMALL(IF(ISNUMBER(SEARCH(\"JV1\",F208:F216)), ROW(F208:F216)-MIN(ROW(F208:F216))+1, \"\"), ROW() -207 )), \"\")","v":""},{"$f":"IFERROR(INDEX(B208:B216, SMALL(IF(ISNUMBER(SEARCH(\"JV2\",F208:F216)), ROW(F208:F216)-MIN(ROW(F208:F216))+1, \"\"), ROW() -207 )), \"\")","v":""},{"$f":"IFERROR(INDEX(C208:C216, SMALL(IF(ISNUMBER(SEARCH(\"JV2\",F208:F216)), ROW(F208:F216)-MIN(ROW(F208:F216))+1, \"\"), ROW() -207 )), \"\")","v":""},{"$f":"IFERROR(INDEX(D208:D216, SMALL(IF(ISNUMBER(SEARCH(\"JV2\",F208:F216)), ROW(F208:F216)-MIN(ROW(F208:F216))+1, \"\"), ROW() -207 )), \"\")","v":""},{"$f":"IFERROR(INDEX(E208:E216, SMALL(IF(ISNUMBER(SEARCH(\"JV2\",F208:F216)), ROW(F208:F216)-MIN(ROW(F208:F216))+1, \"\"), ROW() -207 )), \"\")","v":""}]
[null,"Peru State College",null,"11-272581","Joshua Rivera",null,null,4491.0,null,false,{"$nulls":17},{"$f":"IFERROR(INDEX(B208:B216, SMALL(IF(\"V\"=F208:F216, ROW(F208:F216)-MIN(ROW(F208:F216))+1, \"\"), ROW() -207 )), \"\")","v":"Peru State College"},{"$f":"IFERROR(INDEX(C208:C216, SMALL(IF(\"V\"=F208:F216, ROW(F208:F216)-MIN(ROW(F208:F216))+1, \"\"), ROW() -207 )), \"\")","v":""},{"$f":"IFERROR(INDEX(D208:D216, SMALL(IF(\"V\"=F208:F216, ROW(F208:F216)-MIN(ROW(F208:F216))+1, \"\"), ROW() -207 )), \"\")","v":"8232-944"},{"$f":"IFERROR(INDEX(E208:E216, SMALL(IF(\"V\"=F208:F216, ROW(F208:F216)-MIN(ROW(F208:F216))+1, \"\"), ROW() -207 )), \"\")","v":"Stephen Acton"},{"$f":"IFERROR(INDEX(B208:B216, SMALL(IF(ISNUMBER(SEARCH(\"JV1\",F208:F216)), ROW(F208:F216)-MIN(ROW(F208:F216))+1, \"\"), ROW() -207 )), \"\")","v":""},{"$f":"IFERROR(INDEX(C208:C216, SMALL(IF(ISNUMBER(SEARCH(\"JV1\",F208:F216)), ROW(F208:F216)-MIN(ROW(F208:F216))+1, \"\"), ROW() -207 )), \"\")","v":""},{"$f":"IFERROR(INDEX(D208:D216, SMALL(IF(ISNUMBER(SEARCH(\"JV1\",F208:F216)), ROW(F208:F216)-MIN(ROW(F208:F216))+1, \"\"), ROW() -207 )), \"\")","v":""},{"$f":"IFERROR(INDEX(E208:E216, SMALL(IF(ISNUMBER(SEARCH(\"JV1\",F208:F216)), ROW(F208:F216)-MIN(ROW(F208:F216))+1, \"\"), ROW() -207 )), \"\")","v":""},{"$f":"IFERROR(INDEX(B208:B216, SMALL(IF(ISNUMBER(SEARCH(\"JV2\",F208:F216)), ROW(F208:F216)-MIN(ROW(F208:F216))+1, \"\"), ROW() -207 )), \"\")","v":""},{"$f":"IFERROR(INDEX(C208:C216, SMALL(IF(ISNUMBER(SEARCH(\"JV2\",F208:F216)), ROW(F208:F216)-MIN(ROW(F208:F216))+1, \"\"), ROW() -207 )), \"\")","v":""},{"$f":"IFERROR(INDEX(D208:D216, SMALL(IF(ISNUMBER(SEARCH(\"JV2\",F208:F216)), ROW(F208:F216)-MIN(ROW(F208:F216))+1, \"\"), ROW() -207 )), \"\")","v":""},{"$f":"IFERROR(INDEX(E208:E216, SMALL(IF(ISNUMBER(SEARCH(\"JV2\",F208:F216)), ROW(F208:F216)-MIN(ROW(F208:F216))+1, \"\"), ROW() -207 )), \"\")","v":""}]
[null,"Peru State College",null,"8232-944","Stephen Acton","V",null,4491.0,null,false,{"$nulls":17},{"$f":"IFERROR(INDEX(B208:B216, SMALL(IF(\"V\"=F208:F216, ROW(F208:F216)-MIN(ROW(F208:F216))+1, \"\"), ROW() -207 )), \"\")","v":"Peru State College"},{"$f":"IFERROR(INDEX(C208:C216, SMALL(IF(\"V\"=F208:F216, ROW(F208:F216)-MIN(ROW(F208:F216))+1, \"\"), ROW() -207 )), \"\")","v":""},{"$f":"IFERROR(INDEX(D208:D216, SMALL(IF(\"V\"=F208:F216, ROW(F208:F216)-MIN(ROW(F208:F216))+1, \"\"), ROW() -207 )), \"\")","v":"11-713121"},{"$f":"IFERROR(INDEX(E208:E216, SMALL(IF(\"V\"=F208:F216, ROW(F208:F216)-MIN(ROW(F208:F216))+1, \"\"), ROW() -207 )), \"\")","v":"Wyatt Woodward"},{"$f":"IFERROR(INDEX(B208:B216, SMALL(IF(ISNUMBER(SEARCH(\"JV1\",F208:F216)), ROW(F208:F216)-MIN(ROW(F208:F216))+1, \"\"), ROW() -207 )), \"\")","v":""},{"$f":"IFERROR(INDEX(C208:C216, SMALL(IF(ISNUMBER(SEARCH(\"JV1\",F208:F216)), ROW(F208:F216)-MIN(ROW(F208:F216))+1, \"\"), ROW() -207 )), \"\")","v":""},{"$f":"IFERROR(INDEX(D208:D216, SMALL(IF(ISNUMBER(SEARCH(\"JV1\",F208:F216)), ROW(F208:F216)-MIN(ROW(F208:F216))+1, \"\"), ROW() -207 )), \"\")","v":""},{"$f":"IFERROR(INDEX(E208:E216, SMALL(IF(ISNUMBER(SEARCH(\"JV1\",F208:F216)), ROW(F208:F216)-MIN(ROW(F208:F216))+1, \"\"), ROW() -207 )), \"\")","v":""},{"$f":"IFERROR(INDEX(B208:B216, SMALL(IF(ISNUMBER(SEARCH(\"JV2\",F208:F216)), ROW(F208:F216)-MIN(ROW(F208:F216))+1, \"\"), ROW() -207 )), \"\")","v":""},{"$f":"IFERROR(INDEX(C208:C216, SMALL(IF(ISNUMBER(SEARCH(\"JV2\",F208:F216)), ROW(F208:F216)-MIN(ROW(F208:F216))+1, \"\"), ROW() -207 )), \"\")","v":""},{"$f":"IFERROR(INDEX(D208:D216, SMALL(IF(ISNUMBER(SEARCH(\"JV2\",F208:F216)), ROW(F208:F216)-MIN(ROW(F208:F216))+1, \"\"), ROW() -207 )), \"\")","v":""},{"$f":"IFERROR(INDEX(E208:E216, SMALL(IF(ISNUMBER(SEARCH(\"JV2\",F208:F216)), ROW(F208:F216)-MIN(ROW(F208:F216))+1, \"\"), ROW() -207 )), \"\")","v":""}]
[null,"Peru State College",null,"11-713121","Wyatt Woodward","V",null,4491.0,null,false]
[null,"University Of Saint Mary",null,"22-1904","Braedon Robinson",null,null,4598.0,null,false,{"$nulls":17},{"$f":"IFERROR(INDEX(B217:B226, SMALL(IF(\"V\"=F217:F226, ROW(F217:F226)-MIN(ROW(F217:F226))+1, \"\"), ROW() -216 )), \"\")","v":"University Of Saint Mary"},{"$f":"IFERROR(INDEX(C217:C226, SMALL(IF(\"V\"=F217:F226, ROW(F217:F226)-MIN(ROW(F217:F226))+1, \"\"), ROW() -216 )), \"\")","v":""},{"$f":"IFERROR(INDEX(D217:D226, SMALL(IF(\"V\"=F217:F226, ROW(F217:F226)-MIN(ROW(F217:F226))+1, \"\"), ROW() -216 )), \"\")","v":"18-48037"},{"$f":"IFERROR(INDEX(E217:E226, SMALL(IF(\"V\"=F217:F226, ROW(F217:F226)-MIN(ROW(F217:F226))+1, \"\"), ROW() -216 )), \"\")","v":"Dantoine Ballard"},{"$f":"IFERROR(INDEX(B217:B226, SMALL(IF(ISNUMBER(SEARCH(\"JV1\",F217:F226)), ROW(F217:F226)-MIN(ROW(F217:F226))+1, \"\"), ROW() -216 )), \"\")","v":""},{"$f":"IFERROR(INDEX(C217:C226, SMALL(IF(ISNUMBER(SEARCH(\"JV1\",F217:F226)), ROW(F217:F226)-MIN(ROW(F217:F226))+1, \"\"), ROW() -216 )), \"\")","v":""},{"$f":"IFERROR(INDEX(D217:D226, SMALL(IF(ISNUMBER(SEARCH(\"JV1\",F217:F226)), ROW(F217:F226)-MIN(ROW(F217:F226))+1, \"\"), ROW() -216 )), \"\")","v":""},{"$f":"IFERROR(INDEX(E217:E226, SMALL(IF(ISNUMBER(SEARCH(\"JV1\",F217:F226)), ROW(F217:F226)-MIN(ROW(F217:F226))+1, \"\"), ROW() -216 )), \"\")","v":""},{"$f":"IFERROR(INDEX(B217:B226, SMALL(IF(ISNUMBER(SEARCH(\"JV2\",F217:F226)), ROW(F217:F226)-MIN(ROW(F217:F226))+1, \"\"), ROW() -216 )), \"\")","v":""},{"$f":"IFERROR(INDEX(C217:C226, SMALL(IF(ISNUMBER(SEARCH(\"JV2\",F217:F226)), ROW(F217:F226)-MIN(ROW(F217:F226))+1, \"\"), ROW() -216 )), \"\")","v":""},{"$f":"IFERROR(INDEX(D217:D226, SMALL(IF(ISNUMBER(SEARCH(\"JV2\",F217:F226)), ROW(F217:F226)-MIN(ROW(F217:F226))+1, \"\"), ROW() -216 )), \"\")","v":""},{"$f":"IFERROR(INDEX(E217:E226, SMALL(IF(ISNUMBER(SEARCH(\"JV2\",F217:F226)), ROW(F217:F226)-MIN(ROW(F217:F226))+1, \"\"), ROW() -216 )), \"\")","v":""}]
[null,"University Of Saint Mary",null,"21-57213","Christian Gray",null,null,4598.0,null,false,{"$nulls":17},{"$f":"IFERROR(INDEX(B217:B226, SMALL(IF(\"V\"=F217:F226, ROW(F217:F226)-MIN(ROW(F217:F226))+1, \"\"), ROW() -216 )), \"\")","v":"University Of Saint Mary"},{"$f":"IFERROR(INDEX(C217:C226, SMALL(IF(\"V\"=F217:F226, ROW(F217:F226)-MIN(ROW(F217:F226))+1, \"\"), ROW() -216 )), \"\")","v":""},{"$f":"IFERROR(INDEX(D217:D226, SMALL(IF(\"V\"=F217:F226, ROW(F217:F226)-MIN(ROW(F217:F226))+1, \"\"), ROW() -216 )), \"\")","v":"22-1902"},{"$f":"IFERROR(INDEX(E217:E226, SMALL(IF(\"V\"=F217:F226, ROW(F217:F226)-MIN(ROW(F217:F226))+1, \"\"), ROW() -216 )), \"\")","v":"Emilio Gutierrez"},{"$f":"IFERROR(INDEX(B217:B226, SMALL(IF(ISNUMBER(SEARCH(\"JV1\",F217:F226)), ROW(F217:F226)-MIN(ROW(F217:F226))+1, \"\"), ROW() -216 )), \"\")","v":""},{"$f":"IFERROR(INDEX(C217:C226, SMALL(IF(ISNUMBER(SEARCH(\"JV1\",F217:F226)), ROW(F217:F226)-MIN(ROW(F217:F226))+1, \"\"), ROW() -216 )), \"\")","v":""},{"$f":"IFERROR(INDEX(D217:D226, SMALL(IF(ISNUMBER(SEARCH(\"JV1\",F217:F226)), ROW(F217:F226)-MIN(ROW(F217:F226))+1, \"\"), ROW() -216 )), \"\")","v":""},{"$f":"IFERROR(INDEX(E217:E226, SMALL(IF(ISNUMBER(SEARCH(\"JV1\",F217:F226)), ROW(F217:F226)-MIN(ROW(F217:F226))+1, \"\"), ROW() -216 )), \"\")","v":""},{"$f":"IFERROR(INDEX(B217:B226, SMALL(IF(ISNUMBER(SEARCH(\"JV2\",F217:F226)), ROW(F217:F226)-MIN(ROW(F217:F226))+1, \"\"), ROW() -216 )), \"\")","v":""},{"$f":"IFERROR(INDEX(C217:C226, SMALL(IF(ISNUMBER(SEARCH(\"JV2\",F217:F226)), ROW(F217:F226)-MIN(ROW(F217:F226))+1, \"\"), ROW() -216 )), \"\")","v":""},{"$f":"IFERROR(INDEX(D217:D226, SMALL(IF(ISNUMBER(SEARCH(\"JV2\",F217:F226)), ROW(F217:F226)-MIN(ROW(F217:F226))+1, \"\"), ROW() -216 )), \"\")","v":""},{"$f":"IFERROR(INDEX(E217:E226, SMALL(IF(ISNUMBER(SEARCH(\"JV2\",F217:F226)), ROW(F217:F226)-MIN(ROW(F217:F226))+1, \"\"), ROW() -216 )), \"\")","v":""}]
[null,"University Of Saint Mary",null,"18-48037","Dantoine Ballard","V",null,4598.0,null,false,{"$nulls":17},{"$f":"IFERROR(INDEX(B217:B226, SMALL(IF(\"V\"=F217:F226, ROW(F217:F226)-MIN(ROW(F217:F226))+1, \"\"), ROW() -216 )), \"\")","v":"University Of Saint Mary"},{"$f":"IFERROR(INDEX(C217:C226, SMALL(IF(\"V\"=F217:F226, ROW(F217:F226)-MIN(ROW(F217:F226))+1, \"\"), ROW() -216 )), \"\")","v":""},{"$f":"IFERROR(INDEX(D217:D226, SMALL(IF(\"V\"=F217:F226, ROW(F217:F226)-MIN(ROW(F217:F226))+1, \"\"), ROW() -216 )), \"\")","v":"11-207956"},{"$f":"IFERROR(INDEX(E217:E226, SMALL(IF(\"V\"=F217:F226, ROW(F217:F226)-MIN(ROW(F217:F226))+1, \"\"), ROW() -216 )), \"\")","v":"Jose Limon"},{"$f":"IFERROR(INDEX(B217:B226, SMALL(IF(ISNUMBER(SEARCH(\"JV1\",F217:F226)), ROW(F217:F226)-MIN(ROW(F217:F226))+1, \"\"), ROW() -216 )), \"\")","v":""},{"$f":"IFERROR(INDEX(C217:C226, SMALL(IF(ISNUMBER(SEARCH(\"JV1\",F217:F226)), ROW(F217:F226)-MIN(ROW(F217:F226))+1, \"\"), ROW() -216 )), \"\")","v":""},{"$f":"IFERROR(INDEX(D217:D226, SMALL(IF(ISNUMBER(SEARCH(\"JV1\",F217:F226)), ROW(F217:F226)-MIN(ROW(F217:F226))+1, \"\"), ROW() -216 )), \"\")","v":""},{"$f":"IFERROR(INDEX(E217:E226, SMALL(IF(ISNUMBER(SEARCH(\"JV1\",F217:F226)), ROW(F217:F226)-MIN(ROW(F217:F226))+1, \"\"), ROW() -216 )), \"\")","v":""},{"$f":"IFERROR(INDEX(B217:B226, SMALL(IF(ISNUMBER(SEARCH(\"JV2\",F217:F226)), ROW(F217:F226)-MIN(ROW(F217:F226))+1, \"\"), ROW() -216 )), \"\")","v":""},{"$f":"IFERROR(INDEX(C217:C226, SMALL(IF(ISNUMBER(SEARCH(\"JV2\",F217:F226)), ROW(F217:F226)-MIN(ROW(F217:F226))+1, \"\"), ROW() -216 )), \"\")","v":""},{"$f":"IFERROR(INDEX(D217:D226, SMALL(IF(ISNUMBER(SEARCH(\"JV2\",F217:F226)), ROW(F217:F226)-MIN(ROW(F217:F226))+1, \"\"), ROW() -216 )), \"\")","v":""},{"$f":"IFERROR(INDEX(E217:E226, SMALL(IF(ISNUMBER(SEARCH(\"JV2\",F217:F226)), ROW(F217:F226)-MIN(ROW(F217:F226))+1, \"\"), ROW() -216 )), \"\")","v":""}]
[null,"University Of Saint Mary",null,"22-1902","Emilio Gutierrez","V",null,4598.0,null,false,{"$nulls":17},{"$f":"IFERROR(INDEX(B217:B226, SMALL(IF(\"V\"=F217:F226, ROW(F217:F226)-MIN(ROW(F217:F226))+1, \"\"), ROW() -216 )), \"\")","v":"University Of Saint Mary"},{"$f":"IFERROR(INDEX(C217:C226, SMALL(IF(\"V\"=F217:F226, ROW(F217:F226)-MIN(ROW(F217:F226))+1, \"\"), ROW() -216 )), \"\")","v":""},{"$f":"IFERROR(INDEX(D217:D226, SMALL(IF(\"V\"=F217:F226, ROW(F217:F226)-MIN(ROW(F217:F226))+1, \"\"), ROW() -216 )), \"\")","v":"18-48027"},{"$f":"IFERROR(INDEX(E217:E226, SMALL(IF(\"V\"=F217:F226, ROW(F217:F226)-MIN(ROW(F217:F226))+1, \"\"), ROW() -216 )), \"\")","v":"Joshua Kacich"},{"$f":"IFERROR(INDEX(B217:B226, SMALL(IF(ISNUMBER(SEARCH(\"JV1\",F217:F226)), ROW(F217:F226)-MIN(ROW(F217:F226))+1, \"\"), ROW() -216 )), \"\")","v":""},{"$f":"IFERROR(INDEX(C217:C226, SMALL(IF(ISNUMBER(SEARCH(\"JV1\",F217:F226)), ROW(F217:F226)-MIN(ROW(F217:F226))+1, \"\"), ROW() -216 )), \"\")","v":""},{"$f":"IFERROR(INDEX(D217:D226, SMALL(IF(ISNUMBER(SEARCH(\"JV1\",F217:F226)), ROW(F217:F226)-MIN(ROW(F217:F226))+1, \"\"), ROW() -216 )), \"\")","v":""},{"$f":"IFERROR(INDEX(E217:E226, SMALL(IF(ISNUMBER(SEARCH(\"JV1\",F217:F226)), ROW(F217:F226)-MIN(ROW(F217:F226))+1, \"\"), ROW() -216 )), \"\")","v":""},{"$f":"IFERROR(INDEX(B217:B226, SMALL(IF(ISNUMBER(SEARCH(\"JV2\",F217:F226)), ROW(F217:F226)-MIN(ROW(F217:F226))+1, \"\"), ROW() -216 )), \"\")","v":""},{"$f":"IFERROR(INDEX(C217:C226, SMALL(IF(ISNUMBER(SEARCH(\"JV2\",F217:F226)), ROW(F217:F226)-MIN(ROW(F217:F226))+1, \"\"), ROW() -216 )), \"\")","v":""},{"$f":"IFERROR(INDEX(D217:D226, SMALL(IF(ISNUMBER(SEARCH(\"JV2\",F217:F226)), ROW(F217:F226)-MIN(ROW(F217:F226))+1, \"\"), ROW() -216 )), \"\")","v":""},{"$f":"IFERROR(INDEX(E217:E226, SMALL(IF(ISNUMBER(SEARCH(\"JV2\",F217:F226)), ROW(F217:F226)-MIN(ROW(F217:F226))+1, \"\"), ROW() -216 )), \"\")","v":""}]
[null,"University Of Saint Mary",null,"11-207956","Jose Limon","V",null,4598.0,null,false,{"$nulls":17},{"$f":"IFERROR(INDEX(B217:B226, SMALL(IF(\"V\"=F217:F226, ROW(F217:F226)-MIN(ROW(F217:F226))+1, \"\"), ROW() -216 )), \"\")","v":"University Of Saint Mary"},{"$f":"IFERROR(INDEX(C217:C226, SMALL(IF(\"V\"=F217:F226, ROW(F217:F226)-MIN(ROW(F217:F226))+1, \"\"), ROW() -216 )), \"\")","v":""},{"$f":"IFERROR(INDEX(D217:D226, SMALL(IF(\"V\"=F217:F226, ROW(F217:F226)-MIN(ROW(F217:F226))+1, \"\"), ROW() -216 )), \"\")","v":"7914-11225"},{"$f":"IFERROR(INDEX(E217:E226, SMALL(IF(\"V\"=F217:F226, ROW(F217:F226)-MIN(ROW(F217:F226))+1, \"\"), ROW() -216 )), \"\")","v":"Kalym Henry"},{"$f":"IFERROR(INDEX(B217:B226, SMALL(IF(ISNUMBER(SEARCH(\"JV1\",F217:F226)), ROW(F217:F226)-MIN(ROW(F217:F226))+1, \"\"), ROW() -216 )), \"\")","v":""},{"$f":"IFERROR(INDEX(C217:C226, SMALL(IF(ISNUMBER(SEARCH(\"JV1\",F217:F226)), ROW(F217:F226)-MIN(ROW(F217:F226))+1, \"\"), ROW() -216 )), \"\")","v":""},{"$f":"IFERROR(INDEX(D217:D226, SMALL(IF(ISNUMBER(SEARCH(\"JV1\",F217:F226)), ROW(F217:F226)-MIN(ROW(F217:F226))+1, \"\"), ROW() -216 )), \"\")","v":""},{"$f":"IFERROR(INDEX(E217:E226, SMALL(IF(ISNUMBER(SEARCH(\"JV1\",F217:F226)), ROW(F217:F226)-MIN(ROW(F217:F226))+1, \"\"), ROW() -216 )), \"\")","v":""},{"$f":"IFERROR(INDEX(B217:B226, SMALL(IF(ISNUMBER(SEARCH(\"JV2\",F217:F226)), ROW(F217:F226)-MIN(ROW(F217:F226))+1, \"\"), ROW() -216 )), \"\")","v":""},{"$f":"IFERROR(INDEX(C217:C226, SMALL(IF(ISNUMBER(SEARCH(\"JV2\",F217:F226)), ROW(F217:F226)-MIN(ROW(F217:F226))+1, \"\"), ROW() -216 )), \"\")","v":""},{"$f":"IFERROR(INDEX(D217:D226, SMALL(IF(ISNUMBER(SEARCH(\"JV2\",F217:F226)), ROW(F217:F226)-MIN(ROW(F217:F226))+1, \"\"), ROW() -216 )), \"\")","v":""},{"$f":"IFERROR(INDEX(E217:E226, SMALL(IF(ISNUMBER(SEARCH(\"JV2\",F217:F226)), ROW(F217:F226)-MIN(ROW(F217:F226))+1, \"\"), ROW() -216 )), \"\")","v":""}]
[null,"University Of Saint Mary",null,"18-48027","Joshua Kacich","V",null,4598.0,null,false,{"$nulls":17},{"$f":"IFERROR(INDEX(B217:B226, SMALL(IF(\"V\"=F217:F226, ROW(F217:F226)-MIN(ROW(F217:F226))+1, \"\"), ROW() -216 )), \"\")","v":"University Of Saint Mary"},{"$f":"IFERROR(INDEX(C217:C226, SMALL(IF(\"V\"=F217:F226, ROW(F217:F226)-MIN(ROW(F217:F226))+1, \"\"), ROW() -216 )), \"\")","v":""},{"$f":"IFERROR(INDEX(D217:D226, SMALL(IF(\"V\"=F217:F226, ROW(F217:F226)-MIN(ROW(F217:F226))+1, \"\"), ROW() -216 )), \"\")","v":"22-84259"},{"$f":"IFERROR(INDEX(E217:E226, SMALL(IF(\"V\"=F217:F226, ROW(F217:F226)-MIN(ROW(F217:F226))+1, \"\"), ROW() -216 )), \"\")","v":"Zaylen Dear"},{"$f":"IFERROR(INDEX(B217:B226, SMALL(IF(ISNUMBER(SEARCH(\"JV1\",F217:F226)), ROW(F217:F226)-MIN(ROW(F217:F226))+1, \"\"), ROW() -216 )), \"\")","v":""},{"$f":"IFERROR(INDEX(C217:C226, SMALL(IF(ISNUMBER(SEARCH(\"JV1\",F217:F226)), ROW(F217:F226)-MIN(ROW(F217:F226))+1, \"\"), ROW() -216 )), \"\")","v":""},{"$f":"IFERROR(INDEX(D217:D226, SMALL(IF(ISNUMBER(SEARCH(\"JV1\",F217:F226)), ROW(F217:F226)-MIN(ROW(F217:F226))+1, \"\"), ROW() -216 )), \"\")","v":""},{"$f":"IFERROR(INDEX(E217:E226, SMALL(IF(ISNUMBER(SEARCH(\"JV1\",F217:F226)), ROW(F217:F226)-MIN(ROW(F217:F226))+1, \"\"), ROW() -216 )), \"\")","v":""},{"$f":"IFERROR(INDEX(B217:B226, SMALL(IF(ISNUMBER(SEARCH(\"JV2\",F217:F226)), ROW(F217:F226)-MIN(ROW(F217:F226))+1, \"\"), ROW() -216 )), \"\")","v":""},{"$f":"IFERROR(INDEX(C217:C226, SMALL(IF(ISNUMBER(SEARCH(\"JV2\",F217:F226)), ROW(F217:F226)-MIN(ROW(F217:F226))+1, \"\"), ROW() -216 )), \"\")","v":""},{"$f":"IFERROR(INDEX(D217:D226, SMALL(IF(ISNUMBER(SEARCH(\"JV2\",F217:F226)), ROW(F217:F226)-MIN(ROW(F217:F226))+1, \"\"), ROW() -216 )), \"\")","v":""},{"$f":"IFERROR(INDEX(E217:E226, SMALL(IF(ISNUMBER(SEARCH(\"JV2\",F217:F226)), ROW(F217:F226)-MIN(ROW(F217:F226))+1, \"\"), ROW() -216 )), \"\")","v":""}]
[null,"University Of Saint Mary",null,"7914-11225","Kalym Henry","V",null,4598.0,null,false,{"$nulls":17},{"$f":"IFERROR(INDEX(B217:B226, SMALL(IF(\"V\"=F217:F226, ROW(F217:F226)-MIN(ROW(F217:F226))+1, \"\"), ROW() -216 )), \"\")","v":""},{"$f":"IFERROR(INDEX(C217:C226, SMALL(IF(\"V\"=F217:F226, ROW(F217:F226)-MIN(ROW(F217:F226))+1, \"\"), ROW() -216 )), \"\")","v":""},{"$f":"IFERROR(INDEX(D217:D226, SMALL(IF(\"V\"=F217:F226, ROW(F217:F226)-MIN(ROW(F217:F226))+1, \"\"), ROW() -216 )), \"\")","v":""},{"$f":"IFERROR(INDEX(E217:E226, SMALL(IF(\"V\"=F217:F226, ROW(F217:F226)-MIN(ROW(F217:F226))+1, \"\"), ROW() -216 )), \"\")","v":""},{"$f":"IFERROR(INDEX(B217:B226, SMALL(IF(ISNUMBER(SEARCH(\"JV1\",F217:F226)), ROW(F217:F226)-MIN(ROW(F217:F226))+1, \"\"), ROW() -216 )), \"\")","v":""},{"$f":"IFERROR(INDEX(C217:C226, SMALL(IF(ISNUMBER(SEARCH(\"JV1\",F217:F226)), ROW(F217:F226)-MIN(ROW(F217:F226))+1, \"\"), ROW() -216 )), \"\")","v":""},{"$f":"IFERROR(INDEX(D217:D226, SMALL(IF(ISNUMBER(SEARCH(\"JV1\",F217:F226)), ROW(F217:F226)-MIN(ROW(F217:F226))+1, \"\"), ROW() -216 )), \"\")","v":""},{"$f":"IFERROR(INDEX(E217:E226, SMALL(IF(ISNUMBER(SEARCH(\"JV1\",F217:F226)), ROW(F217:F226)-MIN(ROW(F217:F226))+1, \"\"), ROW() -216 )), \"\")","v":""},{"$f":"IFERROR(INDEX(B217:B226, SMALL(IF(ISNUMBER(SEARCH(\"JV2\",F217:F226)), ROW(F217:F226)-MIN(ROW(F217:F226))+1, \"\"), ROW() -216 )), \"\")","v":""},{"$f":"IFERROR(INDEX(C217:C226, SMALL(IF(ISNUMBER(SEARCH(\"JV2\",F217:F226)), ROW(F217:F226)-MIN(ROW(F217:F226))+1, \"\"), ROW() -216 )), \"\")","v":""},{"$f":"IFERROR(INDEX(D217:D226, SMALL(IF(ISNUMBER(SEARCH(\"JV2\",F217:F226)), ROW(F217:F226)-MIN(ROW(F217:F226))+1, \"\"), ROW() -216 )), \"\")","v":""},{"$f":"IFERROR(INDEX(E217:E226, SMALL(IF(ISNUMBER(SEARCH(\"JV2\",F217:F226)), ROW(F217:F226)-MIN(ROW(F217:F226))+1, \"\"), ROW() -216 )), \"\")","v":""}]
[null,"University Of Saint Mary",null,"21-470","Layne Riggs",null,null,4598.0,null,false,{"$nulls":17},{"$f":"IFERROR(INDEX(B217:B226, SMALL(IF(\"V\"=F217:F226, ROW(F217:F226)-MIN(ROW(F217:F226))+1, \"\"), ROW() -216 )), \"\")","v":""},{"$f":"IFERROR(INDEX(C217:C226, SMALL(IF(\"V\"=F217:F226, ROW(F217:F226)-MIN(ROW(F217:F226))+1, \"\"), ROW() -216 )), \"\")","v":""},{"$f":"IFERROR(INDEX(D217:D226, SMALL(IF(\"V\"=F217:F226, ROW(F217:F226)-MIN(ROW(F217:F226))+1, \"\"), ROW() -216 )), \"\")","v":""},{"$f":"IFERROR(INDEX(E217:E226, SMALL(IF(\"V\"=F217:F226, ROW(F217:F226)-MIN(ROW(F217:F226))+1, \"\"), ROW() -216 )), \"\")","v":""},{"$f":"IFERROR(INDEX(B217:B226, SMALL(IF(ISNUMBER(SEARCH(\"JV1\",F217:F226)), ROW(F217:F226)-MIN(ROW(F217:F226))+1, \"\"), ROW() -216 )), \"\")","v":""},{"$f":"IFERROR(INDEX(C217:C226, SMALL(IF(ISNUMBER(SEARCH(\"JV1\",F217:F226)), ROW(F217:F226)-MIN(ROW(F217:F226))+1, \"\"), ROW() -216 )), \"\")","v":""},{"$f":"IFERROR(INDEX(D217:D226, SMALL(IF(ISNUMBER(SEARCH(\"JV1\",F217:F226)), ROW(F217:F226)-MIN(ROW(F217:F226))+1, \"\"), ROW() -216 )), \"\")","v":""},{"$f":"IFERROR(INDEX(E217:E226, SMALL(IF(ISNUMBER(SEARCH(\"JV1\",F217:F226)), ROW(F217:F226)-MIN(ROW(F217:F226))+1, \"\"), ROW() -216 )), \"\")","v":""},{"$f":"IFERROR(INDEX(B217:B226, SMALL(IF(ISNUMBER(SEARCH(\"JV2\",F217:F226)), ROW(F217:F226)-MIN(ROW(F217:F226))+1, \"\"), ROW() -216 )), \"\")","v":""},{"$f":"IFERROR(INDEX(C217:C226, SMALL(IF(ISNUMBER(SEARCH(\"JV2\",F217:F226)), ROW(F217:F226)-MIN(ROW(F217:F226))+1, \"\"), ROW() -216 )), \"\")","v":""},{"$f":"IFERROR(INDEX(D217:D226, SMALL(IF(ISNUMBER(SEARCH(\"JV2\",F217:F226)), ROW(F217:F226)-MIN(ROW(F217:F226))+1, \"\"), ROW() -216 )), \"\")","v":""},{"$f":"IFERROR(INDEX(E217:E226, SMALL(IF(ISNUMBER(SEARCH(\"JV2\",F217:F226)), ROW(F217:F226)-MIN(ROW(F217:F226))+1, \"\"), ROW() -216 )), \"\")","v":""}]
[null,"University Of Saint Mary",null,"23-975","Tra'mel Marshall",null,null,4598.0,null,false]
[null,"University Of Saint Mary",null,"22-84259","Zaylen Dear","V",null,4598.0,null,false]
[null,"William Penn University",null,"11-575136","Aidan Piet","V",null,3431.0,null,false,{"$nulls":17},{"$f":"IFERROR(INDEX(B227:B248, SMALL(IF(\"V\"=F227:F248, ROW(F227:F248)-MIN(ROW(F227:F248))+1, \"\"), ROW() -226 )), \"\")","v":"William Penn University"},{"$f":"IFERROR(INDEX(C227:C248, SMALL(IF(\"V\"=F227:F248, ROW(F227:F248)-MIN(ROW(F227:F248))+1, \"\"), ROW() -226 )), \"\")","v":""},{"$f":"IFERROR(INDEX(D227:D248, SMALL(IF(\"V\"=F227:F248, ROW(F227:F248)-MIN(ROW(F227:F248))+1, \"\"), ROW() -226 )), \"\")","v":"11-575136"},{"$f":"IFERROR(INDEX(E227:E248, SMALL(IF(\"V\"=F227:F248, ROW(F227:F248)-MIN(ROW(F227:F248))+1, \"\"), ROW() -226 )), \"\")","v":"Aidan Piet"},{"$f":"IFERROR(INDEX(B227:B248, SMALL(IF(ISNUMBER(SEARCH(\"JV1\",F227:F248)), ROW(F227:F248)-MIN(ROW(F227:F248))+1, \"\"), ROW() -226 )), \"\")","v":"William Penn University"},{"$f":"IFERROR(INDEX(C227:C248, SMALL(IF(ISNUMBER(SEARCH(\"JV1\",F227:F248)), ROW(F227:F248)-MIN(ROW(F227:F248))+1, \"\"), ROW() -226 )), \"\")","v":""},{"$f":"IFERROR(INDEX(D227:D248, SMALL(IF(ISNUMBER(SEARCH(\"JV1\",F227:F248)), ROW(F227:F248)-MIN(ROW(F227:F248))+1, \"\"), ROW() -226 )), \"\")","v":"5822-1038"},{"$f":"IFERROR(INDEX(E227:E248, SMALL(IF(ISNUMBER(SEARCH(\"JV1\",F227:F248)), ROW(F227:F248)-MIN(ROW(F227:F248))+1, \"\"), ROW() -226 )), \"\")","v":"Caleb Sterbenz"},{"$f":"IFERROR(INDEX(B227:B248, SMALL(IF(ISNUMBER(SEARCH(\"JV2\",F227:F248)), ROW(F227:F248)-MIN(ROW(F227:F248))+1, \"\"), ROW() -226 )), \"\")","v":""},{"$f":"IFERROR(INDEX(C227:C248, SMALL(IF(ISNUMBER(SEARCH(\"JV2\",F227:F248)), ROW(F227:F248)-MIN(ROW(F227:F248))+1, \"\"), ROW() -226 )), \"\")","v":""},{"$f":"IFERROR(INDEX(D227:D248, SMALL(IF(ISNUMBER(SEARCH(\"JV2\",F227:F248)), ROW(F227:F248)-MIN(ROW(F227:F248))+1, \"\"), ROW() -226 )), \"\")","v":""},{"$f":"IFERROR(INDEX(E227:E248, SMALL(IF(ISNUMBER(SEARCH(\"JV2\",F227:F248)), ROW(F227:F248)-MIN(ROW(F227:F248))+1, \"\"), ROW() -226 )), \"\")","v":""}]
[null,"William Penn University",null,"11-132521","Blaise Hubler",null,null,3431.0,null,false,{"$nulls":17},{"$f":"IFERROR(INDEX(B227:B248, SMALL(IF(\"V\"=F227:F248, ROW(F227:F248)-MIN(ROW(F227:F248))+1, \"\"), ROW() -226 )), \"\")","v":"William Penn University"},{"$f":"IFERROR(INDEX(C227:C248, SMALL(IF(\"V\"=F227:F248, ROW(F227:F248)-MIN(ROW(F227:F248))+1, \"\"), ROW() -226 )), \"\")","v":""},{"$f":"IFERROR(INDEX(D227:D248, SMALL(IF(\"V\"=F227:F248, ROW(F227:F248)-MIN(ROW(F227:F248))+1, \"\"), ROW() -226 )), \"\")","v":"8223-85672"},{"$f":"IFERROR(INDEX(E227:E248, SMALL(IF(\"V\"=F227:F248, ROW(F227:F248)-MIN(ROW(F227:F248))+1, \"\"), ROW() -226 )), \"\")","v":"Bryce Keykal"},{"$f":"IFERROR(INDEX(B227:B248, SMALL(IF(ISNUMBER(SEARCH(\"JV1\",F227:F248)), ROW(F227:F248)-MIN(ROW(F227:F248))+1, \"\"), ROW() -226 )), \"\")","v":"William Penn University"},{"$f":"IFERROR(INDEX(C227:C248, SMALL(IF(ISNUMBER(SEARCH(\"JV1\",F227:F248)), ROW(F227:F248)-MIN(ROW(F227:F248))+1, \"\"), ROW() -226 )), \"\")","v":""},{"$f":"IFERROR(INDEX(D227:D248, SMALL(IF(ISNUMBER(SEARCH(\"JV1\",F227:F248)), ROW(F227:F248)-MIN(ROW(F227:F248))+1, \"\"), ROW() -226 )), \"\")","v":"11-247244"},{"$f":"IFERROR(INDEX(E227:E248, SMALL(IF(ISNUMBER(SEARCH(\"JV1\",F227:F248)), ROW(F227:F248)-MIN(ROW(F227:F248))+1, \"\"), ROW() -226 )), \"\")","v":"Connor Rissi"},{"$f":"IFERROR(INDEX(B227:B248, SMALL(IF(ISNUMBER(SEARCH(\"JV2\",F227:F248)), ROW(F227:F248)-MIN(ROW(F227:F248))+1, \"\"), ROW() -226 )), \"\")","v":""},{"$f":"IFERROR(INDEX(C227:C248, SMALL(IF(ISNUMBER(SEARCH(\"JV2\",F227:F248)), ROW(F227:F248)-MIN(ROW(F227:F248))+1, \"\"), ROW() -226 )), \"\")","v":""},{"$f":"IFERROR(INDEX(D227:D248, SMALL(IF(ISNUMBER(SEARCH(\"JV2\",F227:F248)), ROW(F227:F248)-MIN(ROW(F227:F248))+1, \"\"), ROW() -226 )), \"\")","v":""},{"$f":"IFERROR(INDEX(E227:E248, SMALL(IF(ISNUMBER(SEARCH(\"JV2\",F227:F248)), ROW(F227:F248)-MIN(ROW(F227:F248))+1, \"\"), ROW() -226 )), \"\")","v":""}]
[null,"William Penn University",null,"8223-85672","Bryce Keykal","V",null,3431.0,null,false,{"$nulls":17},{"$f":"IFERROR(INDEX(B227:B248, SMALL(IF(\"V\"=F227:F248, ROW(F227:F248)-MIN(ROW(F227:F248))+1, \"\"), ROW() -226 )), \"\")","v":"William Penn University"},{"$f":"IFERROR(INDEX(C227:C248, SMALL(IF(\"V\"=F227:F248, ROW(F227:F248)-MIN(ROW(F227:F248))+1, \"\"), ROW() -226 )), \"\")","v":""},{"$f":"IFERROR(INDEX(D227:D248, SMALL(IF(\"V\"=F227:F248, ROW(F227:F248)-MIN(ROW(F227:F248))+1, \"\"), ROW() -226 )), \"\")","v":"15-28200"},{"$f":"IFERROR(INDEX(E227:E248, SMALL(IF(\"V\"=F227:F248, ROW(F227:F248)-MIN(ROW(F227:F248))+1, \"\"), ROW() -226 )), \"\")","v":"Carter Boley"},{"$f":"IFERROR(INDEX(B227:B248, SMALL(IF(ISNUMBER(SEARCH(\"JV1\",F227:F248)), ROW(F227:F248)-MIN(ROW(F227:F248))+1, \"\"), ROW() -226 )), \"\")","v":"William Penn University"},{"$f":"IFERROR(INDEX(C227:C248, SMALL(IF(ISNUMBER(SEARCH(\"JV1\",F227:F248)), ROW(F227:F248)-MIN(ROW(F227:F248))+1, \"\"), ROW() -226 )), \"\")","v":""},{"$f":"IFERROR(INDEX(D227:D248, SMALL(IF(ISNUMBER(SEARCH(\"JV1\",F227:F248)), ROW(F227:F248)-MIN(ROW(F227:F248))+1, \"\"), ROW() -226 )), \"\")","v":"11-92567"},{"$f":"IFERROR(INDEX(E227:E248, SMALL(IF(ISNUMBER(SEARCH(\"JV1\",F227:F248)), ROW(F227:F248)-MIN(ROW(F227:F248))+1, \"\"), ROW() -226 )), \"\")","v":"Ethan Zieglowsky"},{"$f":"IFERROR(INDEX(B227:B248, SMALL(IF(ISNUMBER(SEARCH(\"JV2\",F227:F248)), ROW(F227:F248)-MIN(ROW(F227:F248))+1, \"\"), ROW() -226 )), \"\")","v":""},{"$f":"IFERROR(INDEX(C227:C248, SMALL(IF(ISNUMBER(SEARCH(\"JV2\",F227:F248)), ROW(F227:F248)-MIN(ROW(F227:F248))+1, \"\"), ROW() -226 )), \"\")","v":""},{"$f":"IFERROR(INDEX(D227:D248, SMALL(IF(ISNUMBER(SEARCH(\"JV2\",F227:F248)), ROW(F227:F248)-MIN(ROW(F227:F248))+1, \"\"), ROW() -226 )), \"\")","v":""},{"$f":"IFERROR(INDEX(E227:E248, SMALL(IF(ISNUMBER(SEARCH(\"JV2\",F227:F248)), ROW(F227:F248)-MIN(ROW(F227:F248))+1, \"\"), ROW() -226 )), \"\")","v":""}]
[null,"William Penn University",null,"5822-1038","Caleb Sterbenz","JV1",null,3431.0,null,false,{"$nulls":17},{"$f":"IFERROR(INDEX(B227:B248, SMALL(IF(\"V\"=F227:F248, ROW(F227:F248)-MIN(ROW(F227:F248))+1, \"\"), ROW() -226 )), \"\")","v":"William Penn University"},{"$f":"IFERROR(INDEX(C227:C248, SMALL(IF(\"V\"=F227:F248, ROW(F227:F248)-MIN(ROW(F227:F248))+1, \"\"), ROW() -226 )), \"\")","v":""},{"$f":"IFERROR(INDEX(D227:D248, SMALL(IF(\"V\"=F227:F248, ROW(F227:F248)-MIN(ROW(F227:F248))+1, \"\"), ROW() -226 )), \"\")","v":"22-20754"},{"$f":"IFERROR(INDEX(E227:E248, SMALL(IF(\"V\"=F227:F248, ROW(F227:F248)-MIN(ROW(F227:F248))+1, \"\"), ROW() -226 )), \"\")","v":"Conor Fetherston"},{"$f":"IFERROR(INDEX(B227:B248, SMALL(IF(ISNUMBER(SEARCH(\"JV1\",F227:F248)), ROW(F227:F248)-MIN(ROW(F227:F248))+1, \"\"), ROW() -226 )), \"\")","v":"William Penn University"},{"$f":"IFERROR(INDEX(C227:C248, SMALL(IF(ISNUMBER(SEARCH(\"JV1\",F227:F248)), ROW(F227:F248)-MIN(ROW(F227:F248))+1, \"\"), ROW() -226 )), \"\")","v":""},{"$f":"IFERROR(INDEX(D227:D248, SMALL(IF(ISNUMBER(SEARCH(\"JV1\",F227:F248)), ROW(F227:F248)-MIN(ROW(F227:F248))+1, \"\"), ROW() -226 )), \"\")","v":"5873-792"},{"$f":"IFERROR(INDEX(E227:E248, SMALL(IF(ISNUMBER(SEARCH(\"JV1\",F227:F248)), ROW(F227:F248)-MIN(ROW(F227:F248))+1, \"\"), ROW() -226 )), \"\")","v":"Garraty Richmond"},{"$f":"IFERROR(INDEX(B227:B248, SMALL(IF(ISNUMBER(SEARCH(\"JV2\",F227:F248)), ROW(F227:F248)-MIN(ROW(F227:F248))+1, \"\"), ROW() -226 )), \"\")","v":""},{"$f":"IFERROR(INDEX(C227:C248, SMALL(IF(ISNUMBER(SEARCH(\"JV2\",F227:F248)), ROW(F227:F248)-MIN(ROW(F227:F248))+1, \"\"), ROW() -226 )), \"\")","v":""},{"$f":"IFERROR(INDEX(D227:D248, SMALL(IF(ISNUMBER(SEARCH(\"JV2\",F227:F248)), ROW(F227:F248)-MIN(ROW(F227:F248))+1, \"\"), ROW() -226 )), \"\")","v":""},{"$f":"IFERROR(INDEX(E227:E248, SMALL(IF(ISNUMBER(SEARCH(\"JV2\",F227:F248)), ROW(F227:F248)-MIN(ROW(F227:F248))+1, \"\"), ROW() -226 )), \"\")","v":""}]
[null,"William Penn University",null,"15-28200","Carter Boley","V",null,3431.0,null,false,{"$nulls":17},{"$f":"IFERROR(INDEX(B227:B248, SMALL(IF(\"V\"=F227:F248, ROW(F227:F248)-MIN(ROW(F227:F248))+1, \"\"), ROW() -226 )), \"\")","v":"William Penn University"},{"$f":"IFERROR(INDEX(C227:C248, SMALL(IF(\"V\"=F227:F248, ROW(F227:F248)-MIN(ROW(F227:F248))+1, \"\"), ROW() -226 )), \"\")","v":""},{"$f":"IFERROR(INDEX(D227:D248, SMALL(IF(\"V\"=F227:F248, ROW(F227:F248)-MIN(ROW(F227:F248))+1, \"\"), ROW() -226 )), \"\")","v":"11-102941"},{"$f":"IFERROR(INDEX(E227:E248, SMALL(IF(\"V\"=F227:F248, ROW(F227:F248)-MIN(ROW(F227:F248))+1, \"\"), ROW() -226 )), \"\")","v":"Jared Smith"},{"$f":"IFERROR(INDEX(B227:B248, SMALL(IF(ISNUMBER(SEARCH(\"JV1\",F227:F248)), ROW(F227:F248)-MIN(ROW(F227:F248))+1, \"\"), ROW() -226 )), \"\")","v":"William Penn University"},{"$f":"IFERROR(INDEX(C227:C248, SMALL(IF(ISNUMBER(SEARCH(\"JV1\",F227:F248)), ROW(F227:F248)-MIN(ROW(F227:F248))+1, \"\"), ROW() -226 )), \"\")","v":""},{"$f":"IFERROR(INDEX(D227:D248, SMALL(IF(ISNUMBER(SEARCH(\"JV1\",F227:F248)), ROW(F227:F248)-MIN(ROW(F227:F248))+1, \"\"), ROW() -226 )), \"\")","v":"11-575080"},{"$f":"IFERROR(INDEX(E227:E248, SMALL(IF(ISNUMBER(SEARCH(\"JV1\",F227:F248)), ROW(F227:F248)-MIN(ROW(F227:F248))+1, \"\"), ROW() -226 )), \"\")","v":"Mathew Smith"},{"$f":"IFERROR(INDEX(B227:B248, SMALL(IF(ISNUMBER(SEARCH(\"JV2\",F227:F248)), ROW(F227:F248)-MIN(ROW(F227:F248))+1, \"\"), ROW() -226 )), \"\")","v":""},{"$f":"IFERROR(INDEX(C227:C248, SMALL(IF(ISNUMBER(SEARCH(\"JV2\",F227:F248)), ROW(F227:F248)-MIN(ROW(F227:F248))+1, \"\"), ROW() -226 )), \"\")","v":""},{"$f":"IFERROR(INDEX(D227:D248, SMALL(IF(ISNUMBER(SEARCH(\"JV2\",F227:F248)), ROW(F227:F248)-MIN(ROW(F227:F248))+1, \"\"), ROW() -226 )), \"\")","v":""},{"$f":"IFERROR(INDEX(E227:E248, SMALL(IF(ISNUMBER(SEARCH(\"JV2\",F227:F248)), ROW(F227:F248)-MIN(ROW(F227:F248))+1, \"\"), ROW() -226 )), \"\")","v":""}]
[null,"William Penn University",null,"6796-1940","Coleton Jacobson",null,null,3431.0,null,false,{"$nulls":17},{"$f":"IFERROR(INDEX(B227:B248, SMALL(IF(\"V\"=F227:F248, ROW(F227:F248)-MIN(ROW(F227:F248))+1, \"\"), ROW() -226 )), \"\")","v":"William Penn University"},{"$f":"IFERROR(INDEX(C227:C248, SMALL(IF(\"V\"=F227:F248, ROW(F227:F248)-MIN(ROW(F227:F248))+1, \"\"), ROW() -226 )), \"\")","v":""},{"$f":"IFERROR(INDEX(D227:D248, SMALL(IF(\"V\"=F227:F248, ROW(F227:F248)-MIN(ROW(F227:F248))+1, \"\"), ROW() -226 )), \"\")","v":"5853-303"},{"$f":"IFERROR(INDEX(E227:E248, SMALL(IF(\"V\"=F227:F248, ROW(F227:F248)-MIN(ROW(F227:F248))+1, \"\"), ROW() -226 )), \"\")","v":"Kody Sapp"},{"$f":"IFERROR(INDEX(B227:B248, SMALL(IF(ISNUMBER(SEARCH(\"JV1\",F227:F248)), ROW(F227:F248)-MIN(ROW(F227:F248))+1, \"\"), ROW() -226 )), \"\")","v":"William Penn University"},{"$f":"IFERROR(INDEX(C227:C248, SMALL(IF(ISNUMBER(SEARCH(\"JV1\",F227:F248)), ROW(F227:F248)-MIN(ROW(F227:F248))+1, \"\"), ROW() -226 )), \"\")","v":""},{"$f":"IFERROR(INDEX(D227:D248, SMALL(IF(ISNUMBER(SEARCH(\"JV1\",F227:F248)), ROW(F227:F248)-MIN(ROW(F227:F248))+1, \"\"), ROW() -226 )), \"\")","v":"8756-13177"},{"$f":"IFERROR(INDEX(E227:E248, SMALL(IF(ISNUMBER(SEARCH(\"JV1\",F227:F248)), ROW(F227:F248)-MIN(ROW(F227:F248))+1, \"\"), ROW() -226 )), \"\")","v":"Nathan Hansen"},{"$f":"IFERROR(INDEX(B227:B248, SMALL(IF(ISNUMBER(SEARCH(\"JV2\",F227:F248)), ROW(F227:F248)-MIN(ROW(F227:F248))+1, \"\"), ROW() -226 )), \"\")","v":""},{"$f":"IFERROR(INDEX(C227:C248, SMALL(IF(ISNUMBER(SEARCH(\"JV2\",F227:F248)), ROW(F227:F248)-MIN(ROW(F227:F248))+1, \"\"), ROW() -226 )), \"\")","v":""},{"$f":"IFERROR(INDEX(D227:D248, SMALL(IF(ISNUMBER(SEARCH(\"JV2\",F227:F248)), ROW(F227:F248)-MIN(ROW(F227:F248))+1, \"\"), ROW() -226 )), \"\")","v":""},{"$f":"IFERROR(INDEX(E227:E248, SMALL(IF(ISNUMBER(SEARCH(\"JV2\",F227:F248)), ROW(F227:F248)-MIN(ROW(F227:F248))+1, \"\"), ROW() -226 )), \"\")","v":""}]
[null,"William Penn University",null,"11-247244","Connor Rissi","JV1",null,3431.0,null,false,{"$nulls":17},{"$f":"IFERROR(INDEX(B227:B248, SMALL(IF(\"V\"=F227:F248, ROW(F227:F248)-MIN(ROW(F227:F248))+1, \"\"), ROW() -226 )), \"\")","v":"William Penn University"},{"$f":"IFERROR(INDEX(C227:C248, SMALL(IF(\"V\"=F227:F248, ROW(F227:F248)-MIN(ROW(F227:F248))+1, \"\"), ROW() -226 )), \"\")","v":""},{"$f":"IFERROR(INDEX(D227:D248, SMALL(IF(\"V\"=F227:F248, ROW(F227:F248)-MIN(ROW(F227:F248))+1, \"\"), ROW() -226 )), \"\")","v":"5401-79"},{"$f":"IFERROR(INDEX(E227:E248, SMALL(IF(\"V\"=F227:F248, ROW(F227:F248)-MIN(ROW(F227:F248))+1, \"\"), ROW() -226 )), \"\")","v":"Marcus Yamada"},{"$f":"IFERROR(INDEX(B227:B248, SMALL(IF(ISNUMBER(SEARCH(\"JV1\",F227:F248)), ROW(F227:F248)-MIN(ROW(F227:F248))+1, \"\"), ROW() -226 )), \"\")","v":"William Penn University"},{"$f":"IFERROR(INDEX(C227:C248, SMALL(IF(ISNUMBER(SEARCH(\"JV1\",F227:F248)), ROW(F227:F248)-MIN(ROW(F227:F248))+1, \"\"), ROW() -226 )), \"\")","v":""},{"$f":"IFERROR(INDEX(D227:D248, SMALL(IF(ISNUMBER(SEARCH(\"JV1\",F227:F248)), ROW(F227:F248)-MIN(ROW(F227:F248))+1, \"\"), ROW() -226 )), \"\")","v":"5816-1476"},{"$f":"IFERROR(INDEX(E227:E248, SMALL(IF(ISNUMBER(SEARCH(\"JV1\",F227:F248)), ROW(F227:F248)-MIN(ROW(F227:F248))+1, \"\"), ROW() -226 )), \"\")","v":"Robert Dostal"},{"$f":"IFERROR(INDEX(B227:B248, SMALL(IF(ISNUMBER(SEARCH(\"JV2\",F227:F248)), ROW(F227:F248)-MIN(ROW(F227:F248))+1, \"\"), ROW() -226 )), \"\")","v":""},{"$f":"IFERROR(INDEX(C227:C248, SMALL(IF(ISNUMBER(SEARCH(\"JV2\",F227:F248)), ROW(F227:F248)-MIN(ROW(F227:F248))+1, \"\"), ROW() -226 )), \"\")","v":""},{"$f":"IFERROR(INDEX(D227:D248, SMALL(IF(ISNUMBER(SEARCH(\"JV2\",F227:F248)), ROW(F227:F248)-MIN(ROW(F227:F248))+1, \"\"), ROW() -226 )), \"\")","v":""},{"$f":"IFERROR(INDEX(E227:E248, SMALL(IF(ISNUMBER(SEARCH(\"JV2\",F227:F248)), ROW(F227:F248)-MIN(ROW(F227:F248))+1, \"\"), ROW() -226 )), \"\")","v":""}]
[null,"William Penn University",null,"22-20754","Conor Fetherston","V",null,3431.0,null,false,{"$nulls":17},{"$f":"IFERROR(INDEX(B227:B248, SMALL(IF(\"V\"=F227:F248, ROW(F227:F248)-MIN(ROW(F227:F248))+1, \"\"), ROW() -226 )), \"\")","v":"William Penn University"},{"$f":"IFERROR(INDEX(C227:C248, SMALL(IF(\"V\"=F227:F248, ROW(F227:F248)-MIN(ROW(F227:F248))+1, \"\"), ROW() -226 )), \"\")","v":""},{"$f":"IFERROR(INDEX(D227:D248, SMALL(IF(\"V\"=F227:F248, ROW(F227:F248)-MIN(ROW(F227:F248))+1, \"\"), ROW() -226 )), \"\")","v":"15-76525"},{"$f":"IFERROR(INDEX(E227:E248, SMALL(IF(\"V\"=F227:F248, ROW(F227:F248)-MIN(ROW(F227:F248))+1, \"\"), ROW() -226 )), \"\")","v":"Noah Kidwell"},{"$f":"IFERROR(INDEX(B227:B248, SMALL(IF(ISNUMBER(SEARCH(\"JV1\",F227:F248)), ROW(F227:F248)-MIN(ROW(F227:F248))+1, \"\"), ROW() -226 )), \"\")","v":"William Penn University"},{"$f":"IFERROR(INDEX(C227:C248, SMALL(IF(ISNUMBER(SEARCH(\"JV1\",F227:F248)), ROW(F227:F248)-MIN(ROW(F227:F248))+1, \"\"), ROW() -226 )), \"\")","v":""},{"$f":"IFERROR(INDEX(D227:D248, SMALL(IF(ISNUMBER(SEARCH(\"JV1\",F227:F248)), ROW(F227:F248)-MIN(ROW(F227:F248))+1, \"\"), ROW() -226 )), \"\")","v":"17-85693"},{"$f":"IFERROR(INDEX(E227:E248, SMALL(IF(ISNUMBER(SEARCH(\"JV1\",F227:F248)), ROW(F227:F248)-MIN(ROW(F227:F248))+1, \"\"), ROW() -226 )), \"\")","v":"Spencer Fleming"},{"$f":"IFERROR(INDEX(B227:B248, SMALL(IF(ISNUMBER(SEARCH(\"JV2\",F227:F248)), ROW(F227:F248)-MIN(ROW(F227:F248))+1, \"\"), ROW() -226 )), \"\")","v":""},{"$f":"IFERROR(INDEX(C227:C248, SMALL(IF(ISNUMBER(SEARCH(\"JV2\",F227:F248)), ROW(F227:F248)-MIN(ROW(F227:F248))+1, \"\"), ROW() -226 )), \"\")","v":""},{"$f":"IFERROR(INDEX(D227:D248, SMALL(IF(ISNUMBER(SEARCH(\"JV2\",F227:F248)), ROW(F227:F248)-MIN(ROW(F227:F248))+1, \"\"), ROW() -226 )), \"\")","v":""},{"$f":"IFERROR(INDEX(E227:E248, SMALL(IF(ISNUMBER(SEARCH(\"JV2\",F227:F248)), ROW(F227:F248)-MIN(ROW(F227:F248))+1, \"\"), ROW() -226 )), \"\")","v":""}]
[null,"William Penn University",null,"11-169517","Cooper Huston",null,null,3431.0,null,false]
[null,"William Penn University",null,"17-47483","Ethan Oilar",null,null,3431.0,null,false]
[null,"William Penn University",null,"11-92567","Ethan Zieglowsky","JV1",null,3431.0,null,false]
[null,"William Penn University",null,"17-58153","Garett Wolkenhauer",null,null,3431.0,null,false]
[null,"William Penn University",null,"5873-792","Garraty Richmond","JV1",null,3431.0,null,false]
[null,"William Penn University",null,"11-102941","Jared Smith","V",null,3431.0,null,false]
[null,"William Penn University",null,"5853-303","Kody Sapp","V",null,3431.0,null,false]
[null,"William Penn University",null,"23-1893","Logan White",null,null,3431.0,null,false]
[null,"William Penn University",null,"5401-79","Marcus Yamada","V",null,3431.0,null,false]
[null,"William Penn University",null,"11-575080","Mathew Smith","JV1",null,3431.0,null,false]
[null,"William Penn University",null,"8756-13177","Nathan Hansen","JV1",null,3431.0,null,false]
[null,"William Penn University",null,"15-76525","Noah Kidwell","V",null,3431.0,null,false]
[null,"William Penn University",null,"5816-1476","Robert Dostal","JV1",null,3431.0,null,false]
[null,"William Penn University",null,"17-85693","Spencer Fleming","JV1",null,3431.0,null,false]

{"sheet":"Roster_Selection_Women","index":1,"n_rows":210,"n_cols":54,"rows_kept":210,"cut":false,"hidden":false,"merged":[[0,0,0,9]]}
["Tournament Details - Rosters"]
[]
[null,"NAIA Weekend-West-Sunday"]
[null,"Tier 2","NAIA",{"$nulls":12},"2443","7","0","5","","",null,null,"7",{"$nulls":29},"IBCYouth"]
[null,"<<Dates>>","<<Event#>>","02/04/2024 - 02/04/2024",{"$nulls":9},"V"]
[null,"<<Location>>",null,"Lawrence, KS",{"$nulls":9},"JV1"]
[{"$nulls":13},"JV2"]
[null,"Women's Division",null,"Cert No:","04110"]
[]
[null,"School/Team","State","Bowler ID","Bowler","Division"]
[null,"Avila University",null,"19-37668","Brittany Mohling","V",null,4597.0,null,false,{"$nulls":17},{"$f":"IFERROR(INDEX(B11:B20, SMALL(IF(\"V\"=F11:F20, ROW(F11:F20)-MIN(ROW(F11:F20))+1, \"\"), ROW() -10 )), \"\")","v":"Avila University"},{"$f":"IFERROR(INDEX(C11:C20, SMALL(IF(\"V\"=F11:F20, ROW(F11:F20)-MIN(ROW(F11:F20))+1, \"\"), ROW() -10 )), \"\")","v":""},{"$f":"IFERROR(INDEX(D11:D20, SMALL(IF(\"V\"=F11:F20, ROW(F11:F20)-MIN(ROW(F11:F20))+1, \"\"), ROW() -10 )), \"\")","v":"19-37668"},{"$f":"IFERROR(INDEX(E11:E20, SMALL(IF(\"V\"=F11:F20, ROW(F11:F20)-MIN(ROW(F11:F20))+1, \"\"), ROW() -10 )), \"\")","v":"Brittany Mohling"},{"$f":"IFERROR(INDEX(B11:B20, SMALL(IF(ISNUMBER(SEARCH(\"JV1\",F11:F20)), ROW(F11:F20)-MIN(ROW(F11:F20))+1, \"\"), ROW() -10 )), \"\")","v":""},{"$f":"IFERROR(INDEX(C11:C20, SMALL(IF(ISNUMBER(SEARCH(\"JV1\",F11:F20)), ROW(F11:F20)-MIN(ROW(F11:F20))+1, \"\"), ROW() -10 )), \"\")","v":""},{"$f":"IFERROR(INDEX(D11:D20, SMALL(IF(ISNUMBER(SEARCH(\"JV1\",F11:F20)), ROW(F11:F20)-MIN(ROW(F11:F20))+1, \"\"), ROW() -10 )), \"\")","v":""},{"$f":"IFERROR(INDEX(E11:E20, SMALL(IF(ISNUMBER(SEARCH(\"JV1\",F11:F20)), ROW(F11:F20)-MIN(ROW(F11:F20))+1, \"\"), ROW() -10 )), \"\")","v":""},{"$f":"IFERROR(INDEX(B11:B20, SMALL(IF(ISNUMBER(SEARCH(\"JV2\",F11:F20)), ROW(F11:F20)-MIN(ROW(F11:F20))+1, \"\"), ROW() -10 )), \"\")","v":""},{"$f":"IFERROR(INDEX(C11:C20, SMALL(IF(ISNUMBER(SEARCH(\"JV2\",F11:F20)), ROW(F11:F20)-MIN(ROW(F11:F20))+1, \"\"), ROW() -10 )), \"\")","v":""},{"$f":"IFERROR(INDEX(D11:D20, SMALL(IF(ISNUMBER(SEARCH(\"JV2\",F11:F20)), ROW(F11:F20)-MIN(ROW(F11:F20))+1, \"\"), ROW() -10 )), \"\")","v":""},{"$f":"IFERROR(INDEX(E11:E20, SMALL(IF(ISNUMBER(SEARCH(\"JV2\",F11:F20)), ROW(F11:F20)-MIN(ROW(F11:F20))+1, \"\"), ROW() -10 )), \"\")","v":""}]
[null,"Avila University",null,"11-103558","Claire Busch","V",null,4597.0,null,false,{"$nulls":17},{"$f":"IFERROR(INDEX(B11:B20, SMALL(IF(\"V\"=F11:F20, ROW(F11:F20)-MIN(ROW(F11:F20))+1, \"\"), ROW() -10 )), \"\")","v":"Avila University"},{"$f":"IFERROR(INDEX(C11:C20, SMALL(IF(\"V\"=F11:F20, ROW(F11:F20)-MIN(ROW(F11:F20))+1, \"\"), ROW() -10 )), \"\")","v":""},{"$f":"IFERROR(INDEX(D11:D20, SMALL(IF(\"V\"=F11:F20, ROW(F11:F20)-MIN(ROW(F11:F20))+1, \"\"), ROW() -10 )), \"\")","v":"11-103558"},{"$f":"IFERROR(INDEX(E11:E20, SMALL(IF(\"V\"=F11:F20, ROW(F11:F20)-MIN(ROW(F11:F20))+1, \"\"), ROW() -10 )), \"\")","v":"Claire Busch"},{"$f":"IFERROR(INDEX(B11:B20, SMALL(IF(ISNUMBER(SEARCH(\"JV1\",F11:F20)), ROW(F11:F20)-MIN(ROW(F11:F20))+1, \"\"), ROW() -10 )), \"\")","v":""},{"$f":"IFERROR(INDEX(C11:C20, SMALL(IF(ISNUMBER(SEARCH(\"JV1\",F11:F20)), ROW(F11:F20)-MIN(ROW(F11:F20))+1, \"\"), ROW() -10 )), \"\")","v":""},{"$f":"IFERROR(INDEX(D11:D20, SMALL(IF(ISNUMBER(SEARCH(\"JV1\",F11:F20)), ROW(F11:F20)-MIN(ROW(F11:F20))+1, \"\"), ROW() -10 )), \"\")","v":""},{"$f":"IFERROR(INDEX(E11:E20, SMALL(IF(ISNUMBER(SEARCH(\"JV1\",F11:F20)), ROW(F11:F20)-MIN(ROW(F11:F20))+1, \"\"), ROW() -10 )), \"\")","v":""},{"$f":"IFERROR(INDEX(B11:B20, SMALL(IF(ISNUMBER(SEARCH(\"JV2\",F11:F20)), ROW(F11:F20)-MIN(ROW(F11:F20))+1, \"\"), ROW() -10 )), \"\")","v":""},{"$f":"IFERROR(INDEX(C11:C20, SMALL(IF(ISNUMBER(SEARCH(\"JV2\",F11:F20)), ROW(F11:F20)-MIN(ROW(F11:F20))+1, \"\"), ROW() -10 )), \"\")","v":""},{"$f":"IFERROR(INDEX(D11:D20, SMALL(IF(ISNUMBER(SEARCH(\"JV2\",F11:F20)), ROW(F11:F20)-MIN(ROW(F11:F20))+1, \"\"), ROW() -10 )), \"\")","v":""},{"$f":"IFERROR(INDEX(E11:E20, SMALL(IF(ISNUMBER(SEARCH(\"JV2\",F11:F20)), ROW(F11:F20)-MIN(ROW(F11:F20))+1, \"\"), ROW() -10 )), \"\")","v":""}]
[null,"Avila University",null,"11-432748","Devyn Coleman",null,null,4597.0,null,false,{"$nulls":17},{"$f":"IFERROR(INDEX(B11:B20, SMALL(IF(\"V\"=F11:F20, ROW(F11:F20)-MIN(ROW(F11:F20))+1, \"\"), ROW() -10 )), \"\")","v":"Avila University"},{"$f":"IFERROR(INDEX(C11:C20, SMALL(IF(\"V\"=F11:F20, ROW(F11:F20)-MIN(ROW(F11:F20))+1, \"\"), ROW() -10 )), \"\")","v":""},{"$f":"IFERROR(INDEX(D11:D20, SMALL(IF(\"V\"=F11:F20, ROW(F11:F20)-MIN(ROW(F11:F20))+1, \"\"), ROW() -10 )), \"\")","v":"18-68921"},{"$f":"IFERROR(INDEX(E11:E20, SMALL(IF(\"V\"=F11:F20, ROW(F11:F20)-MIN(ROW(F11:F20))+1, \"\"), ROW() -10 )), \"\")","v":"Emma Foland"},{"$f":"IFERROR(INDEX(B11:B20, SMALL(IF(ISNUMBER(SEARCH(\"JV1\",F11:F20)), ROW(F11:F20)-MIN(ROW(F11:F20))+1, \"\"), ROW() -10 )), \"\")","v":""},{"$f":"IFERROR(INDEX(C11:C20, SMALL(IF(ISNUMBER(SEARCH(\"JV1\",F11:F20)), ROW(F11:F20)-MIN(ROW(F11:F20))+1, \"\"), ROW() -10 )), \"\")","v":""},{"$f":"IFERROR(INDEX(D11:D20, SMALL(IF(ISNUMBER(SEARCH(\"JV1\",F11:F20)), ROW(F11:F20)-MIN(ROW(F11:F20))+1, \"\"), ROW() -10 )), \"\")","v":""},{"$f":"IFERROR(INDEX(E11:E20, SMALL(IF(ISNUMBER(SEARCH(\"JV1\",F11:F20)), ROW(F11:F20)-MIN(ROW(F11:F20))+1, \"\"), ROW() -10 )), \"\")","v":""},{"$f":"IFERROR(INDEX(B11:B20, SMALL(IF(ISNUMBER(SEARCH(\"JV2\",F11:F20)), ROW(F11:F20)-MIN(ROW(F11:F20))+1, \"\"), ROW() -10 )), \"\")","v":""},{"$f":"IFERROR(INDEX(C11:C20, SMALL(IF(ISNUMBER(SEARCH(\"JV2\",F11:F20)), ROW(F11:F20)-MIN(ROW(F11:F20))+1, \"\"), ROW() -10 )), \"\")","v":""},{"$f":"IFERROR(INDEX(D11:D20, SMALL(IF(ISNUMBER(SEARCH(\"JV2\",F11:F20)), ROW(F11:F20)-MIN(ROW(F11:F20))+1, \"\"), ROW() -10 )), \"\")","v":""},{"$f":"IFERROR(INDEX(E11:E20, SMALL(IF(ISNUMBER(SEARCH(\"JV2\",F11:F20)), ROW(F11:F20)-MIN(ROW(F11:F20))+1, \"\"), ROW() -10 )), \"\")","v":""}]
[null,"Avila University",null,"20-51205","Elizabeth Blackman",null,null,4597.0,null,false,{"$nulls":17},{"$f":"IFERROR(INDEX(B11:B20, SMALL(IF(\"V\"=F11:F20, ROW(F11:F20)-MIN(ROW(F11:F20))+1, \"\"), ROW() -10 )), \"\")","v":"Avila University"},{"$f":"IFERROR(INDEX(C11:C20, SMALL(IF(\"V\"=F11:F20, ROW(F11:F20)-MIN(ROW(F11:F20))+1, \"\"), ROW() -10 )), \"\")","v":""},{"$f":"IFERROR(INDEX(D11:D20, SMALL(IF(\"V\"=F11:F20, ROW(F11:F20)-MIN(ROW(F11:F20))+1, \"\"), ROW() -10 )), \"\")","v":"20-10175"},{"$f":"IFERROR(INDEX(E11:E20, SMALL(IF(\"V\"=F11:F20, ROW(F11:F20)-MIN(ROW(F11:F20))+1, \"\"), ROW() -10 )), \"\")","v":"Kamdyn Burman"},{"$f":"IFERROR(INDEX(B11:B20, SMALL(IF(ISNUMBER(SEARCH(\"JV1\",F11:F20)), ROW(F11:F20)-MIN(ROW(F11:F20))+1, \"\"), ROW() -10 )), \"\")","v":""},{"$f":"IFERROR(INDEX(C11:C20, SMALL(IF(ISNUMBER(SEARCH(\"JV1\",F11:F20)), ROW(F11:F20)-MIN(ROW(F11:F20))+1, \"\"), ROW() -10 )), \"\")","v":""},{"$f":"IFERROR(INDEX(D11:D20, SMALL(IF(ISNUMBER(SEARCH(\"JV1\",F11:F20)), ROW(F11:F20)-MIN(ROW(F11:F20))+1, \"\"), ROW() -10 )), \"\")","v":""},{"$f":"IFERROR(INDEX(E11:E20, SMALL(IF(ISNUMBER(SEARCH(\"JV1\",F11:F20)), ROW(F11:F20)-MIN(ROW(F11:F20))+1, \"\"), ROW() -10 )), \"\")","v":""},{"$f":"IFERROR(INDEX(B11:B20, SMALL(IF(ISNUMBER(SEARCH(\"JV2\",F11:F20)), ROW(F11:F20)-MIN(ROW(F11:F20))+1, \"\"), ROW() -10 )), \"\")","v":""},{"$f":"IFERROR(INDEX(C11:C20, SMALL(IF(ISNUMBER(SEARCH(\"JV2\",F11:F20)), ROW(F11:F20)-MIN(ROW(F11:F20))+1, \"\"), ROW() -10 )), \"\")","v":""},{"$f":"IFERROR(INDEX(D11:D20, SMALL(IF(ISNUMBER(SEARCH(\"JV2\",F11:F20)), ROW(F11:F20)-MIN(ROW(F11:F20))+1, \"\"), ROW() -10 )), \"\")","v":""},{"$f":"IFERROR(INDEX(E11:E20, SMALL(IF(ISNUMBER(SEARCH(\"JV2\",F11:F20)), ROW(F11:F20)-MIN(ROW(F11:F20))+1, \"\"), ROW() -10 )), \"\")","v":""}]
[null,"Avila University",null,"18-68921","Emma Foland","V",null,4597.0,null,false,{"$nulls":17},{"$f":"IFERROR(INDEX(B11:B20, SMALL(IF(\"V\"=F11:F20, ROW(F11:F20)-MIN(ROW(F11:F20))+1, \"\"), ROW() -10 )), \"\")","v":"Avila University"},{"$f":"IFERROR(INDEX(C11:C20, SMALL(IF(\"V\"=F11:F20, ROW(F11:F20)-MIN(ROW(F11:F20))+1, \"\"), ROW() -10 )), \"\")","v":""},{"$f":"IFERROR(INDEX(D11:D20, SMALL(IF(\"V\"=F11:F20, ROW(F11:F20)-MIN(ROW(F11:F20))+1, \"\"), ROW() -10 )), \"\")","v":"17-84443"},{"$f":"IFERROR(INDEX(E11:E20, SMALL(IF(\"V\"=F11:F20, ROW(F11:F20)-MIN(ROW(F11:F20))+1, \"\"), ROW() -10 )), \"\")","v":"Kirsten Zirjacks"},{"$f":"IFERROR(INDEX(B11:B20, SMALL(IF(ISNUMBER(SEARCH(\"JV1\",F11:F20)), ROW(F11:F20)-MIN(ROW(F11:F20))+1, \"\"), ROW() -10 )), \"\")","v":""},{"$f":"IFERROR(INDEX(C11:C20, SMALL(IF(ISNUMBER(SEARCH(\"JV1\",F11:F20)), ROW(F11:F20)-MIN(ROW(F11:F20))+1, \"\"), ROW() -10 )), \"\")","v":""},{"$f":"IFERROR(INDEX(D11:D20, SMALL(IF(ISNUMBER(SEARCH(\"JV1\",F11:F20)), ROW(F11:F20)-MIN(ROW(F11:F20))+1, \"\"), ROW() -10 )), \"\")","v":""},{"$f":"IFERROR(INDEX(E11:E20, SMALL(IF(ISNUMBER(SEARCH(\"JV1\",F11:F20)), ROW(F11:F20)-MIN(ROW(F11:F20))+1, \"\"), ROW() -10 )), \"\")","v":""},{"$f":"IFERROR(INDEX(B11:B20, SMALL(IF(ISNUMBER(SEARCH(\"JV2\",F11:F20)), ROW(F11:F20)-MIN(ROW(F11:F20))+1, \"\"), ROW() -10 )), \"\")","v":""},{"$f":"IFERROR(INDEX(C11:C20, SMALL(IF(ISNUMBER(SEARCH(\"JV2\",F11:F20)), ROW(F11:F20)-MIN(ROW(F11:F20))+1, \"\"), ROW() -10 )), \"\")","v":""},{"$f":"IFERROR(INDEX(D11:D20, SMALL(IF(ISNUMBER(SEARCH(\"JV2\",F11:F20)), ROW(F11:F20)-MIN(ROW(F11:F20))+1, \"\"), ROW() -10 )), \"\")","v":""},{"$f":"IFERROR(INDEX(E11:E20, SMALL(IF(ISNUMBER(SEARCH(\"JV2\",F11:F20)), ROW(F11:F20)-MIN(ROW(F11:F20))+1, \"\"), ROW() -10 )), \"\")","v":""}]
[null,"Avila University",null,"20-10175","Kamdyn Burman","V",null,4597.0,null,false,{"$nulls":17},{"$f":"IFERROR(INDEX(B11:B20, SMALL(IF(\"V\"=F11:F20, ROW(F11:F20)-MIN(ROW(F11:F20))+1, \"\"), ROW() -10 )), \"\")","v":"Avila University"},{"$f":"IFERROR(INDEX(C11:C20, SMALL(IF(\"V\"=F11:F20, ROW(F11:F20)-MIN(ROW(F11:F20))+1, \"\"), ROW() -10 )), \"\")","v":""},{"$f":"IFERROR(INDEX(D11:D20, SMALL(IF(\"V\"=F11:F20, ROW(F11:F20)-MIN(ROW(F11:F20))+1, \"\"), ROW() -10 )), \"\")","v":"22-1548"},{"$f":"IFERROR(INDEX(E11:E20, SMALL(IF(\"V\"=F11:F20, ROW(F11:F20)-MIN(ROW(F11:F20))+1, \"\"), ROW() -10 )), \"\")","v":"Victoria Bestor"},{"$f":"IFERROR(INDEX(B11:B20, SMALL(IF(ISNUMBER(SEARCH(\"JV1\",F11:F20)), ROW(F11:F20)-MIN(ROW(F11:F20))+1, \"\"), ROW() -10 )), \"\")","v":""},{"$f":"IFERROR(INDEX(C11:C20, SMALL(IF(ISNUMBER(SEARCH(\"JV1\",F11:F20)), ROW(F11:F20)-MIN(ROW(F11:F20))+1, \"\"), ROW() -10 )), \"\")","v":""},{"$f":"IFERROR(INDEX(D11:D20, SMALL(IF(ISNUMBER(SEARCH(\"JV1\",F11:F20)), ROW(F11:F20)-MIN(ROW(F11:F20))+1, \"\"), ROW() -10 )), \"\")","v":""},{"$f":"IFERROR(INDEX(E11:E20, SMALL(IF(ISNUMBER(SEARCH(\"JV1\",F11:F20)), ROW(F11:F20)-MIN(ROW(F11:F20))+1, \"\"), ROW() -10 )), \"\")","v":""},{"$f":"IFERROR(INDEX(B11:B20, SMALL(IF(ISNUMBER(SEARCH(\"JV2\",F11:F20)), ROW(F11:F20)-MIN(ROW(F11:F20))+1, \"\"), ROW() -10 )), \"\")","v":""},{"$f":"IFERROR(INDEX(C11:C20, SMALL(IF(ISNUMBER(SEARCH(\"JV2\",F11:F20)), ROW(F11:F20)-MIN(ROW(F11:F20))+1, \"\"), ROW() -10 )), \"\")","v":""},{"$f":"IFERROR(INDEX(D11:D20, SMALL(IF(ISNUMBER(SEARCH(\"JV2\",F11:F20)), ROW(F11:F20)-MIN(ROW(F11:F20))+1, \"\"), ROW() -10 )), \"\")","v":""},{"$f":"IFERROR(INDEX(E11:E20, SMALL(IF(ISNUMBER(SEARCH(\"JV2\",F11:F20)), ROW(F11:F20)-MIN(ROW(F11:F20))+1, \"\"), ROW() -10 )), \"\")","v":""}]
[null,"Avila University",null,"17-84443","Kirsten Zirjacks","V",null,4597.0,null,false,{"$nulls":17},{"$f":"IFERROR(INDEX(B11:B20, SMALL(IF(\"V\"=F11:F20, ROW(F11:F20)-MIN(ROW(F11:F20))+1, \"\"), ROW() -10 )), \"\")","v":"Avila University"},{"$f":"IFERROR(INDEX(C11:C20, SMALL(IF(\"V\"=F11:F20, ROW(F11:F20)-MIN(ROW(F11:F20))+1, \"\"), ROW() -10 )), \"\")","v":""},{"$f":"IFERROR(INDEX(D11:D20, SMALL(IF(\"V\"=F11:F20, ROW(F11:F20)-MIN(ROW(F11:F20))+1, \"\"), ROW() -10 )), \"\")","v":"7914-17150"},{"$f":"IFERROR(INDEX(E11:E20, SMALL(IF(\"V\"=F11:F20, ROW(F11:F20)-MIN(ROW(F11:F20))+1, \"\"), ROW() -10 )), \"\")","v":"Victoria Leal"},{"$f":"IFERROR(INDEX(B11:B20, SMALL(IF(ISNUMBER(SEARCH(\"JV1\",F11:F20)), ROW(F11:F20)-MIN(ROW(F11:F20))+1, \"\"), ROW() -10 )), \"\")","v":""},{"$f":"IFERROR(INDEX(C11:C20, SMALL(IF(ISNUMBER(SEARCH(\"JV1\",F11:F20)), ROW(F11:F20)-MIN(ROW(F11:F20))+1, \"\"), ROW() -10 )), \"\")","v":""},{"$f":"IFERROR(INDEX(D11:D20, SMALL(IF(ISNUMBER(SEARCH(\"JV1\",F11:F20)), ROW(F11:F20)-MIN(ROW(F11:F20))+1, \"\"), ROW() -10 )), \"\")","v":""},{"$f":"IFERROR(INDEX(E11:E20, SMALL(IF(ISNUMBER(SEARCH(\"JV1\",F11:F20)), ROW(F11:F20)-MIN(ROW(F11:F20))+1, \"\"), ROW() -10 )), \"\")","v":""},{"$f":"IFERROR(INDEX(B11:B20, SMALL(IF(ISNUMBER(SEARCH(\"JV2\",F11:F20)), ROW(F11:F20)-MIN(ROW(F11:F20))+1, \"\"), ROW() -10 )), \"\")","v":""},{"$f":"IFERROR(INDEX(C11:C20, SMALL(IF(ISNUMBER(SEARCH(\"JV2\",F11:F20)), ROW(F11:F20)-MIN(ROW(F11:F20))+1, \"\"), ROW() -10 )), \"\")","v":""},{"$f":"IFERROR(INDEX(D11:D20, SMALL(IF(ISNUMBER(SEARCH(\"JV2\",F11:F20)), ROW(F11:F20)-MIN(ROW(F11:F20))+1, \"\"), ROW() -10 )), \"\")","v":""},{"$f":"IFERROR(INDEX(E11:E20, SMALL(IF(ISNUMBER(SEARCH(\"JV2\",F11:F20)), ROW(F11:F20)-MIN(ROW(F11:F20))+1, \"\"), ROW() -10 )), \"\")","v":""}]
[null,"Avila University",null,"19-85944","Samantha Hulse",null,null,4597.0,null,false,{"$nulls":17},{"$f":"IFERROR(INDEX(B11:B20, SMALL(IF(\"V\"=F11:F20, ROW(F11:F20)-MIN(ROW(F11:F20))+1, \"\"), ROW() -10 )), \"\")","v":""},{"$f":"IFERROR(INDEX(C11:C20, SMALL(IF(\"V\"=F11:F20, ROW(F11:F20)-MIN(ROW(F11:F20))+1, \"\"), ROW() -10 )), \"\")","v":""},{"$f":"IFERROR(INDEX(D11:D20, SMALL(IF(\"V\"=F11:F20, ROW(F11:F20)-MIN(ROW(F11:F20))+1, \"\"), ROW() -10 )), \"\")","v":""},{"$f":"IFERROR(INDEX(E11:E20, SMALL(IF(\"V\"=F11:F20, ROW(F11:F20)-MIN(ROW(F11:F20))+1, \"\"), ROW() -10 )), \"\")","v":""},{"$f":"IFERROR(INDEX(B11:B20, SMALL(IF(ISNUMBER(SEARCH(\"JV1\",F11:F20)), ROW(F11:F20)-MIN(ROW(F11:F20))+1, \"\"), ROW() -10 )), \"\")","v":""},{"$f":"IFERROR(INDEX(C11:C20, SMALL(IF(ISNUMBER(SEARCH(\"JV1\",F11:F20)), ROW(F11:F20)-MIN(ROW(F11:F20))+1, \"\"), ROW() -10 )), \"\")","v":""},{"$f":"IFERROR(INDEX(D11:D20, SMALL(IF(ISNUMBER(SEARCH(\"JV1\",F11:F20)), ROW(F11:F20)-MIN(ROW(F11:F20))+1, \"\"), ROW() -10 )), \"\")","v":""},{"$f":"IFERROR(INDEX(E11:E20, SMALL(IF(ISNUMBER(SEARCH(\"JV1\",F11:F20)), ROW(F11:F20)-MIN(ROW(F11:F20))+1, \"\"), ROW() -10 )), \"\")","v":""},{"$f":"IFERROR(INDEX(B11:B20, SMALL(IF(ISNUMBER(SEARCH(\"JV2\",F11:F20)), ROW(F11:F20)-MIN(ROW(F11:F20))+1, \"\"), ROW() -10 )), \"\")","v":""},{"$f":"IFERROR(INDEX(C11:C20, SMALL(IF(ISNUMBER(SEARCH(\"JV2\",F11:F20)), ROW(F11:F20)-MIN(ROW(F11:F20))+1, \"\"), ROW() -10 )), \"\")","v":""},{"$f":"IFERROR(INDEX(D11:D20, SMALL(IF(ISNUMBER(SEARCH(\"JV2\",F11:F20)), ROW(F11:F20)-MIN(ROW(F11:F20))+1, \"\"), ROW() -10 )), \"\")","v":""},{"$f":"IFERROR(INDEX(E11:E20, SMALL(IF(ISNUMBER(SEARCH(\"JV2\",F11:F20)), ROW(F11:F20)-MIN(ROW(F11:F20))+1, \"\"), ROW() -10 )), \"\")","v":""}]
[null,"Avila University",null,"22-1548","Victoria Bestor","V",null,4597.0,null,false]
[null,"Avila University",null,"7914-17150","Victoria Leal","V",null,4597.0,null,false]
[null,"Baker University",null,"22-1950","Aleah Netherland",null,null,3432.0,null,false,{"$nulls":17},{"$f":"IFERROR(INDEX(B21:B33, SMALL(IF(\"V\"=F21:F33, ROW(F21:F33)-MIN(ROW(F21:F33))+1, \"\"), ROW() -20 )), \"\")","v":"Baker University"},{"$f":"IFERROR(INDEX(C21:C33, SMALL(IF(\"V\"=F21:F33, ROW(F21:F33)-MIN(ROW(F21:F33))+1, \"\"), ROW() -20 )), \"\")","v":""},{"$f":"IFERROR(INDEX(D21:D33, SMALL(IF(\"V\"=F21:F33, ROW(F21:F33)-MIN(ROW(F21:F33))+1, \"\"), ROW() -20 )), \"\")","v":"11-193244"},{"$f":"IFERROR(INDEX(E21:E33, SMALL(IF(\"V\"=F21:F33, ROW(F21:F33)-MIN(ROW(F21:F33))+1, \"\"), ROW() -20 )), \"\")","v":"Audrey Valdez"},{"$f":"IFERROR(INDEX(B21:B33, SMALL(IF(ISNUMBER(SEARCH(\"JV1\",F21:F33)), ROW(F21:F33)-MIN(ROW(F21:F33))+1, \"\"), ROW() -20 )), \"\")","v":""},{"$f":"IFERROR(INDEX(C21:C33, SMALL(IF(ISNUMBER(SEARCH(\"JV1\",F21:F33)), ROW(F21:F33)-MIN(ROW(F21:F33))+1, \"\"), ROW() -20 )), \"\")","v":""},{"$f":"IFERROR(INDEX(D21:D33, SMALL(IF(ISNUMBER(SEARCH(\"JV1\",F21:F33)), ROW(F21:F33)-MIN(ROW(F21:F33))+1, \"\"), ROW() -20 )), \"\")","v":""},{"$f":"IFERROR(INDEX(E21:E33, SMALL(IF(ISNUMBER(SEARCH(\"JV1\",F21:F33)), ROW(F21:F33)-MIN(ROW(F21:F33))+1, \"\"), ROW() -20 )), \"\")","v":""},{"$f":"IFERROR(INDEX(B21:B33, SMALL(IF(ISNUMBER(SEARCH(\"JV2\",F21:F33)), ROW(F21:F33)-MIN(ROW(F21:F33))+1, \"\"), ROW() -20 )), \"\")","v":""},{"$f":"IFERROR(INDEX(C21:C33, SMALL(IF(ISNUMBER(SEARCH(\"JV2\",F21:F33)), ROW(F21:F33)-MIN(ROW(F21:F33))+1, \"\"), ROW() -20 )), \"\")","v":""},{"$f":"IFERROR(INDEX(D21:D33, SMALL(IF(ISNUMBER(SEARCH(\"JV2\",F21:F33)), ROW(F21:F33)-MIN(ROW(F21:F33))+1, \"\"), ROW() -20 )), \"\")","v":""},{"$f":"IFERROR(INDEX(E21:E33, SMALL(IF(ISNUMBER(SEARCH(\"JV2\",F21:F33)), ROW(F21:F33)-MIN(ROW(F21:F33))+1, \"\"), ROW() -20 )), \"\")","v":""}]
[null,"Baker University",null,"19-86829","Alyssa Frazell",null,null,3432.0,null,false,{"$nulls":17},{"$f":"IFERROR(INDEX(B21:B33, SMALL(IF(\"V\"=F21:F33, ROW(F21:F33)-MIN(ROW(F21:F33))+1, \"\"), ROW() -20 )), \"\")","v":"Baker University"},{"$f":"IFERROR(INDEX(C21:C33, SMALL(IF(\"V\"=F21:F33, ROW(F21:F33)-MIN(ROW(F21:F33))+1, \"\"), ROW() -20 )), \"\")","v":""},{"$f":"IFERROR(INDEX(D21:D33, SMALL(IF(\"V\"=F21:F33, ROW(F21:F33)-MIN(ROW(F21:F33))+1, \"\"), ROW() -20 )), \"\")","v":"16-165606"},{"$f":"IFERROR(INDEX(E21:E33, SMALL(IF(\"V\"=F21:F33, ROW(F21:F33)-MIN(ROW(F21:F33))+1, \"\"), ROW() -20 )), \"\")","v":"Aviana Ordonez"},{"$f":"IFERROR(INDEX(B21:B33, SMALL(IF(ISNUMBER(SEARCH(\"JV1\",F21:F33)), ROW(F21:F33)-MIN(ROW(F21:F33))+1, \"\"), ROW() -20 )), \"\")","v":""},{"$f":"IFERROR(INDEX(C21:C33, SMALL(IF(ISNUMBER(SEARCH(\"JV1\",F21:F33)), ROW(F21:F33)-MIN(ROW(F21:F33))+1, \"\"), ROW() -20 )), \"\")","v":""},{"$f":"IFERROR(INDEX(D21:D33, SMALL(IF(ISNUMBER(SEARCH(\"JV1\",F21:F33)), ROW(F21:F33)-MIN(ROW(F21:F33))+1, \"\"), ROW() -20 )), \"\")","v":""},{"$f":"IFERROR(INDEX(E21:E33, SMALL(IF(ISNUMBER(SEARCH(\"JV1\",F21:F33)), ROW(F21:F33)-MIN(ROW(F21:F33))+1, \"\"), ROW() -20 )), \"\")","v":""},{"$f":"IFERROR(INDEX(B21:B33, SMALL(IF(ISNUMBER(SEARCH(\"JV2\",F21:F33)), ROW(F21:F33)-MIN(ROW(F21:F33))+1, \"\"), ROW() -20 )), \"\")","v":""},{"$f":"IFERROR(INDEX(C21:C33, SMALL(IF(ISNUMBER(SEARCH(\"JV2\",F21:F33)), ROW(F21:F33)-MIN(ROW(F21:F33))+1, \"\"), ROW() -20 )), \"\")","v":""},{"$f":"IFERROR(INDEX(D21:D33, SMALL(IF(ISNUMBER(SEARCH(\"JV2\",F21:F33)), ROW(F21:F33)-MIN(ROW(F21:F33))+1, \"\"), ROW() -20 )), \"\")","v":""},{"$f":"IFERROR(INDEX(E21:E33, SMALL(IF(ISNUMBER(SEARCH(\"JV2\",F21:F33)), ROW(F21:F33)-MIN(ROW(F21:F33))+1, \"\"), ROW() -20 )), \"\")","v":""}]
[null,"Baker University",null,"5900-18030","Ashley Wilson",null,null,3432.0,null,false,{"$nulls":17},{"$f":"IFERROR(INDEX(B21:B33, SMALL(IF(\"V\"=F21:F33, ROW(F21:F33)-MIN(ROW(F21:F33))+1, \"\"), ROW() -20 )), \"\")","v":"Baker University"},{"$f":"IFERROR(INDEX(C21:C33, SMALL(IF(\"V\"=F21:F33, ROW(F21:F33)-MIN(ROW(F21:F33))+1, \"\"), ROW() -20 )), \"\")","v":""},{"$f":"IFERROR(INDEX(D21:D33, SMALL(IF(\"V\"=F21:F33, ROW(F21:F33)-MIN(ROW(F21:F33))+1, \"\"), ROW() -20 )), \"\")","v":"20-47504"},{"$f":"IFERROR(INDEX(E21:E33, SMALL(IF(\"V\"=F21:F33, ROW(F21:F33)-MIN(ROW(F21:F33))+1, \"\"), ROW() -20 )), \"\")","v":"Darby Hauff"},{"$f":"IFERROR(INDEX(B21:B33, SMALL(IF(ISNUMBER(SEARCH(\"JV1\",F21:F33)), ROW(F21:F33)-MIN(ROW(F21:F33))+1, \"\"), ROW() -20 )), \"\")","v":""},{"$f":"IFERROR(INDEX(C21:C33, SMALL(IF(ISNUMBER(SEARCH(\"JV1\",F21:F33)), ROW(F21:F33)-MIN(ROW(F21:F33))+1, \"\"), ROW() -20 )), \"\")","v":""},{"$f":"IFERROR(INDEX(D21:D33, SMALL(IF(ISNUMBER(SEARCH(\"JV1\",F21:F33)), ROW(F21:F33)-MIN(ROW(F21:F33))+1, \"\"), ROW() -20 )), \"\")","v":""},{"$f":"IFERROR(INDEX(E21:E33, SMALL(IF(ISNUMBER(SEARCH(\"JV1\",F21:F33)), ROW(F21:F33)-MIN(ROW(F21:F33))+1, \"\"), ROW() -20 )), \"\")","v":""},{"$f":"IFERROR(INDEX(B21:B33, SMALL(IF(ISNUMBER(SEARCH(\"JV2\",F21:F33)), ROW(F21:F33)-MIN(ROW(F21:F33))+1, \"\"), ROW() -20 )), \"\")","v":""},{"$f":"IFERROR(INDEX(C21:C33, SMALL(IF(ISNUMBER(SEARCH(\"JV2\",F21:F33)), ROW(F21:F33)-MIN(ROW(F21:F33))+1, \"\"), ROW() -20 )), \"\")","v":""},{"$f":"IFERROR(INDEX(D21:D33, SMALL(IF(ISNUMBER(SEARCH(\"JV2\",F21:F33)), ROW(F21:F33)-MIN(ROW(F21:F33))+1, \"\"), ROW() -20 )), \"\")","v":""},{"$f":"IFERROR(INDEX(E21:E33, SMALL(IF(ISNUMBER(SEARCH(\"JV2\",F21:F33)), ROW(F21:F33)-MIN(ROW(F21:F33))+1, \"\"), ROW() -20 )), \"\")","v":""}]
[null,"Baker University",null,"11-193244","Audrey Valdez","V",null,3432.0,null,false,{"$nulls":17},{"$f":"IFERROR(INDEX(B21:B33, SMALL(IF(\"V\"=F21:F33, ROW(F21:F33)-MIN(ROW(F21:F33))+1, \"\"), ROW() -20 )), \"\")","v":"Baker University"},{"$f":"IFERROR(INDEX(C21:C33, SMALL(IF(\"V\"=F21:F33, ROW(F21:F33)-MIN(ROW(F21:F33))+1, \"\"), ROW() -20 )), \"\")","v":""},{"$f":"IFERROR(INDEX(D21:D33, SMALL(IF(\"V\"=F21:F33, ROW(F21:F33)-MIN(ROW(F21:F33))+1, \"\"), ROW() -20 )), \"\")","v":"20-48752"},{"$f":"IFERROR(INDEX(E21:E33, SMALL(IF(\"V\"=F21:F33, ROW(F21:F33)-MIN(ROW(F21:F33))+1, \"\"), ROW() -20 )), \"\")","v":"Dylan Holmes"},{"$f":"IFERROR(INDEX(B21:B33, SMALL(IF(ISNUMBER(SEARCH(\"JV1\",F21:F33)), ROW(F21:F33)-MIN(ROW(F21:F33))+1, \"\"), ROW() -20 )), \"\")","v":""},{"$f":"IFERROR(INDEX(C21:C33, SMALL(IF(ISNUMBER(SEARCH(\"JV1\",F21:F33)), ROW(F21:F33)-MIN(ROW(F21:F33))+1, \"\"), ROW() -20 )), \"\")","v":""},{"$f":"IFERROR(INDEX(D21:D33, SMALL(IF(ISNUMBER(SEARCH(\"JV1\",F21:F33)), ROW(F21:F33)-MIN(ROW(F21:F33))+1, \"\"), ROW() -20 )), \"\")","v":""},{"$f":"IFERROR(INDEX(E21:E33, SMALL(IF(ISNUMBER(SEARCH(\"JV1\",F21:F33)), ROW(F21:F33)-MIN(ROW(F21:F33))+1, \"\"), ROW() -20 )), \"\")","v":""},{"$f":"IFERROR(INDEX(B21:B33, SMALL(IF(ISNUMBER(SEARCH(\"JV2\",F21:F33)), ROW(F21:F33)-MIN(ROW(F21:F33))+1, \"\"), ROW() -20 )), \"\")","v":""},{"$f":"IFERROR(INDEX(C21:C33, SMALL(IF(ISNUMBER(SEARCH(\"JV2\",F21:F33)), ROW(F21:F33)-MIN(ROW(F21:F33))+1, \"\"), ROW() -20 )), \"\")","v":""},{"$f":"IFERROR(INDEX(D21:D33, SMALL(IF(ISNUMBER(SEARCH(\"JV2\",F21:F33)), ROW(F21:F33)-MIN(ROW(F21:F33))+1, \"\"), ROW() -20 )), \"\")","v":""},{"$f":"IFERROR(INDEX(E21:E33, SMALL(IF(ISNUMBER(SEARCH(\"JV2\",F21:F33)), ROW(F21:F33)-MIN(ROW(F21:F33))+1, \"\"), ROW() -20 )), \"\")","v":""}]
[null,"Baker University",null,"16-165606","Aviana Ordonez","V",null,3432.0,null,false,{"$nulls":17},{"$f":"IFERROR(INDEX(B21:B33, SMALL(IF(\"V\"=F21:F33, ROW(F21:F33)-MIN(ROW(F21:F33))+1, \"\"), ROW() -20 )), \"\")","v":"Baker University"},{"$f":"IFERROR(INDEX(C21:C33, SMALL(IF(\"V\"=F21:F33, ROW(F21:F33)-MIN(ROW(F21:F33))+1, \"\"), ROW() -20 )), \"\")","v":""},{"$f":"IFERROR(INDEX(D21:D33, SMALL(IF(\"V\"=F21:F33, ROW(F21:F33)-MIN(ROW(F21:F33))+1, \"\"), ROW() -20 )), \"\")","v":"7914-12405"},{"$f":"IFERROR(INDEX(E21:E33, SMALL(IF(\"V\"=F21:F33, ROW(F21:F33)-MIN(ROW(F21:F33))+1, \"\"), ROW() -20 )), \"\")","v":"Kaleigh Buckalew"},{"$f":"IFERROR(INDEX(B21:B33, SMALL(IF(ISNUMBER(SEARCH(\"JV1\",F21:F33)), ROW(F21:F33)-MIN(ROW(F21:F33))+1, \"\"), ROW() -20 )), \"\")","v":""},{"$f":"IFERROR(INDEX(C21:C33, SMALL(IF(ISNUMBER(SEARCH(\"JV1\",F21:F33)), ROW(F21:F33)-MIN(ROW(F21:F33))+1, \"\"), ROW() -20 )), \"\")","v":""},{"$f":"IFERROR(INDEX(D21:D33, SMALL(IF(ISNUMBER(SEARCH(\"JV1\",F21:F33)), ROW(F21:F33)-MIN(ROW(F21:F33))+1, \"\"), ROW() -20 )), \"\")","v":""},{"$f":"IFERROR(INDEX(E21:E33, SMALL(IF(ISNUMBER(SEARCH(\"JV1\",F21:F33)), ROW(F21:F33)-MIN(ROW(F21:F33))+1, \"\"), ROW() -20 )), \"\")","v":""},{"$f":"IFERROR(INDEX(B21:B33, SMALL(IF(ISNUMBER(SEARCH(\"JV2\",F21:F33)), ROW(F21:F33)-MIN(ROW(F21:F33))+1, \"\"), ROW() -20 )), \"\")","v":""},{"$f":"IFERROR(INDEX(C21:C33, SMALL(IF(ISNUMBER(SEARCH(\"JV2\",F21:F33)), ROW(F21:F33)-MIN(ROW(F21:F33))+1, \"\"), ROW() -20 )), \"\")","v":""},{"$f":"IFERROR(INDEX(D21:D33, SMALL(IF(ISNUMBER(SEARCH(\"JV2\",F21:F33)), ROW(F21:F33)-MIN(ROW(F21:F33))+1, \"\"), ROW() -20 )), \"\")","v":""},{"$f":"IFERROR(INDEX(E21:E33, SMALL(IF(ISNUMBER(SEARCH(\"JV2\",F21:F33)), ROW(F21:F33)-MIN(ROW(F21:F33))+1, \"\"), ROW() -20 )), \"\")","v":""}]
[null,"Baker University",null,"23-1560","Dana Nichols",null,null,3432.0,null,false,{"$nulls":17},{"$f":"IFERROR(INDEX(B21:B33, SMALL(IF(\"V\"=F21:F33, ROW(F21:F33)-MIN(ROW(F21:F33))+1, \"\"), ROW() -20 )), \"\")","v":"Baker University"},{"$f":"IFERROR(INDEX(C21:C33, SMALL(IF(\"V\"=F21:F33, ROW(F21:F33)-MIN(ROW(F21:F33))+1, \"\"), ROW() -20 )), \"\")","v":""},{"$f":"IFERROR(INDEX(D21:D33, SMALL(IF(\"V\"=F21:F33, ROW(F21:F33)-MIN(ROW(F21:F33))+1, \"\"), ROW() -20 )), \"\")","v":"11-634102"},{"$f":"IFERROR(INDEX(E21:E33, SMALL(IF(\"V\"=F21:F33, ROW(F21:F33)-MIN(ROW(F21:F33))+1, \"\"), ROW() -20 )), \"\")","v":"Karli Gilliland"},{"$f":"IFERROR(INDEX(B21:B33, SMALL(IF(ISNUMBER(SEARCH(\"JV1\",F21:F33)), ROW(F21:F33)-MIN(ROW(F21:F33))+1, \"\"), ROW() -20 )), \"\")","v":""},{"$f":"IFERROR(INDEX(C21:C33, SMALL(IF(ISNUMBER(SEARCH(\"JV1\",F21:F33)), ROW(F21:F33)-MIN(ROW(F21:F33))+1, \"\"), ROW() -20 )), \"\")","v":""},{"$f":"IFERROR(INDEX(D21:D33, SMALL(IF(ISNUMBER(SEARCH(\"JV1\",F21:F33)), ROW(F21:F33)-MIN(ROW(F21:F33))+1, \"\"), ROW() -20 )), \"\")","v":""},{"$f":"IFERROR(INDEX(E21:E33, SMALL(IF(ISNUMBER(SEARCH(\"JV1\",F21:F33)), ROW(F21:F33)-MIN(ROW(F21:F33))+1, \"\"), ROW() -20 )), \"\")","v":""},{"$f":"IFERROR(INDEX(B21:B33, SMALL(IF(ISNUMBER(SEARCH(\"JV2\",F21:F33)), ROW(F21:F33)-MIN(ROW(F21:F33))+1, \"\"), ROW() -20 )), \"\")","v":""},{"$f":"IFERROR(INDEX(C21:C33, SMALL(IF(ISNUMBER(SEARCH(\"JV2\",F21:F33)), ROW(F21:F33)-MIN(ROW(F21:F33))+1, \"\"), ROW() -20 )), \"\")","v":""},{"$f":"IFERROR(INDEX(D21:D33, SMALL(IF(ISNUMBER(SEARCH(\"JV2\",F21:F33)), ROW(F21:F33)-MIN(ROW(F21:F33))+1, \"\"), ROW() -20 )), \"\")","v":""},{"$f":"IFERROR(INDEX(E21:E33, SMALL(IF(ISNUMBER(SEARCH(\"JV2\",F21:F33)), ROW(F21:F33)-MIN(ROW(F21:F33))+1, \"\"), ROW() -20 )), \"\")","v":""}]
[null,"Baker University",null,"20-47504","Darby Hauff","V",null,3432.0,null,false,{"$nulls":17},{"$f":"IFERROR(INDEX(B21:B33, SMALL(IF(\"V\"=F21:F33, ROW(F21:F33)-MIN(ROW(F21:F33))+1, \"\"), ROW() -20 )), \"\")","v":"Baker University"},{"$f":"IFERROR(INDEX(C21:C33, SMALL(IF(\"V\"=F21:F33, ROW(F21:F33)-MIN(ROW(F21:F33))+1, \"\"), ROW() -20 )), \"\")","v":""},{"$f":"IFERROR(INDEX(D21:D33, SMALL(IF(\"V\"=F21:F33, ROW(F21:F33)-MIN(ROW(F21:F33))+1, \"\"), ROW() -20 )), \"\")","v":"5900-25170"},{"$f":"IFERROR(INDEX(E21:E33, SMALL(IF(\"V\"=F21:F33, ROW(F21:F33)-MIN(ROW(F21:F33))+1, \"\"), ROW() -20 )), \"\")","v":"Kinsey Miller"},{"$f":"IFERROR(INDEX(B21:B33, SMALL(IF(ISNUMBER(SEARCH(\"JV1\",F21:F33)), ROW(F21:F33)-MIN(ROW(F21:F33))+1, \"\"), ROW() -20 )), \"\")","v":""},{"$f":"IFERROR(INDEX(C21:C33, SMALL(IF(ISNUMBER(SEARCH(\"JV1\",F21:F33)), ROW(F21:F33)-MIN(ROW(F21:F33))+1, \"\"), ROW() -20 )), \"\")","v":""},{"$f":"IFERROR(INDEX(D21:D33, SMALL(IF(ISNUMBER(SEARCH(\"JV1\",F21:F33)), ROW(F21:F33)-MIN(ROW(F21:F33))+1, \"\"), ROW() -20 )), \"\")","v":""},{"$f":"IFERROR(INDEX(E21:E33, SMALL(IF(ISNUMBER(SEARCH(\"JV1\",F21:F33)), ROW(F21:F33)-MIN(ROW(F21:F33))+1, \"\"), ROW() -20 )), \"\")","v":""},{"$f":"IFERROR(INDEX(B21:B33, SMALL(IF(ISNUMBER(SEARCH(\"JV2\",F21:F33)), ROW(F21:F33)-MIN(ROW(F21:F33))+1, \"\"), ROW() -20 )), \"\")","v":""},{"$f":"IFERROR(INDEX(C21:C33, SMALL(IF(ISNUMBER(SEARCH(\"JV2\",F21:F33)), ROW(F21:F33)-MIN(ROW(F21:F33))+1, \"\"), ROW() -20 )), \"\")","v":""},{"$f":"IFERROR(INDEX(D21:D33, SMALL(IF(ISNUMBER(SEARCH(\"JV2\",F21:F33)), ROW(F21:F33)-MIN(ROW(F21:F33))+1, \"\"), ROW() -20 )), \"\")","v":""},{"$f":"IFERROR(INDEX(E21:E33, SMALL(IF(ISNUMBER(SEARCH(\"JV2\",F21:F33)), ROW(F21:F33)-MIN(ROW(F21:F33))+1, \"\"), ROW() -20 )), \"\")","v":""}]
[null,"Baker University",null,"20-48752","Dylan Holmes","V",null,3432.0,null,false,{"$nulls":17},{"$f":"IFERROR(INDEX(B21:B33, SMALL(IF(\"V\"=F21:F33, ROW(F21:F33)-MIN(ROW(F21:F33))+1, \"\"), ROW() -20 )), \"\")","v":"Baker University"},{"$f":"IFERROR(INDEX(C21:C33, SMALL(IF(\"V\"=F21:F33, ROW(F21:F33)-MIN(ROW(F21:F33))+1, \"\"), ROW() -20 )), \"\")","v":""},{"$f":"IFERROR(INDEX(D21:D33, SMALL(IF(\"V\"=F21:F33, ROW(F21:F33)-MIN(ROW(F21:F33))+1, \"\"), ROW() -20 )), \"\")","v":"5900-26804"},{"$f":"IFERROR(INDEX(E21:E33, SMALL(IF(\"V\"=F21:F33, ROW(F21:F33)-MIN(ROW(F21:F33))+1, \"\"), ROW() -20 )), \"\")","v":"Majayla Boyd"},{"$f":"IFERROR(INDEX(B21:B33, SMALL(IF(ISNUMBER(SEARCH(\"JV1\",F21:F33)), ROW(F21:F33)-MIN(ROW(F21:F33))+1, \"\"), ROW() -20 )), \"\")","v":""},{"$f":"IFERROR(INDEX(C21:C33, SMALL(IF(ISNUMBER(SEARCH(\"JV1\",F21:F33)), ROW(F21:F33)-MIN(ROW(F21:F33))+1, \"\"), ROW() -20 )), \"\")","v":""},{"$f":"IFERROR(INDEX(D21:D33, SMALL(IF(ISNUMBER(SEARCH(\"JV1\",F21:F33)), ROW(F21:F33)-MIN(ROW(F21:F33))+1, \"\"), ROW() -20 )), \"\")","v":""},{"$f":"IFERROR(INDEX(E21:E33, SMALL(IF(ISNUMBER(SEARCH(\"JV1\",F21:F33)), ROW(F21:F33)-MIN(ROW(F21:F33))+1, \"\"), ROW() -20 )), \"\")","v":""},{"$f":"IFERROR(INDEX(B21:B33, SMALL(IF(ISNUMBER(SEARCH(\"JV2\",F21:F33)), ROW(F21:F33)-MIN(ROW(F21:F33))+1, \"\"), ROW() -20 )), \"\")","v":""},{"$f":"IFERROR(INDEX(C21:C33, SMALL(IF(ISNUMBER(SEARCH(\"JV2\",F21:F33)), ROW(F21:F33)-MIN(ROW(F21:F33))+1, \"\"), ROW() -20 )), \"\")","v":""},{"$f":"IFERROR(INDEX(D21:D33, SMALL(IF(ISNUMBER(SEARCH(\"JV2\",F21:F33)), ROW(F21:F33)-MIN(ROW(F21:F33))+1, \"\"), ROW() -20 )), \"\")","v":""},{"$f":"IFERROR(INDEX(E21:E33, SMALL(IF(ISNUMBER(SEARCH(\"JV2\",F21:F33)), ROW(F21:F33)-MIN(ROW(F21:F33))+1, \"\"), ROW() -20 )), \"\")","v":""}]
[null,"Baker University",null,"11-513141","Hailee McCormick",null,null,3432.0,null,false]
[null,"Baker University",null,"7914-12405","Kaleigh Buckalew","V",null,3432.0,null,false]
[null,"Baker University",null,"11-634102","Karli Gilliland","V",null,3432.0,null,false]
[null,"Baker University",null,"5900-25170","Kinsey Miller","V",null,3432.0,null,false]
[null,"Baker University",null,"5900-26804","Majayla Boyd","V",null,3432.0,null,false]
[null,"Barton Community College",null,"22-1377","Alexandra CoyKendall",null,null,4505.0,null,false,{"$nulls":17},{"$f":"IFERROR(INDEX(B34:B45, SMALL(IF(\"V\"=F34:F45, ROW(F34:F45)-MIN(ROW(F34:F45))+1, \"\"), ROW() -33 )), \"\")","v":"Barton Community College"},{"$f":"IFERROR(INDEX(C34:C45, SMALL(IF(\"V\"=F34:F45, ROW(F34:F45)-MIN(ROW(F34:F45))+1, \"\"), ROW() -33 )), \"\")","v":""},{"$f":"IFERROR(INDEX(D34:D45, SMALL(IF(\"V\"=F34:F45, ROW(F34:F45)-MIN(ROW(F34:F45))+1, \"\"), ROW() -33 )), \"\")","v":"11-393848"},{"$f":"IFERROR(INDEX(E34:E45, SMALL(IF(\"V\"=F34:F45, ROW(F34:F45)-MIN(ROW(F34:F45))+1, \"\"), ROW() -33 )), \"\")","v":"Allyson Heidenreich"},{"$f":"IFERROR(INDEX(B34:B45, SMALL(IF(ISNUMBER(SEARCH(\"JV1\",F34:F45)), ROW(F34:F45)-MIN(ROW(F34:F45))+1, \"\"), ROW() -33 )), \"\")","v":""},{"$f":"IFERROR(INDEX(C34:C45, SMALL(IF(ISNUMBER(SEARCH(\"JV1\",F34:F45)), ROW(F34:F45)-MIN(ROW(F34:F45))+1, \"\"), ROW() -33 )), \"\")","v":""},{"$f":"IFERROR(INDEX(D34:D45, SMALL(IF(ISNUMBER(SEARCH(\"JV1\",F34:F45)), ROW(F34:F45)-MIN(ROW(F34:F45))+1, \"\"), ROW() -33 )), \"\")","v":""},{"$f":"IFERROR(INDEX(E34:E45, SMALL(IF(ISNUMBER(SEARCH(\"JV1\",F34:F45)), ROW(F34:F45)-MIN(ROW(F34:F45))+1, \"\"), ROW() -33 )), \"\")","v":""},{"$f":"IFERROR(INDEX(B34:B45, SMALL(IF(ISNUMBER(SEARCH(\"JV2\",F34:F45)), ROW(F34:F45)-MIN(ROW(F34:F45))+1, \"\"), ROW() -33 )), \"\")","v":""},{"$f":"IFERROR(INDEX(C34:C45, SMALL(IF(ISNUMBER(SEARCH(\"JV2\",F34:F45)), ROW(F34:F45)-MIN(ROW(F34:F45))+1, \"\"), ROW() -33 )), \"\")","v":""},{"$f":"IFERROR(INDEX(D34:D45, SMALL(IF(ISNUMBER(SEARCH(\"JV2\",F34:F45)), ROW(F34:F45)-MIN(ROW(F34:F45))+1, \"\"), ROW() -33 )), \"\")","v":""},{"$f":"IFERROR(INDEX(E34:E45, SMALL(IF(ISNUMBER(SEARCH(\"JV2\",F34:F45)), ROW(F34:F45)-MIN(ROW(F34:F45))+1, \"\"), ROW() -33 )), \"\")","v":""}]
[null,"Barton Community College",null,"11-393848","Allyson Heidenreich","V",null,4505.0,null,false,{"$nulls":17},{"$f":"IFERROR(INDEX(B34:B45, SMALL(IF(\"V\"=F34:F45, ROW(F34:F45)-MIN(ROW(F34:F45))+1, \"\"), ROW() -33 )), \"\")","v":"Barton Community College"},{"$f":"IFERROR(INDEX(C34:C45, SMALL(IF(\"V\"=F34:F45, ROW(F34:F45)-MIN(ROW(F34:F45))+1, \"\"), ROW() -33 )), \"\")","v":""},{"$f":"IFERROR(INDEX(D34:D45, SMALL(IF(\"V\"=F34:F45, ROW(F34:F45)-MIN(ROW(F34:F45))+1, \"\"), ROW() -33 )), \"\")","v":"20-16670"},{"$f":"IFERROR(INDEX(E34:E45, SMALL(IF(\"V\"=F34:F45, ROW(F34:F45)-MIN(ROW(F34:F45))+1, \"\"), ROW() -33 )), \"\")","v":"Cassidy Eschliman"},{"$f":"IFERROR(INDEX(B34:B45, SMALL(IF(ISNUMBER(SEARCH(\"JV1\",F34:F45)), ROW(F34:F45)-MIN(ROW(F34:F45))+1, \"\"), ROW() -33 )), \"\")","v":""},{"$f":"IFERROR(INDEX(C34:C45, SMALL(IF(ISNUMBER(SEARCH(\"JV1\",F34:F45)), ROW(F34:F45)-MIN(ROW(F34:F45))+1, \"\"), ROW() -33 )), \"\")","v":""},{"$f":"IFERROR(INDEX(D34:D45, SMALL(IF(ISNUMBER(SEARCH(\"JV1\",F34:F45)), ROW(F34:F45)-MIN(ROW(F34:F45))+1, \"\"), ROW() -33 )), \"\")","v":""},{"$f":"IFERROR(INDEX(E34:E45, SMALL(IF(ISNUMBER(SEARCH(\"JV1\",F34:F45)), ROW(F34:F45)-MIN(ROW(F34:F45))+1, \"\"), ROW() -33 )), \"\")","v":""},{"$f":"IFERROR(INDEX(B34:B45, SMALL(IF(ISNUMBER(SEARCH(\"JV2\",F34:F45)), ROW(F34:F45)-MIN(ROW(F34:F45))+1, \"\"), ROW() -33 )), \"\")","v":""},{"$f":"IFERROR(INDEX(C34:C45, SMALL(IF(ISNUMBER(SEARCH(\"JV2\",F34:F45)), ROW(F34:F45)-MIN(ROW(F34:F45))+1, \"\"), ROW() -33 )), \"\")","v":""},{"$f":"IFERROR(INDEX(D34:D45, SMALL(IF(ISNUMBER(SEARCH(\"JV2\",F34:F45)), ROW(F34:F45)-MIN(ROW(F34:F45))+1, \"\"), ROW() -33 )), \"\")","v":""},{"$f":"IFERROR(INDEX(E34:E45, SMALL(IF(ISNUMBER(SEARCH(\"JV2\",F34:F45)), ROW(F34:F45)-MIN(ROW(F34:F45))+1, \"\"), ROW() -33 )), \"\")","v":""}]
[null,"Barton Community College",null,"11-344613","Angelina Leeper",null,null,4505.0,null,false,{"$nulls":17},{"$f":"IFERROR(INDEX(B34:B45, SMALL(IF(\"V\"=F34:F45, ROW(F34:F45)-MIN(ROW(F34:F45))+1, \"\"), ROW() -33 )), \"\")","v":"Barton Community College"},{"$f":"IFERROR(INDEX(C34:C45, SMALL(IF(\"V\"=F34:F45, ROW(F34:F45)-MIN(ROW(F34:F45))+1, \"\"), ROW() -33 )), \"\")","v":""},{"$f":"IFERROR(INDEX(D34:D45, SMALL(IF(\"V\"=F34:F45, ROW(F34:F45)-MIN(ROW(F34:F45))+1, \"\"), ROW() -33 )), \"\")","v":"15-199348"},{"$f":"IFERROR(INDEX(E34:E45, SMALL(IF(\"V\"=F34:F45, ROW(F34:F45)-MIN(ROW(F34:F45))+1, \"\"), ROW() -33 )), \"\")","v":"Cassidy Goans"},{"$f":"IFERROR(INDEX(B34:B45, SMALL(IF(ISNUMBER(SEARCH(\"JV1\",F34:F45)), ROW(F34:F45)-MIN(ROW(F34:F45))+1, \"\"), ROW() -33 )), \"\")","v":""},{"$f":"IFERROR(INDEX(C34:C45, SMALL(IF(ISNUMBER(SEARCH(\"JV1\",F34:F45)), ROW(F34:F45)-MIN(ROW(F34:F45))+1, \"\"), ROW() -33 )), \"\")","v":""},{"$f":"IFERROR(INDEX(D34:D45, SMALL(IF(ISNUMBER(SEARCH(\"JV1\",F34:F45)), ROW(F34:F45)-MIN(ROW(F34:F45))+1, \"\"), ROW() -33 )), \"\")","v":""},{"$f":"IFERROR(INDEX(E34:E45, SMALL(IF(ISNUMBER(SEARCH(\"JV1\",F34:F45)), ROW(F34:F45)-MIN(ROW(F34:F45))+1, \"\"), ROW() -33 )), \"\")","v":""},{"$f":"IFERROR(INDEX(B34:B45, SMALL(IF(ISNUMBER(SEARCH(\"JV2\",F34:F45)), ROW(F34:F45)-MIN(ROW(F34:F45))+1, \"\"), ROW() -33 )), \"\")","v":""},{"$f":"IFERROR(INDEX(C34:C45, SMALL(IF(ISNUMBER(SEARCH(\"JV2\",F34:F45)), ROW(F34:F45)-MIN(ROW(F34:F45))+1, \"\"), ROW() -33 )), \"\")","v":""},{"$f":"IFERROR(INDEX(D34:D45, SMALL(IF(ISNUMBER(SEARCH(\"JV2\",F34:F45)), ROW(F34:F45)-MIN(ROW(F34:F45))+1, \"\"), ROW() -33 )), \"\")","v":""},{"$f":"IFERROR(INDEX(E34:E45, SMALL(IF(ISNUMBER(SEARCH(\"JV2\",F34:F45)), ROW(F34:F45)-MIN(ROW(F34:F45))+1, \"\"), ROW() -33 )), \"\")","v":""}]
[null,"Barton Community College",null,"20-16670","Cassidy Eschliman","V",null,4505.0,null,false,{"$nulls":17},{"$f":"IFERROR(INDEX(B34:B45, SMALL(IF(\"V\"=F34:F45, ROW(F34:F45)-MIN(ROW(F34:F45))+1, \"\"), ROW() -33 )), \"\")","v":"Barton Community College"},{"$f":"IFERROR(INDEX(C34:C45, SMALL(IF(\"V\"=F34:F45, ROW(F34:F45)-MIN(ROW(F34:F45))+1, \"\"), ROW() -33 )), \"\")","v":""},{"$f":"IFERROR(INDEX(D34:D45, SMALL(IF(\"V\"=F34:F45, ROW(F34:F45)-MIN(ROW(F34:F45))+1, \"\"), ROW() -33 )), \"\")","v":"11-595640"},{"$f":"IFERROR(INDEX(E34:E45, SMALL(IF(\"V\"=F34:F45, ROW(F34:F45)-MIN(ROW(F34:F45))+1, \"\"), ROW() -33 )), \"\")","v":"Chailyn Scott"},{"$f":"IFERROR(INDEX(B34:B45, SMALL(IF(ISNUMBER(SEARCH(\"JV1\",F34:F45)), ROW(F34:F45)-MIN(ROW(F34:F45))+1, \"\"), ROW() -33 )), \"\")","v":""},{"$f":"IFERROR(INDEX(C34:C45, SMALL(IF(ISNUMBER(SEARCH(\"JV1\",F34:F45)), ROW(F34:F45)-MIN(ROW(F34:F45))+1, \"\"), ROW() -33 )), \"\")","v":""},{"$f":"IFERROR(INDEX(D34:D45, SMALL(IF(ISNUMBER(SEARCH(\"JV1\",F34:F45)), ROW(F34:F45)-MIN(ROW(F34:F45))+1, \"\"), ROW() -33 )), \"\")","v":""},{"$f":"IFERROR(INDEX(E34:E45, SMALL(IF(ISNUMBER(SEARCH(\"JV1\",F34:F45)), ROW(F34:F45)-MIN(ROW(F34:F45))+1, \"\"), ROW() -33 )), \"\")","v":""},{"$f":"IFERROR(INDEX(B34:B45, SMALL(IF(ISNUMBER(SEARCH(\"JV2\",F34:F45)), ROW(F34:F45)-MIN(ROW(F34:F45))+1, \"\"), ROW() -33 )), \"\")","v":""},{"$f":"IFERROR(INDEX(C34:C45, SMALL(IF(ISNUMBER(SEARCH(\"JV2\",F34:F45)), ROW(F34:F45)-MIN(ROW(F34:F45))+1, \"\"), ROW() -33 )), \"\")","v":""},{"$f":"IFERROR(INDEX(D34:D45, SMALL(IF(ISNUMBER(SEARCH(\"JV2\",F34:F45)), ROW(F34:F45)-MIN(ROW(F34:F45))+1, \"\"), ROW() -33 )), \"\")","v":""},{"$f":"IFERROR(INDEX(E34:E45, SMALL(IF(ISNUMBER(SEARCH(\"JV2\",F34:F45)), ROW(F34:F45)-MIN(ROW(F34:F45))+1, \"\"), ROW() -33 )), \"\")","v":""}]
[null,"Barton Community College",null,"15-199348","Cassidy Goans","V",null,4505.0,null,false,{"$nulls":17},{"$f":"IFERROR(INDEX(B34:B45, SMALL(IF(\"V\"=F34:F45, ROW(F34:F45)-MIN(ROW(F34:F45))+1, \"\"), ROW() -33 )), \"\")","v":"Barton Community College"},{"$f":"IFERROR(INDEX(C34:C45, SMALL(IF(\"V\"=F34:F45, ROW(F34:F45)-MIN(ROW(F34:F45))+1, \"\"), ROW() -33 )), \"\")","v":""},{"$f":"IFERROR(INDEX(D34:D45, SMALL(IF(\"V\"=F34:F45, ROW(F34:F45)-MIN(ROW(F34:F45))+1, \"\"), ROW() -33 )), \"\")","v":"11-648604"},{"$f":"IFERROR(INDEX(E34:E45, SMALL(IF(\"V\"=F34:F45, ROW(F34:F45)-MIN(ROW(F34:F45))+1, \"\"), ROW() -33 )), \"\")","v":"Jaden Rabe"},{"$f":"IFERROR(INDEX(B34:B45, SMALL(IF(ISNUMBER(SEARCH(\"JV1\",F34:F45)), ROW(F34:F45)-MIN(ROW(F34:F45))+1, \"\"), ROW() -33 )), \"\")","v":""},{"$f":"IFERROR(INDEX(C34:C45, SMALL(IF(ISNUMBER(SEARCH(\"JV1\",F34:F45)), ROW(F34:F45)-MIN(ROW(F34:F45))+1, \"\"), ROW() -33 )), \"\")","v":""},{"$f":"IFERROR(INDEX(D34:D45, SMALL(IF(ISNUMBER(SEARCH(\"JV1\",F34:F45)), ROW(F34:F45)-MIN(ROW(F34:F45))+1, \"\"), ROW() -33 )), \"\")","v":""},{"$f":"IFERROR(INDEX(E34:E45, SMALL(IF(ISNUMBER(SEARCH(\"JV1\",F34:F45)), ROW(F34:F45)-MIN(ROW(F34:F45))+1, \"\"), ROW() -33 )), \"\")","v":""},{"$f":"IFERROR(INDEX(B34:B45, SMALL(IF(ISNUMBER(SEARCH(\"JV2\",F34:F45)), ROW(F34:F45)-MIN(ROW(F34:F45))+1, \"\"), ROW() -33 )), \"\")","v":""},{"$f":"IFERROR(INDEX(C34:C45, SMALL(IF(ISNUMBER(SEARCH(\"JV2\",F34:F45)), ROW(F34:F45)-MIN(ROW(F34:F45))+1, \"\"), ROW() -33 )), \"\")","v":""},{"$f":"IFERROR(INDEX(D34:D45, SMALL(IF(ISNUMBER(SEARCH(\"JV2\",F34:F45)), ROW(F34:F45)-MIN(ROW(F34:F45))+1, \"\"), ROW() -33 )), \"\")","v":""},{"$f":"IFERROR(INDEX(E34:E45, SMALL(IF(ISNUMBER(SEARCH(\"JV2\",F34:F45)), ROW(F34:F45)-MIN(ROW(F34:F45))+1, \"\"), ROW() -33 )), \"\")","v":""}]
[null,"Barton Community College",null,"11-595640","Chailyn Scott","V",null,4505.0,null,false,{"$nulls":17},{"$f":"IFERROR(INDEX(B34:B45, SMALL(IF(\"V\"=F34:F45, ROW(F34:F45)-MIN(ROW(F34:F45))+1, \"\"), ROW() -33 )), \"\")","v":"Barton Community College"},{"$f":"IFERROR(INDEX(C34:C45, SMALL(IF(\"V\"=F34:F45, ROW(F34:F45)-MIN(ROW(F34:F45))+1, \"\"), ROW() -33 )), \"\")","v":""},{"$f":"IFERROR(INDEX(D34:D45, SMALL(IF(\"V\"=F34:F45, ROW(F34:F45)-MIN(ROW(F34:F45))+1, \"\"), ROW() -33 )), \"\")","v":"16-4404"},{"$f":"IFERROR(INDEX(E34:E45, SMALL(IF(\"V\"=F34:F45, ROW(F34:F45)-MIN(ROW(F34:F45))+1, \"\"), ROW() -33 )), \"\")","v":"Jasmine Bridges"},{"$f":"IFERROR(INDEX(B34:B45, SMALL(IF(ISNUMBER(SEARCH(\"JV1\",F34:F45)), ROW(F34:F45)-MIN(ROW(F34:F45))+1, \"\"), ROW() -33 )), \"\")","v":""},{"$f":"IFERROR(INDEX(C34:C45, SMALL(IF(ISNUMBER(SEARCH(\"JV1\",F34:F45)), ROW(F34:F45)-MIN(ROW(F34:F45))+1, \"\"), ROW() -33 )), \"\")","v":""},{"$f":"IFERROR(INDEX(D34:D45, SMALL(IF(ISNUMBER(SEARCH(\"JV1\",F34:F45)), ROW(F34:F45)-MIN(ROW(F34:F45))+1, \"\"), ROW() -33 )), \"\")","v":""},{"$f":"IFERROR(INDEX(E34:E45, SMALL(IF(ISNUMBER(SEARCH(\"JV1\",F34:F45)), ROW(F34:F45)-MIN(ROW(F34:F45))+1, \"\"), ROW() -33 )), \"\")","v":""},{"$f":"IFERROR(INDEX(B34:B45, SMALL(IF(ISNUMBER(SEARCH(\"JV2\",F34:F45)), ROW(F34:F45)-MIN(ROW(F34:F45))+1, \"\"), ROW() -33 )), \"\")","v":""},{"$f":"IFERROR(INDEX(C34:C45, SMALL(IF(ISNUMBER(SEARCH(\"JV2\",F34:F45)), ROW(F34:F45)-MIN(ROW(F34:F45))+1, \"\"), ROW() -33 )), \"\")","v":""},{"$f":"IFERROR(INDEX(D34:D45, SMALL(IF(ISNUMBER(SEARCH(\"JV2\",F34:F45)), ROW(F34:F45)-MIN(ROW(F34:F45))+1, \"\"), ROW() -33 )), \"\")","v":""},{"$f":"IFERROR(INDEX(E34:E45, SMALL(IF(ISNUMBER(SEARCH(\"JV2\",F34:F45)), ROW(F34:F45)-MIN(ROW(F34:F45))+1, \"\"), ROW() -33 )), \"\")","v":""}]
[null,"Barton Community College",null,"18-3060","Charlee Bitler",null,null,4505.0,null,false,{"$nulls":17},{"$f":"IFERROR(INDEX(B34:B45, SMALL(IF(\"V\"=F34:F45, ROW(F34:F45)-MIN(ROW(F34:F45))+1, \"\"), ROW() -33 )), \"\")","v":"Barton Community College"},{"$f":"IFERROR(INDEX(C34:C45, SMALL(IF(\"V\"=F34:F45, ROW(F34:F45)-MIN(ROW(F34:F45))+1, \"\"), ROW() -33 )), \"\")","v":""},{"$f":"IFERROR(INDEX(D34:D45, SMALL(IF(\"V\"=F34:F45, ROW(F34:F45)-MIN(ROW(F34:F45))+1, \"\"), ROW() -33 )), \"\")","v":"21-69516"},{"$f":"IFERROR(INDEX(E34:E45, SMALL(IF(\"V\"=F34:F45, ROW(F34:F45)-MIN(ROW(F34:F45))+1, \"\"), ROW() -33 )), \"\")","v":"Morgan Kolanek"},{"$f":"IFERROR(INDEX(B34:B45, SMALL(IF(ISNUMBER(SEARCH(\"JV1\",F34:F45)), ROW(F34:F45)-MIN(ROW(F34:F45))+1, \"\"), ROW() -33 )), \"\")","v":""},{"$f":"IFERROR(INDEX(C34:C45, SMALL(IF(ISNUMBER(SEARCH(\"JV1\",F34:F45)), ROW(F34:F45)-MIN(ROW(F34:F45))+1, \"\"), ROW() -33 )), \"\")","v":""},{"$f":"IFERROR(INDEX(D34:D45, SMALL(IF(ISNUMBER(SEARCH(\"JV1\",F34:F45)), ROW(F34:F45)-MIN(ROW(F34:F45))+1, \"\"), ROW() -33 )), \"\")","v":""},{"$f":"IFERROR(INDEX(E34:E45, SMALL(IF(ISNUMBER(SEARCH(\"JV1\",F34:F45)), ROW(F34:F45)-MIN(ROW(F34:F45))+1, \"\"), ROW() -33 )), \"\")","v":""},{"$f":"IFERROR(INDEX(B34:B45, SMALL(IF(ISNUMBER(SEARCH(\"JV2\",F34:F45)), ROW(F34:F45)-MIN(ROW(F34:F45))+1, \"\"), ROW() -33 )), \"\")","v":""},{"$f":"IFERROR(INDEX(C34:C45, SMALL(IF(ISNUMBER(SEARCH(\"JV2\",F34:F45)), ROW(F34:F45)-MIN(ROW(F34:F45))+1, \"\"), ROW() -33 )), \"\")","v":""},{"$f":"IFERROR(INDEX(D34:D45, SMALL(IF(ISNUMBER(SEARCH(\"JV2\",F34:F45)), ROW(F34:F45)-MIN(ROW(F34:F45))+1, \"\"), ROW() -33 )), \"\")","v":""},{"$f":"IFERROR(INDEX(E34:E45, SMALL(IF(ISNUMBER(SEARCH(\"JV2\",F34:F45)), ROW(F34:F45)-MIN(ROW(F34:F45))+1, \"\"), ROW() -33 )), \"\")","v":""}]
[null,"Barton Community College",null,"19-49406","Cheyenne O'Connor",null,null,4505.0,null,false,{"$nulls":17},{"$f":"IFERROR(INDEX(B34:B45, SMALL(IF(\"V\"=F34:F45, ROW(F34:F45)-MIN(ROW(F34:F45))+1, \"\"), ROW() -33 )), \"\")","v":"Barton Community College"},{"$f":"IFERROR(INDEX(C34:C45, SMALL(IF(\"V\"=F34:F45, ROW(F34:F45)-MIN(ROW(F34:F45))+1, \"\"), ROW() -33 )), \"\")","v":""},{"$f":"IFERROR(INDEX(D34:D45, SMALL(IF(\"V\"=F34:F45, ROW(F34:F45)-MIN(ROW(F34:F45))+1, \"\"), ROW() -33 )), \"\")","v":"11-393971"},{"$f":"IFERROR(INDEX(E34:E45, SMALL(IF(\"V\"=F34:F45, ROW(F34:F45)-MIN(ROW(F34:F45))+1, \"\"), ROW() -33 )), \"\")","v":"Olivia Oliver"},{"$f":"IFERROR(INDEX(B34:B45, SMALL(IF(ISNUMBER(SEARCH(\"JV1\",F34:F45)), ROW(F34:F45)-MIN(ROW(F34:F45))+1, \"\"), ROW() -33 )), \"\")","v":""},{"$f":"IFERROR(INDEX(C34:C45, SMALL(IF(ISNUMBER(SEARCH(\"JV1\",F34:F45)), ROW(F34:F45)-MIN(ROW(F34:F45))+1, \"\"), ROW() -33 )), \"\")","v":""},{"$f":"IFERROR(INDEX(D34:D45, SMALL(IF(ISNUMBER(SEARCH(\"JV1\",F34:F45)), ROW(F34:F45)-MIN(ROW(F34:F45))+1, \"\"), ROW() -33 )), \"\")","v":""},{"$f":"IFERROR(INDEX(E34:E45, SMALL(IF(ISNUMBER(SEARCH(\"JV1\",F34:F45)), ROW(F34:F45)-MIN(ROW(F34:F45))+1, \"\"), ROW() -33 )), \"\")","v":""},{"$f":"IFERROR(INDEX(B34:B45, SMALL(IF(ISNUMBER(SEARCH(\"JV2\",F34:F45)), ROW(F34:F45)-MIN(ROW(F34:F45))+1, \"\"), ROW() -33 )), \"\")","v":""},{"$f":"IFERROR(INDEX(C34:C45, SMALL(IF(ISNUMBER(SEARCH(\"JV2\",F34:F45)), ROW(F34:F45)-MIN(ROW(F34:F45))+1, \"\"), ROW() -33 )), \"\")","v":""},{"$f":"IFERROR(INDEX(D34:D45, SMALL(IF(ISNUMBER(SEARCH(\"JV2\",F34:F45)), ROW(F34:F45)-MIN(ROW(F34:F45))+1, \"\"), ROW() -33 )), \"\")","v":""},{"$f":"IFERROR(INDEX(E34:E45, SMALL(IF(ISNUMBER(SEARCH(\"JV2\",F34:F45)), ROW(F34:F45)-MIN(ROW(F34:F45))+1, \"\"), ROW() -33 )), \"\")","v":""}]
[null,"Barton Community College",null,"11-648604","Jaden Rabe","V",null,4505.0,null,false]
[null,"Barton Community College",null,"16-4404","Jasmine Bridges","V",null,4505.0,null,false]
[null,"Barton Community College",null,"21-69516","Morgan Kolanek","V",null,4505.0,null,false]
[null,"Barton Community College",null,"11-393971","Olivia Oliver","V",null,4505.0,null,false]
[null,"Central Methodist University",null,""," ",null,null,4599.0,null,false,{"$nulls":17},{"$f":"IFERROR(INDEX(B46:B53, SMALL(IF(\"V\"=F46:F53, ROW(F46:F53)-MIN(ROW(F46:F53))+1, \"\"), ROW() -45 )), \"\")","v":"Central Methodist University"},{"$f":"IFERROR(INDEX(C46:C53, SMALL(IF(\"V\"=F46:F53, ROW(F46:F53)-MIN(ROW(F46:F53))+1, \"\"), ROW() -45 )), \"\")","v":""},{"$f":"IFERROR(INDEX(D46:D53, SMALL(IF(\"V\"=F46:F53, ROW(F46:F53)-MIN(ROW(F46:F53))+1, \"\"), ROW() -45 )), \"\")","v":"23-10758"},{"$f":"IFERROR(INDEX(E46:E53, SMALL(IF(\"V\"=F46:F53, ROW(F46:F53)-MIN(ROW(F46:F53))+1, \"\"), ROW() -45 )), \"\")","v":"Janell Whitfield"},{"$f":"IFERROR(INDEX(B46:B53, SMALL(IF(ISNUMBER(SEARCH(\"JV1\",F46:F53)), ROW(F46:F53)-MIN(ROW(F46:F53))+1, \"\"), ROW() -45 )), \"\")","v":""},{"$f":"IFERROR(INDEX(C46:C53, SMALL(IF(ISNUMBER(SEARCH(\"JV1\",F46:F53)), ROW(F46:F53)-MIN(ROW(F46:F53))+1, \"\"), ROW() -45 )), \"\")","v":""},{"$f":"IFERROR(INDEX(D46:D53, SMALL(IF(ISNUMBER(SEARCH(\"JV1\",F46:F53)), ROW(F46:F53)-MIN(ROW(F46:F53))+1, \"\"), ROW() -45 )), \"\")","v":""},{"$f":"IFERROR(INDEX(E46:E53, SMALL(IF(ISNUMBER(SEARCH(\"JV1\",F46:F53)), ROW(F46:F53)-MIN(ROW(F46:F53))+1, \"\"), ROW() -45 )), \"\")","v":""},{"$f":"IFERROR(INDEX(B46:B53, SMALL(IF(ISNUMBER(SEARCH(\"JV2\",F46:F53)), ROW(F46:F53)-MIN(ROW(F46:F53))+1, \"\"), ROW() -45 )), \"\")","v":""},{"$f":"IFERROR(INDEX(C46:C53, SMALL(IF(ISNUMBER(SEARCH(\"JV2\",F46:F53)), ROW(F46:F53)-MIN(ROW(F46:F53))+1, \"\"), ROW() -45 )), \"\")","v":""},{"$f":"IFERROR(INDEX(D46:D53, SMALL(IF(ISNUMBER(SEARCH(\"JV2\",F46:F53)), ROW(F46:F53)-MIN(ROW(F46:F53))+1, \"\"), ROW() -45 )), \"\")","v":""},{"$f":"IFERROR(INDEX(E46:E53, SMALL(IF(ISNUMBER(SEARCH(\"JV2\",F46:F53)), ROW(F46:F53)-MIN(ROW(F46:F53))+1, \"\"), ROW() -45 )), \"\")","v":""}]
[null,"Central Methodist University",null,""," ",null,null,4599.0,null,false,{"$nulls":17},{"$f":"IFERROR(INDEX(B46:B53, SMALL(IF(\"V\"=F46:F53, ROW(F46:F53)-MIN(ROW(F46:F53))+1, \"\"), ROW() -45 )), \"\")","v":"Central Methodist University"},{"$f":"IFERROR(INDEX(C46:C53, SMALL(IF(\"V\"=F46:F53, ROW(F46:F53)-MIN(ROW(F46:F53))+1, \"\"), ROW() -45 )), \"\")","v":""},{"$f":"IFERROR(INDEX(D46:D53, SMALL(IF(\"V\"=F46:F53, ROW(F46:F53)-MIN(ROW(F46:F53))+1, \"\"), ROW() -45 )), \"\")","v":"23-10761"},{"$f":"IFERROR(INDEX(E46:E53, SMALL(IF(\"V\"=F46:F53, ROW(F46:F53)-MIN(ROW(F46:F53))+1, \"\"), ROW() -45 )), \"\")","v":"Lauren Williams"},{"$f":"IFERROR(INDEX(B46:B53, SMALL(IF(ISNUMBER(SEARCH(\"JV1\",F46:F53)), ROW(F46:F53)-MIN(ROW(F46:F53))+1, \"\"), ROW() -45 )), \"\")","v":""},{"$f":"IFERROR(INDEX(C46:C53, SMALL(IF(ISNUMBER(SEARCH(\"JV1\",F46:F53)), ROW(F46:F53)-MIN(ROW(F46:F53))+1, \"\"), ROW() -45 )), \"\")","v":""},{"$f":"IFERROR(INDEX(D46:D53, SMALL(IF(ISNUMBER(SEARCH(\"JV1\",F46:F53)), ROW(F46:F53)-MIN(ROW(F46:F53))+1, \"\"), ROW() -45 )), \"\")","v":""},{"$f":"IFERROR(INDEX(E46:E53, SMALL(IF(ISNUMBER(SEARCH(\"JV1\",F46:F53)), ROW(F46:F53)-MIN(ROW(F46:F53))+1, \"\"), ROW() -45 )), \"\")","v":""},{"$f":"IFERROR(INDEX(B46:B53, SMALL(IF(ISNUMBER(SEARCH(\"JV2\",F46:F53)), ROW(F46:F53)-MIN(ROW(F46:F53))+1, \"\"), ROW() -45 )), \"\")","v":""},{"$f":"IFERROR(INDEX(C46:C53, SMALL(IF(ISNUMBER(SEARCH(\"JV2\",F46:F53)), ROW(F46:F53)-MIN(ROW(F46:F53))+1, \"\"), ROW() -45 )), \"\")","v":""},{"$f":"IFERROR(INDEX(D46:D53, SMALL(IF(ISNUMBER(SEARCH(\"JV2\",F46:F53)), ROW(F46:F53)-MIN(ROW(F46:F53))+1, \"\"), ROW() -45 )), \"\")","v":""},{"$f":"IFERROR(INDEX(E46:E53, SMALL(IF(ISNUMBER(SEARCH(\"JV2\",F46:F53)), ROW(F46:F53)-MIN(ROW(F46:F53))+1, \"\"), ROW() -45 )), \"\")","v":""}]
[null,"Central Methodist University",null,""," ",null,null,4599.0,null,false,{"$nulls":17},{"$f":"IFERROR(INDEX(B46:B53, SMALL(IF(\"V\"=F46:F53, ROW(F46:F53)-MIN(ROW(F46:F53))+1, \"\"), ROW() -45 )), \"\")","v":"Central Methodist University"},{"$f":"IFERROR(INDEX(C46:C53, SMALL(IF(\"V\"=F46:F53, ROW(F46:F53)-MIN(ROW(F46:F53))+1, \"\"), ROW() -45 )), \"\")","v":""},{"$f":"IFERROR(INDEX(D46:D53, SMALL(IF(\"V\"=F46:F53, ROW(F46:F53)-MIN(ROW(F46:F53))+1, \"\"), ROW() -45 )), \"\")","v":"11-548891"},{"$f":"IFERROR(INDEX(E46:E53, SMALL(IF(\"V\"=F46:F53, ROW(F46:F53)-MIN(ROW(F46:F53))+1, \"\"), ROW() -45 )), \"\")","v":"Maya Elliott"},{"$f":"IFERROR(INDEX(B46:B53, SMALL(IF(ISNUMBER(SEARCH(\"JV1\",F46:F53)), ROW(F46:F53)-MIN(ROW(F46:F53))+1, \"\"), ROW() -45 )), \"\")","v":""},{"$f":"IFERROR(INDEX(C46:C53, SMALL(IF(ISNUMBER(SEARCH(\"JV1\",F46:F53)), ROW(F46:F53)-MIN(ROW(F46:F53))+1, \"\"), ROW() -45 )), \"\")","v":""},{"$f":"IFERROR(INDEX(D46:D53, SMALL(IF(ISNUMBER(SEARCH(\"JV1\",F46:F53)), ROW(F46:F53)-MIN(ROW(F46:F53))+1, \"\"), ROW() -45 )), \"\")","v":""},{"$f":"IFERROR(INDEX(E46:E53, SMALL(IF(ISNUMBER(SEARCH(\"JV1\",F46:F53)), ROW(F46:F53)-MIN(ROW(F46:F53))+1, \"\"), ROW() -45 )), \"\")","v":""},{"$f":"IFERROR(INDEX(B46:B53, SMALL(IF(ISNUMBER(SEARCH(\"JV2\",F46:F53)), ROW(F46:F53)-MIN(ROW(F46:F53))+1, \"\"), ROW() -45 )), \"\")","v":""},{"$f":"IFERROR(INDEX(C46:C53, SMALL(IF(ISNUMBER(SEARCH(\"JV2\",F46:F53)), ROW(F46:F53)-MIN(ROW(F46:F53))+1, \"\"), ROW() -45 )), \"\")","v":""},{"$f":"IFERROR(INDEX(D46:D53, SMALL(IF(ISNUMBER(SEARCH(\"JV2\",F46:F53)), ROW(F46:F53)-MIN(ROW(F46:F53))+1, \"\"), ROW() -45 )), \"\")","v":""},{"$f":"IFERROR(INDEX(E46:E53, SMALL(IF(ISNUMBER(SEARCH(\"JV2\",F46:F53)), ROW(F46:F53)-MIN(ROW(F46:F53))+1, \"\"), ROW() -45 )), \"\")","v":""}]
[null,"Central Methodist University",null,"23-10758","Janell Whitfield","V",null,4599.0,null,false,{"$nulls":17},{"$f":"IFERROR(INDEX(B46:B53, SMALL(IF(\"V\"=F46:F53, ROW(F46:F53)-MIN(ROW(F46:F53))+1, \"\"), ROW() -45 )), \"\")","v":""},{"$f":"IFERROR(INDEX(C46:C53, SMALL(IF(\"V\"=F46:F53, ROW(F46:F53)-MIN(ROW(F46:F53))+1, \"\"), ROW() -45 )), \"\")","v":""},{"$f":"IFERROR(INDEX(D46:D53, SMALL(IF(\"V\"=F46:F53, ROW(F46:F53)-MIN(ROW(F46:F53))+1, \"\"), ROW() -45 )), \"\")","v":""},{"$f":"IFERROR(INDEX(E46:E53, SMALL(IF(\"V\"=F46:F53, ROW(F46:F53)-MIN(ROW(F46:F53))+1, \"\"), ROW() -45 )), \"\")","v":""},{"$f":"IFERROR(INDEX(B46:B53, SMALL(IF(ISNUMBER(SEARCH(\"JV1\",F46:F53)), ROW(F46:F53)-MIN(ROW(F46:F53))+1, \"\"), ROW() -45 )), \"\")","v":""},{"$f":"IFERROR(INDEX(C46:C53, SMALL(IF(ISNUMBER(SEARCH(\"JV1\",F46:F53)), ROW(F46:F53)-MIN(ROW(F46:F53))+1, \"\"), ROW() -45 )), \"\")","v":""},{"$f":"IFERROR(INDEX(D46:D53, SMALL(IF(ISNUMBER(SEARCH(\"JV1\",F46:F53)), ROW(F46:F53)-MIN(ROW(F46:F53))+1, \"\"), ROW() -45 )), \"\")","v":""},{"$f":"IFERROR(INDEX(E46:E53, SMALL(IF(ISNUMBER(SEARCH(\"JV1\",F46:F53)), ROW(F46:F53)-MIN(ROW(F46:F53))+1, \"\"), ROW() -45 )), \"\")","v":""},{"$f":"IFERROR(INDEX(B46:B53, SMALL(IF(ISNUMBER(SEARCH(\"JV2\",F46:F53)), ROW(F46:F53)-MIN(ROW(F46:F53))+1, \"\"), ROW() -45 )), \"\")","v":""},{"$f":"IFERROR(INDEX(C46:C53, SMALL(IF(ISNUMBER(SEARCH(\"JV2\",F46:F53)), ROW(F46:F53)-MIN(ROW(F46:F53))+1, \"\"), ROW() -45 )), \"\")","v":""},{"$f":"IFERROR(INDEX(D46:D53, SMALL(IF(ISNUMBER(SEARCH(\"JV2\",F46:F53)), ROW(F46:F53)-MIN(ROW(F46:F53))+1, \"\"), ROW() -45 )), \"\")","v":""},{"$f":"IFERROR(INDEX(E46:E53, SMALL(IF(ISNUMBER(SEARCH(\"JV2\",F46:F53)), ROW(F46:F53)-MIN(ROW(F46:F53))+1, \"\"), ROW() -45 )), \"\")","v":""}]
[null,"Central Methodist University",null,"8725-3664","Jessica Bennett",null,null,4599.0,null,false,{"$nulls":17},{"$f":"IFERROR(INDEX(B46:B53, SMALL(IF(\"V\"=F46:F53, ROW(F46:F53)-MIN(ROW(F46:F53))+1, \"\"), ROW() -45 )), \"\")","v":""},{"$f":"IFERROR(INDEX(C46:C53, SMALL(IF(\"V\"=F46:F53, ROW(F46:F53)-MIN(ROW(F46:F53))+1, \"\"), ROW() -45 )), \"\")","v":""},{"$f":"IFERROR(INDEX(D46:D53, SMALL(IF(\"V\"=F46:F53, ROW(F46:F53)-MIN(ROW(F46:F53))+1, \"\"), ROW() -45 )), \"\")","v":""},{"$f":"IFERROR(INDEX(E46:E53, SMALL(IF(\"V\"=F46:F53, ROW(F46:F53)-MIN(ROW(F46:F53))+1, \"\"), ROW() -45 )), \"\")","v":""},{"$f":"IFERROR(INDEX(B46:B53, SMALL(IF(ISNUMBER(SEARCH(\"JV1\",F46:F53)), ROW(F46:F53)-MIN(ROW(F46:F53))+1, \"\"), ROW() -45 )), \"\")","v":""},{"$f":"IFERROR(INDEX(C46:C53, SMALL(IF(ISNUMBER(SEARCH(\"JV1\",F46:F53)), ROW(F46:F53)-MIN(ROW(F46:F53))+1, \"\"), ROW() -45 )), \"\")","v":""},{"$f":"IFERROR(INDEX(D46:D53, SMALL(IF(ISNUMBER(SEARCH(\"JV1\",F46:F53)), ROW(F46:F53)-MIN(ROW(F46:F53))+1, \"\"), ROW() -45 )), \"\")","v":""},{"$f":"IFERROR(INDEX(E46:E53, SMALL(IF(ISNUMBER(SEARCH(\"JV1\",F46:F53)), ROW(F46:F53)-MIN(ROW(F46:F53))+1, \"\"), ROW() -45 )), \"\")","v":""},{"$f":"IFERROR(INDEX(B46:B53, SMALL(IF(ISNUMBER(SEARCH(\"JV2\",F46:F53)), ROW(F46:F53)-MIN(ROW(F46:F53))+1, \"\"), ROW() -45 )), \"\")","v":""},{"$f":"IFERROR(INDEX(C46:C53, SMALL(IF(ISNUMBER(SEARCH(\"JV2\",F46:F53)), ROW(F46:F53)-MIN(ROW(F46:F53))+1, \"\"), ROW() -45 )), \"\")","v":""},{"$f":"IFERROR(INDEX(D46:D53, SMALL(IF(ISNUMBER(SEARCH(\"JV2\",F46:F53)), ROW(F46:F53)-MIN(ROW(F46:F53))+1, \"\"), ROW() -45 )), \"\")","v":""},{"$f":"IFERROR(INDEX(E46:E53, SMALL(IF(ISNUMBER(SEARCH(\"JV2\",F46:F53)), ROW(F46:F53)-MIN(ROW(F46:F53))+1, \"\"), ROW() -45 )), \"\")","v":""}]
[null,"Central Methodist University",null,"23-10761","Lauren Williams","V",null,4599.0,null,false,{"$nulls":17},{"$f":"IFERROR(INDEX(B46:B53, SMALL(IF(\"V\"=F46:F53, ROW(F46:F53)-MIN(ROW(F46:F53))+1, \"\"), ROW() -45 )), \"\")","v":""},{"$f":"IFERROR(INDEX(C46:C53, SMALL(IF(\"V\"=F46:F53, ROW(F46:F53)-MIN(ROW(F46:F53))+1, \"\"), ROW() -45 )), \"\")","v":""},{"$f":"IFERROR(INDEX(D46:D53, SMALL(IF(\"V\"=F46:F53, ROW(F46:F53)-MIN(ROW(F46:F53))+1, \"\"), ROW() -45 )), \"\")","v":""},{"$f":"IFERROR(INDEX(E46:E53, SMALL(IF(\"V\"=F46:F53, ROW(F46:F53)-MIN(ROW(F46:F53))+1, \"\"), ROW() -45 )), \"\")","v":""},{"$f":"IFERROR(INDEX(B46:B53, SMALL(IF(ISNUMBER(SEARCH(\"JV1\",F46:F53)), ROW(F46:F53)-MIN(ROW(F46:F53))+1, \"\"), ROW() -45 )), \"\")","v":""},{"$f":"IFERROR(INDEX(C46:C53, SMALL(IF(ISNUMBER(SEARCH(\"JV1\",F46:F53)), ROW(F46:F53)-MIN(ROW(F46:F53))+1, \"\"), ROW() -45 )), \"\")","v":""},{"$f":"IFERROR(INDEX(D46:D53, SMALL(IF(ISNUMBER(SEARCH(\"JV1\",F46:F53)), ROW(F46:F53)-MIN(ROW(F46:F53))+1, \"\"), ROW() -45 )), \"\")","v":""},{"$f":"IFERROR(INDEX(E46:E53, SMALL(IF(ISNUMBER(SEARCH(\"JV1\",F46:F53)), ROW(F46:F53)-MIN(ROW(F46:F53))+1, \"\"), ROW() -45 )), \"\")","v":""},{"$f":"IFERROR(INDEX(B46:B53, SMALL(IF(ISNUMBER(SEARCH(\"JV2\",F46:F53)), ROW(F46:F53)-MIN(ROW(F46:F53))+1, \"\"), ROW() -45 )), \"\")","v":""},{"$f":"IFERROR(INDEX(C46:C53, SMALL(IF(ISNUMBER(SEARCH(\"JV2\",F46:F53)), ROW(F46:F53)-MIN(ROW(F46:F53))+1, \"\"), ROW() -45 )), \"\")","v":""},{"$f":"IFERROR(INDEX(D46:D53, SMALL(IF(ISNUMBER(SEARCH(\"JV2\",F46:F53)), ROW(F46:F53)-MIN(ROW(F46:F53))+1, \"\"), ROW() -45 )), \"\")","v":""},{"$f":"IFERROR(INDEX(E46:E53, SMALL(IF(ISNUMBER(SEARCH(\"JV2\",F46:F53)), ROW(F46:F53)-MIN(ROW(F46:F53))+1, \"\"), ROW() -45 )), \"\")","v":""}]
[null,"Central Methodist University",null,"11-341874","Logan Allen",null,null,4599.0,null,false,{"$nulls":17},{"$f":"IFERROR(INDEX(B46:B53, SMALL(IF(\"V\"=F46:F53, ROW(F46:F53)-MIN(ROW(F46:F53))+1, \"\"), ROW() -45 )), \"\")","v":""},{"$f":"IFERROR(INDEX(C46:C53, SMALL(IF(\"V\"=F46:F53, ROW(F46:F53)-MIN(ROW(F46:F53))+1, \"\"), ROW() -45 )), \"\")","v":""},{"$f":"IFERROR(INDEX(D46:D53, SMALL(IF(\"V\"=F46:F53, ROW(F46:F53)-MIN(ROW(F46:F53))+1, \"\"), ROW() -45 )), \"\")","v":""},{"$f":"IFERROR(INDEX(E46:E53, SMALL(IF(\"V\"=F46:F53, ROW(F46:F53)-MIN(ROW(F46:F53))+1, \"\"), ROW() -45 )), \"\")","v":""},{"$f":"IFERROR(INDEX(B46:B53, SMALL(IF(ISNUMBER(SEARCH(\"JV1\",F46:F53)), ROW(F46:F53)-MIN(ROW(F46:F53))+1, \"\"), ROW() -45 )), \"\")","v":""},{"$f":"IFERROR(INDEX(C46:C53, SMALL(IF(ISNUMBER(SEARCH(\"JV1\",F46:F53)), ROW(F46:F53)-MIN(ROW(F46:F53))+1, \"\"), ROW() -45 )), \"\")","v":""},{"$f":"IFERROR(INDEX(D46:D53, SMALL(IF(ISNUMBER(SEARCH(\"JV1\",F46:F53)), ROW(F46:F53)-MIN(ROW(F46:F53))+1, \"\"), ROW() -45 )), \"\")","v":""},{"$f":"IFERROR(INDEX(E46:E53, SMALL(IF(ISNUMBER(SEARCH(\"JV1\",F46:F53)), ROW(F46:F53)-MIN(ROW(F46:F53))+1, \"\"), ROW() -45 )), \"\")","v":""},{"$f":"IFERROR(INDEX(B46:B53, SMALL(IF(ISNUMBER(SEARCH(\"JV2\",F46:F53)), ROW(F46:F53)-MIN(ROW(F46:F53))+1, \"\"), ROW() -45 )), \"\")","v":""},{"$f":"IFERROR(INDEX(C46:C53, SMALL(IF(ISNUMBER(SEARCH(\"JV2\",F46:F53)), ROW(F46:F53)-MIN(ROW(F46:F53))+1, \"\"), ROW() -45 )), \"\")","v":""},{"$f":"IFERROR(INDEX(D46:D53, SMALL(IF(ISNUMBER(SEARCH(\"JV2\",F46:F53)), ROW(F46:F53)-MIN(ROW(F46:F53))+1, \"\"), ROW() -45 )), \"\")","v":""},{"$f":"IFERROR(INDEX(E46:E53, SMALL(IF(ISNUMBER(SEARCH(\"JV2\",F46:F53)), ROW(F46:F53)-MIN(ROW(F46:F53))+1, \"\"), ROW() -45 )), \"\")","v":""}]
[null,"Central Methodist University",null,"11-548891","Maya Elliott","V",null,4599.0,null,false,{"$nulls":17},{"$f":"IFERROR(INDEX(B46:B53, SMALL(IF(\"V\"=F46:F53, ROW(F46:F53)-MIN(ROW(F46:F53))+1, \"\"), ROW() -45 )), \"\")","v":""},{"$f":"IFERROR(INDEX(C46:C53, SMALL(IF(\"V\"=F46:F53, ROW(F46:F53)-MIN(ROW(F46:F53))+1, \"\"), ROW() -45 )), \"\")","v":""},{"$f":"IFERROR(INDEX(D46:D53, SMALL(IF(\"V\"=F46:F53, ROW(F46:F53)-MIN(ROW(F46:F53))+1, \"\"), ROW() -45 )), \"\")","v":""},{"$f":"IFERROR(INDEX(E46:E53, SMALL(IF(\"V\"=F46:F53, ROW(F46:F53)-MIN(ROW(F46:F53))+1, \"\"), ROW() -45 )), \"\")","v":""},{"$f":"IFERROR(INDEX(B46:B53, SMALL(IF(ISNUMBER(SEARCH(\"JV1\",F46:F53)), ROW(F46:F53)-MIN(ROW(F46:F53))+1, \"\"), ROW() -45 )), \"\")","v":""},{"$f":"IFERROR(INDEX(C46:C53, SMALL(IF(ISNUMBER(SEARCH(\"JV1\",F46:F53)), ROW(F46:F53)-MIN(ROW(F46:F53))+1, \"\"), ROW() -45 )), \"\")","v":""},{"$f":"IFERROR(INDEX(D46:D53, SMALL(IF(ISNUMBER(SEARCH(\"JV1\",F46:F53)), ROW(F46:F53)-MIN(ROW(F46:F53))+1, \"\"), ROW() -45 )), \"\")","v":""},{"$f":"IFERROR(INDEX(E46:E53, SMALL(IF(ISNUMBER(SEARCH(\"JV1\",F46:F53)), ROW(F46:F53)-MIN(ROW(F46:F53))+1, \"\"), ROW() -45 )), \"\")","v":""},{"$f":"IFERROR(INDEX(B46:B53, SMALL(IF(ISNUMBER(SEARCH(\"JV2\",F46:F53)), ROW(F46:F53)-MIN(ROW(F46:F53))+1, \"\"), ROW() -45 )), \"\")","v":""},{"$f":"IFERROR(INDEX(C46:C53, SMALL(IF(ISNUMBER(SEARCH(\"JV2\",F46:F53)), ROW(F46:F53)-MIN(ROW(F46:F53))+1, \"\"), ROW() -45 )), \"\")","v":""},{"$f":"IFERROR(INDEX(D46:D53, SMALL(IF(ISNUMBER(SEARCH(\"JV2\",F46:F53)), ROW(F46:F53)-MIN(ROW(F46:F53))+1, \"\"), ROW() -45 )), \"\")","v":""},{"$f":"IFERROR(INDEX(E46:E53, SMALL(IF(ISNUMBER(SEARCH(\"JV2\",F46:F53)), ROW(F46:F53)-MIN(ROW(F46:F53))+1, \"\"), ROW() -45 )), \"\")","v":""}]
[null,"Clarke University",null,"7914-34066","Emily Larson","V",null,3464.0,null,false,{"$nulls":17},{"$f":"IFERROR(INDEX(B54:B61, SMALL(IF(\"V\"=F54:F61, ROW(F54:F61)-MIN(ROW(F54:F61))+1, \"\"), ROW() -53 )), \"\")","v":"Clarke University"},{"$f":"IFERROR(INDEX(C54:C61, SMALL(IF(\"V\"=F54:F61, ROW(F54:F61)-MIN(ROW(F54:F61))+1, \"\"), ROW() -53 )), \"\")","v":""},{"$f":"IFERROR(INDEX(D54:D61, SMALL(IF(\"V\"=F54:F61, ROW(F54:F61)-MIN(ROW(F54:F61))+1, \"\"), ROW() -53 )), \"\")","v":"7914-34066"},{"$f":"IFERROR(INDEX(E54:E61, SMALL(IF(\"V\"=F54:F61, ROW(F54:F61)-MIN(ROW(F54:F61))+1, \"\"), ROW() -53 )), \"\")","v":"Emily Larson"},{"$f":"IFERROR(INDEX(B54:B61, SMALL(IF(ISNUMBER(SEARCH(\"JV1\",F54:F61)), ROW(F54:F61)-MIN(ROW(F54:F61))+1, \"\"), ROW() -53 )), \"\")","v":""},{"$f":"IFERROR(INDEX(C54:C61, SMALL(IF(ISNUMBER(SEARCH(\"JV1\",F54:F61)), ROW(F54:F61)-MIN(ROW(F54:F61))+1, \"\"), ROW() -53 )), \"\")","v":""},{"$f":"IFERROR(INDEX(D54:D61, SMALL(IF(ISNUMBER(SEARCH(\"JV1\",F54:F61)), ROW(F54:F61)-MIN(ROW(F54:F61))+1, \"\"), ROW() -53 )), \"\")","v":""},{"$f":"IFERROR(INDEX(E54:E61, SMALL(IF(ISNUMBER(SEARCH(\"JV1\",F54:F61)), ROW(F54:F61)-MIN(ROW(F54:F61))+1, \"\"), ROW() -53 )), \"\")","v":""},{"$f":"IFERROR(INDEX(B54:B61, SMALL(IF(ISNUMBER(SEARCH(\"JV2\",F54:F61)), ROW(F54:F61)-MIN(ROW(F54:F61))+1, \"\"), ROW() -53 )), \"\")","v":""},{"$f":"IFERROR(INDEX(C54:C61, SMALL(IF(ISNUMBER(SEARCH(\"JV2\",F54:F61)), ROW(F54:F61)-MIN(ROW(F54:F61))+1, \"\"), ROW() -53 )), \"\")","v":""},{"$f":"IFERROR(INDEX(D54:D61, SMALL(IF(ISNUMBER(SEARCH(\"JV2\",F54:F61)), ROW(F54:F61)-MIN(ROW(F54:F61))+1, \"\"), ROW() -53 )), \"\")","v":""},{"$f":"IFERROR(INDEX(E54:E61, SMALL(IF(ISNUMBER(SEARCH(\"JV2\",F54:F61)), ROW(F54:F61)-MIN(ROW(F54:F61))+1, \"\"), ROW() -53 )), \"\")","v":""}]
[null,"Clarke University",null,"17-18731","Emma Clancy","V",null,3464.0,null,false,{"$nulls":17},{"$f":"IFERROR(INDEX(B54:B61, SMALL(IF(\"V\"=F54:F61, ROW(F54:F61)-MIN(ROW(F54:F61))+1, \"\"), ROW() -53 )), \"\")","v":"Clarke University"},{"$f":"IFERROR(INDEX(C54:C61, SMALL(IF(\"V\"=F54:F61, ROW(F54:F61)-MIN(ROW(F54:F61))+1, \"\"), ROW() -53 )), \"\")","v":""},{"$f":"IFERROR(INDEX(D54:D61, SMALL(IF(\"V\"=F54:F61, ROW(F54:F61)-MIN(ROW(F54:F61))+1, \"\"), ROW() -53 )), \"\")","v":"17-18731"},{"$f":"IFERROR(INDEX(E54:E61, SMALL(IF(\"V\"=F54:F61, ROW(F54:F61)-MIN(ROW(F54:F61))+1, \"\"), ROW() -53 )), \"\")","v":"Emma Clancy"},{"$f":"IFERROR(INDEX(B54:B61, SMALL(IF(ISNUMBER(SEARCH(\"JV1\",F54:F61)), ROW(F54:F61)-MIN(ROW(F54:F61))+1, \"\"), ROW() -53 )), \"\")","v":""},{"$f":"IFERROR(INDEX(C54:C61, SMALL(IF(ISNUMBER(SEARCH(\"JV1\",F54:F61)), ROW(F54:F61)-MIN(ROW(F54:F61))+1, \"\"), ROW() -53 )), \"\")","v":""},{"$f":"IFERROR(INDEX(D54:D61, SMALL(IF(ISNUMBER(SEARCH(\"JV1\",F54:F61)), ROW(F54:F61)-MIN(ROW(F54:F61))+1, \"\"), ROW() -53 )), \"\")","v":""},{"$f":"IFERROR(INDEX(E54:E61, SMALL(IF(ISNUMBER(SEARCH(\"JV1\",F54:F61)), ROW(F54:F61)-MIN(ROW(F54:F61))+1, \"\"), ROW() -53 )), \"\")","v":""},{"$f":"IFERROR(INDEX(B54:B61, SMALL(IF(ISNUMBER(SEARCH(\"JV2\",F54:F61)), ROW(F54:F61)-MIN(ROW(F54:F61))+1, \"\"), ROW() -53 )), \"\")","v":""},{"$f":"IFERROR(INDEX(C54:C61, SMALL(IF(ISNUMBER(SEARCH(\"JV2\",F54:F61)), ROW(F54:F61)-MIN(ROW(F54:F61))+1, \"\"), ROW() -53 )), \"\")","v":""},{"$f":"IFERROR(INDEX(D54:D61, SMALL(IF(ISNUMBER(SEARCH(\"JV2\",F54:F61)), ROW(F54:F61)-MIN(ROW(F54:F61))+1, \"\"), ROW() -53 )), \"\")","v":""},{"$f":"IFERROR(INDEX(E54:E61, SMALL(IF(ISNUMBER(SEARCH(\"JV2\",F54:F61)), ROW(F54:F61)-MIN(ROW(F54:F61))+1, \"\"), ROW() -53 )), \"\")","v":""}]
[null,"Clarke University",null,"18-54066","Jennifer Hayakawa","V",null,3464.0,null,false,{"$nulls":17},{"$f":"IFERROR(INDEX(B54:B61, SMALL(IF(\"V\"=F54:F61, ROW(F54:F61)-MIN(ROW(F54:F61))+1, \"\"), ROW() -53 )), \"\")","v":"Clarke University"},{"$f":"IFERROR(INDEX(C54:C61, SMALL(IF(\"V\"=F54:F61, ROW(F54:F61)-MIN(ROW(F54:F61))+1, \"\"), ROW() -53 )), \"\")","v":""},{"$f":"IFERROR(INDEX(D54:D61, SMALL(IF(\"V\"=F54:F61, ROW(F54:F61)-MIN(ROW(F54:F61))+1, \"\"), ROW() -53 )), \"\")","v":"18-54066"},{"$f":"IFERROR(INDEX(E54:E61, SMALL(IF(\"V\"=F54:F61, ROW(F54:F61)-MIN(ROW(F54:F61))+1, \"\"), ROW() -53 )), \"\")","v":"Jennifer Hayakawa"},{"$f":"IFERROR(INDEX(B54:B61, SMALL(IF(ISNUMBER(SEARCH(\"JV1\",F54:F61)), ROW(F54:F61)-MIN(ROW(F54:F61))+1, \"\"), ROW() -53 )), \"\")","v":""},{"$f":"IFERROR(INDEX(C54:C61, SMALL(IF(ISNUMBER(SEARCH(\"JV1\",F54:F61)), ROW(F54:F61)-MIN(ROW(F54:F61))+1, \"\"), ROW() -53 )), \"\")","v":""},{"$f":"IFERROR(INDEX(D54:D61, SMALL(IF(ISNUMBER(SEARCH(\"JV1\",F54:F61)), ROW(F54:F61)-MIN(ROW(F54:F61))+1, \"\"), ROW() -53 )), \"\")","v":""},{"$f":"IFERROR(INDEX(E54:E61, SMALL(IF(ISNUMBER(SEARCH(\"JV1\",F54:F61)), ROW(F54:F61)-MIN(ROW(F54:F61))+1, \"\"), ROW() -53 )), \"\")","v":""},{"$f":"IFERROR(INDEX(B54:B61, SMALL(IF(ISNUMBER(SEARCH(\"JV2\",F54:F61)), ROW(F54:F61)-MIN(ROW(F54:F61))+1, \"\"), ROW() -53 )), \"\")","v":""},{"$f":"IFERROR(INDEX(C54:C61, SMALL(IF(ISNUMBER(SEARCH(\"JV2\",F54:F61)), ROW(F54:F61)-MIN(ROW(F54:F61))+1, \"\"), ROW() -53 )), \"\")","v":""},{"$f":"IFERROR(INDEX(D54:D61, SMALL(IF(ISNUMBER(SEARCH(\"JV2\",F54:F61)), ROW(F54:F61)-MIN(ROW(F54:F61))+1, \"\"), ROW() -53 )), \"\")","v":""},{"$f":"IFERROR(INDEX(E54:E61, SMALL(IF(ISNUMBER(SEARCH(\"JV2\",F54:F61)), ROW(F54:F61)-MIN(ROW(F54:F61))+1, \"\"), ROW() -53 )), \"\")","v":""}]
[null,"Clarke University",null,"5832-2273","Kassidy Gerken","V",null,3464.0,null,false,{"$nulls":17},{"$f":"IFERROR(INDEX(B54:B61, SMALL(IF(\"V\"=F54:F61, ROW(F54:F61)-MIN(ROW(F54:F61))+1, \"\"), ROW() -53 )), \"\")","v":"Clarke University"},{"$f":"IFERROR(INDEX(C54:C61, SMALL(IF(\"V\"=F54:F61, ROW(F54:F61)-MIN(ROW(F54:F61))+1, \"\"), ROW() -53 )), \"\")","v":""},{"$f":"IFERROR(INDEX(D54:D61, SMALL(IF(\"V\"=F54:F61, ROW(F54:F61)-MIN(ROW(F54:F61))+1, \"\"), ROW() -53 )), \"\")","v":"5832-2273"},{"$f":"IFERROR(INDEX(E54:E61, SMALL(IF(\"V\"=F54:F61, ROW(F54:F61)-MIN(ROW(F54:F61))+1, \"\"), ROW() -53 )), \"\")","v":"Kassidy Gerken"},{"$f":"IFERROR(INDEX(B54:B61, SMALL(IF(ISNUMBER(SEARCH(\"JV1\",F54:F61)), ROW(F54:F61)-MIN(ROW(F54:F61))+1, \"\"), ROW() -53 )), \"\")","v":""},{"$f":"IFERROR(INDEX(C54:C61, SMALL(IF(ISNUMBER(SEARCH(\"JV1\",F54:F61)), ROW(F54:F61)-MIN(ROW(F54:F61))+1, \"\"), ROW() -53 )), \"\")","v":""},{"$f":"IFERROR(INDEX(D54:D61, SMALL(IF(ISNUMBER(SEARCH(\"JV1\",F54:F61)), ROW(F54:F61)-MIN(ROW(F54:F61))+1, \"\"), ROW() -53 )), \"\")","v":""},{"$f":"IFERROR(INDEX(E54:E61, SMALL(IF(ISNUMBER(SEARCH(\"JV1\",F54:F61)), ROW(F54:F61)-MIN(ROW(F54:F61))+1, \"\"), ROW() -53 )), \"\")","v":""},{"$f":"IFERROR(INDEX(B54:B61, SMALL(IF(ISNUMBER(SEARCH(\"JV2\",F54:F61)), ROW(F54:F61)-MIN(ROW(F54:F61))+1, \"\"), ROW() -53 )), \"\")","v":""},{"$f":"IFERROR(INDEX(C54:C61, SMALL(IF(ISNUMBER(SEARCH(\"JV2\",F54:F61)), ROW(F54:F61)-MIN(ROW(F54:F61))+1, \"\"), ROW() -53 )), \"\")","v":""},{"$f":"IFERROR(INDEX(D54:D61, SMALL(IF(ISNUMBER(SEARCH(\"JV2\",F54:F61)), ROW(F54:F61)-MIN(ROW(F54:F61))+1, \"\"), ROW() -53 )), \"\")","v":""},{"$f":"IFERROR(INDEX(E54:E61, SMALL(IF(ISNUMBER(SEARCH(\"JV2\",F54:F61)), ROW(F54:F61)-MIN(ROW(F54:F61))+1, \"\"), ROW() -53 )), \"\")","v":""}]
[null,"Clarke University",null,"23-1552","Maya England",null,null,3464.0,null,false,{"$nulls":17},{"$f":"IFERROR(INDEX(B54:B61, SMALL(IF(\"V\"=F54:F61, ROW(F54:F61)-MIN(ROW(F54:F61))+1, \"\"), ROW() -53 )), \"\")","v":"Clarke University"},{"$f":"IFERROR(INDEX(C54:C61, SMALL(IF(\"V\"=F54:F61, ROW(F54:F61)-MIN(ROW(F54:F61))+1, \"\"), ROW() -53 )), \"\")","v":""},{"$f":"IFERROR(INDEX(D54:D61, SMALL(IF(\"V\"=F54:F61, ROW(F54:F61)-MIN(ROW(F54:F61))+1, \"\"), ROW() -53 )), \"\")","v":"17-28566"},{"$f":"IFERROR(INDEX(E54:E61, SMALL(IF(\"V\"=F54:F61, ROW(F54:F61)-MIN(ROW(F54:F61))+1, \"\"), ROW() -53 )), \"\")","v":"Sidney Pawski"},{"$f":"IFERROR(INDEX(B54:B61, SMALL(IF(ISNUMBER(SEARCH(\"JV1\",F54:F61)), ROW(F54:F61)-MIN(ROW(F54:F61))+1, \"\"), ROW() -53 )), \"\")","v":""},{"$f":"IFERROR(INDEX(C54:C61, SMALL(IF(ISNUMBER(SEARCH(\"JV1\",F54:F61)), ROW(F54:F61)-MIN(ROW(F54:F61))+1, \"\"), ROW() -53 )), \"\")","v":""},{"$f":"IFERROR(INDEX(D54:D61, SMALL(IF(ISNUMBER(SEARCH(\"JV1\",F54:F61)), ROW(F54:F61)-MIN(ROW(F54:F61))+1, \"\"), ROW() -53 )), \"\")","v":""},{"$f":"IFERROR(INDEX(E54:E61, SMALL(IF(ISNUMBER(SEARCH(\"JV1\",F54:F61)), ROW(F54:F61)-MIN(ROW(F54:F61))+1, \"\"), ROW() -53 )), \"\")","v":""},{"$f":"IFERROR(INDEX(B54:B61, SMALL(IF(ISNUMBER(SEARCH(\"JV2\",F54:F61)), ROW(F54:F61)-MIN(ROW(F54:F61))+1, \"\"), ROW() -53 )), \"\")","v":""},{"$f":"IFERROR(INDEX(C54:C61, SMALL(IF(ISNUMBER(SEARCH(\"JV2\",F54:F61)), ROW(F54:F61)-MIN(ROW(F54:F61))+1, \"\"), ROW() -53 )), \"\")","v":""},{"$f":"IFERROR(INDEX(D54:D61, SMALL(IF(ISNUMBER(SEARCH(\"JV2\",F54:F61)), ROW(F54:F61)-MIN(ROW(F54:F61))+1, \"\"), ROW() -53 )), \"\")","v":""},{"$f":"IFERROR(INDEX(E54:E61, SMALL(IF(ISNUMBER(SEARCH(\"JV2\",F54:F61)), ROW(F54:F61)-MIN(ROW(F54:F61))+1, \"\"), ROW() -53 )), \"\")","v":""}]
[null,"Clarke University",null,"17-28566","Sidney Pawski","V",null,3464.0,null,false,{"$nulls":17},{"$f":"IFERROR(INDEX(B54:B61, SMALL(IF(\"V\"=F54:F61, ROW(F54:F61)-MIN(ROW(F54:F61))+1, \"\"), ROW() -53 )), \"\")","v":"Clarke University"},{"$f":"IFERROR(INDEX(C54:C61, SMALL(IF(\"V\"=F54:F61, ROW(F54:F61)-MIN(ROW(F54:F61))+1, \"\"), ROW() -53 )), \"\")","v":""},{"$f":"IFERROR(INDEX(D54:D61, SMALL(IF(\"V\"=F54:F61, ROW(F54:F61)-MIN(ROW(F54:F61))+1, \"\"), ROW() -53 )), \"\")","v":"11-43463"},{"$f":"IFERROR(INDEX(E54:E61, SMALL(IF(\"V\"=F54:F61, ROW(F54:F61)-MIN(ROW(F54:F61))+1, \"\"), ROW() -53 )), \"\")","v":"Stephanie Thompson"},{"$f":"IFERROR(INDEX(B54:B61, SMALL(IF(ISNUMBER(SEARCH(\"JV1\",F54:F61)), ROW(F54:F61)-MIN(ROW(F54:F61))+1, \"\"), ROW() -53 )), \"\")","v":""},{"$f":"IFERROR(INDEX(C54:C61, SMALL(IF(ISNUMBER(SEARCH(\"JV1\",F54:F61)), ROW(F54:F61)-MIN(ROW(F54:F61))+1, \"\"), ROW() -53 )), \"\")","v":""},{"$f":"IFERROR(INDEX(D54:D61, SMALL(IF(ISNUMBER(SEARCH(\"JV1\",F54:F61)), ROW(F54:F61)-MIN(ROW(F54:F61))+1, \"\"), ROW() -53 )), \"\")","v":""},{"$f":"IFERROR(INDEX(E54:E61, SMALL(IF(ISNUMBER(SEARCH(\"JV1\",F54:F61)), ROW(F54:F61)-MIN(ROW(F54:F61))+1, \"\"), ROW() -53 )), \"\")","v":""},{"$f":"IFERROR(INDEX(B54:B61, SMALL(IF(ISNUMBER(SEARCH(\"JV2\",F54:F61)), ROW(F54:F61)-MIN(ROW(F54:F61))+1, \"\"), ROW() -53 )), \"\")","v":""},{"$f":"IFERROR(INDEX(C54:C61, SMALL(IF(ISNUMBER(SEARCH(\"JV2\",F54:F61)), ROW(F54:F61)-MIN(ROW(F54:F61))+1, \"\"), ROW() -53 )), \"\")","v":""},{"$f":"IFERROR(INDEX(D54:D61, SMALL(IF(ISNUMBER(SEARCH(\"JV2\",F54:F61)), ROW(F54:F61)-MIN(ROW(F54:F61))+1, \"\"), ROW() -53 )), \"\")","v":""},{"$f":"IFERROR(INDEX(E54:E61, SMALL(IF(ISNUMBER(SEARCH(\"JV2\",F54:F61)), ROW(F54:F61)-MIN(ROW(F54:F61))+1, \"\"), ROW() -53 )), \"\")","v":""}]
[null,"Clarke University",null,"11-43463","Stephanie Thompson","V",null,3464.0,null,false,{"$nulls":17},{"$f":"IFERROR(INDEX(B54:B61, SMALL(IF(\"V\"=F54:F61, ROW(F54:F61)-MIN(ROW(F54:F61))+1, \"\"), ROW() -53 )), \"\")","v":""},{"$f":"IFERROR(INDEX(C54:C61, SMALL(IF(\"V\"=F54:F61, ROW(F54:F61)-MIN(ROW(F54:F61))+1, \"\"), ROW() -53 )), \"\")","v":""},{"$f":"IFERROR(INDEX(D54:D61, SMALL(IF(\"V\"=F54:F61, ROW(F54:F61)-MIN(ROW(F54:F61))+1, \"\"), ROW() -53 )), \"\")","v":""},{"$f":"IFERROR(INDEX(E54:E61, SMALL(IF(\"V\"=F54:F61, ROW(F54:F61)-MIN(ROW(F54:F61))+1, \"\"), ROW() -53 )), \"\")","v":""},{"$f":"IFERROR(INDEX(B54:B61, SMALL(IF(ISNUMBER(SEARCH(\"JV1\",F54:F61)), ROW(F54:F61)-MIN(ROW(F54:F61))+1, \"\"), ROW() -53 )), \"\")","v":""},{"$f":"IFERROR(INDEX(C54:C61, SMALL(IF(ISNUMBER(SEARCH(\"JV1\",F54:F61)), ROW(F54:F61)-MIN(ROW(F54:F61))+1, \"\"), ROW() -53 )), \"\")","v":""},{"$f":"IFERROR(INDEX(D54:D61, SMALL(IF(ISNUMBER(SEARCH(\"JV1\",F54:F61)), ROW(F54:F61)-MIN(ROW(F54:F61))+1, \"\"), ROW() -53 )), \"\")","v":""},{"$f":"IFERROR(INDEX(E54:E61, SMALL(IF(ISNUMBER(SEARCH(\"JV1\",F54:F61)), ROW(F54:F61)-MIN(ROW(F54:F61))+1, \"\"), ROW() -53 )), \"\")","v":""},{"$f":"IFERROR(INDEX(B54:B61, SMALL(IF(ISNUMBER(SEARCH(\"JV2\",F54:F61)), ROW(F54:F61)-MIN(ROW(F54:F61))+1, \"\"), ROW() -53 )), \"\")","v":""},{"$f":"IFERROR(INDEX(C54:C61, SMALL(IF(ISNUMBER(SEARCH(\"JV2\",F54:F61)), ROW(F54:F61)-MIN(ROW(F54:F61))+1, \"\"), ROW() -53 )), \"\")","v":""},{"$f":"IFERROR(INDEX(D54:D61, SMALL(IF(ISNUMBER(SEARCH(\"JV2\",F54:F61)), ROW(F54:F61)-MIN(ROW(F54:F61))+1, \"\"), ROW() -53 )), \"\")","v":""},{"$f":"IFERROR(INDEX(E54:E61, SMALL(IF(ISNUMBER(SEARCH(\"JV2\",F54:F61)), ROW(F54:F61)-MIN(ROW(F54:F61))+1, \"\"), ROW() -53 )), \"\")","v":""}]
[null,"Clarke University",null,"11-37819","Zoe Schultz",null,null,3464.0,null,false,{"$nulls":17},{"$f":"IFERROR(INDEX(B54:B61, SMALL(IF(\"V\"=F54:F61, ROW(F54:F61)-MIN(ROW(F54:F61))+1, \"\"), ROW() -53 )), \"\")","v":""},{"$f":"IFERROR(INDEX(C54:C61, SMALL(IF(\"V\"=F54:F61, ROW(F54:F61)-MIN(ROW(F54:F61))+1, \"\"), ROW() -53 )), \"\")","v":""},{"$f":"IFERROR(INDEX(D54:D61, SMALL(IF(\"V\"=F54:F61, ROW(F54:F61)-MIN(ROW(F54:F61))+1, \"\"), ROW() -53 )), \"\")","v":""},{"$f":"IFERROR(INDEX(E54:E61, SMALL(IF(\"V\"=F54:F61, ROW(F54:F61)-MIN(ROW(F54:F61))+1, \"\"), ROW() -53 )), \"\")","v":""},{"$f":"IFERROR(INDEX(B54:B61, SMALL(IF(ISNUMBER(SEARCH(\"JV1\",F54:F61)), ROW(F54:F61)-MIN(ROW(F54:F61))+1, \"\"), ROW() -53 )), \"\")","v":""},{"$f":"IFERROR(INDEX(C54:C61, SMALL(IF(ISNUMBER(SEARCH(\"JV1\",F54:F61)), ROW(F54:F61)-MIN(ROW(F54:F61))+1, \"\"), ROW() -53 )), \"\")","v":""},{"$f":"IFERROR(INDEX(D54:D61, SMALL(IF(ISNUMBER(SEARCH(\"JV1\",F54:F61)), ROW(F54:F61)-MIN(ROW(F54:F61))+1, \"\"), ROW() -53 )), \"\")","v":""},{"$f":"IFERROR(INDEX(E54:E61, SMALL(IF(ISNUMBER(SEARCH(\"JV1\",F54:F61)), ROW(F54:F61)-MIN(ROW(F54:F61))+1, \"\"), ROW() -53 )), \"\")","v":""},{"$f":"IFERROR(INDEX(B54:B61, SMALL(IF(ISNUMBER(SEARCH(\"JV2\",F54:F61)), ROW(F54:F61)-MIN(ROW(F54:F61))+1, \"\"), ROW() -53 )), \"\")","v":""},{"$f":"IFERROR(INDEX(C54:C61, SMALL(IF(ISNUMBER(SEARCH(\"JV2\",F54:F61)), ROW(F54:F61)-MIN(ROW(F54:F61))+1, \"\"), ROW() -53 )), \"\")","v":""},{"$f":"IFERROR(INDEX(D54:D61, SMALL(IF(ISNUMBER(SEARCH(\"JV2\",F54:F61)), ROW(F54:F61)-MIN(ROW(F54:F61))+1, \"\"), ROW() -53 )), \"\")","v":""},{"$f":"IFERROR(INDEX(E54:E61, SMALL(IF(ISNUMBER(SEARCH(\"JV2\",F54:F61)), ROW(F54:F61)-MIN(ROW(F54:F61))+1, \"\"), ROW() -53 )), \"\")","v":""}]
[null,"Columbia College",null,"11-717261","Allyson Johnson","V",null,4431.0,null,false,{"$nulls":17},{"$f":"IFERROR(INDEX(B62:B71, SMALL(IF(\"V\"=F62:F71, ROW(F62:F71)-MIN(ROW(F62:F71))+1, \"\"), ROW() -61 )), \"\")","v":"Columbia College"},{"$f":"IFERROR(INDEX(C62:C71, SMALL(IF(\"V\"=F62:F71, ROW(F62:F71)-MIN(ROW(F62:F71))+1, \"\"), ROW() -61 )), \"\")","v":""},{"$f":"IFERROR(INDEX(D62:D71, SMALL(IF(\"V\"=F62:F71, ROW(F62:F71)-MIN(ROW(F62:F71))+1, \"\"), ROW() -61 )), \"\")","v":"11-717261"},{"$f":"IFERROR(INDEX(E62:E71, SMALL(IF(\"V\"=F62:F71, ROW(F62:F71)-MIN(ROW(F62:F71))+1, \"\"), ROW() -61 )), \"\")","v":"Allyson Johnson"},{"$f":"IFERROR(INDEX(B62:B71, SMALL(IF(ISNUMBER(SEARCH(\"JV1\",F62:F71)), ROW(F62:F71)-MIN(ROW(F62:F71))+1, \"\"), ROW() -61 )), \"\")","v":""},{"$f":"IFERROR(INDEX(C62:C71, SMALL(IF(ISNUMBER(SEARCH(\"JV1\",F62:F71)), ROW(F62:F71)-MIN(ROW(F62:F71))+1, \"\"), ROW() -61 )), \"\")","v":""},{"$f":"IFERROR(INDEX(D62:D71, SMALL(IF(ISNUMBER(SEARCH(\"JV1\",F62:F71)), ROW(F62:F71)-MIN(ROW(F62:F71))+1, \"\"), ROW() -61 )), \"\")","v":""},{"$f":"IFERROR(INDEX(E62:E71, SMALL(IF(ISNUMBER(SEARCH(\"JV1\",F62:F71)), ROW(F62:F71)-MIN(ROW(F62:F71))+1, \"\"), ROW() -61 )), \"\")","v":""},{"$f":"IFERROR(INDEX(B62:B71, SMALL(IF(ISNUMBER(SEARCH(\"JV2\",F62:F71)), ROW(F62:F71)-MIN(ROW(F62:F71))+1, \"\"), ROW() -61 )), \"\")","v":""},{"$f":"IFERROR(INDEX(C62:C71, SMALL(IF(ISNUMBER(SEARCH(\"JV2\",F62:F71)), ROW(F62:F71)-MIN(ROW(F62:F71))+1, \"\"), ROW() -61 )), \"\")","v":""},{"$f":"IFERROR(INDEX(D62:D71, SMALL(IF(ISNUMBER(SEARCH(\"JV2\",F62:F71)), ROW(F62:F71)-MIN(ROW(F62:F71))+1, \"\"), ROW() -61 )), \"\")","v":""},{"$f":"IFERROR(INDEX(E62:E71, SMALL(IF(ISNUMBER(SEARCH(\"JV2\",F62:F71)), ROW(F62:F71)-MIN(ROW(F62:F71))+1, \"\"), ROW() -61 )), \"\")","v":""}]
[null,"Columbia College",null,"11-52087","Breanne West","V",null,4431.0,null,false,{"$nulls":17},{"$f":"IFERROR(INDEX(B62:B71, SMALL(IF(\"V\"=F62:F71, ROW(F62:F71)-MIN(ROW(F62:F71))+1, \"\"), ROW() -61 )), \"\")","v":"Columbia College"},{"$f":"IFERROR(INDEX(C62:C71, SMALL(IF(\"V\"=F62:F71, ROW(F62:F71)-MIN(ROW(F62:F71))+1, \"\"), ROW() -61 )), \"\")","v":""},{"$f":"IFERROR(INDEX(D62:D71, SMALL(IF(\"V\"=F62:F71, ROW(F62:F71)-MIN(ROW(F62:F71))+1, \"\"), ROW() -61 )), \"\")","v":"11-52087"},{"$f":"IFERROR(INDEX(E62:E71, SMALL(IF(\"V\"=F62:F71, ROW(F62:F71)-MIN(ROW(F62:F71))+1, \"\"), ROW() -61 )), \"\")","v":"Breanne West"},{"$f":"IFERROR(INDEX(B62:B71, SMALL(IF(ISNUMBER(SEARCH(\"JV1\",F62:F71)), ROW(F62:F71)-MIN(ROW(F62:F71))+1, \"\"), ROW() -61 )), \"\")","v":""},{"$f":"IFERROR(INDEX(C62:C71, SMALL(IF(ISNUMBER(SEARCH(\"JV1\",F62:F71)), ROW(F62:F71)-MIN(ROW(F62:F71))+1, \"\"), ROW() -61 )), \"\")","v":""},{"$f":"IFERROR(INDEX(D62:D71, SMALL(IF(ISNUMBER(SEARCH(\"JV1\",F62:F71)), ROW(F62:F71)-MIN(ROW(F62:F71))+1, \"\"), ROW() -61 )), \"\")","v":""},{"$f":"IFERROR(INDEX(E62:E71, SMALL(IF(ISNUMBER(SEARCH(\"JV1\",F62:F71)), ROW(F62:F71)-MIN(ROW(F62:F71))+1, \"\"), ROW() -61 )), \"\")","v":""},{"$f":"IFERROR(INDEX(B62:B71, SMALL(IF(ISNUMBER(SEARCH(\"JV2\",F62:F71)), ROW(F62:F71)-MIN(ROW(F62:F71))+1, \"\"), ROW() -61 )), \"\")","v":""},{"$f":"IFERROR(INDEX(C62:C71, SMALL(IF(ISNUMBER(SEARCH(\"JV2\",F62:F71)), ROW(F62:F71)-MIN(ROW(F62:F71))+1, \"\"), ROW() -61 )), \"\")","v":""},{"$f":"IFERROR(INDEX(D62:D71, SMALL(IF(ISNUMBER(SEARCH(\"JV2\",F62:F71)), ROW(F62:F71)-MIN(ROW(F62:F71))+1, \"\"), ROW() -61 )), \"\")","v":""},{"$f":"IFERROR(INDEX(E62:E71, SMALL(IF(ISNUMBER(SEARCH(\"JV2\",F62:F71)), ROW(F62:F71)-MIN(ROW(F62:F71))+1, \"\"), ROW() -61 )), \"\")","v":""}]
[null,"Columbia College",null,"9229-56442","Emma Shaner","V",null,4431.0,null,false,{"$nulls":17},{"$f":"IFERROR(INDEX(B62:B71, SMALL(IF(\"V\"=F62:F71, ROW(F62:F71)-MIN(ROW(F62:F71))+1, \"\"), ROW() -61 )), \"\")","v":"Columbia College"},{"$f":"IFERROR(INDEX(C62:C71, SMALL(IF(\"V\"=F62:F71, ROW(F62:F71)-MIN(ROW(F62:F71))+1, \"\"), ROW() -61 )), \"\")","v":""},{"$f":"IFERROR(INDEX(D62:D71, SMALL(IF(\"V\"=F62:F71, ROW(F62:F71)-MIN(ROW(F62:F71))+1, \"\"), ROW() -61 )), \"\")","v":"9229-56442"},{"$f":"IFERROR(INDEX(E62:E71, SMALL(IF(\"V\"=F62:F71, ROW(F62:F71)-MIN(ROW(F62:F71))+1, \"\"), ROW() -61 )), \"\")","v":"Emma Shaner"},{"$f":"IFERROR(INDEX(B62:B71, SMALL(IF(ISNUMBER(SEARCH(\"JV1\",F62:F71)), ROW(F62:F71)-MIN(ROW(F62:F71))+1, \"\"), ROW() -61 )), \"\")","v":""},{"$f":"IFERROR(INDEX(C62:C71, SMALL(IF(ISNUMBER(SEARCH(\"JV1\",F62:F71)), ROW(F62:F71)-MIN(ROW(F62:F71))+1, \"\"), ROW() -61 )), \"\")","v":""},{"$f":"IFERROR(INDEX(D62:D71, SMALL(IF(ISNUMBER(SEARCH(\"JV1\",F62:F71)), ROW(F62:F71)-MIN(ROW(F62:F71))+1, \"\"), ROW() -61 )), \"\")","v":""},{"$f":"IFERROR(INDEX(E62:E71, SMALL(IF(ISNUMBER(SEARCH(\"JV1\",F62:F71)), ROW(F62:F71)-MIN(ROW(F62:F71))+1, \"\"), ROW() -61 )), \"\")","v":""},{"$f":"IFERROR(INDEX(B62:B71, SMALL(IF(ISNUMBER(SEARCH(\"JV2\",F62:F71)), ROW(F62:F71)-MIN(ROW(F62:F71))+1, \"\"), ROW() -61 )), \"\")","v":""},{"$f":"IFERROR(INDEX(C62:C71, SMALL(IF(ISNUMBER(SEARCH(\"JV2\",F62:F71)), ROW(F62:F71)-MIN(ROW(F62:F71))+1, \"\"), ROW() -61 )), \"\")","v":""},{"$f":"IFERROR(INDEX(D62:D71, SMALL(IF(ISNUMBER(SEARCH(\"JV2\",F62:F71)), ROW(F62:F71)-MIN(ROW(F62:F71))+1, \"\"), ROW() -61 )), \"\")","v":""},{"$f":"IFERROR(INDEX(E62:E71, SMALL(IF(ISNUMBER(SEARCH(\"JV2\",F62:F71)), ROW(F62:F71)-MIN(ROW(F62:F71))+1, \"\"), ROW() -61 )), \"\")","v":""}]
[null,"Columbia College",null,"11-266082","Jordyn Czerw",null,null,4431.0,null,false,{"$nulls":17},{"$f":"IFERROR(INDEX(B62:B71, SMALL(IF(\"V\"=F62:F71, ROW(F62:F71)-MIN(ROW(F62:F71))+1, \"\"), ROW() -61 )), \"\")","v":"Columbia College"},{"$f":"IFERROR(INDEX(C62:C71, SMALL(IF(\"V\"=F62:F71, ROW(F62:F71)-MIN(ROW(F62:F71))+1, \"\"), ROW() -61 )), \"\")","v":""},{"$f":"IFERROR(INDEX(D62:D71, SMALL(IF(\"V\"=F62:F71, ROW(F62:F71)-MIN(ROW(F62:F71))+1, \"\"), ROW() -61 )), \"\")","v":"15-91693"},{"$f":"IFERROR(INDEX(E62:E71, SMALL(IF(\"V\"=F62:F71, ROW(F62:F71)-MIN(ROW(F62:F71))+1, \"\"), ROW() -61 )), \"\")","v":"Kenna Schmidt"},{"$f":"IFERROR(INDEX(B62:B71, SMALL(IF(ISNUMBER(SEARCH(\"JV1\",F62:F71)), ROW(F62:F71)-MIN(ROW(F62:F71))+1, \"\"), ROW() -61 )), \"\")","v":""},{"$f":"IFERROR(INDEX(C62:C71, SMALL(IF(ISNUMBER(SEARCH(\"JV1\",F62:F71)), ROW(F62:F71)-MIN(ROW(F62:F71))+1, \"\"), ROW() -61 )), \"\")","v":""},{"$f":"IFERROR(INDEX(D62:D71, SMALL(IF(ISNUMBER(SEARCH(\"JV1\",F62:F71)), ROW(F62:F71)-MIN(ROW(F62:F71))+1, \"\"), ROW() -61 )), \"\")","v":""},{"$f":"IFERROR(INDEX(E62:E71, SMALL(IF(ISNUMBER(SEARCH(\"JV1\",F62:F71)), ROW(F62:F71)-MIN(ROW(F62:F71))+1, \"\"), ROW() -61 )), \"\")","v":""},{"$f":"IFERROR(INDEX(B62:B71, SMALL(IF(ISNUMBER(SEARCH(\"JV2\",F62:F71)), ROW(F62:F71)-MIN(ROW(F62:F71))+1, \"\"), ROW() -61 )), \"\")","v":""},{"$f":"IFERROR(INDEX(C62:C71, SMALL(IF(ISNUMBER(SEARCH(\"JV2\",F62:F71)), ROW(F62:F71)-MIN(ROW(F62:F71))+1, \"\"), ROW() -61 )), \"\")","v":""},{"$f":"IFERROR(INDEX(D62:D71, SMALL(IF(ISNUMBER(SEARCH(\"JV2\",F62:F71)), ROW(F62:F71)-MIN(ROW(F62:F71))+1, \"\"), ROW() -61 )), \"\")","v":""},{"$f":"IFERROR(INDEX(E62:E71, SMALL(IF(ISNUMBER(SEARCH(\"JV2\",F62:F71)), ROW(F62:F71)-MIN(ROW(F62:F71))+1, \"\"), ROW() -61 )), \"\")","v":""}]
[null,"Columbia College",null,"17-47766","Kalie Harris",null,null,4431.0,null,false,{"$nulls":17},{"$f":"IFERROR(INDEX(B62:B71, SMALL(IF(\"V\"=F62:F71, ROW(F62:F71)-MIN(ROW(F62:F71))+1, \"\"), ROW() -61 )), \"\")","v":"Columbia College"},{"$f":"IFERROR(INDEX(C62:C71, SMALL(IF(\"V\"=F62:F71, ROW(F62:F71)-MIN(ROW(F62:F71))+1, \"\"), ROW() -61 )), \"\")","v":""},{"$f":"IFERROR(INDEX(D62:D71, SMALL(IF(\"V\"=F62:F71, ROW(F62:F71)-MIN(ROW(F62:F71))+1, \"\"), ROW() -61 )), \"\")","v":"11-139190"},{"$f":"IFERROR(INDEX(E62:E71, SMALL(IF(\"V\"=F62:F71, ROW(F62:F71)-MIN(ROW(F62:F71))+1, \"\"), ROW() -61 )), \"\")","v":"Kiana Hodges"},{"$f":"IFERROR(INDEX(B62:B71, SMALL(IF(ISNUMBER(SEARCH(\"JV1\",F62:F71)), ROW(F62:F71)-MIN(ROW(F62:F71))+1, \"\"), ROW() -61 )), \"\")","v":""},{"$f":"IFERROR(INDEX(C62:C71, SMALL(IF(ISNUMBER(SEARCH(\"JV1\",F62:F71)), ROW(F62:F71)-MIN(ROW(F62:F71))+1, \"\"), ROW() -61 )), \"\")","v":""},{"$f":"IFERROR(INDEX(D62:D71, SMALL(IF(ISNUMBER(SEARCH(\"JV1\",F62:F71)), ROW(F62:F71)-MIN(ROW(F62:F71))+1, \"\"), ROW() -61 )), \"\")","v":""},{"$f":"IFERROR(INDEX(E62:E71, SMALL(IF(ISNUMBER(SEARCH(\"JV1\",F62:F71)), ROW(F62:F71)-MIN(ROW(F62:F71))+1, \"\"), ROW() -61 )), \"\")","v":""},{"$f":"IFERROR(INDEX(B62:B71, SMALL(IF(ISNUMBER(SEARCH(\"JV2\",F62:F71)), ROW(F62:F71)-MIN(ROW(F62:F71))+1, \"\"), ROW() -61 )), \"\")","v":""},{"$f":"IFERROR(INDEX(C62:C71, SMALL(IF(ISNUMBER(SEARCH(\"JV2\",F62:F71)), ROW(F62:F71)-MIN(ROW(F62:F71))+1, \"\"), ROW() -61 )), \"\")","v":""},{"$f":"IFERROR(INDEX(D62:D71, SMALL(IF(ISNUMBER(SEARCH(\"JV2\",F62:F71)), ROW(F62:F71)-MIN(ROW(F62:F71))+1, \"\"), ROW() -61 )), \"\")","v":""},{"$f":"IFERROR(INDEX(E62:E71, SMALL(IF(ISNUMBER(SEARCH(\"JV2\",F62:F71)), ROW(F62:F71)-MIN(ROW(F62:F71))+1, \"\"), ROW() -61 )), \"\")","v":""}]
[null,"Columbia College",null,"15-91693","Kenna Schmidt","V",null,4431.0,null,false,{"$nulls":17},{"$f":"IFERROR(INDEX(B62:B71, SMALL(IF(\"V\"=F62:F71, ROW(F62:F71)-MIN(ROW(F62:F71))+1, \"\"), ROW() -61 )), \"\")","v":"Columbia College"},{"$f":"IFERROR(INDEX(C62:C71, SMALL(IF(\"V\"=F62:F71, ROW(F62:F71)-MIN(ROW(F62:F71))+1, \"\"), ROW() -61 )), \"\")","v":""},{"$f":"IFERROR(INDEX(D62:D71, SMALL(IF(\"V\"=F62:F71, ROW(F62:F71)-MIN(ROW(F62:F71))+1, \"\"), ROW() -61 )), \"\")","v":"11-188599"},{"$f":"IFERROR(INDEX(E62:E71, SMALL(IF(\"V\"=F62:F71, ROW(F62:F71)-MIN(ROW(F62:F71))+1, \"\"), ROW() -61 )), \"\")","v":"Mallory Cross"},{"$f":"IFERROR(INDEX(B62:B71, SMALL(IF(ISNUMBER(SEARCH(\"JV1\",F62:F71)), ROW(F62:F71)-MIN(ROW(F62:F71))+1, \"\"), ROW() -61 )), \"\")","v":""},{"$f":"IFERROR(INDEX(C62:C71, SMALL(IF(ISNUMBER(SEARCH(\"JV1\",F62:F71)), ROW(F62:F71)-MIN(ROW(F62:F71))+1, \"\"), ROW() -61 )), \"\")","v":""},{"$f":"IFERROR(INDEX(D62:D71, SMALL(IF(ISNUMBER(SEARCH(\"JV1\",F62:F71)), ROW(F62:F71)-MIN(ROW(F62:F71))+1, \"\"), ROW() -61 )), \"\")","v":""},{"$f":"IFERROR(INDEX(E62:E71, SMALL(IF(ISNUMBER(SEARCH(\"JV1\",F62:F71)), ROW(F62:F71)-MIN(ROW(F62:F71))+1, \"\"), ROW() -61 )), \"\")","v":""},{"$f":"IFERROR(INDEX(B62:B71, SMALL(IF(ISNUMBER(SEARCH(\"JV2\",F62:F71)), ROW(F62:F71)-MIN(ROW(F62:F71))+1, \"\"), ROW() -61 )), \"\")","v":""},{"$f":"IFERROR(INDEX(C62:C71, SMALL(IF(ISNUMBER(SEARCH(\"JV2\",F62:F71)), ROW(F62:F71)-MIN(ROW(F62:F71))+1, \"\"), ROW() -61 )), \"\")","v":""},{"$f":"IFERROR(INDEX(D62:D71, SMALL(IF(ISNUMBER(SEARCH(\"JV2\",F62:F71)), ROW(F62:F71)-MIN(ROW(F62:F71))+1, \"\"), ROW() -61 )), \"\")","v":""},{"$f":"IFERROR(INDEX(E62:E71, SMALL(IF(ISNUMBER(SEARCH(\"JV2\",F62:F71)), ROW(F62:F71)-MIN(ROW(F62:F71))+1, \"\"), ROW() -61 )), \"\")","v":""}]
[null,"Columbia College",null,"11-139190","Kiana Hodges","V",null,4431.0,null,false,{"$nulls":17},{"$f":"IFERROR(INDEX(B62:B71, SMALL(IF(\"V\"=F62:F71, ROW(F62:F71)-MIN(ROW(F62:F71))+1, \"\"), ROW() -61 )), \"\")","v":"Columbia College"},{"$f":"IFERROR(INDEX(C62:C71, SMALL(IF(\"V\"=F62:F71, ROW(F62:F71)-MIN(ROW(F62:F71))+1, \"\"), ROW() -61 )), \"\")","v":""},{"$f":"IFERROR(INDEX(D62:D71, SMALL(IF(\"V\"=F62:F71, ROW(F62:F71)-MIN(ROW(F62:F71))+1, \"\"), ROW() -61 )), \"\")","v":"7914-20775"},{"$f":"IFERROR(INDEX(E62:E71, SMALL(IF(\"V\"=F62:F71, ROW(F62:F71)-MIN(ROW(F62:F71))+1, \"\"), ROW() -61 )), \"\")","v":"Rhyleigh Wilson"},{"$f":"IFERROR(INDEX(B62:B71, SMALL(IF(ISNUMBER(SEARCH(\"JV1\",F62:F71)), ROW(F62:F71)-MIN(ROW(F62:F71))+1, \"\"), ROW() -61 )), \"\")","v":""},{"$f":"IFERROR(INDEX(C62:C71, SMALL(IF(ISNUMBER(SEARCH(\"JV1\",F62:F71)), ROW(F62:F71)-MIN(ROW(F62:F71))+1, \"\"), ROW() -61 )), \"\")","v":""},{"$f":"IFERROR(INDEX(D62:D71, SMALL(IF(ISNUMBER(SEARCH(\"JV1\",F62:F71)), ROW(F62:F71)-MIN(ROW(F62:F71))+1, \"\"), ROW() -61 )), \"\")","v":""},{"$f":"IFERROR(INDEX(E62:E71, SMALL(IF(ISNUMBER(SEARCH(\"JV1\",F62:F71)), ROW(F62:F71)-MIN(ROW(F62:F71))+1, \"\"), ROW() -61 )), \"\")","v":""},{"$f":"IFERROR(INDEX(B62:B71, SMALL(IF(ISNUMBER(SEARCH(\"JV2\",F62:F71)), ROW(F62:F71)-MIN(ROW(F62:F71))+1, \"\"), ROW() -61 )), \"\")","v":""},{"$f":"IFERROR(INDEX(C62:C71, SMALL(IF(ISNUMBER(SEARCH(\"JV2\",F62:F71)), ROW(F62:F71)-MIN(ROW(F62:F71))+1, \"\"), ROW() -61 )), \"\")","v":""},{"$f":"IFERROR(INDEX(D62:D71, SMALL(IF(ISNUMBER(SEARCH(\"JV2\",F62:F71)), ROW(F62:F71)-MIN(ROW(F62:F71))+1, \"\"), ROW() -61 )), \"\")","v":""},{"$f":"IFERROR(INDEX(E62:E71, SMALL(IF(ISNUMBER(SEARCH(\"JV2\",F62:F71)), ROW(F62:F71)-MIN(ROW(F62:F71))+1, \"\"), ROW() -61 )), \"\")","v":""}]
[null,"Columbia College",null,"11-188599","Mallory Cross","V",null,4431.0,null,false,{"$nulls":17},{"$f":"IFERROR(INDEX(B62:B71, SMALL(IF(\"V\"=F62:F71, ROW(F62:F71)-MIN(ROW(F62:F71))+1, \"\"), ROW() -61 )), \"\")","v":"Columbia College"},{"$f":"IFERROR(INDEX(C62:C71, SMALL(IF(\"V\"=F62:F71, ROW(F62:F71)-MIN(ROW(F62:F71))+1, \"\"), ROW() -61 )), \"\")","v":""},{"$f":"IFERROR(INDEX(D62:D71, SMALL(IF(\"V\"=F62:F71, ROW(F62:F71)-MIN(ROW(F62:F71))+1, \"\"), ROW() -61 )), \"\")","v":"22-1347"},{"$f":"IFERROR(INDEX(E62:E71, SMALL(IF(\"V\"=F62:F71, ROW(F62:F71)-MIN(ROW(F62:F71))+1, \"\"), ROW() -61 )), \"\")","v":"Samantha Malley"},{"$f":"IFERROR(INDEX(B62:B71, SMALL(IF(ISNUMBER(SEARCH(\"JV1\",F62:F71)), ROW(F62:F71)-MIN(ROW(F62:F71))+1, \"\"), ROW() -61 )), \"\")","v":""},{"$f":"IFERROR(INDEX(C62:C71, SMALL(IF(ISNUMBER(SEARCH(\"JV1\",F62:F71)), ROW(F62:F71)-MIN(ROW(F62:F71))+1, \"\"), ROW() -61 )), \"\")","v":""},{"$f":"IFERROR(INDEX(D62:D71, SMALL(IF(ISNUMBER(SEARCH(\"JV1\",F62:F71)), ROW(F62:F71)-MIN(ROW(F62:F71))+1, \"\"), ROW() -61 )), \"\")","v":""},{"$f":"IFERROR(INDEX(E62:E71, SMALL(IF(ISNUMBER(SEARCH(\"JV1\",F62:F71)), ROW(F62:F71)-MIN(ROW(F62:F71))+1, \"\"), ROW() -61 )), \"\")","v":""},{"$f":"IFERROR(INDEX(B62:B71, SMALL(IF(ISNUMBER(SEARCH(\"JV2\",F62:F71)), ROW(F62:F71)-MIN(ROW(F62:F71))+1, \"\"), ROW() -61 )), \"\")","v":""},{"$f":"IFERROR(INDEX(C62:C71, SMALL(IF(ISNUMBER(SEARCH(\"JV2\",F62:F71)), ROW(F62:F71)-MIN(ROW(F62:F71))+1, \"\"), ROW() -61 )), \"\")","v":""},{"$f":"IFERROR(INDEX(D62:D71, SMALL(IF(ISNUMBER(SEARCH(\"JV2\",F62:F71)), ROW(F62:F71)-MIN(ROW(F62:F71))+1, \"\"), ROW() -61 )), \"\")","v":""},{"$f":"IFERROR(INDEX(E62:E71, SMALL(IF(ISNUMBER(SEARCH(\"JV2\",F62:F71)), ROW(F62:F71)-MIN(ROW(F62:F71))+1, \"\"), ROW() -61 )), \"\")","v":""}]
[null,"Columbia College",null,"7914-20775","Rhyleigh Wilson","V",null,4431.0,null,false]
[null,"Columbia College",null,"22-1347","Samantha Malley","V",null,4431.0,null,false]
[null,"Culver-Stockton College",null,""," ",null,null,4352.0,null,false,{"$nulls":17},{"$f":"IFERROR(INDEX(B72:B79, SMALL(IF(\"V\"=F72:F79, ROW(F72:F79)-MIN(ROW(F72:F79))+1, \"\"), ROW() -71 )), \"\")","v":"Culver-Stockton College"},{"$f":"IFERROR(INDEX(C72:C79, SMALL(IF(\"V\"=F72:F79, ROW(F72:F79)-MIN(ROW(F72:F79))+1, \"\"), ROW() -71 )), \"\")","v":""},{"$f":"IFERROR(INDEX(D72:D79, SMALL(IF(\"V\"=F72:F79, ROW(F72:F79)-MIN(ROW(F72:F79))+1, \"\"), ROW() -71 )), \"\")","v":"17-45685"},{"$f":"IFERROR(INDEX(E72:E79, SMALL(IF(\"V\"=F72:F79, ROW(F72:F79)-MIN(ROW(F72:F79))+1, \"\"), ROW() -71 )), \"\")","v":"Jasmine Saunders"},{"$f":"IFERROR(INDEX(B72:B79, SMALL(IF(ISNUMBER(SEARCH(\"JV1\",F72:F79)), ROW(F72:F79)-MIN(ROW(F72:F79))+1, \"\"), ROW() -71 )), \"\")","v":""},{"$f":"IFERROR(INDEX(C72:C79, SMALL(IF(ISNUMBER(SEARCH(\"JV1\",F72:F79)), ROW(F72:F79)-MIN(ROW(F72:F79))+1, \"\"), ROW() -71 )), \"\")","v":""},{"$f":"IFERROR(INDEX(D72:D79, SMALL(IF(ISNUMBER(SEARCH(\"JV1\",F72:F79)), ROW(F72:F79)-MIN(ROW(F72:F79))+1, \"\"), ROW() -71 )), \"\")","v":""},{"$f":"IFERROR(INDEX(E72:E79, SMALL(IF(ISNUMBER(SEARCH(\"JV1\",F72:F79)), ROW(F72:F79)-MIN(ROW(F72:F79))+1, \"\"), ROW() -71 )), \"\")","v":""},{"$f":"IFERROR(INDEX(B72:B79, SMALL(IF(ISNUMBER(SEARCH(\"JV2\",F72:F79)), ROW(F72:F79)-MIN(ROW(F72:F79))+1, \"\"), ROW() -71 )), \"\")","v":""},{"$f":"IFERROR(INDEX(C72:C79, SMALL(IF(ISNUMBER(SEARCH(\"JV2\",F72:F79)), ROW(F72:F79)-MIN(ROW(F72:F79))+1, \"\"), ROW() -71 )), \"\")","v":""},{"$f":"IFERROR(INDEX(D72:D79, SMALL(IF(ISNUMBER(SEARCH(\"JV2\",F72:F79)), ROW(F72:F79)-MIN(ROW(F72:F79))+1, \"\"), ROW() -71 )), \"\")","v":""},{"$f":"IFERROR(INDEX(E72:E79, SMALL(IF(ISNUMBER(SEARCH(\"JV2\",F72:F79)), ROW(F72:F79)-MIN(ROW(F72:F79))+1, \"\"), ROW() -71 )), \"\")","v":""}]
[null,"Culver-Stockton College",null,""," ",null,null,4352.0,null,false,{"$nulls":17},{"$f":"IFERROR(INDEX(B72:B79, SMALL(IF(\"V\"=F72:F79, ROW(F72:F79)-MIN(ROW(F72:F79))+1, \"\"), ROW() -71 )), \"\")","v":"Culver-Stockton College"},{"$f":"IFERROR(INDEX(C72:C79, SMALL(IF(\"V\"=F72:F79, ROW(F72:F79)-MIN(ROW(F72:F79))+1, \"\"), ROW() -71 )), \"\")","v":""},{"$f":"IFERROR(INDEX(D72:D79, SMALL(IF(\"V\"=F72:F79, ROW(F72:F79)-MIN(ROW(F72:F79))+1, \"\"), ROW() -71 )), \"\")","v":"11-381963"},{"$f":"IFERROR(INDEX(E72:E79, SMALL(IF(\"V\"=F72:F79, ROW(F72:F79)-MIN(ROW(F72:F79))+1, \"\"), ROW() -71 )), \"\")","v":"Jersey Lessenger"},{"$f":"IFERROR(INDEX(B72:B79, SMALL(IF(ISNUMBER(SEARCH(\"JV1\",F72:F79)), ROW(F72:F79)-MIN(ROW(F72:F79))+1, \"\"), ROW() -71 )), \"\")","v":""},{"$f":"IFERROR(INDEX(C72:C79, SMALL(IF(ISNUMBER(SEARCH(\"JV1\",F72:F79)), ROW(F72:F79)-MIN(ROW(F72:F79))+1, \"\"), ROW() -71 )), \"\")","v":""},{"$f":"IFERROR(INDEX(D72:D79, SMALL(IF(ISNUMBER(SEARCH(\"JV1\",F72:F79)), ROW(F72:F79)-MIN(ROW(F72:F79))+1, \"\"), ROW() -71 )), \"\")","v":""},{"$f":"IFERROR(INDEX(E72:E79, SMALL(IF(ISNUMBER(SEARCH(\"JV1\",F72:F79)), ROW(F72:F79)-MIN(ROW(F72:F79))+1, \"\"), ROW() -71 )), \"\")","v":""},{"$f":"IFERROR(INDEX(B72:B79, SMALL(IF(ISNUMBER(SEARCH(\"JV2\",F72:F79)), ROW(F72:F79)-MIN(ROW(F72:F79))+1, \"\"), ROW() -71 )), \"\")","v":""},{"$f":"IFERROR(INDEX(C72:C79, SMALL(IF(ISNUMBER(SEARCH(\"JV2\",F72:F79)), ROW(F72:F79)-MIN(ROW(F72:F79))+1, \"\"), ROW() -71 )), \"\")","v":""},{"$f":"IFERROR(INDEX(D72:D79, SMALL(IF(ISNUMBER(SEARCH(\"JV2\",F72:F79)), ROW(F72:F79)-MIN(ROW(F72:F79))+1, \"\"), ROW() -71 )), \"\")","v":""},{"$f":"IFERROR(INDEX(E72:E79, SMALL(IF(ISNUMBER(SEARCH(\"JV2\",F72:F79)), ROW(F72:F79)-MIN(ROW(F72:F79))+1, \"\"), ROW() -71 )), \"\")","v":""}]
[null,"Culver-Stockton College",null,""," ",null,null,4352.0,null,false,{"$nulls":17},{"$f":"IFERROR(INDEX(B72:B79, SMALL(IF(\"V\"=F72:F79, ROW(F72:F79)-MIN(ROW(F72:F79))+1, \"\"), ROW() -71 )), \"\")","v":"Culver-Stockton College"},{"$f":"IFERROR(INDEX(C72:C79, SMALL(IF(\"V\"=F72:F79, ROW(F72:F79)-MIN(ROW(F72:F79))+1, \"\"), ROW() -71 )), \"\")","v":""},{"$f":"IFERROR(INDEX(D72:D79, SMALL(IF(\"V\"=F72:F79, ROW(F72:F79)-MIN(ROW(F72:F79))+1, \"\"), ROW() -71 )), \"\")","v":"20-27294"},{"$f":"IFERROR(INDEX(E72:E79, SMALL(IF(\"V\"=F72:F79, ROW(F72:F79)-MIN(ROW(F72:F79))+1, \"\"), ROW() -71 )), \"\")","v":"Madison Shontz"},{"$f":"IFERROR(INDEX(B72:B79, SMALL(IF(ISNUMBER(SEARCH(\"JV1\",F72:F79)), ROW(F72:F79)-MIN(ROW(F72:F79))+1, \"\"), ROW() -71 )), \"\")","v":""},{"$f":"IFERROR(INDEX(C72:C79, SMALL(IF(ISNUMBER(SEARCH(\"JV1\",F72:F79)), ROW(F72:F79)-MIN(ROW(F72:F79))+1, \"\"), ROW() -71 )), \"\")","v":""},{"$f":"IFERROR(INDEX(D72:D79, SMALL(IF(ISNUMBER(SEARCH(\"JV1\",F72:F79)), ROW(F72:F79)-MIN(ROW(F72:F79))+1, \"\"), ROW() -71 )), \"\")","v":""},{"$f":"IFERROR(INDEX(E72:E79, SMALL(IF(ISNUMBER(SEARCH(\"JV1\",F72:F79)), ROW(F72:F79)-MIN(ROW(F72:F79))+1, \"\"), ROW() -71 )), \"\")","v":""},{"$f":"IFERROR(INDEX(B72:B79, SMALL(IF(ISNUMBER(SEARCH(\"JV2\",F72:F79)), ROW(F72:F79)-MIN(ROW(F72:F79))+1, \"\"), ROW() -71 )), \"\")","v":""},{"$f":"IFERROR(INDEX(C72:C79, SMALL(IF(ISNUMBER(SEARCH(\"JV2\",F72:F79)), ROW(F72:F79)-MIN(ROW(F72:F79))+1, \"\"), ROW() -71 )), \"\")","v":""},{"$f":"IFERROR(INDEX(D72:D79, SMALL(IF(ISNUMBER(SEARCH(\"JV2\",F72:F79)), ROW(F72:F79)-MIN(ROW(F72:F79))+1, \"\"), ROW() -71 )), \"\")","v":""},{"$f":"IFERROR(INDEX(E72:E79, SMALL(IF(ISNUMBER(SEARCH(\"JV2\",F72:F79)), ROW(F72:F79)-MIN(ROW(F72:F79))+1, \"\"), ROW() -71 )), \"\")","v":""}]
[null,"Culver-Stockton College",null,"17-45685","Jasmine Saunders","V",null,4352.0,null,false,{"$nulls":17},{"$f":"IFERROR(INDEX(B72:B79, SMALL(IF(\"V\"=F72:F79, ROW(F72:F79)-MIN(ROW(F72:F79))+1, \"\"), ROW() -71 )), \"\")","v":"Culver-Stockton College"},{"$f":"IFERROR(INDEX(C72:C79, SMALL(IF(\"V\"=F72:F79, ROW(F72:F79)-MIN(ROW(F72:F79))+1, \"\"), ROW() -71 )), \"\")","v":""},{"$f":"IFERROR(INDEX(D72:D79, SMALL(IF(\"V\"=F72:F79, ROW(F72:F79)-MIN(ROW(F72:F79))+1, \"\"), ROW() -71 )), \"\")","v":"5853-321"},{"$f":"IFERROR(INDEX(E72:E79, SMALL(IF(\"V\"=F72:F79, ROW(F72:F79)-MIN(ROW(F72:F79))+1, \"\"), ROW() -71 )), \"\")","v":"Rachel Moore"},{"$f":"IFERROR(INDEX(B72:B79, SMALL(IF(ISNUMBER(SEARCH(\"JV1\",F72:F79)), ROW(F72:F79)-MIN(ROW(F72:F79))+1, \"\"), ROW() -71 )), \"\")","v":""},{"$f":"IFERROR(INDEX(C72:C79, SMALL(IF(ISNUMBER(SEARCH(\"JV1\",F72:F79)), ROW(F72:F79)-MIN(ROW(F72:F79))+1, \"\"), ROW() -71 )), \"\")","v":""},{"$f":"IFERROR(INDEX(D72:D79, SMALL(IF(ISNUMBER(SEARCH(\"JV1\",F72:F79)), ROW(F72:F79)-MIN(ROW(F72:F79))+1, \"\"), ROW() -71 )), \"\")","v":""},{"$f":"IFERROR(INDEX(E72:E79, SMALL(IF(ISNUMBER(SEARCH(\"JV1\",F72:F79)), ROW(F72:F79)-MIN(ROW(F72:F79))+1, \"\"), ROW() -71 )), \"\")","v":""},{"$f":"IFERROR(INDEX(B72:B79, SMALL(IF(ISNUMBER(SEARCH(\"JV2\",F72:F79)), ROW(F72:F79)-MIN(ROW(F72:F79))+1, \"\"), ROW() -71 )), \"\")","v":""},{"$f":"IFERROR(INDEX(C72:C79, SMALL(IF(ISNUMBER(SEARCH(\"JV2\",F72:F79)), ROW(F72:F79)-MIN(ROW(F72:F79))+1, \"\"), ROW() -71 )), \"\")","v":""},{"$f":"IFERROR(INDEX(D72:D79, SMALL(IF(ISNUMBER(SEARCH(\"JV2\",F72:F79)), ROW(F72:F79)-MIN(ROW(F72:F79))+1, \"\"), ROW() -71 )), \"\")","v":""},{"$f":"IFERROR(INDEX(E72:E79, SMALL(IF(ISNUMBER(SEARCH(\"JV2\",F72:F79)), ROW(F72:F79)-MIN(ROW(F72:F79))+1, \"\"), ROW() -71 )), \"\")","v":""}]
[null,"Culver-Stockton College",null,"11-381963","Jersey Lessenger","V",null,4352.0,null,false,{"$nulls":17},{"$f":"IFERROR(INDEX(B72:B79, SMALL(IF(\"V\"=F72:F79, ROW(F72:F79)-MIN(ROW(F72:F79))+1, \"\"), ROW() -71 )), \"\")","v":"Culver-Stockton College"},{"$f":"IFERROR(INDEX(C72:C79, SMALL(IF(\"V\"=F72:F79, ROW(F72:F79)-MIN(ROW(F72:F79))+1, \"\"), ROW() -71 )), \"\")","v":""},{"$f":"IFERROR(INDEX(D72:D79, SMALL(IF(\"V\"=F72:F79, ROW(F72:F79)-MIN(ROW(F72:F79))+1, \"\"), ROW() -71 )), \"\")","v":"11-531608"},{"$f":"IFERROR(INDEX(E72:E79, SMALL(IF(\"V\"=F72:F79, ROW(F72:F79)-MIN(ROW(F72:F79))+1, \"\"), ROW() -71 )), \"\")","v":"Rilee Allen"},{"$f":"IFERROR(INDEX(B72:B79, SMALL(IF(ISNUMBER(SEARCH(\"JV1\",F72:F79)), ROW(F72:F79)-MIN(ROW(F72:F79))+1, \"\"), ROW() -71 )), \"\")","v":""},{"$f":"IFERROR(INDEX(C72:C79, SMALL(IF(ISNUMBER(SEARCH(\"JV1\",F72:F79)), ROW(F72:F79)-MIN(ROW(F72:F79))+1, \"\"), ROW() -71 )), \"\")","v":""},{"$f":"IFERROR(INDEX(D72:D79, SMALL(IF(ISNUMBER(SEARCH(\"JV1\",F72:F79)), ROW(F72:F79)-MIN(ROW(F72:F79))+1, \"\"), ROW() -71 )), \"\")","v":""},{"$f":"IFERROR(INDEX(E72:E79, SMALL(IF(ISNUMBER(SEARCH(\"JV1\",F72:F79)), ROW(F72:F79)-MIN(ROW(F72:F79))+1, \"\"), ROW() -71 )), \"\")","v":""},{"$f":"IFERROR(INDEX(B72:B79, SMALL(IF(ISNUMBER(SEARCH(\"JV2\",F72:F79)), ROW(F72:F79)-MIN(ROW(F72:F79))+1, \"\"), ROW() -71 )), \"\")","v":""},{"$f":"IFERROR(INDEX(C72:C79, SMALL(IF(ISNUMBER(SEARCH(\"JV2\",F72:F79)), ROW(F72:F79)-MIN(ROW(F72:F79))+1, \"\"), ROW() -71 )), \"\")","v":""},{"$f":"IFERROR(INDEX(D72:D79, SMALL(IF(ISNUMBER(SEARCH(\"JV2\",F72:F79)), ROW(F72:F79)-MIN(ROW(F72:F79))+1, \"\"), ROW() -71 )), \"\")","v":""},{"$f":"IFERROR(INDEX(E72:E79, SMALL(IF(ISNUMBER(SEARCH(\"JV2\",F72:F79)), ROW(F72:F79)-MIN(ROW(F72:F79))+1, \"\"), ROW() -71 )), \"\")","v":""}]
[null,"Culver-Stockton College",null,"20-27294","Madison Shontz","V",null,4352.0,null,false,{"$nulls":17},{"$f":"IFERROR(INDEX(B72:B79, SMALL(IF(\"V\"=F72:F79, ROW(F72:F79)-MIN(ROW(F72:F79))+1, \"\"), ROW() -71 )), \"\")","v":""},{"$f":"IFERROR(INDEX(C72:C79, SMALL(IF(\"V\"=F72:F79, ROW(F72:F79)-MIN(ROW(F72:F79))+1, \"\"), ROW() -71 )), \"\")","v":""},{"$f":"IFERROR(INDEX(D72:D79, SMALL(IF(\"V\"=F72:F79, ROW(F72:F79)-MIN(ROW(F72:F79))+1, \"\"), ROW() -71 )), \"\")","v":""},{"$f":"IFERROR(INDEX(E72:E79, SMALL(IF(\"V\"=F72:F79, ROW(F72:F79)-MIN(ROW(F72:F79))+1, \"\"), ROW() -71 )), \"\")","v":""},{"$f":"IFERROR(INDEX(B72:B79, SMALL(IF(ISNUMBER(SEARCH(\"JV1\",F72:F79)), ROW(F72:F79)-MIN(ROW(F72:F79))+1, \"\"), ROW() -71 )), \"\")","v":""},{"$f":"IFERROR(INDEX(C72:C79, SMALL(IF(ISNUMBER(SEARCH(\"JV1\",F72:F79)), ROW(F72:F79)-MIN(ROW(F72:F79))+1, \"\"), ROW() -71 )), \"\")","v":""},{"$f":"IFERROR(INDEX(D72:D79, SMALL(IF(ISNUMBER(SEARCH(\"JV1\",F72:F79)), ROW(F72:F79)-MIN(ROW(F72:F79))+1, \"\"), ROW() -71 )), \"\")","v":""},{"$f":"IFERROR(INDEX(E72:E79, SMALL(IF(ISNUMBER(SEARCH(\"JV1\",F72:F79)), ROW(F72:F79)-MIN(ROW(F72:F79))+1, \"\"), ROW() -71 )), \"\")","v":""},{"$f":"IFERROR(INDEX(B72:B79, SMALL(IF(ISNUMBER(SEARCH(\"JV2\",F72:F79)), ROW(F72:F79)-MIN(ROW(F72:F79))+1, \"\"), ROW() -71 )), \"\")","v":""},{"$f":"IFERROR(INDEX(C72:C79, SMALL(IF(ISNUMBER(SEARCH(\"JV2\",F72:F79)), ROW(F72:F79)-MIN(ROW(F72:F79))+1, \"\"), ROW() -71 )), \"\")","v":""},{"$f":"IFERROR(INDEX(D72:D79, SMALL(IF(ISNUMBER(SEARCH(\"JV2\",F72:F79)), ROW(F72:F79)-MIN(ROW(F72:F79))+1, \"\"), ROW() -71 )), \"\")","v":""},{"$f":"IFERROR(INDEX(E72:E79, SMALL(IF(ISNUMBER(SEARCH(\"JV2\",F72:F79)), ROW(F72:F79)-MIN(ROW(F72:F79))+1, \"\"), ROW() -71 )), \"\")","v":""}]
[null,"Culver-Stockton College",null,"5853-321","Rachel Moore","V",null,4352.0,null,false,{"$nulls":17},{"$f":"IFERROR(INDEX(B72:B79, SMALL(IF(\"V\"=F72:F79, ROW(F72:F79)-MIN(ROW(F72:F79))+1, \"\"), ROW() -71 )), \"\")","v":""},{"$f":"IFERROR(INDEX(C72:C79, SMALL(IF(\"V\"=F72:F79, ROW(F72:F79)-MIN(ROW(F72:F79))+1, \"\"), ROW() -71 )), \"\")","v":""},{"$f":"IFERROR(INDEX(D72:D79, SMALL(IF(\"V\"=F72:F79, ROW(F72:F79)-MIN(ROW(F72:F79))+1, \"\"), ROW() -71 )), \"\")","v":""},{"$f":"IFERROR(INDEX(E72:E79, SMALL(IF(\"V\"=F72:F79, ROW(F72:F79)-MIN(ROW(F72:F79))+1, \"\"), ROW() -71 )), \"\")","v":""},{"$f":"IFERROR(INDEX(B72:B79, SMALL(IF(ISNUMBER(SEARCH(\"JV1\",F72:F79)), ROW(F72:F79)-MIN(ROW(F72:F79))+1, \"\"), ROW() -71 )), \"\")","v":""},{"$f":"IFERROR(INDEX(C72:C79, SMALL(IF(ISNUMBER(SEARCH(\"JV1\",F72:F79)), ROW(F72:F79)-MIN(ROW(F72:F79))+1, \"\"), ROW() -71 )), \"\")","v":""},{"$f":"IFERROR(INDEX(D72:D79, SMALL(IF(ISNUMBER(SEARCH(\"JV1\",F72:F79)), ROW(F72:F79)-MIN(ROW(F72:F79))+1, \"\"), ROW() -71 )), \"\")","v":""},{"$f":"IFERROR(INDEX(E72:E79, SMALL(IF(ISNUMBER(SEARCH(\"JV1\",F72:F79)), ROW(F72:F79)-MIN(ROW(F72:F79))+1, \"\"), ROW() -71 )), \"\")","v":""},{"$f":"IFERROR(INDEX(B72:B79, SMALL(IF(ISNUMBER(SEARCH(\"JV2\",F72:F79)), ROW(F72:F79)-MIN(ROW(F72:F79))+1, \"\"), ROW() -71 )), \"\")","v":""},{"$f":"IFERROR(INDEX(C72:C79, SMALL(IF(ISNUMBER(SEARCH(\"JV2\",F72:F79)), ROW(F72:F79)-MIN(ROW(F72:F79))+1, \"\"), ROW() -71 )), \"\")","v":""},{"$f":"IFERROR(INDEX(D72:D79, SMALL(IF(ISNUMBER(SEARCH(\"JV2\",F72:F79)), ROW(F72:F79)-MIN(ROW(F72:F79))+1, \"\"), ROW() -71 )), \"\")","v":""},{"$f":"IFERROR(INDEX(E72:E79, SMALL(IF(ISNUMBER(SEARCH(\"JV2\",F72:F79)), ROW(F72:F79)-MIN(ROW(F72:F79))+1, \"\"), ROW() -71 )), \"\")","v":""}]
[null,"Culver-Stockton College",null,"11-531608","Rilee Allen","V",null,4352.0,null,false,{"$nulls":17},{"$f":"IFERROR(INDEX(B72:B79, SMALL(IF(\"V\"=F72:F79, ROW(F72:F79)-MIN(ROW(F72:F79))+1, \"\"), ROW() -71 )), \"\")","v":""},{"$f":"IFERROR(INDEX(C72:C79, SMALL(IF(\"V\"=F72:F79, ROW(F72:F79)-MIN(ROW(F72:F79))+1, \"\"), ROW() -71 )), \"\")","v":""},{"$f":"IFERROR(INDEX(D72:D79, SMALL(IF(\"V\"=F72:F79, ROW(F72:F79)-MIN(ROW(F72:F79))+1, \"\"), ROW() -71 )), \"\")","v":""},{"$f":"IFERROR(INDEX(E72:E79, SMALL(IF(\"V\"=F72:F79, ROW(F72:F79)-MIN(ROW(F72:F79))+1, \"\"), ROW() -71 )), \"\")","v":""},{"$f":"IFERROR(INDEX(B72:B79, SMALL(IF(ISNUMBER(SEARCH(\"JV1\",F72:F79)), ROW(F72:F79)-MIN(ROW(F72:F79))+1, \"\"), ROW() -71 )), \"\")","v":""},{"$f":"IFERROR(INDEX(C72:C79, SMALL(IF(ISNUMBER(SEARCH(\"JV1\",F72:F79)), ROW(F72:F79)-MIN(ROW(F72:F79))+1, \"\"), ROW() -71 )), \"\")","v":""},{"$f":"IFERROR(INDEX(D72:D79, SMALL(IF(ISNUMBER(SEARCH(\"JV1\",F72:F79)), ROW(F72:F79)-MIN(ROW(F72:F79))+1, \"\"), ROW() -71 )), \"\")","v":""},{"$f":"IFERROR(INDEX(E72:E79, SMALL(IF(ISNUMBER(SEARCH(\"JV1\",F72:F79)), ROW(F72:F79)-MIN(ROW(F72:F79))+1, \"\"), ROW() -71 )), \"\")","v":""},{"$f":"IFERROR(INDEX(B72:B79, SMALL(IF(ISNUMBER(SEARCH(\"JV2\",F72:F79)), ROW(F72:F79)-MIN(ROW(F72:F79))+1, \"\"), ROW() -71 )), \"\")","v":""},{"$f":"IFERROR(INDEX(C72:C79, SMALL(IF(ISNUMBER(SEARCH(\"JV2\",F72:F79)), ROW(F72:F79)-MIN(ROW(F72:F79))+1, \"\"), ROW() -71 )), \"\")","v":""},{"$f":"IFERROR(INDEX(D72:D79, SMALL(IF(ISNUMBER(SEARCH(\"JV2\",F72:F79)), ROW(F72:F79)-MIN(ROW(F72:F79))+1, \"\"), ROW() -71 )), \"\")","v":""},{"$f":"IFERROR(INDEX(E72:E79, SMALL(IF(ISNUMBER(SEARCH(\"JV2\",F72:F79)), ROW(F72:F79)-MIN(ROW(F72:F79))+1, \"\"), ROW() -71 )), \"\")","v":""}]
[null,"Grand View University",null,"11-72926","Ariel Engel",null,null,3743.0,null,false,{"$nulls":17},{"$f":"IFERROR(INDEX(B80:B93, SMALL(IF(\"V\"=F80:F93, ROW(F80:F93)-MIN(ROW(F80:F93))+1, \"\"), ROW() -79 )), \"\")","v":"Grand View University"},{"$f":"IFERROR(INDEX(C80:C93, SMALL(IF(\"V\"=F80:F93, ROW(F80:F93)-MIN(ROW(F80:F93))+1, \"\"), ROW() -79 )), \"\")","v":""},{"$f":"IFERROR(INDEX(D80:D93, SMALL(IF(\"V\"=F80:F93, ROW(F80:F93)-MIN(ROW(F80:F93))+1, \"\"), ROW() -79 )), \"\")","v":"7914-27984"},{"$f":"IFERROR(INDEX(E80:E93, SMALL(IF(\"V\"=F80:F93, ROW(F80:F93)-MIN(ROW(F80:F93))+1, \"\"), ROW() -79 )), \"\")","v":"Emilee Hall"},{"$f":"IFERROR(INDEX(B80:B93, SMALL(IF(ISNUMBER(SEARCH(\"JV1\",F80:F93)), ROW(F80:F93)-MIN(ROW(F80:F93))+1, \"\"), ROW() -79 )), \"\")","v":""},{"$f":"IFERROR(INDEX(C80:C93, SMALL(IF(ISNUMBER(SEARCH(\"JV1\",F80:F93)), ROW(F80:F93)-MIN(ROW(F80:F93))+1, \"\"), ROW() -79 )), \"\")","v":""},{"$f":"IFERROR(INDEX(D80:D93, SMALL(IF(ISNUMBER(SEARCH(\"JV1\",F80:F93)), ROW(F80:F93)-MIN(ROW(F80:F93))+1, \"\"), ROW() -79 )), \"\")","v":""},{"$f":"IFERROR(INDEX(E80:E93, SMALL(IF(ISNUMBER(SEARCH(\"JV1\",F80:F93)), ROW(F80:F93)-MIN(ROW(F80:F93))+1, \"\"), ROW() -79 )), \"\")","v":""},{"$f":"IFERROR(INDEX(B80:B93, SMALL(IF(ISNUMBER(SEARCH(\"JV2\",F80:F93)), ROW(F80:F93)-MIN(ROW(F80:F93))+1, \"\"), ROW() -79 )), \"\")","v":""},{"$f":"IFERROR(INDEX(C80:C93, SMALL(IF(ISNUMBER(SEARCH(\"JV2\",F80:F93)), ROW(F80:F93)-MIN(ROW(F80:F93))+1, \"\"), ROW() -79 )), \"\")","v":""},{"$f":"IFERROR(INDEX(D80:D93, SMALL(IF(ISNUMBER(SEARCH(\"JV2\",F80:F93)), ROW(F80:F93)-MIN(ROW(F80:F93))+1, \"\"), ROW() -79 )), \"\")","v":""},{"$f":"IFERROR(INDEX(E80:E93, SMALL(IF(ISNUMBER(SEARCH(\"JV2\",F80:F93)), ROW(F80:F93)-MIN(ROW(F80:F93))+1, \"\"), ROW() -79 )), \"\")","v":""}]
[null,"Grand View University",null,"11-260228","Ashly Wiegand",null,null,3743.0,null,false,{"$nulls":17},{"$f":"IFERROR(INDEX(B80:B93, SMALL(IF(\"V\"=F80:F93, ROW(F80:F93)-MIN(ROW(F80:F93))+1, \"\"), ROW() -79 )), \"\")","v":"Grand View University"},{"$f":"IFERROR(INDEX(C80:C93, SMALL(IF(\"V\"=F80:F93, ROW(F80:F93)-MIN(ROW(F80:F93))+1, \"\"), ROW() -79 )), \"\")","v":""},{"$f":"IFERROR(INDEX(D80:D93, SMALL(IF(\"V\"=F80:F93, ROW(F80:F93)-MIN(ROW(F80:F93))+1, \"\"), ROW() -79 )), \"\")","v":"11-96883"},{"$f":"IFERROR(INDEX(E80:E93, SMALL(IF(\"V\"=F80:F93, ROW(F80:F93)-MIN(ROW(F80:F93))+1, \"\"), ROW() -79 )), \"\")","v":"Halie Marean"},{"$f":"IFERROR(INDEX(B80:B93, SMALL(IF(ISNUMBER(SEARCH(\"JV1\",F80:F93)), ROW(F80:F93)-MIN(ROW(F80:F93))+1, \"\"), ROW() -79 )), \"\")","v":""},{"$f":"IFERROR(INDEX(C80:C93, SMALL(IF(ISNUMBER(SEARCH(\"JV1\",F80:F93)), ROW(F80:F93)-MIN(ROW(F80:F93))+1, \"\"), ROW() -79 )), \"\")","v":""},{"$f":"IFERROR(INDEX(D80:D93, SMALL(IF(ISNUMBER(SEARCH(\"JV1\",F80:F93)), ROW(F80:F93)-MIN(ROW(F80:F93))+1, \"\"), ROW() -79 )), \"\")","v":""},{"$f":"IFERROR(INDEX(E80:E93, SMALL(IF(ISNUMBER(SEARCH(\"JV1\",F80:F93)), ROW(F80:F93)-MIN(ROW(F80:F93))+1, \"\"), ROW() -79 )), \"\")","v":""},{"$f":"IFERROR(INDEX(B80:B93, SMALL(IF(ISNUMBER(SEARCH(\"JV2\",F80:F93)), ROW(F80:F93)-MIN(ROW(F80:F93))+1, \"\"), ROW() -79 )), \"\")","v":""},{"$f":"IFERROR(INDEX(C80:C93, SMALL(IF(ISNUMBER(SEARCH(\"JV2\",F80:F93)), ROW(F80:F93)-MIN(ROW(F80:F93))+1, \"\"), ROW() -79 )), \"\")","v":""},{"$f":"IFERROR(INDEX(D80:D93, SMALL(IF(ISNUMBER(SEARCH(\"JV2\",F80:F93)), ROW(F80:F93)-MIN(ROW(F80:F93))+1, \"\"), ROW() -79 )), \"\")","v":""},{"$f":"IFERROR(INDEX(E80:E93, SMALL(IF(ISNUMBER(SEARCH(\"JV2\",F80:F93)), ROW(F80:F93)-MIN(ROW(F80:F93))+1, \"\"), ROW() -79 )), \"\")","v":""}]
[null,"Grand View University",null,"7914-27984","Emilee Hall","V",null,3743.0,null,false,{"$nulls":17},{"$f":"IFERROR(INDEX(B80:B93, SMALL(IF(\"V\"=F80:F93, ROW(F80:F93)-MIN(ROW(F80:F93))+1, \"\"), ROW() -79 )), \"\")","v":"Grand View University"},{"$f":"IFERROR(INDEX(C80:C93, SMALL(IF(\"V\"=F80:F93, ROW(F80:F93)-MIN(ROW(F80:F93))+1, \"\"), ROW() -79 )), \"\")","v":""},{"$f":"IFERROR(INDEX(D80:D93, SMALL(IF(\"V\"=F80:F93, ROW(F80:F93)-MIN(ROW(F80:F93))+1, \"\"), ROW() -79 )), \"\")","v":"11-232057"},{"$f":"IFERROR(INDEX(E80:E93, SMALL(IF(\"V\"=F80:F93, ROW(F80:F93)-MIN(ROW(F80:F93))+1, \"\"), ROW() -79 )), \"\")","v":"Isabel Tetmeyer"},{"$f":"IFERROR(INDEX(B80:B93, SMALL(IF(ISNUMBER(SEARCH(\"JV1\",F80:F93)), ROW(F80:F93)-MIN(ROW(F80:F93))+1, \"\"), ROW() -79 )), \"\")","v":""},{"$f":"IFERROR(INDEX(C80:C93, SMALL(IF(ISNUMBER(SEARCH(\"JV1\",F80:F93)), ROW(F80:F93)-MIN(ROW(F80:F93))+1, \"\"), ROW() -79 )), \"\")","v":""},{"$f":"IFERROR(INDEX(D80:D93, SMALL(IF(ISNUMBER(SEARCH(\"JV1\",F80:F93)), ROW(F80:F93)-MIN(ROW(F80:F93))+1, \"\"), ROW() -79 )), \"\")","v":""},{"$f":"IFERROR(INDEX(E80:E93, SMALL(IF(ISNUMBER(SEARCH(\"JV1\",F80:F93)), ROW(F80:F93)-MIN(ROW(F80:F93))+1, \"\"), ROW() -79 )), \"\")","v":""},{"$f":"IFERROR(INDEX(B80:B93, SMALL(IF(ISNUMBER(SEARCH(\"JV2\",F80:F93)), ROW(F80:F93)-MIN(ROW(F80:F93))+1, \"\"), ROW() -79 )), \"\")","v":""},{"$f":"IFERROR(INDEX(C80:C93, SMALL(IF(ISNUMBER(SEARCH(\"JV2\",F80:F93)), ROW(F80:F93)-MIN(ROW(F80:F93))+1, \"\"), ROW() -79 )), \"\")","v":""},{"$f":"IFERROR(INDEX(D80:D93, SMALL(IF(ISNUMBER(SEARCH(\"JV2\",F80:F93)), ROW(F80:F93)-MIN(ROW(F80:F93))+1, \"\"), ROW() -79 )), \"\")","v":""},{"$f":"IFERROR(INDEX(E80:E93, SMALL(IF(ISNUMBER(SEARCH(\"JV2\",F80:F93)), ROW(F80:F93)-MIN(ROW(F80:F93))+1, \"\"), ROW() -79 )), \"\")","v":""}]
[null,"Grand View University",null,"11-96883","Halie Marean","V",null,3743.0,null,false,{"$nulls":17},{"$f":"IFERROR(INDEX(B80:B93, SMALL(IF(\"V\"=F80:F93, ROW(F80:F93)-MIN(ROW(F80:F93))+1, \"\"), ROW() -79 )), \"\")","v":"Grand View University"},{"$f":"IFERROR(INDEX(C80:C93, SMALL(IF(\"V\"=F80:F93, ROW(F80:F93)-MIN(ROW(F80:F93))+1, \"\"), ROW() -79 )), \"\")","v":""},{"$f":"IFERROR(INDEX(D80:D93, SMALL(IF(\"V\"=F80:F93, ROW(F80:F93)-MIN(ROW(F80:F93))+1, \"\"), ROW() -79 )), \"\")","v":"7914-7770"},{"$f":"IFERROR(INDEX(E80:E93, SMALL(IF(\"V\"=F80:F93, ROW(F80:F93)-MIN(ROW(F80:F93))+1, \"\"), ROW() -79 )), \"\")","v":"Kaytlyn Andrews"},{"$f":"IFERROR(INDEX(B80:B93, SMALL(IF(ISNUMBER(SEARCH(\"JV1\",F80:F93)), ROW(F80:F93)-MIN(ROW(F80:F93))+1, \"\"), ROW() -79 )), \"\")","v":""},{"$f":"IFERROR(INDEX(C80:C93, SMALL(IF(ISNUMBER(SEARCH(\"JV1\",F80:F93)), ROW(F80:F93)-MIN(ROW(F80:F93))+1, \"\"), ROW() -79 )), \"\")","v":""},{"$f":"IFERROR(INDEX(D80:D93, SMALL(IF(ISNUMBER(SEARCH(\"JV1\",F80:F93)), ROW(F80:F93)-MIN(ROW(F80:F93))+1, \"\"), ROW() -79 )), \"\")","v":""},{"$f":"IFERROR(INDEX(E80:E93, SMALL(IF(ISNUMBER(SEARCH(\"JV1\",F80:F93)), ROW(F80:F93)-MIN(ROW(F80:F93))+1, \"\"), ROW() -79 )), \"\")","v":""},{"$f":"IFERROR(INDEX(B80:B93, SMALL(IF(ISNUMBER(SEARCH(\"JV2\",F80:F93)), ROW(F80:F93)-MIN(ROW(F80:F93))+1, \"\"), ROW() -79 )), \"\")","v":""},{"$f":"IFERROR(INDEX(C80:C93, SMALL(IF(ISNUMBER(SEARCH(\"JV2\",F80:F93)), ROW(F80:F93)-MIN(ROW(F80:F93))+1, \"\"), ROW() -79 )), \"\")","v":""},{"$f":"IFERROR(INDEX(D80:D93, SMALL(IF(ISNUMBER(SEARCH(\"JV2\",F80:F93)), ROW(F80:F93)-MIN(ROW(F80:F93))+1, \"\"), ROW() -79 )), \"\")","v":""},{"$f":"IFERROR(INDEX(E80:E93, SMALL(IF(ISNUMBER(SEARCH(\"JV2\",F80:F93)), ROW(F80:F93)-MIN(ROW(F80:F93))+1, \"\"), ROW() -79 )), \"\")","v":""}]
[null,"Grand View University",null,"7914-2693","Hannah Beveridge",null,null,3743.0,null,false,{"$nulls":17},{"$f":"IFERROR(INDEX(B80:B93, SMALL(IF(\"V\"=F80:F93, ROW(F80:F93)-MIN(ROW(F80:F93))+1, \"\"), ROW() -79 )), \"\")","v":"Grand View University"},{"$f":"IFERROR(INDEX(C80:C93, SMALL(IF(\"V\"=F80:F93, ROW(F80:F93)-MIN(ROW(F80:F93))+1, \"\"), ROW() -79 )), \"\")","v":""},{"$f":"IFERROR(INDEX(D80:D93, SMALL(IF(\"V\"=F80:F93, ROW(F80:F93)-MIN(ROW(F80:F93))+1, \"\"), ROW() -79 )), \"\")","v":"7914-2777"},{"$f":"IFERROR(INDEX(E80:E93, SMALL(IF(\"V\"=F80:F93, ROW(F80:F93)-MIN(ROW(F80:F93))+1, \"\"), ROW() -79 )), \"\")","v":"Kiera Jors"},{"$f":"IFERROR(INDEX(B80:B93, SMALL(IF(ISNUMBER(SEARCH(\"JV1\",F80:F93)), ROW(F80:F93)-MIN(ROW(F80:F93))+1, \"\"), ROW() -79 )), \"\")","v":""},{"$f":"IFERROR(INDEX(C80:C93, SMALL(IF(ISNUMBER(SEARCH(\"JV1\",F80:F93)), ROW(F80:F93)-MIN(ROW(F80:F93))+1, \"\"), ROW() -79 )), \"\")","v":""},{"$f":"IFERROR(INDEX(D80:D93, SMALL(IF(ISNUMBER(SEARCH(\"JV1\",F80:F93)), ROW(F80:F93)-MIN(ROW(F80:F93))+1, \"\"), ROW() -79 )), \"\")","v":""},{"$f":"IFERROR(INDEX(E80:E93, SMALL(IF(ISNUMBER(SEARCH(\"JV1\",F80:F93)), ROW(F80:F93)-MIN(ROW(F80:F93))+1, \"\"), ROW() -79 )), \"\")","v":""},{"$f":"IFERROR(INDEX(B80:B93, SMALL(IF(ISNUMBER(SEARCH(\"JV2\",F80:F93)), ROW(F80:F93)-MIN(ROW(F80:F93))+1, \"\"), ROW() -79 )), \"\")","v":""},{"$f":"IFERROR(INDEX(C80:C93, SMALL(IF(ISNUMBER(SEARCH(\"JV2\",F80:F93)), ROW(F80:F93)-MIN(ROW(F80:F93))+1, \"\"), ROW() -79 )), \"\")","v":""},{"$f":"IFERROR(INDEX(D80:D93, SMALL(IF(ISNUMBER(SEARCH(\"JV2\",F80:F93)), ROW(F80:F93)-MIN(ROW(F80:F93))+1, \"\"), ROW() -79 )), \"\")","v":""},{"$f":"IFERROR(INDEX(E80:E93, SMALL(IF(ISNUMBER(SEARCH(\"JV2\",F80:F93)), ROW(F80:F93)-MIN(ROW(F80:F93))+1, \"\"), ROW() -79 )), \"\")","v":""}]
[null,"Grand View University",null,"11-232057","Isabel Tetmeyer","V",null,3743.0,null,false,{"$nulls":17},{"$f":"IFERROR(INDEX(B80:B93, SMALL(IF(\"V\"=F80:F93, ROW(F80:F93)-MIN(ROW(F80:F93))+1, \"\"), ROW() -79 )), \"\")","v":"Grand View University"},{"$f":"IFERROR(INDEX(C80:C93, SMALL(IF(\"V\"=F80:F93, ROW(F80:F93)-MIN(ROW(F80:F93))+1, \"\"), ROW() -79 )), \"\")","v":""},{"$f":"IFERROR(INDEX(D80:D93, SMALL(IF(\"V\"=F80:F93, ROW(F80:F93)-MIN(ROW(F80:F93))+1, \"\"), ROW() -79 )), \"\")","v":"11-242164"},{"$f":"IFERROR(INDEX(E80:E93, SMALL(IF(\"V\"=F80:F93, ROW(F80:F93)-MIN(ROW(F80:F93))+1, \"\"), ROW() -79 )), \"\")","v":"Madison Pickett"},{"$f":"IFERROR(INDEX(B80:B93, SMALL(IF(ISNUMBER(SEARCH(\"JV1\",F80:F93)), ROW(F80:F93)-MIN(ROW(F80:F93))+1, \"\"), ROW() -79 )), \"\")","v":""},{"$f":"IFERROR(INDEX(C80:C93, SMALL(IF(ISNUMBER(SEARCH(\"JV1\",F80:F93)), ROW(F80:F93)-MIN(ROW(F80:F93))+1, \"\"), ROW() -79 )), \"\")","v":""},{"$f":"IFERROR(INDEX(D80:D93, SMALL(IF(ISNUMBER(SEARCH(\"JV1\",F80:F93)), ROW(F80:F93)-MIN(ROW(F80:F93))+1, \"\"), ROW() -79 )), \"\")","v":""},{"$f":"IFERROR(INDEX(E80:E93, SMALL(IF(ISNUMBER(SEARCH(\"JV1\",F80:F93)), ROW(F80:F93)-MIN(ROW(F80:F93))+1, \"\"), ROW() -79 )), \"\")","v":""},{"$f":"IFERROR(INDEX(B80:B93, SMALL(IF(ISNUMBER(SEARCH(\"JV2\",F80:F93)), ROW(F80:F93)-MIN(ROW(F80:F93))+1, \"\"), ROW() -79 )), \"\")","v":""},{"$f":"IFERROR(INDEX(C80:C93, SMALL(IF(ISNUMBER(SEARCH(\"JV2\",F80:F93)), ROW(F80:F93)-MIN(ROW(F80:F93))+1, \"\"), ROW() -79 )), \"\")","v":""},{"$f":"IFERROR(INDEX(D80:D93, SMALL(IF(ISNUMBER(SEARCH(\"JV2\",F80:F93)), ROW(F80:F93)-MIN(ROW(F80:F93))+1, \"\"), ROW() -79 )), \"\")","v":""},{"$f":"IFERROR(INDEX(E80:E93, SMALL(IF(ISNUMBER(SEARCH(\"JV2\",F80:F93)), ROW(F80:F93)-MIN(ROW(F80:F93))+1, \"\"), ROW() -79 )), \"\")","v":""}]
[null,"Grand View University",null,"7914-7770","Kaytlyn Andrews","V",null,3743.0,null,false,{"$nulls":17},{"$f":"IFERROR(INDEX(B80:B93, SMALL(IF(\"V\"=F80:F93, ROW(F80:F93)-MIN(ROW(F80:F93))+1, \"\"), ROW() -79 )), \"\")","v":"Grand View University"},{"$f":"IFERROR(INDEX(C80:C93, SMALL(IF(\"V\"=F80:F93, ROW(F80:F93)-MIN(ROW(F80:F93))+1, \"\"), ROW() -79 )), \"\")","v":""},{"$f":"IFERROR(INDEX(D80:D93, SMALL(IF(\"V\"=F80:F93, ROW(F80:F93)-MIN(ROW(F80:F93))+1, \"\"), ROW() -79 )), \"\")","v":"11-307190"},{"$f":"IFERROR(INDEX(E80:E93, SMALL(IF(\"V\"=F80:F93, ROW(F80:F93)-MIN(ROW(F80:F93))+1, \"\"), ROW() -79 )), \"\")","v":"Michelle Stewart"},{"$f":"IFERROR(INDEX(B80:B93, SMALL(IF(ISNUMBER(SEARCH(\"JV1\",F80:F93)), ROW(F80:F93)-MIN(ROW(F80:F93))+1, \"\"), ROW() -79 )), \"\")","v":""},{"$f":"IFERROR(INDEX(C80:C93, SMALL(IF(ISNUMBER(SEARCH(\"JV1\",F80:F93)), ROW(F80:F93)-MIN(ROW(F80:F93))+1, \"\"), ROW() -79 )), \"\")","v":""},{"$f":"IFERROR(INDEX(D80:D93, SMALL(IF(ISNUMBER(SEARCH(\"JV1\",F80:F93)), ROW(F80:F93)-MIN(ROW(F80:F93))+1, \"\"), ROW() -79 )), \"\")","v":""},{"$f":"IFERROR(INDEX(E80:E93, SMALL(IF(ISNUMBER(SEARCH(\"JV1\",F80:F93)), ROW(F80:F93)-MIN(ROW(F80:F93))+1, \"\"), ROW() -79 )), \"\")","v":""},{"$f":"IFERROR(INDEX(B80:B93, SMALL(IF(ISNUMBER(SEARCH(\"JV2\",F80:F93)), ROW(F80:F93)-MIN(ROW(F80:F93))+1, \"\"), ROW() -79 )), \"\")","v":""},{"$f":"IFERROR(INDEX(C80:C93, SMALL(IF(ISNUMBER(SEARCH(\"JV2\",F80:F93)), ROW(F80:F93)-MIN(ROW(F80:F93))+1, \"\"), ROW() -79 )), \"\")","v":""},{"$f":"IFERROR(INDEX(D80:D93, SMALL(IF(ISNUMBER(SEARCH(\"JV2\",F80:F93)), ROW(F80:F93)-MIN(ROW(F80:F93))+1, \"\"), ROW() -79 )), \"\")","v":""},{"$f":"IFERROR(INDEX(E80:E93, SMALL(IF(ISNUMBER(SEARCH(\"JV2\",F80:F93)), ROW(F80:F93)-MIN(ROW(F80:F93))+1, \"\"), ROW() -79 )), \"\")","v":""}]
[null,"Grand View University",null,"7914-2777","Kiera Jors","V",null,3743.0,null,false,{"$nulls":17},{"$f":"IFERROR(INDEX(B80:B93, SMALL(IF(\"V\"=F80:F93, ROW(F80:F93)-MIN(ROW(F80:F93))+1, \"\"), ROW() -79 )), \"\")","v":""},{"$f":"IFERROR(INDEX(C80:C93, SMALL(IF(\"V\"=F80:F93, ROW(F80:F93)-MIN(ROW(F80:F93))+1, \"\"), ROW() -79 )), \"\")","v":""},{"$f":"IFERROR(INDEX(D80:D93, SMALL(IF(\"V\"=F80:F93, ROW(F80:F93)-MIN(ROW(F80:F93))+1, \"\"), ROW() -79 )), \"\")","v":""},{"$f":"IFERROR(INDEX(E80:E93, SMALL(IF(\"V\"=F80:F93, ROW(F80:F93)-MIN(ROW(F80:F93))+1, \"\"), ROW() -79 )), \"\")","v":""},{"$f":"IFERROR(INDEX(B80:B93, SMALL(IF(ISNUMBER(SEARCH(\"JV1\",F80:F93)), ROW(F80:F93)-MIN(ROW(F80:F93))+1, \"\"), ROW() -79 )), \"\")","v":""},{"$f":"IFERROR(INDEX(C80:C93, SMALL(IF(ISNUMBER(SEARCH(\"JV1\",F80:F93)), ROW(F80:F93)-MIN(ROW(F80:F93))+1, \"\"), ROW() -79 )), \"\")","v":""},{"$f":"IFERROR(INDEX(D80:D93, SMALL(IF(ISNUMBER(SEARCH(\"JV1\",F80:F93)), ROW(F80:F93)-MIN(ROW(F80:F93))+1, \"\"), ROW() -79 )), \"\")","v":""},{"$f":"IFERROR(INDEX(E80:E93, SMALL(IF(ISNUMBER(SEARCH(\"JV1\",F80:F93)), ROW(F80:F93)-MIN(ROW(F80:F93))+1, \"\"), ROW() -79 )), \"\")","v":""},{"$f":"IFERROR(INDEX(B80:B93, SMALL(IF(ISNUMBER(SEARCH(\"JV2\",F80:F93)), ROW(F80:F93)-MIN(ROW(F80:F93))+1, \"\"), ROW() -79 )), \"\")","v":""},{"$f":"IFERROR(INDEX(C80:C93, SMALL(IF(ISNUMBER(SEARCH(\"JV2\",F80:F93)), ROW(F80:F93)-MIN(ROW(F80:F93))+1, \"\"), ROW() -79 )), \"\")","v":""},{"$f":"IFERROR(INDEX(D80:D93, SMALL(IF(ISNUMBER(SEARCH(\"JV2\",F80:F93)), ROW(F80:F93)-MIN(ROW(F80:F93))+1, \"\"), ROW() -79 )), \"\")","v":""},{"$f":"IFERROR(INDEX(E80:E93, SMALL(IF(ISNUMBER(SEARCH(\"JV2\",F80:F93)), ROW(F80:F93)-MIN(ROW(F80:F93))+1, \"\"), ROW() -79 )), \"\")","v":""}]
[null,"Grand View University",null,"17-63686","Kylee Hoffman",null,null,3743.0,null,false]
[null,"Grand View University",null,"18-34841","Kylie Arai",null,null,3743.0,null,false]
[null,"Grand View University",null,"11-693909","Lisa Messer",null,null,3743.0,null,false]
[null,"Grand View University",null,"11-242164","Madison Pickett","V",null,3743.0,null,false]
[null,"Grand View University",null,"11-307190","Michelle Stewart","V",null,3743.0,null,false]
[null,"Grand View University",null,"5730-33858","Rachel Gore",null,null,3743.0,null,false]
[null,"Hastings College",null,"11-87836","Abby Dallegge","V",null,4331.0,null,false,{"$nulls":17},{"$f":"IFERROR(INDEX(B94:B105, SMALL(IF(\"V\"=F94:F105, ROW(F94:F105)-MIN(ROW(F94:F105))+1, \"\"), ROW() -93 )), \"\")","v":"Hastings College"},{"$f":"IFERROR(INDEX(C94:C105, SMALL(IF(\"V\"=F94:F105, ROW(F94:F105)-MIN(ROW(F94:F105))+1, \"\"), ROW() -93 )), \"\")","v":""},{"$f":"IFERROR(INDEX(D94:D105, SMALL(IF(\"V\"=F94:F105, ROW(F94:F105)-MIN(ROW(F94:F105))+1, \"\"), ROW() -93 )), \"\")","v":"11-87836"},{"$f":"IFERROR(INDEX(E94:E105, SMALL(IF(\"V\"=F94:F105, ROW(F94:F105)-MIN(ROW(F94:F105))+1, \"\"), ROW() -93 )), \"\")","v":"Abby Dallegge"},{"$f":"IFERROR(INDEX(B94:B105, SMALL(IF(ISNUMBER(SEARCH(\"JV1\",F94:F105)), ROW(F94:F105)-MIN(ROW(F94:F105))+1, \"\"), ROW() -93 )), \"\")","v":""},{"$f":"IFERROR(INDEX(C94:C105, SMALL(IF(ISNUMBER(SEARCH(\"JV1\",F94:F105)), ROW(F94:F105)-MIN(ROW(F94:F105))+1, \"\"), ROW() -93 )), \"\")","v":""},{"$f":"IFERROR(INDEX(D94:D105, SMALL(IF(ISNUMBER(SEARCH(\"JV1\",F94:F105)), ROW(F94:F105)-MIN(ROW(F94:F105))+1, \"\"), ROW() -93 )), \"\")","v":""},{"$f":"IFERROR(INDEX(E94:E105, SMALL(IF(ISNUMBER(SEARCH(\"JV1\",F94:F105)), ROW(F94:F105)-MIN(ROW(F94:F105))+1, \"\"), ROW() -93 )), \"\")","v":""},{"$f":"IFERROR(INDEX(B94:B105, SMALL(IF(ISNUMBER(SEARCH(\"JV2\",F94:F105)), ROW(F94:F105)-MIN(ROW(F94:F105))+1, \"\"), ROW() -93 )), \"\")","v":""},{"$f":"IFERROR(INDEX(C94:C105, SMALL(IF(ISNUMBER(SEARCH(\"JV2\",F94:F105)), ROW(F94:F105)-MIN(ROW(F94:F105))+1, \"\"), ROW() -93 )), \"\")","v":""},{"$f":"IFERROR(INDEX(D94:D105, SMALL(IF(ISNUMBER(SEARCH(\"JV2\",F94:F105)), ROW(F94:F105)-MIN(ROW(F94:F105))+1, \"\"), ROW() -93 )), \"\")","v":""},{"$f":"IFERROR(INDEX(E94:E105, SMALL(IF(ISNUMBER(SEARCH(\"JV2\",F94:F105)), ROW(F94:F105)-MIN(ROW(F94:F105))+1, \"\"), ROW() -93 )), \"\")","v":""}]
[null,"Hastings College",null,"11-264092","Amanda Peterson","V",null,4331.0,null,false,{"$nulls":17},{"$f":"IFERROR(INDEX(B94:B105, SMALL(IF(\"V\"=F94:F105, ROW(F94:F105)-MIN(ROW(F94:F105))+1, \"\"), ROW() -93 )), \"\")","v":"Hastings College"},{"$f":"IFERROR(INDEX(C94:C105, SMALL(IF(\"V\"=F94:F105, ROW(F94:F105)-MIN(ROW(F94:F105))+1, \"\"), ROW() -93 )), \"\")","v":""},{"$f":"IFERROR(INDEX(D94:D105, SMALL(IF(\"V\"=F94:F105, ROW(F94:F105)-MIN(ROW(F94:F105))+1, \"\"), ROW() -93 )), \"\")","v":"11-264092"},{"$f":"IFERROR(INDEX(E94:E105, SMALL(IF(\"V\"=F94:F105, ROW(F94:F105)-MIN(ROW(F94:F105))+1, \"\"), ROW() -93 )), \"\")","v":"Amanda Peterson"},{"$f":"IFERROR(INDEX(B94:B105, SMALL(IF(ISNUMBER(SEARCH(\"JV1\",F94:F105)), ROW(F94:F105)-MIN(ROW(F94:F105))+1, \"\"), ROW() -93 )), \"\")","v":""},{"$f":"IFERROR(INDEX(C94:C105, SMALL(IF(ISNUMBER(SEARCH(\"JV1\",F94:F105)), ROW(F94:F105)-MIN(ROW(F94:F105))+1, \"\"), ROW() -93 )), \"\")","v":""},{"$f":"IFERROR(INDEX(D94:D105, SMALL(IF(ISNUMBER(SEARCH(\"JV1\",F94:F105)), ROW(F94:F105)-MIN(ROW(F94:F105))+1, \"\"), ROW() -93 )), \"\")","v":""},{"$f":"IFERROR(INDEX(E94:E105, SMALL(IF(ISNUMBER(SEARCH(\"JV1\",F94:F105)), ROW(F94:F105)-MIN(ROW(F94:F105))+1, \"\"), ROW() -93 )), \"\")","v":""},{"$f":"IFERROR(INDEX(B94:B105, SMALL(IF(ISNUMBER(SEARCH(\"JV2\",F94:F105)), ROW(F94:F105)-MIN(ROW(F94:F105))+1, \"\"), ROW() -93 )), \"\")","v":""},{"$f":"IFERROR(INDEX(C94:C105, SMALL(IF(ISNUMBER(SEARCH(\"JV2\",F94:F105)), ROW(F94:F105)-MIN(ROW(F94:F105))+1, \"\"), ROW() -93 )), \"\")","v":""},{"$f":"IFERROR(INDEX(D94:D105, SMALL(IF(ISNUMBER(SEARCH(\"JV2\",F94:F105)), ROW(F94:F105)-MIN(ROW(F94:F105))+1, \"\"), ROW() -93 )), \"\")","v":""},{"$f":"IFERROR(INDEX(E94:E105, SMALL(IF(ISNUMBER(SEARCH(\"JV2\",F94:F105)), ROW(F94:F105)-MIN(ROW(F94:F105))+1, \"\"), ROW() -93 )), \"\")","v":""}]
[null,"Hastings College",null,"11-427709","Emmeline Herman",null,null,4331.0,null,false,{"$nulls":17},{"$f":"IFERROR(INDEX(B94:B105, SMALL(IF(\"V\"=F94:F105, ROW(F94:F105)-MIN(ROW(F94:F105))+1, \"\"), ROW() -93 )), \"\")","v":"Hastings College"},{"$f":"IFERROR(INDEX(C94:C105, SMALL(IF(\"V\"=F94:F105, ROW(F94:F105)-MIN(ROW(F94:F105))+1, \"\"), ROW() -93 )), \"\")","v":""},{"$f":"IFERROR(INDEX(D94:D105, SMALL(IF(\"V\"=F94:F105, ROW(F94:F105)-MIN(ROW(F94:F105))+1, \"\"), ROW() -93 )), \"\")","v":"20-10282"},{"$f":"IFERROR(INDEX(E94:E105, SMALL(IF(\"V\"=F94:F105, ROW(F94:F105)-MIN(ROW(F94:F105))+1, \"\"), ROW() -93 )), \"\")","v":"Katie Morse"},{"$f":"IFERROR(INDEX(B94:B105, SMALL(IF(ISNUMBER(SEARCH(\"JV1\",F94:F105)), ROW(F94:F105)-MIN(ROW(F94:F105))+1, \"\"), ROW() -93 )), \"\")","v":""},{"$f":"IFERROR(INDEX(C94:C105, SMALL(IF(ISNUMBER(SEARCH(\"JV1\",F94:F105)), ROW(F94:F105)-MIN(ROW(F94:F105))+1, \"\"), ROW() -93 )), \"\")","v":""},{"$f":"IFERROR(INDEX(D94:D105, SMALL(IF(ISNUMBER(SEARCH(\"JV1\",F94:F105)), ROW(F94:F105)-MIN(ROW(F94:F105))+1, \"\"), ROW() -93 )), \"\")","v":""},{"$f":"IFERROR(INDEX(E94:E105, SMALL(IF(ISNUMBER(SEARCH(\"JV1\",F94:F105)), ROW(F94:F105)-MIN(ROW(F94:F105))+1, \"\"), ROW() -93 )), \"\")","v":""},{"$f":"IFERROR(INDEX(B94:B105, SMALL(IF(ISNUMBER(SEARCH(\"JV2\",F94:F105)), ROW(F94:F105)-MIN(ROW(F94:F105))+1, \"\"), ROW() -93 )), \"\")","v":""},{"$f":"IFERROR(INDEX(C94:C105, SMALL(IF(ISNUMBER(SEARCH(\"JV2\",F94:F105)), ROW(F94:F105)-MIN(ROW(F94:F105))+1, \"\"), ROW() -93 )), \"\")","v":""},{"$f":"IFERROR(INDEX(D94:D105, SMALL(IF(ISNUMBER(SEARCH(\"JV2\",F94:F105)), ROW(F94:F105)-MIN(ROW(F94:F105))+1, \"\"), ROW() -93 )), \"\")","v":""},{"$f":"IFERROR(INDEX(E94:E105, SMALL(IF(ISNUMBER(SEARCH(\"JV2\",F94:F105)), ROW(F94:F105)-MIN(ROW(F94:F105))+1, \"\"), ROW() -93 )), \"\")","v":""}]
[null,"Hastings College",null,"22-88597","Hailey Kirchhevel",null,null,4331.0,null,false,{"$nulls":17},{"$f":"IFERROR(INDEX(B94:B105, SMALL(IF(\"V\"=F94:F105, ROW(F94:F105)-MIN(ROW(F94:F105))+1, \"\"), ROW() -93 )), \"\")","v":"Hastings College"},{"$f":"IFERROR(INDEX(C94:C105, SMALL(IF(\"V\"=F94:F105, ROW(F94:F105)-MIN(ROW(F94:F105))+1, \"\"), ROW() -93 )), \"\")","v":""},{"$f":"IFERROR(INDEX(D94:D105, SMALL(IF(\"V\"=F94:F105, ROW(F94:F105)-MIN(ROW(F94:F105))+1, \"\"), ROW() -93 )), \"\")","v":"11-734490"},{"$f":"IFERROR(INDEX(E94:E105, SMALL(IF(\"V\"=F94:F105, ROW(F94:F105)-MIN(ROW(F94:F105))+1, \"\"), ROW() -93 )), \"\")","v":"Kinzie Temple"},{"$f":"IFERROR(INDEX(B94:B105, SMALL(IF(ISNUMBER(SEARCH(\"JV1\",F94:F105)), ROW(F94:F105)-MIN(ROW(F94:F105))+1, \"\"), ROW() -93 )), \"\")","v":""},{"$f":"IFERROR(INDEX(C94:C105, SMALL(IF(ISNUMBER(SEARCH(\"JV1\",F94:F105)), ROW(F94:F105)-MIN(ROW(F94:F105))+1, \"\"), ROW() -93 )), \"\")","v":""},{"$f":"IFERROR(INDEX(D94:D105, SMALL(IF(ISNUMBER(SEARCH(\"JV1\",F94:F105)), ROW(F94:F105)-MIN(ROW(F94:F105))+1, \"\"), ROW() -93 )), \"\")","v":""},{"$f":"IFERROR(INDEX(E94:E105, SMALL(IF(ISNUMBER(SEARCH(\"JV1\",F94:F105)), ROW(F94:F105)-MIN(ROW(F94:F105))+1, \"\"), ROW() -93 )), \"\")","v":""},{"$f":"IFERROR(INDEX(B94:B105, SMALL(IF(ISNUMBER(SEARCH(\"JV2\",F94:F105)), ROW(F94:F105)-MIN(ROW(F94:F105))+1, \"\"), ROW() -93 )), \"\")","v":""},{"$f":"IFERROR(INDEX(C94:C105, SMALL(IF(ISNUMBER(SEARCH(\"JV2\",F94:F105)), ROW(F94:F105)-MIN(ROW(F94:F105))+1, \"\"), ROW() -93 )), \"\")","v":""},{"$f":"IFERROR(INDEX(D94:D105, SMALL(IF(ISNUMBER(SEARCH(\"JV2\",F94:F105)), ROW(F94:F105)-MIN(ROW(F94:F105))+1, \"\"), ROW() -93 )), \"\")","v":""},{"$f":"IFERROR(INDEX(E94:E105, SMALL(IF(ISNUMBER(SEARCH(\"JV2\",F94:F105)), ROW(F94:F105)-MIN(ROW(F94:F105))+1, \"\"), ROW() -93 )), \"\")","v":""}]
[null,"Hastings College",null,"20-10282","Katie Morse","V",null,4331.0,null,false,{"$nulls":17},{"$f":"IFERROR(INDEX(B94:B105, SMALL(IF(\"V\"=F94:F105, ROW(F94:F105)-MIN(ROW(F94:F105))+1, \"\"), ROW() -93 )), \"\")","v":"Hastings College"},{"$f":"IFERROR(INDEX(C94:C105, SMALL(IF(\"V\"=F94:F105, ROW(F94:F105)-MIN(ROW(F94:F105))+1, \"\"), ROW() -93 )), \"\")","v":""},{"$f":"IFERROR(INDEX(D94:D105, SMALL(IF(\"V\"=F94:F105, ROW(F94:F105)-MIN(ROW(F94:F105))+1, \"\"), ROW() -93 )), \"\")","v":"11-455997"},{"$f":"IFERROR(INDEX(E94:E105, SMALL(IF(\"V\"=F94:F105, ROW(F94:F105)-MIN(ROW(F94:F105))+1, \"\"), ROW() -93 )), \"\")","v":"Madison Henderson"},{"$f":"IFERROR(INDEX(B94:B105, SMALL(IF(ISNUMBER(SEARCH(\"JV1\",F94:F105)), ROW(F94:F105)-MIN(ROW(F94:F105))+1, \"\"), ROW() -93 )), \"\")","v":""},{"$f":"IFERROR(INDEX(C94:C105, SMALL(IF(ISNUMBER(SEARCH(\"JV1\",F94:F105)), ROW(F94:F105)-MIN(ROW(F94:F105))+1, \"\"), ROW() -93 )), \"\")","v":""},{"$f":"IFERROR(INDEX(D94:D105, SMALL(IF(ISNUMBER(SEARCH(\"JV1\",F94:F105)), ROW(F94:F105)-MIN(ROW(F94:F105))+1, \"\"), ROW() -93 )), \"\")","v":""},{"$f":"IFERROR(INDEX(E94:E105, SMALL(IF(ISNUMBER(SEARCH(\"JV1\",F94:F105)), ROW(F94:F105)-MIN(ROW(F94:F105))+1, \"\"), ROW() -93 )), \"\")","v":""},{"$f":"IFERROR(INDEX(B94:B105, SMALL(IF(ISNUMBER(SEARCH(\"JV2\",F94:F105)), ROW(F94:F105)-MIN(ROW(F94:F105))+1, \"\"), ROW() -93 )), \"\")","v":""},{"$f":"IFERROR(INDEX(C94:C105, SMALL(IF(ISNUMBER(SEARCH(\"JV2\",F94:F105)), ROW(F94:F105)-MIN(ROW(F94:F105))+1, \"\"), ROW() -93 )), \"\")","v":""},{"$f":"IFERROR(INDEX(D94:D105, SMALL(IF(ISNUMBER(SEARCH(\"JV2\",F94:F105)), ROW(F94:F105)-MIN(ROW(F94:F105))+1, \"\"), ROW() -93 )), \"\")","v":""},{"$f":"IFERROR(INDEX(E94:E105, SMALL(IF(ISNUMBER(SEARCH(\"JV2\",F94:F105)), ROW(F94:F105)-MIN(ROW(F94:F105))+1, \"\"), ROW() -93 )), \"\")","v":""}]
[null,"Hastings College",null,"11-734490","Kinzie Temple","V",null,4331.0,null,false,{"$nulls":17},{"$f":"IFERROR(INDEX(B94:B105, SMALL(IF(\"V\"=F94:F105, ROW(F94:F105)-MIN(ROW(F94:F105))+1, \"\"), ROW() -93 )), \"\")","v":"Hastings College"},{"$f":"IFERROR(INDEX(C94:C105, SMALL(IF(\"V\"=F94:F105, ROW(F94:F105)-MIN(ROW(F94:F105))+1, \"\"), ROW() -93 )), \"\")","v":""},{"$f":"IFERROR(INDEX(D94:D105, SMALL(IF(\"V\"=F94:F105, ROW(F94:F105)-MIN(ROW(F94:F105))+1, \"\"), ROW() -93 )), \"\")","v":"18-71705"},{"$f":"IFERROR(INDEX(E94:E105, SMALL(IF(\"V\"=F94:F105, ROW(F94:F105)-MIN(ROW(F94:F105))+1, \"\"), ROW() -93 )), \"\")","v":"Marissa Ruiz"},{"$f":"IFERROR(INDEX(B94:B105, SMALL(IF(ISNUMBER(SEARCH(\"JV1\",F94:F105)), ROW(F94:F105)-MIN(ROW(F94:F105))+1, \"\"), ROW() -93 )), \"\")","v":""},{"$f":"IFERROR(INDEX(C94:C105, SMALL(IF(ISNUMBER(SEARCH(\"JV1\",F94:F105)), ROW(F94:F105)-MIN(ROW(F94:F105))+1, \"\"), ROW() -93 )), \"\")","v":""},{"$f":"IFERROR(INDEX(D94:D105, SMALL(IF(ISNUMBER(SEARCH(\"JV1\",F94:F105)), ROW(F94:F105)-MIN(ROW(F94:F105))+1, \"\"), ROW() -93 )), \"\")","v":""},{"$f":"IFERROR(INDEX(E94:E105, SMALL(IF(ISNUMBER(SEARCH(\"JV1\",F94:F105)), ROW(F94:F105)-MIN(ROW(F94:F105))+1, \"\"), ROW() -93 )), \"\")","v":""},{"$f":"IFERROR(INDEX(B94:B105, SMALL(IF(ISNUMBER(SEARCH(\"JV2\",F94:F105)), ROW(F94:F105)-MIN(ROW(F94:F105))+1, \"\"), ROW() -93 )), \"\")","v":""},{"$f":"IFERROR(INDEX(C94:C105, SMALL(IF(ISNUMBER(SEARCH(\"JV2\",F94:F105)), ROW(F94:F105)-MIN(ROW(F94:F105))+1, \"\"), ROW() -93 )), \"\")","v":""},{"$f":"IFERROR(INDEX(D94:D105, SMALL(IF(ISNUMBER(SEARCH(\"JV2\",F94:F105)), ROW(F94:F105)-MIN(ROW(F94:F105))+1, \"\"), ROW() -93 )), \"\")","v":""},{"$f":"IFERROR(INDEX(E94:E105, SMALL(IF(ISNUMBER(SEARCH(\"JV2\",F94:F105)), ROW(F94:F105)-MIN(ROW(F94:F105))+1, \"\"), ROW() -93 )), \"\")","v":""}]
[null,"Hastings College",null,"22-88503","Langley Riha",null,null,4331.0,null,false,{"$nulls":17},{"$f":"IFERROR(INDEX(B94:B105, SMALL(IF(\"V\"=F94:F105, ROW(F94:F105)-MIN(ROW(F94:F105))+1, \"\"), ROW() -93 )), \"\")","v":""},{"$f":"IFERROR(INDEX(C94:C105, SMALL(IF(\"V\"=F94:F105, ROW(F94:F105)-MIN(ROW(F94:F105))+1, \"\"), ROW() -93 )), \"\")","v":""},{"$f":"IFERROR(INDEX(D94:D105, SMALL(IF(\"V\"=F94:F105, ROW(F94:F105)-MIN(ROW(F94:F105))+1, \"\"), ROW() -93 )), \"\")","v":""},{"$f":"IFERROR(INDEX(E94:E105, SMALL(IF(\"V\"=F94:F105, ROW(F94:F105)-MIN(ROW(F94:F105))+1, \"\"), ROW() -93 )), \"\")","v":""},{"$f":"IFERROR(INDEX(B94:B105, SMALL(IF(ISNUMBER(SEARCH(\"JV1\",F94:F105)), ROW(F94:F105)-MIN(ROW(F94:F105))+1, \"\"), ROW() -93 )), \"\")","v":""},{"$f":"IFERROR(INDEX(C94:C105, SMALL(IF(ISNUMBER(SEARCH(\"JV1\",F94:F105)), ROW(F94:F105)-MIN(ROW(F94:F105))+1, \"\"), ROW() -93 )), \"\")","v":""},{"$f":"IFERROR(INDEX(D94:D105, SMALL(IF(ISNUMBER(SEARCH(\"JV1\",F94:F105)), ROW(F94:F105)-MIN(ROW(F94:F105))+1, \"\"), ROW() -93 )), \"\")","v":""},{"$f":"IFERROR(INDEX(E94:E105, SMALL(IF(ISNUMBER(SEARCH(\"JV1\",F94:F105)), ROW(F94:F105)-MIN(ROW(F94:F105))+1, \"\"), ROW() -93 )), \"\")","v":""},{"$f":"IFERROR(INDEX(B94:B105, SMALL(IF(ISNUMBER(SEARCH(\"JV2\",F94:F105)), ROW(F94:F105)-MIN(ROW(F94:F105))+1, \"\"), ROW() -93 )), \"\")","v":""},{"$f":"IFERROR(INDEX(C94:C105, SMALL(IF(ISNUMBER(SEARCH(\"JV2\",F94:F105)), ROW(F94:F105)-MIN(ROW(F94:F105))+1, \"\"), ROW() -93 )), \"\")","v":""},{"$f":"IFERROR(INDEX(D94:D105, SMALL(IF(ISNUMBER(SEARCH(\"JV2\",F94:F105)), ROW(F94:F105)-MIN(ROW(F94:F105))+1, \"\"), ROW() -93 )), \"\")","v":""},{"$f":"IFERROR(INDEX(E94:E105, SMALL(IF(ISNUMBER(SEARCH(\"JV2\",F94:F105)), ROW(F94:F105)-MIN(ROW(F94:F105))+1, \"\"), ROW() -93 )), \"\")","v":""}]
[null,"Hastings College",null,"11-455997","Madison Henderson","V",null,4331.0,null,false,{"$nulls":17},{"$f":"IFERROR(INDEX(B94:B105, SMALL(IF(\"V\"=F94:F105, ROW(F94:F105)-MIN(ROW(F94:F105))+1, \"\"), ROW() -93 )), \"\")","v":""},{"$f":"IFERROR(INDEX(C94:C105, SMALL(IF(\"V\"=F94:F105, ROW(F94:F105)-MIN(ROW(F94:F105))+1, \"\"), ROW() -93 )), \"\")","v":""},{"$f":"IFERROR(INDEX(D94:D105, SMALL(IF(\"V\"=F94:F105, ROW(F94:F105)-MIN(ROW(F94:F105))+1, \"\"), ROW() -93 )), \"\")","v":""},{"$f":"IFERROR(INDEX(E94:E105, SMALL(IF(\"V\"=F94:F105, ROW(F94:F105)-MIN(ROW(F94:F105))+1, \"\"), ROW() -93 )), \"\")","v":""},{"$f":"IFERROR(INDEX(B94:B105, SMALL(IF(ISNUMBER(SEARCH(\"JV1\",F94:F105)), ROW(F94:F105)-MIN(ROW(F94:F105))+1, \"\"), ROW() -93 )), \"\")","v":""},{"$f":"IFERROR(INDEX(C94:C105, SMALL(IF(ISNUMBER(SEARCH(\"JV1\",F94:F105)), ROW(F94:F105)-MIN(ROW(F94:F105))+1, \"\"), ROW() -93 )), \"\")","v":""},{"$f":"IFERROR(INDEX(D94:D105, SMALL(IF(ISNUMBER(SEARCH(\"JV1\",F94:F105)), ROW(F94:F105)-MIN(ROW(F94:F105))+1, \"\"), ROW() -93 )), \"\")","v":""},{"$f":"IFERROR(INDEX(E94:E105, SMALL(IF(ISNUMBER(SEARCH(\"JV1\",F94:F105)), ROW(F94:F105)-MIN(ROW(F94:F105))+1, \"\"), ROW() -93 )), \"\")","v":""},{"$f":"IFERROR(INDEX(B94:B105, SMALL(IF(ISNUMBER(SEARCH(\"JV2\",F94:F105)), ROW(F94:F105)-MIN(ROW(F94:F105))+1, \"\"), ROW() -93 )), \"\")","v":""},{"$f":"IFERROR(INDEX(C94:C105, SMALL(IF(ISNUMBER(SEARCH(\"JV2\",F94:F105)), ROW(F94:F105)-MIN(ROW(F94:F105))+1, \"\"), ROW() -93 )), \"\")","v":""},{"$f":"IFERROR(INDEX(D94:D105, SMALL(IF(ISNUMBER(SEARCH(\"JV2\",F94:F105)), ROW(F94:F105)-MIN(ROW(F94:F105))+1, \"\"), ROW() -93 )), \"\")","v":""},{"$f":"IFERROR(INDEX(E94:E105, SMALL(IF(ISNUMBER(SEARCH(\"JV2\",F94:F105)), ROW(F94:F105)-MIN(ROW(F94:F105))+1, \"\"), ROW() -93 )), \"\")","v":""}]
[null,"Hastings College",null,"18-71705","Marissa Ruiz","V",null,4331.0,null,false]
[null,"Hastings College",null,"15-199401","Ryann Clark",null,null,4331.0,null,false]
[null,"Hastings College",null,"11-261194","Shaylee Lux",null,null,4331.0,null,false]
[null,"Hastings College",null,"17-59372","Taylor Dunbar",null,null,4331.0,null,false]
[null,"Kansas ,University Of",null,"21-82225","Alexys Boehm",null,null,2329.0,null,false,{"$nulls":17},{"$f":"IFERROR(INDEX(B106:B117, SMALL(IF(\"V\"=F106:F117, ROW(F106:F117)-MIN(ROW(F106:F117))+1, \"\"), ROW() -105 )), \"\")","v":"Kansas ,University Of"},{"$f":"IFERROR(INDEX(C106:C117, SMALL(IF(\"V\"=F106:F117, ROW(F106:F117)-MIN(ROW(F106:F117))+1, \"\"), ROW() -105 )), \"\")","v":""},{"$f":"IFERROR(INDEX(D106:D117, SMALL(IF(\"V\"=F106:F117, ROW(F106:F117)-MIN(ROW(F106:F117))+1, \"\"), ROW() -105 )), \"\")","v":"23-19336"},{"$f":"IFERROR(INDEX(E106:E117, SMALL(IF(\"V\"=F106:F117, ROW(F106:F117)-MIN(ROW(F106:F117))+1, \"\"), ROW() -105 )), \"\")","v":"Alyssa Molton"},{"$f":"IFERROR(INDEX(B106:B117, SMALL(IF(ISNUMBER(SEARCH(\"JV1\",F106:F117)), ROW(F106:F117)-MIN(ROW(F106:F117))+1, \"\"), ROW() -105 )), \"\")","v":""},{"$f":"IFERROR(INDEX(C106:C117, SMALL(IF(ISNUMBER(SEARCH(\"JV1\",F106:F117)), ROW(F106:F117)-MIN(ROW(F106:F117))+1, \"\"), ROW() -105 )), \"\")","v":""},{"$f":"IFERROR(INDEX(D106:D117, SMALL(IF(ISNUMBER(SEARCH(\"JV1\",F106:F117)), ROW(F106:F117)-MIN(ROW(F106:F117))+1, \"\"), ROW() -105 )), \"\")","v":""},{"$f":"IFERROR(INDEX(E106:E117, SMALL(IF(ISNUMBER(SEARCH(\"JV1\",F106:F117)), ROW(F106:F117)-MIN(ROW(F106:F117))+1, \"\"), ROW() -105 )), \"\")","v":""},{"$f":"IFERROR(INDEX(B106:B117, SMALL(IF(ISNUMBER(SEARCH(\"JV2\",F106:F117)), ROW(F106:F117)-MIN(ROW(F106:F117))+1, \"\"), ROW() -105 )), \"\")","v":""},{"$f":"IFERROR(INDEX(C106:C117, SMALL(IF(ISNUMBER(SEARCH(\"JV2\",F106:F117)), ROW(F106:F117)-MIN(ROW(F106:F117))+1, \"\"), ROW() -105 )), \"\")","v":""},{"$f":"IFERROR(INDEX(D106:D117, SMALL(IF(ISNUMBER(SEARCH(\"JV2\",F106:F117)), ROW(F106:F117)-MIN(ROW(F106:F117))+1, \"\"), ROW() -105 )), \"\")","v":""},{"$f":"IFERROR(INDEX(E106:E117, SMALL(IF(ISNUMBER(SEARCH(\"JV2\",F106:F117)), ROW(F106:F117)-MIN(ROW(F106:F117))+1, \"\"), ROW() -105 )), \"\")","v":""}]
[null,"Kansas ,University Of",null,"23-19336","Alyssa Molton","V",null,2329.0,null,false,{"$nulls":17},{"$f":"IFERROR(INDEX(B106:B117, SMALL(IF(\"V\"=F106:F117, ROW(F106:F117)-MIN(ROW(F106:F117))+1, \"\"), ROW() -105 )), \"\")","v":"Kansas ,University Of"},{"$f":"IFERROR(INDEX(C106:C117, SMALL(IF(\"V\"=F106:F117, ROW(F106:F117)-MIN(ROW(F106:F117))+1, \"\"), ROW() -105 )), \"\")","v":""},{"$f":"IFERROR(INDEX(D106:D117, SMALL(IF(\"V\"=F106:F117, ROW(F106:F117)-MIN(ROW(F106:F117))+1, \"\"), ROW() -105 )), \"\")","v":"5900-28007"},{"$f":"IFERROR(INDEX(E106:E117, SMALL(IF(\"V\"=F106:F117, ROW(F106:F117)-MIN(ROW(F106:F117))+1, \"\"), ROW() -105 )), \"\")","v":"Annabelle Bitner"},{"$f":"IFERROR(INDEX(B106:B117, SMALL(IF(ISNUMBER(SEARCH(\"JV1\",F106:F117)), ROW(F106:F117)-MIN(ROW(F106:F117))+1, \"\"), ROW() -105 )), \"\")","v":""},{"$f":"IFERROR(INDEX(C106:C117, SMALL(IF(ISNUMBER(SEARCH(\"JV1\",F106:F117)), ROW(F106:F117)-MIN(ROW(F106:F117))+1, \"\"), ROW() -105 )), \"\")","v":""},{"$f":"IFERROR(INDEX(D106:D117, SMALL(IF(ISNUMBER(SEARCH(\"JV1\",F106:F117)), ROW(F106:F117)-MIN(ROW(F106:F117))+1, \"\"), ROW() -105 )), \"\")","v":""},{"$f":"IFERROR(INDEX(E106:E117, SMALL(IF(ISNUMBER(SEARCH(\"JV1\",F106:F117)), ROW(F106:F117)-MIN(ROW(F106:F117))+1, \"\"), ROW() -105 )), \"\")","v":""},{"$f":"IFERROR(INDEX(B106:B117, SMALL(IF(ISNUMBER(SEARCH(\"JV2\",F106:F117)), ROW(F106:F117)-MIN(ROW(F106:F117))+1, \"\"), ROW() -105 )), \"\")","v":""},{"$f":"IFERROR(INDEX(C106:C117, SMALL(IF(ISNUMBER(SEARCH(\"JV2\",F106:F117)), ROW(F106:F117)-MIN(ROW(F106:F117))+1, \"\"), ROW() -105 )), \"\")","v":""},{"$f":"IFERROR(INDEX(D106:D117, SMALL(IF(ISNUMBER(SEARCH(\"JV2\",F106:F117)), ROW(F106:F117)-MIN(ROW(F106:F117))+1, \"\"), ROW() -105 )), \"\")","v":""},{"$f":"IFERROR(INDEX(E106:E117, SMALL(IF(ISNUMBER(SEARCH(\"JV2\",F106:F117)), ROW(F106:F117)-MIN(ROW(F106:F117))+1, \"\"), ROW() -105 )), \"\")","v":""}]
[null,"Kansas ,University Of",null,"5900-28007","Annabelle Bitner","V",null,2329.0,null,false,{"$nulls":17},{"$f":"IFERROR(INDEX(B106:B117, SMALL(IF(\"V\"=F106:F117, ROW(F106:F117)-MIN(ROW(F106:F117))+1, \"\"), ROW() -105 )), \"\")","v":"Kansas ,University Of"},{"$f":"IFERROR(INDEX(C106:C117, SMALL(IF(\"V\"=F106:F117, ROW(F106:F117)-MIN(ROW(F106:F117))+1, \"\"), ROW() -105 )), \"\")","v":""},{"$f":"IFERROR(INDEX(D106:D117, SMALL(IF(\"V\"=F106:F117, ROW(F106:F117)-MIN(ROW(F106:F117))+1, \"\"), ROW() -105 )), \"\")","v":"23-19341"},{"$f":"IFERROR(INDEX(E106:E117, SMALL(IF(\"V\"=F106:F117, ROW(F106:F117)-MIN(ROW(F106:F117))+1, \"\"), ROW() -105 )), \"\")","v":"Ashley Simpson"},{"$f":"IFERROR(INDEX(B106:B117, SMALL(IF(ISNUMBER(SEARCH(\"JV1\",F106:F117)), ROW(F106:F117)-MIN(ROW(F106:F117))+1, \"\"), ROW() -105 )), \"\")","v":""},{"$f":"IFERROR(INDEX(C106:C117, SMALL(IF(ISNUMBER(SEARCH(\"JV1\",F106:F117)), ROW(F106:F117)-MIN(ROW(F106:F117))+1, \"\"), ROW() -105 )), \"\")","v":""},{"$f":"IFERROR(INDEX(D106:D117, SMALL(IF(ISNUMBER(SEARCH(\"JV1\",F106:F117)), ROW(F106:F117)-MIN(ROW(F106:F117))+1, \"\"), ROW() -105 )), \"\")","v":""},{"$f":"IFERROR(INDEX(E106:E117, SMALL(IF(ISNUMBER(SEARCH(\"JV1\",F106:F117)), ROW(F106:F117)-MIN(ROW(F106:F117))+1, \"\"), ROW() -105 )), \"\")","v":""},{"$f":"IFERROR(INDEX(B106:B117, SMALL(IF(ISNUMBER(SEARCH(\"JV2\",F106:F117)), ROW(F106:F117)-MIN(ROW(F106:F117))+1, \"\"), ROW() -105 )), \"\")","v":""},{"$f":"IFERROR(INDEX(C106:C117, SMALL(IF(ISNUMBER(SEARCH(\"JV2\",F106:F117)), ROW(F106:F117)-MIN(ROW(F106:F117))+1, \"\"), ROW() -105 )), \"\")","v":""},{"$f":"IFERROR(INDEX(D106:D117, SMALL(IF(ISNUMBER(SEARCH(\"JV2\",F106:F117)), ROW(F106:F117)-MIN(ROW(F106:F117))+1, \"\"), ROW() -105 )), \"\")","v":""},{"$f":"IFERROR(INDEX(E106:E117, SMALL(IF(ISNUMBER(SEARCH(\"JV2\",F106:F117)), ROW(F106:F117)-MIN(ROW(F106:F117))+1, \"\"), ROW() -105 )), \"\")","v":""}]
[null,"Kansas ,University Of",null,"23-19341","Ashley Simpson","V",null,2329.0,null,false,{"$nulls":17},{"$f":"IFERROR(INDEX(B106:B117, SMALL(IF(\"V\"=F106:F117, ROW(F106:F117)-MIN(ROW(F106:F117))+1, \"\"), ROW() -105 )), \"\")","v":"Kansas ,University Of"},{"$f":"IFERROR(INDEX(C106:C117, SMALL(IF(\"V\"=F106:F117, ROW(F106:F117)-MIN(ROW(F106:F117))+1, \"\"), ROW() -105 )), \"\")","v":""},{"$f":"IFERROR(INDEX(D106:D117, SMALL(IF(\"V\"=F106:F117, ROW(F106:F117)-MIN(ROW(F106:F117))+1, \"\"), ROW() -105 )), \"\")","v":"21-82223"},{"$f":"IFERROR(INDEX(E106:E117, SMALL(IF(\"V\"=F106:F117, ROW(F106:F117)-MIN(ROW(F106:F117))+1, \"\"), ROW() -105 )), \"\")","v":"Braylie Apperson"},{"$f":"IFERROR(INDEX(B106:B117, SMALL(IF(ISNUMBER(SEARCH(\"JV1\",F106:F117)), ROW(F106:F117)-MIN(ROW(F106:F117))+1, \"\"), ROW() -105 )), \"\")","v":""},{"$f":"IFERROR(INDEX(C106:C117, SMALL(IF(ISNUMBER(SEARCH(\"JV1\",F106:F117)), ROW(F106:F117)-MIN(ROW(F106:F117))+1, \"\"), ROW() -105 )), \"\")","v":""},{"$f":"IFERROR(INDEX(D106:D117, SMALL(IF(ISNUMBER(SEARCH(\"JV1\",F106:F117)), ROW(F106:F117)-MIN(ROW(F106:F117))+1, \"\"), ROW() -105 )), \"\")","v":""},{"$f":"IFERROR(INDEX(E106:E117, SMALL(IF(ISNUMBER(SEARCH(\"JV1\",F106:F117)), ROW(F106:F117)-MIN(ROW(F106:F117))+1, \"\"), ROW() -105 )), \"\")","v":""},{"$f":"IFERROR(INDEX(B106:B117, SMALL(IF(ISNUMBER(SEARCH(\"JV2\",F106:F117)), ROW(F106:F117)-MIN(ROW(F106:F117))+1, \"\"), ROW() -105 )), \"\")","v":""},{"$f":"IFERROR(INDEX(C106:C117, SMALL(IF(ISNUMBER(SEARCH(\"JV2\",F106:F117)), ROW(F106:F117)-MIN(ROW(F106:F117))+1, \"\"), ROW() -105 )), \"\")","v":""},{"$f":"IFERROR(INDEX(D106:D117, SMALL(IF(ISNUMBER(SEARCH(\"JV2\",F106:F117)), ROW(F106:F117)-MIN(ROW(F106:F117))+1, \"\"), ROW() -105 )), \"\")","v":""},{"$f":"IFERROR(INDEX(E106:E117, SMALL(IF(ISNUMBER(SEARCH(\"JV2\",F106:F117)), ROW(F106:F117)-MIN(ROW(F106:F117))+1, \"\"), ROW() -105 )), \"\")","v":""}]
[null,"Kansas ,University Of",null,"21-82223","Braylie Apperson","V",null,2329.0,null,false,{"$nulls":17},{"$f":"IFERROR(INDEX(B106:B117, SMALL(IF(\"V\"=F106:F117, ROW(F106:F117)-MIN(ROW(F106:F117))+1, \"\"), ROW() -105 )), \"\")","v":"Kansas ,University Of"},{"$f":"IFERROR(INDEX(C106:C117, SMALL(IF(\"V\"=F106:F117, ROW(F106:F117)-MIN(ROW(F106:F117))+1, \"\"), ROW() -105 )), \"\")","v":""},{"$f":"IFERROR(INDEX(D106:D117, SMALL(IF(\"V\"=F106:F117, ROW(F106:F117)-MIN(ROW(F106:F117))+1, \"\"), ROW() -105 )), \"\")","v":"21-52280"},{"$f":"IFERROR(INDEX(E106:E117, SMALL(IF(\"V\"=F106:F117, ROW(F106:F117)-MIN(ROW(F106:F117))+1, \"\"), ROW() -105 )), \"\")","v":"Grace Dorst"},{"$f":"IFERROR(INDEX(B106:B117, SMALL(IF(ISNUMBER(SEARCH(\"JV1\",F106:F117)), ROW(F106:F117)-MIN(ROW(F106:F117))+1, \"\"), ROW() -105 )), \"\")","v":""},{"$f":"IFERROR(INDEX(C106:C117, SMALL(IF(ISNUMBER(SEARCH(\"JV1\",F106:F117)), ROW(F106:F117)-MIN(ROW(F106:F117))+1, \"\"), ROW() -105 )), \"\")","v":""},{"$f":"IFERROR(INDEX(D106:D117, SMALL(IF(ISNUMBER(SEARCH(\"JV1\",F106:F117)), ROW(F106:F117)-MIN(ROW(F106:F117))+1, \"\"), ROW() -105 )), \"\")","v":""},{"$f":"IFERROR(INDEX(E106:E117, SMALL(IF(ISNUMBER(SEARCH(\"JV1\",F106:F117)), ROW(F106:F117)-MIN(ROW(F106:F117))+1, \"\"), ROW() -105 )), \"\")","v":""},{"$f":"IFERROR(INDEX(B106:B117, SMALL(IF(ISNUMBER(SEARCH(\"JV2\",F106:F117)), ROW(F106:F117)-MIN(ROW(F106:F117))+1, \"\"), ROW() -105 )), \"\")","v":""},{"$f":"IFERROR(INDEX(C106:C117, SMALL(IF(ISNUMBER(SEARCH(\"JV2\",F106:F117)), ROW(F106:F117)-MIN(ROW(F106:F117))+1, \"\"), ROW() -105 )), \"\")","v":""},{"$f":"IFERROR(INDEX(D106:D117, SMALL(IF(ISNUMBER(SEARCH(\"JV2\",F106:F117)), ROW(F106:F117)-MIN(ROW(F106:F117))+1, \"\"), ROW() -105 )), \"\")","v":""},{"$f":"IFERROR(INDEX(E106:E117, SMALL(IF(ISNUMBER(SEARCH(\"JV2\",F106:F117)), ROW(F106:F117)-MIN(ROW(F106:F117))+1, \"\"), ROW() -105 )), \"\")","v":""}]
[null,"Kansas ,University Of",null,"21-52280","Grace Dorst","V",null,2329.0,null,false,{"$nulls":17},{"$f":"IFERROR(INDEX(B106:B117, SMALL(IF(\"V\"=F106:F117, ROW(F106:F117)-MIN(ROW(F106:F117))+1, \"\"), ROW() -105 )), \"\")","v":"Kansas ,University Of"},{"$f":"IFERROR(INDEX(C106:C117, SMALL(IF(\"V\"=F106:F117, ROW(F106:F117)-MIN(ROW(F106:F117))+1, \"\"), ROW() -105 )), \"\")","v":""},{"$f":"IFERROR(INDEX(D106:D117, SMALL(IF(\"V\"=F106:F117, ROW(F106:F117)-MIN(ROW(F106:F117))+1, \"\"), ROW() -105 )), \"\")","v":"23-22840"},{"$f":"IFERROR(INDEX(E106:E117, SMALL(IF(\"V\"=F106:F117, ROW(F106:F117)-MIN(ROW(F106:F117))+1, \"\"), ROW() -105 )), \"\")","v":"Kelsey Booker"},{"$f":"IFERROR(INDEX(B106:B117, SMALL(IF(ISNUMBER(SEARCH(\"JV1\",F106:F117)), ROW(F106:F117)-MIN(ROW(F106:F117))+1, \"\"), ROW() -105 )), \"\")","v":""},{"$f":"IFERROR(INDEX(C106:C117, SMALL(IF(ISNUMBER(SEARCH(\"JV1\",F106:F117)), ROW(F106:F117)-MIN(ROW(F106:F117))+1, \"\"), ROW() -105 )), \"\")","v":""},{"$f":"IFERROR(INDEX(D106:D117, SMALL(IF(ISNUMBER(SEARCH(\"JV1\",F106:F117)), ROW(F106:F117)-MIN(ROW(F106:F117))+1, \"\"), ROW() -105 )), \"\")","v":""},{"$f":"IFERROR(INDEX(E106:E117, SMALL(IF(ISNUMBER(SEARCH(\"JV1\",F106:F117)), ROW(F106:F117)-MIN(ROW(F106:F117))+1, \"\"), ROW() -105 )), \"\")","v":""},{"$f":"IFERROR(INDEX(B106:B117, SMALL(IF(ISNUMBER(SEARCH(\"JV2\",F106:F117)), ROW(F106:F117)-MIN(ROW(F106:F117))+1, \"\"), ROW() -105 )), \"\")","v":""},{"$f":"IFERROR(INDEX(C106:C117, SMALL(IF(ISNUMBER(SEARCH(\"JV2\",F106:F117)), ROW(F106:F117)-MIN(ROW(F106:F117))+1, \"\"), ROW() -105 )), \"\")","v":""},{"$f":"IFERROR(INDEX(D106:D117, SMALL(IF(ISNUMBER(SEARCH(\"JV2\",F106:F117)), ROW(F106:F117)-MIN(ROW(F106:F117))+1, \"\"), ROW() -105 )), \"\")","v":""},{"$f":"IFERROR(INDEX(E106:E117, SMALL(IF(ISNUMBER(SEARCH(\"JV2\",F106:F117)), ROW(F106:F117)-MIN(ROW(F106:F117))+1, \"\"), ROW() -105 )), \"\")","v":""}]
[null,"Kansas ,University Of",null,"23-22841","Kaylee Knobel",null,null,2329.0,null,false,{"$nulls":17},{"$f":"IFERROR(INDEX(B106:B117, SMALL(IF(\"V\"=F106:F117, ROW(F106:F117)-MIN(ROW(F106:F117))+1, \"\"), ROW() -105 )), \"\")","v":"Kansas ,University Of"},{"$f":"IFERROR(INDEX(C106:C117, SMALL(IF(\"V\"=F106:F117, ROW(F106:F117)-MIN(ROW(F106:F117))+1, \"\"), ROW() -105 )), \"\")","v":""},{"$f":"IFERROR(INDEX(D106:D117, SMALL(IF(\"V\"=F106:F117, ROW(F106:F117)-MIN(ROW(F106:F117))+1, \"\"), ROW() -105 )), \"\")","v":"23-19342"},{"$f":"IFERROR(INDEX(E106:E117, SMALL(IF(\"V\"=F106:F117, ROW(F106:F117)-MIN(ROW(F106:F117))+1, \"\"), ROW() -105 )), \"\")","v":"Rebecca Bruening"},{"$f":"IFERROR(INDEX(B106:B117, SMALL(IF(ISNUMBER(SEARCH(\"JV1\",F106:F117)), ROW(F106:F117)-MIN(ROW(F106:F117))+1, \"\"), ROW() -105 )), \"\")","v":""},{"$f":"IFERROR(INDEX(C106:C117, SMALL(IF(ISNUMBER(SEARCH(\"JV1\",F106:F117)), ROW(F106:F117)-MIN(ROW(F106:F117))+1, \"\"), ROW() -105 )), \"\")","v":""},{"$f":"IFERROR(INDEX(D106:D117, SMALL(IF(ISNUMBER(SEARCH(\"JV1\",F106:F117)), ROW(F106:F117)-MIN(ROW(F106:F117))+1, \"\"), ROW() -105 )), \"\")","v":""},{"$f":"IFERROR(INDEX(E106:E117, SMALL(IF(ISNUMBER(SEARCH(\"JV1\",F106:F117)), ROW(F106:F117)-MIN(ROW(F106:F117))+1, \"\"), ROW() -105 )), \"\")","v":""},{"$f":"IFERROR(INDEX(B106:B117, SMALL(IF(ISNUMBER(SEARCH(\"JV2\",F106:F117)), ROW(F106:F117)-MIN(ROW(F106:F117))+1, \"\"), ROW() -105 )), \"\")","v":""},{"$f":"IFERROR(INDEX(C106:C117, SMALL(IF(ISNUMBER(SEARCH(\"JV2\",F106:F117)), ROW(F106:F117)-MIN(ROW(F106:F117))+1, \"\"), ROW() -105 )), \"\")","v":""},{"$f":"IFERROR(INDEX(D106:D117, SMALL(IF(ISNUMBER(SEARCH(\"JV2\",F106:F117)), ROW(F106:F117)-MIN(ROW(F106:F117))+1, \"\"), ROW() -105 )), \"\")","v":""},{"$f":"IFERROR(INDEX(E106:E117, SMALL(IF(ISNUMBER(SEARCH(\"JV2\",F106:F117)), ROW(F106:F117)-MIN(ROW(F106:F117))+1, \"\"), ROW() -105 )), \"\")","v":""}]
[null,"Kansas ,University Of",null,"23-22840","Kelsey Booker","V",null,2329.0,null,false,{"$nulls":17},{"$f":"IFERROR(INDEX(B106:B117, SMALL(IF(\"V\"=F106:F117, ROW(F106:F117)-MIN(ROW(F106:F117))+1, \"\"), ROW() -105 )), \"\")","v":"Kansas ,University Of"},{"$f":"IFERROR(INDEX(C106:C117, SMALL(IF(\"V\"=F106:F117, ROW(F106:F117)-MIN(ROW(F106:F117))+1, \"\"), ROW() -105 )), \"\")","v":""},{"$f":"IFERROR(INDEX(D106:D117, SMALL(IF(\"V\"=F106:F117, ROW(F106:F117)-MIN(ROW(F106:F117))+1, \"\"), ROW() -105 )), \"\")","v":"21-32743"},{"$f":"IFERROR(INDEX(E106:E117, SMALL(IF(\"V\"=F106:F117, ROW(F106:F117)-MIN(ROW(F106:F117))+1, \"\"), ROW() -105 )), \"\")","v":"Sydney Chandler"},{"$f":"IFERROR(INDEX(B106:B117, SMALL(IF(ISNUMBER(SEARCH(\"JV1\",F106:F117)), ROW(F106:F117)-MIN(ROW(F106:F117))+1, \"\"), ROW() -105 )), \"\")","v":""},{"$f":"IFERROR(INDEX(C106:C117, SMALL(IF(ISNUMBER(SEARCH(\"JV1\",F106:F117)), ROW(F106:F117)-MIN(ROW(F106:F117))+1, \"\"), ROW() -105 )), \"\")","v":""},{"$f":"IFERROR(INDEX(D106:D117, SMALL(IF(ISNUMBER(SEARCH(\"JV1\",F106:F117)), ROW(F106:F117)-MIN(ROW(F106:F117))+1, \"\"), ROW() -105 )), \"\")","v":""},{"$f":"IFERROR(INDEX(E106:E117, SMALL(IF(ISNUMBER(SEARCH(\"JV1\",F106:F117)), ROW(F106:F117)-MIN(ROW(F106:F117))+1, \"\"), ROW() -105 )), \"\")","v":""},{"$f":"IFERROR(INDEX(B106:B117, SMALL(IF(ISNUMBER(SEARCH(\"JV2\",F106:F117)), ROW(F106:F117)-MIN(ROW(F106:F117))+1, \"\"), ROW() -105 )), \"\")","v":""},{"$f":"IFERROR(INDEX(C106:C117, SMALL(IF(ISNUMBER(SEARCH(\"JV2\",F106:F117)), ROW(F106:F117)-MIN(ROW(F106:F117))+1, \"\"), ROW() -105 )), \"\")","v":""},{"$f":"IFERROR(INDEX(D106:D117, SMALL(IF(ISNUMBER(SEARCH(\"JV2\",F106:F117)), ROW(F106:F117)-MIN(ROW(F106:F117))+1, \"\"), ROW() -105 )), \"\")","v":""},{"$f":"IFERROR(INDEX(E106:E117, SMALL(IF(ISNUMBER(SEARCH(\"JV2\",F106:F117)), ROW(F106:F117)-MIN(ROW(F106:F117))+1, \"\"), ROW() -105 )), \"\")","v":""}]
[null,"Kansas ,University Of",null,"20-40945","Payton Nies",null,null,2329.0,null,false]
[null,"Kansas ,University Of",null,"23-19342","Rebecca Bruening","V",null,2329.0,null,false]
[null,"Kansas ,University Of",null,"17-89547","Remy Asta",null,null,2329.0,null,false]
[null,"Kansas ,University Of",null,"21-32743","Sydney Chandler","V",null,2329.0,null,false]
[null,"Kansas State University",null,"22-16659","Addison Foley","V",null,4450.0,null,false,{"$nulls":17},{"$f":"IFERROR(INDEX(B118:B130, SMALL(IF(\"V\"=F118:F130, ROW(F118:F130)-MIN(ROW(F118:F130))+1, \"\"), ROW() -117 )), \"\")","v":"Kansas State University"},{"$f":"IFERROR(INDEX(C118:C130, SMALL(IF(\"V\"=F118:F130, ROW(F118:F130)-MIN(ROW(F118:F130))+1, \"\"), ROW() -117 )), \"\")","v":""},{"$f":"IFERROR(INDEX(D118:D130, SMALL(IF(\"V\"=F118:F130, ROW(F118:F130)-MIN(ROW(F118:F130))+1, \"\"), ROW() -117 )), \"\")","v":"22-16659"},{"$f":"IFERROR(INDEX(E118:E130, SMALL(IF(\"V\"=F118:F130, ROW(F118:F130)-MIN(ROW(F118:F130))+1, \"\"), ROW() -117 )), \"\")","v":"Addison Foley"},{"$f":"IFERROR(INDEX(B118:B130, SMALL(IF(ISNUMBER(SEARCH(\"JV1\",F118:F130)), ROW(F118:F130)-MIN(ROW(F118:F130))+1, \"\"), ROW() -117 )), \"\")","v":""},{"$f":"IFERROR(INDEX(C118:C130, SMALL(IF(ISNUMBER(SEARCH(\"JV1\",F118:F130)), ROW(F118:F130)-MIN(ROW(F118:F130))+1, \"\"), ROW() -117 )), \"\")","v":""},{"$f":"IFERROR(INDEX(D118:D130, SMALL(IF(ISNUMBER(SEARCH(\"JV1\",F118:F130)), ROW(F118:F130)-MIN(ROW(F118:F130))+1, \"\"), ROW() -117 )), \"\")","v":""},{"$f":"IFERROR(INDEX(E118:E130, SMALL(IF(ISNUMBER(SEARCH(\"JV1\",F118:F130)), ROW(F118:F130)-MIN(ROW(F118:F130))+1, \"\"), ROW() -117 )), \"\")","v":""},{"$f":"IFERROR(INDEX(B118:B130, SMALL(IF(ISNUMBER(SEARCH(\"JV2\",F118:F130)), ROW(F118:F130)-MIN(ROW(F118:F130))+1, \"\"), ROW() -117 )), \"\")","v":""},{"$f":"IFERROR(INDEX(C118:C130, SMALL(IF(ISNUMBER(SEARCH(\"JV2\",F118:F130)), ROW(F118:F130)-MIN(ROW(F118:F130))+1, \"\"), ROW() -117 )), \"\")","v":""},{"$f":"IFERROR(INDEX(D118:D130, SMALL(IF(ISNUMBER(SEARCH(\"JV2\",F118:F130)), ROW(F118:F130)-MIN(ROW(F118:F130))+1, \"\"), ROW() -117 )), \"\")","v":""},{"$f":"IFERROR(INDEX(E118:E130, SMALL(IF(ISNUMBER(SEARCH(\"JV2\",F118:F130)), ROW(F118:F130)-MIN(ROW(F118:F130))+1, \"\"), ROW() -117 )), \"\")","v":""}]
[null,"Kansas State University",null,"15-11096","Alivia Johnson","V",null,4450.0,null,false,{"$nulls":17},{"$f":"IFERROR(INDEX(B118:B130, SMALL(IF(\"V\"=F118:F130, ROW(F118:F130)-MIN(ROW(F118:F130))+1, \"\"), ROW() -117 )), \"\")","v":"Kansas State University"},{"$f":"IFERROR(INDEX(C118:C130, SMALL(IF(\"V\"=F118:F130, ROW(F118:F130)-MIN(ROW(F118:F130))+1, \"\"), ROW() -117 )), \"\")","v":""},{"$f":"IFERROR(INDEX(D118:D130, SMALL(IF(\"V\"=F118:F130, ROW(F118:F130)-MIN(ROW(F118:F130))+1, \"\"), ROW() -117 )), \"\")","v":"15-11096"},{"$f":"IFERROR(INDEX(E118:E130, SMALL(IF(\"V\"=F118:F130, ROW(F118:F130)-MIN(ROW(F118:F130))+1, \"\"), ROW() -117 )), \"\")","v":"Alivia Johnson"},{"$f":"IFERROR(INDEX(B118:B130, SMALL(IF(ISNUMBER(SEARCH(\"JV1\",F118:F130)), ROW(F118:F130)-MIN(ROW(F118:F130))+1, \"\"), ROW() -117 )), \"\")","v":""},{"$f":"IFERROR(INDEX(C118:C130, SMALL(IF(ISNUMBER(SEARCH(\"JV1\",F118:F130)), ROW(F118:F130)-MIN(ROW(F118:F130))+1, \"\"), ROW() -117 )), \"\")","v":""},{"$f":"IFERROR(INDEX(D118:D130, SMALL(IF(ISNUMBER(SEARCH(\"JV1\",F118:F130)), ROW(F118:F130)-MIN(ROW(F118:F130))+1, \"\"), ROW() -117 )), \"\")","v":""},{"$f":"IFERROR(INDEX(E118:E130, SMALL(IF(ISNUMBER(SEARCH(\"JV1\",F118:F130)), ROW(F118:F130)-MIN(ROW(F118:F130))+1, \"\"), ROW() -117 )), \"\")","v":""},{"$f":"IFERROR(INDEX(B118:B130, SMALL(IF(ISNUMBER(SEARCH(\"JV2\",F118:F130)), ROW(F118:F130)-MIN(ROW(F118:F130))+1, \"\"), ROW() -117 )), \"\")","v":""},{"$f":"IFERROR(INDEX(C118:C130, SMALL(IF(ISNUMBER(SEARCH(\"JV2\",F118:F130)), ROW(F118:F130)-MIN(ROW(F118:F130))+1, \"\"), ROW() -117 )), \"\")","v":""},{"$f":"IFERROR(INDEX(D118:D130, SMALL(IF(ISNUMBER(SEARCH(\"JV2\",F118:F130)), ROW(F118:F130)-MIN(ROW(F118:F130))+1, \"\"), ROW() -117 )), \"\")","v":""},{"$f":"IFERROR(INDEX(E118:E130, SMALL(IF(ISNUMBER(SEARCH(\"JV2\",F118:F130)), ROW(F118:F130)-MIN(ROW(F118:F130))+1, \"\"), ROW() -117 )), \"\")","v":""}]
[null,"Kansas State University",null,"18-80545","Breanna Warren","V",null,4450.0,null,false,{"$nulls":17},{"$f":"IFERROR(INDEX(B118:B130, SMALL(IF(\"V\"=F118:F130, ROW(F118:F130)-MIN(ROW(F118:F130))+1, \"\"), ROW() -117 )), \"\")","v":"Kansas State University"},{"$f":"IFERROR(INDEX(C118:C130, SMALL(IF(\"V\"=F118:F130, ROW(F118:F130)-MIN(ROW(F118:F130))+1, \"\"), ROW() -117 )), \"\")","v":""},{"$f":"IFERROR(INDEX(D118:D130, SMALL(IF(\"V\"=F118:F130, ROW(F118:F130)-MIN(ROW(F118:F130))+1, \"\"), ROW() -117 )), \"\")","v":"18-80545"},{"$f":"IFERROR(INDEX(E118:E130, SMALL(IF(\"V\"=F118:F130, ROW(F118:F130)-MIN(ROW(F118:F130))+1, \"\"), ROW() -117 )), \"\")","v":"Breanna Warren"},{"$f":"IFERROR(INDEX(B118:B130, SMALL(IF(ISNUMBER(SEARCH(\"JV1\",F118:F130)), ROW(F118:F130)-MIN(ROW(F118:F130))+1, \"\"), ROW() -117 )), \"\")","v":""},{"$f":"IFERROR(INDEX(C118:C130, SMALL(IF(ISNUMBER(SEARCH(\"JV1\",F118:F130)), ROW(F118:F130)-MIN(ROW(F118:F130))+1, \"\"), ROW() -117 )), \"\")","v":""},{"$f":"IFERROR(INDEX(D118:D130, SMALL(IF(ISNUMBER(SEARCH(\"JV1\",F118:F130)), ROW(F118:F130)-MIN(ROW(F118:F130))+1, \"\"), ROW() -117 )), \"\")","v":""},{"$f":"IFERROR(INDEX(E118:E130, SMALL(IF(ISNUMBER(SEARCH(\"JV1\",F118:F130)), ROW(F118:F130)-MIN(ROW(F118:F130))+1, \"\"), ROW() -117 )), \"\")","v":""},{"$f":"IFERROR(INDEX(B118:B130, SMALL(IF(ISNUMBER(SEARCH(\"JV2\",F118:F130)), ROW(F118:F130)-MIN(ROW(F118:F130))+1, \"\"), ROW() -117 )), \"\")","v":""},{"$f":"IFERROR(INDEX(C118:C130, SMALL(IF(ISNUMBER(SEARCH(\"JV2\",F118:F130)), ROW(F118:F130)-MIN(ROW(F118:F130))+1, \"\"), ROW() -117 )), \"\")","v":""},{"$f":"IFERROR(INDEX(D118:D130, SMALL(IF(ISNUMBER(SEARCH(\"JV2\",F118:F130)), ROW(F118:F130)-MIN(ROW(F118:F130))+1, \"\"), ROW() -117 )), \"\")","v":""},{"$f":"IFERROR(INDEX(E118:E130, SMALL(IF(ISNUMBER(SEARCH(\"JV2\",F118:F130)), ROW(F118:F130)-MIN(ROW(F118:F130))+1, \"\"), ROW() -117 )), \"\")","v":""}]
[null,"Kansas State University",null,"21-24732","Caroline Smith",null,null,4450.0,null,false,{"$nulls":17},{"$f":"IFERROR(INDEX(B118:B130, SMALL(IF(\"V\"=F118:F130, ROW(F118:F130)-MIN(ROW(F118:F130))+1, \"\"), ROW() -117 )), \"\")","v":"Kansas State University"},{"$f":"IFERROR(INDEX(C118:C130, SMALL(IF(\"V\"=F118:F130, ROW(F118:F130)-MIN(ROW(F118:F130))+1, \"\"), ROW() -117 )), \"\")","v":""},{"$f":"IFERROR(INDEX(D118:D130, SMALL(IF(\"V\"=F118:F130, ROW(F118:F130)-MIN(ROW(F118:F130))+1, \"\"), ROW() -117 )), \"\")","v":"20-55542"},{"$f":"IFERROR(INDEX(E118:E130, SMALL(IF(\"V\"=F118:F130, ROW(F118:F130)-MIN(ROW(F118:F130))+1, \"\"), ROW() -117 )), \"\")","v":"Delainey Isaacson"},{"$f":"IFERROR(INDEX(B118:B130, SMALL(IF(ISNUMBER(SEARCH(\"JV1\",F118:F130)), ROW(F118:F130)-MIN(ROW(F118:F130))+1, \"\"), ROW() -117 )), \"\")","v":""},{"$f":"IFERROR(INDEX(C118:C130, SMALL(IF(ISNUMBER(SEARCH(\"JV1\",F118:F130)), ROW(F118:F130)-MIN(ROW(F118:F130))+1, \"\"), ROW() -117 )), \"\")","v":""},{"$f":"IFERROR(INDEX(D118:D130, SMALL(IF(ISNUMBER(SEARCH(\"JV1\",F118:F130)), ROW(F118:F130)-MIN(ROW(F118:F130))+1, \"\"), ROW() -117 )), \"\")","v":""},{"$f":"IFERROR(INDEX(E118:E130, SMALL(IF(ISNUMBER(SEARCH(\"JV1\",F118:F130)), ROW(F118:F130)-MIN(ROW(F118:F130))+1, \"\"), ROW() -117 )), \"\")","v":""},{"$f":"IFERROR(INDEX(B118:B130, SMALL(IF(ISNUMBER(SEARCH(\"JV2\",F118:F130)), ROW(F118:F130)-MIN(ROW(F118:F130))+1, \"\"), ROW() -117 )), \"\")","v":""},{"$f":"IFERROR(INDEX(C118:C130, SMALL(IF(ISNUMBER(SEARCH(\"JV2\",F118:F130)), ROW(F118:F130)-MIN(ROW(F118:F130))+1, \"\"), ROW() -117 )), \"\")","v":""},{"$f":"IFERROR(INDEX(D118:D130, SMALL(IF(ISNUMBER(SEARCH(\"JV2\",F118:F130)), ROW(F118:F130)-MIN(ROW(F118:F130))+1, \"\"), ROW() -117 )), \"\")","v":""},{"$f":"IFERROR(INDEX(E118:E130, SMALL(IF(ISNUMBER(SEARCH(\"JV2\",F118:F130)), ROW(F118:F130)-MIN(ROW(F118:F130))+1, \"\"), ROW() -117 )), \"\")","v":""}]
[null,"Kansas State University",null,"20-55542","Delainey Isaacson","V",null,4450.0,null,false,{"$nulls":17},{"$f":"IFERROR(INDEX(B118:B130, SMALL(IF(\"V\"=F118:F130, ROW(F118:F130)-MIN(ROW(F118:F130))+1, \"\"), ROW() -117 )), \"\")","v":"Kansas State University"},{"$f":"IFERROR(INDEX(C118:C130, SMALL(IF(\"V\"=F118:F130, ROW(F118:F130)-MIN(ROW(F118:F130))+1, \"\"), ROW() -117 )), \"\")","v":""},{"$f":"IFERROR(INDEX(D118:D130, SMALL(IF(\"V\"=F118:F130, ROW(F118:F130)-MIN(ROW(F118:F130))+1, \"\"), ROW() -117 )), \"\")","v":"21-15727"},{"$f":"IFERROR(INDEX(E118:E130, SMALL(IF(\"V\"=F118:F130, ROW(F118:F130)-MIN(ROW(F118:F130))+1, \"\"), ROW() -117 )), \"\")","v":"Kinley Nielsen"},{"$f":"IFERROR(INDEX(B118:B130, SMALL(IF(ISNUMBER(SEARCH(\"JV1\",F118:F130)), ROW(F118:F130)-MIN(ROW(F118:F130))+1, \"\"), ROW() -117 )), \"\")","v":""},{"$f":"IFERROR(INDEX(C118:C130, SMALL(IF(ISNUMBER(SEARCH(\"JV1\",F118:F130)), ROW(F118:F130)-MIN(ROW(F118:F130))+1, \"\"), ROW() -117 )), \"\")","v":""},{"$f":"IFERROR(INDEX(D118:D130, SMALL(IF(ISNUMBER(SEARCH(\"JV1\",F118:F130)), ROW(F118:F130)-MIN(ROW(F118:F130))+1, \"\"), ROW() -117 )), \"\")","v":""},{"$f":"IFERROR(INDEX(E118:E130, SMALL(IF(ISNUMBER(SEARCH(\"JV1\",F118:F130)), ROW(F118:F130)-MIN(ROW(F118:F130))+1, \"\"), ROW() -117 )), \"\")","v":""},{"$f":"IFERROR(INDEX(B118:B130, SMALL(IF(ISNUMBER(SEARCH(\"JV2\",F118:F130)), ROW(F118:F130)-MIN(ROW(F118:F130))+1, \"\"), ROW() -117 )), \"\")","v":""},{"$f":"IFERROR(INDEX(C118:C130, SMALL(IF(ISNUMBER(SEARCH(\"JV2\",F118:F130)), ROW(F118:F130)-MIN(ROW(F118:F130))+1, \"\"), ROW() -117 )), \"\")","v":""},{"$f":"IFERROR(INDEX(D118:D130, SMALL(IF(ISNUMBER(SEARCH(\"JV2\",F118:F130)), ROW(F118:F130)-MIN(ROW(F118:F130))+1, \"\"), ROW() -117 )), \"\")","v":""},{"$f":"IFERROR(INDEX(E118:E130, SMALL(IF(ISNUMBER(SEARCH(\"JV2\",F118:F130)), ROW(F118:F130)-MIN(ROW(F118:F130))+1, \"\"), ROW() -117 )), \"\")","v":""}]
[null,"Kansas State University",null,"20-55544","Elena McGuire",null,null,4450.0,null,false,{"$nulls":17},{"$f":"IFERROR(INDEX(B118:B130, SMALL(IF(\"V\"=F118:F130, ROW(F118:F130)-MIN(ROW(F118:F130))+1, \"\"), ROW() -117 )), \"\")","v":"Kansas State University"},{"$f":"IFERROR(INDEX(C118:C130, SMALL(IF(\"V\"=F118:F130, ROW(F118:F130)-MIN(ROW(F118:F130))+1, \"\"), ROW() -117 )), \"\")","v":""},{"$f":"IFERROR(INDEX(D118:D130, SMALL(IF(\"V\"=F118:F130, ROW(F118:F130)-MIN(ROW(F118:F130))+1, \"\"), ROW() -117 )), \"\")","v":"23-12122"},{"$f":"IFERROR(INDEX(E118:E130, SMALL(IF(\"V\"=F118:F130, ROW(F118:F130)-MIN(ROW(F118:F130))+1, \"\"), ROW() -117 )), \"\")","v":"Natalie Gilbert"},{"$f":"IFERROR(INDEX(B118:B130, SMALL(IF(ISNUMBER(SEARCH(\"JV1\",F118:F130)), ROW(F118:F130)-MIN(ROW(F118:F130))+1, \"\"), ROW() -117 )), \"\")","v":""},{"$f":"IFERROR(INDEX(C118:C130, SMALL(IF(ISNUMBER(SEARCH(\"JV1\",F118:F130)), ROW(F118:F130)-MIN(ROW(F118:F130))+1, \"\"), ROW() -117 )), \"\")","v":""},{"$f":"IFERROR(INDEX(D118:D130, SMALL(IF(ISNUMBER(SEARCH(\"JV1\",F118:F130)), ROW(F118:F130)-MIN(ROW(F118:F130))+1, \"\"), ROW() -117 )), \"\")","v":""},{"$f":"IFERROR(INDEX(E118:E130, SMALL(IF(ISNUMBER(SEARCH(\"JV1\",F118:F130)), ROW(F118:F130)-MIN(ROW(F118:F130))+1, \"\"), ROW() -117 )), \"\")","v":""},{"$f":"IFERROR(INDEX(B118:B130, SMALL(IF(ISNUMBER(SEARCH(\"JV2\",F118:F130)), ROW(F118:F130)-MIN(ROW(F118:F130))+1, \"\"), ROW() -117 )), \"\")","v":""},{"$f":"IFERROR(INDEX(C118:C130, SMALL(IF(ISNUMBER(SEARCH(\"JV2\",F118:F130)), ROW(F118:F130)-MIN(ROW(F118:F130))+1, \"\"), ROW() -117 )), \"\")","v":""},{"$f":"IFERROR(INDEX(D118:D130, SMALL(IF(ISNUMBER(SEARCH(\"JV2\",F118:F130)), ROW(F118:F130)-MIN(ROW(F118:F130))+1, \"\"), ROW() -117 )), \"\")","v":""},{"$f":"IFERROR(INDEX(E118:E130, SMALL(IF(ISNUMBER(SEARCH(\"JV2\",F118:F130)), ROW(F118:F130)-MIN(ROW(F118:F130))+1, \"\"), ROW() -117 )), \"\")","v":""}]
[null,"Kansas State University",null,"21-92228","Elizabeth Barrientos",null,null,4450.0,null,false,{"$nulls":17},{"$f":"IFERROR(INDEX(B118:B130, SMALL(IF(\"V\"=F118:F130, ROW(F118:F130)-MIN(ROW(F118:F130))+1, \"\"), ROW() -117 )), \"\")","v":""},{"$f":"IFERROR(INDEX(C118:C130, SMALL(IF(\"V\"=F118:F130, ROW(F118:F130)-MIN(ROW(F118:F130))+1, \"\"), ROW() -117 )), \"\")","v":""},{"$f":"IFERROR(INDEX(D118:D130, SMALL(IF(\"V\"=F118:F130, ROW(F118:F130)-MIN(ROW(F118:F130))+1, \"\"), ROW() -117 )), \"\")","v":""},{"$f":"IFERROR(INDEX(E118:E130, SMALL(IF(\"V\"=F118:F130, ROW(F118:F130)-MIN(ROW(F118:F130))+1, \"\"), ROW() -117 )), \"\")","v":""},{"$f":"IFERROR(INDEX(B118:B130, SMALL(IF(ISNUMBER(SEARCH(\"JV1\",F118:F130)), ROW(F118:F130)-MIN(ROW(F118:F130))+1, \"\"), ROW() -117 )), \"\")","v":""},{"$f":"IFERROR(INDEX(C118:C130, SMALL(IF(ISNUMBER(SEARCH(\"JV1\",F118:F130)), ROW(F118:F130)-MIN(ROW(F118:F130))+1, \"\"), ROW() -117 )), \"\")","v":""},{"$f":"IFERROR(INDEX(D118:D130, SMALL(IF(ISNUMBER(SEARCH(\"JV1\",F118:F130)), ROW(F118:F130)-MIN(ROW(F118:F130))+1, \"\"), ROW() -117 )), \"\")","v":""},{"$f":"IFERROR(INDEX(E118:E130, SMALL(IF(ISNUMBER(SEARCH(\"JV1\",F118:F130)), ROW(F118:F130)-MIN(ROW(F118:F130))+1, \"\"), ROW() -117 )), \"\")","v":""},{"$f":"IFERROR(INDEX(B118:B130, SMALL(IF(ISNUMBER(SEARCH(\"JV2\",F118:F130)), ROW(F118:F130)-MIN(ROW(F118:F130))+1, \"\"), ROW() -117 )), \"\")","v":""},{"$f":"IFERROR(INDEX(C118:C130, SMALL(IF(ISNUMBER(SEARCH(\"JV2\",F118:F130)), ROW(F118:F130)-MIN(ROW(F118:F130))+1, \"\"), ROW() -117 )), \"\")","v":""},{"$f":"IFERROR(INDEX(D118:D130, SMALL(IF(ISNUMBER(SEARCH(\"JV2\",F118:F130)), ROW(F118:F130)-MIN(ROW(F118:F130))+1, \"\"), ROW() -117 )), \"\")","v":""},{"$f":"IFERROR(INDEX(E118:E130, SMALL(IF(ISNUMBER(SEARCH(\"JV2\",F118:F130)), ROW(F118:F130)-MIN(ROW(F118:F130))+1, \"\"), ROW() -117 )), \"\")","v":""}]
[null,"Kansas State University",null,"15-56899","Emily Pine",null,null,4450.0,null,false,{"$nulls":17},{"$f":"IFERROR(INDEX(B118:B130, SMALL(IF(\"V\"=F118:F130, ROW(F118:F130)-MIN(ROW(F118:F130))+1, \"\"), ROW() -117 )), \"\")","v":""},{"$f":"IFERROR(INDEX(C118:C130, SMALL(IF(\"V\"=F118:F130, ROW(F118:F130)-MIN(ROW(F118:F130))+1, \"\"), ROW() -117 )), \"\")","v":""},{"$f":"IFERROR(INDEX(D118:D130, SMALL(IF(\"V\"=F118:F130, ROW(F118:F130)-MIN(ROW(F118:F130))+1, \"\"), ROW() -117 )), \"\")","v":""},{"$f":"IFERROR(INDEX(E118:E130, SMALL(IF(\"V\"=F118:F130, ROW(F118:F130)-MIN(ROW(F118:F130))+1, \"\"), ROW() -117 )), \"\")","v":""},{"$f":"IFERROR(INDEX(B118:B130, SMALL(IF(ISNUMBER(SEARCH(\"JV1\",F118:F130)), ROW(F118:F130)-MIN(ROW(F118:F130))+1, \"\"), ROW() -117 )), \"\")","v":""},{"$f":"IFERROR(INDEX(C118:C130, SMALL(IF(ISNUMBER(SEARCH(\"JV1\",F118:F130)), ROW(F118:F130)-MIN(ROW(F118:F130))+1, \"\"), ROW() -117 )), \"\")","v":""},{"$f":"IFERROR(INDEX(D118:D130, SMALL(IF(ISNUMBER(SEARCH(\"JV1\",F118:F130)), ROW(F118:F130)-MIN(ROW(F118:F130))+1, \"\"), ROW() -117 )), \"\")","v":""},{"$f":"IFERROR(INDEX(E118:E130, SMALL(IF(ISNUMBER(SEARCH(\"JV1\",F118:F130)), ROW(F118:F130)-MIN(ROW(F118:F130))+1, \"\"), ROW() -117 )), \"\")","v":""},{"$f":"IFERROR(INDEX(B118:B130, SMALL(IF(ISNUMBER(SEARCH(\"JV2\",F118:F130)), ROW(F118:F130)-MIN(ROW(F118:F130))+1, \"\"), ROW() -117 )), \"\")","v":""},{"$f":"IFERROR(INDEX(C118:C130, SMALL(IF(ISNUMBER(SEARCH(\"JV2\",F118:F130)), ROW(F118:F130)-MIN(ROW(F118:F130))+1, \"\"), ROW() -117 )), \"\")","v":""},{"$f":"IFERROR(INDEX(D118:D130, SMALL(IF(ISNUMBER(SEARCH(\"JV2\",F118:F130)), ROW(F118:F130)-MIN(ROW(F118:F130))+1, \"\"), ROW() -117 )), \"\")","v":""},{"$f":"IFERROR(INDEX(E118:E130, SMALL(IF(ISNUMBER(SEARCH(\"JV2\",F118:F130)), ROW(F118:F130)-MIN(ROW(F118:F130))+1, \"\"), ROW() -117 )), \"\")","v":""}]
[null,"Kansas State University",null,"11-634848","Kellie Kritzler",null,null,4450.0,null,false]
[null,"Kansas State University",null,"21-15727","Kinley Nielsen","V",null,4450.0,null,false]
[null,"Kansas State University",null,"931-89481","Naomi Harrison",null,null,4450.0,null,false]
[null,"Kansas State University",null,"23-12122","Natalie Gilbert","V",null,4450.0,null,false]
[null,"Kansas State University",null,"20-47508","Olivia Boettcher",null,null,4450.0,null,false]
[null,"Kansas Wesleyan University",null,"23-786","Aubrey Strodtman","V",null,4430.0,null,false,{"$nulls":17},{"$f":"IFERROR(INDEX(B131:B139, SMALL(IF(\"V\"=F131:F139, ROW(F131:F139)-MIN(ROW(F131:F139))+1, \"\"), ROW() -130 )), \"\")","v":"Kansas Wesleyan University"},{"$f":"IFERROR(INDEX(C131:C139, SMALL(IF(\"V\"=F131:F139, ROW(F131:F139)-MIN(ROW(F131:F139))+1, \"\"), ROW() -130 )), \"\")","v":""},{"$f":"IFERROR(INDEX(D131:D139, SMALL(IF(\"V\"=F131:F139, ROW(F131:F139)-MIN(ROW(F131:F139))+1, \"\"), ROW() -130 )), \"\")","v":"23-786"},{"$f":"IFERROR(INDEX(E131:E139, SMALL(IF(\"V\"=F131:F139, ROW(F131:F139)-MIN(ROW(F131:F139))+1, \"\"), ROW() -130 )), \"\")","v":"Aubrey Strodtman"},{"$f":"IFERROR(INDEX(B131:B139, SMALL(IF(ISNUMBER(SEARCH(\"JV1\",F131:F139)), ROW(F131:F139)-MIN(ROW(F131:F139))+1, \"\"), ROW() -130 )), \"\")","v":""},{"$f":"IFERROR(INDEX(C131:C139, SMALL(IF(ISNUMBER(SEARCH(\"JV1\",F131:F139)), ROW(F131:F139)-MIN(ROW(F131:F139))+1, \"\"), ROW() -130 )), \"\")","v":""},{"$f":"IFERROR(INDEX(D131:D139, SMALL(IF(ISNUMBER(SEARCH(\"JV1\",F131:F139)), ROW(F131:F139)-MIN(ROW(F131:F139))+1, \"\"), ROW() -130 )), \"\")","v":""},{"$f":"IFERROR(INDEX(E131:E139, SMALL(IF(ISNUMBER(SEARCH(\"JV1\",F131:F139)), ROW(F131:F139)-MIN(ROW(F131:F139))+1, \"\"), ROW() -130 )), \"\")","v":""},{"$f":"IFERROR(INDEX(B131:B139, SMALL(IF(ISNUMBER(SEARCH(\"JV2\",F131:F139)), ROW(F131:F139)-MIN(ROW(F131:F139))+1, \"\"), ROW() -130 )), \"\")","v":""},{"$f":"IFERROR(INDEX(C131:C139, SMALL(IF(ISNUMBER(SEARCH(\"JV2\",F131:F139)), ROW(F131:F139)-MIN(ROW(F131:F139))+1, \"\"), ROW() -130 )), \"\")","v":""},{"$f":"IFERROR(INDEX(D131:D139, SMALL(IF(ISNUMBER(SEARCH(\"JV2\",F131:F139)), ROW(F131:F139)-MIN(ROW(F131:F139))+1, \"\"), ROW() -130 )), \"\")","v":""},{"$f":"IFERROR(INDEX(E131:E139, SMALL(IF(ISNUMBER(SEARCH(\"JV2\",F131:F139)), ROW(F131:F139)-MIN(ROW(F131:F139))+1, \"\"), ROW() -130 )), \"\")","v":""}]
[null,"Kansas Wesleyan University",null,"23-788","Autumn Thompson","V",null,4430.0,null,false,{"$nulls":17},{"$f":"IFERROR(INDEX(B131:B139, SMALL(IF(\"V\"=F131:F139, ROW(F131:F139)-MIN(ROW(F131:F139))+1, \"\"), ROW() -130 )), \"\")","v":"Kansas Wesleyan University"},{"$f":"IFERROR(INDEX(C131:C139, SMALL(IF(\"V\"=F131:F139, ROW(F131:F139)-MIN(ROW(F131:F139))+1, \"\"), ROW() -130 )), \"\")","v":""},{"$f":"IFERROR(INDEX(D131:D139, SMALL(IF(\"V\"=F131:F139, ROW(F131:F139)-MIN(ROW(F131:F139))+1, \"\"), ROW() -130 )), \"\")","v":"23-788"},{"$f":"IFERROR(INDEX(E131:E139, SMALL(IF(\"V\"=F131:F139, ROW(F131:F139)-MIN(ROW(F131:F139))+1, \"\"), ROW() -130 )), \"\")","v":"Autumn Thompson"},{"$f":"IFERROR(INDEX(B131:B139, SMALL(IF(ISNUMBER(SEARCH(\"JV1\",F131:F139)), ROW(F131:F139)-MIN(ROW(F131:F139))+1, \"\"), ROW() -130 )), \"\")","v":""},{"$f":"IFERROR(INDEX(C131:C139, SMALL(IF(ISNUMBER(SEARCH(\"JV1\",F131:F139)), ROW(F131:F139)-MIN(ROW(F131:F139))+1, \"\"), ROW() -130 )), \"\")","v":""},{"$f":"IFERROR(INDEX(D131:D139, SMALL(IF(ISNUMBER(SEARCH(\"JV1\",F131:F139)), ROW(F131:F139)-MIN(ROW(F131:F139))+1, \"\"), ROW() -130 )), \"\")","v":""},{"$f":"IFERROR(INDEX(E131:E139, SMALL(IF(ISNUMBER(SEARCH(\"JV1\",F131:F139)), ROW(F131:F139)-MIN(ROW(F131:F139))+1, \"\"), ROW() -130 )), \"\")","v":""},{"$f":"IFERROR(INDEX(B131:B139, SMALL(IF(ISNUMBER(SEARCH(\"JV2\",F131:F139)), ROW(F131:F139)-MIN(ROW(F131:F139))+1, \"\"), ROW() -130 )), \"\")","v":""},{"$f":"IFERROR(INDEX(C131:C139, SMALL(IF(ISNUMBER(SEARCH(\"JV2\",F131:F139)), ROW(F131:F139)-MIN(ROW(F131:F139))+1, \"\"), ROW() -130 )), \"\")","v":""},{"$f":"IFERROR(INDEX(D131:D139, SMALL(IF(ISNUMBER(SEARCH(\"JV2\",F131:F139)), ROW(F131:F139)-MIN(ROW(F131:F139))+1, \"\"), ROW() -130 )), \"\")","v":""},{"$f":"IFERROR(INDEX(E131:E139, SMALL(IF(ISNUMBER(SEARCH(\"JV2\",F131:F139)), ROW(F131:F139)-MIN(ROW(F131:F139))+1, \"\"), ROW() -130 )), \"\")","v":""}]
[null,"Kansas Wesleyan University",null,"18-97007","Courtney Kitchen",null,null,4430.0,null,false,{"$nulls":17},{"$f":"IFERROR(INDEX(B131:B139, SMALL(IF(\"V\"=F131:F139, ROW(F131:F139)-MIN(ROW(F131:F139))+1, \"\"), ROW() -130 )), \"\")","v":"Kansas Wesleyan University"},{"$f":"IFERROR(INDEX(C131:C139, SMALL(IF(\"V\"=F131:F139, ROW(F131:F139)-MIN(ROW(F131:F139))+1, \"\"), ROW() -130 )), \"\")","v":""},{"$f":"IFERROR(INDEX(D131:D139, SMALL(IF(\"V\"=F131:F139, ROW(F131:F139)-MIN(ROW(F131:F139))+1, \"\"), ROW() -130 )), \"\")","v":"5978-620"},{"$f":"IFERROR(INDEX(E131:E139, SMALL(IF(\"V\"=F131:F139, ROW(F131:F139)-MIN(ROW(F131:F139))+1, \"\"), ROW() -130 )), \"\")","v":"Emma O'Donnell"},{"$f":"IFERROR(INDEX(B131:B139, SMALL(IF(ISNUMBER(SEARCH(\"JV1\",F131:F139)), ROW(F131:F139)-MIN(ROW(F131:F139))+1, \"\"), ROW() -130 )), \"\")","v":""},{"$f":"IFERROR(INDEX(C131:C139, SMALL(IF(ISNUMBER(SEARCH(\"JV1\",F131:F139)), ROW(F131:F139)-MIN(ROW(F131:F139))+1, \"\"), ROW() -130 )), \"\")","v":""},{"$f":"IFERROR(INDEX(D131:D139, SMALL(IF(ISNUMBER(SEARCH(\"JV1\",F131:F139)), ROW(F131:F139)-MIN(ROW(F131:F139))+1, \"\"), ROW() -130 )), \"\")","v":""},{"$f":"IFERROR(INDEX(E131:E139, SMALL(IF(ISNUMBER(SEARCH(\"JV1\",F131:F139)), ROW(F131:F139)-MIN(ROW(F131:F139))+1, \"\"), ROW() -130 )), \"\")","v":""},{"$f":"IFERROR(INDEX(B131:B139, SMALL(IF(ISNUMBER(SEARCH(\"JV2\",F131:F139)), ROW(F131:F139)-MIN(ROW(F131:F139))+1, \"\"), ROW() -130 )), \"\")","v":""},{"$f":"IFERROR(INDEX(C131:C139, SMALL(IF(ISNUMBER(SEARCH(\"JV2\",F131:F139)), ROW(F131:F139)-MIN(ROW(F131:F139))+1, \"\"), ROW() -130 )), \"\")","v":""},{"$f":"IFERROR(INDEX(D131:D139, SMALL(IF(ISNUMBER(SEARCH(\"JV2\",F131:F139)), ROW(F131:F139)-MIN(ROW(F131:F139))+1, \"\"), ROW() -130 )), \"\")","v":""},{"$f":"IFERROR(INDEX(E131:E139, SMALL(IF(ISNUMBER(SEARCH(\"JV2\",F131:F139)), ROW(F131:F139)-MIN(ROW(F131:F139))+1, \"\"), ROW() -130 )), \"\")","v":""}]
[null,"Kansas Wesleyan University",null,"5978-620","Emma O'Donnell","V",null,4430.0,null,false,{"$nulls":17},{"$f":"IFERROR(INDEX(B131:B139, SMALL(IF(\"V\"=F131:F139, ROW(F131:F139)-MIN(ROW(F131:F139))+1, \"\"), ROW() -130 )), \"\")","v":"Kansas Wesleyan University"},{"$f":"IFERROR(INDEX(C131:C139, SMALL(IF(\"V\"=F131:F139, ROW(F131:F139)-MIN(ROW(F131:F139))+1, \"\"), ROW() -130 )), \"\")","v":""},{"$f":"IFERROR(INDEX(D131:D139, SMALL(IF(\"V\"=F131:F139, ROW(F131:F139)-MIN(ROW(F131:F139))+1, \"\"), ROW() -130 )), \"\")","v":"11-662816"},{"$f":"IFERROR(INDEX(E131:E139, SMALL(IF(\"V\"=F131:F139, ROW(F131:F139)-MIN(ROW(F131:F139))+1, \"\"), ROW() -130 )), \"\")","v":"Haylee Busch"},{"$f":"IFERROR(INDEX(B131:B139, SMALL(IF(ISNUMBER(SEARCH(\"JV1\",F131:F139)), ROW(F131:F139)-MIN(ROW(F131:F139))+1, \"\"), ROW() -130 )), \"\")","v":""},{"$f":"IFERROR(INDEX(C131:C139, SMALL(IF(ISNUMBER(SEARCH(\"JV1\",F131:F139)), ROW(F131:F139)-MIN(ROW(F131:F139))+1, \"\"), ROW() -130 )), \"\")","v":""},{"$f":"IFERROR(INDEX(D131:D139, SMALL(IF(ISNUMBER(SEARCH(\"JV1\",F131:F139)), ROW(F131:F139)-MIN(ROW(F131:F139))+1, \"\"), ROW() -130 )), \"\")","v":""},{"$f":"IFERROR(INDEX(E131:E139, SMALL(IF(ISNUMBER(SEARCH(\"JV1\",F131:F139)), ROW(F131:F139)-MIN(ROW(F131:F139))+1, \"\"), ROW() -130 )), \"\")","v":""},{"$f":"IFERROR(INDEX(B131:B139, SMALL(IF(ISNUMBER(SEARCH(\"JV2\",F131:F139)), ROW(F131:F139)-MIN(ROW(F131:F139))+1, \"\"), ROW() -130 )), \"\")","v":""},{"$f":"IFERROR(INDEX(C131:C139, SMALL(IF(ISNUMBER(SEARCH(\"JV2\",F131:F139)), ROW(F131:F139)-MIN(ROW(F131:F139))+1, \"\"), ROW() -130 )), \"\")","v":""},{"$f":"IFERROR(INDEX(D131:D139, SMALL(IF(ISNUMBER(SEARCH(\"JV2\",F131:F139)), ROW(F131:F139)-MIN(ROW(F131:F139))+1, \"\"), ROW() -130 )), \"\")","v":""},{"$f":"IFERROR(INDEX(E131:E139, SMALL(IF(ISNUMBER(SEARCH(\"JV2\",F131:F139)), ROW(F131:F139)-MIN(ROW(F131:F139))+1, \"\"), ROW() -130 )), \"\")","v":""}]
[null,"Kansas Wesleyan University",null,"11-662816","Haylee Busch","V",null,4430.0,null,false,{"$nulls":17},{"$f":"IFERROR(INDEX(B131:B139, SMALL(IF(\"V\"=F131:F139, ROW(F131:F139)-MIN(ROW(F131:F139))+1, \"\"), ROW() -130 )), \"\")","v":"Kansas Wesleyan University"},{"$f":"IFERROR(INDEX(C131:C139, SMALL(IF(\"V\"=F131:F139, ROW(F131:F139)-MIN(ROW(F131:F139))+1, \"\"), ROW() -130 )), \"\")","v":""},{"$f":"IFERROR(INDEX(D131:D139, SMALL(IF(\"V\"=F131:F139, ROW(F131:F139)-MIN(ROW(F131:F139))+1, \"\"), ROW() -130 )), \"\")","v":"15-193314"},{"$f":"IFERROR(INDEX(E131:E139, SMALL(IF(\"V\"=F131:F139, ROW(F131:F139)-MIN(ROW(F131:F139))+1, \"\"), ROW() -130 )), \"\")","v":"Kaylee Laha"},{"$f":"IFERROR(INDEX(B131:B139, SMALL(IF(ISNUMBER(SEARCH(\"JV1\",F131:F139)), ROW(F131:F139)-MIN(ROW(F131:F139))+1, \"\"), ROW() -130 )), \"\")","v":""},{"$f":"IFERROR(INDEX(C131:C139, SMALL(IF(ISNUMBER(SEARCH(\"JV1\",F131:F139)), ROW(F131:F139)-MIN(ROW(F131:F139))+1, \"\"), ROW() -130 )), \"\")","v":""},{"$f":"IFERROR(INDEX(D131:D139, SMALL(IF(ISNUMBER(SEARCH(\"JV1\",F131:F139)), ROW(F131:F139)-MIN(ROW(F131:F139))+1, \"\"), ROW() -130 )), \"\")","v":""},{"$f":"IFERROR(INDEX(E131:E139, SMALL(IF(ISNUMBER(SEARCH(\"JV1\",F131:F139)), ROW(F131:F139)-MIN(ROW(F131:F139))+1, \"\"), ROW() -130 )), \"\")","v":""},{"$f":"IFERROR(INDEX(B131:B139, SMALL(IF(ISNUMBER(SEARCH(\"JV2\",F131:F139)), ROW(F131:F139)-MIN(ROW(F131:F139))+1, \"\"), ROW() -130 )), \"\")","v":""},{"$f":"IFERROR(INDEX(C131:C139, SMALL(IF(ISNUMBER(SEARCH(\"JV2\",F131:F139)), ROW(F131:F139)-MIN(ROW(F131:F139))+1, \"\"), ROW() -130 )), \"\")","v":""},{"$f":"IFERROR(INDEX(D131:D139, SMALL(IF(ISNUMBER(SEARCH(\"JV2\",F131:F139)), ROW(F131:F139)-MIN(ROW(F131:F139))+1, \"\"), ROW() -130 )), \"\")","v":""},{"$f":"IFERROR(INDEX(E131:E139, SMALL(IF(ISNUMBER(SEARCH(\"JV2\",F131:F139)), ROW(F131:F139)-MIN(ROW(F131:F139))+1, \"\"), ROW() -130 )), \"\")","v":""}]
[null,"Kansas Wesleyan University",null,"23-787","Josclyn Sundberg",null,null,4430.0,null,false,{"$nulls":17},{"$f":"IFERROR(INDEX(B131:B139, SMALL(IF(\"V\"=F131:F139, ROW(F131:F139)-MIN(ROW(F131:F139))+1, \"\"), ROW() -130 )), \"\")","v":"Kansas Wesleyan University"},{"$f":"IFERROR(INDEX(C131:C139, SMALL(IF(\"V\"=F131:F139, ROW(F131:F139)-MIN(ROW(F131:F139))+1, \"\"), ROW() -130 )), \"\")","v":""},{"$f":"IFERROR(INDEX(D131:D139, SMALL(IF(\"V\"=F131:F139, ROW(F131:F139)-MIN(ROW(F131:F139))+1, \"\"), ROW() -130 )), \"\")","v":"11-662819"},{"$f":"IFERROR(INDEX(E131:E139, SMALL(IF(\"V\"=F131:F139, ROW(F131:F139)-MIN(ROW(F131:F139))+1, \"\"), ROW() -130 )), \"\")","v":"Kylee Busch"},{"$f":"IFERROR(INDEX(B131:B139, SMALL(IF(ISNUMBER(SEARCH(\"JV1\",F131:F139)), ROW(F131:F139)-MIN(ROW(F131:F139))+1, \"\"), ROW() -130 )), \"\")","v":""},{"$f":"IFERROR(INDEX(C131:C139, SMALL(IF(ISNUMBER(SEARCH(\"JV1\",F131:F139)), ROW(F131:F139)-MIN(ROW(F131:F139))+1, \"\"), ROW() -130 )), \"\")","v":""},{"$f":"IFERROR(INDEX(D131:D139, SMALL(IF(ISNUMBER(SEARCH(\"JV1\",F131:F139)), ROW(F131:F139)-MIN(ROW(F131:F139))+1, \"\"), ROW() -130 )), \"\")","v":""},{"$f":"IFERROR(INDEX(E131:E139, SMALL(IF(ISNUMBER(SEARCH(\"JV1\",F131:F139)), ROW(F131:F139)-MIN(ROW(F131:F139))+1, \"\"), ROW() -130 )), \"\")","v":""},{"$f":"IFERROR(INDEX(B131:B139, SMALL(IF(ISNUMBER(SEARCH(\"JV2\",F131:F139)), ROW(F131:F139)-MIN(ROW(F131:F139))+1, \"\"), ROW() -130 )), \"\")","v":""},{"$f":"IFERROR(INDEX(C131:C139, SMALL(IF(ISNUMBER(SEARCH(\"JV2\",F131:F139)), ROW(F131:F139)-MIN(ROW(F131:F139))+1, \"\"), ROW() -130 )), \"\")","v":""},{"$f":"IFERROR(INDEX(D131:D139, SMALL(IF(ISNUMBER(SEARCH(\"JV2\",F131:F139)), ROW(F131:F139)-MIN(ROW(F131:F139))+1, \"\"), ROW() -130 )), \"\")","v":""},{"$f":"IFERROR(INDEX(E131:E139, SMALL(IF(ISNUMBER(SEARCH(\"JV2\",F131:F139)), ROW(F131:F139)-MIN(ROW(F131:F139))+1, \"\"), ROW() -130 )), \"\")","v":""}]
[null,"Kansas Wesleyan University",null,"15-193314","Kaylee Laha","V",null,4430.0,null,false,{"$nulls":17},{"$f":"IFERROR(INDEX(B131:B139, SMALL(IF(\"V\"=F131:F139, ROW(F131:F139)-MIN(ROW(F131:F139))+1, \"\"), ROW() -130 )), \"\")","v":""},{"$f":"IFERROR(INDEX(C131:C139, SMALL(IF(\"V\"=F131:F139, ROW(F131:F139)-MIN(ROW(F131:F139))+1, \"\"), ROW() -130 )), \"\")","v":""},{"$f":"IFERROR(INDEX(D131:D139, SMALL(IF(\"V\"=F131:F139, ROW(F131:F139)-MIN(ROW(F131:F139))+1, \"\"), ROW() -130 )), \"\")","v":""},{"$f":"IFERROR(INDEX(E131:E139, SMALL(IF(\"V\"=F131:F139, ROW(F131:F139)-MIN(ROW(F131:F139))+1, \"\"), ROW() -130 )), \"\")","v":""},{"$f":"IFERROR(INDEX(B131:B139, SMALL(IF(ISNUMBER(SEARCH(\"JV1\",F131:F139)), ROW(F131:F139)-MIN(ROW(F131:F139))+1, \"\"), ROW() -130 )), \"\")","v":""},{"$f":"IFERROR(INDEX(C131:C139, SMALL(IF(ISNUMBER(SEARCH(\"JV1\",F131:F139)), ROW(F131:F139)-MIN(ROW(F131:F139))+1, \"\"), ROW() -130 )), \"\")","v":""},{"$f":"IFERROR(INDEX(D131:D139, SMALL(IF(ISNUMBER(SEARCH(\"JV1\",F131:F139)), ROW(F131:F139)-MIN(ROW(F131:F139))+1, \"\"), ROW() -130 )), \"\")","v":""},{"$f":"IFERROR(INDEX(E131:E139, SMALL(IF(ISNUMBER(SEARCH(\"JV1\",F131:F139)), ROW(F131:F139)-MIN(ROW(F131:F139))+1, \"\"), ROW() -130 )), \"\")","v":""},{"$f":"IFERROR(INDEX(B131:B139, SMALL(IF(ISNUMBER(SEARCH(\"JV2\",F131:F139)), ROW(F131:F139)-MIN(ROW(F131:F139))+1, \"\"), ROW() -130 )), \"\")","v":""},{"$f":"IFERROR(INDEX(C131:C139, SMALL(IF(ISNUMBER(SEARCH(\"JV2\",F131:F139)), ROW(F131:F139)-MIN(ROW(F131:F139))+1, \"\"), ROW() -130 )), \"\")","v":""},{"$f":"IFERROR(INDEX(D131:D139, SMALL(IF(ISNUMBER(SEARCH(\"JV2\",F131:F139)), ROW(F131:F139)-MIN(ROW(F131:F139))+1, \"\"), ROW() -130 )), \"\")","v":""},{"$f":"IFERROR(INDEX(E131:E139, SMALL(IF(ISNUMBER(SEARCH(\"JV2\",F131:F139)), ROW(F131:F139)-MIN(ROW(F131:F139))+1, \"\"), ROW() -130 )), \"\")","v":""}]
[null,"Kansas Wesleyan University",null,"11-662819","Kylee Busch","V",null,4430.0,null,false,{"$nulls":17},{"$f":"IFERROR(INDEX(B131:B139, SMALL(IF(\"V\"=F131:F139, ROW(F131:F139)-MIN(ROW(F131:F139))+1, \"\"), ROW() -130 )), \"\")","v":""},{"$f":"IFERROR(INDEX(C131:C139, SMALL(IF(\"V\"=F131:F139, ROW(F131:F139)-MIN(ROW(F131:F139))+1, \"\"), ROW() -130 )), \"\")","v":""},{"$f":"IFERROR(INDEX(D131:D139, SMALL(IF(\"V\"=F131:F139, ROW(F131:F139)-MIN(ROW(F131:F139))+1, \"\"), ROW() -130 )), \"\")","v":""},{"$f":"IFERROR(INDEX(E131:E139, SMALL(IF(\"V\"=F131:F139, ROW(F131:F139)-MIN(ROW(F131:F139))+1, \"\"), ROW() -130 )), \"\")","v":""},{"$f":"IFERROR(INDEX(B131:B139, SMALL(IF(ISNUMBER(SEARCH(\"JV1\",F131:F139)), ROW(F131:F139)-MIN(ROW(F131:F139))+1, \"\"), ROW() -130 )), \"\")","v":""},{"$f":"IFERROR(INDEX(C131:C139, SMALL(IF(ISNUMBER(SEARCH(\"JV1\",F131:F139)), ROW(F131:F139)-MIN(ROW(F131:F139))+1, \"\"), ROW() -130 )), \"\")","v":""},{"$f":"IFERROR(INDEX(D131:D139, SMALL(IF(ISNUMBER(SEARCH(\"JV1\",F131:F139)), ROW(F131:F139)-MIN(ROW(F131:F139))+1, \"\"), ROW() -130 )), \"\")","v":""},{"$f":"IFERROR(INDEX(E131:E139, SMALL(IF(ISNUMBER(SEARCH(\"JV1\",F131:F139)), ROW(F131:F139)-MIN(ROW(F131:F139))+1, \"\"), ROW() -130 )), \"\")","v":""},{"$f":"IFERROR(INDEX(B131:B139, SMALL(IF(ISNUMBER(SEARCH(\"JV2\",F131:F139)), ROW(F131:F139)-MIN(ROW(F131:F139))+1, \"\"), ROW() -130 )), \"\")","v":""},{"$f":"IFERROR(INDEX(C131:C139, SMALL(IF(ISNUMBER(SEARCH(\"JV2\",F131:F139)), ROW(F131:F139)-MIN(ROW(F131:F139))+1, \"\"), ROW() -130 )), \"\")","v":""},{"$f":"IFERROR(INDEX(D131:D139, SMALL(IF(ISNUMBER(SEARCH(\"JV2\",F131:F139)), ROW(F131:F139)-MIN(ROW(F131:F139))+1, \"\"), ROW() -130 )), \"\")","v":""},{"$f":"IFERROR(INDEX(E131:E139, SMALL(IF(ISNUMBER(SEARCH(\"JV2\",F131:F139)), ROW(F131:F139)-MIN(ROW(F131:F139))+1, \"\"), ROW() -130 )), \"\")","v":""}]
[null,"Kansas Wesleyan University",null,"22-24271","Terah Head",null,null,4430.0,null,false]
[null,"Midland University",null,"5998-5608","Ashland Hoyt","V",null,3448.0,null,false,{"$nulls":17},{"$f":"IFERROR(INDEX(B140:B148, SMALL(IF(\"V\"=F140:F148, ROW(F140:F148)-MIN(ROW(F140:F148))+1, \"\"), ROW() -139 )), \"\")","v":"Midland University"},{"$f":"IFERROR(INDEX(C140:C148, SMALL(IF(\"V\"=F140:F148, ROW(F140:F148)-MIN(ROW(F140:F148))+1, \"\"), ROW() -139 )), \"\")","v":""},{"$f":"IFERROR(INDEX(D140:D148, SMALL(IF(\"V\"=F140:F148, ROW(F140:F148)-MIN(ROW(F140:F148))+1, \"\"), ROW() -139 )), \"\")","v":"5998-5608"},{"$f":"IFERROR(INDEX(E140:E148, SMALL(IF(\"V\"=F140:F148, ROW(F140:F148)-MIN(ROW(F140:F148))+1, \"\"), ROW() -139 )), \"\")","v":"Ashland Hoyt"},{"$f":"IFERROR(INDEX(B140:B148, SMALL(IF(ISNUMBER(SEARCH(\"JV1\",F140:F148)), ROW(F140:F148)-MIN(ROW(F140:F148))+1, \"\"), ROW() -139 )), \"\")","v":""},{"$f":"IFERROR(INDEX(C140:C148, SMALL(IF(ISNUMBER(SEARCH(\"JV1\",F140:F148)), ROW(F140:F148)-MIN(ROW(F140:F148))+1, \"\"), ROW() -139 )), \"\")","v":""},{"$f":"IFERROR(INDEX(D140:D148, SMALL(IF(ISNUMBER(SEARCH(\"JV1\",F140:F148)), ROW(F140:F148)-MIN(ROW(F140:F148))+1, \"\"), ROW() -139 )), \"\")","v":""},{"$f":"IFERROR(INDEX(E140:E148, SMALL(IF(ISNUMBER(SEARCH(\"JV1\",F140:F148)), ROW(F140:F148)-MIN(ROW(F140:F148))+1, \"\"), ROW() -139 )), \"\")","v":""},{"$f":"IFERROR(INDEX(B140:B148, SMALL(IF(ISNUMBER(SEARCH(\"JV2\",F140:F148)), ROW(F140:F148)-MIN(ROW(F140:F148))+1, \"\"), ROW() -139 )), \"\")","v":""},{"$f":"IFERROR(INDEX(C140:C148, SMALL(IF(ISNUMBER(SEARCH(\"JV2\",F140:F148)), ROW(F140:F148)-MIN(ROW(F140:F148))+1, \"\"), ROW() -139 )), \"\")","v":""},{"$f":"IFERROR(INDEX(D140:D148, SMALL(IF(ISNUMBER(SEARCH(\"JV2\",F140:F148)), ROW(F140:F148)-MIN(ROW(F140:F148))+1, \"\"), ROW() -139 )), \"\")","v":""},{"$f":"IFERROR(INDEX(E140:E148, SMALL(IF(ISNUMBER(SEARCH(\"JV2\",F140:F148)), ROW(F140:F148)-MIN(ROW(F140:F148))+1, \"\"), ROW() -139 )), \"\")","v":""}]
[null,"Midland University",null,"18-25964","Elizabeth Richards",null,null,3448.0,null,false,{"$nulls":17},{"$f":"IFERROR(INDEX(B140:B148, SMALL(IF(\"V\"=F140:F148, ROW(F140:F148)-MIN(ROW(F140:F148))+1, \"\"), ROW() -139 )), \"\")","v":"Midland University"},{"$f":"IFERROR(INDEX(C140:C148, SMALL(IF(\"V\"=F140:F148, ROW(F140:F148)-MIN(ROW(F140:F148))+1, \"\"), ROW() -139 )), \"\")","v":""},{"$f":"IFERROR(INDEX(D140:D148, SMALL(IF(\"V\"=F140:F148, ROW(F140:F148)-MIN(ROW(F140:F148))+1, \"\"), ROW() -139 )), \"\")","v":"16-83486"},{"$f":"IFERROR(INDEX(E140:E148, SMALL(IF(\"V\"=F140:F148, ROW(F140:F148)-MIN(ROW(F140:F148))+1, \"\"), ROW() -139 )), \"\")","v":"Emily Ziegler"},{"$f":"IFERROR(INDEX(B140:B148, SMALL(IF(ISNUMBER(SEARCH(\"JV1\",F140:F148)), ROW(F140:F148)-MIN(ROW(F140:F148))+1, \"\"), ROW() -139 )), \"\")","v":""},{"$f":"IFERROR(INDEX(C140:C148, SMALL(IF(ISNUMBER(SEARCH(\"JV1\",F140:F148)), ROW(F140:F148)-MIN(ROW(F140:F148))+1, \"\"), ROW() -139 )), \"\")","v":""},{"$f":"IFERROR(INDEX(D140:D148, SMALL(IF(ISNUMBER(SEARCH(\"JV1\",F140:F148)), ROW(F140:F148)-MIN(ROW(F140:F148))+1, \"\"), ROW() -139 )), \"\")","v":""},{"$f":"IFERROR(INDEX(E140:E148, SMALL(IF(ISNUMBER(SEARCH(\"JV1\",F140:F148)), ROW(F140:F148)-MIN(ROW(F140:F148))+1, \"\"), ROW() -139 )), \"\")","v":""},{"$f":"IFERROR(INDEX(B140:B148, SMALL(IF(ISNUMBER(SEARCH(\"JV2\",F140:F148)), ROW(F140:F148)-MIN(ROW(F140:F148))+1, \"\"), ROW() -139 )), \"\")","v":""},{"$f":"IFERROR(INDEX(C140:C148, SMALL(IF(ISNUMBER(SEARCH(\"JV2\",F140:F148)), ROW(F140:F148)-MIN(ROW(F140:F148))+1, \"\"), ROW() -139 )), \"\")","v":""},{"$f":"IFERROR(INDEX(D140:D148, SMALL(IF(ISNUMBER(SEARCH(\"JV2\",F140:F148)), ROW(F140:F148)-MIN(ROW(F140:F148))+1, \"\"), ROW() -139 )), \"\")","v":""},{"$f":"IFERROR(INDEX(E140:E148, SMALL(IF(ISNUMBER(SEARCH(\"JV2\",F140:F148)), ROW(F140:F148)-MIN(ROW(F140:F148))+1, \"\"), ROW() -139 )), \"\")","v":""}]
[null,"Midland University",null,"16-83486","Emily Ziegler","V",null,3448.0,null,false,{"$nulls":17},{"$f":"IFERROR(INDEX(B140:B148, SMALL(IF(\"V\"=F140:F148, ROW(F140:F148)-MIN(ROW(F140:F148))+1, \"\"), ROW() -139 )), \"\")","v":"Midland University"},{"$f":"IFERROR(INDEX(C140:C148, SMALL(IF(\"V\"=F140:F148, ROW(F140:F148)-MIN(ROW(F140:F148))+1, \"\"), ROW() -139 )), \"\")","v":""},{"$f":"IFERROR(INDEX(D140:D148, SMALL(IF(\"V\"=F140:F148, ROW(F140:F148)-MIN(ROW(F140:F148))+1, \"\"), ROW() -139 )), \"\")","v":"16-68196"},{"$f":"IFERROR(INDEX(E140:E148, SMALL(IF(\"V\"=F140:F148, ROW(F140:F148)-MIN(ROW(F140:F148))+1, \"\"), ROW() -139 )), \"\")","v":"Hannah Bowling"},{"$f":"IFERROR(INDEX(B140:B148, SMALL(IF(ISNUMBER(SEARCH(\"JV1\",F140:F148)), ROW(F140:F148)-MIN(ROW(F140:F148))+1, \"\"), ROW() -139 )), \"\")","v":""},{"$f":"IFERROR(INDEX(C140:C148, SMALL(IF(ISNUMBER(SEARCH(\"JV1\",F140:F148)), ROW(F140:F148)-MIN(ROW(F140:F148))+1, \"\"), ROW() -139 )), \"\")","v":""},{"$f":"IFERROR(INDEX(D140:D148, SMALL(IF(ISNUMBER(SEARCH(\"JV1\",F140:F148)), ROW(F140:F148)-MIN(ROW(F140:F148))+1, \"\"), ROW() -139 )), \"\")","v":""},{"$f":"IFERROR(INDEX(E140:E148, SMALL(IF(ISNUMBER(SEARCH(\"JV1\",F140:F148)), ROW(F140:F148)-MIN(ROW(F140:F148))+1, \"\"), ROW() -139 )), \"\")","v":""},{"$f":"IFERROR(INDEX(B140:B148, SMALL(IF(ISNUMBER(SEARCH(\"JV2\",F140:F148)), ROW(F140:F148)-MIN(ROW(F140:F148))+1, \"\"), ROW() -139 )), \"\")","v":""},{"$f":"IFERROR(INDEX(C140:C148, SMALL(IF(ISNUMBER(SEARCH(\"JV2\",F140:F148)), ROW(F140:F148)-MIN(ROW(F140:F148))+1, \"\"), ROW() -139 )), \"\")","v":""},{"$f":"IFERROR(INDEX(D140:D148, SMALL(IF(ISNUMBER(SEARCH(\"JV2\",F140:F148)), ROW(F140:F148)-MIN(ROW(F140:F148))+1, \"\"), ROW() -139 )), \"\")","v":""},{"$f":"IFERROR(INDEX(E140:E148, SMALL(IF(ISNUMBER(SEARCH(\"JV2\",F140:F148)), ROW(F140:F148)-MIN(ROW(F140:F148))+1, \"\"), ROW() -139 )), \"\")","v":""}]
[null,"Midland University",null,"16-68196","Hannah Bowling","V",null,3448.0,null,false,{"$nulls":17},{"$f":"IFERROR(INDEX(B140:B148, SMALL(IF(\"V\"=F140:F148, ROW(F140:F148)-MIN(ROW(F140:F148))+1, \"\"), ROW() -139 )), \"\")","v":"Midland University"},{"$f":"IFERROR(INDEX(C140:C148, SMALL(IF(\"V\"=F140:F148, ROW(F140:F148)-MIN(ROW(F140:F148))+1, \"\"), ROW() -139 )), \"\")","v":""},{"$f":"IFERROR(INDEX(D140:D148, SMALL(IF(\"V\"=F140:F148, ROW(F140:F148)-MIN(ROW(F140:F148))+1, \"\"), ROW() -139 )), \"\")","v":"19-70845"},{"$f":"IFERROR(INDEX(E140:E148, SMALL(IF(\"V\"=F140:F148, ROW(F140:F148)-MIN(ROW(F140:F148))+1, \"\"), ROW() -139 )), \"\")","v":"Jerika Koopmeiners"},{"$f":"IFERROR(INDEX(B140:B148, SMALL(IF(ISNUMBER(SEARCH(\"JV1\",F140:F148)), ROW(F140:F148)-MIN(ROW(F140:F148))+1, \"\"), ROW() -139 )), \"\")","v":""},{"$f":"IFERROR(INDEX(C140:C148, SMALL(IF(ISNUMBER(SEARCH(\"JV1\",F140:F148)), ROW(F140:F148)-MIN(ROW(F140:F148))+1, \"\"), ROW() -139 )), \"\")","v":""},{"$f":"IFERROR(INDEX(D140:D148, SMALL(IF(ISNUMBER(SEARCH(\"JV1\",F140:F148)), ROW(F140:F148)-MIN(ROW(F140:F148))+1, \"\"), ROW() -139 )), \"\")","v":""},{"$f":"IFERROR(INDEX(E140:E148, SMALL(IF(ISNUMBER(SEARCH(\"JV1\",F140:F148)), ROW(F140:F148)-MIN(ROW(F140:F148))+1, \"\"), ROW() -139 )), \"\")","v":""},{"$f":"IFERROR(INDEX(B140:B148, SMALL(IF(ISNUMBER(SEARCH(\"JV2\",F140:F148)), ROW(F140:F148)-MIN(ROW(F140:F148))+1, \"\"), ROW() -139 )), \"\")","v":""},{"$f":"IFERROR(INDEX(C140:C148, SMALL(IF(ISNUMBER(SEARCH(\"JV2\",F140:F148)), ROW(F140:F148)-MIN(ROW(F140:F148))+1, \"\"), ROW() -139 )), \"\")","v":""},{"$f":"IFERROR(INDEX(D140:D148, SMALL(IF(ISNUMBER(SEARCH(\"JV2\",F140:F148)), ROW(F140:F148)-MIN(ROW(F140:F148))+1, \"\"), ROW() -139 )), \"\")","v":""},{"$f":"IFERROR(INDEX(E140:E148, SMALL(IF(ISNUMBER(SEARCH(\"JV2\",F140:F148)), ROW(F140:F148)-MIN(ROW(F140:F148))+1, \"\"), ROW() -139 )), \"\")","v":""}]
[null,"Midland University",null,"19-70845","Jerika Koopmeiners","V",null,3448.0,null,false,{"$nulls":17},{"$f":"IFERROR(INDEX(B140:B148, SMALL(IF(\"V\"=F140:F148, ROW(F140:F148)-MIN(ROW(F140:F148))+1, \"\"), ROW() -139 )), \"\")","v":"Midland University"},{"$f":"IFERROR(INDEX(C140:C148, SMALL(IF(\"V\"=F140:F148, ROW(F140:F148)-MIN(ROW(F140:F148))+1, \"\"), ROW() -139 )), \"\")","v":""},{"$f":"IFERROR(INDEX(D140:D148, SMALL(IF(\"V\"=F140:F148, ROW(F140:F148)-MIN(ROW(F140:F148))+1, \"\"), ROW() -139 )), \"\")","v":"11-372758"},{"$f":"IFERROR(INDEX(E140:E148, SMALL(IF(\"V\"=F140:F148, ROW(F140:F148)-MIN(ROW(F140:F148))+1, \"\"), ROW() -139 )), \"\")","v":"Kaylee Bergstrom"},{"$f":"IFERROR(INDEX(B140:B148, SMALL(IF(ISNUMBER(SEARCH(\"JV1\",F140:F148)), ROW(F140:F148)-MIN(ROW(F140:F148))+1, \"\"), ROW() -139 )), \"\")","v":""},{"$f":"IFERROR(INDEX(C140:C148, SMALL(IF(ISNUMBER(SEARCH(\"JV1\",F140:F148)), ROW(F140:F148)-MIN(ROW(F140:F148))+1, \"\"), ROW() -139 )), \"\")","v":""},{"$f":"IFERROR(INDEX(D140:D148, SMALL(IF(ISNUMBER(SEARCH(\"JV1\",F140:F148)), ROW(F140:F148)-MIN(ROW(F140:F148))+1, \"\"), ROW() -139 )), \"\")","v":""},{"$f":"IFERROR(INDEX(E140:E148, SMALL(IF(ISNUMBER(SEARCH(\"JV1\",F140:F148)), ROW(F140:F148)-MIN(ROW(F140:F148))+1, \"\"), ROW() -139 )), \"\")","v":""},{"$f":"IFERROR(INDEX(B140:B148, SMALL(IF(ISNUMBER(SEARCH(\"JV2\",F140:F148)), ROW(F140:F148)-MIN(ROW(F140:F148))+1, \"\"), ROW() -139 )), \"\")","v":""},{"$f":"IFERROR(INDEX(C140:C148, SMALL(IF(ISNUMBER(SEARCH(\"JV2\",F140:F148)), ROW(F140:F148)-MIN(ROW(F140:F148))+1, \"\"), ROW() -139 )), \"\")","v":""},{"$f":"IFERROR(INDEX(D140:D148, SMALL(IF(ISNUMBER(SEARCH(\"JV2\",F140:F148)), ROW(F140:F148)-MIN(ROW(F140:F148))+1, \"\"), ROW() -139 )), \"\")","v":""},{"$f":"IFERROR(INDEX(E140:E148, SMALL(IF(ISNUMBER(SEARCH(\"JV2\",F140:F148)), ROW(F140:F148)-MIN(ROW(F140:F148))+1, \"\"), ROW() -139 )), \"\")","v":""}]
[null,"Midland University",null,"11-372758","Kaylee Bergstrom","V",null,3448.0,null,false,{"$nulls":17},{"$f":"IFERROR(INDEX(B140:B148, SMALL(IF(\"V\"=F140:F148, ROW(F140:F148)-MIN(ROW(F140:F148))+1, \"\"), ROW() -139 )), \"\")","v":"Midland University"},{"$f":"IFERROR(INDEX(C140:C148, SMALL(IF(\"V\"=F140:F148, ROW(F140:F148)-MIN(ROW(F140:F148))+1, \"\"), ROW() -139 )), \"\")","v":""},{"$f":"IFERROR(INDEX(D140:D148, SMALL(IF(\"V\"=F140:F148, ROW(F140:F148)-MIN(ROW(F140:F148))+1, \"\"), ROW() -139 )), \"\")","v":"19-57528"},{"$f":"IFERROR(INDEX(E140:E148, SMALL(IF(\"V\"=F140:F148, ROW(F140:F148)-MIN(ROW(F140:F148))+1, \"\"), ROW() -139 )), \"\")","v":"Leia Miller"},{"$f":"IFERROR(INDEX(B140:B148, SMALL(IF(ISNUMBER(SEARCH(\"JV1\",F140:F148)), ROW(F140:F148)-MIN(ROW(F140:F148))+1, \"\"), ROW() -139 )), \"\")","v":""},{"$f":"IFERROR(INDEX(C140:C148, SMALL(IF(ISNUMBER(SEARCH(\"JV1\",F140:F148)), ROW(F140:F148)-MIN(ROW(F140:F148))+1, \"\"), ROW() -139 )), \"\")","v":""},{"$f":"IFERROR(INDEX(D140:D148, SMALL(IF(ISNUMBER(SEARCH(\"JV1\",F140:F148)), ROW(F140:F148)-MIN(ROW(F140:F148))+1, \"\"), ROW() -139 )), \"\")","v":""},{"$f":"IFERROR(INDEX(E140:E148, SMALL(IF(ISNUMBER(SEARCH(\"JV1\",F140:F148)), ROW(F140:F148)-MIN(ROW(F140:F148))+1, \"\"), ROW() -139 )), \"\")","v":""},{"$f":"IFERROR(INDEX(B140:B148, SMALL(IF(ISNUMBER(SEARCH(\"JV2\",F140:F148)), ROW(F140:F148)-MIN(ROW(F140:F148))+1, \"\"), ROW() -139 )), \"\")","v":""},{"$f":"IFERROR(INDEX(C140:C148, SMALL(IF(ISNUMBER(SEARCH(\"JV2\",F140:F148)), ROW(F140:F148)-MIN(ROW(F140:F148))+1, \"\"), ROW() -139 )), \"\")","v":""},{"$f":"IFERROR(INDEX(D140:D148, SMALL(IF(ISNUMBER(SEARCH(\"JV2\",F140:F148)), ROW(F140:F148)-MIN(ROW(F140:F148))+1, \"\"), ROW() -139 )), \"\")","v":""},{"$f":"IFERROR(INDEX(E140:E148, SMALL(IF(ISNUMBER(SEARCH(\"JV2\",F140:F148)), ROW(F140:F148)-MIN(ROW(F140:F148))+1, \"\"), ROW() -139 )), \"\")","v":""}]
[null,"Midland University",null,"19-57528","Leia Miller","V",null,3448.0,null,false,{"$nulls":17},{"$f":"IFERROR(INDEX(B140:B148, SMALL(IF(\"V\"=F140:F148, ROW(F140:F148)-MIN(ROW(F140:F148))+1, \"\"), ROW() -139 )), \"\")","v":"Midland University"},{"$f":"IFERROR(INDEX(C140:C148, SMALL(IF(\"V\"=F140:F148, ROW(F140:F148)-MIN(ROW(F140:F148))+1, \"\"), ROW() -139 )), \"\")","v":""},{"$f":"IFERROR(INDEX(D140:D148, SMALL(IF(\"V\"=F140:F148, ROW(F140:F148)-MIN(ROW(F140:F148))+1, \"\"), ROW() -139 )), \"\")","v":"11-460870"},{"$f":"IFERROR(INDEX(E140:E148, SMALL(IF(\"V\"=F140:F148, ROW(F140:F148)-MIN(ROW(F140:F148))+1, \"\"), ROW() -139 )), \"\")","v":"Samantha Creutz"},{"$f":"IFERROR(INDEX(B140:B148, SMALL(IF(ISNUMBER(SEARCH(\"JV1\",F140:F148)), ROW(F140:F148)-MIN(ROW(F140:F148))+1, \"\"), ROW() -139 )), \"\")","v":""},{"$f":"IFERROR(INDEX(C140:C148, SMALL(IF(ISNUMBER(SEARCH(\"JV1\",F140:F148)), ROW(F140:F148)-MIN(ROW(F140:F148))+1, \"\"), ROW() -139 )), \"\")","v":""},{"$f":"IFERROR(INDEX(D140:D148, SMALL(IF(ISNUMBER(SEARCH(\"JV1\",F140:F148)), ROW(F140:F148)-MIN(ROW(F140:F148))+1, \"\"), ROW() -139 )), \"\")","v":""},{"$f":"IFERROR(INDEX(E140:E148, SMALL(IF(ISNUMBER(SEARCH(\"JV1\",F140:F148)), ROW(F140:F148)-MIN(ROW(F140:F148))+1, \"\"), ROW() -139 )), \"\")","v":""},{"$f":"IFERROR(INDEX(B140:B148, SMALL(IF(ISNUMBER(SEARCH(\"JV2\",F140:F148)), ROW(F140:F148)-MIN(ROW(F140:F148))+1, \"\"), ROW() -139 )), \"\")","v":""},{"$f":"IFERROR(INDEX(C140:C148, SMALL(IF(ISNUMBER(SEARCH(\"JV2\",F140:F148)), ROW(F140:F148)-MIN(ROW(F140:F148))+1, \"\"), ROW() -139 )), \"\")","v":""},{"$f":"IFERROR(INDEX(D140:D148, SMALL(IF(ISNUMBER(SEARCH(\"JV2\",F140:F148)), ROW(F140:F148)-MIN(ROW(F140:F148))+1, \"\"), ROW() -139 )), \"\")","v":""},{"$f":"IFERROR(INDEX(E140:E148, SMALL(IF(ISNUMBER(SEARCH(\"JV2\",F140:F148)), ROW(F140:F148)-MIN(ROW(F140:F148))+1, \"\"), ROW() -139 )), \"\")","v":""}]
[null,"Midland University",null,"11-460870","Samantha Creutz","V",null,3448.0,null,false,{"$nulls":17},{"$f":"IFERROR(INDEX(B140:B148, SMALL(IF(\"V\"=F140:F148, ROW(F140:F148)-MIN(ROW(F140:F148))+1, \"\"), ROW() -139 )), \"\")","v":"Midland University"},{"$f":"IFERROR(INDEX(C140:C148, SMALL(IF(\"V\"=F140:F148, ROW(F140:F148)-MIN(ROW(F140:F148))+1, \"\"), ROW() -139 )), \"\")","v":""},{"$f":"IFERROR(INDEX(D140:D148, SMALL(IF(\"V\"=F140:F148, ROW(F140:F148)-MIN(ROW(F140:F148))+1, \"\"), ROW() -139 )), \"\")","v":"16-133687"},{"$f":"IFERROR(INDEX(E140:E148, SMALL(IF(\"V\"=F140:F148, ROW(F140:F148)-MIN(ROW(F140:F148))+1, \"\"), ROW() -139 )), \"\")","v":"Victoria Cruz Cervantes"},{"$f":"IFERROR(INDEX(B140:B148, SMALL(IF(ISNUMBER(SEARCH(\"JV1\",F140:F148)), ROW(F140:F148)-MIN(ROW(F140:F148))+1, \"\"), ROW() -139 )), \"\")","v":""},{"$f":"IFERROR(INDEX(C140:C148, SMALL(IF(ISNUMBER(SEARCH(\"JV1\",F140:F148)), ROW(F140:F148)-MIN(ROW(F140:F148))+1, \"\"), ROW() -139 )), \"\")","v":""},{"$f":"IFERROR(INDEX(D140:D148, SMALL(IF(ISNUMBER(SEARCH(\"JV1\",F140:F148)), ROW(F140:F148)-MIN(ROW(F140:F148))+1, \"\"), ROW() -139 )), \"\")","v":""},{"$f":"IFERROR(INDEX(E140:E148, SMALL(IF(ISNUMBER(SEARCH(\"JV1\",F140:F148)), ROW(F140:F148)-MIN(ROW(F140:F148))+1, \"\"), ROW() -139 )), \"\")","v":""},{"$f":"IFERROR(INDEX(B140:B148, SMALL(IF(ISNUMBER(SEARCH(\"JV2\",F140:F148)), ROW(F140:F148)-MIN(ROW(F140:F148))+1, \"\"), ROW() -139 )), \"\")","v":""},{"$f":"IFERROR(INDEX(C140:C148, SMALL(IF(ISNUMBER(SEARCH(\"JV2\",F140:F148)), ROW(F140:F148)-MIN(ROW(F140:F148))+1, \"\"), ROW() -139 )), \"\")","v":""},{"$f":"IFERROR(INDEX(D140:D148, SMALL(IF(ISNUMBER(SEARCH(\"JV2\",F140:F148)), ROW(F140:F148)-MIN(ROW(F140:F148))+1, \"\"), ROW() -139 )), \"\")","v":""},{"$f":"IFERROR(INDEX(E140:E148, SMALL(IF(ISNUMBER(SEARCH(\"JV2\",F140:F148)), ROW(F140:F148)-MIN(ROW(F140:F148))+1, \"\"), ROW() -139 )), \"\")","v":""}]
[null,"Midland University",null,"16-133687","Victoria Cruz Cervantes","V",null,3448.0,null,false]
[null,"Morningside University",null,"11-273910","Alexa Munhofen","V",null,4339.0,null,false,{"$nulls":17},{"$f":"IFERROR(INDEX(B149:B161, SMALL(IF(\"V\"=F149:F161, ROW(F149:F161)-MIN(ROW(F149:F161))+1, \"\"), ROW() -148 )), \"\")","v":"Morningside University"},{"$f":"IFERROR(INDEX(C149:C161, SMALL(IF(\"V\"=F149:F161, ROW(F149:F161)-MIN(ROW(F149:F161))+1, \"\"), ROW() -148 )), \"\")","v":""},{"$f":"IFERROR(INDEX(D149:D161, SMALL(IF(\"V\"=F149:F161, ROW(F149:F161)-MIN(ROW(F149:F161))+1, \"\"), ROW() -148 )), \"\")","v":"11-273910"},{"$f":"IFERROR(INDEX(E149:E161, SMALL(IF(\"V\"=F149:F161, ROW(F149:F161)-MIN(ROW(F149:F161))+1, \"\"), ROW() -148 )), \"\")","v":"Alexa Munhofen"},{"$f":"IFERROR(INDEX(B149:B161, SMALL(IF(ISNUMBER(SEARCH(\"JV1\",F149:F161)), ROW(F149:F161)-MIN(ROW(F149:F161))+1, \"\"), ROW() -148 )), \"\")","v":"Morningside University"},{"$f":"IFERROR(INDEX(C149:C161, SMALL(IF(ISNUMBER(SEARCH(\"JV1\",F149:F161)), ROW(F149:F161)-MIN(ROW(F149:F161))+1, \"\"), ROW() -148 )), \"\")","v":""},{"$f":"IFERROR(INDEX(D149:D161, SMALL(IF(ISNUMBER(SEARCH(\"JV1\",F149:F161)), ROW(F149:F161)-MIN(ROW(F149:F161))+1, \"\"), ROW() -148 )), \"\")","v":"18-52250"},{"$f":"IFERROR(INDEX(E149:E161, SMALL(IF(ISNUMBER(SEARCH(\"JV1\",F149:F161)), ROW(F149:F161)-MIN(ROW(F149:F161))+1, \"\"), ROW() -148 )), \"\")","v":"Elana Krutsinger"},{"$f":"IFERROR(INDEX(B149:B161, SMALL(IF(ISNUMBER(SEARCH(\"JV2\",F149:F161)), ROW(F149:F161)-MIN(ROW(F149:F161))+1, \"\"), ROW() -148 )), \"\")","v":""},{"$f":"IFERROR(INDEX(C149:C161, SMALL(IF(ISNUMBER(SEARCH(\"JV2\",F149:F161)), ROW(F149:F161)-MIN(ROW(F149:F161))+1, \"\"), ROW() -148 )), \"\")","v":""},{"$f":"IFERROR(INDEX(D149:D161, SMALL(IF(ISNUMBER(SEARCH(\"JV2\",F149:F161)), ROW(F149:F161)-MIN(ROW(F149:F161))+1, \"\"), ROW() -148 )), \"\")","v":""},{"$f":"IFERROR(INDEX(E149:E161, SMALL(IF(ISNUMBER(SEARCH(\"JV2\",F149:F161)), ROW(F149:F161)-MIN(ROW(F149:F161))+1, \"\"), ROW() -148 )), \"\")","v":""}]
[null,"Morningside University",null,"11-494298","Ashley Wilkins",null,null,4339.0,null,false,{"$nulls":17},{"$f":"IFERROR(INDEX(B149:B161, SMALL(IF(\"V\"=F149:F161, ROW(F149:F161)-MIN(ROW(F149:F161))+1, \"\"), ROW() -148 )), \"\")","v":"Morningside University"},{"$f":"IFERROR(INDEX(C149:C161, SMALL(IF(\"V\"=F149:F161, ROW(F149:F161)-MIN(ROW(F149:F161))+1, \"\"), ROW() -148 )), \"\")","v":""},{"$f":"IFERROR(INDEX(D149:D161, SMALL(IF(\"V\"=F149:F161, ROW(F149:F161)-MIN(ROW(F149:F161))+1, \"\"), ROW() -148 )), \"\")","v":"8337-10677"},{"$f":"IFERROR(INDEX(E149:E161, SMALL(IF(\"V\"=F149:F161, ROW(F149:F161)-MIN(ROW(F149:F161))+1, \"\"), ROW() -148 )), \"\")","v":"Carissa Johnson"},{"$f":"IFERROR(INDEX(B149:B161, SMALL(IF(ISNUMBER(SEARCH(\"JV1\",F149:F161)), ROW(F149:F161)-MIN(ROW(F149:F161))+1, \"\"), ROW() -148 )), \"\")","v":"Morningside University"},{"$f":"IFERROR(INDEX(C149:C161, SMALL(IF(ISNUMBER(SEARCH(\"JV1\",F149:F161)), ROW(F149:F161)-MIN(ROW(F149:F161))+1, \"\"), ROW() -148 )), \"\")","v":""},{"$f":"IFERROR(INDEX(D149:D161, SMALL(IF(ISNUMBER(SEARCH(\"JV1\",F149:F161)), ROW(F149:F161)-MIN(ROW(F149:F161))+1, \"\"), ROW() -148 )), \"\")","v":"19-55217"},{"$f":"IFERROR(INDEX(E149:E161, SMALL(IF(ISNUMBER(SEARCH(\"JV1\",F149:F161)), ROW(F149:F161)-MIN(ROW(F149:F161))+1, \"\"), ROW() -148 )), \"\")","v":"Kiara(Riley) Howard"},{"$f":"IFERROR(INDEX(B149:B161, SMALL(IF(ISNUMBER(SEARCH(\"JV2\",F149:F161)), ROW(F149:F161)-MIN(ROW(F149:F161))+1, \"\"), ROW() -148 )), \"\")","v":""},{"$f":"IFERROR(INDEX(C149:C161, SMALL(IF(ISNUMBER(SEARCH(\"JV2\",F149:F161)), ROW(F149:F161)-MIN(ROW(F149:F161))+1, \"\"), ROW() -148 )), \"\")","v":""},{"$f":"IFERROR(INDEX(D149:D161, SMALL(IF(ISNUMBER(SEARCH(\"JV2\",F149:F161)), ROW(F149:F161)-MIN(ROW(F149:F161))+1, \"\"), ROW() -148 )), \"\")","v":""},{"$f":"IFERROR(INDEX(E149:E161, SMALL(IF(ISNUMBER(SEARCH(\"JV2\",F149:F161)), ROW(F149:F161)-MIN(ROW(F149:F161))+1, \"\"), ROW() -148 )), \"\")","v":""}]
[null,"Morningside University",null,"8337-10677","Carissa Johnson","V",null,4339.0,null,false,{"$nulls":17},{"$f":"IFERROR(INDEX(B149:B161, SMALL(IF(\"V\"=F149:F161, ROW(F149:F161)-MIN(ROW(F149:F161))+1, \"\"), ROW() -148 )), \"\")","v":"Morningside University"},{"$f":"IFERROR(INDEX(C149:C161, SMALL(IF(\"V\"=F149:F161, ROW(F149:F161)-MIN(ROW(F149:F161))+1, \"\"), ROW() -148 )), \"\")","v":""},{"$f":"IFERROR(INDEX(D149:D161, SMALL(IF(\"V\"=F149:F161, ROW(F149:F161)-MIN(ROW(F149:F161))+1, \"\"), ROW() -148 )), \"\")","v":"11-135896"},{"$f":"IFERROR(INDEX(E149:E161, SMALL(IF(\"V\"=F149:F161, ROW(F149:F161)-MIN(ROW(F149:F161))+1, \"\"), ROW() -148 )), \"\")","v":"Emaly Kruse"},{"$f":"IFERROR(INDEX(B149:B161, SMALL(IF(ISNUMBER(SEARCH(\"JV1\",F149:F161)), ROW(F149:F161)-MIN(ROW(F149:F161))+1, \"\"), ROW() -148 )), \"\")","v":"Morningside University"},{"$f":"IFERROR(INDEX(C149:C161, SMALL(IF(ISNUMBER(SEARCH(\"JV1\",F149:F161)), ROW(F149:F161)-MIN(ROW(F149:F161))+1, \"\"), ROW() -148 )), \"\")","v":""},{"$f":"IFERROR(INDEX(D149:D161, SMALL(IF(ISNUMBER(SEARCH(\"JV1\",F149:F161)), ROW(F149:F161)-MIN(ROW(F149:F161))+1, \"\"), ROW() -148 )), \"\")","v":"11-250940"},{"$f":"IFERROR(INDEX(E149:E161, SMALL(IF(ISNUMBER(SEARCH(\"JV1\",F149:F161)), ROW(F149:F161)-MIN(ROW(F149:F161))+1, \"\"), ROW() -148 )), \"\")","v":"Liberty Nordstrom"},{"$f":"IFERROR(INDEX(B149:B161, SMALL(IF(ISNUMBER(SEARCH(\"JV2\",F149:F161)), ROW(F149:F161)-MIN(ROW(F149:F161))+1, \"\"), ROW() -148 )), \"\")","v":""},{"$f":"IFERROR(INDEX(C149:C161, SMALL(IF(ISNUMBER(SEARCH(\"JV2\",F149:F161)), ROW(F149:F161)-MIN(ROW(F149:F161))+1, \"\"), ROW() -148 )), \"\")","v":""},{"$f":"IFERROR(INDEX(D149:D161, SMALL(IF(ISNUMBER(SEARCH(\"JV2\",F149:F161)), ROW(F149:F161)-MIN(ROW(F149:F161))+1, \"\"), ROW() -148 )), \"\")","v":""},{"$f":"IFERROR(INDEX(E149:E161, SMALL(IF(ISNUMBER(SEARCH(\"JV2\",F149:F161)), ROW(F149:F161)-MIN(ROW(F149:F161))+1, \"\"), ROW() -148 )), \"\")","v":""}]
[null,"Morningside University",null,"18-52250","Elana Krutsinger","JV1",null,4339.0,null,false,{"$nulls":17},{"$f":"IFERROR(INDEX(B149:B161, SMALL(IF(\"V\"=F149:F161, ROW(F149:F161)-MIN(ROW(F149:F161))+1, \"\"), ROW() -148 )), \"\")","v":"Morningside University"},{"$f":"IFERROR(INDEX(C149:C161, SMALL(IF(\"V\"=F149:F161, ROW(F149:F161)-MIN(ROW(F149:F161))+1, \"\"), ROW() -148 )), \"\")","v":""},{"$f":"IFERROR(INDEX(D149:D161, SMALL(IF(\"V\"=F149:F161, ROW(F149:F161)-MIN(ROW(F149:F161))+1, \"\"), ROW() -148 )), \"\")","v":"6414-1343"},{"$f":"IFERROR(INDEX(E149:E161, SMALL(IF(\"V\"=F149:F161, ROW(F149:F161)-MIN(ROW(F149:F161))+1, \"\"), ROW() -148 )), \"\")","v":"Maren Ewertz"},{"$f":"IFERROR(INDEX(B149:B161, SMALL(IF(ISNUMBER(SEARCH(\"JV1\",F149:F161)), ROW(F149:F161)-MIN(ROW(F149:F161))+1, \"\"), ROW() -148 )), \"\")","v":"Morningside University"},{"$f":"IFERROR(INDEX(C149:C161, SMALL(IF(ISNUMBER(SEARCH(\"JV1\",F149:F161)), ROW(F149:F161)-MIN(ROW(F149:F161))+1, \"\"), ROW() -148 )), \"\")","v":""},{"$f":"IFERROR(INDEX(D149:D161, SMALL(IF(ISNUMBER(SEARCH(\"JV1\",F149:F161)), ROW(F149:F161)-MIN(ROW(F149:F161))+1, \"\"), ROW() -148 )), \"\")","v":"11-81546"},{"$f":"IFERROR(INDEX(E149:E161, SMALL(IF(ISNUMBER(SEARCH(\"JV1\",F149:F161)), ROW(F149:F161)-MIN(ROW(F149:F161))+1, \"\"), ROW() -148 )), \"\")","v":"Samantha Sonier"},{"$f":"IFERROR(INDEX(B149:B161, SMALL(IF(ISNUMBER(SEARCH(\"JV2\",F149:F161)), ROW(F149:F161)-MIN(ROW(F149:F161))+1, \"\"), ROW() -148 )), \"\")","v":""},{"$f":"IFERROR(INDEX(C149:C161, SMALL(IF(ISNUMBER(SEARCH(\"JV2\",F149:F161)), ROW(F149:F161)-MIN(ROW(F149:F161))+1, \"\"), ROW() -148 )), \"\")","v":""},{"$f":"IFERROR(INDEX(D149:D161, SMALL(IF(ISNUMBER(SEARCH(\"JV2\",F149:F161)), ROW(F149:F161)-MIN(ROW(F149:F161))+1, \"\"), ROW() -148 )), \"\")","v":""},{"$f":"IFERROR(INDEX(E149:E161, SMALL(IF(ISNUMBER(SEARCH(\"JV2\",F149:F161)), ROW(F149:F161)-MIN(ROW(F149:F161))+1, \"\"), ROW() -148 )), \"\")","v":""}]
[null,"Morningside University",null,"11-135896","Emaly Kruse","V",null,4339.0,null,false,{"$nulls":17},{"$f":"IFERROR(INDEX(B149:B161, SMALL(IF(\"V\"=F149:F161, ROW(F149:F161)-MIN(ROW(F149:F161))+1, \"\"), ROW() -148 )), \"\")","v":"Morningside University"},{"$f":"IFERROR(INDEX(C149:C161, SMALL(IF(\"V\"=F149:F161, ROW(F149:F161)-MIN(ROW(F149:F161))+1, \"\"), ROW() -148 )), \"\")","v":""},{"$f":"IFERROR(INDEX(D149:D161, SMALL(IF(\"V\"=F149:F161, ROW(F149:F161)-MIN(ROW(F149:F161))+1, \"\"), ROW() -148 )), \"\")","v":"8337-13882"},{"$f":"IFERROR(INDEX(E149:E161, SMALL(IF(\"V\"=F149:F161, ROW(F149:F161)-MIN(ROW(F149:F161))+1, \"\"), ROW() -148 )), \"\")","v":"Rachel Spier"},{"$f":"IFERROR(INDEX(B149:B161, SMALL(IF(ISNUMBER(SEARCH(\"JV1\",F149:F161)), ROW(F149:F161)-MIN(ROW(F149:F161))+1, \"\"), ROW() -148 )), \"\")","v":"Morningside University"},{"$f":"IFERROR(INDEX(C149:C161, SMALL(IF(ISNUMBER(SEARCH(\"JV1\",F149:F161)), ROW(F149:F161)-MIN(ROW(F149:F161))+1, \"\"), ROW() -148 )), \"\")","v":""},{"$f":"IFERROR(INDEX(D149:D161, SMALL(IF(ISNUMBER(SEARCH(\"JV1\",F149:F161)), ROW(F149:F161)-MIN(ROW(F149:F161))+1, \"\"), ROW() -148 )), \"\")","v":"11-574512"},{"$f":"IFERROR(INDEX(E149:E161, SMALL(IF(ISNUMBER(SEARCH(\"JV1\",F149:F161)), ROW(F149:F161)-MIN(ROW(F149:F161))+1, \"\"), ROW() -148 )), \"\")","v":"Zara Bitsos"},{"$f":"IFERROR(INDEX(B149:B161, SMALL(IF(ISNUMBER(SEARCH(\"JV2\",F149:F161)), ROW(F149:F161)-MIN(ROW(F149:F161))+1, \"\"), ROW() -148 )), \"\")","v":""},{"$f":"IFERROR(INDEX(C149:C161, SMALL(IF(ISNUMBER(SEARCH(\"JV2\",F149:F161)), ROW(F149:F161)-MIN(ROW(F149:F161))+1, \"\"), ROW() -148 )), \"\")","v":""},{"$f":"IFERROR(INDEX(D149:D161, SMALL(IF(ISNUMBER(SEARCH(\"JV2\",F149:F161)), ROW(F149:F161)-MIN(ROW(F149:F161))+1, \"\"), ROW() -148 )), \"\")","v":""},{"$f":"IFERROR(INDEX(E149:E161, SMALL(IF(ISNUMBER(SEARCH(\"JV2\",F149:F161)), ROW(F149:F161)-MIN(ROW(F149:F161))+1, \"\"), ROW() -148 )), \"\")","v":""}]
[null,"Morningside University",null,"19-55217","Kiara(Riley) Howard","JV1",null,4339.0,null,false,{"$nulls":17},{"$f":"IFERROR(INDEX(B149:B161, SMALL(IF(\"V\"=F149:F161, ROW(F149:F161)-MIN(ROW(F149:F161))+1, \"\"), ROW() -148 )), \"\")","v":"Morningside University"},{"$f":"IFERROR(INDEX(C149:C161, SMALL(IF(\"V\"=F149:F161, ROW(F149:F161)-MIN(ROW(F149:F161))+1, \"\"), ROW() -148 )), \"\")","v":""},{"$f":"IFERROR(INDEX(D149:D161, SMALL(IF(\"V\"=F149:F161, ROW(F149:F161)-MIN(ROW(F149:F161))+1, \"\"), ROW() -148 )), \"\")","v":"18-6531"},{"$f":"IFERROR(INDEX(E149:E161, SMALL(IF(\"V\"=F149:F161, ROW(F149:F161)-MIN(ROW(F149:F161))+1, \"\"), ROW() -148 )), \"\")","v":"Samantha Schiefen"},{"$f":"IFERROR(INDEX(B149:B161, SMALL(IF(ISNUMBER(SEARCH(\"JV1\",F149:F161)), ROW(F149:F161)-MIN(ROW(F149:F161))+1, \"\"), ROW() -148 )), \"\")","v":""},{"$f":"IFERROR(INDEX(C149:C161, SMALL(IF(ISNUMBER(SEARCH(\"JV1\",F149:F161)), ROW(F149:F161)-MIN(ROW(F149:F161))+1, \"\"), ROW() -148 )), \"\")","v":""},{"$f":"IFERROR(INDEX(D149:D161, SMALL(IF(ISNUMBER(SEARCH(\"JV1\",F149:F161)), ROW(F149:F161)-MIN(ROW(F149:F161))+1, \"\"), ROW() -148 )), \"\")","v":""},{"$f":"IFERROR(INDEX(E149:E161, SMALL(IF(ISNUMBER(SEARCH(\"JV1\",F149:F161)), ROW(F149:F161)-MIN(ROW(F149:F161))+1, \"\"), ROW() -148 )), \"\")","v":""},{"$f":"IFERROR(INDEX(B149:B161, SMALL(IF(ISNUMBER(SEARCH(\"JV2\",F149:F161)), ROW(F149:F161)-MIN(ROW(F149:F161))+1, \"\"), ROW() -148 )), \"\")","v":""},{"$f":"IFERROR(INDEX(C149:C161, SMALL(IF(ISNUMBER(SEARCH(\"JV2\",F149:F161)), ROW(F149:F161)-MIN(ROW(F149:F161))+1, \"\"), ROW() -148 )), \"\")","v":""},{"$f":"IFERROR(INDEX(D149:D161, SMALL(IF(ISNUMBER(SEARCH(\"JV2\",F149:F161)), ROW(F149:F161)-MIN(ROW(F149:F161))+1, \"\"), ROW() -148 )), \"\")","v":""},{"$f":"IFERROR(INDEX(E149:E161, SMALL(IF(ISNUMBER(SEARCH(\"JV2\",F149:F161)), ROW(F149:F161)-MIN(ROW(F149:F161))+1, \"\"), ROW() -148 )), \"\")","v":""}]
[null,"Morningside University",null,"11-250940","Liberty Nordstrom","JV1",null,4339.0,null,false,{"$nulls":17},{"$f":"IFERROR(INDEX(B149:B161, SMALL(IF(\"V\"=F149:F161, ROW(F149:F161)-MIN(ROW(F149:F161))+1, \"\"), ROW() -148 )), \"\")","v":""},{"$f":"IFERROR(INDEX(C149:C161, SMALL(IF(\"V\"=F149:F161, ROW(F149:F161)-MIN(ROW(F149:F161))+1, \"\"), ROW() -148 )), \"\")","v":""},{"$f":"IFERROR(INDEX(D149:D161, SMALL(IF(\"V\"=F149:F161, ROW(F149:F161)-MIN(ROW(F149:F161))+1, \"\"), ROW() -148 )), \"\")","v":""},{"$f":"IFERROR(INDEX(E149:E161, SMALL(IF(\"V\"=F149:F161, ROW(F149:F161)-MIN(ROW(F149:F161))+1, \"\"), ROW() -148 )), \"\")","v":""},{"$f":"IFERROR(INDEX(B149:B161, SMALL(IF(ISNUMBER(SEARCH(\"JV1\",F149:F161)), ROW(F149:F161)-MIN(ROW(F149:F161))+1, \"\"), ROW() -148 )), \"\")","v":""},{"$f":"IFERROR(INDEX(C149:C161, SMALL(IF(ISNUMBER(SEARCH(\"JV1\",F149:F161)), ROW(F149:F161)-MIN(ROW(F149:F161))+1, \"\"), ROW() -148 )), \"\")","v":""},{"$f":"IFERROR(INDEX(D149:D161, SMALL(IF(ISNUMBER(SEARCH(\"JV1\",F149:F161)), ROW(F149:F161)-MIN(ROW(F149:F161))+1, \"\"), ROW() -148 )), \"\")","v":""},{"$f":"IFERROR(INDEX(E149:E161, SMALL(IF(ISNUMBER(SEARCH(\"JV1\",F149:F161)), ROW(F149:F161)-MIN(ROW(F149:F161))+1, \"\"), ROW() -148 )), \"\")","v":""},{"$f":"IFERROR(INDEX(B149:B161, SMALL(IF(ISNUMBER(SEARCH(\"JV2\",F149:F161)), ROW(F149:F161)-MIN(ROW(F149:F161))+1, \"\"), ROW() -148 )), \"\")","v":""},{"$f":"IFERROR(INDEX(C149:C161, SMALL(IF(ISNUMBER(SEARCH(\"JV2\",F149:F161)), ROW(F149:F161)-MIN(ROW(F149:F161))+1, \"\"), ROW() -148 )), \"\")","v":""},{"$f":"IFERROR(INDEX(D149:D161, SMALL(IF(ISNUMBER(SEARCH(\"JV2\",F149:F161)), ROW(F149:F161)-MIN(ROW(F149:F161))+1, \"\"), ROW() -148 )), \"\")","v":""},{"$f":"IFERROR(INDEX(E149:E161, SMALL(IF(ISNUMBER(SEARCH(\"JV2\",F149:F161)), ROW(F149:F161)-MIN(ROW(F149:F161))+1, \"\"), ROW() -148 )), \"\")","v":""}]
[null,"Morningside University",null,"6414-1343","Maren Ewertz","V",null,4339.0,null,false,{"$nulls":17},{"$f":"IFERROR(INDEX(B149:B161, SMALL(IF(\"V\"=F149:F161, ROW(F149:F161)-MIN(ROW(F149:F161))+1, \"\"), ROW() -148 )), \"\")","v":""},{"$f":"IFERROR(INDEX(C149:C161, SMALL(IF(\"V\"=F149:F161, ROW(F149:F161)-MIN(ROW(F149:F161))+1, \"\"), ROW() -148 )), \"\")","v":""},{"$f":"IFERROR(INDEX(D149:D161, SMALL(IF(\"V\"=F149:F161, ROW(F149:F161)-MIN(ROW(F149:F161))+1, \"\"), ROW() -148 )), \"\")","v":""},{"$f":"IFERROR(INDEX(E149:E161, SMALL(IF(\"V\"=F149:F161, ROW(F149:F161)-MIN(ROW(F149:F161))+1, \"\"), ROW() -148 )), \"\")","v":""},{"$f":"IFERROR(INDEX(B149:B161, SMALL(IF(ISNUMBER(SEARCH(\"JV1\",F149:F161)), ROW(F149:F161)-MIN(ROW(F149:F161))+1, \"\"), ROW() -148 )), \"\")","v":""},{"$f":"IFERROR(INDEX(C149:C161, SMALL(IF(ISNUMBER(SEARCH(\"JV1\",F149:F161)), ROW(F149:F161)-MIN(ROW(F149:F161))+1, \"\"), ROW() -148 )), \"\")","v":""},{"$f":"IFERROR(INDEX(D149:D161, SMALL(IF(ISNUMBER(SEARCH(\"JV1\",F149:F161)), ROW(F149:F161)-MIN(ROW(F149:F161))+1, \"\"), ROW() -148 )), \"\")","v":""},{"$f":"IFERROR(INDEX(E149:E161, SMALL(IF(ISNUMBER(SEARCH(\"JV1\",F149:F161)), ROW(F149:F161)-MIN(ROW(F149:F161))+1, \"\"), ROW() -148 )), \"\")","v":""},{"$f":"IFERROR(INDEX(B149:B161, SMALL(IF(ISNUMBER(SEARCH(\"JV2\",F149:F161)), ROW(F149:F161)-MIN(ROW(F149:F161))+1, \"\"), ROW() -148 )), \"\")","v":""},{"$f":"IFERROR(INDEX(C149:C161, SMALL(IF(ISNUMBER(SEARCH(\"JV2\",F149:F161)), ROW(F149:F161)-MIN(ROW(F149:F161))+1, \"\"), ROW() -148 )), \"\")","v":""},{"$f":"IFERROR(INDEX(D149:D161, SMALL(IF(ISNUMBER(SEARCH(\"JV2\",F149:F161)), ROW(F149:F161)-MIN(ROW(F149:F161))+1, \"\"), ROW() -148 )), \"\")","v":""},{"$f":"IFERROR(INDEX(E149:E161, SMALL(IF(ISNUMBER(SEARCH(\"JV2\",F149:F161)), ROW(F149:F161)-MIN(ROW(F149:F161))+1, \"\"), ROW() -148 )), \"\")","v":""}]
[null,"Morningside University",null,"11-299438","Morgan Roark",null,null,4339.0,null,false]
[null,"Morningside University",null,"8337-13882","Rachel Spier","V",null,4339.0,null,false]
[null,"Morningside University",null,"18-6531","Samantha Schiefen","V",null,4339.0,null,false]
[null,"Morningside University",null,"11-81546","Samantha Sonier","JV1",null,4339.0,null,false]
[null,"Morningside University",null,"11-574512","Zara Bitsos","JV1",null,4339.0,null,false]
[null,"Ottawa University (KS)",null,"11-529617","Allie Williams","V",null,4459.0,null,false,{"$nulls":17},{"$f":"IFERROR(INDEX(B162:B174, SMALL(IF(\"V\"=F162:F174, ROW(F162:F174)-MIN(ROW(F162:F174))+1, \"\"), ROW() -161 )), \"\")","v":"Ottawa University (KS)"},{"$f":"IFERROR(INDEX(C162:C174, SMALL(IF(\"V\"=F162:F174, ROW(F162:F174)-MIN(ROW(F162:F174))+1, \"\"), ROW() -161 )), \"\")","v":""},{"$f":"IFERROR(INDEX(D162:D174, SMALL(IF(\"V\"=F162:F174, ROW(F162:F174)-MIN(ROW(F162:F174))+1, \"\"), ROW() -161 )), \"\")","v":"11-529617"},{"$f":"IFERROR(INDEX(E162:E174, SMALL(IF(\"V\"=F162:F174, ROW(F162:F174)-MIN(ROW(F162:F174))+1, \"\"), ROW() -161 )), \"\")","v":"Allie Williams"},{"$f":"IFERROR(INDEX(B162:B174, SMALL(IF(ISNUMBER(SEARCH(\"JV1\",F162:F174)), ROW(F162:F174)-MIN(ROW(F162:F174))+1, \"\"), ROW() -161 )), \"\")","v":"Ottawa University (KS)"},{"$f":"IFERROR(INDEX(C162:C174, SMALL(IF(ISNUMBER(SEARCH(\"JV1\",F162:F174)), ROW(F162:F174)-MIN(ROW(F162:F174))+1, \"\"), ROW() -161 )), \"\")","v":""},{"$f":"IFERROR(INDEX(D162:D174, SMALL(IF(ISNUMBER(SEARCH(\"JV1\",F162:F174)), ROW(F162:F174)-MIN(ROW(F162:F174))+1, \"\"), ROW() -161 )), \"\")","v":"18-70532"},{"$f":"IFERROR(INDEX(E162:E174, SMALL(IF(ISNUMBER(SEARCH(\"JV1\",F162:F174)), ROW(F162:F174)-MIN(ROW(F162:F174))+1, \"\"), ROW() -161 )), \"\")","v":"Amber Wagner"},{"$f":"IFERROR(INDEX(B162:B174, SMALL(IF(ISNUMBER(SEARCH(\"JV2\",F162:F174)), ROW(F162:F174)-MIN(ROW(F162:F174))+1, \"\"), ROW() -161 )), \"\")","v":""},{"$f":"IFERROR(INDEX(C162:C174, SMALL(IF(ISNUMBER(SEARCH(\"JV2\",F162:F174)), ROW(F162:F174)-MIN(ROW(F162:F174))+1, \"\"), ROW() -161 )), \"\")","v":""},{"$f":"IFERROR(INDEX(D162:D174, SMALL(IF(ISNUMBER(SEARCH(\"JV2\",F162:F174)), ROW(F162:F174)-MIN(ROW(F162:F174))+1, \"\"), ROW() -161 )), \"\")","v":""},{"$f":"IFERROR(INDEX(E162:E174, SMALL(IF(ISNUMBER(SEARCH(\"JV2\",F162:F174)), ROW(F162:F174)-MIN(ROW(F162:F174))+1, \"\"), ROW() -161 )), \"\")","v":""}]
[null,"Ottawa University (KS)",null,"21-1050","Allison Eastridge",null,null,4459.0,null,false,{"$nulls":17},{"$f":"IFERROR(INDEX(B162:B174, SMALL(IF(\"V\"=F162:F174, ROW(F162:F174)-MIN(ROW(F162:F174))+1, \"\"), ROW() -161 )), \"\")","v":"Ottawa University (KS)"},{"$f":"IFERROR(INDEX(C162:C174, SMALL(IF(\"V\"=F162:F174, ROW(F162:F174)-MIN(ROW(F162:F174))+1, \"\"), ROW() -161 )), \"\")","v":""},{"$f":"IFERROR(INDEX(D162:D174, SMALL(IF(\"V\"=F162:F174, ROW(F162:F174)-MIN(ROW(F162:F174))+1, \"\"), ROW() -161 )), \"\")","v":"11-241897"},{"$f":"IFERROR(INDEX(E162:E174, SMALL(IF(\"V\"=F162:F174, ROW(F162:F174)-MIN(ROW(F162:F174))+1, \"\"), ROW() -161 )), \"\")","v":"Gabriella Hernandez"},{"$f":"IFERROR(INDEX(B162:B174, SMALL(IF(ISNUMBER(SEARCH(\"JV1\",F162:F174)), ROW(F162:F174)-MIN(ROW(F162:F174))+1, \"\"), ROW() -161 )), \"\")","v":"Ottawa University (KS)"},{"$f":"IFERROR(INDEX(C162:C174, SMALL(IF(ISNUMBER(SEARCH(\"JV1\",F162:F174)), ROW(F162:F174)-MIN(ROW(F162:F174))+1, \"\"), ROW() -161 )), \"\")","v":""},{"$f":"IFERROR(INDEX(D162:D174, SMALL(IF(ISNUMBER(SEARCH(\"JV1\",F162:F174)), ROW(F162:F174)-MIN(ROW(F162:F174))+1, \"\"), ROW() -161 )), \"\")","v":"11-691826"},{"$f":"IFERROR(INDEX(E162:E174, SMALL(IF(ISNUMBER(SEARCH(\"JV1\",F162:F174)), ROW(F162:F174)-MIN(ROW(F162:F174))+1, \"\"), ROW() -161 )), \"\")","v":"Ashlynn Senecal"},{"$f":"IFERROR(INDEX(B162:B174, SMALL(IF(ISNUMBER(SEARCH(\"JV2\",F162:F174)), ROW(F162:F174)-MIN(ROW(F162:F174))+1, \"\"), ROW() -161 )), \"\")","v":""},{"$f":"IFERROR(INDEX(C162:C174, SMALL(IF(ISNUMBER(SEARCH(\"JV2\",F162:F174)), ROW(F162:F174)-MIN(ROW(F162:F174))+1, \"\"), ROW() -161 )), \"\")","v":""},{"$f":"IFERROR(INDEX(D162:D174, SMALL(IF(ISNUMBER(SEARCH(\"JV2\",F162:F174)), ROW(F162:F174)-MIN(ROW(F162:F174))+1, \"\"), ROW() -161 )), \"\")","v":""},{"$f":"IFERROR(INDEX(E162:E174, SMALL(IF(ISNUMBER(SEARCH(\"JV2\",F162:F174)), ROW(F162:F174)-MIN(ROW(F162:F174))+1, \"\"), ROW() -161 )), \"\")","v":""}]
[null,"Ottawa University (KS)",null,"18-70532","Amber Wagner","JV1",null,4459.0,null,false,{"$nulls":17},{"$f":"IFERROR(INDEX(B162:B174, SMALL(IF(\"V\"=F162:F174, ROW(F162:F174)-MIN(ROW(F162:F174))+1, \"\"), ROW() -161 )), \"\")","v":"Ottawa University (KS)"},{"$f":"IFERROR(INDEX(C162:C174, SMALL(IF(\"V\"=F162:F174, ROW(F162:F174)-MIN(ROW(F162:F174))+1, \"\"), ROW() -161 )), \"\")","v":""},{"$f":"IFERROR(INDEX(D162:D174, SMALL(IF(\"V\"=F162:F174, ROW(F162:F174)-MIN(ROW(F162:F174))+1, \"\"), ROW() -161 )), \"\")","v":"11-188358"},{"$f":"IFERROR(INDEX(E162:E174, SMALL(IF(\"V\"=F162:F174, ROW(F162:F174)-MIN(ROW(F162:F174))+1, \"\"), ROW() -161 )), \"\")","v":"Holly Bridges"},{"$f":"IFERROR(INDEX(B162:B174, SMALL(IF(ISNUMBER(SEARCH(\"JV1\",F162:F174)), ROW(F162:F174)-MIN(ROW(F162:F174))+1, \"\"), ROW() -161 )), \"\")","v":"Ottawa University (KS)"},{"$f":"IFERROR(INDEX(C162:C174, SMALL(IF(ISNUMBER(SEARCH(\"JV1\",F162:F174)), ROW(F162:F174)-MIN(ROW(F162:F174))+1, \"\"), ROW() -161 )), \"\")","v":""},{"$f":"IFERROR(INDEX(D162:D174, SMALL(IF(ISNUMBER(SEARCH(\"JV1\",F162:F174)), ROW(F162:F174)-MIN(ROW(F162:F174))+1, \"\"), ROW() -161 )), \"\")","v":"23-1051"},{"$f":"IFERROR(INDEX(E162:E174, SMALL(IF(ISNUMBER(SEARCH(\"JV1\",F162:F174)), ROW(F162:F174)-MIN(ROW(F162:F174))+1, \"\"), ROW() -161 )), \"\")","v":"Isabel Wong"},{"$f":"IFERROR(INDEX(B162:B174, SMALL(IF(ISNUMBER(SEARCH(\"JV2\",F162:F174)), ROW(F162:F174)-MIN(ROW(F162:F174))+1, \"\"), ROW() -161 )), \"\")","v":""},{"$f":"IFERROR(INDEX(C162:C174, SMALL(IF(ISNUMBER(SEARCH(\"JV2\",F162:F174)), ROW(F162:F174)-MIN(ROW(F162:F174))+1, \"\"), ROW() -161 )), \"\")","v":""},{"$f":"IFERROR(INDEX(D162:D174, SMALL(IF(ISNUMBER(SEARCH(\"JV2\",F162:F174)), ROW(F162:F174)-MIN(ROW(F162:F174))+1, \"\"), ROW() -161 )), \"\")","v":""},{"$f":"IFERROR(INDEX(E162:E174, SMALL(IF(ISNUMBER(SEARCH(\"JV2\",F162:F174)), ROW(F162:F174)-MIN(ROW(F162:F174))+1, \"\"), ROW() -161 )), \"\")","v":""}]
[null,"Ottawa University (KS)",null,"11-691826","Ashlynn Senecal","JV1",null,4459.0,null,false,{"$nulls":17},{"$f":"IFERROR(INDEX(B162:B174, SMALL(IF(\"V\"=F162:F174, ROW(F162:F174)-MIN(ROW(F162:F174))+1, \"\"), ROW() -161 )), \"\")","v":"Ottawa University (KS)"},{"$f":"IFERROR(INDEX(C162:C174, SMALL(IF(\"V\"=F162:F174, ROW(F162:F174)-MIN(ROW(F162:F174))+1, \"\"), ROW() -161 )), \"\")","v":""},{"$f":"IFERROR(INDEX(D162:D174, SMALL(IF(\"V\"=F162:F174, ROW(F162:F174)-MIN(ROW(F162:F174))+1, \"\"), ROW() -161 )), \"\")","v":"5900-26985"},{"$f":"IFERROR(INDEX(E162:E174, SMALL(IF(\"V\"=F162:F174, ROW(F162:F174)-MIN(ROW(F162:F174))+1, \"\"), ROW() -161 )), \"\")","v":"Jadyn Barr"},{"$f":"IFERROR(INDEX(B162:B174, SMALL(IF(ISNUMBER(SEARCH(\"JV1\",F162:F174)), ROW(F162:F174)-MIN(ROW(F162:F174))+1, \"\"), ROW() -161 )), \"\")","v":"Ottawa University (KS)"},{"$f":"IFERROR(INDEX(C162:C174, SMALL(IF(ISNUMBER(SEARCH(\"JV1\",F162:F174)), ROW(F162:F174)-MIN(ROW(F162:F174))+1, \"\"), ROW() -161 )), \"\")","v":""},{"$f":"IFERROR(INDEX(D162:D174, SMALL(IF(ISNUMBER(SEARCH(\"JV1\",F162:F174)), ROW(F162:F174)-MIN(ROW(F162:F174))+1, \"\"), ROW() -161 )), \"\")","v":"19-66110"},{"$f":"IFERROR(INDEX(E162:E174, SMALL(IF(ISNUMBER(SEARCH(\"JV1\",F162:F174)), ROW(F162:F174)-MIN(ROW(F162:F174))+1, \"\"), ROW() -161 )), \"\")","v":"Jazel Tiquia"},{"$f":"IFERROR(INDEX(B162:B174, SMALL(IF(ISNUMBER(SEARCH(\"JV2\",F162:F174)), ROW(F162:F174)-MIN(ROW(F162:F174))+1, \"\"), ROW() -161 )), \"\")","v":""},{"$f":"IFERROR(INDEX(C162:C174, SMALL(IF(ISNUMBER(SEARCH(\"JV2\",F162:F174)), ROW(F162:F174)-MIN(ROW(F162:F174))+1, \"\"), ROW() -161 )), \"\")","v":""},{"$f":"IFERROR(INDEX(D162:D174, SMALL(IF(ISNUMBER(SEARCH(\"JV2\",F162:F174)), ROW(F162:F174)-MIN(ROW(F162:F174))+1, \"\"), ROW() -161 )), \"\")","v":""},{"$f":"IFERROR(INDEX(E162:E174, SMALL(IF(ISNUMBER(SEARCH(\"JV2\",F162:F174)), ROW(F162:F174)-MIN(ROW(F162:F174))+1, \"\"), ROW() -161 )), \"\")","v":""}]
[null,"Ottawa University (KS)",null,"11-241897","Gabriella Hernandez","V",null,4459.0,null,false,{"$nulls":17},{"$f":"IFERROR(INDEX(B162:B174, SMALL(IF(\"V\"=F162:F174, ROW(F162:F174)-MIN(ROW(F162:F174))+1, \"\"), ROW() -161 )), \"\")","v":"Ottawa University (KS)"},{"$f":"IFERROR(INDEX(C162:C174, SMALL(IF(\"V\"=F162:F174, ROW(F162:F174)-MIN(ROW(F162:F174))+1, \"\"), ROW() -161 )), \"\")","v":""},{"$f":"IFERROR(INDEX(D162:D174, SMALL(IF(\"V\"=F162:F174, ROW(F162:F174)-MIN(ROW(F162:F174))+1, \"\"), ROW() -161 )), \"\")","v":"11-438615"},{"$f":"IFERROR(INDEX(E162:E174, SMALL(IF(\"V\"=F162:F174, ROW(F162:F174)-MIN(ROW(F162:F174))+1, \"\"), ROW() -161 )), \"\")","v":"Kiaralyn Backstrom"},{"$f":"IFERROR(INDEX(B162:B174, SMALL(IF(ISNUMBER(SEARCH(\"JV1\",F162:F174)), ROW(F162:F174)-MIN(ROW(F162:F174))+1, \"\"), ROW() -161 )), \"\")","v":"Ottawa University (KS)"},{"$f":"IFERROR(INDEX(C162:C174, SMALL(IF(ISNUMBER(SEARCH(\"JV1\",F162:F174)), ROW(F162:F174)-MIN(ROW(F162:F174))+1, \"\"), ROW() -161 )), \"\")","v":""},{"$f":"IFERROR(INDEX(D162:D174, SMALL(IF(ISNUMBER(SEARCH(\"JV1\",F162:F174)), ROW(F162:F174)-MIN(ROW(F162:F174))+1, \"\"), ROW() -161 )), \"\")","v":"19-80875"},{"$f":"IFERROR(INDEX(E162:E174, SMALL(IF(ISNUMBER(SEARCH(\"JV1\",F162:F174)), ROW(F162:F174)-MIN(ROW(F162:F174))+1, \"\"), ROW() -161 )), \"\")","v":"Lydia Phillips"},{"$f":"IFERROR(INDEX(B162:B174, SMALL(IF(ISNUMBER(SEARCH(\"JV2\",F162:F174)), ROW(F162:F174)-MIN(ROW(F162:F174))+1, \"\"), ROW() -161 )), \"\")","v":""},{"$f":"IFERROR(INDEX(C162:C174, SMALL(IF(ISNUMBER(SEARCH(\"JV2\",F162:F174)), ROW(F162:F174)-MIN(ROW(F162:F174))+1, \"\"), ROW() -161 )), \"\")","v":""},{"$f":"IFERROR(INDEX(D162:D174, SMALL(IF(ISNUMBER(SEARCH(\"JV2\",F162:F174)), ROW(F162:F174)-MIN(ROW(F162:F174))+1, \"\"), ROW() -161 )), \"\")","v":""},{"$f":"IFERROR(INDEX(E162:E174, SMALL(IF(ISNUMBER(SEARCH(\"JV2\",F162:F174)), ROW(F162:F174)-MIN(ROW(F162:F174))+1, \"\"), ROW() -161 )), \"\")","v":""}]
[null,"Ottawa University (KS)",null,"8410-3137","Gerilynn Delegarito",null,null,4459.0,null,false,{"$nulls":17},{"$f":"IFERROR(INDEX(B162:B174, SMALL(IF(\"V\"=F162:F174, ROW(F162:F174)-MIN(ROW(F162:F174))+1, \"\"), ROW() -161 )), \"\")","v":"Ottawa University (KS)"},{"$f":"IFERROR(INDEX(C162:C174, SMALL(IF(\"V\"=F162:F174, ROW(F162:F174)-MIN(ROW(F162:F174))+1, \"\"), ROW() -161 )), \"\")","v":""},{"$f":"IFERROR(INDEX(D162:D174, SMALL(IF(\"V\"=F162:F174, ROW(F162:F174)-MIN(ROW(F162:F174))+1, \"\"), ROW() -161 )), \"\")","v":"5495-31883"},{"$f":"IFERROR(INDEX(E162:E174, SMALL(IF(\"V\"=F162:F174, ROW(F162:F174)-MIN(ROW(F162:F174))+1, \"\"), ROW() -161 )), \"\")","v":"Koryn Marquez"},{"$f":"IFERROR(INDEX(B162:B174, SMALL(IF(ISNUMBER(SEARCH(\"JV1\",F162:F174)), ROW(F162:F174)-MIN(ROW(F162:F174))+1, \"\"), ROW() -161 )), \"\")","v":""},{"$f":"IFERROR(INDEX(C162:C174, SMALL(IF(ISNUMBER(SEARCH(\"JV1\",F162:F174)), ROW(F162:F174)-MIN(ROW(F162:F174))+1, \"\"), ROW() -161 )), \"\")","v":""},{"$f":"IFERROR(INDEX(D162:D174, SMALL(IF(ISNUMBER(SEARCH(\"JV1\",F162:F174)), ROW(F162:F174)-MIN(ROW(F162:F174))+1, \"\"), ROW() -161 )), \"\")","v":""},{"$f":"IFERROR(INDEX(E162:E174, SMALL(IF(ISNUMBER(SEARCH(\"JV1\",F162:F174)), ROW(F162:F174)-MIN(ROW(F162:F174))+1, \"\"), ROW() -161 )), \"\")","v":""},{"$f":"IFERROR(INDEX(B162:B174, SMALL(IF(ISNUMBER(SEARCH(\"JV2\",F162:F174)), ROW(F162:F174)-MIN(ROW(F162:F174))+1, \"\"), ROW() -161 )), \"\")","v":""},{"$f":"IFERROR(INDEX(C162:C174, SMALL(IF(ISNUMBER(SEARCH(\"JV2\",F162:F174)), ROW(F162:F174)-MIN(ROW(F162:F174))+1, \"\"), ROW() -161 )), \"\")","v":""},{"$f":"IFERROR(INDEX(D162:D174, SMALL(IF(ISNUMBER(SEARCH(\"JV2\",F162:F174)), ROW(F162:F174)-MIN(ROW(F162:F174))+1, \"\"), ROW() -161 )), \"\")","v":""},{"$f":"IFERROR(INDEX(E162:E174, SMALL(IF(ISNUMBER(SEARCH(\"JV2\",F162:F174)), ROW(F162:F174)-MIN(ROW(F162:F174))+1, \"\"), ROW() -161 )), \"\")","v":""}]
[null,"Ottawa University (KS)",null,"11-188358","Holly Bridges","V",null,4459.0,null,false,{"$nulls":17},{"$f":"IFERROR(INDEX(B162:B174, SMALL(IF(\"V\"=F162:F174, ROW(F162:F174)-MIN(ROW(F162:F174))+1, \"\"), ROW() -161 )), \"\")","v":""},{"$f":"IFERROR(INDEX(C162:C174, SMALL(IF(\"V\"=F162:F174, ROW(F162:F174)-MIN(ROW(F162:F174))+1, \"\"), ROW() -161 )), \"\")","v":""},{"$f":"IFERROR(INDEX(D162:D174, SMALL(IF(\"V\"=F162:F174, ROW(F162:F174)-MIN(ROW(F162:F174))+1, \"\"), ROW() -161 )), \"\")","v":""},{"$f":"IFERROR(INDEX(E162:E174, SMALL(IF(\"V\"=F162:F174, ROW(F162:F174)-MIN(ROW(F162:F174))+1, \"\"), ROW() -161 )), \"\")","v":""},{"$f":"IFERROR(INDEX(B162:B174, SMALL(IF(ISNUMBER(SEARCH(\"JV1\",F162:F174)), ROW(F162:F174)-MIN(ROW(F162:F174))+1, \"\"), ROW() -161 )), \"\")","v":""},{"$f":"IFERROR(INDEX(C162:C174, SMALL(IF(ISNUMBER(SEARCH(\"JV1\",F162:F174)), ROW(F162:F174)-MIN(ROW(F162:F174))+1, \"\"), ROW() -161 )), \"\")","v":""},{"$f":"IFERROR(INDEX(D162:D174, SMALL(IF(ISNUMBER(SEARCH(\"JV1\",F162:F174)), ROW(F162:F174)-MIN(ROW(F162:F174))+1, \"\"), ROW() -161 )), \"\")","v":""},{"$f":"IFERROR(INDEX(E162:E174, SMALL(IF(ISNUMBER(SEARCH(\"JV1\",F162:F174)), ROW(F162:F174)-MIN(ROW(F162:F174))+1, \"\"), ROW() -161 )), \"\")","v":""},{"$f":"IFERROR(INDEX(B162:B174, SMALL(IF(ISNUMBER(SEARCH(\"JV2\",F162:F174)), ROW(F162:F174)-MIN(ROW(F162:F174))+1, \"\"), ROW() -161 )), \"\")","v":""},{"$f":"IFERROR(INDEX(C162:C174, SMALL(IF(ISNUMBER(SEARCH(\"JV2\",F162:F174)), ROW(F162:F174)-MIN(ROW(F162:F174))+1, \"\"), ROW() -161 )), \"\")","v":""},{"$f":"IFERROR(INDEX(D162:D174, SMALL(IF(ISNUMBER(SEARCH(\"JV2\",F162:F174)), ROW(F162:F174)-MIN(ROW(F162:F174))+1, \"\"), ROW() -161 )), \"\")","v":""},{"$f":"IFERROR(INDEX(E162:E174, SMALL(IF(ISNUMBER(SEARCH(\"JV2\",F162:F174)), ROW(F162:F174)-MIN(ROW(F162:F174))+1, \"\"), ROW() -161 )), \"\")","v":""}]
[null,"Ottawa University (KS)",null,"23-1051","Isabel Wong","JV1",null,4459.0,null,false,{"$nulls":17},{"$f":"IFERROR(INDEX(B162:B174, SMALL(IF(\"V\"=F162:F174, ROW(F162:F174)-MIN(ROW(F162:F174))+1, \"\"), ROW() -161 )), \"\")","v":""},{"$f":"IFERROR(INDEX(C162:C174, SMALL(IF(\"V\"=F162:F174, ROW(F162:F174)-MIN(ROW(F162:F174))+1, \"\"), ROW() -161 )), \"\")","v":""},{"$f":"IFERROR(INDEX(D162:D174, SMALL(IF(\"V\"=F162:F174, ROW(F162:F174)-MIN(ROW(F162:F174))+1, \"\"), ROW() -161 )), \"\")","v":""},{"$f":"IFERROR(INDEX(E162:E174, SMALL(IF(\"V\"=F162:F174, ROW(F162:F174)-MIN(ROW(F162:F174))+1, \"\"), ROW() -161 )), \"\")","v":""},{"$f":"IFERROR(INDEX(B162:B174, SMALL(IF(ISNUMBER(SEARCH(\"JV1\",F162:F174)), ROW(F162:F174)-MIN(ROW(F162:F174))+1, \"\"), ROW() -161 )), \"\")","v":""},{"$f":"IFERROR(INDEX(C162:C174, SMALL(IF(ISNUMBER(SEARCH(\"JV1\",F162:F174)), ROW(F162:F174)-MIN(ROW(F162:F174))+1, \"\"), ROW() -161 )), \"\")","v":""},{"$f":"IFERROR(INDEX(D162:D174, SMALL(IF(ISNUMBER(SEARCH(\"JV1\",F162:F174)), ROW(F162:F174)-MIN(ROW(F162:F174))+1, \"\"), ROW() -161 )), \"\")","v":""},{"$f":"IFERROR(INDEX(E162:E174, SMALL(IF(ISNUMBER(SEARCH(\"JV1\",F162:F174)), ROW(F162:F174)-MIN(ROW(F162:F174))+1, \"\"), ROW() -161 )), \"\")","v":""},{"$f":"IFERROR(INDEX(B162:B174, SMALL(IF(ISNUMBER(SEARCH(\"JV2\",F162:F174)), ROW(F162:F174)-MIN(ROW(F162:F174))+1, \"\"), ROW() -161 )), \"\")","v":""},{"$f":"IFERROR(INDEX(C162:C174, SMALL(IF(ISNUMBER(SEARCH(\"JV2\",F162:F174)), ROW(F162:F174)-MIN(ROW(F162:F174))+1, \"\"), ROW() -161 )), \"\")","v":""},{"$f":"IFERROR(INDEX(D162:D174, SMALL(IF(ISNUMBER(SEARCH(\"JV2\",F162:F174)), ROW(F162:F174)-MIN(ROW(F162:F174))+1, \"\"), ROW() -161 )), \"\")","v":""},{"$f":"IFERROR(INDEX(E162:E174, SMALL(IF(ISNUMBER(SEARCH(\"JV2\",F162:F174)), ROW(F162:F174)-MIN(ROW(F162:F174))+1, \"\"), ROW() -161 )), \"\")","v":""}]
[null,"Ottawa University (KS)",null,"5900-26985","Jadyn Barr","V",null,4459.0,null,false]
[null,"Ottawa University (KS)",null,"19-66110","Jazel Tiquia","JV1",null,4459.0,null,false]
[null,"Ottawa University (KS)",null,"11-438615","Kiaralyn Backstrom","V",null,4459.0,null,false]
[null,"Ottawa University (KS)",null,"5495-31883","Koryn Marquez","V",null,4459.0,null,false]
[null,"Ottawa University (KS)",null,"19-80875","Lydia Phillips","JV1",null,4459.0,null,false]
[null,"Peru State College",null,"15-184489","Adria Huiett","V",null,4491.0,null,false,{"$nulls":17},{"$f":"IFERROR(INDEX(B175:B184, SMALL(IF(\"V\"=F175:F184, ROW(F175:F184)-MIN(ROW(F175:F184))+1, \"\"), ROW() -174 )), \"\")","v":"Peru State College"},{"$f":"IFERROR(INDEX(C175:C184, SMALL(IF(\"V\"=F175:F184, ROW(F175:F184)-MIN(ROW(F175:F184))+1, \"\"), ROW() -174 )), \"\")","v":""},{"$f":"IFERROR(INDEX(D175:D184, SMALL(IF(\"V\"=F175:F184, ROW(F175:F184)-MIN(ROW(F175:F184))+1, \"\"), ROW() -174 )), \"\")","v":"15-184489"},{"$f":"IFERROR(INDEX(E175:E184, SMALL(IF(\"V\"=F175:F184, ROW(F175:F184)-MIN(ROW(F175:F184))+1, \"\"), ROW() -174 )), \"\")","v":"Adria Huiett"},{"$f":"IFERROR(INDEX(B175:B184, SMALL(IF(ISNUMBER(SEARCH(\"JV1\",F175:F184)), ROW(F175:F184)-MIN(ROW(F175:F184))+1, \"\"), ROW() -174 )), \"\")","v":""},{"$f":"IFERROR(INDEX(C175:C184, SMALL(IF(ISNUMBER(SEARCH(\"JV1\",F175:F184)), ROW(F175:F184)-MIN(ROW(F175:F184))+1, \"\"), ROW() -174 )), \"\")","v":""},{"$f":"IFERROR(INDEX(D175:D184, SMALL(IF(ISNUMBER(SEARCH(\"JV1\",F175:F184)), ROW(F175:F184)-MIN(ROW(F175:F184))+1, \"\"), ROW() -174 )), \"\")","v":""},{"$f":"IFERROR(INDEX(E175:E184, SMALL(IF(ISNUMBER(SEARCH(\"JV1\",F175:F184)), ROW(F175:F184)-MIN(ROW(F175:F184))+1, \"\"), ROW() -174 )), \"\")","v":""},{"$f":"IFERROR(INDEX(B175:B184, SMALL(IF(ISNUMBER(SEARCH(\"JV2\",F175:F184)), ROW(F175:F184)-MIN(ROW(F175:F184))+1, \"\"), ROW() -174 )), \"\")","v":""},{"$f":"IFERROR(INDEX(C175:C184, SMALL(IF(ISNUMBER(SEARCH(\"JV2\",F175:F184)), ROW(F175:F184)-MIN(ROW(F175:F184))+1, \"\"), ROW() -174 )), \"\")","v":""},{"$f":"IFERROR(INDEX(D175:D184, SMALL(IF(ISNUMBER(SEARCH(\"JV2\",F175:F184)), ROW(F175:F184)-MIN(ROW(F175:F184))+1, \"\"), ROW() -174 )), \"\")","v":""},{"$f":"IFERROR(INDEX(E175:E184, SMALL(IF(ISNUMBER(SEARCH(\"JV2\",F175:F184)), ROW(F175:F184)-MIN(ROW(F175:F184))+1, \"\"), ROW() -174 )), \"\")","v":""}]
[null,"Peru State College",null,"11-378089","Aleia Crandall","V",null,4491.0,null,false,{"$nulls":17},{"$f":"IFERROR(INDEX(B175:B184, SMALL(IF(\"V\"=F175:F184, ROW(F175:F184)-MIN(ROW(F175:F184))+1, \"\"), ROW() -174 )), \"\")","v":"Peru State College"},{"$f":"IFERROR(INDEX(C175:C184, SMALL(IF(\"V\"=F175:F184, ROW(F175:F184)-MIN(ROW(F175:F184))+1, \"\"), ROW() -174 )), \"\")","v":""},{"$f":"IFERROR(INDEX(D175:D184, SMALL(IF(\"V\"=F175:F184, ROW(F175:F184)-MIN(ROW(F175:F184))+1, \"\"), ROW() -174 )), \"\")","v":"11-378089"},{"$f":"IFERROR(INDEX(E175:E184, SMALL(IF(\"V\"=F175:F184, ROW(F175:F184)-MIN(ROW(F175:F184))+1, \"\"), ROW() -174 )), \"\")","v":"Aleia Crandall"},{"$f":"IFERROR(INDEX(B175:B184, SMALL(IF(ISNUMBER(SEARCH(\"JV1\",F175:F184)), ROW(F175:F184)-MIN(ROW(F175:F184))+1, \"\"), ROW() -174 )), \"\")","v":""},{"$f":"IFERROR(INDEX(C175:C184, SMALL(IF(ISNUMBER(SEARCH(\"JV1\",F175:F184)), ROW(F175:F184)-MIN(ROW(F175:F184))+1, \"\"), ROW() -174 )), \"\")","v":""},{"$f":"IFERROR(INDEX(D175:D184, SMALL(IF(ISNUMBER(SEARCH(\"JV1\",F175:F184)), ROW(F175:F184)-MIN(ROW(F175:F184))+1, \"\"), ROW() -174 )), \"\")","v":""},{"$f":"IFERROR(INDEX(E175:E184, SMALL(IF(ISNUMBER(SEARCH(\"JV1\",F175:F184)), ROW(F175:F184)-MIN(ROW(F175:F184))+1, \"\"), ROW() -174 )), \"\")","v":""},{"$f":"IFERROR(INDEX(B175:B184, SMALL(IF(ISNUMBER(SEARCH(\"JV2\",F175:F184)), ROW(F175:F184)-MIN(ROW(F175:F184))+1, \"\"), ROW() -174 )), \"\")","v":""},{"$f":"IFERROR(INDEX(C175:C184, SMALL(IF(ISNUMBER(SEARCH(\"JV2\",F175:F184)), ROW(F175:F184)-MIN(ROW(F175:F184))+1, \"\"), ROW() -174 )), \"\")","v":""},{"$f":"IFERROR(INDEX(D175:D184, SMALL(IF(ISNUMBER(SEARCH(\"JV2\",F175:F184)), ROW(F175:F184)-MIN(ROW(F175:F184))+1, \"\"), ROW() -174 )), \"\")","v":""},{"$f":"IFERROR(INDEX(E175:E184, SMALL(IF(ISNUMBER(SEARCH(\"JV2\",F175:F184)), ROW(F175:F184)-MIN(ROW(F175:F184))+1, \"\"), ROW() -174 )), \"\")","v":""}]
[null,"Peru State College",null,"20-57206","Caitlynn Gronenthal","V",null,4491.0,null,false,{"$nulls":17},{"$f":"IFERROR(INDEX(B175:B184, SMALL(IF(\"V\"=F175:F184, ROW(F175:F184)-MIN(ROW(F175:F184))+1, \"\"), ROW() -174 )), \"\")","v":"Peru State College"},{"$f":"IFERROR(INDEX(C175:C184, SMALL(IF(\"V\"=F175:F184, ROW(F175:F184)-MIN(ROW(F175:F184))+1, \"\"), ROW() -174 )), \"\")","v":""},{"$f":"IFERROR(INDEX(D175:D184, SMALL(IF(\"V\"=F175:F184, ROW(F175:F184)-MIN(ROW(F175:F184))+1, \"\"), ROW() -174 )), \"\")","v":"20-57206"},{"$f":"IFERROR(INDEX(E175:E184, SMALL(IF(\"V\"=F175:F184, ROW(F175:F184)-MIN(ROW(F175:F184))+1, \"\"), ROW() -174 )), \"\")","v":"Caitlynn Gronenthal"},{"$f":"IFERROR(INDEX(B175:B184, SMALL(IF(ISNUMBER(SEARCH(\"JV1\",F175:F184)), ROW(F175:F184)-MIN(ROW(F175:F184))+1, \"\"), ROW() -174 )), \"\")","v":""},{"$f":"IFERROR(INDEX(C175:C184, SMALL(IF(ISNUMBER(SEARCH(\"JV1\",F175:F184)), ROW(F175:F184)-MIN(ROW(F175:F184))+1, \"\"), ROW() -174 )), \"\")","v":""},{"$f":"IFERROR(INDEX(D175:D184, SMALL(IF(ISNUMBER(SEARCH(\"JV1\",F175:F184)), ROW(F175:F184)-MIN(ROW(F175:F184))+1, \"\"), ROW() -174 )), \"\")","v":""},{"$f":"IFERROR(INDEX(E175:E184, SMALL(IF(ISNUMBER(SEARCH(\"JV1\",F175:F184)), ROW(F175:F184)-MIN(ROW(F175:F184))+1, \"\"), ROW() -174 )), \"\")","v":""},{"$f":"IFERROR(INDEX(B175:B184, SMALL(IF(ISNUMBER(SEARCH(\"JV2\",F175:F184)), ROW(F175:F184)-MIN(ROW(F175:F184))+1, \"\"), ROW() -174 )), \"\")","v":""},{"$f":"IFERROR(INDEX(C175:C184, SMALL(IF(ISNUMBER(SEARCH(\"JV2\",F175:F184)), ROW(F175:F184)-MIN(ROW(F175:F184))+1, \"\"), ROW() -174 )), \"\")","v":""},{"$f":"IFERROR(INDEX(D175:D184, SMALL(IF(ISNUMBER(SEARCH(\"JV2\",F175:F184)), ROW(F175:F184)-MIN(ROW(F175:F184))+1, \"\"), ROW() -174 )), \"\")","v":""},{"$f":"IFERROR(INDEX(E175:E184, SMALL(IF(ISNUMBER(SEARCH(\"JV2\",F175:F184)), ROW(F175:F184)-MIN(ROW(F175:F184))+1, \"\"), ROW() -174 )), \"\")","v":""}]
[null,"Peru State College",null,"18-15133","Kaitlyn Doyal","V",null,4491.0,null,false,{"$nulls":17},{"$f":"IFERROR(INDEX(B175:B184, SMALL(IF(\"V\"=F175:F184, ROW(F175:F184)-MIN(ROW(F175:F184))+1, \"\"), ROW() -174 )), \"\")","v":"Peru State College"},{"$f":"IFERROR(INDEX(C175:C184, SMALL(IF(\"V\"=F175:F184, ROW(F175:F184)-MIN(ROW(F175:F184))+1, \"\"), ROW() -174 )), \"\")","v":""},{"$f":"IFERROR(INDEX(D175:D184, SMALL(IF(\"V\"=F175:F184, ROW(F175:F184)-MIN(ROW(F175:F184))+1, \"\"), ROW() -174 )), \"\")","v":"18-15133"},{"$f":"IFERROR(INDEX(E175:E184, SMALL(IF(\"V\"=F175:F184, ROW(F175:F184)-MIN(ROW(F175:F184))+1, \"\"), ROW() -174 )), \"\")","v":"Kaitlyn Doyal"},{"$f":"IFERROR(INDEX(B175:B184, SMALL(IF(ISNUMBER(SEARCH(\"JV1\",F175:F184)), ROW(F175:F184)-MIN(ROW(F175:F184))+1, \"\"), ROW() -174 )), \"\")","v":""},{"$f":"IFERROR(INDEX(C175:C184, SMALL(IF(ISNUMBER(SEARCH(\"JV1\",F175:F184)), ROW(F175:F184)-MIN(ROW(F175:F184))+1, \"\"), ROW() -174 )), \"\")","v":""},{"$f":"IFERROR(INDEX(D175:D184, SMALL(IF(ISNUMBER(SEARCH(\"JV1\",F175:F184)), ROW(F175:F184)-MIN(ROW(F175:F184))+1, \"\"), ROW() -174 )), \"\")","v":""},{"$f":"IFERROR(INDEX(E175:E184, SMALL(IF(ISNUMBER(SEARCH(\"JV1\",F175:F184)), ROW(F175:F184)-MIN(ROW(F175:F184))+1, \"\"), ROW() -174 )), \"\")","v":""},{"$f":"IFERROR(INDEX(B175:B184, SMALL(IF(ISNUMBER(SEARCH(\"JV2\",F175:F184)), ROW(F175:F184)-MIN(ROW(F175:F184))+1, \"\"), ROW() -174 )), \"\")","v":""},{"$f":"IFERROR(INDEX(C175:C184, SMALL(IF(ISNUMBER(SEARCH(\"JV2\",F175:F184)), ROW(F175:F184)-MIN(ROW(F175:F184))+1, \"\"), ROW() -174 )), \"\")","v":""},{"$f":"IFERROR(INDEX(D175:D184, SMALL(IF(ISNUMBER(SEARCH(\"JV2\",F175:F184)), ROW(F175:F184)-MIN(ROW(F175:F184))+1, \"\"), ROW() -174 )), \"\")","v":""},{"$f":"IFERROR(INDEX(E175:E184, SMALL(IF(ISNUMBER(SEARCH(\"JV2\",F175:F184)), ROW(F175:F184)-MIN(ROW(F175:F184))+1, \"\"), ROW() -174 )), \"\")","v":""}]
[null,"Peru State College",null,"16-164416","Katie Price","V",null,4491.0,null,false,{"$nulls":17},{"$f":"IFERROR(INDEX(B175:B184, SMALL(IF(\"V\"=F175:F184, ROW(F175:F184)-MIN(ROW(F175:F184))+1, \"\"), ROW() -174 )), \"\")","v":"Peru State College"},{"$f":"IFERROR(INDEX(C175:C184, SMALL(IF(\"V\"=F175:F184, ROW(F175:F184)-MIN(ROW(F175:F184))+1, \"\"), ROW() -174 )), \"\")","v":""},{"$f":"IFERROR(INDEX(D175:D184, SMALL(IF(\"V\"=F175:F184, ROW(F175:F184)-MIN(ROW(F175:F184))+1, \"\"), ROW() -174 )), \"\")","v":"16-164416"},{"$f":"IFERROR(INDEX(E175:E184, SMALL(IF(\"V\"=F175:F184, ROW(F175:F184)-MIN(ROW(F175:F184))+1, \"\"), ROW() -174 )), \"\")","v":"Katie Price"},{"$f":"IFERROR(INDEX(B175:B184, SMALL(IF(ISNUMBER(SEARCH(\"JV1\",F175:F184)), ROW(F175:F184)-MIN(ROW(F175:F184))+1, \"\"), ROW() -174 )), \"\")","v":""},{"$f":"IFERROR(INDEX(C175:C184, SMALL(IF(ISNUMBER(SEARCH(\"JV1\",F175:F184)), ROW(F175:F184)-MIN(ROW(F175:F184))+1, \"\"), ROW() -174 )), \"\")","v":""},{"$f":"IFERROR(INDEX(D175:D184, SMALL(IF(ISNUMBER(SEARCH(\"JV1\",F175:F184)), ROW(F175:F184)-MIN(ROW(F175:F184))+1, \"\"), ROW() -174 )), \"\")","v":""},{"$f":"IFERROR(INDEX(E175:E184, SMALL(IF(ISNUMBER(SEARCH(\"JV1\",F175:F184)), ROW(F175:F184)-MIN(ROW(F175:F184))+1, \"\"), ROW() -174 )), \"\")","v":""},{"$f":"IFERROR(INDEX(B175:B184, SMALL(IF(ISNUMBER(SEARCH(\"JV2\",F175:F184)), ROW(F175:F184)-MIN(ROW(F175:F184))+1, \"\"), ROW() -174 )), \"\")","v":""},{"$f":"IFERROR(INDEX(C175:C184, SMALL(IF(ISNUMBER(SEARCH(\"JV2\",F175:F184)), ROW(F175:F184)-MIN(ROW(F175:F184))+1, \"\"), ROW() -174 )), \"\")","v":""},{"$f":"IFERROR(INDEX(D175:D184, SMALL(IF(ISNUMBER(SEARCH(\"JV2\",F175:F184)), ROW(F175:F184)-MIN(ROW(F175:F184))+1, \"\"), ROW() -174 )), \"\")","v":""},{"$f":"IFERROR(INDEX(E175:E184, SMALL(IF(ISNUMBER(SEARCH(\"JV2\",F175:F184)), ROW(F175:F184)-MIN(ROW(F175:F184))+1, \"\"), ROW() -174 )), \"\")","v":""}]
[null,"Peru State College",null,"11-66625","Makenzie Millard","V",null,4491.0,null,false,{"$nulls":17},{"$f":"IFERROR(INDEX(B175:B184, SMALL(IF(\"V\"=F175:F184, ROW(F175:F184)-MIN(ROW(F175:F184))+1, \"\"), ROW() -174 )), \"\")","v":"Peru State College"},{"$f":"IFERROR(INDEX(C175:C184, SMALL(IF(\"V\"=F175:F184, ROW(F175:F184)-MIN(ROW(F175:F184))+1, \"\"), ROW() -174 )), \"\")","v":""},{"$f":"IFERROR(INDEX(D175:D184, SMALL(IF(\"V\"=F175:F184, ROW(F175:F184)-MIN(ROW(F175:F184))+1, \"\"), ROW() -174 )), \"\")","v":"11-66625"},{"$f":"IFERROR(INDEX(E175:E184, SMALL(IF(\"V\"=F175:F184, ROW(F175:F184)-MIN(ROW(F175:F184))+1, \"\"), ROW() -174 )), \"\")","v":"Makenzie Millard"},{"$f":"IFERROR(INDEX(B175:B184, SMALL(IF(ISNUMBER(SEARCH(\"JV1\",F175:F184)), ROW(F175:F184)-MIN(ROW(F175:F184))+1, \"\"), ROW() -174 )), \"\")","v":""},{"$f":"IFERROR(INDEX(C175:C184, SMALL(IF(ISNUMBER(SEARCH(\"JV1\",F175:F184)), ROW(F175:F184)-MIN(ROW(F175:F184))+1, \"\"), ROW() -174 )), \"\")","v":""},{"$f":"IFERROR(INDEX(D175:D184, SMALL(IF(ISNUMBER(SEARCH(\"JV1\",F175:F184)), ROW(F175:F184)-MIN(ROW(F175:F184))+1, \"\"), ROW() -174 )), \"\")","v":""},{"$f":"IFERROR(INDEX(E175:E184, SMALL(IF(ISNUMBER(SEARCH(\"JV1\",F175:F184)), ROW(F175:F184)-MIN(ROW(F175:F184))+1, \"\"), ROW() -174 )), \"\")","v":""},{"$f":"IFERROR(INDEX(B175:B184, SMALL(IF(ISNUMBER(SEARCH(\"JV2\",F175:F184)), ROW(F175:F184)-MIN(ROW(F175:F184))+1, \"\"), ROW() -174 )), \"\")","v":""},{"$f":"IFERROR(INDEX(C175:C184, SMALL(IF(ISNUMBER(SEARCH(\"JV2\",F175:F184)), ROW(F175:F184)-MIN(ROW(F175:F184))+1, \"\"), ROW() -174 )), \"\")","v":""},{"$f":"IFERROR(INDEX(D175:D184, SMALL(IF(ISNUMBER(SEARCH(\"JV2\",F175:F184)), ROW(F175:F184)-MIN(ROW(F175:F184))+1, \"\"), ROW() -174 )), \"\")","v":""},{"$f":"IFERROR(INDEX(E175:E184, SMALL(IF(ISNUMBER(SEARCH(\"JV2\",F175:F184)), ROW(F175:F184)-MIN(ROW(F175:F184))+1, \"\"), ROW() -174 )), \"\")","v":""}]
[null,"Peru State College",null,"23-4483","Michaela Stanley",null,null,4491.0,null,false,{"$nulls":17},{"$f":"IFERROR(INDEX(B175:B184, SMALL(IF(\"V\"=F175:F184, ROW(F175:F184)-MIN(ROW(F175:F184))+1, \"\"), ROW() -174 )), \"\")","v":"Peru State College"},{"$f":"IFERROR(INDEX(C175:C184, SMALL(IF(\"V\"=F175:F184, ROW(F175:F184)-MIN(ROW(F175:F184))+1, \"\"), ROW() -174 )), \"\")","v":""},{"$f":"IFERROR(INDEX(D175:D184, SMALL(IF(\"V\"=F175:F184, ROW(F175:F184)-MIN(ROW(F175:F184))+1, \"\"), ROW() -174 )), \"\")","v":"11-93281"},{"$f":"IFERROR(INDEX(E175:E184, SMALL(IF(\"V\"=F175:F184, ROW(F175:F184)-MIN(ROW(F175:F184))+1, \"\"), ROW() -174 )), \"\")","v":"Mindy Bartels"},{"$f":"IFERROR(INDEX(B175:B184, SMALL(IF(ISNUMBER(SEARCH(\"JV1\",F175:F184)), ROW(F175:F184)-MIN(ROW(F175:F184))+1, \"\"), ROW() -174 )), \"\")","v":""},{"$f":"IFERROR(INDEX(C175:C184, SMALL(IF(ISNUMBER(SEARCH(\"JV1\",F175:F184)), ROW(F175:F184)-MIN(ROW(F175:F184))+1, \"\"), ROW() -174 )), \"\")","v":""},{"$f":"IFERROR(INDEX(D175:D184, SMALL(IF(ISNUMBER(SEARCH(\"JV1\",F175:F184)), ROW(F175:F184)-MIN(ROW(F175:F184))+1, \"\"), ROW() -174 )), \"\")","v":""},{"$f":"IFERROR(INDEX(E175:E184, SMALL(IF(ISNUMBER(SEARCH(\"JV1\",F175:F184)), ROW(F175:F184)-MIN(ROW(F175:F184))+1, \"\"), ROW() -174 )), \"\")","v":""},{"$f":"IFERROR(INDEX(B175:B184, SMALL(IF(ISNUMBER(SEARCH(\"JV2\",F175:F184)), ROW(F175:F184)-MIN(ROW(F175:F184))+1, \"\"), ROW() -174 )), \"\")","v":""},{"$f":"IFERROR(INDEX(C175:C184, SMALL(IF(ISNUMBER(SEARCH(\"JV2\",F175:F184)), ROW(F175:F184)-MIN(ROW(F175:F184))+1, \"\"), ROW() -174 )), \"\")","v":""},{"$f":"IFERROR(INDEX(D175:D184, SMALL(IF(ISNUMBER(SEARCH(\"JV2\",F175:F184)), ROW(F175:F184)-MIN(ROW(F175:F184))+1, \"\"), ROW() -174 )), \"\")","v":""},{"$f":"IFERROR(INDEX(E175:E184, SMALL(IF(ISNUMBER(SEARCH(\"JV2\",F175:F184)), ROW(F175:F184)-MIN(ROW(F175:F184))+1, \"\"), ROW() -174 )), \"\")","v":""}]
[null,"Peru State College",null,"11-93281","Mindy Bartels","V",null,4491.0,null,false,{"$nulls":17},{"$f":"IFERROR(INDEX(B175:B184, SMALL(IF(\"V\"=F175:F184, ROW(F175:F184)-MIN(ROW(F175:F184))+1, \"\"), ROW() -174 )), \"\")","v":"Peru State College"},{"$f":"IFERROR(INDEX(C175:C184, SMALL(IF(\"V\"=F175:F184, ROW(F175:F184)-MIN(ROW(F175:F184))+1, \"\"), ROW() -174 )), \"\")","v":""},{"$f":"IFERROR(INDEX(D175:D184, SMALL(IF(\"V\"=F175:F184, ROW(F175:F184)-MIN(ROW(F175:F184))+1, \"\"), ROW() -174 )), \"\")","v":"18-6620"},{"$f":"IFERROR(INDEX(E175:E184, SMALL(IF(\"V\"=F175:F184, ROW(F175:F184)-MIN(ROW(F175:F184))+1, \"\"), ROW() -174 )), \"\")","v":"Raelynn Sugden"},{"$f":"IFERROR(INDEX(B175:B184, SMALL(IF(ISNUMBER(SEARCH(\"JV1\",F175:F184)), ROW(F175:F184)-MIN(ROW(F175:F184))+1, \"\"), ROW() -174 )), \"\")","v":""},{"$f":"IFERROR(INDEX(C175:C184, SMALL(IF(ISNUMBER(SEARCH(\"JV1\",F175:F184)), ROW(F175:F184)-MIN(ROW(F175:F184))+1, \"\"), ROW() -174 )), \"\")","v":""},{"$f":"IFERROR(INDEX(D175:D184, SMALL(IF(ISNUMBER(SEARCH(\"JV1\",F175:F184)), ROW(F175:F184)-MIN(ROW(F175:F184))+1, \"\"), ROW() -174 )), \"\")","v":""},{"$f":"IFERROR(INDEX(E175:E184, SMALL(IF(ISNUMBER(SEARCH(\"JV1\",F175:F184)), ROW(F175:F184)-MIN(ROW(F175:F184))+1, \"\"), ROW() -174 )), \"\")","v":""},{"$f":"IFERROR(INDEX(B175:B184, SMALL(IF(ISNUMBER(SEARCH(\"JV2\",F175:F184)), ROW(F175:F184)-MIN(ROW(F175:F184))+1, \"\"), ROW() -174 )), \"\")","v":""},{"$f":"IFERROR(INDEX(C175:C184, SMALL(IF(ISNUMBER(SEARCH(\"JV2\",F175:F184)), ROW(F175:F184)-MIN(ROW(F175:F184))+1, \"\"), ROW() -174 )), \"\")","v":""},{"$f":"IFERROR(INDEX(D175:D184, SMALL(IF(ISNUMBER(SEARCH(\"JV2\",F175:F184)), ROW(F175:F184)-MIN(ROW(F175:F184))+1, \"\"), ROW() -174 )), \"\")","v":""},{"$f":"IFERROR(INDEX(E175:E184, SMALL(IF(ISNUMBER(SEARCH(\"JV2\",F175:F184)), ROW(F175:F184)-MIN(ROW(F175:F184))+1, \"\"), ROW() -174 )), \"\")","v":""}]
[null,"Peru State College",null,"18-6620","Raelynn Sugden","V",null,4491.0,null,false]
[null,"Peru State College",null,"11-497037","Renee Gausman",null,null,4491.0,null,false]
[null,"University Of Saint Mary",null,"21-473","Alexia Cuadras",null,null,4598.0,null,false,{"$nulls":17},{"$f":"IFERROR(INDEX(B185:B194, SMALL(IF(\"V\"=F185:F194, ROW(F185:F194)-MIN(ROW(F185:F194))+1, \"\"), ROW() -184 )), \"\")","v":"University Of Saint Mary"},{"$f":"IFERROR(INDEX(C185:C194, SMALL(IF(\"V\"=F185:F194, ROW(F185:F194)-MIN(ROW(F185:F194))+1, \"\"), ROW() -184 )), \"\")","v":""},{"$f":"IFERROR(INDEX(D185:D194, SMALL(IF(\"V\"=F185:F194, ROW(F185:F194)-MIN(ROW(F185:F194))+1, \"\"), ROW() -184 )), \"\")","v":"11-623384"},{"$f":"IFERROR(INDEX(E185:E194, SMALL(IF(\"V\"=F185:F194, ROW(F185:F194)-MIN(ROW(F185:F194))+1, \"\"), ROW() -184 )), \"\")","v":"Brianna Hubenett"},{"$f":"IFERROR(INDEX(B185:B194, SMALL(IF(ISNUMBER(SEARCH(\"JV1\",F185:F194)), ROW(F185:F194)-MIN(ROW(F185:F194))+1, \"\"), ROW() -184 )), \"\")","v":""},{"$f":"IFERROR(INDEX(C185:C194, SMALL(IF(ISNUMBER(SEARCH(\"JV1\",F185:F194)), ROW(F185:F194)-MIN(ROW(F185:F194))+1, \"\"), ROW() -184 )), \"\")","v":""},{"$f":"IFERROR(INDEX(D185:D194, SMALL(IF(ISNUMBER(SEARCH(\"JV1\",F185:F194)), ROW(F185:F194)-MIN(ROW(F185:F194))+1, \"\"), ROW() -184 )), \"\")","v":""},{"$f":"IFERROR(INDEX(E185:E194, SMALL(IF(ISNUMBER(SEARCH(\"JV1\",F185:F194)), ROW(F185:F194)-MIN(ROW(F185:F194))+1, \"\"), ROW() -184 )), \"\")","v":""},{"$f":"IFERROR(INDEX(B185:B194, SMALL(IF(ISNUMBER(SEARCH(\"JV2\",F185:F194)), ROW(F185:F194)-MIN(ROW(F185:F194))+1, \"\"), ROW() -184 )), \"\")","v":""},{"$f":"IFERROR(INDEX(C185:C194, SMALL(IF(ISNUMBER(SEARCH(\"JV2\",F185:F194)), ROW(F185:F194)-MIN(ROW(F185:F194))+1, \"\"), ROW() -184 )), \"\")","v":""},{"$f":"IFERROR(INDEX(D185:D194, SMALL(IF(ISNUMBER(SEARCH(\"JV2\",F185:F194)), ROW(F185:F194)-MIN(ROW(F185:F194))+1, \"\"), ROW() -184 )), \"\")","v":""},{"$f":"IFERROR(INDEX(E185:E194, SMALL(IF(ISNUMBER(SEARCH(\"JV2\",F185:F194)), ROW(F185:F194)-MIN(ROW(F185:F194))+1, \"\"), ROW() -184 )), \"\")","v":""}]
[null,"University Of Saint Mary",null,"11-623384","Brianna Hubenett","V",null,4598.0,null,false,{"$nulls":17},{"$f":"IFERROR(INDEX(B185:B194, SMALL(IF(\"V\"=F185:F194, ROW(F185:F194)-MIN(ROW(F185:F194))+1, \"\"), ROW() -184 )), \"\")","v":"University Of Saint Mary"},{"$f":"IFERROR(INDEX(C185:C194, SMALL(IF(\"V\"=F185:F194, ROW(F185:F194)-MIN(ROW(F185:F194))+1, \"\"), ROW() -184 )), \"\")","v":""},{"$f":"IFERROR(INDEX(D185:D194, SMALL(IF(\"V\"=F185:F194, ROW(F185:F194)-MIN(ROW(F185:F194))+1, \"\"), ROW() -184 )), \"\")","v":"17-57411"},{"$f":"IFERROR(INDEX(E185:E194, SMALL(IF(\"V\"=F185:F194, ROW(F185:F194)-MIN(ROW(F185:F194))+1, \"\"), ROW() -184 )), \"\")","v":"Carmen Silva"},{"$f":"IFERROR(INDEX(B185:B194, SMALL(IF(ISNUMBER(SEARCH(\"JV1\",F185:F194)), ROW(F185:F194)-MIN(ROW(F185:F194))+1, \"\"), ROW() -184 )), \"\")","v":""},{"$f":"IFERROR(INDEX(C185:C194, SMALL(IF(ISNUMBER(SEARCH(\"JV1\",F185:F194)), ROW(F185:F194)-MIN(ROW(F185:F194))+1, \"\"), ROW() -184 )), \"\")","v":""},{"$f":"IFERROR(INDEX(D185:D194, SMALL(IF(ISNUMBER(SEARCH(\"JV1\",F185:F194)), ROW(F185:F194)-MIN(ROW(F185:F194))+1, \"\"), ROW() -184 )), \"\")","v":""},{"$f":"IFERROR(INDEX(E185:E194, SMALL(IF(ISNUMBER(SEARCH(\"JV1\",F185:F194)), ROW(F185:F194)-MIN(ROW(F185:F194))+1, \"\"), ROW() -184 )), \"\")","v":""},{"$f":"IFERROR(INDEX(B185:B194, SMALL(IF(ISNUMBER(SEARCH(\"JV2\",F185:F194)), ROW(F185:F194)-MIN(ROW(F185:F194))+1, \"\"), ROW() -184 )), \"\")","v":""},{"$f":"IFERROR(INDEX(C185:C194, SMALL(IF(ISNUMBER(SEARCH(\"JV2\",F185:F194)), ROW(F185:F194)-MIN(ROW(F185:F194))+1, \"\"), ROW() -184 )), \"\")","v":""},{"$f":"IFERROR(INDEX(D185:D194, SMALL(IF(ISNUMBER(SEARCH(\"JV2\",F185:F194)), ROW(F185:F194)-MIN(ROW(F185:F194))+1, \"\"), ROW() -184 )), \"\")","v":""},{"$f":"IFERROR(INDEX(E185:E194, SMALL(IF(ISNUMBER(SEARCH(\"JV2\",F185:F194)), ROW(F185:F194)-MIN(ROW(F185:F194))+1, \"\"), ROW() -184 )), \"\")","v":""}]
[null,"University Of Saint Mary",null,"17-57411","Carmen Silva","V",null,4598.0,null,false,{"$nulls":17},{"$f":"IFERROR(INDEX(B185:B194, SMALL(IF(\"V\"=F185:F194, ROW(F185:F194)-MIN(ROW(F185:F194))+1, \"\"), ROW() -184 )), \"\")","v":"University Of Saint Mary"},{"$f":"IFERROR(INDEX(C185:C194, SMALL(IF(\"V\"=F185:F194, ROW(F185:F194)-MIN(ROW(F185:F194))+1, \"\"), ROW() -184 )), \"\")","v":""},{"$f":"IFERROR(INDEX(D185:D194, SMALL(IF(\"V\"=F185:F194, ROW(F185:F194)-MIN(ROW(F185:F194))+1, \"\"), ROW() -184 )), \"\")","v":"11-559058"},{"$f":"IFERROR(INDEX(E185:E194, SMALL(IF(\"V\"=F185:F194, ROW(F185:F194)-MIN(ROW(F185:F194))+1, \"\"), ROW() -184 )), \"\")","v":"Jada Surritte"},{"$f":"IFERROR(INDEX(B185:B194, SMALL(IF(ISNUMBER(SEARCH(\"JV1\",F185:F194)), ROW(F185:F194)-MIN(ROW(F185:F194))+1, \"\"), ROW() -184 )), \"\")","v":""},{"$f":"IFERROR(INDEX(C185:C194, SMALL(IF(ISNUMBER(SEARCH(\"JV1\",F185:F194)), ROW(F185:F194)-MIN(ROW(F185:F194))+1, \"\"), ROW() -184 )), \"\")","v":""},{"$f":"IFERROR(INDEX(D185:D194, SMALL(IF(ISNUMBER(SEARCH(\"JV1\",F185:F194)), ROW(F185:F194)-MIN(ROW(F185:F194))+1, \"\"), ROW() -184 )), \"\")","v":""},{"$f":"IFERROR(INDEX(E185:E194, SMALL(IF(ISNUMBER(SEARCH(\"JV1\",F185:F194)), ROW(F185:F194)-MIN(ROW(F185:F194))+1, \"\"), ROW() -184 )), \"\")","v":""},{"$f":"IFERROR(INDEX(B185:B194, SMALL(IF(ISNUMBER(SEARCH(\"JV2\",F185:F194)), ROW(F185:F194)-MIN(ROW(F185:F194))+1, \"\"), ROW() -184 )), \"\")","v":""},{"$f":"IFERROR(INDEX(C185:C194, SMALL(IF(ISNUMBER(SEARCH(\"JV2\",F185:F194)), ROW(F185:F194)-MIN(ROW(F185:F194))+1, \"\"), ROW() -184 )), \"\")","v":""},{"$f":"IFERROR(INDEX(D185:D194, SMALL(IF(ISNUMBER(SEARCH(\"JV2\",F185:F194)), ROW(F185:F194)-MIN(ROW(F185:F194))+1, \"\"), ROW() -184 )), \"\")","v":""},{"$f":"IFERROR(INDEX(E185:E194, SMALL(IF(ISNUMBER(SEARCH(\"JV2\",F185:F194)), ROW(F185:F194)-MIN(ROW(F185:F194))+1, \"\"), ROW() -184 )), \"\")","v":""}]
[null,"University Of Saint Mary",null,"11-559058","Jada Surritte","V",null,4598.0,null,false,{"$nulls":17},{"$f":"IFERROR(INDEX(B185:B194, SMALL(IF(\"V\"=F185:F194, ROW(F185:F194)-MIN(ROW(F185:F194))+1, \"\"), ROW() -184 )), \"\")","v":"University Of Saint Mary"},{"$f":"IFERROR(INDEX(C185:C194, SMALL(IF(\"V\"=F185:F194, ROW(F185:F194)-MIN(ROW(F185:F194))+1, \"\"), ROW() -184 )), \"\")","v":""},{"$f":"IFERROR(INDEX(D185:D194, SMALL(IF(\"V\"=F185:F194, ROW(F185:F194)-MIN(ROW(F185:F194))+1, \"\"), ROW() -184 )), \"\")","v":"11-207945"},{"$f":"IFERROR(INDEX(E185:E194, SMALL(IF(\"V\"=F185:F194, ROW(F185:F194)-MIN(ROW(F185:F194))+1, \"\"), ROW() -184 )), \"\")","v":"Katie Limon"},{"$f":"IFERROR(INDEX(B185:B194, SMALL(IF(ISNUMBER(SEARCH(\"JV1\",F185:F194)), ROW(F185:F194)-MIN(ROW(F185:F194))+1, \"\"), ROW() -184 )), \"\")","v":""},{"$f":"IFERROR(INDEX(C185:C194, SMALL(IF(ISNUMBER(SEARCH(\"JV1\",F185:F194)), ROW(F185:F194)-MIN(ROW(F185:F194))+1, \"\"), ROW() -184 )), \"\")","v":""},{"$f":"IFERROR(INDEX(D185:D194, SMALL(IF(ISNUMBER(SEARCH(\"JV1\",F185:F194)), ROW(F185:F194)-MIN(ROW(F185:F194))+1, \"\"), ROW() -184 )), \"\")","v":""},{"$f":"IFERROR(INDEX(E185:E194, SMALL(IF(ISNUMBER(SEARCH(\"JV1\",F185:F194)), ROW(F185:F194)-MIN(ROW(F185:F194))+1, \"\"), ROW() -184 )), \"\")","v":""},{"$f":"IFERROR(INDEX(B185:B194, SMALL(IF(ISNUMBER(SEARCH(\"JV2\",F185:F194)), ROW(F185:F194)-MIN(ROW(F185:F194))+1, \"\"), ROW() -184 )), \"\")","v":""},{"$f":"IFERROR(INDEX(C185:C194, SMALL(IF(ISNUMBER(SEARCH(\"JV2\",F185:F194)), ROW(F185:F194)-MIN(ROW(F185:F194))+1, \"\"), ROW() -184 )), \"\")","v":""},{"$f":"IFERROR(INDEX(D185:D194, SMALL(IF(ISNUMBER(SEARCH(\"JV2\",F185:F194)), ROW(F185:F194)-MIN(ROW(F185:F194))+1, \"\"), ROW() -184 )), \"\")","v":""},{"$f":"IFERROR(INDEX(E185:E194, SMALL(IF(ISNUMBER(SEARCH(\"JV2\",F185:F194)), ROW(F185:F194)-MIN(ROW(F185:F194))+1, \"\"), ROW() -184 )), \"\")","v":""}]
[null,"University Of Saint Mary",null,"11-193245","Jordan Reynolds",null,null,4598.0,null,false,{"$nulls":17},{"$f":"IFERROR(INDEX(B185:B194, SMALL(IF(\"V\"=F185:F194, ROW(F185:F194)-MIN(ROW(F185:F194))+1, \"\"), ROW() -184 )), \"\")","v":"University Of Saint Mary"},{"$f":"IFERROR(INDEX(C185:C194, SMALL(IF(\"V\"=F185:F194, ROW(F185:F194)-MIN(ROW(F185:F194))+1, \"\"), ROW() -184 )), \"\")","v":""},{"$f":"IFERROR(INDEX(D185:D194, SMALL(IF(\"V\"=F185:F194, ROW(F185:F194)-MIN(ROW(F185:F194))+1, \"\"), ROW() -184 )), \"\")","v":"21-79472"},{"$f":"IFERROR(INDEX(E185:E194, SMALL(IF(\"V\"=F185:F194, ROW(F185:F194)-MIN(ROW(F185:F194))+1, \"\"), ROW() -184 )), \"\")","v":"Lola Moore"},{"$f":"IFERROR(INDEX(B185:B194, SMALL(IF(ISNUMBER(SEARCH(\"JV1\",F185:F194)), ROW(F185:F194)-MIN(ROW(F185:F194))+1, \"\"), ROW() -184 )), \"\")","v":""},{"$f":"IFERROR(INDEX(C185:C194, SMALL(IF(ISNUMBER(SEARCH(\"JV1\",F185:F194)), ROW(F185:F194)-MIN(ROW(F185:F194))+1, \"\"), ROW() -184 )), \"\")","v":""},{"$f":"IFERROR(INDEX(D185:D194, SMALL(IF(ISNUMBER(SEARCH(\"JV1\",F185:F194)), ROW(F185:F194)-MIN(ROW(F185:F194))+1, \"\"), ROW() -184 )), \"\")","v":""},{"$f":"IFERROR(INDEX(E185:E194, SMALL(IF(ISNUMBER(SEARCH(\"JV1\",F185:F194)), ROW(F185:F194)-MIN(ROW(F185:F194))+1, \"\"), ROW() -184 )), \"\")","v":""},{"$f":"IFERROR(INDEX(B185:B194, SMALL(IF(ISNUMBER(SEARCH(\"JV2\",F185:F194)), ROW(F185:F194)-MIN(ROW(F185:F194))+1, \"\"), ROW() -184 )), \"\")","v":""},{"$f":"IFERROR(INDEX(C185:C194, SMALL(IF(ISNUMBER(SEARCH(\"JV2\",F185:F194)), ROW(F185:F194)-MIN(ROW(F185:F194))+1, \"\"), ROW() -184 )), \"\")","v":""},{"$f":"IFERROR(INDEX(D185:D194, SMALL(IF(ISNUMBER(SEARCH(\"JV2\",F185:F194)), ROW(F185:F194)-MIN(ROW(F185:F194))+1, \"\"), ROW() -184 )), \"\")","v":""},{"$f":"IFERROR(INDEX(E185:E194, SMALL(IF(ISNUMBER(SEARCH(\"JV2\",F185:F194)), ROW(F185:F194)-MIN(ROW(F185:F194))+1, \"\"), ROW() -184 )), \"\")","v":""}]
[null,"University Of Saint Mary",null,"23-983","Kambry Shockley",null,null,4598.0,null,false,{"$nulls":17},{"$f":"IFERROR(INDEX(B185:B194, SMALL(IF(\"V\"=F185:F194, ROW(F185:F194)-MIN(ROW(F185:F194))+1, \"\"), ROW() -184 )), \"\")","v":"University Of Saint Mary"},{"$f":"IFERROR(INDEX(C185:C194, SMALL(IF(\"V\"=F185:F194, ROW(F185:F194)-MIN(ROW(F185:F194))+1, \"\"), ROW() -184 )), \"\")","v":""},{"$f":"IFERROR(INDEX(D185:D194, SMALL(IF(\"V\"=F185:F194, ROW(F185:F194)-MIN(ROW(F185:F194))+1, \"\"), ROW() -184 )), \"\")","v":"21-472"},{"$f":"IFERROR(INDEX(E185:E194, SMALL(IF(\"V\"=F185:F194, ROW(F185:F194)-MIN(ROW(F185:F194))+1, \"\"), ROW() -184 )), \"\")","v":"Oliva Helten"},{"$f":"IFERROR(INDEX(B185:B194, SMALL(IF(ISNUMBER(SEARCH(\"JV1\",F185:F194)), ROW(F185:F194)-MIN(ROW(F185:F194))+1, \"\"), ROW() -184 )), \"\")","v":""},{"$f":"IFERROR(INDEX(C185:C194, SMALL(IF(ISNUMBER(SEARCH(\"JV1\",F185:F194)), ROW(F185:F194)-MIN(ROW(F185:F194))+1, \"\"), ROW() -184 )), \"\")","v":""},{"$f":"IFERROR(INDEX(D185:D194, SMALL(IF(ISNUMBER(SEARCH(\"JV1\",F185:F194)), ROW(F185:F194)-MIN(ROW(F185:F194))+1, \"\"), ROW() -184 )), \"\")","v":""},{"$f":"IFERROR(INDEX(E185:E194, SMALL(IF(ISNUMBER(SEARCH(\"JV1\",F185:F194)), ROW(F185:F194)-MIN(ROW(F185:F194))+1, \"\"), ROW() -184 )), \"\")","v":""},{"$f":"IFERROR(INDEX(B185:B194, SMALL(IF(ISNUMBER(SEARCH(\"JV2\",F185:F194)), ROW(F185:F194)-MIN(ROW(F185:F194))+1, \"\"), ROW() -184 )), \"\")","v":""},{"$f":"IFERROR(INDEX(C185:C194, SMALL(IF(ISNUMBER(SEARCH(\"JV2\",F185:F194)), ROW(F185:F194)-MIN(ROW(F185:F194))+1, \"\"), ROW() -184 )), \"\")","v":""},{"$f":"IFERROR(INDEX(D185:D194, SMALL(IF(ISNUMBER(SEARCH(\"JV2\",F185:F194)), ROW(F185:F194)-MIN(ROW(F185:F194))+1, \"\"), ROW() -184 )), \"\")","v":""},{"$f":"IFERROR(INDEX(E185:E194, SMALL(IF(ISNUMBER(SEARCH(\"JV2\",F185:F194)), ROW(F185:F194)-MIN(ROW(F185:F194))+1, \"\"), ROW() -184 )), \"\")","v":""}]
[null,"University Of Saint Mary",null,"11-207945","Katie Limon","V",null,4598.0,null,false,{"$nulls":17},{"$f":"IFERROR(INDEX(B185:B194, SMALL(IF(\"V\"=F185:F194, ROW(F185:F194)-MIN(ROW(F185:F194))+1, \"\"), ROW() -184 )), \"\")","v":""},{"$f":"IFERROR(INDEX(C185:C194, SMALL(IF(\"V\"=F185:F194, ROW(F185:F194)-MIN(ROW(F185:F194))+1, \"\"), ROW() -184 )), \"\")","v":""},{"$f":"IFERROR(INDEX(D185:D194, SMALL(IF(\"V\"=F185:F194, ROW(F185:F194)-MIN(ROW(F185:F194))+1, \"\"), ROW() -184 )), \"\")","v":""},{"$f":"IFERROR(INDEX(E185:E194, SMALL(IF(\"V\"=F185:F194, ROW(F185:F194)-MIN(ROW(F185:F194))+1, \"\"), ROW() -184 )), \"\")","v":""},{"$f":"IFERROR(INDEX(B185:B194, SMALL(IF(ISNUMBER(SEARCH(\"JV1\",F185:F194)), ROW(F185:F194)-MIN(ROW(F185:F194))+1, \"\"), ROW() -184 )), \"\")","v":""},{"$f":"IFERROR(INDEX(C185:C194, SMALL(IF(ISNUMBER(SEARCH(\"JV1\",F185:F194)), ROW(F185:F194)-MIN(ROW(F185:F194))+1, \"\"), ROW() -184 )), \"\")","v":""},{"$f":"IFERROR(INDEX(D185:D194, SMALL(IF(ISNUMBER(SEARCH(\"JV1\",F185:F194)), ROW(F185:F194)-MIN(ROW(F185:F194))+1, \"\"), ROW() -184 )), \"\")","v":""},{"$f":"IFERROR(INDEX(E185:E194, SMALL(IF(ISNUMBER(SEARCH(\"JV1\",F185:F194)), ROW(F185:F194)-MIN(ROW(F185:F194))+1, \"\"), ROW() -184 )), \"\")","v":""},{"$f":"IFERROR(INDEX(B185:B194, SMALL(IF(ISNUMBER(SEARCH(\"JV2\",F185:F194)), ROW(F185:F194)-MIN(ROW(F185:F194))+1, \"\"), ROW() -184 )), \"\")","v":""},{"$f":"IFERROR(INDEX(C185:C194, SMALL(IF(ISNUMBER(SEARCH(\"JV2\",F185:F194)), ROW(F185:F194)-MIN(ROW(F185:F194))+1, \"\"), ROW() -184 )), \"\")","v":""},{"$f":"IFERROR(INDEX(D185:D194, SMALL(IF(ISNUMBER(SEARCH(\"JV2\",F185:F194)), ROW(F185:F194)-MIN(ROW(F185:F194))+1, \"\"), ROW() -184 )), \"\")","v":""},{"$f":"IFERROR(INDEX(E185:E194, SMALL(IF(ISNUMBER(SEARCH(\"JV2\",F185:F194)), ROW(F185:F194)-MIN(ROW(F185:F194))+1, \"\"), ROW() -184 )), \"\")","v":""}]
[null,"University Of Saint Mary",null,"21-79472","Lola Moore","V",null,4598.0,null,false,{"$nulls":17},{"$f":"IFERROR(INDEX(B185:B194, SMALL(IF(\"V\"=F185:F194, ROW(F185:F194)-MIN(ROW(F185:F194))+1, \"\"), ROW() -184 )), \"\")","v":""},{"$f":"IFERROR(INDEX(C185:C194, SMALL(IF(\"V\"=F185:F194, ROW(F185:F194)-MIN(ROW(F185:F194))+1, \"\"), ROW() -184 )), \"\")","v":""},{"$f":"IFERROR(INDEX(D185:D194, SMALL(IF(\"V\"=F185:F194, ROW(F185:F194)-MIN(ROW(F185:F194))+1, \"\"), ROW() -184 )), \"\")","v":""},{"$f":"IFERROR(INDEX(E185:E194, SMALL(IF(\"V\"=F185:F194, ROW(F185:F194)-MIN(ROW(F185:F194))+1, \"\"), ROW() -184 )), \"\")","v":""},{"$f":"IFERROR(INDEX(B185:B194, SMALL(IF(ISNUMBER(SEARCH(\"JV1\",F185:F194)), ROW(F185:F194)-MIN(ROW(F185:F194))+1, \"\"), ROW() -184 )), \"\")","v":""},{"$f":"IFERROR(INDEX(C185:C194, SMALL(IF(ISNUMBER(SEARCH(\"JV1\",F185:F194)), ROW(F185:F194)-MIN(ROW(F185:F194))+1, \"\"), ROW() -184 )), \"\")","v":""},{"$f":"IFERROR(INDEX(D185:D194, SMALL(IF(ISNUMBER(SEARCH(\"JV1\",F185:F194)), ROW(F185:F194)-MIN(ROW(F185:F194))+1, \"\"), ROW() -184 )), \"\")","v":""},{"$f":"IFERROR(INDEX(E185:E194, SMALL(IF(ISNUMBER(SEARCH(\"JV1\",F185:F194)), ROW(F185:F194)-MIN(ROW(F185:F194))+1, \"\"), ROW() -184 )), \"\")","v":""},{"$f":"IFERROR(INDEX(B185:B194, SMALL(IF(ISNUMBER(SEARCH(\"JV2\",F185:F194)), ROW(F185:F194)-MIN(ROW(F185:F194))+1, \"\"), ROW() -184 )), \"\")","v":""},{"$f":"IFERROR(INDEX(C185:C194, SMALL(IF(ISNUMBER(SEARCH(\"JV2\",F185:F194)), ROW(F185:F194)-MIN(ROW(F185:F194))+1, \"\"), ROW() -184 )), \"\")","v":""},{"$f":"IFERROR(INDEX(D185:D194, SMALL(IF(ISNUMBER(SEARCH(\"JV2\",F185:F194)), ROW(F185:F194)-MIN(ROW(F185:F194))+1, \"\"), ROW() -184 )), \"\")","v":""},{"$f":"IFERROR(INDEX(E185:E194, SMALL(IF(ISNUMBER(SEARCH(\"JV2\",F185:F194)), ROW(F185:F194)-MIN(ROW(F185:F194))+1, \"\"), ROW() -184 )), \"\")","v":""}]
[null,"University Of Saint Mary",null,"22-4232","Madison Burke",null,null,4598.0,null,false]
[null,"University Of Saint Mary",null,"21-472","Oliva Helten","V",null,4598.0,null,false]
[null,"William Penn University",null,"11-33690","Caitlin Radliff","V",null,3431.0,null,false,{"$nulls":17},{"$f":"IFERROR(INDEX(B195:B210, SMALL(IF(\"V\"=F195:F210, ROW(F195:F210)-MIN(ROW(F195:F210))+1, \"\"), ROW() -194 )), \"\")","v":"William Penn University"},{"$f":"IFERROR(INDEX(C195:C210, SMALL(IF(\"V\"=F195:F210, ROW(F195:F210)-MIN(ROW(F195:F210))+1, \"\"), ROW() -194 )), \"\")","v":""},{"$f":"IFERROR(INDEX(D195:D210, SMALL(IF(\"V\"=F195:F210, ROW(F195:F210)-MIN(ROW(F195:F210))+1, \"\"), ROW() -194 )), \"\")","v":"11-33690"},{"$f":"IFERROR(INDEX(E195:E210, SMALL(IF(\"V\"=F195:F210, ROW(F195:F210)-MIN(ROW(F195:F210))+1, \"\"), ROW() -194 )), \"\")","v":"Caitlin Radliff"},{"$f":"IFERROR(INDEX(B195:B210, SMALL(IF(ISNUMBER(SEARCH(\"JV1\",F195:F210)), ROW(F195:F210)-MIN(ROW(F195:F210))+1, \"\"), ROW() -194 )), \"\")","v":"William Penn University"},{"$f":"IFERROR(INDEX(C195:C210, SMALL(IF(ISNUMBER(SEARCH(\"JV1\",F195:F210)), ROW(F195:F210)-MIN(ROW(F195:F210))+1, \"\"), ROW() -194 )), \"\")","v":""},{"$f":"IFERROR(INDEX(D195:D210, SMALL(IF(ISNUMBER(SEARCH(\"JV1\",F195:F210)), ROW(F195:F210)-MIN(ROW(F195:F210))+1, \"\"), ROW() -194 )), \"\")","v":"6928-5185"},{"$f":"IFERROR(INDEX(E195:E210, SMALL(IF(ISNUMBER(SEARCH(\"JV1\",F195:F210)), ROW(F195:F210)-MIN(ROW(F195:F210))+1, \"\"), ROW() -194 )), \"\")","v":"Christy Mottier"},{"$f":"IFERROR(INDEX(B195:B210, SMALL(IF(ISNUMBER(SEARCH(\"JV2\",F195:F210)), ROW(F195:F210)-MIN(ROW(F195:F210))+1, \"\"), ROW() -194 )), \"\")","v":""},{"$f":"IFERROR(INDEX(C195:C210, SMALL(IF(ISNUMBER(SEARCH(\"JV2\",F195:F210)), ROW(F195:F210)-MIN(ROW(F195:F210))+1, \"\"), ROW() -194 )), \"\")","v":""},{"$f":"IFERROR(INDEX(D195:D210, SMALL(IF(ISNUMBER(SEARCH(\"JV2\",F195:F210)), ROW(F195:F210)-MIN(ROW(F195:F210))+1, \"\"), ROW() -194 )), \"\")","v":""},{"$f":"IFERROR(INDEX(E195:E210, SMALL(IF(ISNUMBER(SEARCH(\"JV2\",F195:F210)), ROW(F195:F210)-MIN(ROW(F195:F210))+1, \"\"), ROW() -194 )), \"\")","v":""}]
[null,"William Penn University",null,"6928-5185","Christy Mottier","JV1",null,3431.0,null,false,{"$nulls":17},{"$f":"IFERROR(INDEX(B195:B210, SMALL(IF(\"V\"=F195:F210, ROW(F195:F210)-MIN(ROW(F195:F210))+1, \"\"), ROW() -194 )), \"\")","v":"William Penn University"},{"$f":"IFERROR(INDEX(C195:C210, SMALL(IF(\"V\"=F195:F210, ROW(F195:F210)-MIN(ROW(F195:F210))+1, \"\"), ROW() -194 )), \"\")","v":""},{"$f":"IFERROR(INDEX(D195:D210, SMALL(IF(\"V\"=F195:F210, ROW(F195:F210)-MIN(ROW(F195:F210))+1, \"\"), ROW() -194 )), \"\")","v":"15-170867"},{"$f":"IFERROR(INDEX(E195:E210, SMALL(IF(\"V\"=F195:F210, ROW(F195:F210)-MIN(ROW(F195:F210))+1, \"\"), ROW() -194 )), \"\")","v":"Cydnee Whiteleather"},{"$f":"IFERROR(INDEX(B195:B210, SMALL(IF(ISNUMBER(SEARCH(\"JV1\",F195:F210)), ROW(F195:F210)-MIN(ROW(F195:F210))+1, \"\"), ROW() -194 )), \"\")","v":"William Penn University"},{"$f":"IFERROR(INDEX(C195:C210, SMALL(IF(ISNUMBER(SEARCH(\"JV1\",F195:F210)), ROW(F195:F210)-MIN(ROW(F195:F210))+1, \"\"), ROW() -194 )), \"\")","v":""},{"$f":"IFERROR(INDEX(D195:D210, SMALL(IF(ISNUMBER(SEARCH(\"JV1\",F195:F210)), ROW(F195:F210)-MIN(ROW(F195:F210))+1, \"\"), ROW() -194 )), \"\")","v":"11-40996"},{"$f":"IFERROR(INDEX(E195:E210, SMALL(IF(ISNUMBER(SEARCH(\"JV1\",F195:F210)), ROW(F195:F210)-MIN(ROW(F195:F210))+1, \"\"), ROW() -194 )), \"\")","v":"Emily Eikenberry"},{"$f":"IFERROR(INDEX(B195:B210, SMALL(IF(ISNUMBER(SEARCH(\"JV2\",F195:F210)), ROW(F195:F210)-MIN(ROW(F195:F210))+1, \"\"), ROW() -194 )), \"\")","v":""},{"$f":"IFERROR(INDEX(C195:C210, SMALL(IF(ISNUMBER(SEARCH(\"JV2\",F195:F210)), ROW(F195:F210)-MIN(ROW(F195:F210))+1, \"\"), ROW() -194 )), \"\")","v":""},{"$f":"IFERROR(INDEX(D195:D210, SMALL(IF(ISNUMBER(SEARCH(\"JV2\",F195:F210)), ROW(F195:F210)-MIN(ROW(F195:F210))+1, \"\"), ROW() -194 )), \"\")","v":""},{"$f":"IFERROR(INDEX(E195:E210, SMALL(IF(ISNUMBER(SEARCH(\"JV2\",F195:F210)), ROW(F195:F210)-MIN(ROW(F195:F210))+1, \"\"), ROW() -194 )), \"\")","v":""}]
[null,"William Penn University",null,"15-170867","Cydnee Whiteleather","V",null,3431.0,null,false,{"$nulls":17},{"$f":"IFERROR(INDEX(B195:B210, SMALL(IF(\"V\"=F195:F210, ROW(F195:F210)-MIN(ROW(F195:F210))+1, \"\"), ROW() -194 )), \"\")","v":"William Penn University"},{"$f":"IFERROR(INDEX(C195:C210, SMALL(IF(\"V\"=F195:F210, ROW(F195:F210)-MIN(ROW(F195:F210))+1, \"\"), ROW() -194 )), \"\")","v":""},{"$f":"IFERROR(INDEX(D195:D210, SMALL(IF(\"V\"=F195:F210, ROW(F195:F210)-MIN(ROW(F195:F210))+1, \"\"), ROW() -194 )), \"\")","v":"11-35370"},{"$f":"IFERROR(INDEX(E195:E210, SMALL(IF(\"V\"=F195:F210, ROW(F195:F210)-MIN(ROW(F195:F210))+1, \"\"), ROW() -194 )), \"\")","v":"Gabriella Evans"},{"$f":"IFERROR(INDEX(B195:B210, SMALL(IF(ISNUMBER(SEARCH(\"JV1\",F195:F210)), ROW(F195:F210)-MIN(ROW(F195:F210))+1, \"\"), ROW() -194 )), \"\")","v":"William Penn University"},{"$f":"IFERROR(INDEX(C195:C210, SMALL(IF(ISNUMBER(SEARCH(\"JV1\",F195:F210)), ROW(F195:F210)-MIN(ROW(F195:F210))+1, \"\"), ROW() -194 )), \"\")","v":""},{"$f":"IFERROR(INDEX(D195:D210, SMALL(IF(ISNUMBER(SEARCH(\"JV1\",F195:F210)), ROW(F195:F210)-MIN(ROW(F195:F210))+1, \"\"), ROW() -194 )), \"\")","v":"19-78537"},{"$f":"IFERROR(INDEX(E195:E210, SMALL(IF(ISNUMBER(SEARCH(\"JV1\",F195:F210)), ROW(F195:F210)-MIN(ROW(F195:F210))+1, \"\"), ROW() -194 )), \"\")","v":"Kelcey Aczon-Kawamura"},{"$f":"IFERROR(INDEX(B195:B210, SMALL(IF(ISNUMBER(SEARCH(\"JV2\",F195:F210)), ROW(F195:F210)-MIN(ROW(F195:F210))+1, \"\"), ROW() -194 )), \"\")","v":""},{"$f":"IFERROR(INDEX(C195:C210, SMALL(IF(ISNUMBER(SEARCH(\"JV2\",F195:F210)), ROW(F195:F210)-MIN(ROW(F195:F210))+1, \"\"), ROW() -194 )), \"\")","v":""},{"$f":"IFERROR(INDEX(D195:D210, SMALL(IF(ISNUMBER(SEARCH(\"JV2\",F195:F210)), ROW(F195:F210)-MIN(ROW(F195:F210))+1, \"\"), ROW() -194 )), \"\")","v":""},{"$f":"IFERROR(INDEX(E195:E210, SMALL(IF(ISNUMBER(SEARCH(\"JV2\",F195:F210)), ROW(F195:F210)-MIN(ROW(F195:F210))+1, \"\"), ROW() -194 )), \"\")","v":""}]
[null,"William Penn University",null,"11-734504","Danielle Finchman",null,null,3431.0,null,false,{"$nulls":17},{"$f":"IFERROR(INDEX(B195:B210, SMALL(IF(\"V\"=F195:F210, ROW(F195:F210)-MIN(ROW(F195:F210))+1, \"\"), ROW() -194 )), \"\")","v":"William Penn University"},{"$f":"IFERROR(INDEX(C195:C210, SMALL(IF(\"V\"=F195:F210, ROW(F195:F210)-MIN(ROW(F195:F210))+1, \"\"), ROW() -194 )), \"\")","v":""},{"$f":"IFERROR(INDEX(D195:D210, SMALL(IF(\"V\"=F195:F210, ROW(F195:F210)-MIN(ROW(F195:F210))+1, \"\"), ROW() -194 )), \"\")","v":"11-294013"},{"$f":"IFERROR(INDEX(E195:E210, SMALL(IF(\"V\"=F195:F210, ROW(F195:F210)-MIN(ROW(F195:F210))+1, \"\"), ROW() -194 )), \"\")","v":"Madison Ross"},{"$f":"IFERROR(INDEX(B195:B210, SMALL(IF(ISNUMBER(SEARCH(\"JV1\",F195:F210)), ROW(F195:F210)-MIN(ROW(F195:F210))+1, \"\"), ROW() -194 )), \"\")","v":"William Penn University"},{"$f":"IFERROR(INDEX(C195:C210, SMALL(IF(ISNUMBER(SEARCH(\"JV1\",F195:F210)), ROW(F195:F210)-MIN(ROW(F195:F210))+1, \"\"), ROW() -194 )), \"\")","v":""},{"$f":"IFERROR(INDEX(D195:D210, SMALL(IF(ISNUMBER(SEARCH(\"JV1\",F195:F210)), ROW(F195:F210)-MIN(ROW(F195:F210))+1, \"\"), ROW() -194 )), \"\")","v":"11-247563"},{"$f":"IFERROR(INDEX(E195:E210, SMALL(IF(ISNUMBER(SEARCH(\"JV1\",F195:F210)), ROW(F195:F210)-MIN(ROW(F195:F210))+1, \"\"), ROW() -194 )), \"\")","v":"Lucille Mitchell"},{"$f":"IFERROR(INDEX(B195:B210, SMALL(IF(ISNUMBER(SEARCH(\"JV2\",F195:F210)), ROW(F195:F210)-MIN(ROW(F195:F210))+1, \"\"), ROW() -194 )), \"\")","v":""},{"$f":"IFERROR(INDEX(C195:C210, SMALL(IF(ISNUMBER(SEARCH(\"JV2\",F195:F210)), ROW(F195:F210)-MIN(ROW(F195:F210))+1, \"\"), ROW() -194 )), \"\")","v":""},{"$f":"IFERROR(INDEX(D195:D210, SMALL(IF(ISNUMBER(SEARCH(\"JV2\",F195:F210)), ROW(F195:F210)-MIN(ROW(F195:F210))+1, \"\"), ROW() -194 )), \"\")","v":""},{"$f":"IFERROR(INDEX(E195:E210, SMALL(IF(ISNUMBER(SEARCH(\"JV2\",F195:F210)), ROW(F195:F210)-MIN(ROW(F195:F210))+1, \"\"), ROW() -194 )), \"\")","v":""}]
[null,"William Penn University",null,"11-40996","Emily Eikenberry","JV1",null,3431.0,null,false,{"$nulls":17},{"$f":"IFERROR(INDEX(B195:B210, SMALL(IF(\"V\"=F195:F210, ROW(F195:F210)-MIN(ROW(F195:F210))+1, \"\"), ROW() -194 )), \"\")","v":"William Penn University"},{"$f":"IFERROR(INDEX(C195:C210, SMALL(IF(\"V\"=F195:F210, ROW(F195:F210)-MIN(ROW(F195:F210))+1, \"\"), ROW() -194 )), \"\")","v":""},{"$f":"IFERROR(INDEX(D195:D210, SMALL(IF(\"V\"=F195:F210, ROW(F195:F210)-MIN(ROW(F195:F210))+1, \"\"), ROW() -194 )), \"\")","v":"11-390462"},{"$f":"IFERROR(INDEX(E195:E210, SMALL(IF(\"V\"=F195:F210, ROW(F195:F210)-MIN(ROW(F195:F210))+1, \"\"), ROW() -194 )), \"\")","v":"Olivia Nolte"},{"$f":"IFERROR(INDEX(B195:B210, SMALL(IF(ISNUMBER(SEARCH(\"JV1\",F195:F210)), ROW(F195:F210)-MIN(ROW(F195:F210))+1, \"\"), ROW() -194 )), \"\")","v":"William Penn University"},{"$f":"IFERROR(INDEX(C195:C210, SMALL(IF(ISNUMBER(SEARCH(\"JV1\",F195:F210)), ROW(F195:F210)-MIN(ROW(F195:F210))+1, \"\"), ROW() -194 )), \"\")","v":""},{"$f":"IFERROR(INDEX(D195:D210, SMALL(IF(ISNUMBER(SEARCH(\"JV1\",F195:F210)), ROW(F195:F210)-MIN(ROW(F195:F210))+1, \"\"), ROW() -194 )), \"\")","v":"11-261138"},{"$f":"IFERROR(INDEX(E195:E210, SMALL(IF(ISNUMBER(SEARCH(\"JV1\",F195:F210)), ROW(F195:F210)-MIN(ROW(F195:F210))+1, \"\"), ROW() -194 )), \"\")","v":"Olivia Pilcher"},{"$f":"IFERROR(INDEX(B195:B210, SMALL(IF(ISNUMBER(SEARCH(\"JV2\",F195:F210)), ROW(F195:F210)-MIN(ROW(F195:F210))+1, \"\"), ROW() -194 )), \"\")","v":""},{"$f":"IFERROR(INDEX(C195:C210, SMALL(IF(ISNUMBER(SEARCH(\"JV2\",F195:F210)), ROW(F195:F210)-MIN(ROW(F195:F210))+1, \"\"), ROW() -194 )), \"\")","v":""},{"$f":"IFERROR(INDEX(D195:D210, SMALL(IF(ISNUMBER(SEARCH(\"JV2\",F195:F210)), ROW(F195:F210)-MIN(ROW(F195:F210))+1, \"\"), ROW() -194 )), \"\")","v":""},{"$f":"IFERROR(INDEX(E195:E210, SMALL(IF(ISNUMBER(SEARCH(\"JV2\",F195:F210)), ROW(F195:F210)-MIN(ROW(F195:F210))+1, \"\"), ROW() -194 )), \"\")","v":""}]
[null,"William Penn University",null,"11-35370","Gabriella Evans","V",null,3431.0,null,false,{"$nulls":17},{"$f":"IFERROR(INDEX(B195:B210, SMALL(IF(\"V\"=F195:F210, ROW(F195:F210)-MIN(ROW(F195:F210))+1, \"\"), ROW() -194 )), \"\")","v":"William Penn University"},{"$f":"IFERROR(INDEX(C195:C210, SMALL(IF(\"V\"=F195:F210, ROW(F195:F210)-MIN(ROW(F195:F210))+1, \"\"), ROW() -194 )), \"\")","v":""},{"$f":"IFERROR(INDEX(D195:D210, SMALL(IF(\"V\"=F195:F210, ROW(F195:F210)-MIN(ROW(F195:F210))+1, \"\"), ROW() -194 )), \"\")","v":"11-422677"},{"$f":"IFERROR(INDEX(E195:E210, SMALL(IF(\"V\"=F195:F210, ROW(F195:F210)-MIN(ROW(F195:F210))+1, \"\"), ROW() -194 )), \"\")","v":"Sammantha Meyers"},{"$f":"IFERROR(INDEX(B195:B210, SMALL(IF(ISNUMBER(SEARCH(\"JV1\",F195:F210)), ROW(F195:F210)-MIN(ROW(F195:F210))+1, \"\"), ROW() -194 )), \"\")","v":"William Penn University"},{"$f":"IFERROR(INDEX(C195:C210, SMALL(IF(ISNUMBER(SEARCH(\"JV1\",F195:F210)), ROW(F195:F210)-MIN(ROW(F195:F210))+1, \"\"), ROW() -194 )), \"\")","v":""},{"$f":"IFERROR(INDEX(D195:D210, SMALL(IF(ISNUMBER(SEARCH(\"JV1\",F195:F210)), ROW(F195:F210)-MIN(ROW(F195:F210))+1, \"\"), ROW() -194 )), \"\")","v":"11-706020"},{"$f":"IFERROR(INDEX(E195:E210, SMALL(IF(ISNUMBER(SEARCH(\"JV1\",F195:F210)), ROW(F195:F210)-MIN(ROW(F195:F210))+1, \"\"), ROW() -194 )), \"\")","v":"Payton Vogel"},{"$f":"IFERROR(INDEX(B195:B210, SMALL(IF(ISNUMBER(SEARCH(\"JV2\",F195:F210)), ROW(F195:F210)-MIN(ROW(F195:F210))+1, \"\"), ROW() -194 )), \"\")","v":""},{"$f":"IFERROR(INDEX(C195:C210, SMALL(IF(ISNUMBER(SEARCH(\"JV2\",F195:F210)), ROW(F195:F210)-MIN(ROW(F195:F210))+1, \"\"), ROW() -194 )), \"\")","v":""},{"$f":"IFERROR(INDEX(D195:D210, SMALL(IF(ISNUMBER(SEARCH(\"JV2\",F195:F210)), ROW(F195:F210)-MIN(ROW(F195:F210))+1, \"\"), ROW() -194 )), \"\")","v":""},{"$f":"IFERROR(INDEX(E195:E210, SMALL(IF(ISNUMBER(SEARCH(\"JV2\",F195:F210)), ROW(F195:F210)-MIN(ROW(F195:F210))+1, \"\"), ROW() -194 )), \"\")","v":""}]
[null,"William Penn University",null,"11-239533","Isabel Diaz",null,null,3431.0,null,false,{"$nulls":17},{"$f":"IFERROR(INDEX(B195:B210, SMALL(IF(\"V\"=F195:F210, ROW(F195:F210)-MIN(ROW(F195:F210))+1, \"\"), ROW() -194 )), \"\")","v":"William Penn University"},{"$f":"IFERROR(INDEX(C195:C210, SMALL(IF(\"V\"=F195:F210, ROW(F195:F210)-MIN(ROW(F195:F210))+1, \"\"), ROW() -194 )), \"\")","v":""},{"$f":"IFERROR(INDEX(D195:D210, SMALL(IF(\"V\"=F195:F210, ROW(F195:F210)-MIN(ROW(F195:F210))+1, \"\"), ROW() -194 )), \"\")","v":"11-446110"},{"$f":"IFERROR(INDEX(E195:E210, SMALL(IF(\"V\"=F195:F210, ROW(F195:F210)-MIN(ROW(F195:F210))+1, \"\"), ROW() -194 )), \"\")","v":"Victoria Potter"},{"$f":"IFERROR(INDEX(B195:B210, SMALL(IF(ISNUMBER(SEARCH(\"JV1\",F195:F210)), ROW(F195:F210)-MIN(ROW(F195:F210))+1, \"\"), ROW() -194 )), \"\")","v":"William Penn University"},{"$f":"IFERROR(INDEX(C195:C210, SMALL(IF(ISNUMBER(SEARCH(\"JV1\",F195:F210)), ROW(F195:F210)-MIN(ROW(F195:F210))+1, \"\"), ROW() -194 )), \"\")","v":""},{"$f":"IFERROR(INDEX(D195:D210, SMALL(IF(ISNUMBER(SEARCH(\"JV1\",F195:F210)), ROW(F195:F210)-MIN(ROW(F195:F210))+1, \"\"), ROW() -194 )), \"\")","v":"18-11595"},{"$f":"IFERROR(INDEX(E195:E210, SMALL(IF(ISNUMBER(SEARCH(\"JV1\",F195:F210)), ROW(F195:F210)-MIN(ROW(F195:F210))+1, \"\"), ROW() -194 )), \"\")","v":"Saphyre McCombs"},{"$f":"IFERROR(INDEX(B195:B210, SMALL(IF(ISNUMBER(SEARCH(\"JV2\",F195:F210)), ROW(F195:F210)-MIN(ROW(F195:F210))+1, \"\"), ROW() -194 )), \"\")","v":""},{"$f":"IFERROR(INDEX(C195:C210, SMALL(IF(ISNUMBER(SEARCH(\"JV2\",F195:F210)), ROW(F195:F210)-MIN(ROW(F195:F210))+1, \"\"), ROW() -194 )), \"\")","v":""},{"$f":"IFERROR(INDEX(D195:D210, SMALL(IF(ISNUMBER(SEARCH(\"JV2\",F195:F210)), ROW(F195:F210)-MIN(ROW(F195:F210))+1, \"\"), ROW() -194 )), \"\")","v":""},{"$f":"IFERROR(INDEX(E195:E210, SMALL(IF(ISNUMBER(SEARCH(\"JV2\",F195:F210)), ROW(F195:F210)-MIN(ROW(F195:F210))+1, \"\"), ROW() -194 )), \"\")","v":""}]
[null,"William Penn University",null,"19-78537","Kelcey Aczon-Kawamura","JV1",null,3431.0,null,false,{"$nulls":17},{"$f":"IFERROR(INDEX(B195:B210, SMALL(IF(\"V\"=F195:F210, ROW(F195:F210)-MIN(ROW(F195:F210))+1, \"\"), ROW() -194 )), \"\")","v":""},{"$f":"IFERROR(INDEX(C195:C210, SMALL(IF(\"V\"=F195:F210, ROW(F195:F210)-MIN(ROW(F195:F210))+1, \"\"), ROW() -194 )), \"\")","v":""},{"$f":"IFERROR(INDEX(D195:D210, SMALL(IF(\"V\"=F195:F210, ROW(F195:F210)-MIN(ROW(F195:F210))+1, \"\"), ROW() -194 )), \"\")","v":""},{"$f":"IFERROR(INDEX(E195:E210, SMALL(IF(\"V\"=F195:F210, ROW(F195:F210)-MIN(ROW(F195:F210))+1, \"\"), ROW() -194 )), \"\")","v":""},{"$f":"IFERROR(INDEX(B195:B210, SMALL(IF(ISNUMBER(SEARCH(\"JV1\",F195:F210)), ROW(F195:F210)-MIN(ROW(F195:F210))+1, \"\"), ROW() -194 )), \"\")","v":""},{"$f":"IFERROR(INDEX(C195:C210, SMALL(IF(ISNUMBER(SEARCH(\"JV1\",F195:F210)), ROW(F195:F210)-MIN(ROW(F195:F210))+1, \"\"), ROW() -194 )), \"\")","v":""},{"$f":"IFERROR(INDEX(D195:D210, SMALL(IF(ISNUMBER(SEARCH(\"JV1\",F195:F210)), ROW(F195:F210)-MIN(ROW(F195:F210))+1, \"\"), ROW() -194 )), \"\")","v":""},{"$f":"IFERROR(INDEX(E195:E210, SMALL(IF(ISNUMBER(SEARCH(\"JV1\",F195:F210)), ROW(F195:F210)-MIN(ROW(F195:F210))+1, \"\"), ROW() -194 )), \"\")","v":""},{"$f":"IFERROR(INDEX(B195:B210, SMALL(IF(ISNUMBER(SEARCH(\"JV2\",F195:F210)), ROW(F195:F210)-MIN(ROW(F195:F210))+1, \"\"), ROW() -194 )), \"\")","v":""},{"$f":"IFERROR(INDEX(C195:C210, SMALL(IF(ISNUMBER(SEARCH(\"JV2\",F195:F210)), ROW(F195:F210)-MIN(ROW(F195:F210))+1, \"\"), ROW() -194 )), \"\")","v":""},{"$f":"IFERROR(INDEX(D195:D210, SMALL(IF(ISNUMBER(SEARCH(\"JV2\",F195:F210)), ROW(F195:F210)-MIN(ROW(F195:F210))+1, \"\"), ROW() -194 )), \"\")","v":""},{"$f":"IFERROR(INDEX(E195:E210, SMALL(IF(ISNUMBER(SEARCH(\"JV2\",F195:F210)), ROW(F195:F210)-MIN(ROW(F195:F210))+1, \"\"), ROW() -194 )), \"\")","v":""}]
[null,"William Penn University",null,"11-247563","Lucille Mitchell","JV1",null,3431.0,null,false]
[null,"William Penn University",null,"11-294013","Madison Ross","V",null,3431.0,null,false]
[null,"William Penn University",null,"11-390462","Olivia Nolte","V",null,3431.0,null,false]
[null,"William Penn University",null,"11-261138","Olivia Pilcher","JV1",null,3431.0,null,false]
[null,"William Penn University",null,"11-706020","Payton Vogel","JV1",null,3431.0,null,false]
[null,"William Penn University",null,"11-422677","Sammantha Meyers","V",null,3431.0,null,false]
[null,"William Penn University",null,"18-11595","Saphyre McCombs","JV1",null,3431.0,null,false]
[null,"William Penn University",null,"11-446110","Victoria Potter","V",null,3431.0,null,false]

{"sheet":"Individual_Scores_Men_Var","index":2,"n_rows":250,"n_cols":54,"rows_kept":250,"cut":false,"hidden":false,"merged":[[0,0,0,13]]}
["Individual Scores and Team Games"]
[{"$nulls":51},"Yes"]
[null,"NAIA Weekend-West-Sunday",{"$nulls":49},"No"]
[null,"Tier 2","NAIA",{"$nulls":12},"2443","7","0","5","","",null,null,"7",{"$nulls":29},"IBCYouth"]
[null,"<<Dates>>","<<Event#>>","02/04/2024 - 02/04/2024"]
[null,"<<Location>>",null,"Lawrence, KS"]
[]
[null,"Men's Division",null,"Cert No:","04110"]
[null,"Division"]
[{"$nulls":6},"Game","Game","Game","Game","Game","Game","Game",null,"Games","Tourn."]
[null,"Team","Bowler ID","Bowler","Bowled","Bowled Baker",1.0,2.0,3.0,4.0,5.0,6.0,7.0,"Total","Bowled","Ave."]
[null,{"$f":"Roster_Selection_Men!AB11&\" \" & \"V \"","v":"Avila University V "},{"$f":"Roster_Selection_Men!AD11","v":"19-81745"},{"$f":"Roster_Selection_Men!AE11","v":"Aidan Tesdall"},null,{"$f":"IF(ISERROR([1]Baker_Scores_Men_Var!E12), \" \", IF([1]Baker_Scores_Men_Var!E12 = \"Yes\", \"Yes\", \"  \"))","v":"#ERROR!"},189.0,152.0,147.0,0.0,181.0,184.0,164.0,{"$f":"SUM(G12:M12)","v":1017},{"$f":"COUNTIF(G12:M12, \">0\" )","v":6},{"$f":"IF(O12=0,0,N12/O12)","v":169.5}]
[null,{"$f":"Roster_Selection_Men!AB12&\" \" & \"V \"","v":"Avila University V "},{"$f":"Roster_Selection_Men!AD12","v":"11-392672"},{"$f":"Roster_Selection_Men!AE12","v":"Brody Stanback"},null,{"$f":"IF(ISERROR([1]Baker_Scores_Men_Var!E13), \" \", IF([1]Baker_Scores_Men_Var!E13 = \"Yes\", \"Yes\", \"  \"))","v":"#ERROR!"},201.0,138.0,0.0,167.0,205.0,178.0,0.0,889,5,177.8]
[null,{"$f":"Roster_Selection_Men!AB13&\" \" & \"V \"","v":"Avila University V "},{"$f":"Roster_Selection_Men!AD13","v":"8599-78423"},{"$f":"Roster_Selection_Men!AE13","v":"Bryce Stewart"},null,{"$f":"IF(ISERROR([1]Baker_Scores_Men_Var!E14), \" \", IF([1]Baker_Scores_Men_Var!E14 = \"Yes\", \"Yes\", \"  \"))","v":"#ERROR!"},138.0,0.0,0.0,182.0,146.0,0.0,0.0,466,3,155.3333333]
[null,{"$f":"Roster_Selection_Men!AB14&\" \" & \"V \"","v":"Avila University V "},{"$f":"Roster_Selection_Men!AD14","v":"11-485194"},{"$f":"Roster_Selection_Men!AE14","v":"Caleb Wangler"},null,{"$f":"IF(ISERROR([1]Baker_Scores_Men_Var!E15), \" \", IF([1]Baker_Scores_Men_Var!E15 = \"Yes\", \"Yes\", \"  \"))","v":"#ERROR!"},169.0,0.0,136.0,0.0,0.0,154.0,182.0,641,4,160.25]
[null,{"$f":"Roster_Selection_Men!AB15&\" \" & \"V \"","v":"Avila University V "},{"$f":"Roster_Selection_Men!AD15","v":"15-18094"},{"$f":"Roster_Selection_Men!AE15","v":"Evan Serrage"},null,{"$f":"IF(ISERROR([1]Baker_Scores_Men_Var!E16), \" \", IF([1]Baker_Scores_Men_Var!E16 = \"Yes\", \"Yes\", \"  \"))","v":"#ERROR!"},0.0,201.0,181.0,203.0,136.0,0.0,125.0,846,5,169.2]
[null,{"$f":"Roster_Selection_Men!AB16&\" \" & \"V \"","v":"Avila University V "},{"$f":"Roster_Selection_Men!AD16","v":"21-11945"},{"$f":"Roster_Selection_Men!AE16","v":"Max Sturgeon"},null,{"$f":"IF(ISERROR([1]Baker_Scores_Men_Var!E17), \" \", IF([1]Baker_Scores_Men_Var!E17 = \"Yes\", \"Yes\", \"  \"))","v":"#ERROR!"},193.0,176.0,182.0,214.0,170.0,157.0,178.0,1270,7,181.4285714]
[null,{"$f":"Roster_Selection_Men!AB17&\" \" & \"V \"","v":"Avila University V "},{"$f":"Roster_Selection_Men!AD17","v":"931-90083"},{"$f":"Roster_Selection_Men!AE17","v":"Nicolas Garza"},null,{"$f":"IF(ISERROR([1]Baker_Scores_Men_Var!E18), \" \", IF([1]Baker_Scores_Men_Var!E18 = \"Yes\", \"Yes\", \"  \"))","v":"#ERROR!"},0.0,174.0,179.0,140.0,0.0,134.0,165.0,792,5,158.4]
[null,{"$f":"Roster_Selection_Men!AB18&\" \" & \"V \"","v":" V "},{"$f":"Roster_Selection_Men!AD18","v":""},{"$f":"Roster_Selection_Men!AE18","v":""},null,{"$f":"IF(ISERROR([1]Baker_Scores_Men_Var!E19), \" \", IF([1]Baker_Scores_Men_Var!E19 = \"Yes\", \"Yes\", \"  \"))","v":"#ERROR!"},0.0,0.0,0.0,0.0,0.0,0.0,0.0,0,0,0]
[null,"Avila University V","","",{"$nulls":9},0,0,0]
[null,"Avila University V","","",{"$nulls":9},0,0,0]
[null,"Avila University V","","",{"$nulls":9},0,0,0]
[{"$nulls":6},{"$f":"SUM(G12:G22)","v":890},841,825,906,838,807,814,5921,35]
[]
[null,{"$f":"Roster_Selection_Men!AB27&\" \" & \"V \"","v":"Baker University V "},{"$f":"Roster_Selection_Men!AD27","v":"19-16176"},{"$f":"Roster_Selection_Men!AE27","v":"Aidan Vanmetre"},null,{"$f":"IF(ISERROR([1]Baker_Scores_Men_Var!E25), \" \", IF([1]Baker_Scores_Men_Var!E25 = \"Yes\", \"Yes\", \"  \"))","v":"#ERROR!"},136.0,142.0,181.0,189.0,157.0,195.0,199.0,{"$f":"SUM(G25:M25)","v":1199},{"$f":"COUNTIF(G25:M25, \">0\" )","v":7},{"$f":"IF(O25=0,0,N25/O25)","v":171.2857143}]
[null,{"$f":"Roster_Selection_Men!AB28&\" \" & \"V \"","v":"Baker University V "},{"$f":"Roster_Selection_Men!AD28","v":"18-1332"},{"$f":"Roster_Selection_Men!AE28","v":"Brett Gamber"},null,{"$f":"IF(ISERROR([1]Baker_Scores_Men_Var!E26), \" \", IF([1]Baker_Scores_Men_Var!E26 = \"Yes\", \"Yes\", \"  \"))","v":"#ERROR!"},175.0,227.0,153.0,186.0,182.0,170.0,156.0,1249,7,178.4285714]
[null,{"$f":"Roster_Selection_Men!AB29&\" \" & \"V \"","v":"Baker University V "},{"$f":"Roster_Selection_Men!AD29","v":"18-43056"},{"$f":"Roster_Selection_Men!AE29","v":"Josh King"},null,{"$f":"IF(ISERROR([1]Baker_Scores_Men_Var!E27), \" \", IF([1]Baker_Scores_Men_Var!E27 = \"Yes\", \"Yes\", \"  \"))","v":"#ERROR!"},172.0,235.0,180.0,200.0,192.0,188.0,158.0,1325,7,189.2857143]
[null,{"$f":"Roster_Selection_Men!AB30&\" \" & \"V \"","v":"Baker University V "},{"$f":"Roster_Selection_Men!AD30","v":"18-50479"},{"$f":"Roster_Selection_Men!AE30","v":"Ken Rowland"},null,{"$f":"IF(ISERROR([1]Baker_Scores_Men_Var!E28), \" \", IF([1]Baker_Scores_Men_Var!E28 = \"Yes\", \"Yes\", \"  \"))","v":"#ERROR!"},214.0,182.0,158.0,220.0,159.0,192.0,144.0,1269,7,181.2857143]
[null,{"$f":"Roster_Selection_Men!AB31&\" \" & \"V \"","v":"Baker University V "},{"$f":"Roster_Selection_Men!AD31","v":"11-439937"},{"$f":"Roster_Selection_Men!AE31","v":"Tanner Eckerle"},null,{"$f":"IF(ISERROR([1]Baker_Scores_Men_Var!E29), \" \", IF([1]Baker_Scores_Men_Var!E29 = \"Yes\", \"Yes\", \"  \"))","v":"#ERROR!"},166.0,204.0,214.0,190.0,201.0,199.0,180.0,1354,7,193.4285714]
[null,{"$f":"Roster_Selection_Men!AB32&\" \" & \"V \"","v":" V "},{"$f":"Roster_Selection_Men!AD32","v":""},{"$f":"Roster_Selection_Men!AE32","v":""},null,{"$f":"IF(ISERROR([1]Baker_Scores_Men_Var!E30), \" \", IF([1]Baker_Scores_Men_Var!E30 = \"Yes\", \"Yes\", \"  \"))","v":"#ERROR!"},0.0,0.0,0.0,0.0,0.0,0.0,0.0,0,0,0]
[null,{"$f":"Roster_Selection_Men!AB33&\" \" & \"V \"","v":" V "},{"$f":"Roster_Selection_Men!AD33","v":""},{"$f":"Roster_Selection_Men!AE33","v":""},null,{"$f":"IF(ISERROR([1]Baker_Scores_Men_Var!E31), \" \", IF([1]Baker_Scores_Men_Var!E31 = \"Yes\", \"Yes\", \"  \"))","v":"#ERROR!"},0.0,0.0,0.0,0.0,0.0,0.0,0.0,0,0,0]
[null,{"$f":"Roster_Selection_Men!AB34&\" \" & \"V \"","v":" V "},{"$f":"Roster_Selection_Men!AD34","v":""},{"$f":"Roster_Selection_Men!AE34","v":""},null,{"$f":"IF(ISERROR([1]Baker_Scores_Men_Var!E32), \" \", IF([1]Baker_Scores_Men_Var!E32 = \"Yes\", \"Yes\", \"  \"))","v":"#ERROR!"},0.0,0.0,0.0,0.0,0.0,0.0,0.0,0,0,0]
[null,"Baker University V","","",{"$nulls":9},0,0,0]
[null,"Baker University V","","",{"$nulls":9},0,0,0]
[null,"Baker University V","","",{"$nulls":9},0,0,0]
[{"$nulls":6},{"$f":"SUM(G25:G35)","v":863},990,886,985,891,944,837,6396,35]
[]
[null,{"$f":"Roster_Selection_Men!AB39&\" \" & \"V \"","v":"Barton Community College V "},{"$f":"Roster_Selection_Men!AD39","v":"17-15924"},{"$f":"Roster_Selection_Men!AE39","v":"Braden Boswell"},null,{"$f":"IF(ISERROR([1]Baker_Scores_Men_Var!E38), \" \", IF([1]Baker_Scores_Men_Var!E38 = \"Yes\", \"Yes\", \"  \"))","v":"#ERROR!"},268.0,182.0,168.0,163.0,189.0,188.0,210.0,{"$f":"SUM(G38:M38)","v":1368},{"$f":"COUNTIF(G38:M38, \">0\" )","v":7},{"$f":"IF(O38=0,0,N38/O38)","v":195.4285714}]
[null,{"$f":"Roster_Selection_Men!AB40&\" \" & \"V \"","v":"Barton Community College V "},{"$f":"Roster_Selection_Men!AD40","v":"17-107341"},{"$f":"Roster_Selection_Men!AE40","v":"Cale McConnell"},null,{"$f":"IF(ISERROR([1]Baker_Scores_Men_Var!E39), \" \", IF([1]Baker_Scores_Men_Var!E39 = \"Yes\", \"Yes\", \"  \"))","v":"#ERROR!"},0.0,158.0,197.0,220.0,192.0,178.0,154.0,1099,6,183.1666667]
[null,{"$f":"Roster_Selection_Men!AB41&\" \" & \"V \"","v":"Barton Community College V "},{"$f":"Roster_Selection_Men!AD41","v":"18-7262"},{"$f":"Roster_Selection_Men!AE41","v":"Caleb Murphy"},null,{"$f":"IF(ISERROR([1]Baker_Scores_Men_Var!E40), \" \", IF([1]Baker_Scores_Men_Var!E40 = \"Yes\", \"Yes\", \"  \"))","v":"#ERROR!"},160.0,157.0,0.0,0.0,0.0,211.0,115.0,643,4,160.75]
[null,{"$f":"Roster_Selection_Men!AB42&\" \" & \"V \"","v":"Barton Community College V "},{"$f":"Roster_Selection_Men!AD42","v":"11-342282"},{"$f":"Roster_Selection_Men!AE42","v":"Carter Lambeth"},null,{"$f":"IF(ISERROR([1]Baker_Scores_Men_Var!E41), \" \", IF([1]Baker_Scores_Men_Var!E41 = \"Yes\", \"Yes\", \"  \"))","v":"#ERROR!"},166.0,183.0,164.0,197.0,152.0,0.0,0.0,862,5,172.4]
[null,{"$f":"Roster_Selection_Men!AB43&\" \" & \"V \"","v":"Barton Community College V "},{"$f":"Roster_Selection_Men!AD43","v":"19-1488"},{"$f":"Roster_Selection_Men!AE43","v":"Christopher O'Connor"},null,{"$f":"IF(ISERROR([1]Baker_Scores_Men_Var!E42), \" \", IF([1]Baker_Scores_Men_Var!E42 = \"Yes\", \"Yes\", \"  \"))","v":"#ERROR!"},0.0,0.0,253.0,192.0,147.0,145.0,0.0,737,4,184.25]
[null,{"$f":"Roster_Selection_Men!AB44&\" \" & \"V \"","v":"Barton Community College V "},{"$f":"Roster_Selection_Men!AD44","v":"19-11824"},{"$f":"Roster_Selection_Men!AE44","v":"Cooper Holloway"},null,{"$f":"IF(ISERROR([1]Baker_Scores_Men_Var!E43), \" \", IF([1]Baker_Scores_Men_Var!E43 = \"Yes\", \"Yes\", \"  \"))","v":"#ERROR!"},0.0,0.0,0.0,0.0,0.0,147.0,149.0,296,2,148]
[null,{"$f":"Roster_Selection_Men!AB45&\" \" & \"V \"","v":"Barton Community College V "},{"$f":"Roster_Selection_Men!AD45","v":"11-629150"},{"$f":"Roster_Selection_Men!AE45","v":"Logan Lindsley"},null,{"$f":"IF(ISERROR([1]Baker_Scores_Men_Var!E44), \" \", IF([1]Baker_Scores_Men_Var!E44 = \"Yes\", \"Yes\", \"  \"))","v":"#ERROR!"},190.0,180.0,158.0,0.0,0.0,0.0,188.0,716,4,179]
[null,{"$f":"Roster_Selection_Men!AB46&\" \" & \"V \"","v":"Barton Community College V "},{"$f":"Roster_Selection_Men!AD46","v":"15-22092"},{"$f":"Roster_Selection_Men!AE46","v":"Torrey Lindsay"},null,{"$f":"IF(ISERROR([1]Baker_Scores_Men_Var!E45), \" \", IF([1]Baker_Scores_Men_Var!E45 = \"Yes\", \"Yes\", \"  \"))","v":"#ERROR!"},114.0,0.0,0.0,159.0,142.0,0.0,0.0,415,3,138.3333333]
[null,"Barton Community College V","","",{"$nulls":9},0,0,0]
[null,"Barton Community College V","","",{"$nulls":9},0,0,0]
[null,"Barton Community College V","","",{"$nulls":9},0,0,0]
[{"$nulls":6},{"$f":"SUM(G38:G48)","v":898},860,940,931,822,869,816,6136,35]
[]
[null,{"$f":"Roster_Selection_Men!AB53&\" \" & \"V \"","v":"Central Methodist University V "},{"$f":"Roster_Selection_Men!AD53","v":"11-403752"},{"$f":"Roster_Selection_Men!AE53","v":"Cole Johnson"},null,{"$f":"IF(ISERROR([1]Baker_Scores_Men_Var!E51), \" \", IF([1]Baker_Scores_Men_Var!E51 = \"Yes\", \"Yes\", \"  \"))","v":"#ERROR!"},162.0,198.0,161.0,107.0,188.0,200.0,176.0,{"$f":"SUM(G51:M51)","v":1192},{"$f":"COUNTIF(G51:M51, \">0\" )","v":7},{"$f":"IF(O51=0,0,N51/O51)","v":170.2857143}]
[null,{"$f":"Roster_Selection_Men!AB54&\" \" & \"V \"","v":"Central Methodist University V "},{"$f":"Roster_Selection_Men!AD54","v":"22-31273"},{"$f":"Roster_Selection_Men!AE54","v":"Colton Carrier"},null,{"$f":"IF(ISERROR([1]Baker_Scores_Men_Var!E52), \" \", IF([1]Baker_Scores_Men_Var!E52 = \"Yes\", \"Yes\", \"  \"))","v":"#ERROR!"},183.0,226.0,144.0,176.0,131.0,149.0,108.0,1117,7,159.5714286]
[null,{"$f":"Roster_Selection_Men!AB55&\" \" & \"V \"","v":"Central Methodist University V "},{"$f":"Roster_Selection_Men!AD55","v":"8191-648"},{"$f":"Roster_Selection_Men!AE55","v":"Dustin Linneman"},null,{"$f":"IF(ISERROR([1]Baker_Scores_Men_Var!E53), \" \", IF([1]Baker_Scores_Men_Var!E53 = \"Yes\", \"Yes\", \"  \"))","v":"#ERROR!"},144.0,139.0,147.0,140.0,129.0,109.0,88.0,896,7,128]
[null,{"$f":"Roster_Selection_Men!AB56&\" \" & \"V \"","v":"Central Methodist University V "},{"$f":"Roster_Selection_Men!AD56","v":"8938-1568"},{"$f":"Roster_Selection_Men!AE56","v":"Eric Moore"},null,{"$f":"IF(ISERROR([1]Baker_Scores_Men_Var!E54), \" \", IF([1]Baker_Scores_Men_Var!E54 = \"Yes\", \"Yes\", \"  \"))","v":"#ERROR!"},176.0,203.0,217.0,215.0,214.0,231.0,166.0,1422,7,203.1428571]
[null,{"$f":"Roster_Selection_Men!AB57&\" \" & \"V \"","v":"Central Methodist University V "},{"$f":"Roster_Selection_Men!AD57","v":"11-468547"},{"$f":"Roster_Selection_Men!AE57","v":"Kenneth Lolley"},null,{"$f":"IF(ISERROR([1]Baker_Scores_Men_Var!E55), \" \", IF([1]Baker_Scores_Men_Var!E55 = \"Yes\", \"Yes\", \"  \"))","v":"#ERROR!"},141.0,135.0,141.0,114.0,189.0,163.0,112.0,995,7,142.1428571]
[null,{"$f":"Roster_Selection_Men!AB58&\" \" & \"V \"","v":" V "},{"$f":"Roster_Selection_Men!AD58","v":""},{"$f":"Roster_Selection_Men!AE58","v":""},null,{"$f":"IF(ISERROR([1]Baker_Scores_Men_Var!E56), \" \", IF([1]Baker_Scores_Men_Var!E56 = \"Yes\", \"Yes\", \"  \"))","v":"#ERROR!"},0.0,0.0,0.0,0.0,0.0,0.0,0.0,0,0,0]
[null,{"$f":"Roster_Selection_Men!AB59&\" \" & \"V \"","v":" V "},{"$f":"Roster_Selection_Men!AD59","v":""},{"$f":"Roster_Selection_Men!AE59","v":""},null,{"$f":"IF(ISERROR([1]Baker_Scores_Men_Var!E57), \" \", IF([1]Baker_Scores_Men_Var!E57 = \"Yes\", \"Yes\", \"  \"))","v":"#ERROR!"},0.0,0.0,0.0,0.0,0.0,0.0,0.0,0,0,0]
[null,{"$f":"Roster_Selection_Men!AB60&\" \" & \"V \"","v":" V "},{"$f":"Roster_Selection_Men!AD60","v":""},{"$f":"Roster_Selection_Men!AE60","v":""},null,{"$f":"IF(ISERROR([1]Baker_Scores_Men_Var!E58), \" \", IF([1]Baker_Scores_Men_Var!E58 = \"Yes\", \"Yes\", \"  \"))","v":"#ERROR!"},0.0,0.0,0.0,0.0,0.0,0.0,0.0,0,0,0]
[null,"Central Methodist University V","","",{"$nulls":9},0,0,0]
[null,"Central Methodist University V","","",{"$nulls":9},0,0,0]
[null,"Central Methodist University V","","",{"$nulls":9},0,0,0]
[{"$nulls":6},{"$f":"SUM(G51:G61)","v":806},901,810,752,851,852,650,5622,35]
[]
[null,{"$f":"Roster_Selection_Men!AB61&\" \" & \"V \"","v":"Clarke University V "},{"$f":"Roster_Selection_Men!AD61","v":"8568-365435"},{"$f":"Roster_Selection_Men!AE61","v":"Adante Jones"},null,{"$f":"IF(ISERROR([1]Baker_Scores_Men_Var!E64), \" \", IF([1]Baker_Scores_Men_Var!E64 = \"Yes\", \"Yes\", \"  \"))","v":"#ERROR!"},0.0,164.0,168.0,234.0,145.0,166.0,172.0,{"$f":"SUM(G64:M64)","v":1049},{"$f":"COUNTIF(G64:M64, \">0\" )","v":6},{"$f":"IF(O64=0,0,N64/O64)","v":174.8333333}]
[null,{"$f":"Roster_Selection_Men!AB62&\" \" & \"V \"","v":"Clarke University V "},{"$f":"Roster_Selection_Men!AD62","v":"20-10059"},{"$f":"Roster_Selection_Men!AE62","v":"Cole Nietert"},null,{"$f":"IF(ISERROR([1]Baker_Scores_Men_Var!E65), \" \", IF([1]Baker_Scores_Men_Var!E65 = \"Yes\", \"Yes\", \"  \"))","v":"#ERROR!"},0.0,0.0,158.0,0.0,0.0,142.0,0.0,300,2,150]
[null,{"$f":"Roster_Selection_Men!AB63&\" \" & \"V \"","v":"Clarke University V "},{"$f":"Roster_Selection_Men!AD63","v":"7914-28980"},{"$f":"Roster_Selection_Men!AE63","v":"Harley Redding"},null,{"$f":"IF(ISERROR([1]Baker_Scores_Men_Var!E66), \" \", IF([1]Baker_Scores_Men_Var!E66 = \"Yes\", \"Yes\", \"  \"))","v":"#ERROR!"},215.0,201.0,184.0,170.0,141.0,208.0,160.0,1279,7,182.7142857]
[null,{"$f":"Roster_Selection_Men!AB64&\" \" & \"V \"","v":"Clarke University V "},{"$f":"Roster_Selection_Men!AD64","v":"11-68634"},{"$f":"Roster_Selection_Men!AE64","v":"Jordan Gorgas"},null,{"$f":"IF(ISERROR([1]Baker_Scores_Men_Var!E67), \" \", IF([1]Baker_Scores_Men_Var!E67 = \"Yes\", \"Yes\", \"  \"))","v":"#ERROR!"},154.0,191.0,0.0,0.0,168.0,0.0,0.0,513,3,171]
[null,{"$f":"Roster_Selection_Men!AB65&\" \" & \"V \"","v":"Clarke University V "},{"$f":"Roster_Selection_Men!AD65","v":"18-31111"},{"$f":"Roster_Selection_Men!AE65","v":"Mannix Amos"},null,{"$f":"IF(ISERROR([1]Baker_Scores_Men_Var!E68), \" \", IF([1]Baker_Scores_Men_Var!E68 = \"Yes\", \"Yes\", \"  \"))","v":"#ERROR!"},168.0,0.0,0.0,140.0,0.0,0.0,140.0,448,3,149.3333333]
[null,{"$f":"Roster_Selection_Men!AB66&\" \" & \"V \"","v":"Clarke University V "},{"$f":"Roster_Selection_Men!AD66","v":"11-421706"},{"$f":"Roster_Selection_Men!AE66","v":"Shane Jordan"},null,{"$f":"IF(ISERROR([1]Baker_Scores_Men_Var!E69), \" \", IF([1]Baker_Scores_Men_Var!E69 = \"Yes\", \"Yes\", \"  \"))","v":"#ERROR!"},188.0,136.0,191.0,194.0,185.0,139.0,0.0,1033,6,172.1666667]
[null,{"$f":"Roster_Selection_Men!AB67&\" \" & \"V \"","v":"Clarke University V "},{"$f":"Roster_Selection_Men!AD67","v":"11-397609"},{"$f":"Roster_Selection_Men!AE67","v":"Tanner Webb"},null,{"$f":"IF(ISERROR([1]Baker_Scores_Men_Var!E70), \" \", IF([1]Baker_Scores_Men_Var!E70 = \"Yes\", \"Yes\", \"  \"))","v":"#ERROR!"},147.0,202.0,149.0,172.0,183.0,170.0,160.0,1183,7,169]
[null,{"$f":"Roster_Selection_Men!AB68&\" \" & \"V \"","v":"Clarke University V "},{"$f":"Roster_Selection_Men!AD68","v":"20-11563"},{"$f":"Roster_Selection_Men!AE68","v":"Zachary Reuter"},null,{"$f":"IF(ISERROR([1]Baker_Scores_Men_Var!E71), \" \", IF([1]Baker_Scores_Men_Var!E71 = \"Yes\", \"Yes\", \"  \"))","v":"#ERROR!"},0.0,0.0,0.0,0.0,0.0,0.0,139.0,139,1,139]
[null,"Clarke University V","","",{"$nulls":9},0,0,0]
[null,"Clarke University V","","",{"$nulls":9},0,0,0]
[null,"Clarke University V","","",{"$nulls":9},0,0,0]
[{"$nulls":6},{"$f":"SUM(G64:G74)","v":872},894,850,910,822,825,771,5944,35]
[]
[null,{"$f":"Roster_Selection_Men!AB73&\" \" & \"V \"","v":"Culver-Stockton College V "},{"$f":"Roster_Selection_Men!AD73","v":"20-14741"},{"$f":"Roster_Selection_Men!AE73","v":"Cole Gillenwater"},null,{"$f":"IF(ISERROR([1]Baker_Scores_Men_Var!E77), \" \", IF([1]Baker_Scores_Men_Var!E77 = \"Yes\", \"Yes\", \"  \"))","v":"#ERROR!"},0.0,0.0,0.0,162.0,151.0,116.0,108.0,{"$f":"SUM(G77:M77)","v":537},{"$f":"COUNTIF(G77:M77, \">0\" )","v":4},{"$f":"IF(O77=0,0,N77/O77)","v":134.25}]
[null,{"$f":"Roster_Selection_Men!AB74&\" \" & \"V \"","v":"Culver-Stockton College V "},{"$f":"Roster_Selection_Men!AD74","v":"19-3783"},{"$f":"Roster_Selection_Men!AE74","v":"Gavin Moeller"},null,{"$f":"IF(ISERROR([1]Baker_Scores_Men_Var!E78), \" \", IF([1]Baker_Scores_Men_Var!E78 = \"Yes\", \"Yes\", \"  \"))","v":"#ERROR!"},123.0,0.0,167.0,118.0,148.0,188.0,161.0,905,6,150.8333333]
[null,{"$f":"Roster_Selection_Men!AB75&\" \" & \"V \"","v":"Culver-Stockton College V "},{"$f":"Roster_Selection_Men!AD75","v":"11-32574"},{"$f":"Roster_Selection_Men!AE75","v":"Jake Evitts"},null,{"$f":"IF(ISERROR([1]Baker_Scores_Men_Var!E79), \" \", IF([1]Baker_Scores_Men_Var!E79 = \"Yes\", \"Yes\", \"  \"))","v":"#ERROR!"},202.0,164.0,126.0,0.0,0.0,0.0,0.0,492,3,164]
[null,{"$f":"Roster_Selection_Men!AB76&\" \" & \"V \"","v":"Culver-Stockton College V "},{"$f":"Roster_Selection_Men!AD76","v":"11-499974"},{"$f":"Roster_Selection_Men!AE76","v":"Keaten Bieri"},null,{"$f":"IF(ISERROR([1]Baker_Scores_Men_Var!E80), \" \", IF([1]Baker_Scores_Men_Var!E80 = \"Yes\", \"Yes\", \"  \"))","v":"#ERROR!"},204.0,213.0,163.0,148.0,155.0,0.0,0.0,883,5,176.6]
[null,{"$f":"Roster_Selection_Men!AB77&\" \" & \"V \"","v":"Culver-Stockton College V "},{"$f":"Roster_Selection_Men!AD77","v":"7914-19067"},{"$f":"Roster_Selection_Men!AE77","v":"Levi Staley"},null,{"$f":"IF(ISERROR([1]Baker_Scores_Men_Var!E81), \" \", IF([1]Baker_Scores_Men_Var!E81 = \"Yes\", \"Yes\", \"  \"))","v":"#ERROR!"},131.0,188.0,187.0,169.0,127.0,191.0,194.0,1187,7,169.5714286]
[null,{"$f":"Roster_Selection_Men!AB78&\" \" & \"V \"","v":"Culver-Stockton College V "},{"$f":"Roster_Selection_Men!AD78","v":"11-503053"},{"$f":"Roster_Selection_Men!AE78","v":"Mason Will"},null,{"$f":"IF(ISERROR([1]Baker_Scores_Men_Var!E82), \" \", IF([1]Baker_Scores_Men_Var!E82 = \"Yes\", \"Yes\", \"  \"))","v":"#ERROR!"},0.0,150.0,168.0,171.0,203.0,177.0,153.0,1022,6,170.3333333]
[null,{"$f":"Roster_Selection_Men!AB79&\" \" & \"V \"","v":"Culver-Stockton College V "},{"$f":"Roster_Selection_Men!AD79","v":"17-52681"},{"$f":"Roster_Selection_Men!AE79","v":"River Vanveghel"},null,{"$f":"IF(ISERROR([1]Baker_Scores_Men_Var!E83), \" \", IF([1]Baker_Scores_Men_Var!E83 = \"Yes\", \"Yes\", \"  \"))","v":"#ERROR!"},157.0,130.0,0.0,0.0,0.0,203.0,160.0,650,4,162.5]
[null,{"$f":"Roster_Selection_Men!AB80&\" \" & \"V \"","v":" V "},{"$f":"Roster_Selection_Men!AD80","v":""},{"$f":"Roster_Selection_Men!AE80","v":""},null,{"$f":"IF(ISERROR([1]Baker_Scores_Men_Var!E84), \" \", IF([1]Baker_Scores_Men_Var!E84 = \"Yes\", \"Yes\", \"  \"))","v":"#ERROR!"},0.0,0.0,0.0,0.0,0.0,0.0,0.0,0,0,0]
[null,"Culver-Stockton College V","","",{"$nulls":9},0,0,0]
[null,"Culver-Stockton College V","","",{"$nulls":9},0,0,0]
[null,"Culver-Stockton College V","","",{"$nulls":9},0,0,0]
[{"$nulls":6},{"$f":"SUM(G77:G87)","v":817},845,811,768,784,875,776,5676,35]
[]
[null,{"$f":"Roster_Selection_Men!AB82&\" \" & \"V \"","v":"Grand View University V "},{"$f":"Roster_Selection_Men!AD82","v":"17-40277"},{"$f":"Roster_Selection_Men!AE82","v":"Alex Knoshaug"},null,{"$f":"IF(ISERROR([1]Baker_Scores_Men_Var!E90), \" \", IF([1]Baker_Scores_Men_Var!E90 = \"Yes\", \"Yes\", \"  \"))","v":"#ERROR!"},0.0,0.0,162.0,155.0,0.0,0.0,0.0,{"$f":"SUM(G90:M90)","v":317},{"$f":"COUNTIF(G90:M90, \">0\" )","v":2},{"$f":"IF(O90=0,0,N90/O90)","v":158.5}]
[null,{"$f":"Roster_Selection_Men!AB83&\" \" & \"V \"","v":"Grand View University V "},{"$f":"Roster_Selection_Men!AD83","v":"11-389770"},{"$f":"Roster_Selection_Men!AE83","v":"Andru Wilder"},null,{"$f":"IF(ISERROR([1]Baker_Scores_Men_Var!E91), \" \", IF([1]Baker_Scores_Men_Var!E91 = \"Yes\", \"Yes\", \"  \"))","v":"#ERROR!"},150.0,129.0,189.0,183.0,134.0,174.0,154.0,1113,7,159]
[null,{"$f":"Roster_Selection_Men!AB84&\" \" & \"V \"","v":"Grand View University V "},{"$f":"Roster_Selection_Men!AD84","v":"11-569567"},{"$f":"Roster_Selection_Men!AE84","v":"Brandon Nakaoka"},null,{"$f":"IF(ISERROR([1]Baker_Scores_Men_Var!E92), \" \", IF([1]Baker_Scores_Men_Var!E92 = \"Yes\", \"Yes\", \"  \"))","v":"#ERROR!"},155.0,110.0,0.0,0.0,173.0,183.0,159.0,780,5,156]
[null,{"$f":"Roster_Selection_Men!AB85&\" \" & \"V \"","v":"Grand View University V "},{"$f":"Roster_Selection_Men!AD85","v":"9138-8600"},{"$f":"Roster_Selection_Men!AE85","v":"Johnathan Hemmingsen"},null,{"$f":"IF(ISERROR([1]Baker_Scores_Men_Var!E93), \" \", IF([1]Baker_Scores_Men_Var!E93 = \"Yes\", \"Yes\", \"  \"))","v":"#ERROR!"},194.0,166.0,159.0,188.0,183.0,172.0,218.0,1280,7,182.8571429]
[null,{"$f":"Roster_Selection_Men!AB86&\" \" & \"V \"","v":"Grand View University V "},{"$f":"Roster_Selection_Men!AD86","v":"5689-4652"},{"$f":"Roster_Selection_Men!AE86","v":"Nicholas Prochnow"},null,{"$f":"IF(ISERROR([1]Baker_Scores_Men_Var!E94), \" \", IF([1]Baker_Scores_Men_Var!E94 = \"Yes\", \"Yes\", \"  \"))","v":"#ERROR!"},148.0,149.0,168.0,220.0,209.0,240.0,139.0,1273,7,181.8571429]
[null,{"$f":"Roster_Selection_Men!AB87&\" \" & \"V \"","v":"Grand View University V "},{"$f":"Roster_Selection_Men!AD87","v":"15-193757"},{"$f":"Roster_Selection_Men!AE87","v":"Skyler Vong"},null,{"$f":"IF(ISERROR([1]Baker_Scores_Men_Var!E95), \" \", IF([1]Baker_Scores_Men_Var!E95 = \"Yes\", \"Yes\", \"  \"))","v":"#ERROR!"},0.0,0.0,0.0,0.0,0.0,0.0,0.0,0,0,0]
[null,{"$f":"Roster_Selection_Men!AB88&\" \" & \"V \"","v":"Grand View University V "},{"$f":"Roster_Selection_Men!AD88","v":"11-242166"},{"$f":"Roster_Selection_Men!AE88","v":"Xander Pickett"},null,{"$f":"IF(ISERROR([1]Baker_Scores_Men_Var!E96), \" \", IF([1]Baker_Scores_Men_Var!E96 = \"Yes\", \"Yes\", \"  \"))","v":"#ERROR!"},181.0,193.0,166.0,188.0,178.0,177.0,172.0,1255,7,179.2857143]
[null,{"$f":"Roster_Selection_Men!AB89&\" \" & \"V \"","v":" V "},{"$f":"Roster_Selection_Men!AD89","v":""},{"$f":"Roster_Selection_Men!AE89","v":""},null,{"$f":"IF(ISERROR([1]Baker_Scores_Men_Var!E97), \" \", IF([1]Baker_Scores_Men_Var!E97 = \"Yes\", \"Yes\", \"  \"))","v":"#ERROR!"},0.0,0.0,0.0,0.0,0.0,0.0,0.0,0,0,0]
[null,"Grand View University V","","",{"$nulls":9},0,0,0]
[null,"Grand View University V","","",{"$nulls":9},0,0,0]
[null,"Grand View University V","","",{"$nulls":9},0,0,0]
[{"$nulls":6},{"$f":"SUM(G90:G100)","v":828},747,844,934,877,946,842,6018,35]
[]
[null,{"$f":"Roster_Selection_Men!AB100&\" \" & \"V \"","v":"Hastings College V "},{"$f":"Roster_Selection_Men!AD100","v":"6238-1210"},{"$f":"Roster_Selection_Men!AE100","v":"Anthony Hernandez"},null,{"$f":"IF(ISERROR([1]Baker_Scores_Men_Var!E103), \" \", IF([1]Baker_Scores_Men_Var!E103 = \"Yes\", \"Yes\", \"  \"))","v":"#ERROR!"},0.0,0.0,182.0,199.0,185.0,146.0,0.0,{"$f":"SUM(G103:M103)","v":712},{"$f":"COUNTIF(G103:M103, \">0\" )","v":4},{"$f":"IF(O103=0,0,N103/O103)","v":178}]
[null,{"$f":"Roster_Selection_Men!AB101&\" \" & \"V \"","v":"Hastings College V "},{"$f":"Roster_Selection_Men!AD101","v":"16-129865"},{"$f":"Roster_Selection_Men!AE101","v":"Anthony Morella"},null,{"$f":"IF(ISERROR([1]Baker_Scores_Men_Var!E104), \" \", IF([1]Baker_Scores_Men_Var!E104 = \"Yes\", \"Yes\", \"  \"))","v":"#ERROR!"},0.0,0.0,188.0,214.0,234.0,204.0,164.0,1004,5,200.8]
[null,{"$f":"Roster_Selection_Men!AB102&\" \" & \"V \"","v":"Hastings College V "},{"$f":"Roster_Selection_Men!AD102","v":"11-607179"},{"$f":"Roster_Selection_Men!AE102","v":"Brandon Engels"},null,{"$f":"IF(ISERROR([1]Baker_Scores_Men_Var!E105), \" \", IF([1]Baker_Scores_Men_Var!E105 = \"Yes\", \"Yes\", \"  \"))","v":"#ERROR!"},192.0,164.0,199.0,211.0,198.0,156.0,214.0,1334,7,190.5714286]
[null,{"$f":"Roster_Selection_Men!AB103&\" \" & \"V \"","v":"Hastings College V "},{"$f":"Roster_Selection_Men!AD103","v":"11-120329"},{"$f":"Roster_Selection_Men!AE103","v":"Carstin Olson"},null,{"$f":"IF(ISERROR([1]Baker_Scores_Men_Var!E106), \" \", IF([1]Baker_Scores_Men_Var!E106 = \"Yes\", \"Yes\", \"  \"))","v":"#ERROR!"},0.0,0.0,0.0,0.0,0.0,0.0,187.0,187,1,187]
[null,{"$f":"Roster_Selection_Men!AB104&\" \" & \"V \"","v":"Hastings College V "},{"$f":"Roster_Selection_Men!AD104","v":"11-292690"},{"$f":"Roster_Selection_Men!AE104","v":"Kaden Kuusela"},null,{"$f":"IF(ISERROR([1]Baker_Scores_Men_Var!E107), \" \", IF([1]Baker_Scores_Men_Var!E107 = \"Yes\", \"Yes\", \"  \"))","v":"#ERROR!"},197.0,168.0,201.0,224.0,203.0,144.0,0.0,1137,6,189.5]
[null,{"$f":"Roster_Selection_Men!AB105&\" \" & \"V \"","v":"Hastings College V "},{"$f":"Roster_Selection_Men!AD105","v":"11-672708"},{"$f":"Roster_Selection_Men!AE105","v":"Kenneth High"},null,{"$f":"IF(ISERROR([1]Baker_Scores_Men_Var!E108), \" \", IF([1]Baker_Scores_Men_Var!E108 = \"Yes\", \"Yes\", \"  \"))","v":"#ERROR!"},201.0,211.0,181.0,199.0,148.0,0.0,195.0,1135,6,189.1666667]
[null,{"$f":"Roster_Selection_Men!AB106&\" \" & \"V \"","v":"Hastings College V "},{"$f":"Roster_Selection_Men!AD106","v":"11-104662"},{"$f":"Roster_Selection_Men!AE106","v":"Trevor Seeley"},null,{"$f":"IF(ISERROR([1]Baker_Scores_Men_Var!E109), \" \", IF([1]Baker_Scores_Men_Var!E109 = \"Yes\", \"Yes\", \"  \"))","v":"#ERROR!"},257.0,144.0,0.0,0.0,0.0,144.0,0.0,545,3,181.6666667]
[null,{"$f":"Roster_Selection_Men!AB107&\" \" & \"V \"","v":"Hastings College V "},{"$f":"Roster_Selection_Men!AD107","v":"8813-4825"},{"$f":"Roster_Selection_Men!AE107","v":"Tyler Call"},null,{"$f":"IF(ISERROR([1]Baker_Scores_Men_Var!E110), \" \", IF([1]Baker_Scores_Men_Var!E110 = \"Yes\", \"Yes\", \"  \"))","v":"#ERROR!"},212.0,113.0,0.0,0.0,0.0,0.0,192.0,517,3,172.3333333]
[null,"Hastings College V","","",{"$nulls":9},0,0,0]
[null,"Hastings College V","","",{"$nulls":9},0,0,0]
[null,"Hastings College V","","",{"$nulls":9},0,0,0]
[{"$nulls":6},{"$f":"SUM(G103:G113)","v":1059},800,951,1047,968,794,952,6571,35]
[]
[null,{"$f":"Roster_Selection_Men!AB116&\" \" & \"V \"","v":"Kansas ,University Of V "},{"$f":"Roster_Selection_Men!AD116","v":"19-37444"},{"$f":"Roster_Selection_Men!AE116","v":"Ayden Ammann"},null,{"$f":"IF(ISERROR([1]Baker_Scores_Men_Var!E116), \" \", IF([1]Baker_Scores_Men_Var!E116 = \"Yes\", \"Yes\", \"  \"))","v":"#ERROR!"},0.0,0.0,0.0,0.0,0.0,0.0,0.0,{"$f":"SUM(G116:M116)","v":0},{"$f":"COUNTIF(G116:M116, \">0\" )","v":0},{"$f":"IF(O116=0,0,N116/O116)","v":0}]
[null,{"$f":"Roster_Selection_Men!AB117&\" \" & \"V \"","v":"Kansas ,University Of V "},{"$f":"Roster_Selection_Men!AD117","v":"16-162899"},{"$f":"Roster_Selection_Men!AE117","v":"Benjamin Weinzirl"},null,{"$f":"IF(ISERROR([1]Baker_Scores_Men_Var!E117), \" \", IF([1]Baker_Scores_Men_Var!E117 = \"Yes\", \"Yes\", \"  \"))","v":"#ERROR!"},0.0,139.0,0.0,130.0,199.0,154.0,153.0,775,5,155]
[null,{"$f":"Roster_Selection_Men!AB118&\" \" & \"V \"","v":"Kansas ,University Of V "},{"$f":"Roster_Selection_Men!AD118","v":"11-653325"},{"$f":"Roster_Selection_Men!AE118","v":"Brendan Mcdermott"},null,{"$f":"IF(ISERROR([1]Baker_Scores_Men_Var!E118), \" \", IF([1]Baker_Scores_Men_Var!E118 = \"Yes\", \"Yes\", \"  \"))","v":"#ERROR!"},155.0,172.0,170.0,146.0,144.0,150.0,0.0,937,6,156.1666667]
[null,{"$f":"Roster_Selection_Men!AB119&\" \" & \"V \"","v":"Kansas ,University Of V "},{"$f":"Roster_Selection_Men!AD119","v":"11-489693"},{"$f":"Roster_Selection_Men!AE119","v":"Chase Milledge"},null,{"$f":"IF(ISERROR([1]Baker_Scores_Men_Var!E119), \" \", IF([1]Baker_Scores_Men_Var!E119 = \"Yes\", \"Yes\", \"  \"))","v":"#ERROR!"},185.0,156.0,155.0,147.0,144.0,164.0,170.0,1121,7,160.1428571]
[null,{"$f":"Roster_Selection_Men!AB120&\" \" & \"V \"","v":"Kansas ,University Of V "},{"$f":"Roster_Selection_Men!AD120","v":"11-742053"},{"$f":"Roster_Selection_Men!AE120","v":"Geovanny Peoples"},null,{"$f":"IF(ISERROR([1]Baker_Scores_Men_Var!E120), \" \", IF([1]Baker_Scores_Men_Var!E120 = \"Yes\", \"Yes\", \"  \"))","v":"#ERROR!"},184.0,170.0,145.0,0.0,154.0,121.0,144.0,918,6,153]
[null,{"$f":"Roster_Selection_Men!AB121&\" \" & \"V \"","v":"Kansas ,University Of V "},{"$f":"Roster_Selection_Men!AD121","v":"11-411198"},{"$f":"Roster_Selection_Men!AE121","v":"Jacob Fonyi"},null,{"$f":"IF(ISERROR([1]Baker_Scores_Men_Var!E121), \" \", IF([1]Baker_Scores_Men_Var!E121 = \"Yes\", \"Yes\", \"  \"))","v":"#ERROR!"},0.0,0.0,0.0,0.0,0.0,0.0,0.0,0,0,0]
[null,{"$f":"Roster_Selection_Men!AB122&\" \" & \"V \"","v":"Kansas ,University Of V "},{"$f":"Roster_Selection_Men!AD122","v":"11-648844"},{"$f":"Roster_Selection_Men!AE122","v":"Josh Hammons"},null,{"$f":"IF(ISERROR([1]Baker_Scores_Men_Var!E122), \" \", IF([1]Baker_Scores_Men_Var!E122 = \"Yes\", \"Yes\", \"  \"))","v":"#ERROR!"},201.0,223.0,179.0,192.0,180.0,152.0,157.0,1284,7,183.4285714]
[null,{"$f":"Roster_Selection_Men!AB123&\" \" & \"V \"","v":"Kansas ,University Of V "},{"$f":"Roster_Selection_Men!AD123","v":"11-348802"},{"$f":"Roster_Selection_Men!AE123","v":"Preston Pacheco"},null,{"$f":"IF(ISERROR([1]Baker_Scores_Men_Var!E123), \" \", IF([1]Baker_Scores_Men_Var!E123 = \"Yes\", \"Yes\", \"  \"))","v":"#ERROR!"},134.0,0.0,154.0,110.0,0.0,0.0,165.0,563,4,140.75]
[null,"Kansas ,University Of V","","",{"$nulls":9},0,0,0]
[null,"Kansas ,University Of V","","",{"$nulls":9},0,0,0]
[null,"Kansas ,University Of V","","",{"$nulls":9},0,0,0]
[{"$nulls":6},{"$f":"SUM(G116:G126)","v":859},860,803,725,821,741,789,5598,35]
[]
[null,{"$f":"Roster_Selection_Men!AB130&\" \" & \"V \"","v":"Kansas State University V "},{"$f":"Roster_Selection_Men!AD130","v":"22-16685"},{"$f":"Roster_Selection_Men!AE130","v":"Braden Maltz"},null,{"$f":"IF(ISERROR([1]Baker_Scores_Men_Var!E129), \" \", IF([1]Baker_Scores_Men_Var!E129 = \"Yes\", \"Yes\", \"  \"))","v":"#ERROR!"},160.0,179.0,133.0,185.0,167.0,161.0,157.0,{"$f":"SUM(G129:M129)","v":1142},{"$f":"COUNTIF(G129:M129, \">0\" )","v":7},{"$f":"IF(O129=0,0,N129/O129)","v":163.1428571}]
[null,{"$f":"Roster_Selection_Men!AB131&\" \" & \"V \"","v":"Kansas State University V "},{"$f":"Roster_Selection_Men!AD131","v":"19-37440"},{"$f":"Roster_Selection_Men!AE131","v":"Carson Toews"},null,{"$f":"IF(ISERROR([1]Baker_Scores_Men_Var!E130), \" \", IF([1]Baker_Scores_Men_Var!E130 = \"Yes\", \"Yes\", \"  \"))","v":"#ERROR!"},112.0,0.0,0.0,180.0,99.0,0.0,157.0,548,4,137]
[null,{"$f":"Roster_Selection_Men!AB132&\" \" & \"V \"","v":"Kansas State University V "},{"$f":"Roster_Selection_Men!AD132","v":"21-24464"},{"$f":"Roster_Selection_Men!AE132","v":"Carter Schaffer"},null,{"$f":"IF(ISERROR([1]Baker_Scores_Men_Var!E131), \" \", IF([1]Baker_Scores_Men_Var!E131 = \"Yes\", \"Yes\", \"  \"))","v":"#ERROR!"},147.0,133.0,151.0,0.0,0.0,0.0,178.0,609,4,152.25]
[null,{"$f":"Roster_Selection_Men!AB133&\" \" & \"V \"","v":"Kansas State University V "},{"$f":"Roster_Selection_Men!AD133","v":"9600-4102"},{"$f":"Roster_Selection_Men!AE133","v":"David Culp"},null,{"$f":"IF(ISERROR([1]Baker_Scores_Men_Var!E132), \" \", IF([1]Baker_Scores_Men_Var!E132 = \"Yes\", \"Yes\", \"  \"))","v":"#ERROR!"},0.0,186.0,188.0,216.0,149.0,124.0,0.0,863,5,172.6]
[null,{"$f":"Roster_Selection_Men!AB134&\" \" & \"V \"","v":"Kansas State University V "},{"$f":"Roster_Selection_Men!AD134","v":"11-275379"},{"$f":"Roster_Selection_Men!AE134","v":"Devin Morelock"},null,{"$f":"IF(ISERROR([1]Baker_Scores_Men_Var!E133), \" \", IF([1]Baker_Scores_Men_Var!E133 = \"Yes\", \"Yes\", \"  \"))","v":"#ERROR!"},0.0,0.0,133.0,167.0,154.0,149.0,0.0,603,4,150.75]
[null,{"$f":"Roster_Selection_Men!AB135&\" \" & \"V \"","v":"Kansas State University V "},{"$f":"Roster_Selection_Men!AD135","v":"17-101586"},{"$f":"Roster_Selection_Men!AE135","v":"Luke Belvin"},null,{"$f":"IF(ISERROR([1]Baker_Scores_Men_Var!E134), \" \", IF([1]Baker_Scores_Men_Var!E134 = \"Yes\", \"Yes\", \"  \"))","v":"#ERROR!"},201.0,200.0,179.0,167.0,224.0,150.0,188.0,1309,7,187]
[null,{"$f":"Roster_Selection_Men!AB136&\" \" & \"V \"","v":"Kansas State University V "},{"$f":"Roster_Selection_Men!AD136","v":"21-82211"},{"$f":"Roster_Selection_Men!AE136","v":"Swade Helton"},null,{"$f":"IF(ISERROR([1]Baker_Scores_Men_Var!E135), \" \", IF([1]Baker_Scores_Men_Var!E135 = \"Yes\", \"Yes\", \"  \"))","v":"#ERROR!"},123.0,132.0,0.0,0.0,0.0,142.0,166.0,563,4,140.75]
[null,{"$f":"Roster_Selection_Men!AB137&\" \" & \"V \"","v":" V "},{"$f":"Roster_Selection_Men!AD137","v":""},{"$f":"Roster_Selection_Men!AE137","v":""},null,{"$f":"IF(ISERROR([1]Baker_Scores_Men_Var!E136), \" \", IF([1]Baker_Scores_Men_Var!E136 = \"Yes\", \"Yes\", \"  \"))","v":"#ERROR!"},0.0,0.0,0.0,0.0,0.0,0.0,0.0,0,0,0]
[null,"Kansas State University V","","",{"$nulls":9},0,0,0]
[null,"Kansas State University V","","",{"$nulls":9},0,0,0]
[null,"Kansas State University V","","",{"$nulls":9},0,0,0]
[{"$nulls":6},{"$f":"SUM(G129:G139)","v":743},830,784,915,793,726,846,5637,35]
[]
[null,{"$f":"Roster_Selection_Men!AB145&\" \" & \"V \"","v":"Kansas Wesleyan University V "},{"$f":"Roster_Selection_Men!AD145","v":"16-163630"},{"$f":"Roster_Selection_Men!AE145","v":"Alec Elskamp"},null,{"$f":"IF(ISERROR([1]Baker_Scores_Men_Var!E142), \" \", IF([1]Baker_Scores_Men_Var!E142 = \"Yes\", \"Yes\", \"  \"))","v":"#ERROR!"},132.0,0.0,180.0,209.0,212.0,162.0,182.0,{"$f":"SUM(G142:M142)","v":1077},{"$f":"COUNTIF(G142:M142, \">0\" )","v":6},{"$f":"IF(O142=0,0,N142/O142)","v":179.5}]
[null,{"$f":"Roster_Selection_Men!AB146&\" \" & \"V \"","v":"Kansas Wesleyan University V "},{"$f":"Roster_Selection_Men!AD146","v":"5900-25891"},{"$f":"Roster_Selection_Men!AE146","v":"Andrew Fonseca"},null,{"$f":"IF(ISERROR([1]Baker_Scores_Men_Var!E143), \" \", IF([1]Baker_Scores_Men_Var!E143 = \"Yes\", \"Yes\", \"  \"))","v":"#ERROR!"},165.0,157.0,0.0,0.0,0.0,0.0,0.0,322,2,161]
[null,{"$f":"Roster_Selection_Men!AB147&\" \" & \"V \"","v":"Kansas Wesleyan University V "},{"$f":"Roster_Selection_Men!AD147","v":"11-543266"},{"$f":"Roster_Selection_Men!AE147","v":"Andrew Froetschner"},null,{"$f":"IF(ISERROR([1]Baker_Scores_Men_Var!E144), \" \", IF([1]Baker_Scores_Men_Var!E144 = \"Yes\", \"Yes\", \"  \"))","v":"#ERROR!"},158.0,157.0,200.0,164.0,213.0,169.0,137.0,1198,7,171.1428571]
[null,{"$f":"Roster_Selection_Men!AB148&\" \" & \"V \"","v":"Kansas Wesleyan University V "},{"$f":"Roster_Selection_Men!AD148","v":"19-73530"},{"$f":"Roster_Selection_Men!AE148","v":"Bailey Gassman"},null,{"$f":"IF(ISERROR([1]Baker_Scores_Men_Var!E145), \" \", IF([1]Baker_Scores_Men_Var!E145 = \"Yes\", \"Yes\", \"  \"))","v":"#ERROR!"},0.0,0.0,0.0,0.0,162.0,191.0,192.0,545,3,181.6666667]
[null,{"$f":"Roster_Selection_Men!AB149&\" \" & \"V \"","v":"Kansas Wesleyan University V "},{"$f":"Roster_Selection_Men!AD149","v":"21-20530"},{"$f":"Roster_Selection_Men!AE149","v":"Conner Kirby"},null,{"$f":"IF(ISERROR([1]Baker_Scores_Men_Var!E146), \" \", IF([1]Baker_Scores_Men_Var!E146 = \"Yes\", \"Yes\", \"  \"))","v":"#ERROR!"},192.0,187.0,161.0,138.0,0.0,0.0,0.0,678,4,169.5]
[null,{"$f":"Roster_Selection_Men!AB150&\" \" & \"V \"","v":"Kansas Wesleyan University V "},{"$f":"Roster_Selection_Men!AD150","v":"18-94173"},{"$f":"Roster_Selection_Men!AE150","v":"Jackson Penny"},null,{"$f":"IF(ISERROR([1]Baker_Scores_Men_Var!E147), \" \", IF([1]Baker_Scores_Men_Var!E147 = \"Yes\", \"Yes\", \"  \"))","v":"#ERROR!"},193.0,185.0,186.0,214.0,180.0,179.0,230.0,1367,7,195.2857143]
[null,{"$f":"Roster_Selection_Men!AB151&\" \" & \"V \"","v":"Kansas Wesleyan University V "},{"$f":"Roster_Selection_Men!AD151","v":"11-762339"},{"$f":"Roster_Selection_Men!AE151","v":"Landon Jones"},null,{"$f":"IF(ISERROR([1]Baker_Scores_Men_Var!E148), \" \", IF([1]Baker_Scores_Men_Var!E148 = \"Yes\", \"Yes\", \"  \"))","v":"#ERROR!"},0.0,145.0,164.0,203.0,211.0,195.0,189.0,1107,6,184.5]
[null,{"$f":"Roster_Selection_Men!AB152&\" \" & \"V \"","v":" V "},{"$f":"Roster_Selection_Men!AD152","v":""},{"$f":"Roster_Selection_Men!AE152","v":""},null,{"$f":"IF(ISERROR([1]Baker_Scores_Men_Var!E149), \" \", IF([1]Baker_Scores_Men_Var!E149 = \"Yes\", \"Yes\", \"  \"))","v":"#ERROR!"},0.0,0.0,0.0,0.0,0.0,0.0,0.0,0,0,0]
[null,"Kansas Wesleyan University V","","",{"$nulls":9},0,0,0]
[null,"Kansas Wesleyan University V","","",{"$nulls":9},0,0,0]
[null,"Kansas Wesleyan University V","","",{"$nulls":9},0,0,0]
[{"$nulls":6},{"$f":"SUM(G142:G152)","v":840},831,891,928,978,896,930,6294,35]
[]
[null,{"$f":"Roster_Selection_Men!AB158&\" \" & \"V \"","v":"Midland University V "},{"$f":"Roster_Selection_Men!AD158","v":"17-28711"},{"$f":"Roster_Selection_Men!AE158","v":"Addison Johnson"},null,{"$f":"IF(ISERROR([1]Baker_Scores_Men_Var!E155), \" \", IF([1]Baker_Scores_Men_Var!E155 = \"Yes\", \"Yes\", \"  \"))","v":"#ERROR!"},0.0,0.0,0.0,0.0,0.0,0.0,0.0,{"$f":"SUM(G155:M155)","v":0},{"$f":"COUNTIF(G155:M155, \">0\" )","v":0},{"$f":"IF(O155=0,0,N155/O155)","v":0}]
[null,{"$f":"Roster_Selection_Men!AB159&\" \" & \"V \"","v":"Midland University V "},{"$f":"Roster_Selection_Men!AD159","v":"15-183090"},{"$f":"Roster_Selection_Men!AE159","v":"Brandon Ogden"},null,{"$f":"IF(ISERROR([1]Baker_Scores_Men_Var!E156), \" \", IF([1]Baker_Scores_Men_Var!E156 = \"Yes\", \"Yes\", \"  \"))","v":"#ERROR!"},126.0,0.0,0.0,0.0,0.0,221.0,179.0,526,3,175.3333333]
[null,{"$f":"Roster_Selection_Men!AB160&\" \" & \"V \"","v":"Midland University V "},{"$f":"Roster_Selection_Men!AD160","v":"11-622863"},{"$f":"Roster_Selection_Men!AE160","v":"Casey Upton"},null,{"$f":"IF(ISERROR([1]Baker_Scores_Men_Var!E157), \" \", IF([1]Baker_Scores_Men_Var!E157 = \"Yes\", \"Yes\", \"  \"))","v":"#ERROR!"},0.0,171.0,0.0,0.0,0.0,0.0,0.0,171,1,171]
[null,{"$f":"Roster_Selection_Men!AB161&\" \" & \"V \"","v":"Midland University V "},{"$f":"Roster_Selection_Men!AD161","v":"15-195914"},{"$f":"Roster_Selection_Men!AE161","v":"Isiah Bautista"},null,{"$f":"IF(ISERROR([1]Baker_Scores_Men_Var!E158), \" \", IF([1]Baker_Scores_Men_Var!E158 = \"Yes\", \"Yes\", \"  \"))","v":"#ERROR!"},203.0,172.0,197.0,213.0,199.0,166.0,140.0,1290,7,184.2857143]
[null,{"$f":"Roster_Selection_Men!AB162&\" \" & \"V \"","v":"Midland University V "},{"$f":"Roster_Selection_Men!AD162","v":"11-238306"},{"$f":"Roster_Selection_Men!AE162","v":"Jacob Frazier"},null,{"$f":"IF(ISERROR([1]Baker_Scores_Men_Var!E159), \" \", IF([1]Baker_Scores_Men_Var!E159 = \"Yes\", \"Yes\", \"  \"))","v":"#ERROR!"},189.0,166.0,171.0,199.0,208.0,177.0,212.0,1322,7,188.8571429]
[null,{"$f":"Roster_Selection_Men!AB163&\" \" & \"V \"","v":"Midland University V "},{"$f":"Roster_Selection_Men!AD163","v":"7914-8291"},{"$f":"Roster_Selection_Men!AE163","v":"Logan Gear"},null,{"$f":"IF(ISERROR([1]Baker_Scores_Men_Var!E160), \" \", IF([1]Baker_Scores_Men_Var!E160 = \"Yes\", \"Yes\", \"  \"))","v":"#ERROR!"},133.0,0.0,199.0,183.0,212.0,206.0,158.0,1091,6,181.8333333]
[null,{"$f":"Roster_Selection_Men!AB164&\" \" & \"V \"","v":"Midland University V "},{"$f":"Roster_Selection_Men!AD164","v":"11-423986"},{"$f":"Roster_Selection_Men!AE164","v":"Miles Peck"},null,{"$f":"IF(ISERROR([1]Baker_Scores_Men_Var!E161), \" \", IF([1]Baker_Scores_Men_Var!E161 = \"Yes\", \"Yes\", \"  \"))","v":"#ERROR!"},223.0,224.0,195.0,170.0,216.0,208.0,169.0,1405,7,200.7142857]
[null,{"$f":"Roster_Selection_Men!AB165&\" \" & \"V \"","v":"Midland University V "},{"$f":"Roster_Selection_Men!AD165","v":"15-187886"},{"$f":"Roster_Selection_Men!AE165","v":"Tristyn Forde"},null,{"$f":"IF(ISERROR([1]Baker_Scores_Men_Var!E162), \" \", IF([1]Baker_Scores_Men_Var!E162 = \"Yes\", \"Yes\", \"  \"))","v":"#ERROR!"},0.0,206.0,172.0,183.0,177.0,0.0,0.0,738,4,184.5]
[null,"Midland University V","","",{"$nulls":9},0,0,0]
[null,"Midland University V","","",{"$nulls":9},0,0,0]
[null,"Midland University V","","",{"$nulls":9},0,0,0]
[{"$nulls":6},{"$f":"SUM(G155:G165)","v":874},939,934,948,1012,978,858,6543,35]
[]
[null,{"$f":"Roster_Selection_Men!AB169&\" \" & \"V \"","v":"Missouri Valley College V "},{"$f":"Roster_Selection_Men!AD169","v":"7823-316503"},{"$f":"Roster_Selection_Men!AE169","v":"Chris Allison"},null,{"$f":"IF(ISERROR([1]Baker_Scores_Men_Var!E168), \" \", IF([1]Baker_Scores_Men_Var!E168 = \"Yes\", \"Yes\", \"  \"))","v":"#ERROR!"},171.0,121.0,121.0,0.0,0.0,116.0,112.0,{"$f":"SUM(G168:M168)","v":641},{"$f":"COUNTIF(G168:M168, \">0\" )","v":5},{"$f":"IF(O168=0,0,N168/O168)","v":128.2}]
[null,{"$f":"Roster_Selection_Men!AB170&\" \" & \"V \"","v":"Missouri Valley College V "},{"$f":"Roster_Selection_Men!AD170","v":"17-71170"},{"$f":"Roster_Selection_Men!AE170","v":"Garrison Parkhurst"},null,{"$f":"IF(ISERROR([1]Baker_Scores_Men_Var!E169), \" \", IF([1]Baker_Scores_Men_Var!E169 = \"Yes\", \"Yes\", \"  \"))","v":"#ERROR!"},158.0,142.0,177.0,143.0,134.0,132.0,133.0,1019,7,145.5714286]
[null,{"$f":"Roster_Selection_Men!AB171&\" \" & \"V \"","v":"Missouri Valley College V "},{"$f":"Roster_Selection_Men!AD171","v":"7914-9005"},{"$f":"Roster_Selection_Men!AE171","v":"Guy Mapstone"},null,{"$f":"IF(ISERROR([1]Baker_Scores_Men_Var!E170), \" \", IF([1]Baker_Scores_Men_Var!E170 = \"Yes\", \"Yes\", \"  \"))","v":"#ERROR!"},194.0,133.0,154.0,201.0,162.0,132.0,139.0,1115,7,159.2857143]
[null,{"$f":"Roster_Selection_Men!AB172&\" \" & \"V \"","v":"Missouri Valley College V "},{"$f":"Roster_Selection_Men!AD172","v":"16-172292"},{"$f":"Roster_Selection_Men!AE172","v":"Kayla Cowell"},null,{"$f":"IF(ISERROR([1]Baker_Scores_Men_Var!E171), \" \", IF([1]Baker_Scores_Men_Var!E171 = \"Yes\", \"Yes\", \"  \"))","v":"#ERROR!"},0.0,0.0,0.0,0.0,100.0,0.0,0.0,100,1,100]
[null,{"$f":"Roster_Selection_Men!AB173&\" \" & \"V \"","v":"Missouri Valley College V "},{"$f":"Roster_Selection_Men!AD173","v":"20-48431"},{"$f":"Roster_Selection_Men!AE173","v":"Natalie Briggs"},null,{"$f":"IF(ISERROR([1]Baker_Scores_Men_Var!E172), \" \", IF([1]Baker_Scores_Men_Var!E172 = \"Yes\", \"Yes\", \"  \"))","v":"#ERROR!"},0.0,0.0,0.0,156.0,122.0,0.0,0.0,278,2,139]
[null,{"$f":"Roster_Selection_Men!AB174&\" \" & \"V \"","v":"Missouri Valley College V "},{"$f":"Roster_Selection_Men!AD174","v":"11-460695"},{"$f":"Roster_Selection_Men!AE174","v":"Nicholas Miles"},null,{"$f":"IF(ISERROR([1]Baker_Scores_Men_Var!E173), \" \", IF([1]Baker_Scores_Men_Var!E173 = \"Yes\", \"Yes\", \"  \"))","v":"#ERROR!"},138.0,172.0,143.0,192.0,178.0,151.0,184.0,1158,7,165.4285714]
[null,{"$f":"Roster_Selection_Men!AB175&\" \" & \"V \"","v":"Missouri Valley College V "},{"$f":"Roster_Selection_Men!AD175","v":"11-540859"},{"$f":"Roster_Selection_Men!AE175","v":"Wyatt Grunwald"},null,{"$f":"IF(ISERROR([1]Baker_Scores_Men_Var!E174), \" \", IF([1]Baker_Scores_Men_Var!E174 = \"Yes\", \"Yes\", \"  \"))","v":"#ERROR!"},172.0,176.0,178.0,150.0,0.0,179.0,182.0,1037,6,172.8333333]
[null,{"$f":"Roster_Selection_Men!AB176&\" \" & \"V \"","v":" V "},{"$f":"Roster_Selection_Men!AD176","v":""},{"$f":"Roster_Selection_Men!AE176","v":""},null,{"$f":"IF(ISERROR([1]Baker_Scores_Men_Var!E175), \" \", IF([1]Baker_Scores_Men_Var!E175 = \"Yes\", \"Yes\", \"  \"))","v":"#ERROR!"},0.0,0.0,0.0,0.0,0.0,0.0,0.0,0,0,0]
[null,"Missouri Valley College V","","",{"$nulls":9},0,0,0]
[null,"Missouri Valley College V","","",{"$nulls":9},0,0,0]
[null,"Missouri Valley College V","","",{"$nulls":9},0,0,0]
[{"$nulls":6},{"$f":"SUM(G168:G178)","v":833},744,773,842,696,710,750,5348,35]
[]
[null,{"$f":"Roster_Selection_Men!AB180&\" \" & \"V \"","v":"Morningside University V "},{"$f":"Roster_Selection_Men!AD180","v":"20-30131"},{"$f":"Roster_Selection_Men!AE180","v":"Brenden Lewis"},null,{"$f":"IF(ISERROR([1]Baker_Scores_Men_Var!E181), \" \", IF([1]Baker_Scores_Men_Var!E181 = \"Yes\", \"Yes\", \"  \"))","v":"#ERROR!"},155.0,192.0,157.0,119.0,152.0,112.0,119.0,{"$f":"SUM(G181:M181)","v":1006},{"$f":"COUNTIF(G181:M181, \">0\" )","v":7},{"$f":"IF(O181=0,0,N181/O181)","v":143.7142857}]
[null,{"$f":"Roster_Selection_Men!AB181&\" \" & \"V \"","v":"Morningside University V "},{"$f":"Roster_Selection_Men!AD181","v":"11-666678"},{"$f":"Roster_Selection_Men!AE181","v":"Chace Mohrhauser"},null,{"$f":"IF(ISERROR([1]Baker_Scores_Men_Var!E182), \" \", IF([1]Baker_Scores_Men_Var!E182 = \"Yes\", \"Yes\", \"  \"))","v":"#ERROR!"},140.0,159.0,132.0,171.0,157.0,214.0,162.0,1135,7,162.1428571]
[null,{"$f":"Roster_Selection_Men!AB182&\" \" & \"V \"","v":"Morningside University V "},{"$f":"Roster_Selection_Men!AD182","v":"18-57615"},{"$f":"Roster_Selection_Men!AE182","v":"Nick Philthilath"},null,{"$f":"IF(ISERROR([1]Baker_Scores_Men_Var!E183), \" \", IF([1]Baker_Scores_Men_Var!E183 = \"Yes\", \"Yes\", \"  \"))","v":"#ERROR!"},166.0,221.0,168.0,140.0,124.0,177.0,164.0,1160,7,165.7142857]
[null,{"$f":"Roster_Selection_Men!AB183&\" \" & \"V \"","v":"Morningside University V "},{"$f":"Roster_Selection_Men!AD183","v":"11-34850"},{"$f":"Roster_Selection_Men!AE183","v":"Seth Nelson"},null,{"$f":"IF(ISERROR([1]Baker_Scores_Men_Var!E184), \" \", IF([1]Baker_Scores_Men_Var!E184 = \"Yes\", \"Yes\", \"  \"))","v":"#ERROR!"},193.0,184.0,166.0,154.0,114.0,125.0,160.0,1096,7,156.5714286]
[null,{"$f":"Roster_Selection_Men!AB184&\" \" & \"V \"","v":"Morningside University V "},{"$f":"Roster_Selection_Men!AD184","v":"20-38570"},{"$f":"Roster_Selection_Men!AE184","v":"Zachary Stoltzfus"},null,{"$f":"IF(ISERROR([1]Baker_Scores_Men_Var!E185), \" \", IF([1]Baker_Scores_Men_Var!E185 = \"Yes\", \"Yes\", \"  \"))","v":"#ERROR!"},144.0,173.0,175.0,158.0,178.0,173.0,122.0,1123,7,160.4285714]
[null,{"$f":"Roster_Selection_Men!AB185&\" \" & \"V \"","v":" V "},{"$f":"Roster_Selection_Men!AD185","v":""},{"$f":"Roster_Selection_Men!AE185","v":""},null,{"$f":"IF(ISERROR([1]Baker_Scores_Men_Var!E186), \" \", IF([1]Baker_Scores_Men_Var!E186 = \"Yes\", \"Yes\", \"  \"))","v":"#ERROR!"},0.0,0.0,0.0,0.0,0.0,0.0,0.0,0,0,0]
[null,{"$f":"Roster_Selection_Men!AB186&\" \" & \"V \"","v":" V "},{"$f":"Roster_Selection_Men!AD186","v":""},{"$f":"Roster_Selection_Men!AE186","v":""},null,{"$f":"IF(ISERROR([1]Baker_Scores_Men_Var!E187), \" \", IF([1]Baker_Scores_Men_Var!E187 = \"Yes\", \"Yes\", \"  \"))","v":"#ERROR!"},0.0,0.0,0.0,0.0,0.0,0.0,0.0,0,0,0]
[null,{"$f":"Roster_Selection_Men!AB187&\" \" & \"V \"","v":" V "},{"$f":"Roster_Selection_Men!AD187","v":""},{"$f":"Roster_Selection_Men!AE187","v":""},null,{"$f":"IF(ISERROR([1]Baker_Scores_Men_Var!E188), \" \", IF([1]Baker_Scores_Men_Var!E188 = \"Yes\", \"Yes\", \"  \"))","v":"#ERROR!"},0.0,0.0,0.0,0.0,0.0,0.0,0.0,0,0,0]
[null,"Morningside University V","","",{"$nulls":9},0,0,0]
[null,"Morningside University V","","",{"$nulls":9},0,0,0]
[null,"Morningside University V","","",{"$nulls":9},0,0,0]
[{"$nulls":6},{"$f":"SUM(G181:G191)","v":798},929,798,742,725,801,727,5520,35]
[]
[null,{"$f":"Roster_Selection_Men!AB190&\" \" & \"V \"","v":"Ottawa University (KS) V "},{"$f":"Roster_Selection_Men!AD190","v":"8608-3907"},{"$f":"Roster_Selection_Men!AE190","v":"Jerry Jennings"},null,{"$f":"IF(ISERROR([1]Baker_Scores_Men_Var!E194), \" \", IF([1]Baker_Scores_Men_Var!E194 = \"Yes\", \"Yes\", \"  \"))","v":"#ERROR!"},248.0,204.0,170.0,167.0,213.0,205.0,180.0,{"$f":"SUM(G194:M194)","v":1387},{"$f":"COUNTIF(G194:M194, \">0\" )","v":7},{"$f":"IF(O194=0,0,N194/O194)","v":198.1428571}]
[null,{"$f":"Roster_Selection_Men!AB191&\" \" & \"V \"","v":"Ottawa University (KS) V "},{"$f":"Roster_Selection_Men!AD191","v":"18-65299"},{"$f":"Roster_Selection_Men!AE191","v":"Joseph Enderle"},null,{"$f":"IF(ISERROR([1]Baker_Scores_Men_Var!E195), \" \", IF([1]Baker_Scores_Men_Var!E195 = \"Yes\", \"Yes\", \"  \"))","v":"#ERROR!"},186.0,156.0,149.0,0.0,169.0,0.0,157.0,817,5,163.4]
[null,{"$f":"Roster_Selection_Men!AB192&\" \" & \"V \"","v":"Ottawa University (KS) V "},{"$f":"Roster_Selection_Men!AD192","v":"16-124170"},{"$f":"Roster_Selection_Men!AE192","v":"Justin Weddige"},null,{"$f":"IF(ISERROR([1]Baker_Scores_Men_Var!E196), \" \", IF([1]Baker_Scores_Men_Var!E196 = \"Yes\", \"Yes\", \"  \"))","v":"#ERROR!"},172.0,231.0,171.0,137.0,247.0,213.0,178.0,1349,7,192.7142857]
[null,{"$f":"Roster_Selection_Men!AB193&\" \" & \"V \"","v":"Ottawa University (KS) V "},{"$f":"Roster_Selection_Men!AD193","v":"18-75437"},{"$f":"Roster_Selection_Men!AE193","v":"Matthew Berg"},null,{"$f":"IF(ISERROR([1]Baker_Scores_Men_Var!E197), \" \", IF([1]Baker_Scores_Men_Var!E197 = \"Yes\", \"Yes\", \"  \"))","v":"#ERROR!"},0.0,0.0,132.0,208.0,246.0,190.0,181.0,957,5,191.4]
[null,{"$f":"Roster_Selection_Men!AB194&\" \" & \"V \"","v":"Ottawa University (KS) V "},{"$f":"Roster_Selection_Men!AD194","v":"11-661049"},{"$f":"Roster_Selection_Men!AE194","v":"Matthew Lennox"},null,{"$f":"IF(ISERROR([1]Baker_Scores_Men_Var!E198), \" \", IF([1]Baker_Scores_Men_Var!E198 = \"Yes\", \"Yes\", \"  \"))","v":"#ERROR!"},231.0,148.0,0.0,168.0,182.0,218.0,269.0,1216,6,202.6666667]
[null,{"$f":"Roster_Selection_Men!AB195&\" \" & \"V \"","v":"Ottawa University (KS) V "},{"$f":"Roster_Selection_Men!AD195","v":"5900-26017"},{"$f":"Roster_Selection_Men!AE195","v":"Spencer Giffin"},null,{"$f":"IF(ISERROR([1]Baker_Scores_Men_Var!E199), \" \", IF([1]Baker_Scores_Men_Var!E199 = \"Yes\", \"Yes\", \"  \"))","v":"#ERROR!"},176.0,185.0,137.0,147.0,0.0,172.0,0.0,817,5,163.4]
[null,{"$f":"Roster_Selection_Men!AB196&\" \" & \"V \"","v":" V "},{"$f":"Roster_Selection_Men!AD196","v":""},{"$f":"Roster_Selection_Men!AE196","v":""},null,{"$f":"IF(ISERROR([1]Baker_Scores_Men_Var!E200), \" \", IF([1]Baker_Scores_Men_Var!E200 = \"Yes\", \"Yes\", \"  \"))","v":"#ERROR!"},0.0,0.0,0.0,0.0,0.0,0.0,0.0,0,0,0]
[null,{"$f":"Roster_Selection_Men!AB197&\" \" & \"V \"","v":" V "},{"$f":"Roster_Selection_Men!AD197","v":""},{"$f":"Roster_Selection_Men!AE197","v":""},null,{"$f":"IF(ISERROR([1]Baker_Scores_Men_Var!E201), \" \", IF([1]Baker_Scores_Men_Var!E201 = \"Yes\", \"Yes\", \"  \"))","v":"#ERROR!"},0.0,0.0,0.0,0.0,0.0,0.0,0.0,0,0,0]
[null,"Ottawa University (KS) V","","",{"$nulls":9},0,0,0]
[null,"Ottawa University (KS) V","","",{"$nulls":9},0,0,0]
[null,"Ottawa University (KS) V","","",{"$nulls":9},0,0,0]
[{"$nulls":6},{"$f":"SUM(G194:G204)","v":1013},924,759,827,1057,998,965,6543,35]
[]
[null,{"$f":"Roster_Selection_Men!AB208&\" \" & \"V \"","v":"Peru State College V "},{"$f":"Roster_Selection_Men!AD208","v":"11-276735"},{"$f":"Roster_Selection_Men!AE208","v":"Creyton Nisly"},null,{"$f":"IF(ISERROR([1]Baker_Scores_Men_Var!E207), \" \", IF([1]Baker_Scores_Men_Var!E207 = \"Yes\", \"Yes\", \"  \"))","v":"#ERROR!"},154.0,170.0,194.0,169.0,196.0,191.0,177.0,{"$f":"SUM(G207:M207)","v":1251},{"$f":"COUNTIF(G207:M207, \">0\" )","v":7},{"$f":"IF(O207=0,0,N207/O207)","v":178.7142857}]
[null,{"$f":"Roster_Selection_Men!AB209&\" \" & \"V \"","v":"Peru State College V "},{"$f":"Roster_Selection_Men!AD209","v":"7914-17029"},{"$f":"Roster_Selection_Men!AE209","v":"Dane Conner"},null,{"$f":"IF(ISERROR([1]Baker_Scores_Men_Var!E208), \" \", IF([1]Baker_Scores_Men_Var!E208 = \"Yes\", \"Yes\", \"  \"))","v":"#ERROR!"},151.0,237.0,152.0,0.0,0.0,0.0,0.0,540,3,180]
[null,{"$f":"Roster_Selection_Men!AB210&\" \" & \"V \"","v":"Peru State College V "},{"$f":"Roster_Selection_Men!AD210","v":"23-4482"},{"$f":"Roster_Selection_Men!AE210","v":"Ethan Haas-Oltrogge"},null,{"$f":"IF(ISERROR([1]Baker_Scores_Men_Var!E209), \" \", IF([1]Baker_Scores_Men_Var!E209 = \"Yes\", \"Yes\", \"  \"))","v":"#ERROR!"},0.0,0.0,0.0,0.0,0.0,0.0,0.0,0,0,0]
[null,{"$f":"Roster_Selection_Men!AB211&\" \" & \"V \"","v":"Peru State College V "},{"$f":"Roster_Selection_Men!AD211","v":"11-377455"},{"$f":"Roster_Selection_Men!AE211","v":"Isaac Skalak"},null,{"$f":"IF(ISERROR([1]Baker_Scores_Men_Var!E210), \" \", IF([1]Baker_Scores_Men_Var!E210 = \"Yes\", \"Yes\", \"  \"))","v":"#ERROR!"},162.0,200.0,169.0,210.0,174.0,181.0,146.0,1242,7,177.4285714]
[null,{"$f":"Roster_Selection_Men!AB212&\" \" & \"V \"","v":"Peru State College V "},{"$f":"Roster_Selection_Men!AD212","v":"6436-419"},{"$f":"Roster_Selection_Men!AE212","v":"Jared Dramse"},null,{"$f":"IF(ISERROR([1]Baker_Scores_Men_Var!E211), \" \", IF([1]Baker_Scores_Men_Var!E211 = \"Yes\", \"Yes\", \"  \"))","v":"#ERROR!"},176.0,210.0,193.0,149.0,0.0,0.0,162.0,890,5,178]
[null,{"$f":"Roster_Selection_Men!AB213&\" \" & \"V \"","v":"Peru State College V "},{"$f":"Roster_Selection_Men!AD213","v":"20-53888"},{"$f":"Roster_Selection_Men!AE213","v":"Jett Tolentino"},null,{"$f":"IF(ISERROR([1]Baker_Scores_Men_Var!E212), \" \", IF([1]Baker_Scores_Men_Var!E212 = \"Yes\", \"Yes\", \"  \"))","v":"#ERROR!"},0.0,0.0,0.0,206.0,152.0,160.0,179.0,697,4,174.25]
[null,{"$f":"Roster_Selection_Men!AB214&\" \" & \"V \"","v":"Peru State College V "},{"$f":"Roster_Selection_Men!AD214","v":"8232-944"},{"$f":"Roster_Selection_Men!AE214","v":"Stephen Acton"},null,{"$f":"IF(ISERROR([1]Baker_Scores_Men_Var!E213), \" \", IF([1]Baker_Scores_Men_Var!E213 = \"Yes\", \"Yes\", \"  \"))","v":"#ERROR!"},207.0,221.0,140.0,175.0,190.0,198.0,138.0,1269,7,181.2857143]
[null,{"$f":"Roster_Selection_Men!AB215&\" \" & \"V \"","v":"Peru State College V "},{"$f":"Roster_Selection_Men!AD215","v":"11-713121"},{"$f":"Roster_Selection_Men!AE215","v":"Wyatt Woodward"},null,{"$f":"IF(ISERROR([1]Baker_Scores_Men_Var!E214), \" \", IF([1]Baker_Scores_Men_Var!E214 = \"Yes\", \"Yes\", \"  \"))","v":"#ERROR!"},0.0,0.0,0.0,0.0,156.0,156.0,0.0,312,2,156]
[null,"Peru State College V","","",{"$nulls":9},0,0,0]
[null,"Peru State College V","","",{"$nulls":9},0,0,0]
[null,"Peru State College V","","",{"$nulls":9},0,0,0]
[{"$nulls":6},{"$f":"SUM(G207:G217)","v":850},1038,848,909,868,886,802,6201,35]
[]
[null,{"$f":"Roster_Selection_Men!AB217&\" \" & \"V \"","v":"University Of Saint Mary V "},{"$f":"Roster_Selection_Men!AD217","v":"18-48037"},{"$f":"Roster_Selection_Men!AE217","v":"Dantoine Ballard"},null,{"$f":"IF(ISERROR([1]Baker_Scores_Men_Var!E220), \" \", IF([1]Baker_Scores_Men_Var!E220 = \"Yes\", \"Yes\", \"  \"))","v":"#ERROR!"},143.0,158.0,212.0,173.0,223.0,182.0,181.0,{"$f":"SUM(G220:M220)","v":1272},{"$f":"COUNTIF(G220:M220, \">0\" )","v":7},{"$f":"IF(O220=0,0,N220/O220)","v":181.7142857}]
[null,{"$f":"Roster_Selection_Men!AB218&\" \" & \"V \"","v":"University Of Saint Mary V "},{"$f":"Roster_Selection_Men!AD218","v":"22-1902"},{"$f":"Roster_Selection_Men!AE218","v":"Emilio Gutierrez"},null,{"$f":"IF(ISERROR([1]Baker_Scores_Men_Var!E221), \" \", IF([1]Baker_Scores_Men_Var!E221 = \"Yes\", \"Yes\", \"  \"))","v":"#ERROR!"},0.0,156.0,204.0,168.0,123.0,170.0,107.0,928,6,154.6666667]
[null,{"$f":"Roster_Selection_Men!AB219&\" \" & \"V \"","v":"University Of Saint Mary V "},{"$f":"Roster_Selection_Men!AD219","v":"11-207956"},{"$f":"Roster_Selection_Men!AE219","v":"Jose Limon"},null,{"$f":"IF(ISERROR([1]Baker_Scores_Men_Var!E222), \" \", IF([1]Baker_Scores_Men_Var!E222 = \"Yes\", \"Yes\", \"  \"))","v":"#ERROR!"},132.0,177.0,177.0,165.0,138.0,119.0,126.0,1034,7,147.7142857]
[null,{"$f":"Roster_Selection_Men!AB220&\" \" & \"V \"","v":"University Of Saint Mary V "},{"$f":"Roster_Selection_Men!AD220","v":"18-48027"},{"$f":"Roster_Selection_Men!AE220","v":"Joshua Kacich"},null,{"$f":"IF(ISERROR([1]Baker_Scores_Men_Var!E223), \" \", IF([1]Baker_Scores_Men_Var!E223 = \"Yes\", \"Yes\", \"  \"))","v":"#ERROR!"},194.0,166.0,137.0,152.0,173.0,137.0,220.0,1179,7,168.4285714]
[null,{"$f":"Roster_Selection_Men!AB221&\" \" & \"V \"","v":"University Of Saint Mary V "},{"$f":"Roster_Selection_Men!AD221","v":"7914-11225"},{"$f":"Roster_Selection_Men!AE221","v":"Kalym Henry"},null,{"$f":"IF(ISERROR([1]Baker_Scores_Men_Var!E224), \" \", IF([1]Baker_Scores_Men_Var!E224 = \"Yes\", \"Yes\", \"  \"))","v":"#ERROR!"},132.0,0.0,0.0,0.0,0.0,0.0,0.0,132,1,132]
[null,{"$f":"Roster_Selection_Men!AB222&\" \" & \"V \"","v":"University Of Saint Mary V "},{"$f":"Roster_Selection_Men!AD222","v":"22-84259"},{"$f":"Roster_Selection_Men!AE222","v":"Zaylen Dear"},null,{"$f":"IF(ISERROR([1]Baker_Scores_Men_Var!E225), \" \", IF([1]Baker_Scores_Men_Var!E225 = \"Yes\", \"Yes\", \"  \"))","v":"#ERROR!"},163.0,215.0,153.0,245.0,186.0,204.0,140.0,1306,7,186.5714286]
[null,{"$f":"Roster_Selection_Men!AB223&\" \" & \"V \"","v":" V "},{"$f":"Roster_Selection_Men!AD223","v":""},{"$f":"Roster_Selection_Men!AE223","v":""},null,{"$f":"IF(ISERROR([1]Baker_Scores_Men_Var!E226), \" \", IF([1]Baker_Scores_Men_Var!E226 = \"Yes\", \"Yes\", \"  \"))","v":"#ERROR!"},0.0,0.0,0.0,0.0,0.0,0.0,0.0,0,0,0]
[null,{"$f":"Roster_Selection_Men!AB224&\" \" & \"V \"","v":" V "},{"$f":"Roster_Selection_Men!AD224","v":""},{"$f":"Roster_Selection_Men!AE224","v":""},null,{"$f":"IF(ISERROR([1]Baker_Scores_Men_Var!E227), \" \", IF([1]Baker_Scores_Men_Var!E227 = \"Yes\", \"Yes\", \"  \"))","v":"#ERROR!"},0.0,0.0,0.0,0.0,0.0,0.0,0.0,0,0,0]
[null,"University Of Saint Mary V","","",{"$nulls":9},0,0,0]
[null,"University Of Saint Mary V","","",{"$nulls":9},0,0,0]
[null,"University Of Saint Mary V","","",{"$nulls":9},0,0,0]
[{"$nulls":6},{"$f":"SUM(G220:G230)","v":764},872,883,903,843,812,774,5851,35]
[]
[null,{"$f":"Roster_Selection_Men!AB227&\" \" & \"V \"","v":"William Penn University V "},{"$f":"Roster_Selection_Men!AD227","v":"11-575136"},{"$f":"Roster_Selection_Men!AE227","v":"Aidan Piet"},null,{"$f":"IF(ISERROR([1]Baker_Scores_Men_Var!E233), \" \", IF([1]Baker_Scores_Men_Var!E233 = \"Yes\", \"Yes\", \"  \"))","v":"#ERROR!"},172.0,162.0,0.0,0.0,131.0,0.0,0.0,{"$f":"SUM(G233:M233)","v":465},{"$f":"COUNTIF(G233:M233, \">0\" )","v":3},{"$f":"IF(O233=0,0,N233/O233)","v":155}]
[null,{"$f":"Roster_Selection_Men!AB228&\" \" & \"V \"","v":"William Penn University V "},{"$f":"Roster_Selection_Men!AD228","v":"8223-85672"},{"$f":"Roster_Selection_Men!AE228","v":"Bryce Keykal"},null,{"$f":"IF(ISERROR([1]Baker_Scores_Men_Var!E234), \" \", IF([1]Baker_Scores_Men_Var!E234 = \"Yes\", \"Yes\", \"  \"))","v":"#ERROR!"},210.0,202.0,193.0,186.0,178.0,184.0,213.0,1366,7,195.1428571]
[null,{"$f":"Roster_Selection_Men!AB229&\" \" & \"V \"","v":"William Penn University V "},{"$f":"Roster_Selection_Men!AD229","v":"15-28200"},{"$f":"Roster_Selection_Men!AE229","v":"Carter Boley"},null,{"$f":"IF(ISERROR([1]Baker_Scores_Men_Var!E235), \" \", IF([1]Baker_Scores_Men_Var!E235 = \"Yes\", \"Yes\", \"  \"))","v":"#ERROR!"},172.0,193.0,179.0,171.0,150.0,0.0,0.0,865,5,173]
[null,{"$f":"Roster_Selection_Men!AB230&\" \" & \"V \"","v":"William Penn University V "},{"$f":"Roster_Selection_Men!AD230","v":"22-20754"},{"$f":"Roster_Selection_Men!AE230","v":"Conor Fetherston"},null,{"$f":"IF(ISERROR([1]Baker_Scores_Men_Var!E236), \" \", IF([1]Baker_Scores_Men_Var!E236 = \"Yes\", \"Yes\", \"  \"))","v":"#ERROR!"},0.0,0.0,214.0,188.0,145.0,216.0,149.0,912,5,182.4]
[null,{"$f":"Roster_Selection_Men!AB231&\" \" & \"V \"","v":"William Penn University V "},{"$f":"Roster_Selection_Men!AD231","v":"11-102941"},{"$f":"Roster_Selection_Men!AE231","v":"Jared Smith"},null,{"$f":"IF(ISERROR([1]Baker_Scores_Men_Var!E237), \" \", IF([1]Baker_Scores_Men_Var!E237 = \"Yes\", \"Yes\", \"  \"))","v":"#ERROR!"},0.0,180.0,255.0,151.0,0.0,175.0,145.0,906,5,181.2]
[null,{"$f":"Roster_Selection_Men!AB232&\" \" & \"V \"","v":"William Penn University V "},{"$f":"Roster_Selection_Men!AD232","v":"5853-303"},{"$f":"Roster_Selection_Men!AE232","v":"Kody Sapp"},null,{"$f":"IF(ISERROR([1]Baker_Scores_Men_Var!E238), \" \", IF([1]Baker_Scores_Men_Var!E238 = \"Yes\", \"Yes\", \"  \"))","v":"#ERROR!"},157.0,0.0,0.0,0.0,0.0,192.0,140.0,489,3,163]
[null,{"$f":"Roster_Selection_Men!AB233&\" \" & \"V \"","v":"William Penn University V "},{"$f":"Roster_Selection_Men!AD233","v":"5401-79"},{"$f":"Roster_Selection_Men!AE233","v":"Marcus Yamada"},null,{"$f":"IF(ISERROR([1]Baker_Scores_Men_Var!E239), \" \", IF([1]Baker_Scores_Men_Var!E239 = \"Yes\", \"Yes\", \"  \"))","v":"#ERROR!"},0.0,0.0,0.0,0.0,201.0,163.0,152.0,516,3,172]
[null,{"$f":"Roster_Selection_Men!AB234&\" \" & \"V \"","v":"William Penn University V "},{"$f":"Roster_Selection_Men!AD234","v":"15-76525"},{"$f":"Roster_Selection_Men!AE234","v":"Noah Kidwell"},null,{"$f":"IF(ISERROR([1]Baker_Scores_Men_Var!E240), \" \", IF([1]Baker_Scores_Men_Var!E240 = \"Yes\", \"Yes\", \"  \"))","v":"#ERROR!"},185.0,182.0,170.0,162.0,0.0,0.0,0.0,699,4,174.75]
[null,"William Penn University V","","",{"$nulls":9},0,0,0]
[null,"William Penn University V","","",{"$nulls":9},0,0,0]
[null,"William Penn University V","","",{"$nulls":9},0,0,0]
[{"$nulls":6},{"$f":"SUM(G233:G243)","v":896},919,1011,858,805,930,799,6218,35]
[]
[]
[]
[]
[{"$nulls":4},"Team Totals",null,{"$f":"SUM(G23,G36,G49,G62,G75,G88,G101,G114,G127,G140,G153,G166,G179,G192,G205,G218,G231,G244)","v":15503},15764,15401,15830,15451,15390,14698,108037,630,{"$nulls":36},"*"]
[{"$nulls":4},"Team Game Average",null,{"$f":"SUM(G249/(18))","v":861.2777778},875.7777778,855.6111111,879.4444444,858.3888889,855,816.5555556]

{"sheet":"Individual_Scores_Men_JV","index":3,"n_rows":120,"n_cols":54,"rows_kept":120,"cut":false,"hidden":false,"merged":[[0,0,0,13]]}
["Individual Scores and Team Games"]
[{"$nulls":51},"Yes"]
[null,"NAIA Weekend-West-Sunday",{"$nulls":49},"No"]
[null,"Tier 2","NAIA",{"$nulls":12},"2443","7","0","5","","",null,null,"7",{"$nulls":29},"IBCYouth"]
[null,"<<Dates>>","<<Event#>>","02/04/2024 - 02/04/2024"]
[null,"<<Location>>",null,"Lawrence, KS"]
[]
[null,"Men's Division",null,"Cert No:","04110"]
[null,"Division"]
[{"$nulls":6},"Game","Game","Game","Game","Game","Game","Game",null,"Games","Tourn."]
[null,"Team","Bowler ID","Bowler","Bowled","Bowled Baker",1.0,2.0,3.0,4.0,5.0,6.0,7.0,"Total","Bowled","Ave."]
[null,{"$f":"Roster_Selection_Men!AF11&\" \" & \"JV1 \"","v":"Avila University JV1 "},{"$f":"Roster_Selection_Men!AH11","v":"11-393421"},{"$f":"Roster_Selection_Men!AI11","v":"Brady Darr"},null,{"$f":"IF(ISERROR([2]Baker_Scores_Men_JV!E12), \" \", IF([2]Baker_Scores_Men_JV!E12 = \"Yes\", \"Yes\", \"  \"))","v":"#ERROR!"},149.0,0.0,99.0,0.0,0.0,118.0,0.0,{"$f":"SUM(G12:M12)","v":366},{"$f":"COUNTIF(G12:M12, \">0\" )","v":3},{"$f":"IF(O12=0,0,N12/O12)","v":122}]
[null,{"$f":"Roster_Selection_Men!AF12&\" \" & \"JV1 \"","v":"Avila University JV1 "},{"$f":"Roster_Selection_Men!AH12","v":"16-105571"},{"$f":"Roster_Selection_Men!AI12","v":"Calvin Mcmiller"},null,{"$f":"IF(ISERROR([2]Baker_Scores_Men_JV!E13), \" \", IF([2]Baker_Scores_Men_JV!E13 = \"Yes\", \"Yes\", \"  \"))","v":"#ERROR!"},181.0,156.0,137.0,189.0,152.0,161.0,125.0,1101,7,157.2857143]
[null,{"$f":"Roster_Selection_Men!AF13&\" \" & \"JV1 \"","v":"Avila University JV1 "},{"$f":"Roster_Selection_Men!AH13","v":"15-3085"},{"$f":"Roster_Selection_Men!AI13","v":"Colton Cline"},null,{"$f":"IF(ISERROR([2]Baker_Scores_Men_JV!E14), \" \", IF([2]Baker_Scores_Men_JV!E14 = \"Yes\", \"Yes\", \"  \"))","v":"#ERROR!"},158.0,148.0,212.0,178.0,135.0,155.0,124.0,1110,7,158.5714286]
[null,{"$f":"Roster_Selection_Men!AF14&\" \" & \"JV1 \"","v":"Avila University JV1 "},{"$f":"Roster_Selection_Men!AH14","v":"15-43120"},{"$f":"Roster_Selection_Men!AI14","v":"Gage Warren"},null,{"$f":"IF(ISERROR([2]Baker_Scores_Men_JV!E15), \" \", IF([2]Baker_Scores_Men_JV!E15 = \"Yes\", \"Yes\", \"  \"))","v":"#ERROR!"},234.0,213.0,132.0,178.0,181.0,147.0,128.0,1213,7,173.2857143]
[null,{"$f":"Roster_Selection_Men!AF15&\" \" & \"JV1 \"","v":"Avila University JV1 "},{"$f":"Roster_Selection_Men!AH15","v":"17-38986"},{"$f":"Roster_Selection_Men!AI15","v":"Garrett Messenger"},null,{"$f":"IF(ISERROR([2]Baker_Scores_Men_JV!E16), \" \", IF([2]Baker_Scores_Men_JV!E16 = \"Yes\", \"Yes\", \"  \"))","v":"#ERROR!"},0.0,0.0,0.0,0.0,0.0,0.0,0.0,0,0,0]
[null,{"$f":"Roster_Selection_Men!AF16&\" \" & \"JV1 \"","v":"Avila University JV1 "},{"$f":"Roster_Selection_Men!AH16","v":"16-64964"},{"$f":"Roster_Selection_Men!AI16","v":"Joshua Oldham"},null,{"$f":"IF(ISERROR([2]Baker_Scores_Men_JV!E17), \" \", IF([2]Baker_Scores_Men_JV!E17 = \"Yes\", \"Yes\", \"  \"))","v":"#ERROR!"},0.0,137.0,0.0,197.0,180.0,162.0,177.0,853,5,170.6]
[null,{"$f":"Roster_Selection_Men!AF17&\" \" & \"JV1 \"","v":"Avila University JV1 "},{"$f":"Roster_Selection_Men!AH17","v":"11-429373"},{"$f":"Roster_Selection_Men!AI17","v":"Wesley Smith"},null,{"$f":"IF(ISERROR([2]Baker_Scores_Men_JV!E18), \" \", IF([2]Baker_Scores_Men_JV!E18 = \"Yes\", \"Yes\", \"  \"))","v":"#ERROR!"},137.0,157.0,143.0,169.0,98.0,0.0,133.0,837,6,139.5]
[null,{"$f":"Roster_Selection_Men!AF18&\" \" & \"JV1 \"","v":" JV1 "},{"$f":"Roster_Selection_Men!AH18","v":""},{"$f":"Roster_Selection_Men!AI18","v":""},null,{"$f":"IF(ISERROR([2]Baker_Scores_Men_JV!E19), \" \", IF([2]Baker_Scores_Men_JV!E19 = \"Yes\", \"Yes\", \"  \"))","v":"#ERROR!"},0.0,0.0,0.0,0.0,0.0,0.0,0.0,0,0,0]
[null,"Avila University JV1","","",{"$nulls":9},0,0,0]
[null,"Avila University JV1","","",{"$nulls":9},0,0,0]
[null,"Avila University JV1","","",{"$nulls":9},0,0,0]
[{"$nulls":6},{"$f":"SUM(G12:G22)","v":859},811,723,911,746,743,687,5480,35]
[]
[null,{"$f":"Roster_Selection_Men!AF27&\" \" & \"JV1 \"","v":"Baker University JV1 "},{"$f":"Roster_Selection_Men!AH27","v":"17-4319"},{"$f":"Roster_Selection_Men!AI27","v":"Alex Wright"},null,{"$f":"IF(ISERROR([2]Baker_Scores_Men_JV!E25), \" \", IF([2]Baker_Scores_Men_JV!E25 = \"Yes\", \"Yes\", \"  \"))","v":"#ERROR!"},123.0,0.0,152.0,161.0,170.0,146.0,214.0,{"$f":"SUM(G25:M25)","v":966},{"$f":"COUNTIF(G25:M25, \">0\" )","v":6},{"$f":"IF(O25=0,0,N25/O25)","v":161}]
[null,{"$f":"Roster_Selection_Men!AF28&\" \" & \"JV1 \"","v":"Baker University JV1 "},{"$f":"Roster_Selection_Men!AH28","v":"19-83494"},{"$f":"Roster_Selection_Men!AI28","v":"Deken Penny"},null,{"$f":"IF(ISERROR([2]Baker_Scores_Men_JV!E26), \" \", IF([2]Baker_Scores_Men_JV!E26 = \"Yes\", \"Yes\", \"  \"))","v":"#ERROR!"},0.0,135.0,0.0,127.0,0.0,138.0,0.0,400,3,133.3333333]
[null,{"$f":"Roster_Selection_Men!AF29&\" \" & \"JV1 \"","v":"Baker University JV1 "},{"$f":"Roster_Selection_Men!AH29","v":"11-758428"},{"$f":"Roster_Selection_Men!AI29","v":"Justin Brookens"},null,{"$f":"IF(ISERROR([2]Baker_Scores_Men_JV!E27), \" \", IF([2]Baker_Scores_Men_JV!E27 = \"Yes\", \"Yes\", \"  \"))","v":"#ERROR!"},139.0,210.0,146.0,157.0,150.0,155.0,137.0,1094,7,156.2857143]
[null,{"$f":"Roster_Selection_Men!AF30&\" \" & \"JV1 \"","v":"Baker University JV1 "},{"$f":"Roster_Selection_Men!AH30","v":"18-98789"},{"$f":"Roster_Selection_Men!AI30","v":"Landon Scott"},null,{"$f":"IF(ISERROR([2]Baker_Scores_Men_JV!E28), \" \", IF([2]Baker_Scores_Men_JV!E28 = \"Yes\", \"Yes\", \"  \"))","v":"#ERROR!"},133.0,153.0,143.0,0.0,188.0,156.0,144.0,917,6,152.8333333]
[null,{"$f":"Roster_Selection_Men!AF31&\" \" & \"JV1 \"","v":"Baker University JV1 "},{"$f":"Roster_Selection_Men!AH31","v":"20-33157"},{"$f":"Roster_Selection_Men!AI31","v":"Tanner Lindquist"},null,{"$f":"IF(ISERROR([2]Baker_Scores_Men_JV!E29), \" \", IF([2]Baker_Scores_Men_JV!E29 = \"Yes\", \"Yes\", \"  \"))","v":"#ERROR!"},147.0,144.0,171.0,148.0,145.0,0.0,156.0,911,6,151.8333333]
[null,{"$f":"Roster_Selection_Men!AF32&\" \" & \"JV1 \"","v":"Baker University JV1 "},{"$f":"Roster_Selection_Men!AH32","v":"18-84159"},{"$f":"Roster_Selection_Men!AI32","v":"Tanner Mcguire"},null,{"$f":"IF(ISERROR([2]Baker_Scores_Men_JV!E30), \" \", IF([2]Baker_Scores_Men_JV!E30 = \"Yes\", \"Yes\", \"  \"))","v":"#ERROR!"},220.0,210.0,196.0,195.0,220.0,192.0,195.0,1428,7,204]
[null,{"$f":"Roster_Selection_Men!AF33&\" \" & \"JV1 \"","v":" JV1 "},{"$f":"Roster_Selection_Men!AH33","v":""},{"$f":"Roster_Selection_Men!AI33","v":""},null,{"$f":"IF(ISERROR([2]Baker_Scores_Men_JV!E31), \" \", IF([2]Baker_Scores_Men_JV!E31 = \"Yes\", \"Yes\", \"  \"))","v":"#ERROR!"},0.0,0.0,0.0,0.0,0.0,0.0,0.0,0,0,0]
[null,{"$f":"Roster_Selection_Men!AF34&\" \" & \"JV1 \"","v":" JV1 "},{"$f":"Roster_Selection_Men!AH34","v":""},{"$f":"Roster_Selection_Men!AI34","v":""},null,{"$f":"IF(ISERROR([2]Baker_Scores_Men_JV!E32), \" \", IF([2]Baker_Scores_Men_JV!E32 = \"Yes\", \"Yes\", \"  \"))","v":"#ERROR!"},0.0,0.0,0.0,0.0,0.0,0.0,0.0,0,0,0]
[null,"Baker University JV1","","",{"$nulls":9},0,0,0]
[null,"Baker University JV1","","",{"$nulls":9},0,0,0]
[null,"Baker University JV1","","",{"$nulls":9},0,0,0]
[{"$nulls":6},{"$f":"SUM(G25:G35)","v":762},852,808,788,873,787,846,5716,35]
[]
[null,{"$f":"Roster_Selection_Men!AF82&\" \" & \"JV1 \"","v":"Grand View University JV1 "},{"$f":"Roster_Selection_Men!AH82","v":"15-194051"},{"$f":"Roster_Selection_Men!AI82","v":"Camrey Cavan"},null,{"$f":"IF(ISERROR([2]Baker_Scores_Men_JV!E38), \" \", IF([2]Baker_Scores_Men_JV!E38 = \"Yes\", \"Yes\", \"  \"))","v":"#ERROR!"},151.0,0.0,134.0,0.0,157.0,0.0,185.0,{"$f":"SUM(G38:M38)","v":627},{"$f":"COUNTIF(G38:M38, \">0\" )","v":4},{"$f":"IF(O38=0,0,N38/O38)","v":156.75}]
[null,{"$f":"Roster_Selection_Men!AF83&\" \" & \"JV1 \"","v":"Grand View University JV1 "},{"$f":"Roster_Selection_Men!AH83","v":"11-260073"},{"$f":"Roster_Selection_Men!AI83","v":"Dominick Judge"},null,{"$f":"IF(ISERROR([2]Baker_Scores_Men_JV!E39), \" \", IF([2]Baker_Scores_Men_JV!E39 = \"Yes\", \"Yes\", \"  \"))","v":"#ERROR!"},0.0,165.0,147.0,0.0,176.0,148.0,0.0,636,4,159]
[null,{"$f":"Roster_Selection_Men!AF84&\" \" & \"JV1 \"","v":"Grand View University JV1 "},{"$f":"Roster_Selection_Men!AH84","v":"21-88052"},{"$f":"Roster_Selection_Men!AI84","v":"Ethan Simpson"},null,{"$f":"IF(ISERROR([2]Baker_Scores_Men_JV!E40), \" \", IF([2]Baker_Scores_Men_JV!E40 = \"Yes\", \"Yes\", \"  \"))","v":"#ERROR!"},0.0,120.0,0.0,150.0,0.0,156.0,140.0,566,4,141.5]
[null,{"$f":"Roster_Selection_Men!AF85&\" \" & \"JV1 \"","v":"Grand View University JV1 "},{"$f":"Roster_Selection_Men!AH85","v":"5849-84"},{"$f":"Roster_Selection_Men!AI85","v":"Hunter Shannon"},null,{"$f":"IF(ISERROR([2]Baker_Scores_Men_JV!E41), \" \", IF([2]Baker_Scores_Men_JV!E41 = \"Yes\", \"Yes\", \"  \"))","v":"#ERROR!"},160.0,0.0,177.0,208.0,124.0,0.0,153.0,822,5,164.4]
[null,{"$f":"Roster_Selection_Men!AF86&\" \" & \"JV1 \"","v":"Grand View University JV1 "},{"$f":"Roster_Selection_Men!AH86","v":"11-230185"},{"$f":"Roster_Selection_Men!AI86","v":"Jonathan Featherston"},null,{"$f":"IF(ISERROR([2]Baker_Scores_Men_JV!E42), \" \", IF([2]Baker_Scores_Men_JV!E42 = \"Yes\", \"Yes\", \"  \"))","v":"#ERROR!"},172.0,154.0,0.0,140.0,0.0,154.0,139.0,759,5,151.8]
[null,{"$f":"Roster_Selection_Men!AF87&\" \" & \"JV1 \"","v":"Grand View University JV1 "},{"$f":"Roster_Selection_Men!AH87","v":"15-149463"},{"$f":"Roster_Selection_Men!AI87","v":"Kory Ludden"},null,{"$f":"IF(ISERROR([2]Baker_Scores_Men_JV!E43), \" \", IF([2]Baker_Scores_Men_JV!E43 = \"Yes\", \"Yes\", \"  \"))","v":"#ERROR!"},161.0,197.0,171.0,186.0,203.0,191.0,171.0,1280,7,182.8571429]
[null,{"$f":"Roster_Selection_Men!AF88&\" \" & \"JV1 \"","v":"Grand View University JV1 "},{"$f":"Roster_Selection_Men!AH88","v":"16-164014"},{"$f":"Roster_Selection_Men!AI88","v":"Maxwell Martin"},null,{"$f":"IF(ISERROR([2]Baker_Scores_Men_JV!E44), \" \", IF([2]Baker_Scores_Men_JV!E44 = \"Yes\", \"Yes\", \"  \"))","v":"#ERROR!"},180.0,164.0,150.0,185.0,191.0,149.0,0.0,1019,6,169.8333333]
[null,{"$f":"Roster_Selection_Men!AF89&\" \" & \"JV1 \"","v":" JV1 "},{"$f":"Roster_Selection_Men!AH89","v":""},{"$f":"Roster_Selection_Men!AI89","v":""},null,{"$f":"IF(ISERROR([2]Baker_Scores_Men_JV!E45), \" \", IF([2]Baker_Scores_Men_JV!E45 = \"Yes\", \"Yes\", \"  \"))","v":"#ERROR!"},0.0,0.0,0.0,0.0,0.0,0.0,0.0,0,0,0]
[null,"Grand View University JV1","","",{"$nulls":9},0,0,0]
[null,"Grand View University JV1","","",{"$nulls":9},0,0,0]
[null,"Grand View University JV1","","",{"$nulls":9},0,0,0]
[{"$nulls":6},{"$f":"SUM(G38:G48)","v":824},800,779,869,851,798,788,5709,35]
[]
[null,{"$f":"Roster_Selection_Men!AF130&\" \" & \"JV1 \"","v":" JV1 "},{"$f":"Roster_Selection_Men!AH130","v":""},{"$f":"Roster_Selection_Men!AI130","v":""},null,{"$f":"IF(ISERROR([2]Baker_Scores_Men_JV!E51), \" \", IF([2]Baker_Scores_Men_JV!E51 = \"Yes\", \"Yes\", \"  \"))","v":"#ERROR!"},0.0,0.0,0.0,0.0,0.0,0.0,0.0,{"$f":"SUM(G51:M51)","v":0},{"$f":"COUNTIF(G51:M51, \">0\" )","v":0},{"$f":"IF(O51=0,0,N51/O51)","v":0}]
[null,{"$f":"Roster_Selection_Men!AF131&\" \" & \"JV1 \"","v":" JV1 "},{"$f":"Roster_Selection_Men!AH131","v":""},{"$f":"Roster_Selection_Men!AI131","v":""},null,{"$f":"IF(ISERROR([2]Baker_Scores_Men_JV!E52), \" \", IF([2]Baker_Scores_Men_JV!E52 = \"Yes\", \"Yes\", \"  \"))","v":"#ERROR!"},0.0,0.0,0.0,0.0,0.0,0.0,0.0,0,0,0]
[null,{"$f":"Roster_Selection_Men!AF132&\" \" & \"JV1 \"","v":" JV1 "},{"$f":"Roster_Selection_Men!AH132","v":""},{"$f":"Roster_Selection_Men!AI132","v":""},null,{"$f":"IF(ISERROR([2]Baker_Scores_Men_JV!E53), \" \", IF([2]Baker_Scores_Men_JV!E53 = \"Yes\", \"Yes\", \"  \"))","v":"#ERROR!"},0.0,0.0,0.0,0.0,0.0,0.0,0.0,0,0,0]
[null,{"$f":"Roster_Selection_Men!AF133&\" \" & \"JV1 \"","v":" JV1 "},{"$f":"Roster_Selection_Men!AH133","v":""},{"$f":"Roster_Selection_Men!AI133","v":""},null,{"$f":"IF(ISERROR([2]Baker_Scores_Men_JV!E54), \" \", IF([2]Baker_Scores_Men_JV!E54 = \"Yes\", \"Yes\", \"  \"))","v":"#ERROR!"},0.0,0.0,0.0,0.0,0.0,0.0,0.0,0,0,0]
[null,{"$f":"Roster_Selection_Men!AF134&\" \" & \"JV1 \"","v":" JV1 "},{"$f":"Roster_Selection_Men!AH134","v":""},{"$f":"Roster_Selection_Men!AI134","v":""},null,{"$f":"IF(ISERROR([2]Baker_Scores_Men_JV!E55), \" \", IF([2]Baker_Scores_Men_JV!E55 = \"Yes\", \"Yes\", \"  \"))","v":"#ERROR!"},0.0,0.0,0.0,0.0,0.0,0.0,0.0,0,0,0]
[null,{"$f":"Roster_Selection_Men!AF135&\" \" & \"JV1 \"","v":" JV1 "},{"$f":"Roster_Selection_Men!AH135","v":""},{"$f":"Roster_Selection_Men!AI135","v":""},null,{"$f":"IF(ISERROR([2]Baker_Scores_Men_JV!E56), \" \", IF([2]Baker_Scores_Men_JV!E56 = \"Yes\", \"Yes\", \"  \"))","v":"#ERROR!"},0.0,0.0,0.0,0.0,0.0,0.0,0.0,0,0,0]
[null,{"$f":"Roster_Selection_Men!AF136&\" \" & \"JV1 \"","v":" JV1 "},{"$f":"Roster_Selection_Men!AH136","v":""},{"$f":"Roster_Selection_Men!AI136","v":""},null,{"$f":"IF(ISERROR([2]Baker_Scores_Men_JV!E57), \" \", IF([2]Baker_Scores_Men_JV!E57 = \"Yes\", \"Yes\", \"  \"))","v":"#ERROR!"},0.0,0.0,0.0,0.0,0.0,0.0,0.0,0,0,0]
[null,{"$f":"Roster_Selection_Men!AF137&\" \" & \"JV1 \"","v":" JV1 "},{"$f":"Roster_Selection_Men!AH137","v":""},{"$f":"Roster_Selection_Men!AI137","v":""},null,{"$f":"IF(ISERROR([2]Baker_Scores_Men_JV!E58), \" \", IF([2]Baker_Scores_Men_JV!E58 = \"Yes\", \"Yes\", \"  \"))","v":"#ERROR!"},0.0,0.0,0.0,0.0,0.0,0.0,0.0,0,0,0]
[null,"Kansas State University JV1","","",{"$nulls":9},0,0,0]
[null,"Kansas State University JV1","","",{"$nulls":9},0,0,0]
[null,"Kansas State University JV1","","",{"$nulls":9},0,0,0]
[{"$nulls":6},{"$f":"SUM(G51:G61)","v":0},0,0,0,0,0,0,0,0]
[]
[null,{"$f":"Roster_Selection_Men!AF180&\" \" & \"JV1 \"","v":"Morningside University JV1 "},{"$f":"Roster_Selection_Men!AH180","v":"6661-372"},{"$f":"Roster_Selection_Men!AI180","v":"Alex Badger"},null,{"$f":"IF(ISERROR([2]Baker_Scores_Men_JV!E64), \" \", IF([2]Baker_Scores_Men_JV!E64 = \"Yes\", \"Yes\", \"  \"))","v":"#ERROR!"},0.0,0.0,0.0,0.0,0.0,0.0,0.0,{"$f":"SUM(G64:M64)","v":0},{"$f":"COUNTIF(G64:M64, \">0\" )","v":0},{"$f":"IF(O64=0,0,N64/O64)","v":0}]
[null,{"$f":"Roster_Selection_Men!AF181&\" \" & \"JV1 \"","v":"Morningside University JV1 "},{"$f":"Roster_Selection_Men!AH181","v":"21-81903"},{"$f":"Roster_Selection_Men!AI181","v":"Braden Huber"},null,{"$f":"IF(ISERROR([2]Baker_Scores_Men_JV!E65), \" \", IF([2]Baker_Scores_Men_JV!E65 = \"Yes\", \"Yes\", \"  \"))","v":"#ERROR!"},0.0,0.0,0.0,0.0,0.0,0.0,0.0,0,0,0]
[null,{"$f":"Roster_Selection_Men!AF182&\" \" & \"JV1 \"","v":"Morningside University JV1 "},{"$f":"Roster_Selection_Men!AH182","v":"11-386701"},{"$f":"Roster_Selection_Men!AI182","v":"Christian Schmadeke"},null,{"$f":"IF(ISERROR([2]Baker_Scores_Men_JV!E66), \" \", IF([2]Baker_Scores_Men_JV!E66 = \"Yes\", \"Yes\", \"  \"))","v":"#ERROR!"},152.0,170.0,203.0,192.0,141.0,158.0,126.0,1142,7,163.1428571]
[null,{"$f":"Roster_Selection_Men!AF183&\" \" & \"JV1 \"","v":"Morningside University JV1 "},{"$f":"Roster_Selection_Men!AH183","v":"23-2999"},{"$f":"Roster_Selection_Men!AI183","v":"Marco Salcedo"},null,{"$f":"IF(ISERROR([2]Baker_Scores_Men_JV!E67), \" \", IF([2]Baker_Scores_Men_JV!E67 = \"Yes\", \"Yes\", \"  \"))","v":"#ERROR!"},147.0,160.0,141.0,147.0,134.0,147.0,157.0,1033,7,147.5714286]
[null,{"$f":"Roster_Selection_Men!AF184&\" \" & \"JV1 \"","v":"Morningside University JV1 "},{"$f":"Roster_Selection_Men!AH184","v":"23-3001"},{"$f":"Roster_Selection_Men!AI184","v":"Michael Swancutt"},null,{"$f":"IF(ISERROR([2]Baker_Scores_Men_JV!E68), \" \", IF([2]Baker_Scores_Men_JV!E68 = \"Yes\", \"Yes\", \"  \"))","v":"#ERROR!"},163.0,105.0,181.0,161.0,164.0,202.0,163.0,1139,7,162.7142857]
[null,{"$f":"Roster_Selection_Men!AF185&\" \" & \"JV1 \"","v":" JV1 "},{"$f":"Roster_Selection_Men!AH185","v":""},{"$f":"Roster_Selection_Men!AI185","v":""},null,{"$f":"IF(ISERROR([2]Baker_Scores_Men_JV!E69), \" \", IF([2]Baker_Scores_Men_JV!E69 = \"Yes\", \"Yes\", \"  \"))","v":"#ERROR!"},0.0,0.0,0.0,0.0,0.0,0.0,0.0,0,0,0]
[null,{"$f":"Roster_Selection_Men!AF186&\" \" & \"JV1 \"","v":" JV1 "},{"$f":"Roster_Selection_Men!AH186","v":""},{"$f":"Roster_Selection_Men!AI186","v":""},null,{"$f":"IF(ISERROR([2]Baker_Scores_Men_JV!E70), \" \", IF([2]Baker_Scores_Men_JV!E70 = \"Yes\", \"Yes\", \"  \"))","v":"#ERROR!"},0.0,0.0,0.0,0.0,0.0,0.0,0.0,0,0,0]
[null,{"$f":"Roster_Selection_Men!AF187&\" \" & \"JV1 \"","v":" JV1 "},{"$f":"Roster_Selection_Men!AH187","v":""},{"$f":"Roster_Selection_Men!AI187","v":""},null,{"$f":"IF(ISERROR([2]Baker_Scores_Men_JV!E71), \" \", IF([2]Baker_Scores_Men_JV!E71 = \"Yes\", \"Yes\", \"  \"))","v":"#ERROR!"},0.0,0.0,0.0,0.0,0.0,0.0,0.0,0,0,0]
[null,"Morningside University JV1","","",{"$nulls":9},0,0,0]
[null,"Morningside University JV1","","",{"$nulls":9},0,0,0]
[null,"Morningside University JV1","","",{"$nulls":9},0,0,0]
[{"$nulls":6},{"$f":"SUM(G64:G74)","v":462},435,525,500,439,507,446,3314,21]
[]
[null,{"$f":"Roster_Selection_Men!AF190&\" \" & \"JV1 \"","v":"Ottawa University (KS) JV1 "},{"$f":"Roster_Selection_Men!AH190","v":"8756-13138"},{"$f":"Roster_Selection_Men!AI190","v":"Brendan Iaulualo"},null,{"$f":"IF(ISERROR([2]Baker_Scores_Men_JV!E77), \" \", IF([2]Baker_Scores_Men_JV!E77 = \"Yes\", \"Yes\", \"  \"))","v":"#ERROR!"},203.0,189.0,203.0,205.0,160.0,216.0,169.0,{"$f":"SUM(G77:M77)","v":1345},{"$f":"COUNTIF(G77:M77, \">0\" )","v":7},{"$f":"IF(O77=0,0,N77/O77)","v":192.1428571}]
[null,{"$f":"Roster_Selection_Men!AF191&\" \" & \"JV1 \"","v":"Ottawa University (KS) JV1 "},{"$f":"Roster_Selection_Men!AH191","v":"11-663062"},{"$f":"Roster_Selection_Men!AI191","v":"Cole Clough"},null,{"$f":"IF(ISERROR([2]Baker_Scores_Men_JV!E78), \" \", IF([2]Baker_Scores_Men_JV!E78 = \"Yes\", \"Yes\", \"  \"))","v":"#ERROR!"},214.0,156.0,159.0,160.0,180.0,191.0,213.0,1273,7,181.8571429]
[null,{"$f":"Roster_Selection_Men!AF192&\" \" & \"JV1 \"","v":"Ottawa University (KS) JV1 "},{"$f":"Roster_Selection_Men!AH192","v":"18-65090"},{"$f":"Roster_Selection_Men!AI192","v":"Josh King"},null,{"$f":"IF(ISERROR([2]Baker_Scores_Men_JV!E79), \" \", IF([2]Baker_Scores_Men_JV!E79 = \"Yes\", \"Yes\", \"  \"))","v":"#ERROR!"},120.0,133.0,165.0,161.0,157.0,128.0,137.0,1001,7,143]
[null,{"$f":"Roster_Selection_Men!AF193&\" \" & \"JV1 \"","v":"Ottawa University (KS) JV1 "},{"$f":"Roster_Selection_Men!AH193","v":"11-513059"},{"$f":"Roster_Selection_Men!AI193","v":"Tre Preston"},null,{"$f":"IF(ISERROR([2]Baker_Scores_Men_JV!E80), \" \", IF([2]Baker_Scores_Men_JV!E80 = \"Yes\", \"Yes\", \"  \"))","v":"#ERROR!"},138.0,167.0,26.0,157.0,210.0,175.0,181.0,1054,7,150.5714286]
[null,{"$f":"Roster_Selection_Men!AF194&\" \" & \"JV1 \"","v":"Ottawa University (KS) JV1 "},{"$f":"Roster_Selection_Men!AH194","v":"11-449090"},{"$f":"Roster_Selection_Men!AI194","v":"Zonte Spann"},null,{"$f":"IF(ISERROR([2]Baker_Scores_Men_JV!E81), \" \", IF([2]Baker_Scores_Men_JV!E81 = \"Yes\", \"Yes\", \"  \"))","v":"#ERROR!"},191.0,121.0,132.0,168.0,149.0,128.0,182.0,1071,7,153]
[null,{"$f":"Roster_Selection_Men!AF195&\" \" & \"JV1 \"","v":" JV1 "},{"$f":"Roster_Selection_Men!AH195","v":""},{"$f":"Roster_Selection_Men!AI195","v":""},null,{"$f":"IF(ISERROR([2]Baker_Scores_Men_JV!E82), \" \", IF([2]Baker_Scores_Men_JV!E82 = \"Yes\", \"Yes\", \"  \"))","v":"#ERROR!"},0.0,0.0,0.0,0.0,0.0,0.0,0.0,0,0,0]
[null,{"$f":"Roster_Selection_Men!AF196&\" \" & \"JV1 \"","v":" JV1 "},{"$f":"Roster_Selection_Men!AH196","v":""},{"$f":"Roster_Selection_Men!AI196","v":""},null,{"$f":"IF(ISERROR([2]Baker_Scores_Men_JV!E83), \" \", IF([2]Baker_Scores_Men_JV!E83 = \"Yes\", \"Yes\", \"  \"))","v":"#ERROR!"},0.0,0.0,0.0,0.0,0.0,0.0,0.0,0,0,0]
[null,{"$f":"Roster_Selection_Men!AF197&\" \" & \"JV1 \"","v":" JV1 "},{"$f":"Roster_Selection_Men!AH197","v":""},{"$f":"Roster_Selection_Men!AI197","v":""},null,{"$f":"IF(ISERROR([2]Baker_Scores_Men_JV!E84), \" \", IF([2]Baker_Scores_Men_JV!E84 = \"Yes\", \"Yes\", \"  \"))","v":"#ERROR!"},0.0,0.0,0.0,0.0,0.0,0.0,0.0,0,0,0]
[null,"Ottawa University (KS) JV1","","",{"$nulls":9},0,0,0]
[null,"Ottawa University (KS) JV1","","",{"$nulls":9},0,0,0]
[null,"Ottawa University (KS) JV1","","",{"$nulls":9},0,0,0]
[{"$nulls":6},{"$f":"SUM(G77:G87)","v":866},766,685,851,856,838,882,5744,35]
[]
[null,{"$f":"Roster_Selection_Men!AJ190&\" \" & \"JV2 \"","v":"Ottawa University (KS) JV2 "},{"$f":"Roster_Selection_Men!AL190","v":"7914-32128"},{"$f":"Roster_Selection_Men!AM190","v":"Achilles Reyes"},null,{"$f":"IF(ISERROR([2]Baker_Scores_Men_JV!E90), \" \", IF([2]Baker_Scores_Men_JV!E90 = \"Yes\", \"Yes\", \"  \"))","v":"#ERROR!"},169.0,148.0,186.0,191.0,161.0,178.0,130.0,{"$f":"SUM(G90:M90)","v":1163},{"$f":"COUNTIF(G90:M90, \">0\" )","v":7},{"$f":"IF(O90=0,0,N90/O90)","v":166.1428571}]
[null,{"$f":"Roster_Selection_Men!AJ191&\" \" & \"JV2 \"","v":"Ottawa University (KS) JV2 "},{"$f":"Roster_Selection_Men!AL191","v":"7914-32123"},{"$f":"Roster_Selection_Men!AM191","v":"Ashton Reyes"},null,{"$f":"IF(ISERROR([2]Baker_Scores_Men_JV!E91), \" \", IF([2]Baker_Scores_Men_JV!E91 = \"Yes\", \"Yes\", \"  \"))","v":"#ERROR!"},184.0,133.0,165.0,205.0,214.0,195.0,184.0,1280,7,182.8571429]
[null,{"$f":"Roster_Selection_Men!AJ192&\" \" & \"JV2 \"","v":"Ottawa University (KS) JV2 "},{"$f":"Roster_Selection_Men!AL192","v":"11-629159"},{"$f":"Roster_Selection_Men!AM192","v":"Ian Carpenter"},null,{"$f":"IF(ISERROR([2]Baker_Scores_Men_JV!E92), \" \", IF([2]Baker_Scores_Men_JV!E92 = \"Yes\", \"Yes\", \"  \"))","v":"#ERROR!"},156.0,152.0,169.0,167.0,164.0,163.0,147.0,1118,7,159.7142857]
[null,{"$f":"Roster_Selection_Men!AJ193&\" \" & \"JV2 \"","v":"Ottawa University (KS) JV2 "},{"$f":"Roster_Selection_Men!AL193","v":"19-86469"},{"$f":"Roster_Selection_Men!AM193","v":"Justin Preston"},null,{"$f":"IF(ISERROR([2]Baker_Scores_Men_JV!E93), \" \", IF([2]Baker_Scores_Men_JV!E93 = \"Yes\", \"Yes\", \"  \"))","v":"#ERROR!"},134.0,159.0,165.0,248.0,160.0,183.0,195.0,1244,7,177.7142857]
[null,{"$f":"Roster_Selection_Men!AJ194&\" \" & \"JV2 \"","v":"Ottawa University (KS) JV2 "},{"$f":"Roster_Selection_Men!AL194","v":"20-51842"},{"$f":"Roster_Selection_Men!AM194","v":"Shay White"},null,{"$f":"IF(ISERROR([2]Baker_Scores_Men_JV!E94), \" \", IF([2]Baker_Scores_Men_JV!E94 = \"Yes\", \"Yes\", \"  \"))","v":"#ERROR!"},146.0,168.0,166.0,192.0,156.0,232.0,137.0,1197,7,171]
[null,{"$f":"Roster_Selection_Men!AJ195&\" \" & \"JV2 \"","v":" JV2 "},{"$f":"Roster_Selection_Men!AL195","v":""},{"$f":"Roster_Selection_Men!AM195","v":""},null,{"$f":"IF(ISERROR([2]Baker_Scores_Men_JV!E95), \" \", IF([2]Baker_Scores_Men_JV!E95 = \"Yes\", \"Yes\", \"  \"))","v":"#ERROR!"},0.0,0.0,0.0,0.0,0.0,0.0,0.0,0,0,0]
[null,{"$f":"Roster_Selection_Men!AJ196&\" \" & \"JV2 \"","v":" JV2 "},{"$f":"Roster_Selection_Men!AL196","v":""},{"$f":"Roster_Selection_Men!AM196","v":""},null,{"$f":"IF(ISERROR([2]Baker_Scores_Men_JV!E96), \" \", IF([2]Baker_Scores_Men_JV!E96 = \"Yes\", \"Yes\", \"  \"))","v":"#ERROR!"},0.0,0.0,0.0,0.0,0.0,0.0,0.0,0,0,0]
[null,{"$f":"Roster_Selection_Men!AJ197&\" \" & \"JV2 \"","v":" JV2 "},{"$f":"Roster_Selection_Men!AL197","v":""},{"$f":"Roster_Selection_Men!AM197","v":""},null,{"$f":"IF(ISERROR([2]Baker_Scores_Men_JV!E97), \" \", IF([2]Baker_Scores_Men_JV!E97 = \"Yes\", \"Yes\", \"  \"))","v":"#ERROR!"},0.0,0.0,0.0,0.0,0.0,0.0,0.0,0,0,0]
[null,"Ottawa University (KS) JV2","","",{"$nulls":9},0,0,0]
[null,"Ottawa University (KS) JV2","","",{"$nulls":9},0,0,0]
[null,"Ottawa University (KS) JV2","","",{"$nulls":9},0,0,0]
[{"$nulls":6},{"$f":"SUM(G90:G100)","v":789},760,851,1003,855,951,793,6002,35]
[]
[null,{"$f":"Roster_Selection_Men!AF227&\" \" & \"JV1 \"","v":"William Penn University JV1 "},{"$f":"Roster_Selection_Men!AH227","v":"5822-1038"},{"$f":"Roster_Selection_Men!AI227","v":"Caleb Sterbenz"},null,{"$f":"IF(ISERROR([2]Baker_Scores_Men_JV!E103), \" \", IF([2]Baker_Scores_Men_JV!E103 = \"Yes\", \"Yes\", \"  \"))","v":"#ERROR!"},173.0,160.0,0.0,0.0,0.0,0.0,0.0,{"$f":"SUM(G103:M103)","v":333},{"$f":"COUNTIF(G103:M103, \">0\" )","v":2},{"$f":"IF(O103=0,0,N103/O103)","v":166.5}]
[null,{"$f":"Roster_Selection_Men!AF228&\" \" & \"JV1 \"","v":"William Penn University JV1 "},{"$f":"Roster_Selection_Men!AH228","v":"11-247244"},{"$f":"Roster_Selection_Men!AI228","v":"Connor Rissi"},null,{"$f":"IF(ISERROR([2]Baker_Scores_Men_JV!E104), \" \", IF([2]Baker_Scores_Men_JV!E104 = \"Yes\", \"Yes\", \"  \"))","v":"#ERROR!"},0.0,0.0,166.0,159.0,159.0,180.0,186.0,850,5,170]
[null,{"$f":"Roster_Selection_Men!AF229&\" \" & \"JV1 \"","v":"William Penn University JV1 "},{"$f":"Roster_Selection_Men!AH229","v":"11-92567"},{"$f":"Roster_Selection_Men!AI229","v":"Ethan Zieglowsky"},null,{"$f":"IF(ISERROR([2]Baker_Scores_Men_JV!E105), \" \", IF([2]Baker_Scores_Men_JV!E105 = \"Yes\", \"Yes\", \"  \"))","v":"#ERROR!"},0.0,233.0,170.0,178.0,169.0,148.0,0.0,898,5,179.6]
[null,{"$f":"Roster_Selection_Men!AF230&\" \" & \"JV1 \"","v":"William Penn University JV1 "},{"$f":"Roster_Selection_Men!AH230","v":"5873-792"},{"$f":"Roster_Selection_Men!AI230","v":"Garraty Richmond"},null,{"$f":"IF(ISERROR([2]Baker_Scores_Men_JV!E106), \" \", IF([2]Baker_Scores_Men_JV!E106 = \"Yes\", \"Yes\", \"  \"))","v":"#ERROR!"},170.0,172.0,166.0,162.0,224.0,186.0,186.0,1266,7,180.8571429]
[null,{"$f":"Roster_Selection_Men!AF231&\" \" & \"JV1 \"","v":"William Penn University JV1 "},{"$f":"Roster_Selection_Men!AH231","v":"11-575080"},{"$f":"Roster_Selection_Men!AI231","v":"Mathew Smith"},null,{"$f":"IF(ISERROR([2]Baker_Scores_Men_JV!E107), \" \", IF([2]Baker_Scores_Men_JV!E107 = \"Yes\", \"Yes\", \"  \"))","v":"#ERROR!"},0.0,0.0,143.0,170.0,0.0,0.0,0.0,313,2,156.5]
[null,{"$f":"Roster_Selection_Men!AF232&\" \" & \"JV1 \"","v":"William Penn University JV1 "},{"$f":"Roster_Selection_Men!AH232","v":"8756-13177"},{"$f":"Roster_Selection_Men!AI232","v":"Nathan Hansen"},null,{"$f":"IF(ISERROR([2]Baker_Scores_Men_JV!E108), \" \", IF([2]Baker_Scores_Men_JV!E108 = \"Yes\", \"Yes\", \"  \"))","v":"#ERROR!"},195.0,191.0,145.0,147.0,193.0,181.0,169.0,1221,7,174.4285714]
[null,{"$f":"Roster_Selection_Men!AF233&\" \" & \"JV1 \"","v":"William Penn University JV1 "},{"$f":"Roster_Selection_Men!AH233","v":"5816-1476"},{"$f":"Roster_Selection_Men!AI233","v":"Robert Dostal"},null,{"$f":"IF(ISERROR([2]Baker_Scores_Men_JV!E109), \" \", IF([2]Baker_Scores_Men_JV!E109 = \"Yes\", \"Yes\", \"  \"))","v":"#ERROR!"},170.0,146.0,0.0,0.0,0.0,0.0,176.0,492,3,164]
[null,{"$f":"Roster_Selection_Men!AF234&\" \" & \"JV1 \"","v":"William Penn University JV1 "},{"$f":"Roster_Selection_Men!AH234","v":"17-85693"},{"$f":"Roster_Selection_Men!AI234","v":"Spencer Fleming"},null,{"$f":"IF(ISERROR([2]Baker_Scores_Men_JV!E110), \" \", IF([2]Baker_Scores_Men_JV!E110 = \"Yes\", \"Yes\", \"  \"))","v":"#ERROR!"},128.0,0.0,0.0,0.0,169.0,209.0,154.0,660,4,165]
[null,"William Penn University JV1","","",{"$nulls":9},0,0,0]
[null,"William Penn University JV1","","",{"$nulls":9},0,0,0]
[null,"William Penn University JV1","","",{"$nulls":9},0,0,0]
[{"$nulls":6},{"$f":"SUM(G103:G113)","v":836},902,790,816,914,904,871,6033,35]
[]
[]
[]
[]
[{"$nulls":4},"Team Totals",null,{"$f":"SUM(G23,G36,G49,G62,G75,G88,G101,G114)","v":5398},5326,5161,5738,5534,5528,5313,37998,231,{"$nulls":36},"*"]
[{"$nulls":4},"Team Game Average",null,{"$f":"SUM(G119/(8))","v":674.75},665.75,645.125,717.25,691.75,691,664.125]

{"sheet":"Individual_Scores_Women_Var","index":4,"n_rows":250,"n_cols":54,"rows_kept":250,"cut":false,"hidden":false,"merged":[[0,0,0,13]]}
["Individual Scores and Team Games"]
[{"$nulls":51},"Yes"]
[null,"NAIA Weekend-West-Sunday",{"$nulls":49},"No"]
[null,"Tier 2","NAIA",{"$nulls":12},"2443","7","0","5","","",null,null,"7",{"$nulls":29},"IBCYouth"]
[null,"<<Dates>>","<<Event#>>","02/04/2024 - 02/04/2024"]
[null,"<<Location>>",null,"Lawrence, KS"]
[]
[null,"Women's Division",null,"Cert No:","04110"]
[null,"Division"]
[{"$nulls":6},"Game","Game","Game","Game","Game","Game","Game",null,"Games","Tourn."]
[null,"Team","Bowler ID","Bowler","Bowled","Bowled Baker",1.0,2.0,3.0,4.0,5.0,6.0,7.0,"Total","Bowled","Ave."]
[null,{"$f":"Roster_Selection_Women!AB11&\" \" & \"V \"","v":"Avila University V "},{"$f":"Roster_Selection_Women!AD11","v":"19-37668"},{"$f":"Roster_Selection_Women!AE11","v":"Brittany Mohling"},null,{"$f":"IF(ISERROR([3]Baker_Scores_Women_Var!E12), \" \", IF([3]Baker_Scores_Women_Var!E12 = \"Yes\", \"Yes\", \"  \"))","v":"#ERROR!"},168.0,169.0,159.0,115.0,112.0,125.0,126.0,{"$f":"SUM(G12:M12)","v":974},{"$f":"COUNTIF(G12:M12, \">0\" )","v":7},{"$f":"IF(O12=0,0,N12/O12)","v":139.1428571}]
[null,{"$f":"Roster_Selection_Women!AB12&\" \" & \"V \"","v":"Avila University V "},{"$f":"Roster_Selection_Women!AD12","v":"11-103558"},{"$f":"Roster_Selection_Women!AE12","v":"Claire Busch"},null,{"$f":"IF(ISERROR([3]Baker_Scores_Women_Var!E13), \" \", IF([3]Baker_Scores_Women_Var!E13 = \"Yes\", \"Yes\", \"  \"))","v":"#ERROR!"},212.0,177.0,200.0,167.0,157.0,177.0,178.0,1268,7,181.1428571]
[null,{"$f":"Roster_Selection_Women!AB13&\" \" & \"V \"","v":"Avila University V "},{"$f":"Roster_Selection_Women!AD13","v":"18-68921"},{"$f":"Roster_Selection_Women!AE13","v":"Emma Foland"},null,{"$f":"IF(ISERROR([3]Baker_Scores_Women_Var!E14), \" \", IF([3]Baker_Scores_Women_Var!E14 = \"Yes\", \"Yes\", \"  \"))","v":"#ERROR!"},0.0,0.0,0.0,0.0,0.0,0.0,0.0,0,0,0]
[null,{"$f":"Roster_Selection_Women!AB14&\" \" & \"V \"","v":"Avila University V "},{"$f":"Roster_Selection_Women!AD14","v":"20-10175"},{"$f":"Roster_Selection_Women!AE14","v":"Kamdyn Burman"},null,{"$f":"IF(ISERROR([3]Baker_Scores_Women_Var!E15), \" \", IF([3]Baker_Scores_Women_Var!E15 = \"Yes\", \"Yes\", \"  \"))","v":"#ERROR!"},127.0,180.0,154.0,137.0,183.0,173.0,168.0,1122,7,160.2857143]
[null,{"$f":"Roster_Selection_Women!AB15&\" \" & \"V \"","v":"Avila University V "},{"$f":"Roster_Selection_Women!AD15","v":"17-84443"},{"$f":"Roster_Selection_Women!AE15","v":"Kirsten Zirjacks"},null,{"$f":"IF(ISERROR([3]Baker_Scores_Women_Var!E16), \" \", IF([3]Baker_Scores_Women_Var!E16 = \"Yes\", \"Yes\", \"  \"))","v":"#ERROR!"},148.0,171.0,168.0,111.0,144.0,154.0,131.0,1027,7,146.7142857]
[null,{"$f":"Roster_Selection_Women!AB16&\" \" & \"V \"","v":"Avila University V "},{"$f":"Roster_Selection_Women!AD16","v":"22-1548"},{"$f":"Roster_Selection_Women!AE16","v":"Victoria Bestor"},null,{"$f":"IF(ISERROR([3]Baker_Scores_Women_Var!E17), \" \", IF([3]Baker_Scores_Women_Var!E17 = \"Yes\", \"Yes\", \"  \"))","v":"#ERROR!"},144.0,108.0,146.0,127.0,141.0,120.0,158.0,944,7,134.8571429]
[null,{"$f":"Roster_Selection_Women!AB17&\" \" & \"V \"","v":"Avila University V "},{"$f":"Roster_Selection_Women!AD17","v":"7914-17150"},{"$f":"Roster_Selection_Women!AE17","v":"Victoria Leal"},null,{"$f":"IF(ISERROR([3]Baker_Scores_Women_Var!E18), \" \", IF([3]Baker_Scores_Women_Var!E18 = \"Yes\", \"Yes\", \"  \"))","v":"#ERROR!"},0.0,0.0,0.0,0.0,0.0,0.0,0.0,0,0,0]
[null,{"$f":"Roster_Selection_Women!AB18&\" \" & \"V \"","v":" V "},{"$f":"Roster_Selection_Women!AD18","v":""},{"$f":"Roster_Selection_Women!AE18","v":""},null,{"$f":"IF(ISERROR([3]Baker_Scores_Women_Var!E19), \" \", IF([3]Baker_Scores_Women_Var!E19 = \"Yes\", \"Yes\", \"  \"))","v":"#ERROR!"},0.0,0.0,0.0,0.0,0.0,0.0,0.0,0,0,0]
[null,"Avila University V","","",{"$nulls":9},0,0,0]
[null,"Avila University V","","",{"$nulls":9},0,0,0]
[null,"Avila University V","","",{"$nulls":9},0,0,0]
[{"$nulls":6},{"$f":"SUM(G12:G22)","v":799},805,827,657,737,749,761,5335,35]
[]
[null,{"$f":"Roster_Selection_Women!AB21&\" \" & \"V \"","v":"Baker University V "},{"$f":"Roster_Selection_Women!AD21","v":"11-193244"},{"$f":"Roster_Selection_Women!AE21","v":"Audrey Valdez"},null,{"$f":"IF(ISERROR([3]Baker_Scores_Women_Var!E25), \" \", IF([3]Baker_Scores_Women_Var!E25 = \"Yes\", \"Yes\", \"  \"))","v":"#ERROR!"},238.0,222.0,270.0,135.0,135.0,168.0,135.0,{"$f":"SUM(G25:M25)","v":1303},{"$f":"COUNTIF(G25:M25, \">0\" )","v":7},{"$f":"IF(O25=0,0,N25/O25)","v":186.1428571}]
[null,{"$f":"Roster_Selection_Women!AB22&\" \" & \"V \"","v":"Baker University V "},{"$f":"Roster_Selection_Women!AD22","v":"16-165606"},{"$f":"Roster_Selection_Women!AE22","v":"Aviana Ordonez"},null,{"$f":"IF(ISERROR([3]Baker_Scores_Women_Var!E26), \" \", IF([3]Baker_Scores_Women_Var!E26 = \"Yes\", \"Yes\", \"  \"))","v":"#ERROR!"},0.0,0.0,0.0,0.0,0.0,0.0,0.0,0,0,0]
[null,{"$f":"Roster_Selection_Women!AB23&\" \" & \"V \"","v":"Baker University V "},{"$f":"Roster_Selection_Women!AD23","v":"20-47504"},{"$f":"Roster_Selection_Women!AE23","v":"Darby Hauff"},null,{"$f":"IF(ISERROR([3]Baker_Scores_Women_Var!E27), \" \", IF([3]Baker_Scores_Women_Var!E27 = \"Yes\", \"Yes\", \"  \"))","v":"#ERROR!"},0.0,112.0,0.0,0.0,0.0,0.0,0.0,112,1,112]
[null,{"$f":"Roster_Selection_Women!AB24&\" \" & \"V \"","v":"Baker University V "},{"$f":"Roster_Selection_Women!AD24","v":"20-48752"},{"$f":"Roster_Selection_Women!AE24","v":"Dylan Holmes"},null,{"$f":"IF(ISERROR([3]Baker_Scores_Women_Var!E28), \" \", IF([3]Baker_Scores_Women_Var!E28 = \"Yes\", \"Yes\", \"  \"))","v":"#ERROR!"},173.0,129.0,168.0,163.0,175.0,171.0,179.0,1158,7,165.4285714]
[null,{"$f":"Roster_Selection_Women!AB25&\" \" & \"V \"","v":"Baker University V "},{"$f":"Roster_Selection_Women!AD25","v":"7914-12405"},{"$f":"Roster_Selection_Women!AE25","v":"Kaleigh Buckalew"},null,{"$f":"IF(ISERROR([3]Baker_Scores_Women_Var!E29), \" \", IF([3]Baker_Scores_Women_Var!E29 = \"Yes\", \"Yes\", \"  \"))","v":"#ERROR!"},176.0,181.0,129.0,213.0,142.0,168.0,167.0,1176,7,168]
[null,{"$f":"Roster_Selection_Women!AB26&\" \" & \"V \"","v":"Baker University V "},{"$f":"Roster_Selection_Women!AD26","v":"11-634102"},{"$f":"Roster_Selection_Women!AE26","v":"Karli Gilliland"},null,{"$f":"IF(ISERROR([3]Baker_Scores_Women_Var!E30), \" \", IF([3]Baker_Scores_Women_Var!E30 = \"Yes\", \"Yes\", \"  \"))","v":"#ERROR!"},127.0,0.0,141.0,201.0,166.0,183.0,115.0,933,6,155.5]
[null,{"$f":"Roster_Selection_Women!AB27&\" \" & \"V \"","v":"Baker University V "},{"$f":"Roster_Selection_Women!AD27","v":"5900-25170"},{"$f":"Roster_Selection_Women!AE27","v":"Kinsey Miller"},null,{"$f":"IF(ISERROR([3]Baker_Scores_Women_Var!E31), \" \", IF([3]Baker_Scores_Women_Var!E31 = \"Yes\", \"Yes\", \"  \"))","v":"#ERROR!"},181.0,192.0,198.0,199.0,179.0,212.0,187.0,1348,7,192.5714286]
[null,{"$f":"Roster_Selection_Women!AB28&\" \" & \"V \"","v":"Baker University V "},{"$f":"Roster_Selection_Women!AD28","v":"5900-26804"},{"$f":"Roster_Selection_Women!AE28","v":"Majayla Boyd"},null,{"$f":"IF(ISERROR([3]Baker_Scores_Women_Var!E32), \" \", IF([3]Baker_Scores_Women_Var!E32 = \"Yes\", \"Yes\", \"  \"))","v":"#ERROR!"},0.0,0.0,0.0,0.0,0.0,0.0,0.0,0,0,0]
[null,"Baker University V","","",{"$nulls":9},0,0,0]
[null,"Baker University V","","",{"$nulls":9},0,0,0]
[null,"Baker University V","","",{"$nulls":9},0,0,0]
[{"$nulls":6},{"$f":"SUM(G25:G35)","v":895},836,906,911,797,902,783,6030,35]
[]
[null,{"$f":"Roster_Selection_Women!AB34&\" \" & \"V \"","v":"Barton Community College V "},{"$f":"Roster_Selection_Women!AD34","v":"11-393848"},{"$f":"Roster_Selection_Women!AE34","v":"Allyson Heidenreich"},null,{"$f":"IF(ISERROR([3]Baker_Scores_Women_Var!E38), \" \", IF([3]Baker_Scores_Women_Var!E38 = \"Yes\", \"Yes\", \"  \"))","v":"#ERROR!"},211.0,121.0,194.0,126.0,143.0,178.0,115.0,{"$f":"SUM(G38:M38)","v":1088},{"$f":"COUNTIF(G38:M38, \">0\" )","v":7},{"$f":"IF(O38=0,0,N38/O38)","v":155.4285714}]
[null,{"$f":"Roster_Selection_Women!AB35&\" \" & \"V \"","v":"Barton Community College V "},{"$f":"Roster_Selection_Women!AD35","v":"20-16670"},{"$f":"Roster_Selection_Women!AE35","v":"Cassidy Eschliman"},null,{"$f":"IF(ISERROR([3]Baker_Scores_Women_Var!E39), \" \", IF([3]Baker_Scores_Women_Var!E39 = \"Yes\", \"Yes\", \"  \"))","v":"#ERROR!"},0.0,0.0,0.0,0.0,0.0,0.0,169.0,169,1,169]
[null,{"$f":"Roster_Selection_Women!AB36&\" \" & \"V \"","v":"Barton Community College V "},{"$f":"Roster_Selection_Women!AD36","v":"15-199348"},{"$f":"Roster_Selection_Women!AE36","v":"Cassidy Goans"},null,{"$f":"IF(ISERROR([3]Baker_Scores_Women_Var!E40), \" \", IF([3]Baker_Scores_Women_Var!E40 = \"Yes\", \"Yes\", \"  \"))","v":"#ERROR!"},0.0,0.0,0.0,0.0,170.0,0.0,134.0,304,2,152]
[null,{"$f":"Roster_Selection_Women!AB37&\" \" & \"V \"","v":"Barton Community College V "},{"$f":"Roster_Selection_Women!AD37","v":"11-595640"},{"$f":"Roster_Selection_Women!AE37","v":"Chailyn Scott"},null,{"$f":"IF(ISERROR([3]Baker_Scores_Women_Var!E41), \" \", IF([3]Baker_Scores_Women_Var!E41 = \"Yes\", \"Yes\", \"  \"))","v":"#ERROR!"},208.0,151.0,193.0,163.0,119.0,140.0,0.0,974,6,162.3333333]
[null,{"$f":"Roster_Selection_Women!AB38&\" \" & \"V \"","v":"Barton Community College V "},{"$f":"Roster_Selection_Women!AD38","v":"11-648604"},{"$f":"Roster_Selection_Women!AE38","v":"Jaden Rabe"},null,{"$f":"IF(ISERROR([3]Baker_Scores_Women_Var!E42), \" \", IF([3]Baker_Scores_Women_Var!E42 = \"Yes\", \"Yes\", \"  \"))","v":"#ERROR!"},192.0,181.0,150.0,153.0,0.0,188.0,191.0,1055,6,175.8333333]
[null,{"$f":"Roster_Selection_Women!AB39&\" \" & \"V \"","v":"Barton Community College V "},{"$f":"Roster_Selection_Women!AD39","v":"16-4404"},{"$f":"Roster_Selection_Women!AE39","v":"Jasmine Bridges"},null,{"$f":"IF(ISERROR([3]Baker_Scores_Women_Var!E43), \" \", IF([3]Baker_Scores_Women_Var!E43 = \"Yes\", \"Yes\", \"  \"))","v":"#ERROR!"},167.0,101.0,183.0,164.0,167.0,167.0,0.0,949,6,158.1666667]
[null,{"$f":"Roster_Selection_Women!AB40&\" \" & \"V \"","v":"Barton Community College V "},{"$f":"Roster_Selection_Women!AD40","v":"21-69516"},{"$f":"Roster_Selection_Women!AE40","v":"Morgan Kolanek"},null,{"$f":"IF(ISERROR([3]Baker_Scores_Women_Var!E44), \" \", IF([3]Baker_Scores_Women_Var!E44 = \"Yes\", \"Yes\", \"  \"))","v":"#ERROR!"},0.0,0.0,0.0,0.0,0.0,0.0,138.0,138,1,138]
[null,{"$f":"Roster_Selection_Women!AB41&\" \" & \"V \"","v":"Barton Community College V "},{"$f":"Roster_Selection_Women!AD41","v":"11-393971"},{"$f":"Roster_Selection_Women!AE41","v":"Olivia Oliver"},null,{"$f":"IF(ISERROR([3]Baker_Scores_Women_Var!E45), \" \", IF([3]Baker_Scores_Women_Var!E45 = \"Yes\", \"Yes\", \"  \"))","v":"#ERROR!"},157.0,117.0,162.0,183.0,204.0,167.0,0.0,990,6,165]
[null,"Barton Community College V","","",{"$nulls":9},0,0,0]
[null,"Barton Community College V","","",{"$nulls":9},0,0,0]
[null,"Barton Community College V","","",{"$nulls":9},0,0,0]
[{"$nulls":6},{"$f":"SUM(G38:G48)","v":935},671,882,789,803,840,747,5667,35]
[]
[null,{"$f":"Roster_Selection_Women!AB46&\" \" & \"V \"","v":"Central Methodist University V "},{"$f":"Roster_Selection_Women!AD46","v":"23-10758"},{"$f":"Roster_Selection_Women!AE46","v":"Janell Whitfield"},null,{"$f":"IF(ISERROR([3]Baker_Scores_Women_Var!E51), \" \", IF([3]Baker_Scores_Women_Var!E51 = \"Yes\", \"Yes\", \"  \"))","v":"#ERROR!"},52.0,65.0,70.0,55.0,80.0,78.0,76.0,{"$f":"SUM(G51:M51)","v":476},{"$f":"COUNTIF(G51:M51, \">0\" )","v":7},{"$f":"IF(O51=0,0,N51/O51)","v":68}]
[null,{"$f":"Roster_Selection_Women!AB47&\" \" & \"V \"","v":"Central Methodist University V "},{"$f":"Roster_Selection_Women!AD47","v":"23-10761"},{"$f":"Roster_Selection_Women!AE47","v":"Lauren Williams"},null,{"$f":"IF(ISERROR([3]Baker_Scores_Women_Var!E52), \" \", IF([3]Baker_Scores_Women_Var!E52 = \"Yes\", \"Yes\", \"  \"))","v":"#ERROR!"},101.0,112.0,111.0,103.0,146.0,100.0,129.0,802,7,114.5714286]
[null,{"$f":"Roster_Selection_Women!AB48&\" \" & \"V \"","v":"Central Methodist University V "},{"$f":"Roster_Selection_Women!AD48","v":"11-548891"},{"$f":"Roster_Selection_Women!AE48","v":"Maya Elliott"},null,{"$f":"IF(ISERROR([3]Baker_Scores_Women_Var!E53), \" \", IF([3]Baker_Scores_Women_Var!E53 = \"Yes\", \"Yes\", \"  \"))","v":"#ERROR!"},124.0,106.0,103.0,101.0,122.0,108.0,100.0,764,7,109.1428571]
[null,{"$f":"Roster_Selection_Women!AB49&\" \" & \"V \"","v":" V "},{"$f":"Roster_Selection_Women!AD49","v":""},{"$f":"Roster_Selection_Women!AE49","v":""},null,{"$f":"IF(ISERROR([3]Baker_Scores_Women_Var!E54), \" \", IF([3]Baker_Scores_Women_Var!E54 = \"Yes\", \"Yes\", \"  \"))","v":"#ERROR!"},0.0,0.0,0.0,0.0,0.0,0.0,0.0,0,0,0]
[null,{"$f":"Roster_Selection_Women!AB50&\" \" & \"V \"","v":" V "},{"$f":"Roster_Selection_Women!AD50","v":""},{"$f":"Roster_Selection_Women!AE50","v":""},null,{"$f":"IF(ISERROR([3]Baker_Scores_Women_Var!E55), \" \", IF([3]Baker_Scores_Women_Var!E55 = \"Yes\", \"Yes\", \"  \"))","v":"#ERROR!"},0.0,0.0,0.0,0.0,0.0,0.0,0.0,0,0,0]
[null,{"$f":"Roster_Selection_Women!AB51&\" \" & \"V \"","v":" V "},{"$f":"Roster_Selection_Women!AD51","v":""},{"$f":"Roster_Selection_Women!AE51","v":""},null,{"$f":"IF(ISERROR([3]Baker_Scores_Women_Var!E56), \" \", IF([3]Baker_Scores_Women_Var!E56 = \"Yes\", \"Yes\", \"  \"))","v":"#ERROR!"},0.0,0.0,0.0,0.0,0.0,0.0,0.0,0,0,0]
[null,{"$f":"Roster_Selection_Women!AB52&\" \" & \"V \"","v":" V "},{"$f":"Roster_Selection_Women!AD52","v":""},{"$f":"Roster_Selection_Women!AE52","v":""},null,{"$f":"IF(ISERROR([3]Baker_Scores_Women_Var!E57), \" \", IF([3]Baker_Scores_Women_Var!E57 = \"Yes\", \"Yes\", \"  \"))","v":"#ERROR!"},0.0,0.0,0.0,0.0,0.0,0.0,0.0,0,0,0]
[null,{"$f":"Roster_Selection_Women!AB53&\" \" & \"V \"","v":" V "},{"$f":"Roster_Selection_Women!AD53","v":""},{"$f":"Roster_Selection_Women!AE53","v":""},null,{"$f":"IF(ISERROR([3]Baker_Scores_Women_Var!E58), \" \", IF([3]Baker_Scores_Women_Var!E58 = \"Yes\", \"Yes\", \"  \"))","v":"#ERROR!"},0.0,0.0,0.0,0.0,0.0,0.0,0.0,0,0,0]
[null,"Central Methodist University V","","",{"$nulls":9},0,0,0]
[null,"Central Methodist University V","","",{"$nulls":9},0,0,0]
[null,"Central Methodist University V","","",{"$nulls":9},0,0,0]
[{"$nulls":6},{"$f":"SUM(G51:G61)","v":277},283,284,259,348,286,305,2042,21]
[]
[null,{"$f":"Roster_Selection_Women!AB54&\" \" & \"V \"","v":"Clarke University V "},{"$f":"Roster_Selection_Women!AD54","v":"7914-34066"},{"$f":"Roster_Selection_Women!AE54","v":"Emily Larson"},null,{"$f":"IF(ISERROR([3]Baker_Scores_Women_Var!E64), \" \", IF([3]Baker_Scores_Women_Var!E64 = \"Yes\", \"Yes\", \"  \"))","v":"#ERROR!"},146.0,119.0,162.0,126.0,143.0,160.0,166.0,{"$f":"SUM(G64:M64)","v":1022},{"$f":"COUNTIF(G64:M64, \">0\" )","v":7},{"$f":"IF(O64=0,0,N64/O64)","v":146}]
[null,{"$f":"Roster_Selection_Women!AB55&\" \" & \"V \"","v":"Clarke University V "},{"$f":"Roster_Selection_Women!AD55","v":"17-18731"},{"$f":"Roster_Selection_Women!AE55","v":"Emma Clancy"},null,{"$f":"IF(ISERROR([3]Baker_Scores_Women_Var!E65), \" \", IF([3]Baker_Scores_Women_Var!E65 = \"Yes\", \"Yes\", \"  \"))","v":"#ERROR!"},224.0,158.0,154.0,221.0,182.0,159.0,123.0,1221,7,174.4285714]
[null,{"$f":"Roster_Selection_Women!AB56&\" \" & \"V \"","v":"Clarke University V "},{"$f":"Roster_Selection_Women!AD56","v":"18-54066"},{"$f":"Roster_Selection_Women!AE56","v":"Jennifer Hayakawa"},null,{"$f":"IF(ISERROR([3]Baker_Scores_Women_Var!E66), \" \", IF([3]Baker_Scores_Women_Var!E66 = \"Yes\", \"Yes\", \"  \"))","v":"#ERROR!"},149.0,144.0,175.0,128.0,174.0,113.0,181.0,1064,7,152]
[null,{"$f":"Roster_Selection_Women!AB57&\" \" & \"V \"","v":"Clarke University V "},{"$f":"Roster_Selection_Women!AD57","v":"5832-2273"},{"$f":"Roster_Selection_Women!AE57","v":"Kassidy Gerken"},null,{"$f":"IF(ISERROR([3]Baker_Scores_Women_Var!E67), \" \", IF([3]Baker_Scores_Women_Var!E67 = \"Yes\", \"Yes\", \"  \"))","v":"#ERROR!"},191.0,182.0,137.0,197.0,174.0,195.0,177.0,1253,7,179]
[null,{"$f":"Roster_Selection_Women!AB58&\" \" & \"V \"","v":"Clarke University V "},{"$f":"Roster_Selection_Women!AD58","v":"17-28566"},{"$f":"Roster_Selection_Women!AE58","v":"Sidney Pawski"},null,{"$f":"IF(ISERROR([3]Baker_Scores_Women_Var!E68), \" \", IF([3]Baker_Scores_Women_Var!E68 = \"Yes\", \"Yes\", \"  \"))","v":"#ERROR!"},0.0,0.0,0.0,0.0,131.0,191.0,138.0,460,3,153.3333333]
[null,{"$f":"Roster_Selection_Women!AB59&\" \" & \"V \"","v":"Clarke University V "},{"$f":"Roster_Selection_Women!AD59","v":"11-43463"},{"$f":"Roster_Selection_Women!AE59","v":"Stephanie Thompson"},null,{"$f":"IF(ISERROR([3]Baker_Scores_Women_Var!E69), \" \", IF([3]Baker_Scores_Women_Var!E69 = \"Yes\", \"Yes\", \"  \"))","v":"#ERROR!"},155.0,152.0,155.0,134.0,0.0,0.0,0.0,596,4,149]
[null,{"$f":"Roster_Selection_Women!AB60&\" \" & \"V \"","v":" V "},{"$f":"Roster_Selection_Women!AD60","v":""},{"$f":"Roster_Selection_Women!AE60","v":""},null,{"$f":"IF(ISERROR([3]Baker_Scores_Women_Var!E70), \" \", IF([3]Baker_Scores_Women_Var!E70 = \"Yes\", \"Yes\", \"  \"))","v":"#ERROR!"},0.0,0.0,0.0,0.0,0.0,0.0,0.0,0,0,0]
[null,{"$f":"Roster_Selection_Women!AB61&\" \" & \"V \"","v":" V "},{"$f":"Roster_Selection_Women!AD61","v":""},{"$f":"Roster_Selection_Women!AE61","v":""},null,{"$f":"IF(ISERROR([3]Baker_Scores_Women_Var!E71), \" \", IF([3]Baker_Scores_Women_Var!E71 = \"Yes\", \"Yes\", \"  \"))","v":"#ERROR!"},0.0,0.0,0.0,0.0,0.0,0.0,0.0,0,0,0]
[null,"Clarke University V","","",{"$nulls":9},0,0,0]
[null,"Clarke University V","","",{"$nulls":9},0,0,0]
[null,"Clarke University V","","",{"$nulls":9},0,0,0]
[{"$nulls":6},{"$f":"SUM(G64:G74)","v":865},755,783,806,804,818,785,5616,35]
[]
[null,{"$f":"Roster_Selection_Women!AB62&\" \" & \"V \"","v":"Columbia College V "},{"$f":"Roster_Selection_Women!AD62","v":"11-717261"},{"$f":"Roster_Selection_Women!AE62","v":"Allyson Johnson"},null,{"$f":"IF(ISERROR([3]Baker_Scores_Women_Var!E77), \" \", IF([3]Baker_Scores_Women_Var!E77 = \"Yes\", \"Yes\", \"  \"))","v":"#ERROR!"},145.0,159.0,166.0,232.0,157.0,130.0,150.0,{"$f":"SUM(G77:M77)","v":1139},{"$f":"COUNTIF(G77:M77, \">0\" )","v":7},{"$f":"IF(O77=0,0,N77/O77)","v":162.7142857}]
[null,{"$f":"Roster_Selection_Women!AB63&\" \" & \"V \"","v":"Columbia College V "},{"$f":"Roster_Selection_Women!AD63","v":"11-52087"},{"$f":"Roster_Selection_Women!AE63","v":"Breanne West"},null,{"$f":"IF(ISERROR([3]Baker_Scores_Women_Var!E78), \" \", IF([3]Baker_Scores_Women_Var!E78 = \"Yes\", \"Yes\", \"  \"))","v":"#ERROR!"},171.0,177.0,226.0,162.0,143.0,144.0,0.0,1023,6,170.5]
[null,{"$f":"Roster_Selection_Women!AB64&\" \" & \"V \"","v":"Columbia College V "},{"$f":"Roster_Selection_Women!AD64","v":"9229-56442"},{"$f":"Roster_Selection_Women!AE64","v":"Emma Shaner"},null,{"$f":"IF(ISERROR([3]Baker_Scores_Women_Var!E79), \" \", IF([3]Baker_Scores_Women_Var!E79 = \"Yes\", \"Yes\", \"  \"))","v":"#ERROR!"},0.0,153.0,181.0,200.0,158.0,165.0,0.0,857,5,171.4]
[null,{"$f":"Roster_Selection_Women!AB65&\" \" & \"V \"","v":"Columbia College V "},{"$f":"Roster_Selection_Women!AD65","v":"15-91693"},{"$f":"Roster_Selection_Women!AE65","v":"Kenna Schmidt"},null,{"$f":"IF(ISERROR([3]Baker_Scores_Women_Var!E80), \" \", IF([3]Baker_Scores_Women_Var!E80 = \"Yes\", \"Yes\", \"  \"))","v":"#ERROR!"},0.0,0.0,0.0,0.0,0.0,0.0,148.0,148,1,148]
[null,{"$f":"Roster_Selection_Women!AB66&\" \" & \"V \"","v":"Columbia College V "},{"$f":"Roster_Selection_Women!AD66","v":"11-139190"},{"$f":"Roster_Selection_Women!AE66","v":"Kiana Hodges"},null,{"$f":"IF(ISERROR([3]Baker_Scores_Women_Var!E81), \" \", IF([3]Baker_Scores_Women_Var!E81 = \"Yes\", \"Yes\", \"  \"))","v":"#ERROR!"},154.0,152.0,189.0,181.0,147.0,168.0,152.0,1143,7,163.2857143]
[null,{"$f":"Roster_Selection_Women!AB67&\" \" & \"V \"","v":"Columbia College V "},{"$f":"Roster_Selection_Women!AD67","v":"11-188599"},{"$f":"Roster_Selection_Women!AE67","v":"Mallory Cross"},null,{"$f":"IF(ISERROR([3]Baker_Scores_Women_Var!E82), \" \", IF([3]Baker_Scores_Women_Var!E82 = \"Yes\", \"Yes\", \"  \"))","v":"#ERROR!"},0.0,0.0,0.0,0.0,0.0,0.0,138.0,138,1,138]
[null,{"$f":"Roster_Selection_Women!AB68&\" \" & \"V \"","v":"Columbia College V "},{"$f":"Roster_Selection_Women!AD68","v":"7914-20775"},{"$f":"Roster_Selection_Women!AE68","v":"Rhyleigh Wilson"},null,{"$f":"IF(ISERROR([3]Baker_Scores_Women_Var!E83), \" \", IF([3]Baker_Scores_Women_Var!E83 = \"Yes\", \"Yes\", \"  \"))","v":"#ERROR!"},130.0,0.0,0.0,0.0,0.0,0.0,0.0,130,1,130]
[null,{"$f":"Roster_Selection_Women!AB69&\" \" & \"V \"","v":"Columbia College V "},{"$f":"Roster_Selection_Women!AD69","v":"22-1347"},{"$f":"Roster_Selection_Women!AE69","v":"Samantha Malley"},null,{"$f":"IF(ISERROR([3]Baker_Scores_Women_Var!E84), \" \", IF([3]Baker_Scores_Women_Var!E84 = \"Yes\", \"Yes\", \"  \"))","v":"#ERROR!"},145.0,147.0,150.0,171.0,129.0,167.0,149.0,1058,7,151.1428571]
[null,"Columbia College V","","",{"$nulls":9},0,0,0]
[null,"Columbia College V","","",{"$nulls":9},0,0,0]
[null,"Columbia College V","","",{"$nulls":9},0,0,0]
[{"$nulls":6},{"$f":"SUM(G77:G87)","v":745},788,912,946,734,774,737,5636,35]
[]
[null,{"$f":"Roster_Selection_Women!AB72&\" \" & \"V \"","v":"Culver-Stockton College V "},{"$f":"Roster_Selection_Women!AD72","v":"17-45685"},{"$f":"Roster_Selection_Women!AE72","v":"Jasmine Saunders"},null,{"$f":"IF(ISERROR([3]Baker_Scores_Women_Var!E90), \" \", IF([3]Baker_Scores_Women_Var!E90 = \"Yes\", \"Yes\", \"  \"))","v":"#ERROR!"},148.0,209.0,197.0,166.0,157.0,201.0,163.0,{"$f":"SUM(G90:M90)","v":1241},{"$f":"COUNTIF(G90:M90, \">0\" )","v":7},{"$f":"IF(O90=0,0,N90/O90)","v":177.2857143}]
[null,{"$f":"Roster_Selection_Women!AB73&\" \" & \"V \"","v":"Culver-Stockton College V "},{"$f":"Roster_Selection_Women!AD73","v":"11-381963"},{"$f":"Roster_Selection_Women!AE73","v":"Jersey Lessenger"},null,{"$f":"IF(ISERROR([3]Baker_Scores_Women_Var!E91), \" \", IF([3]Baker_Scores_Women_Var!E91 = \"Yes\", \"Yes\", \"  \"))","v":"#ERROR!"},202.0,166.0,201.0,192.0,147.0,132.0,158.0,1198,7,171.1428571]
[null,{"$f":"Roster_Selection_Women!AB74&\" \" & \"V \"","v":"Culver-Stockton College V "},{"$f":"Roster_Selection_Women!AD74","v":"20-27294"},{"$f":"Roster_Selection_Women!AE74","v":"Madison Shontz"},null,{"$f":"IF(ISERROR([3]Baker_Scores_Women_Var!E92), \" \", IF([3]Baker_Scores_Women_Var!E92 = \"Yes\", \"Yes\", \"  \"))","v":"#ERROR!"},147.0,161.0,152.0,220.0,155.0,151.0,135.0,1121,7,160.1428571]
[null,{"$f":"Roster_Selection_Women!AB75&\" \" & \"V \"","v":"Culver-Stockton College V "},{"$f":"Roster_Selection_Women!AD75","v":"5853-321"},{"$f":"Roster_Selection_Women!AE75","v":"Rachel Moore"},null,{"$f":"IF(ISERROR([3]Baker_Scores_Women_Var!E93), \" \", IF([3]Baker_Scores_Women_Var!E93 = \"Yes\", \"Yes\", \"  \"))","v":"#ERROR!"},214.0,193.0,185.0,166.0,195.0,203.0,170.0,1326,7,189.4285714]
[null,{"$f":"Roster_Selection_Women!AB76&\" \" & \"V \"","v":"Culver-Stockton College V "},{"$f":"Roster_Selection_Women!AD76","v":"11-531608"},{"$f":"Roster_Selection_Women!AE76","v":"Rilee Allen"},null,{"$f":"IF(ISERROR([3]Baker_Scores_Women_Var!E94), \" \", IF([3]Baker_Scores_Women_Var!E94 = \"Yes\", \"Yes\", \"  \"))","v":"#ERROR!"},171.0,111.0,151.0,128.0,139.0,145.0,148.0,993,7,141.8571429]
[null,{"$f":"Roster_Selection_Women!AB77&\" \" & \"V \"","v":" V "},{"$f":"Roster_Selection_Women!AD77","v":""},{"$f":"Roster_Selection_Women!AE77","v":""},null,{"$f":"IF(ISERROR([3]Baker_Scores_Women_Var!E95), \" \", IF([3]Baker_Scores_Women_Var!E95 = \"Yes\", \"Yes\", \"  \"))","v":"#ERROR!"},0.0,0.0,0.0,0.0,0.0,0.0,0.0,0,0,0]
[null,{"$f":"Roster_Selection_Women!AB78&\" \" & \"V \"","v":" V "},{"$f":"Roster_Selection_Women!AD78","v":""},{"$f":"Roster_Selection_Women!AE78","v":""},null,{"$f":"IF(ISERROR([3]Baker_Scores_Women_Var!E96), \" \", IF([3]Baker_Scores_Women_Var!E96 = \"Yes\", \"Yes\", \"  \"))","v":"#ERROR!"},0.0,0.0,0.0,0.0,0.0,0.0,0.0,0,0,0]
[null,{"$f":"Roster_Selection_Women!AB79&\" \" & \"V \"","v":" V "},{"$f":"Roster_Selection_Women!AD79","v":""},{"$f":"Roster_Selection_Women!AE79","v":""},null,{"$f":"IF(ISERROR([3]Baker_Scores_Women_Var!E97), \" \", IF([3]Baker_Scores_Women_Var!E97 = \"Yes\", \"Yes\", \"  \"))","v":"#ERROR!"},0.0,0.0,0.0,0.0,0.0,0.0,0.0,0,0,0]
[null,"Culver-Stockton College V","","",{"$nulls":9},0,0,0]
[null,"Culver-Stockton College V","","",{"$nulls":9},0,0,0]
[null,"Culver-Stockton College V","","",{"$nulls":9},0,0,0]
[{"$nulls":6},{"$f":"SUM(G90:G100)","v":882},840,886,872,793,832,774,5879,35]
[]
[null,{"$f":"Roster_Selection_Women!AB80&\" \" & \"V \"","v":"Grand View University V "},{"$f":"Roster_Selection_Women!AD80","v":"7914-27984"},{"$f":"Roster_Selection_Women!AE80","v":"Emilee Hall"},null,{"$f":"IF(ISERROR([3]Baker_Scores_Women_Var!E103), \" \", IF([3]Baker_Scores_Women_Var!E103 = \"Yes\", \"Yes\", \"  \"))","v":"#ERROR!"},152.0,142.0,0.0,0.0,184.0,165.0,119.0,{"$f":"SUM(G103:M103)","v":762},{"$f":"COUNTIF(G103:M103, \">0\" )","v":5},{"$f":"IF(O103=0,0,N103/O103)","v":152.4}]
[null,{"$f":"Roster_Selection_Women!AB81&\" \" & \"V \"","v":"Grand View University V "},{"$f":"Roster_Selection_Women!AD81","v":"11-96883"},{"$f":"Roster_Selection_Women!AE81","v":"Halie Marean"},null,{"$f":"IF(ISERROR([3]Baker_Scores_Women_Var!E104), \" \", IF([3]Baker_Scores_Women_Var!E104 = \"Yes\", \"Yes\", \"  \"))","v":"#ERROR!"},208.0,158.0,158.0,189.0,142.0,200.0,192.0,1247,7,178.1428571]
[null,{"$f":"Roster_Selection_Women!AB82&\" \" & \"V \"","v":"Grand View University V "},{"$f":"Roster_Selection_Women!AD82","v":"11-232057"},{"$f":"Roster_Selection_Women!AE82","v":"Isabel Tetmeyer"},null,{"$f":"IF(ISERROR([3]Baker_Scores_Women_Var!E105), \" \", IF([3]Baker_Scores_Women_Var!E105 = \"Yes\", \"Yes\", \"  \"))","v":"#ERROR!"},182.0,175.0,185.0,200.0,216.0,180.0,190.0,1328,7,189.7142857]
[null,{"$f":"Roster_Selection_Women!AB83&\" \" & \"V \"","v":"Grand View University V "},{"$f":"Roster_Selection_Women!AD83","v":"7914-7770"},{"$f":"Roster_Selection_Women!AE83","v":"Kaytlyn Andrews"},null,{"$f":"IF(ISERROR([3]Baker_Scores_Women_Var!E106), \" \", IF([3]Baker_Scores_Women_Var!E106 = \"Yes\", \"Yes\", \"  \"))","v":"#ERROR!"},180.0,177.0,184.0,157.0,186.0,175.0,186.0,1245,7,177.8571429]
[null,{"$f":"Roster_Selection_Women!AB84&\" \" & \"V \"","v":"Grand View University V "},{"$f":"Roster_Selection_Women!AD84","v":"7914-2777"},{"$f":"Roster_Selection_Women!AE84","v":"Kiera Jors"},null,{"$f":"IF(ISERROR([3]Baker_Scores_Women_Var!E107), \" \", IF([3]Baker_Scores_Women_Var!E107 = \"Yes\", \"Yes\", \"  \"))","v":"#ERROR!"},0.0,0.0,0.0,0.0,0.0,0.0,0.0,0,0,0]
[null,{"$f":"Roster_Selection_Women!AB85&\" \" & \"V \"","v":"Grand View University V "},{"$f":"Roster_Selection_Women!AD85","v":"11-242164"},{"$f":"Roster_Selection_Women!AE85","v":"Madison Pickett"},null,{"$f":"IF(ISERROR([3]Baker_Scores_Women_Var!E108), \" \", IF([3]Baker_Scores_Women_Var!E108 = \"Yes\", \"Yes\", \"  \"))","v":"#ERROR!"},0.0,0.0,148.0,151.0,0.0,0.0,0.0,299,2,149.5]
[null,{"$f":"Roster_Selection_Women!AB86&\" \" & \"V \"","v":"Grand View University V "},{"$f":"Roster_Selection_Women!AD86","v":"11-307190"},{"$f":"Roster_Selection_Women!AE86","v":"Michelle Stewart"},null,{"$f":"IF(ISERROR([3]Baker_Scores_Women_Var!E109), \" \", IF([3]Baker_Scores_Women_Var!E109 = \"Yes\", \"Yes\", \"  \"))","v":"#ERROR!"},175.0,178.0,190.0,153.0,189.0,180.0,159.0,1224,7,174.8571429]
[null,{"$f":"Roster_Selection_Women!AB87&\" \" & \"V \"","v":" V "},{"$f":"Roster_Selection_Women!AD87","v":""},{"$f":"Roster_Selection_Women!AE87","v":""},null,{"$f":"IF(ISERROR([3]Baker_Scores_Women_Var!E110), \" \", IF([3]Baker_Scores_Women_Var!E110 = \"Yes\", \"Yes\", \"  \"))","v":"#ERROR!"},0.0,0.0,0.0,0.0,0.0,0.0,0.0,0,0,0]
[null,"Grand View University V","","",{"$nulls":9},0,0,0]
[null,"Grand View University V","","",{"$nulls":9},0,0,0]
[null,"Grand View University V","","",{"$nulls":9},0,0,0]
[{"$nulls":6},{"$f":"SUM(G103:G113)","v":897},830,865,850,917,900,846,6105,35]
[]
[null,{"$f":"Roster_Selection_Women!AB94&\" \" & \"V \"","v":"Hastings College V "},{"$f":"Roster_Selection_Women!AD94","v":"11-87836"},{"$f":"Roster_Selection_Women!AE94","v":"Abby Dallegge"},null,{"$f":"IF(ISERROR([3]Baker_Scores_Women_Var!E116), \" \", IF([3]Baker_Scores_Women_Var!E116 = \"Yes\", \"Yes\", \"  \"))","v":"#ERROR!"},164.0,172.0,136.0,0.0,0.0,0.0,108.0,{"$f":"SUM(G116:M116)","v":580},{"$f":"COUNTIF(G116:M116, \">0\" )","v":4},{"$f":"IF(O116=0,0,N116/O116)","v":145}]
[null,{"$f":"Roster_Selection_Women!AB95&\" \" & \"V \"","v":"Hastings College V "},{"$f":"Roster_Selection_Women!AD95","v":"11-264092"},{"$f":"Roster_Selection_Women!AE95","v":"Amanda Peterson"},null,{"$f":"IF(ISERROR([3]Baker_Scores_Women_Var!E117), \" \", IF([3]Baker_Scores_Women_Var!E117 = \"Yes\", \"Yes\", \"  \"))","v":"#ERROR!"},0.0,0.0,164.0,175.0,207.0,194.0,161.0,901,5,180.2]
[null,{"$f":"Roster_Selection_Women!AB96&\" \" & \"V \"","v":"Hastings College V "},{"$f":"Roster_Selection_Women!AD96","v":"20-10282"},{"$f":"Roster_Selection_Women!AE96","v":"Katie Morse"},null,{"$f":"IF(ISERROR([3]Baker_Scores_Women_Var!E118), \" \", IF([3]Baker_Scores_Women_Var!E118 = \"Yes\", \"Yes\", \"  \"))","v":"#ERROR!"},145.0,135.0,147.0,92.0,123.0,158.0,122.0,922,7,131.7142857]
[null,{"$f":"Roster_Selection_Women!AB97&\" \" & \"V \"","v":"Hastings College V "},{"$f":"Roster_Selection_Women!AD97","v":"11-734490"},{"$f":"Roster_Selection_Women!AE97","v":"Kinzie Temple"},null,{"$f":"IF(ISERROR([3]Baker_Scores_Women_Var!E119), \" \", IF([3]Baker_Scores_Women_Var!E119 = \"Yes\", \"Yes\", \"  \"))","v":"#ERROR!"},147.0,126.0,0.0,172.0,144.0,142.0,167.0,898,6,149.6666667]
[null,{"$f":"Roster_Selection_Women!AB98&\" \" & \"V \"","v":"Hastings College V "},{"$f":"Roster_Selection_Women!AD98","v":"11-455997"},{"$f":"Roster_Selection_Women!AE98","v":"Madison Henderson"},null,{"$f":"IF(ISERROR([3]Baker_Scores_Women_Var!E120), \" \", IF([3]Baker_Scores_Women_Var!E120 = \"Yes\", \"Yes\", \"  \"))","v":"#ERROR!"},155.0,158.0,208.0,184.0,172.0,110.0,0.0,987,6,164.5]
[null,{"$f":"Roster_Selection_Women!AB99&\" \" & \"V \"","v":"Hastings College V "},{"$f":"Roster_Selection_Women!AD99","v":"18-71705"},{"$f":"Roster_Selection_Women!AE99","v":"Marissa Ruiz"},null,{"$f":"IF(ISERROR([3]Baker_Scores_Women_Var!E121), \" \", IF([3]Baker_Scores_Women_Var!E121 = \"Yes\", \"Yes\", \"  \"))","v":"#ERROR!"},190.0,181.0,139.0,182.0,193.0,164.0,127.0,1176,7,168]
[null,{"$f":"Roster_Selection_Women!AB100&\" \" & \"V \"","v":" V "},{"$f":"Roster_Selection_Women!AD100","v":""},{"$f":"Roster_Selection_Women!AE100","v":""},null,{"$f":"IF(ISERROR([3]Baker_Scores_Women_Var!E122), \" \", IF([3]Baker_Scores_Women_Var!E122 = \"Yes\", \"Yes\", \"  \"))","v":"#ERROR!"},0.0,0.0,0.0,0.0,0.0,0.0,0.0,0,0,0]
[null,{"$f":"Roster_Selection_Women!AB101&\" \" & \"V \"","v":" V "},{"$f":"Roster_Selection_Women!AD101","v":""},{"$f":"Roster_Selection_Women!AE101","v":""},null,{"$f":"IF(ISERROR([3]Baker_Scores_Women_Var!E123), \" \", IF([3]Baker_Scores_Women_Var!E123 = \"Yes\", \"Yes\", \"  \"))","v":"#ERROR!"},0.0,0.0,0.0,0.0,0.0,0.0,0.0,0,0,0]
[null,"Hastings College V","","",{"$nulls":9},0,0,0]
[null,"Hastings College V","","",{"$nulls":9},0,0,0]
[null,"Hastings College V","","",{"$nulls":9},0,0,0]
[{"$nulls":6},{"$f":"SUM(G116:G126)","v":801},772,794,805,839,768,685,5464,35]
[]
[null,{"$f":"Roster_Selection_Women!AB106&\" \" & \"V \"","v":"Kansas ,University Of V "},{"$f":"Roster_Selection_Women!AD106","v":"23-19336"},{"$f":"Roster_Selection_Women!AE106","v":"Alyssa Molton"},null,{"$f":"IF(ISERROR([3]Baker_Scores_Women_Var!E129), \" \", IF([3]Baker_Scores_Women_Var!E129 = \"Yes\", \"Yes\", \"  \"))","v":"#ERROR!"},0.0,0.0,0.0,0.0,0.0,0.0,0.0,{"$f":"SUM(G129:M129)","v":0},{"$f":"COUNTIF(G129:M129, \">0\" )","v":0},{"$f":"IF(O129=0,0,N129/O129)","v":0}]
[null,{"$f":"Roster_Selection_Women!AB107&\" \" & \"V \"","v":"Kansas ,University Of V "},{"$f":"Roster_Selection_Women!AD107","v":"5900-28007"},{"$f":"Roster_Selection_Women!AE107","v":"Annabelle Bitner"},null,{"$f":"IF(ISERROR([3]Baker_Scores_Women_Var!E130), \" \", IF([3]Baker_Scores_Women_Var!E130 = \"Yes\", \"Yes\", \"  \"))","v":"#ERROR!"},209.0,126.0,146.0,131.0,141.0,151.0,186.0,1090,7,155.7142857]
[null,{"$f":"Roster_Selection_Women!AB108&\" \" & \"V \"","v":"Kansas ,University Of V "},{"$f":"Roster_Selection_Women!AD108","v":"23-19341"},{"$f":"Roster_Selection_Women!AE108","v":"Ashley Simpson"},null,{"$f":"IF(ISERROR([3]Baker_Scores_Women_Var!E131), \" \", IF([3]Baker_Scores_Women_Var!E131 = \"Yes\", \"Yes\", \"  \"))","v":"#ERROR!"},0.0,0.0,102.0,118.0,148.0,100.0,110.0,578,5,115.6]
[null,{"$f":"Roster_Selection_Women!AB109&\" \" & \"V \"","v":"Kansas ,University Of V "},{"$f":"Roster_Selection_Women!AD109","v":"21-82223"},{"$f":"Roster_Selection_Women!AE109","v":"Braylie Apperson"},null,{"$f":"IF(ISERROR([3]Baker_Scores_Women_Var!E132), \" \", IF([3]Baker_Scores_Women_Var!E132 = \"Yes\", \"Yes\", \"  \"))","v":"#ERROR!"},143.0,171.0,130.0,198.0,114.0,0.0,0.0,756,5,151.2]
[null,{"$f":"Roster_Selection_Women!AB110&\" \" & \"V \"","v":"Kansas ,University Of V "},{"$f":"Roster_Selection_Women!AD110","v":"21-52280"},{"$f":"Roster_Selection_Women!AE110","v":"Grace Dorst"},null,{"$f":"IF(ISERROR([3]Baker_Scores_Women_Var!E133), \" \", IF([3]Baker_Scores_Women_Var!E133 = \"Yes\", \"Yes\", \"  \"))","v":"#ERROR!"},0.0,0.0,0.0,128.0,128.0,141.0,124.0,521,4,130.25]
[null,{"$f":"Roster_Selection_Women!AB111&\" \" & \"V \"","v":"Kansas ,University Of V "},{"$f":"Roster_Selection_Women!AD111","v":"23-22840"},{"$f":"Roster_Selection_Women!AE111","v":"Kelsey Booker"},null,{"$f":"IF(ISERROR([3]Baker_Scores_Women_Var!E134), \" \", IF([3]Baker_Scores_Women_Var!E134 = \"Yes\", \"Yes\", \"  \"))","v":"#ERROR!"},132.0,114.0,0.0,0.0,0.0,168.0,147.0,561,4,140.25]
[null,{"$f":"Roster_Selection_Women!AB112&\" \" & \"V \"","v":"Kansas ,University Of V "},{"$f":"Roster_Selection_Women!AD112","v":"23-19342"},{"$f":"Roster_Selection_Women!AE112","v":"Rebecca Bruening"},null,{"$f":"IF(ISERROR([3]Baker_Scores_Women_Var!E135), \" \", IF([3]Baker_Scores_Women_Var!E135 = \"Yes\", \"Yes\", \"  \"))","v":"#ERROR!"},177.0,168.0,129.0,0.0,0.0,139.0,122.0,735,5,147]
[null,{"$f":"Roster_Selection_Women!AB113&\" \" & \"V \"","v":"Kansas ,University Of V "},{"$f":"Roster_Selection_Women!AD113","v":"21-32743"},{"$f":"Roster_Selection_Women!AE113","v":"Sydney Chandler"},null,{"$f":"IF(ISERROR([3]Baker_Scores_Women_Var!E136), \" \", IF([3]Baker_Scores_Women_Var!E136 = \"Yes\", \"Yes\", \"  \"))","v":"#ERROR!"},124.0,156.0,129.0,143.0,101.0,0.0,0.0,653,5,130.6]
[null,"Kansas ,University Of V","","",{"$nulls":9},0,0,0]
[null,"Kansas ,University Of V","","",{"$nulls":9},0,0,0]
[null,"Kansas ,University Of V","","",{"$nulls":9},0,0,0]
[{"$nulls":6},{"$f":"SUM(G129:G139)","v":785},735,636,718,632,699,689,4894,35]
[]
[null,{"$f":"Roster_Selection_Women!AB118&\" \" & \"V \"","v":"Kansas State University V "},{"$f":"Roster_Selection_Women!AD118","v":"22-16659"},{"$f":"Roster_Selection_Women!AE118","v":"Addison Foley"},null,{"$f":"IF(ISERROR([3]Baker_Scores_Women_Var!E142), \" \", IF([3]Baker_Scores_Women_Var!E142 = \"Yes\", \"Yes\", \"  \"))","v":"#ERROR!"},124.0,0.0,117.0,0.0,157.0,160.0,146.0,{"$f":"SUM(G142:M142)","v":704},{"$f":"COUNTIF(G142:M142, \">0\" )","v":5},{"$f":"IF(O142=0,0,N142/O142)","v":140.8}]
[null,{"$f":"Roster_Selection_Women!AB119&\" \" & \"V \"","v":"Kansas State University V "},{"$f":"Roster_Selection_Women!AD119","v":"15-11096"},{"$f":"Roster_Selection_Women!AE119","v":"Alivia Johnson"},null,{"$f":"IF(ISERROR([3]Baker_Scores_Women_Var!E143), \" \", IF([3]Baker_Scores_Women_Var!E143 = \"Yes\", \"Yes\", \"  \"))","v":"#ERROR!"},176.0,93.0,0.0,104.0,113.0,142.0,102.0,730,6,121.6666667]
[null,{"$f":"Roster_Selection_Women!AB120&\" \" & \"V \"","v":"Kansas State University V "},{"$f":"Roster_Selection_Women!AD120","v":"18-80545"},{"$f":"Roster_Selection_Women!AE120","v":"Breanna Warren"},null,{"$f":"IF(ISERROR([3]Baker_Scores_Women_Var!E144), \" \", IF([3]Baker_Scores_Women_Var!E144 = \"Yes\", \"Yes\", \"  \"))","v":"#ERROR!"},0.0,137.0,155.0,134.0,125.0,0.0,0.0,551,4,137.75]
[null,{"$f":"Roster_Selection_Women!AB121&\" \" & \"V \"","v":"Kansas State University V "},{"$f":"Roster_Selection_Women!AD121","v":"20-55542"},{"$f":"Roster_Selection_Women!AE121","v":"Delainey Isaacson"},null,{"$f":"IF(ISERROR([3]Baker_Scores_Women_Var!E145), \" \", IF([3]Baker_Scores_Women_Var!E145 = \"Yes\", \"Yes\", \"  \"))","v":"#ERROR!"},138.0,134.0,153.0,155.0,169.0,169.0,179.0,1097,7,156.7142857]
[null,{"$f":"Roster_Selection_Women!AB122&\" \" & \"V \"","v":"Kansas State University V "},{"$f":"Roster_Selection_Women!AD122","v":"21-15727"},{"$f":"Roster_Selection_Women!AE122","v":"Kinley Nielsen"},null,{"$f":"IF(ISERROR([3]Baker_Scores_Women_Var!E146), \" \", IF([3]Baker_Scores_Women_Var!E146 = \"Yes\", \"Yes\", \"  \"))","v":"#ERROR!"},136.0,190.0,156.0,107.0,0.0,133.0,115.0,837,6,139.5]
[null,{"$f":"Roster_Selection_Women!AB123&\" \" & \"V \"","v":"Kansas State University V "},{"$f":"Roster_Selection_Women!AD123","v":"23-12122"},{"$f":"Roster_Selection_Women!AE123","v":"Natalie Gilbert"},null,{"$f":"IF(ISERROR([3]Baker_Scores_Women_Var!E147), \" \", IF([3]Baker_Scores_Women_Var!E147 = \"Yes\", \"Yes\", \"  \"))","v":"#ERROR!"},113.0,150.0,160.0,158.0,153.0,154.0,146.0,1034,7,147.7142857]
[null,{"$f":"Roster_Selection_Women!AB124&\" \" & \"V \"","v":" V "},{"$f":"Roster_Selection_Women!AD124","v":""},{"$f":"Roster_Selection_Women!AE124","v":""},null,{"$f":"IF(ISERROR([3]Baker_Scores_Women_Var!E148), \" \", IF([3]Baker_Scores_Women_Var!E148 = \"Yes\", \"Yes\", \"  \"))","v":"#ERROR!"},0.0,0.0,0.0,0.0,0.0,0.0,0.0,0,0,0]
[null,{"$f":"Roster_Selection_Women!AB125&\" \" & \"V \"","v":" V "},{"$f":"Roster_Selection_Women!AD125","v":""},{"$f":"Roster_Selection_Women!AE125","v":""},null,{"$f":"IF(ISERROR([3]Baker_Scores_Women_Var!E149), \" \", IF([3]Baker_Scores_Women_Var!E149 = \"Yes\", \"Yes\", \"  \"))","v":"#ERROR!"},0.0,0.0,0.0,0.0,0.0,0.0,0.0,0,0,0]
[null,"Kansas State University V","","",{"$nulls":9},0,0,0]
[null,"Kansas State University V","","",{"$nulls":9},0,0,0]
[null,"Kansas State University V","","",{"$nulls":9},0,0,0]
[{"$nulls":6},{"$f":"SUM(G142:G152)","v":687},704,741,658,717,758,688,4953,35]
[]
[null,{"$f":"Roster_Selection_Women!AB131&\" \" & \"V \"","v":"Kansas Wesleyan University V "},{"$f":"Roster_Selection_Women!AD131","v":"23-786"},{"$f":"Roster_Selection_Women!AE131","v":"Aubrey Strodtman"},null,{"$f":"IF(ISERROR([3]Baker_Scores_Women_Var!E155), \" \", IF([3]Baker_Scores_Women_Var!E155 = \"Yes\", \"Yes\", \"  \"))","v":"#ERROR!"},0.0,0.0,0.0,0.0,0.0,0.0,0.0,{"$f":"SUM(G155:M155)","v":0},{"$f":"COUNTIF(G155:M155, \">0\" )","v":0},{"$f":"IF(O155=0,0,N155/O155)","v":0}]
[null,{"$f":"Roster_Selection_Women!AB132&\" \" & \"V \"","v":"Kansas Wesleyan University V "},{"$f":"Roster_Selection_Women!AD132","v":"23-788"},{"$f":"Roster_Selection_Women!AE132","v":"Autumn Thompson"},null,{"$f":"IF(ISERROR([3]Baker_Scores_Women_Var!E156), \" \", IF([3]Baker_Scores_Women_Var!E156 = \"Yes\", \"Yes\", \"  \"))","v":"#ERROR!"},154.0,146.0,164.0,153.0,172.0,145.0,154.0,1088,7,155.4285714]
[null,{"$f":"Roster_Selection_Women!AB133&\" \" & \"V \"","v":"Kansas Wesleyan University V "},{"$f":"Roster_Selection_Women!AD133","v":"5978-620"},{"$f":"Roster_Selection_Women!AE133","v":"Emma O'Donnell"},null,{"$f":"IF(ISERROR([3]Baker_Scores_Women_Var!E157), \" \", IF([3]Baker_Scores_Women_Var!E157 = \"Yes\", \"Yes\", \"  \"))","v":"#ERROR!"},142.0,180.0,211.0,138.0,146.0,157.0,187.0,1161,7,165.8571429]
[null,{"$f":"Roster_Selection_Women!AB134&\" \" & \"V \"","v":"Kansas Wesleyan University V "},{"$f":"Roster_Selection_Women!AD134","v":"11-662816"},{"$f":"Roster_Selection_Women!AE134","v":"Haylee Busch"},null,{"$f":"IF(ISERROR([3]Baker_Scores_Women_Var!E158), \" \", IF([3]Baker_Scores_Women_Var!E158 = \"Yes\", \"Yes\", \"  \"))","v":"#ERROR!"},165.0,139.0,174.0,157.0,157.0,162.0,150.0,1104,7,157.7142857]
[null,{"$f":"Roster_Selection_Women!AB135&\" \" & \"V \"","v":"Kansas Wesleyan University V "},{"$f":"Roster_Selection_Women!AD135","v":"15-193314"},{"$f":"Roster_Selection_Women!AE135","v":"Kaylee Laha"},null,{"$f":"IF(ISERROR([3]Baker_Scores_Women_Var!E159), \" \", IF([3]Baker_Scores_Women_Var!E159 = \"Yes\", \"Yes\", \"  \"))","v":"#ERROR!"},133.0,156.0,139.0,189.0,184.0,135.0,146.0,1082,7,154.5714286]
[null,{"$f":"Roster_Selection_Women!AB136&\" \" & \"V \"","v":"Kansas Wesleyan University V "},{"$f":"Roster_Selection_Women!AD136","v":"11-662819"},{"$f":"Roster_Selection_Women!AE136","v":"Kylee Busch"},null,{"$f":"IF(ISERROR([3]Baker_Scores_Women_Var!E160), \" \", IF([3]Baker_Scores_Women_Var!E160 = \"Yes\", \"Yes\", \"  \"))","v":"#ERROR!"},146.0,151.0,146.0,125.0,193.0,139.0,183.0,1083,7,154.7142857]
[null,{"$f":"Roster_Selection_Women!AB137&\" \" & \"V \"","v":" V "},{"$f":"Roster_Selection_Women!AD137","v":""},{"$f":"Roster_Selection_Women!AE137","v":""},null,{"$f":"IF(ISERROR([3]Baker_Scores_Women_Var!E161), \" \", IF([3]Baker_Scores_Women_Var!E161 = \"Yes\", \"Yes\", \"  \"))","v":"#ERROR!"},0.0,0.0,0.0,0.0,0.0,0.0,0.0,0,0,0]
[null,{"$f":"Roster_Selection_Women!AB138&\" \" & \"V \"","v":" V "},{"$f":"Roster_Selection_Women!AD138","v":""},{"$f":"Roster_Selection_Women!AE138","v":""},null,{"$f":"IF(ISERROR([3]Baker_Scores_Women_Var!E162), \" \", IF([3]Baker_Scores_Women_Var!E162 = \"Yes\", \"Yes\", \"  \"))","v":"#ERROR!"},0.0,0.0,0.0,0.0,0.0,0.0,0.0,0,0,0]
[null,"Kansas Wesleyan University V","","",{"$nulls":9},0,0,0]
[null,"Kansas Wesleyan University V","","",{"$nulls":9},0,0,0]
[null,"Kansas Wesleyan University V","","",{"$nulls":9},0,0,0]
[{"$nulls":6},{"$f":"SUM(G155:G165)","v":740},772,834,762,852,738,820,5518,35]
[]
[null,{"$f":"Roster_Selection_Women!AB140&\" \" & \"V \"","v":"Midland University V "},{"$f":"Roster_Selection_Women!AD140","v":"5998-5608"},{"$f":"Roster_Selection_Women!AE140","v":"Ashland Hoyt"},null,{"$f":"IF(ISERROR([3]Baker_Scores_Women_Var!E168), \" \", IF([3]Baker_Scores_Women_Var!E168 = \"Yes\", \"Yes\", \"  \"))","v":"#ERROR!"},182.0,156.0,187.0,169.0,172.0,150.0,174.0,{"$f":"SUM(G168:M168)","v":1190},{"$f":"COUNTIF(G168:M168, \">0\" )","v":7},{"$f":"IF(O168=0,0,N168/O168)","v":170}]
[null,{"$f":"Roster_Selection_Women!AB141&\" \" & \"V \"","v":"Midland University V "},{"$f":"Roster_Selection_Women!AD141","v":"16-83486"},{"$f":"Roster_Selection_Women!AE141","v":"Emily Ziegler"},null,{"$f":"IF(ISERROR([3]Baker_Scores_Women_Var!E169), \" \", IF([3]Baker_Scores_Women_Var!E169 = \"Yes\", \"Yes\", \"  \"))","v":"#ERROR!"},178.0,188.0,136.0,152.0,134.0,154.0,179.0,1121,7,160.1428571]
[null,{"$f":"Roster_Selection_Women!AB142&\" \" & \"V \"","v":"Midland University V "},{"$f":"Roster_Selection_Women!AD142","v":"16-68196"},{"$f":"Roster_Selection_Women!AE142","v":"Hannah Bowling"},null,{"$f":"IF(ISERROR([3]Baker_Scores_Women_Var!E170), \" \", IF([3]Baker_Scores_Women_Var!E170 = \"Yes\", \"Yes\", \"  \"))","v":"#ERROR!"},196.0,141.0,159.0,116.0,155.0,0.0,130.0,897,6,149.5]
[null,{"$f":"Roster_Selection_Women!AB143&\" \" & \"V \"","v":"Midland University V "},{"$f":"Roster_Selection_Women!AD143","v":"19-70845"},{"$f":"Roster_Selection_Women!AE143","v":"Jerika Koopmeiners"},null,{"$f":"IF(ISERROR([3]Baker_Scores_Women_Var!E171), \" \", IF([3]Baker_Scores_Women_Var!E171 = \"Yes\", \"Yes\", \"  \"))","v":"#ERROR!"},153.0,161.0,162.0,211.0,178.0,178.0,185.0,1228,7,175.4285714]
[null,{"$f":"Roster_Selection_Women!AB144&\" \" & \"V \"","v":"Midland University V "},{"$f":"Roster_Selection_Women!AD144","v":"11-372758"},{"$f":"Roster_Selection_Women!AE144","v":"Kaylee Bergstrom"},null,{"$f":"IF(ISERROR([3]Baker_Scores_Women_Var!E172), \" \", IF([3]Baker_Scores_Women_Var!E172 = \"Yes\", \"Yes\", \"  \"))","v":"#ERROR!"},0.0,0.0,0.0,0.0,0.0,0.0,0.0,0,0,0]
[null,{"$f":"Roster_Selection_Women!AB145&\" \" & \"V \"","v":"Midland University V "},{"$f":"Roster_Selection_Women!AD145","v":"19-57528"},{"$f":"Roster_Selection_Women!AE145","v":"Leia Miller"},null,{"$f":"IF(ISERROR([3]Baker_Scores_Women_Var!E173), \" \", IF([3]Baker_Scores_Women_Var!E173 = \"Yes\", \"Yes\", \"  \"))","v":"#ERROR!"},0.0,0.0,137.0,0.0,0.0,168.0,171.0,476,3,158.6666667]
[null,{"$f":"Roster_Selection_Women!AB146&\" \" & \"V \"","v":"Midland University V "},{"$f":"Roster_Selection_Women!AD146","v":"11-460870"},{"$f":"Roster_Selection_Women!AE146","v":"Samantha Creutz"},null,{"$f":"IF(ISERROR([3]Baker_Scores_Women_Var!E174), \" \", IF([3]Baker_Scores_Women_Var!E174 = \"Yes\", \"Yes\", \"  \"))","v":"#ERROR!"},140.0,130.0,0.0,148.0,154.0,89.0,0.0,661,5,132.2]
[null,{"$f":"Roster_Selection_Women!AB147&\" \" & \"V \"","v":"Midland University V "},{"$f":"Roster_Selection_Women!AD147","v":"16-133687"},{"$f":"Roster_Selection_Women!AE147","v":"Victoria Cruz Cervantes"},null,{"$f":"IF(ISERROR([3]Baker_Scores_Women_Var!E175), \" \", IF([3]Baker_Scores_Women_Var!E175 = \"Yes\", \"Yes\", \"  \"))","v":"#ERROR!"},0.0,0.0,0.0,0.0,0.0,0.0,0.0,0,0,0]
[null,"Midland University V","","",{"$nulls":9},0,0,0]
[null,"Midland University V","","",{"$nulls":9},0,0,0]
[null,"Midland University V","","",{"$nulls":9},0,0,0]
[{"$nulls":6},{"$f":"SUM(G168:G178)","v":849},776,781,796,793,739,839,5573,35]
[]
[null,{"$f":"Roster_Selection_Women!AB149&\" \" & \"V \"","v":"Morningside University V "},{"$f":"Roster_Selection_Women!AD149","v":"11-273910"},{"$f":"Roster_Selection_Women!AE149","v":"Alexa Munhofen"},null,{"$f":"IF(ISERROR([3]Baker_Scores_Women_Var!E181), \" \", IF([3]Baker_Scores_Women_Var!E181 = \"Yes\", \"Yes\", \"  \"))","v":"#ERROR!"},153.0,187.0,190.0,193.0,177.0,187.0,184.0,{"$f":"SUM(G181:M181)","v":1271},{"$f":"COUNTIF(G181:M181, \">0\" )","v":7},{"$f":"IF(O181=0,0,N181/O181)","v":181.5714286}]
[null,{"$f":"Roster_Selection_Women!AB150&\" \" & \"V \"","v":"Morningside University V "},{"$f":"Roster_Selection_Women!AD150","v":"8337-10677"},{"$f":"Roster_Selection_Women!AE150","v":"Carissa Johnson"},null,{"$f":"IF(ISERROR([3]Baker_Scores_Women_Var!E182), \" \", IF([3]Baker_Scores_Women_Var!E182 = \"Yes\", \"Yes\", \"  \"))","v":"#ERROR!"},169.0,186.0,189.0,222.0,179.0,181.0,222.0,1348,7,192.5714286]
[null,{"$f":"Roster_Selection_Women!AB151&\" \" & \"V \"","v":"Morningside University V "},{"$f":"Roster_Selection_Women!AD151","v":"11-135896"},{"$f":"Roster_Selection_Women!AE151","v":"Emaly Kruse"},null,{"$f":"IF(ISERROR([3]Baker_Scores_Women_Var!E183), \" \", IF([3]Baker_Scores_Women_Var!E183 = \"Yes\", \"Yes\", \"  \"))","v":"#ERROR!"},190.0,162.0,204.0,168.0,168.0,169.0,223.0,1284,7,183.4285714]
[null,{"$f":"Roster_Selection_Women!AB152&\" \" & \"V \"","v":"Morningside University V "},{"$f":"Roster_Selection_Women!AD152","v":"6414-1343"},{"$f":"Roster_Selection_Women!AE152","v":"Maren Ewertz"},null,{"$f":"IF(ISERROR([3]Baker_Scores_Women_Var!E184), \" \", IF([3]Baker_Scores_Women_Var!E184 = \"Yes\", \"Yes\", \"  \"))","v":"#ERROR!"},125.0,0.0,0.0,0.0,167.0,162.0,192.0,646,4,161.5]
[null,{"$f":"Roster_Selection_Women!AB153&\" \" & \"V \"","v":"Morningside University V "},{"$f":"Roster_Selection_Women!AD153","v":"8337-13882"},{"$f":"Roster_Selection_Women!AE153","v":"Rachel Spier"},null,{"$f":"IF(ISERROR([3]Baker_Scores_Women_Var!E185), \" \", IF([3]Baker_Scores_Women_Var!E185 = \"Yes\", \"Yes\", \"  \"))","v":"#ERROR!"},144.0,176.0,189.0,155.0,198.0,213.0,212.0,1287,7,183.8571429]
[null,{"$f":"Roster_Selection_Women!AB154&\" \" & \"V \"","v":"Morningside University V "},{"$f":"Roster_Selection_Women!AD154","v":"18-6531"},{"$f":"Roster_Selection_Women!AE154","v":"Samantha Schiefen"},null,{"$f":"IF(ISERROR([3]Baker_Scores_Women_Var!E186), \" \", IF([3]Baker_Scores_Women_Var!E186 = \"Yes\", \"Yes\", \"  \"))","v":"#ERROR!"},0.0,225.0,145.0,167.0,0.0,0.0,0.0,537,3,179]
[null,{"$f":"Roster_Selection_Women!AB155&\" \" & \"V \"","v":" V "},{"$f":"Roster_Selection_Women!AD155","v":""},{"$f":"Roster_Selection_Women!AE155","v":""},null,{"$f":"IF(ISERROR([3]Baker_Scores_Women_Var!E187), \" \", IF([3]Baker_Scores_Women_Var!E187 = \"Yes\", \"Yes\", \"  \"))","v":"#ERROR!"},0.0,0.0,0.0,0.0,0.0,0.0,0.0,0,0,0]
[null,{"$f":"Roster_Selection_Women!AB156&\" \" & \"V \"","v":" V "},{"$f":"Roster_Selection_Women!AD156","v":""},{"$f":"Roster_Selection_Women!AE156","v":""},null,{"$f":"IF(ISERROR([3]Baker_Scores_Women_Var!E188), \" \", IF([3]Baker_Scores_Women_Var!E188 = \"Yes\", \"Yes\", \"  \"))","v":"#ERROR!"},0.0,0.0,0.0,0.0,0.0,0.0,0.0,0,0,0]
[null,"Morningside University V","","",{"$nulls":9},0,0,0]
[null,"Morningside University V","","",{"$nulls":9},0,0,0]
[null,"Morningside University V","","",{"$nulls":9},0,0,0]
[{"$nulls":6},{"$f":"SUM(G181:G191)","v":781},936,917,905,889,912,1033,6373,35]
[]
[null,{"$f":"Roster_Selection_Women!AB162&\" \" & \"V \"","v":"Ottawa University (KS) V "},{"$f":"Roster_Selection_Women!AD162","v":"11-529617"},{"$f":"Roster_Selection_Women!AE162","v":"Allie Williams"},null,{"$f":"IF(ISERROR([3]Baker_Scores_Women_Var!E194), \" \", IF([3]Baker_Scores_Women_Var!E194 = \"Yes\", \"Yes\", \"  \"))","v":"#ERROR!"},165.0,191.0,161.0,210.0,183.0,163.0,154.0,{"$f":"SUM(G194:M194)","v":1227},{"$f":"COUNTIF(G194:M194, \">0\" )","v":7},{"$f":"IF(O194=0,0,N194/O194)","v":175.2857143}]
[null,{"$f":"Roster_Selection_Women!AB163&\" \" & \"V \"","v":"Ottawa University (KS) V "},{"$f":"Roster_Selection_Women!AD163","v":"11-241897"},{"$f":"Roster_Selection_Women!AE163","v":"Gabriella Hernandez"},null,{"$f":"IF(ISERROR([3]Baker_Scores_Women_Var!E195), \" \", IF([3]Baker_Scores_Women_Var!E195 = \"Yes\", \"Yes\", \"  \"))","v":"#ERROR!"},203.0,166.0,216.0,151.0,205.0,144.0,187.0,1272,7,181.7142857]
[null,{"$f":"Roster_Selection_Women!AB164&\" \" & \"V \"","v":"Ottawa University (KS) V "},{"$f":"Roster_Selection_Women!AD164","v":"11-188358"},{"$f":"Roster_Selection_Women!AE164","v":"Holly Bridges"},null,{"$f":"IF(ISERROR([3]Baker_Scores_Women_Var!E196), \" \", IF([3]Baker_Scores_Women_Var!E196 = \"Yes\", \"Yes\", \"  \"))","v":"#ERROR!"},174.0,168.0,234.0,224.0,190.0,180.0,220.0,1390,7,198.5714286]
[null,{"$f":"Roster_Selection_Women!AB165&\" \" & \"V \"","v":"Ottawa University (KS) V "},{"$f":"Roster_Selection_Women!AD165","v":"5900-26985"},{"$f":"Roster_Selection_Women!AE165","v":"Jadyn Barr"},null,{"$f":"IF(ISERROR([3]Baker_Scores_Women_Var!E197), \" \", IF([3]Baker_Scores_Women_Var!E197 = \"Yes\", \"Yes\", \"  \"))","v":"#ERROR!"},201.0,190.0,202.0,170.0,190.0,166.0,200.0,1319,7,188.4285714]
[null,{"$f":"Roster_Selection_Women!AB166&\" \" & \"V \"","v":"Ottawa University (KS) V "},{"$f":"Roster_Selection_Women!AD166","v":"11-438615"},{"$f":"Roster_Selection_Women!AE166","v":"Kiaralyn Backstrom"},null,{"$f":"IF(ISERROR([3]Baker_Scores_Women_Var!E198), \" \", IF([3]Baker_Scores_Women_Var!E198 = \"Yes\", \"Yes\", \"  \"))","v":"#ERROR!"},152.0,0.0,0.0,168.0,158.0,0.0,0.0,478,3,159.3333333]
[null,{"$f":"Roster_Selection_Women!AB167&\" \" & \"V \"","v":"Ottawa University (KS) V "},{"$f":"Roster_Selection_Women!AD167","v":"5495-31883"},{"$f":"Roster_Selection_Women!AE167","v":"Koryn Marquez"},null,{"$f":"IF(ISERROR([3]Baker_Scores_Women_Var!E199), \" \", IF([3]Baker_Scores_Women_Var!E199 = \"Yes\", \"Yes\", \"  \"))","v":"#ERROR!"},0.0,168.0,142.0,0.0,0.0,235.0,198.0,743,4,185.75]
[null,{"$f":"Roster_Selection_Women!AB168&\" \" & \"V \"","v":" V "},{"$f":"Roster_Selection_Women!AD168","v":""},{"$f":"Roster_Selection_Women!AE168","v":""},null,{"$f":"IF(ISERROR([3]Baker_Scores_Women_Var!E200), \" \", IF([3]Baker_Scores_Women_Var!E200 = \"Yes\", \"Yes\", \"  \"))","v":"#ERROR!"},0.0,0.0,0.0,0.0,0.0,0.0,0.0,0,0,0]
[null,{"$f":"Roster_Selection_Women!AB169&\" \" & \"V \"","v":" V "},{"$f":"Roster_Selection_Women!AD169","v":""},{"$f":"Roster_Selection_Women!AE169","v":""},null,{"$f":"IF(ISERROR([3]Baker_Scores_Women_Var!E201), \" \", IF([3]Baker_Scores_Women_Var!E201 = \"Yes\", \"Yes\", \"  \"))","v":"#ERROR!"},0.0,0.0,0.0,0.0,0.0,0.0,0.0,0,0,0]
[null,"Ottawa University (KS) V","","",{"$nulls":9},0,0,0]
[null,"Ottawa University (KS) V","","",{"$nulls":9},0,0,0]
[null,"Ottawa University (KS) V","","",{"$nulls":9},0,0,0]
[{"$nulls":6},{"$f":"SUM(G194:G204)","v":895},883,955,923,926,888,959,6429,35]
[]
[null,{"$f":"Roster_Selection_Women!AB175&\" \" & \"V \"","v":"Peru State College V "},{"$f":"Roster_Selection_Women!AD175","v":"15-184489"},{"$f":"Roster_Selection_Women!AE175","v":"Adria Huiett"},null,{"$f":"IF(ISERROR([3]Baker_Scores_Women_Var!E207), \" \", IF([3]Baker_Scores_Women_Var!E207 = \"Yes\", \"Yes\", \"  \"))","v":"#ERROR!"},0.0,136.0,169.0,153.0,194.0,176.0,126.0,{"$f":"SUM(G207:M207)","v":954},{"$f":"COUNTIF(G207:M207, \">0\" )","v":6},{"$f":"IF(O207=0,0,N207/O207)","v":159}]
[null,{"$f":"Roster_Selection_Women!AB176&\" \" & \"V \"","v":"Peru State College V "},{"$f":"Roster_Selection_Women!AD176","v":"11-378089"},{"$f":"Roster_Selection_Women!AE176","v":"Aleia Crandall"},null,{"$f":"IF(ISERROR([3]Baker_Scores_Women_Var!E208), \" \", IF([3]Baker_Scores_Women_Var!E208 = \"Yes\", \"Yes\", \"  \"))","v":"#ERROR!"},146.0,150.0,134.0,0.0,146.0,0.0,0.0,576,4,144]
[null,{"$f":"Roster_Selection_Women!AB177&\" \" & \"V \"","v":"Peru State College V "},{"$f":"Roster_Selection_Women!AD177","v":"20-57206"},{"$f":"Roster_Selection_Women!AE177","v":"Caitlynn Gronenthal"},null,{"$f":"IF(ISERROR([3]Baker_Scores_Women_Var!E209), \" \", IF([3]Baker_Scores_Women_Var!E209 = \"Yes\", \"Yes\", \"  \"))","v":"#ERROR!"},0.0,0.0,0.0,143.0,135.0,0.0,0.0,278,2,139]
[null,{"$f":"Roster_Selection_Women!AB178&\" \" & \"V \"","v":"Peru State College V "},{"$f":"Roster_Selection_Women!AD178","v":"18-15133"},{"$f":"Roster_Selection_Women!AE178","v":"Kaitlyn Doyal"},null,{"$f":"IF(ISERROR([3]Baker_Scores_Women_Var!E210), \" \", IF([3]Baker_Scores_Women_Var!E210 = \"Yes\", \"Yes\", \"  \"))","v":"#ERROR!"},176.0,136.0,0.0,164.0,208.0,168.0,118.0,970,6,161.6666667]
[null,{"$f":"Roster_Selection_Women!AB179&\" \" & \"V \"","v":"Peru State College V "},{"$f":"Roster_Selection_Women!AD179","v":"16-164416"},{"$f":"Roster_Selection_Women!AE179","v":"Katie Price"},null,{"$f":"IF(ISERROR([3]Baker_Scores_Women_Var!E211), \" \", IF([3]Baker_Scores_Women_Var!E211 = \"Yes\", \"Yes\", \"  \"))","v":"#ERROR!"},149.0,132.0,0.0,0.0,0.0,195.0,141.0,617,4,154.25]
[null,{"$f":"Roster_Selection_Women!AB180&\" \" & \"V \"","v":"Peru State College V "},{"$f":"Roster_Selection_Women!AD180","v":"11-66625"},{"$f":"Roster_Selection_Women!AE180","v":"Makenzie Millard"},null,{"$f":"IF(ISERROR([3]Baker_Scores_Women_Var!E212), \" \", IF([3]Baker_Scores_Women_Var!E212 = \"Yes\", \"Yes\", \"  \"))","v":"#ERROR!"},235.0,193.0,177.0,169.0,193.0,184.0,174.0,1325,7,189.2857143]
[null,{"$f":"Roster_Selection_Women!AB181&\" \" & \"V \"","v":"Peru State College V "},{"$f":"Roster_Selection_Women!AD181","v":"11-93281"},{"$f":"Roster_Selection_Women!AE181","v":"Mindy Bartels"},null,{"$f":"IF(ISERROR([3]Baker_Scores_Women_Var!E213), \" \", IF([3]Baker_Scores_Women_Var!E213 = \"Yes\", \"Yes\", \"  \"))","v":"#ERROR!"},137.0,0.0,153.0,141.0,0.0,0.0,0.0,431,3,143.6666667]
[null,{"$f":"Roster_Selection_Women!AB182&\" \" & \"V \"","v":"Peru State College V "},{"$f":"Roster_Selection_Women!AD182","v":"18-6620"},{"$f":"Roster_Selection_Women!AE182","v":"Raelynn Sugden"},null,{"$f":"IF(ISERROR([3]Baker_Scores_Women_Var!E214), \" \", IF([3]Baker_Scores_Women_Var!E214 = \"Yes\", \"Yes\", \"  \"))","v":"#ERROR!"},0.0,0.0,139.0,0.0,0.0,147.0,146.0,432,3,144]
[null,"Peru State College V","","",{"$nulls":9},0,0,0]
[null,"Peru State College V","","",{"$nulls":9},0,0,0]
[null,"Peru State College V","","",{"$nulls":9},0,0,0]
[{"$nulls":6},{"$f":"SUM(G207:G217)","v":843},747,772,770,876,870,705,5583,35]
[]
[null,{"$f":"Roster_Selection_Women!AB185&\" \" & \"V \"","v":"University Of Saint Mary V "},{"$f":"Roster_Selection_Women!AD185","v":"11-623384"},{"$f":"Roster_Selection_Women!AE185","v":"Brianna Hubenett"},null,{"$f":"IF(ISERROR([3]Baker_Scores_Women_Var!E220), \" \", IF([3]Baker_Scores_Women_Var!E220 = \"Yes\", \"Yes\", \"  \"))","v":"#ERROR!"},146.0,202.0,156.0,122.0,0.0,153.0,131.0,{"$f":"SUM(G220:M220)","v":910},{"$f":"COUNTIF(G220:M220, \">0\" )","v":6},{"$f":"IF(O220=0,0,N220/O220)","v":151.6666667}]
[null,{"$f":"Roster_Selection_Women!AB186&\" \" & \"V \"","v":"University Of Saint Mary V "},{"$f":"Roster_Selection_Women!AD186","v":"17-57411"},{"$f":"Roster_Selection_Women!AE186","v":"Carmen Silva"},null,{"$f":"IF(ISERROR([3]Baker_Scores_Women_Var!E221), \" \", IF([3]Baker_Scores_Women_Var!E221 = \"Yes\", \"Yes\", \"  \"))","v":"#ERROR!"},181.0,191.0,158.0,166.0,172.0,151.0,0.0,1019,6,169.8333333]
[null,{"$f":"Roster_Selection_Women!AB187&\" \" & \"V \"","v":"University Of Saint Mary V "},{"$f":"Roster_Selection_Women!AD187","v":"11-559058"},{"$f":"Roster_Selection_Women!AE187","v":"Jada Surritte"},null,{"$f":"IF(ISERROR([3]Baker_Scores_Women_Var!E222), \" \", IF([3]Baker_Scores_Women_Var!E222 = \"Yes\", \"Yes\", \"  \"))","v":"#ERROR!"},160.0,109.0,0.0,142.0,140.0,0.0,206.0,757,5,151.4]
[null,{"$f":"Roster_Selection_Women!AB188&\" \" & \"V \"","v":"University Of Saint Mary V "},{"$f":"Roster_Selection_Women!AD188","v":"11-207945"},{"$f":"Roster_Selection_Women!AE188","v":"Katie Limon"},null,{"$f":"IF(ISERROR([3]Baker_Scores_Women_Var!E223), \" \", IF([3]Baker_Scores_Women_Var!E223 = \"Yes\", \"Yes\", \"  \"))","v":"#ERROR!"},109.0,0.0,135.0,126.0,155.0,150.0,112.0,787,6,131.1666667]
[null,{"$f":"Roster_Selection_Women!AB189&\" \" & \"V \"","v":"University Of Saint Mary V "},{"$f":"Roster_Selection_Women!AD189","v":"21-79472"},{"$f":"Roster_Selection_Women!AE189","v":"Lola Moore"},null,{"$f":"IF(ISERROR([3]Baker_Scores_Women_Var!E224), \" \", IF([3]Baker_Scores_Women_Var!E224 = \"Yes\", \"Yes\", \"  \"))","v":"#ERROR!"},169.0,153.0,156.0,176.0,201.0,144.0,186.0,1185,7,169.2857143]
[null,{"$f":"Roster_Selection_Women!AB190&\" \" & \"V \"","v":"University Of Saint Mary V "},{"$f":"Roster_Selection_Women!AD190","v":"21-472"},{"$f":"Roster_Selection_Women!AE190","v":"Oliva Helten"},null,{"$f":"IF(ISERROR([3]Baker_Scores_Women_Var!E225), \" \", IF([3]Baker_Scores_Women_Var!E225 = \"Yes\", \"Yes\", \"  \"))","v":"#ERROR!"},0.0,140.0,133.0,0.0,157.0,145.0,145.0,720,5,144]
[null,{"$f":"Roster_Selection_Women!AB191&\" \" & \"V \"","v":" V "},{"$f":"Roster_Selection_Women!AD191","v":""},{"$f":"Roster_Selection_Women!AE191","v":""},null,{"$f":"IF(ISERROR([3]Baker_Scores_Women_Var!E226), \" \", IF([3]Baker_Scores_Women_Var!E226 = \"Yes\", \"Yes\", \"  \"))","v":"#ERROR!"},0.0,0.0,0.0,0.0,0.0,0.0,0.0,0,0,0]
[null,{"$f":"Roster_Selection_Women!AB192&\" \" & \"V \"","v":" V "},{"$f":"Roster_Selection_Women!AD192","v":""},{"$f":"Roster_Selection_Women!AE192","v":""},null,{"$f":"IF(ISERROR([3]Baker_Scores_Women_Var!E227), \" \", IF([3]Baker_Scores_Women_Var!E227 = \"Yes\", \"Yes\", \"  \"))","v":"#ERROR!"},0.0,0.0,0.0,0.0,0.0,0.0,0.0,0,0,0]
[null,"University Of Saint Mary V","","",{"$nulls":9},0,0,0]
[null,"University Of Saint Mary V","","",{"$nulls":9},0,0,0]
[null,"University Of Saint Mary V","","",{"$nulls":9},0,0,0]
[{"$nulls":6},{"$f":"SUM(G220:G230)","v":765},795,738,732,825,743,780,5378,35]
[]
[null,{"$f":"Roster_Selection_Women!AB195&\" \" & \"V \"","v":"William Penn University V "},{"$f":"Roster_Selection_Women!AD195","v":"11-33690"},{"$f":"Roster_Selection_Women!AE195","v":"Caitlin Radliff"},null,{"$f":"IF(ISERROR([3]Baker_Scores_Women_Var!E233), \" \", IF([3]Baker_Scores_Women_Var!E233 = \"Yes\", \"Yes\", \"  \"))","v":"#ERROR!"},0.0,159.0,144.0,0.0,0.0,0.0,147.0,{"$f":"SUM(G233:M233)","v":450},{"$f":"COUNTIF(G233:M233, \">0\" )","v":3},{"$f":"IF(O233=0,0,N233/O233)","v":150}]
[null,{"$f":"Roster_Selection_Women!AB196&\" \" & \"V \"","v":"William Penn University V "},{"$f":"Roster_Selection_Women!AD196","v":"15-170867"},{"$f":"Roster_Selection_Women!AE196","v":"Cydnee Whiteleather"},null,{"$f":"IF(ISERROR([3]Baker_Scores_Women_Var!E234), \" \", IF([3]Baker_Scores_Women_Var!E234 = \"Yes\", \"Yes\", \"  \"))","v":"#ERROR!"},158.0,157.0,0.0,193.0,221.0,136.0,0.0,865,5,173]
[null,{"$f":"Roster_Selection_Women!AB197&\" \" & \"V \"","v":"William Penn University V "},{"$f":"Roster_Selection_Women!AD197","v":"11-35370"},{"$f":"Roster_Selection_Women!AE197","v":"Gabriella Evans"},null,{"$f":"IF(ISERROR([3]Baker_Scores_Women_Var!E235), \" \", IF([3]Baker_Scores_Women_Var!E235 = \"Yes\", \"Yes\", \"  \"))","v":"#ERROR!"},180.0,147.0,200.0,191.0,198.0,190.0,202.0,1308,7,186.8571429]
[null,{"$f":"Roster_Selection_Women!AB198&\" \" & \"V \"","v":"William Penn University V "},{"$f":"Roster_Selection_Women!AD198","v":"11-294013"},{"$f":"Roster_Selection_Women!AE198","v":"Madison Ross"},null,{"$f":"IF(ISERROR([3]Baker_Scores_Women_Var!E236), \" \", IF([3]Baker_Scores_Women_Var!E236 = \"Yes\", \"Yes\", \"  \"))","v":"#ERROR!"},160.0,190.0,159.0,157.0,205.0,221.0,166.0,1258,7,179.7142857]
[null,{"$f":"Roster_Selection_Women!AB199&\" \" & \"V \"","v":"William Penn University V "},{"$f":"Roster_Selection_Women!AD199","v":"11-390462"},{"$f":"Roster_Selection_Women!AE199","v":"Olivia Nolte"},null,{"$f":"IF(ISERROR([3]Baker_Scores_Women_Var!E237), \" \", IF([3]Baker_Scores_Women_Var!E237 = \"Yes\", \"Yes\", \"  \"))","v":"#ERROR!"},0.0,0.0,149.0,179.0,163.0,149.0,0.0,640,4,160]
[null,{"$f":"Roster_Selection_Women!AB200&\" \" & \"V \"","v":"William Penn University V "},{"$f":"Roster_Selection_Women!AD200","v":"11-422677"},{"$f":"Roster_Selection_Women!AE200","v":"Sammantha Meyers"},null,{"$f":"IF(ISERROR([3]Baker_Scores_Women_Var!E238), \" \", IF([3]Baker_Scores_Women_Var!E238 = \"Yes\", \"Yes\", \"  \"))","v":"#ERROR!"},195.0,145.0,148.0,0.0,0.0,196.0,190.0,874,5,174.8]
[null,{"$f":"Roster_Selection_Women!AB201&\" \" & \"V \"","v":"William Penn University V "},{"$f":"Roster_Selection_Women!AD201","v":"11-446110"},{"$f":"Roster_Selection_Women!AE201","v":"Victoria Potter"},null,{"$f":"IF(ISERROR([3]Baker_Scores_Women_Var!E239), \" \", IF([3]Baker_Scores_Women_Var!E239 = \"Yes\", \"Yes\", \"  \"))","v":"#ERROR!"},121.0,0.0,0.0,158.0,154.0,0.0,163.0,596,4,149]
[null,{"$f":"Roster_Selection_Women!AB202&\" \" & \"V \"","v":" V "},{"$f":"Roster_Selection_Women!AD202","v":""},{"$f":"Roster_Selection_Women!AE202","v":""},null,{"$f":"IF(ISERROR([3]Baker_Scores_Women_Var!E240), \" \", IF([3]Baker_Scores_Women_Var!E240 = \"Yes\", \"Yes\", \"  \"))","v":"#ERROR!"},0.0,0.0,0.0,0.0,0.0,0.0,0.0,0,0,0]
[null,"William Penn University V","","",{"$nulls":9},0,0,0]
[null,"William Penn University V","","",{"$nulls":9},0,0,0]
[null,"William Penn University V","","",{"$nulls":9},0,0,0]
[{"$nulls":6},{"$f":"SUM(G233:G243)","v":814},798,800,878,941,892,868,5991,35]
[]
[]
[]
[]
[{"$nulls":4},"Team Totals",null,{"$f":"SUM(G23,G36,G49,G62,G75,G88,G101,G114,G127,G140,G153,G166,G179,G192,G205,G218,G231,G244)","v":14255},13726,14313,14037,14223,14108,13804,98466,616,{"$nulls":36},"*"]
[{"$nulls":4},"Team Game Average",null,{"$f":"SUM(G249/(18))","v":791.9444444},762.5555556,795.1666667,779.8333333,790.1666667,783.7777778,766.8888889]

{"sheet":"Individual_Scores_Women_JV","index":5,"n_rows":68,"n_cols":54,"rows_kept":68,"cut":false,"hidden":false,"merged":[[0,0,0,13]]}
["Individual Scores and Team Games"]
[{"$nulls":51},"Yes"]
[null,"NAIA Weekend-West-Sunday",{"$nulls":49},"No"]
[null,"Tier 2","NAIA",{"$nulls":12},"2443","7","0","5","","",null,null,"7",{"$nulls":29},"IBCYouth"]
[null,"<<Dates>>","<<Event#>>","02/04/2024 - 02/04/2024"]
[null,"<<Location>>",null,"Lawrence, KS"]
[]
[null,"Women's Division",null,"Cert No:","04110"]
[null,"Division"]
[{"$nulls":6},"Game","Game","Game","Game","Game","Game","Game",null,"Games","Tourn."]
[null,"Team","Bowler ID","Bowler","Bowled","Bowled Baker",1.0,2.0,3.0,4.0,5.0,6.0,7.0,"Total","Bowled","Ave."]
[null,{"$f":"Roster_Selection_Women!AF118&\" \" & \"JV1 \"","v":" JV1 "},{"$f":"Roster_Selection_Women!AH118","v":""},{"$f":"Roster_Selection_Women!AI118","v":""},null,{"$f":"IF(ISERROR([4]Baker_Scores_Women_JV!E12), \" \", IF([4]Baker_Scores_Women_JV!E12 = \"Yes\", \"Yes\", \"  \"))","v":"#ERROR!"},0.0,0.0,0.0,0.0,0.0,0.0,0.0,{"$f":"SUM(G12:M12)","v":0},{"$f":"COUNTIF(G12:M12, \">0\" )","v":0},{"$f":"IF(O12=0,0,N12/O12)","v":0}]
[null,{"$f":"Roster_Selection_Women!AF119&\" \" & \"JV1 \"","v":" JV1 "},{"$f":"Roster_Selection_Women!AH119","v":""},{"$f":"Roster_Selection_Women!AI119","v":""},null,{"$f":"IF(ISERROR([4]Baker_Scores_Women_JV!E13), \" \", IF([4]Baker_Scores_Women_JV!E13 = \"Yes\", \"Yes\", \"  \"))","v":"#ERROR!"},0.0,0.0,0.0,0.0,0.0,0.0,0.0,0,0,0]
[null,{"$f":"Roster_Selection_Women!AF120&\" \" & \"JV1 \"","v":" JV1 "},{"$f":"Roster_Selection_Women!AH120","v":""},{"$f":"Roster_Selection_Women!AI120","v":""},null,{"$f":"IF(ISERROR([4]Baker_Scores_Women_JV!E14), \" \", IF([4]Baker_Scores_Women_JV!E14 = \"Yes\", \"Yes\", \"  \"))","v":"#ERROR!"},0.0,0.0,0.0,0.0,0.0,0.0,0.0,0,0,0]
[null,{"$f":"Roster_Selection_Women!AF121&\" \" & \"JV1 \"","v":" JV1 "},{"$f":"Roster_Selection_Women!AH121","v":""},{"$f":"Roster_Selection_Women!AI121","v":""},null,{"$f":"IF(ISERROR([4]Baker_Scores_Women_JV!E15), \" \", IF([4]Baker_Scores_Women_JV!E15 = \"Yes\", \"Yes\", \"  \"))","v":"#ERROR!"},0.0,0.0,0.0,0.0,0.0,0.0,0.0,0,0,0]
[null,{"$f":"Roster_Selection_Women!AF122&\" \" & \"JV1 \"","v":" JV1 "},{"$f":"Roster_Selection_Women!AH122","v":""},{"$f":"Roster_Selection_Women!AI122","v":""},null,{"$f":"IF(ISERROR([4]Baker_Scores_Women_JV!E16), \" \", IF([4]Baker_Scores_Women_JV!E16 = \"Yes\", \"Yes\", \"  \"))","v":"#ERROR!"},0.0,0.0,0.0,0.0,0.0,0.0,0.0,0,0,0]
[null,{"$f":"Roster_Selection_Women!AF123&\" \" & \"JV1 \"","v":" JV1 "},{"$f":"Roster_Selection_Women!AH123","v":""},{"$f":"Roster_Selection_Women!AI123","v":""},null,{"$f":"IF(ISERROR([4]Baker_Scores_Women_JV!E17), \" \", IF([4]Baker_Scores_Women_JV!E17 = \"Yes\", \"Yes\", \"  \"))","v":"#ERROR!"},0.0,0.0,0.0,0.0,0.0,0.0,0.0,0,0,0]
[null,{"$f":"Roster_Selection_Women!AF124&\" \" & \"JV1 \"","v":" JV1 "},{"$f":"Roster_Selection_Women!AH124","v":""},{"$f":"Roster_Selection_Women!AI124","v":""},null,{"$f":"IF(ISERROR([4]Baker_Scores_Women_JV!E18), \" \", IF([4]Baker_Scores_Women_JV!E18 = \"Yes\", \"Yes\", \"  \"))","v":"#ERROR!"},0.0,0.0,0.0,0.0,0.0,0.0,0.0,0,0,0]
[null,{"$f":"Roster_Selection_Women!AF125&\" \" & \"JV1 \"","v":" JV1 "},{"$f":"Roster_Selection_Women!AH125","v":""},{"$f":"Roster_Selection_Women!AI125","v":""},null,{"$f":"IF(ISERROR([4]Baker_Scores_Women_JV!E19), \" \", IF([4]Baker_Scores_Women_JV!E19 = \"Yes\", \"Yes\", \"  \"))","v":"#ERROR!"},0.0,0.0,0.0,0.0,0.0,0.0,0.0,0,0,0]
[null,"Kansas State University JV1","","",{"$nulls":9},0,0,0]
[null,"Kansas State University JV1","","",{"$nulls":9},0,0,0]
[null,"Kansas State University JV1","","",{"$nulls":9},0,0,0]
[{"$nulls":6},{"$f":"SUM(G12:G22)","v":0},0,0,0,0,0,0,0,0]
[]
[null,{"$f":"Roster_Selection_Women!AF149&\" \" & \"JV1 \"","v":"Morningside University JV1 "},{"$f":"Roster_Selection_Women!AH149","v":"18-52250"},{"$f":"Roster_Selection_Women!AI149","v":"Elana Krutsinger"},null,{"$f":"IF(ISERROR([4]Baker_Scores_Women_JV!E25), \" \", IF([4]Baker_Scores_Women_JV!E25 = \"Yes\", \"Yes\", \"  \"))","v":"#ERROR!"},114.0,137.0,90.0,118.0,154.0,156.0,145.0,{"$f":"SUM(G25:M25)","v":914},{"$f":"COUNTIF(G25:M25, \">0\" )","v":7},{"$f":"IF(O25=0,0,N25/O25)","v":130.5714286}]
[null,{"$f":"Roster_Selection_Women!AF150&\" \" & \"JV1 \"","v":"Morningside University JV1 "},{"$f":"Roster_Selection_Women!AH150","v":"19-55217"},{"$f":"Roster_Selection_Women!AI150","v":"Kiara(Riley) Howard"},null,{"$f":"IF(ISERROR([4]Baker_Scores_Women_JV!E26), \" \", IF([4]Baker_Scores_Women_JV!E26 = \"Yes\", \"Yes\", \"  \"))","v":"#ERROR!"},163.0,114.0,155.0,133.0,99.0,137.0,166.0,967,7,138.1428571]
[null,{"$f":"Roster_Selection_Women!AF151&\" \" & \"JV1 \"","v":"Morningside University JV1 "},{"$f":"Roster_Selection_Women!AH151","v":"11-250940"},{"$f":"Roster_Selection_Women!AI151","v":"Liberty Nordstrom"},null,{"$f":"IF(ISERROR([4]Baker_Scores_Women_JV!E27), \" \", IF([4]Baker_Scores_Women_JV!E27 = \"Yes\", \"Yes\", \"  \"))","v":"#ERROR!"},104.0,133.0,120.0,115.0,127.0,96.0,102.0,797,7,113.8571429]
[null,{"$f":"Roster_Selection_Women!AF152&\" \" & \"JV1 \"","v":"Morningside University JV1 "},{"$f":"Roster_Selection_Women!AH152","v":"11-81546"},{"$f":"Roster_Selection_Women!AI152","v":"Samantha Sonier"},null,{"$f":"IF(ISERROR([4]Baker_Scores_Women_JV!E28), \" \", IF([4]Baker_Scores_Women_JV!E28 = \"Yes\", \"Yes\", \"  \"))","v":"#ERROR!"},155.0,155.0,139.0,165.0,131.0,157.0,139.0,1041,7,148.7142857]
[null,{"$f":"Roster_Selection_Women!AF153&\" \" & \"JV1 \"","v":"Morningside University JV1 "},{"$f":"Roster_Selection_Women!AH153","v":"11-574512"},{"$f":"Roster_Selection_Women!AI153","v":"Zara Bitsos"},null,{"$f":"IF(ISERROR([4]Baker_Scores_Women_JV!E29), \" \", IF([4]Baker_Scores_Women_JV!E29 = \"Yes\", \"Yes\", \"  \"))","v":"#ERROR!"},127.0,141.0,95.0,161.0,167.0,199.0,136.0,1026,7,146.5714286]
[null,{"$f":"Roster_Selection_Women!AF154&\" \" & \"JV1 \"","v":" JV1 "},{"$f":"Roster_Selection_Women!AH154","v":""},{"$f":"Roster_Selection_Women!AI154","v":""},null,{"$f":"IF(ISERROR([4]Baker_Scores_Women_JV!E30), \" \", IF([4]Baker_Scores_Women_JV!E30 = \"Yes\", \"Yes\", \"  \"))","v":"#ERROR!"},0.0,0.0,0.0,0.0,0.0,0.0,0.0,0,0,0]
[null,{"$f":"Roster_Selection_Women!AF155&\" \" & \"JV1 \"","v":" JV1 "},{"$f":"Roster_Selection_Women!AH155","v":""},{"$f":"Roster_Selection_Women!AI155","v":""},null,{"$f":"IF(ISERROR([4]Baker_Scores_Women_JV!E31), \" \", IF([4]Baker_Scores_Women_JV!E31 = \"Yes\", \"Yes\", \"  \"))","v":"#ERROR!"},0.0,0.0,0.0,0.0,0.0,0.0,0.0,0,0,0]
[null,{"$f":"Roster_Selection_Women!AF156&\" \" & \"JV1 \"","v":" JV1 "},{"$f":"Roster_Selection_Women!AH156","v":""},{"$f":"Roster_Selection_Women!AI156","v":""},null,{"$f":"IF(ISERROR([4]Baker_Scores_Women_JV!E32), \" \", IF([4]Baker_Scores_Women_JV!E32 = \"Yes\", \"Yes\", \"  \"))","v":"#ERROR!"},0.0,0.0,0.0,0.0,0.0,0.0,0.0,0,0,0]
[null,"Morningside University JV1","","",{"$nulls":9},0,0,0]
[null,"Morningside University JV1","","",{"$nulls":9},0,0,0]
[null,"Morningside University JV1","","",{"$nulls":9},0,0,0]
[{"$nulls":6},{"$f":"SUM(G25:G35)","v":663},680,599,692,678,745,688,4745,35]
[]
[null,{"$f":"Roster_Selection_Women!AF162&\" \" & \"JV1 \"","v":"Ottawa University (KS) JV1 "},{"$f":"Roster_Selection_Women!AH162","v":"18-70532"},{"$f":"Roster_Selection_Women!AI162","v":"Amber Wagner"},null,{"$f":"IF(ISERROR([4]Baker_Scores_Women_JV!E38), \" \", IF([4]Baker_Scores_Women_JV!E38 = \"Yes\", \"Yes\", \"  \"))","v":"#ERROR!"},177.0,168.0,160.0,187.0,173.0,160.0,133.0,{"$f":"SUM(G38:M38)","v":1158},{"$f":"COUNTIF(G38:M38, \">0\" )","v":7},{"$f":"IF(O38=0,0,N38/O38)","v":165.4285714}]
[null,{"$f":"Roster_Selection_Women!AF163&\" \" & \"JV1 \"","v":"Ottawa University (KS) JV1 "},{"$f":"Roster_Selection_Women!AH163","v":"11-691826"},{"$f":"Roster_Selection_Women!AI163","v":"Ashlynn Senecal"},null,{"$f":"IF(ISERROR([4]Baker_Scores_Women_JV!E39), \" \", IF([4]Baker_Scores_Women_JV!E39 = \"Yes\", \"Yes\", \"  \"))","v":"#ERROR!"},90.0,110.0,108.0,0.0,0.0,0.0,115.0,423,4,105.75]
[null,{"$f":"Roster_Selection_Women!AF164&\" \" & \"JV1 \"","v":"Ottawa University (KS) JV1 "},{"$f":"Roster_Selection_Women!AH164","v":"23-1051"},{"$f":"Roster_Selection_Women!AI164","v":"Isabel Wong"},null,{"$f":"IF(ISERROR([4]Baker_Scores_Women_JV!E40), \" \", IF([4]Baker_Scores_Women_JV!E40 = \"Yes\", \"Yes\", \"  \"))","v":"#ERROR!"},152.0,160.0,138.0,186.0,177.0,174.0,175.0,1162,7,166]
[null,{"$f":"Roster_Selection_Women!AF165&\" \" & \"JV1 \"","v":"Ottawa University (KS) JV1 "},{"$f":"Roster_Selection_Women!AH165","v":"19-66110"},{"$f":"Roster_Selection_Women!AI165","v":"Jazel Tiquia"},null,{"$f":"IF(ISERROR([4]Baker_Scores_Women_JV!E41), \" \", IF([4]Baker_Scores_Women_JV!E41 = \"Yes\", \"Yes\", \"  \"))","v":"#ERROR!"},178.0,160.0,113.0,133.0,141.0,128.0,177.0,1030,7,147.1428571]
[null,{"$f":"Roster_Selection_Women!AF166&\" \" & \"JV1 \"","v":"Ottawa University (KS) JV1 "},{"$f":"Roster_Selection_Women!AH166","v":"19-80875"},{"$f":"Roster_Selection_Women!AI166","v":"Lydia Phillips"},null,{"$f":"IF(ISERROR([4]Baker_Scores_Women_JV!E42), \" \", IF([4]Baker_Scores_Women_JV!E42 = \"Yes\", \"Yes\", \"  \"))","v":"#ERROR!"},160.0,137.0,207.0,119.0,135.0,161.0,169.0,1088,7,155.4285714]
[null,{"$f":"Roster_Selection_Women!AF167&\" \" & \"JV1 \"","v":" JV1 "},{"$f":"Roster_Selection_Women!AH167","v":""},{"$f":"Roster_Selection_Women!AI167","v":""},null,{"$f":"IF(ISERROR([4]Baker_Scores_Women_JV!E43), \" \", IF([4]Baker_Scores_Women_JV!E43 = \"Yes\", \"Yes\", \"  \"))","v":"#ERROR!"},0.0,0.0,0.0,0.0,0.0,0.0,0.0,0,0,0]
[null,{"$f":"Roster_Selection_Women!AF168&\" \" & \"JV1 \"","v":" JV1 "},{"$f":"Roster_Selection_Women!AH168","v":""},{"$f":"Roster_Selection_Women!AI168","v":""},null,{"$f":"IF(ISERROR([4]Baker_Scores_Women_JV!E44), \" \", IF([4]Baker_Scores_Women_JV!E44 = \"Yes\", \"Yes\", \"  \"))","v":"#ERROR!"},0.0,0.0,0.0,0.0,0.0,0.0,0.0,0,0,0]
[null,{"$f":"Roster_Selection_Women!AF169&\" \" & \"JV1 \"","v":" JV1 "},{"$f":"Roster_Selection_Women!AH169","v":""},{"$f":"Roster_Selection_Women!AI169","v":""},null,{"$f":"IF(ISERROR([4]Baker_Scores_Women_JV!E45), \" \", IF([4]Baker_Scores_Women_JV!E45 = \"Yes\", \"Yes\", \"  \"))","v":"#ERROR!"},0.0,0.0,0.0,0.0,0.0,0.0,0.0,0,0,0]
[null,"Ottawa University (KS) JV1","","",{"$nulls":9},0,0,0]
[null,"Ottawa University (KS) JV1","","",{"$nulls":9},0,0,0]
[null,"Ottawa University (KS) JV1","","",{"$nulls":9},0,0,0]
[{"$nulls":6},{"$f":"SUM(G38:G48)","v":757},735,726,625,626,623,769,4861,32]
[]
[null,{"$f":"Roster_Selection_Women!AF195&\" \" & \"JV1 \"","v":"William Penn University JV1 "},{"$f":"Roster_Selection_Women!AH195","v":"6928-5185"},{"$f":"Roster_Selection_Women!AI195","v":"Christy Mottier"},null,{"$f":"IF(ISERROR([4]Baker_Scores_Women_JV!E51), \" \", IF([4]Baker_Scores_Women_JV!E51 = \"Yes\", \"Yes\", \"  \"))","v":"#ERROR!"},160.0,196.0,172.0,173.0,178.0,180.0,180.0,{"$f":"SUM(G51:M51)","v":1239},{"$f":"COUNTIF(G51:M51, \">0\" )","v":7},{"$f":"IF(O51=0,0,N51/O51)","v":177}]
[null,{"$f":"Roster_Selection_Women!AF196&\" \" & \"JV1 \"","v":"William Penn University JV1 "},{"$f":"Roster_Selection_Women!AH196","v":"11-40996"},{"$f":"Roster_Selection_Women!AI196","v":"Emily Eikenberry"},null,{"$f":"IF(ISERROR([4]Baker_Scores_Women_JV!E52), \" \", IF([4]Baker_Scores_Women_JV!E52 = \"Yes\", \"Yes\", \"  \"))","v":"#ERROR!"},0.0,189.0,171.0,138.0,176.0,131.0,131.0,936,6,156]
[null,{"$f":"Roster_Selection_Women!AF197&\" \" & \"JV1 \"","v":"William Penn University JV1 "},{"$f":"Roster_Selection_Women!AH197","v":"19-78537"},{"$f":"Roster_Selection_Women!AI197","v":"Kelcey Aczon-Kawamura"},null,{"$f":"IF(ISERROR([4]Baker_Scores_Women_JV!E53), \" \", IF([4]Baker_Scores_Women_JV!E53 = \"Yes\", \"Yes\", \"  \"))","v":"#ERROR!"},190.0,178.0,171.0,219.0,198.0,180.0,180.0,1316,7,188]
[null,{"$f":"Roster_Selection_Women!AF198&\" \" & \"JV1 \"","v":"William Penn University JV1 "},{"$f":"Roster_Selection_Women!AH198","v":"11-247563"},{"$f":"Roster_Selection_Women!AI198","v":"Lucille Mitchell"},null,{"$f":"IF(ISERROR([4]Baker_Scores_Women_JV!E54), \" \", IF([4]Baker_Scores_Women_JV!E54 = \"Yes\", \"Yes\", \"  \"))","v":"#ERROR!"},158.0,142.0,0.0,0.0,163.0,156.0,156.0,775,5,155]
[null,{"$f":"Roster_Selection_Women!AF199&\" \" & \"JV1 \"","v":"William Penn University JV1 "},{"$f":"Roster_Selection_Women!AH199","v":"11-261138"},{"$f":"Roster_Selection_Women!AI199","v":"Olivia Pilcher"},null,{"$f":"IF(ISERROR([4]Baker_Scores_Women_JV!E55), \" \", IF([4]Baker_Scores_Women_JV!E55 = \"Yes\", \"Yes\", \"  \"))","v":"#ERROR!"},110.0,0.0,154.0,137.0,170.0,144.0,144.0,859,6,143.1666667]
[null,{"$f":"Roster_Selection_Women!AF200&\" \" & \"JV1 \"","v":"William Penn University JV1 "},{"$f":"Roster_Selection_Women!AH200","v":"11-706020"},{"$f":"Roster_Selection_Women!AI200","v":"Payton Vogel"},null,{"$f":"IF(ISERROR([4]Baker_Scores_Women_JV!E56), \" \", IF([4]Baker_Scores_Women_JV!E56 = \"Yes\", \"Yes\", \"  \"))","v":"#ERROR!"},139.0,0.0,177.0,136.0,0.0,0.0,0.0,452,3,150.6666667]
[null,{"$f":"Roster_Selection_Women!AF201&\" \" & \"JV1 \"","v":"William Penn University JV1 "},{"$f":"Roster_Selection_Women!AH201","v":"18-11595"},{"$f":"Roster_Selection_Women!AI201","v":"Saphyre McCombs"},null,{"$f":"IF(ISERROR([4]Baker_Scores_Women_JV!E57), \" \", IF([4]Baker_Scores_Women_JV!E57 = \"Yes\", \"Yes\", \"  \"))","v":"#ERROR!"},0.0,114.0,0.0,0.0,0.0,0.0,0.0,114,1,114]
[null,{"$f":"Roster_Selection_Women!AF202&\" \" & \"JV1 \"","v":" JV1 "},{"$f":"Roster_Selection_Women!AH202","v":""},{"$f":"Roster_Selection_Women!AI202","v":""},null,{"$f":"IF(ISERROR([4]Baker_Scores_Women_JV!E58), \" \", IF([4]Baker_Scores_Women_JV!E58 = \"Yes\", \"Yes\", \"  \"))","v":"#ERROR!"},0.0,0.0,0.0,0.0,0.0,0.0,0.0,0,0,0]
[null,"William Penn University JV1","","",{"$nulls":9},0,0,0]
[null,"William Penn University JV1","","",{"$nulls":9},0,0,0]
[null,"William Penn University JV1","","",{"$nulls":9},0,0,0]
[{"$nulls":6},{"$f":"SUM(G51:G61)","v":757},819,845,803,885,791,791,5691,35]
[]
[]
[]
[]
[{"$nulls":4},"Team Totals",null,{"$f":"SUM(G23,G36,G49,G62)","v":2177},2234,2170,2120,2189,2159,2248,15297,102,{"$nulls":36},"*"]
[{"$nulls":4},"Team Game Average",null,{"$f":"SUM(G67/(4))","v":544.25},558.5,542.5,530,547.25,539.75,562]

{"sheet":"Qual_Team_Standings_Men_Var","index":6,"n_rows":63,"n_cols":54,"rows_kept":63,"cut":false,"hidden":false,"merged":[[0,0,0,17]]}
["Qualifying Team Standings",{"$nulls":50},"A12:M29"]
[{"$nulls":51},"A12:A29"]
[null,"NAIA Weekend-West-Sunday",null,"02/04/2024 - 02/04/2024",{"$nulls":47},"Individual_Scores_Men_Var"]
[null,"Tier 2","NAIA","Lawrence, KS",{"$nulls":49},"IBCYouth"]
[]
[]
[]
[null,"Men's Division",null,null,"Cert. No: 04110"]
[]
[null,null,null,"Team","Team","Team","Team","Team","Team","Team","Overall"]
["Rank","Team","State",1.0,2.0,3.0,4.0,5.0,6.0,7.0,"Total"]
[{"$f":"RANK(K12,$K$12:$K$30)","v":1},"Hastings College V",null,{"$f":"Individual_Scores_Men_Var!G114","v":1059},{"$f":"Individual_Scores_Men_Var!H114","v":800},{"$f":"Individual_Scores_Men_Var!I114","v":951},{"$f":"Individual_Scores_Men_Var!J114","v":1047},{"$f":"Individual_Scores_Men_Var!K114","v":968},{"$f":"Individual_Scores_Men_Var!L114","v":794},{"$f":"Individual_Scores_Men_Var!M114","v":952},{"$f":"SUM(D12:J12)","v":6571}]
[{"$f":"RANK(K13,$K$12:$K$30)","v":2},"Midland University V",null,{"$f":"Individual_Scores_Men_Var!G166","v":874},{"$f":"Individual_Scores_Men_Var!H166","v":939},{"$f":"Individual_Scores_Men_Var!I166","v":934},{"$f":"Individual_Scores_Men_Var!J166","v":948},{"$f":"Individual_Scores_Men_Var!K166","v":1012},{"$f":"Individual_Scores_Men_Var!L166","v":978},{"$f":"Individual_Scores_Men_Var!M166","v":858},6543]
[{"$f":"RANK(K14,$K$12:$K$30)","v":2},"Ottawa University (KS) V",null,{"$f":"Individual_Scores_Men_Var!G205","v":1013},{"$f":"Individual_Scores_Men_Var!H205","v":924},{"$f":"Individual_Scores_Men_Var!I205","v":759},{"$f":"Individual_Scores_Men_Var!J205","v":827},{"$f":"Individual_Scores_Men_Var!K205","v":1057},{"$f":"Individual_Scores_Men_Var!L205","v":998},{"$f":"Individual_Scores_Men_Var!M205","v":965},6543]
[{"$f":"RANK(K15,$K$12:$K$30)","v":4},"Baker University V",null,{"$f":"Individual_Scores_Men_Var!G36","v":863},{"$f":"Individual_Scores_Men_Var!H36","v":990},{"$f":"Individual_Scores_Men_Var!I36","v":886},{"$f":"Individual_Scores_Men_Var!J36","v":985},{"$f":"Individual_Scores_Men_Var!K36","v":891},{"$f":"Individual_Scores_Men_Var!L36","v":944},{"$f":"Individual_Scores_Men_Var!M36","v":837},6396]
[{"$f":"RANK(K16,$K$12:$K$30)","v":5},"Kansas Wesleyan University V",null,{"$f":"Individual_Scores_Men_Var!G153","v":840},{"$f":"Individual_Scores_Men_Var!H153","v":831},{"$f":"Individual_Scores_Men_Var!I153","v":891},{"$f":"Individual_Scores_Men_Var!J153","v":928},{"$f":"Individual_Scores_Men_Var!K153","v":978},{"$f":"Individual_Scores_Men_Var!L153","v":896},{"$f":"Individual_Scores_Men_Var!M153","v":930},6294]
[{"$f":"RANK(K17,$K$12:$K$30)","v":6},"William Penn University V",null,{"$f":"Individual_Scores_Men_Var!G244","v":896},{"$f":"Individual_Scores_Men_Var!H244","v":919},{"$f":"Individual_Scores_Men_Var!I244","v":1011},{"$f":"Individual_Scores_Men_Var!J244","v":858},{"$f":"Individual_Scores_Men_Var!K244","v":805},{"$f":"Individual_Scores_Men_Var!L244","v":930},{"$f":"Individual_Scores_Men_Var!M244","v":799},6218]
[{"$f":"RANK(K18,$K$12:$K$30)","v":7},"Peru State College V",null,{"$f":"Individual_Scores_Men_Var!G218","v":850},{"$f":"Individual_Scores_Men_Var!H218","v":1038},{"$f":"Individual_Scores_Men_Var!I218","v":848},{"$f":"Individual_Scores_Men_Var!J218","v":909},{"$f":"Individual_Scores_Men_Var!K218","v":868},{"$f":"Individual_Scores_Men_Var!L218","v":886},{"$f":"Individual_Scores_Men_Var!M218","v":802},6201]
[{"$f":"RANK(K19,$K$12:$K$30)","v":8},"Barton Community College V",null,{"$f":"Individual_Scores_Men_Var!G49","v":898},{"$f":"Individual_Scores_Men_Var!H49","v":860},{"$f":"Individual_Scores_Men_Var!I49","v":940},{"$f":"Individual_Scores_Men_Var!J49","v":931},{"$f":"Individual_Scores_Men_Var!K49","v":822},{"$f":"Individual_Scores_Men_Var!L49","v":869},{"$f":"Individual_Scores_Men_Var!M49","v":816},6136]
[{"$f":"RANK(K20,$K$12:$K$30)","v":9},"Grand View University V",null,{"$f":"Individual_Scores_Men_Var!G101","v":828},{"$f":"Individual_Scores_Men_Var!H101","v":747},{"$f":"Individual_Scores_Men_Var!I101","v":844},{"$f":"Individual_Scores_Men_Var!J101","v":934},{"$f":"Individual_Scores_Men_Var!K101","v":877},{"$f":"Individual_Scores_Men_Var!L101","v":946},{"$f":"Individual_Scores_Men_Var!M101","v":842},6018]
[{"$f":"RANK(K21,$K$12:$K$30)","v":10},"Clarke University V",null,{"$f":"Individual_Scores_Men_Var!G75","v":872},{"$f":"Individual_Scores_Men_Var!H75","v":894},{"$f":"Individual_Scores_Men_Var!I75","v":850},{"$f":"Individual_Scores_Men_Var!J75","v":910},{"$f":"Individual_Scores_Men_Var!K75","v":822},{"$f":"Individual_Scores_Men_Var!L75","v":825},{"$f":"Individual_Scores_Men_Var!M75","v":771},5944]
[{"$f":"RANK(K22,$K$12:$K$30)","v":11},"Avila University V",null,{"$f":"Individual_Scores_Men_Var!G23","v":890},{"$f":"Individual_Scores_Men_Var!H23","v":841},{"$f":"Individual_Scores_Men_Var!I23","v":825},{"$f":"Individual_Scores_Men_Var!J23","v":906},{"$f":"Individual_Scores_Men_Var!K23","v":838},{"$f":"Individual_Scores_Men_Var!L23","v":807},{"$f":"Individual_Scores_Men_Var!M23","v":814},5921]
[{"$f":"RANK(K23,$K$12:$K$30)","v":12},"University Of Saint Mary V",null,{"$f":"Individual_Scores_Men_Var!G231","v":764},{"$f":"Individual_Scores_Men_Var!H231","v":872},{"$f":"Individual_Scores_Men_Var!I231","v":883},{"$f":"Individual_Scores_Men_Var!J231","v":903},{"$f":"Individual_Scores_Men_Var!K231","v":843},{"$f":"Individual_Scores_Men_Var!L231","v":812},{"$f":"Individual_Scores_Men_Var!M231","v":774},5851]
[{"$f":"RANK(K24,$K$12:$K$30)","v":13},"Culver-Stockton College V",null,{"$f":"Individual_Scores_Men_Var!G88","v":817},{"$f":"Individual_Scores_Men_Var!H88","v":845},{"$f":"Individual_Scores_Men_Var!I88","v":811},{"$f":"Individual_Scores_Men_Var!J88","v":768},{"$f":"Individual_Scores_Men_Var!K88","v":784},{"$f":"Individual_Scores_Men_Var!L88","v":875},{"$f":"Individual_Scores_Men_Var!M88","v":776},5676]
[{"$f":"RANK(K25,$K$12:$K$30)","v":14},"Kansas State University V",null,{"$f":"Individual_Scores_Men_Var!G140","v":743},{"$f":"Individual_Scores_Men_Var!H140","v":830},{"$f":"Individual_Scores_Men_Var!I140","v":784},{"$f":"Individual_Scores_Men_Var!J140","v":915},{"$f":"Individual_Scores_Men_Var!K140","v":793},{"$f":"Individual_Scores_Men_Var!L140","v":726},{"$f":"Individual_Scores_Men_Var!M140","v":846},5637]
[{"$f":"RANK(K26,$K$12:$K$30)","v":15},"Central Methodist University V",null,{"$f":"Individual_Scores_Men_Var!G62","v":806},{"$f":"Individual_Scores_Men_Var!H62","v":901},{"$f":"Individual_Scores_Men_Var!I62","v":810},{"$f":"Individual_Scores_Men_Var!J62","v":752},{"$f":"Individual_Scores_Men_Var!K62","v":851},{"$f":"Individual_Scores_Men_Var!L62","v":852},{"$f":"Individual_Scores_Men_Var!M62","v":650},5622]
[{"$f":"RANK(K27,$K$12:$K$30)","v":16},"Kansas ,University Of V",null,{"$f":"Individual_Scores_Men_Var!G127","v":859},{"$f":"Individual_Scores_Men_Var!H127","v":860},{"$f":"Individual_Scores_Men_Var!I127","v":803},{"$f":"Individual_Scores_Men_Var!J127","v":725},{"$f":"Individual_Scores_Men_Var!K127","v":821},{"$f":"Individual_Scores_Men_Var!L127","v":741},{"$f":"Individual_Scores_Men_Var!M127","v":789},5598]
[{"$f":"RANK(K28,$K$12:$K$30)","v":17},"Morningside University V",null,{"$f":"Individual_Scores_Men_Var!G192","v":798},{"$f":"Individual_Scores_Men_Var!H192","v":929},{"$f":"Individual_Scores_Men_Var!I192","v":798},{"$f":"Individual_Scores_Men_Var!J192","v":742},{"$f":"Individual_Scores_Men_Var!K192","v":725},{"$f":"Individual_Scores_Men_Var!L192","v":801},{"$f":"Individual_Scores_Men_Var!M192","v":727},5520]
[{"$f":"RANK(K29,$K$12:$K$30)","v":18},"Missouri Valley College V",null,{"$f":"Individual_Scores_Men_Var!G179","v":833},{"$f":"Individual_Scores_Men_Var!H179","v":744},{"$f":"Individual_Scores_Men_Var!I179","v":773},{"$f":"Individual_Scores_Men_Var!J179","v":842},{"$f":"Individual_Scores_Men_Var!K179","v":696},{"$f":"Individual_Scores_Men_Var!L179","v":710},{"$f":"Individual_Scores_Men_Var!M179","v":750},5348]
[]
[null,"Total Team Pins:",null,{"$f":"SUM(D12:D29)","v":15503},15764,15401,15830,15451,15390,14698,108037]
[null,"Team Field Ave:",null,{"$f":"(D31/18)","v":861.2777778},875.7777778,855.6111111,879.4444444,858.3888889,855,816.5555556,6002.055556]
[null,"Individual Field Ave:",null,{"$f":"IF(D40 = 0, 0,D31/D40)","v":172.2555556},175.1555556,171.1222222,175.8888889,171.6777778,171,163.3111111,171.4873016]
[]
[]
[]
[]
[]
[]
[null,null,null,{"$f":"COUNTIF(Individual_Scores_Men_Var!G12:G22, \">0\")+COUNTIF(Individual_Scores_Men_Var!G25:G35, \">0\")+COUNTIF(Individual_Scores_Men_Var!G38:G48, \">0\")+COUNTIF(Individual_Scores_Men_Var!G51:G61, \">0\")+COUNTIF(Individual_Scores_Men_Var!G64:G74, \">0\")+COUNTIF(Individual_Scores_Men_Var!G77:G87, \">0\")+COUNTIF(Individual_Scores_Men_Var!G90:G100, \">0\")+COUNTIF(Individual_Scores_Men_Var!G103:G113, \">0\")+COUNTIF(Individual_Scores_Men_Var!G116:G126, \">0\")+COUNTIF(Individual_Scores_Men_Var!G129:G139, \">0\")+COUNTIF(Individual_Scores_Men_Var!G142:G152, \">0\")+COUNTIF(Individual_Scores_Men_Var!G155:G165, \">0\")+COUNTIF(Individual_Scores_Men_Var!G168:G178, \">0\")+COUNTIF(Individual_Scores_Men_Var!G181:G191, \">0\")+COUNTIF(Individual_Scores_Men_Var!G194:G204, \">0\")+COUNTIF(Individual_Scores_Men_Var!G207:G217, \">0\")+COUNTIF(Individual_Scores_Men_Var!G220:G230, \">0\")+COUNTIF(Individual_Scores_Men_Var!G233:G243, \">0\")","v":90},{"$f":"COUNTIF(Individual_Scores_Men_Var!H12:H22, \">0\")+COUNTIF(Individual_Scores_Men_Var!H25:H35, \">0\")+COUNTIF(Individual_Scores_Men_Var!H38:H48, \">0\")+COUNTIF(Individual_Scores_Men_Var!H51:H61, \">0\")+COUNTIF(Individual_Scores_Men_Var!H64:H74, \">0\")+COUNTIF(Individual_Scores_Men_Var!H77:H87, \">0\")+COUNTIF(Individual_Scores_Men_Var!H90:H100, \">0\")+COUNTIF(Individual_Scores_Men_Var!H103:H113, \">0\")+COUNTIF(Individual_Scores_Men_Var!H116:H126, \">0\")+COUNTIF(Individual_Scores_Men_Var!H129:H139, \">0\")+COUNTIF(Individual_Scores_Men_Var!H142:H152, \">0\")+COUNTIF(Individual_Scores_Men_Var!H155:H165, \">0\")+COUNTIF(Individual_Scores_Men_Var!H168:H178, \">0\")+COUNTIF(Individual_Scores_Men_Var!H181:H191, \">0\")+COUNTIF(Individual_Scores_Men_Var!H194:H204, \">0\")+COUNTIF(Individual_Scores_Men_Var!H207:H217, \">0\")+COUNTIF(Individual_Scores_Men_Var!H220:H230, \">0\")+COUNTIF(Individual_Scores_Men_Var!H233:H243, \">0\")","v":90},{"$f":"COUNTIF(Individual_Scores_Men_Var!I12:I22, \">0\")+COUNTIF(Individual_Scores_Men_Var!I25:I35, \">0\")+COUNTIF(Individual_Scores_Men_Var!I38:I48, \">0\")+COUNTIF(Individual_Scores_Men_Var!I51:I61, \">0\")+COUNTIF(Individual_Scores_Men_Var!I64:I74, \">0\")+COUNTIF(Individual_Scores_Men_Var!I77:I87, \">0\")+COUNTIF(Individual_Scores_Men_Var!I90:I100, \">0\")+COUNTIF(Individual_Scores_Men_Var!I103:I113, \">0\")+COUNTIF(Individual_Scores_Men_Var!I116:I126, \">0\")+COUNTIF(Individual_Scores_Men_Var!I129:I139, \">0\")+COUNTIF(Individual_Scores_Men_Var!I142:I152, \">0\")+COUNTIF(Individual_Scores_Men_Var!I155:I165, \">0\")+COUNTIF(Individual_Scores_Men_Var!I168:I178, \">0\")+COUNTIF(Individual_Scores_Men_Var!I181:I191, \">0\")+COUNTIF(Individual_Scores_Men_Var!I194:I204, \">0\")+COUNTIF(Individual_Scores_Men_Var!I207:I217, \">0\")+COUNTIF(Individual_Scores_Men_Var!I220:I230, \">0\")+COUNTIF(Individual_Scores_Men_Var!I233:I243, \">0\")","v":90},{"$f":"COUNTIF(Individual_Scores_Men_Var!J12:J22, \">0\")+COUNTIF(Individual_Scores_Men_Var!J25:J35, \">0\")+COUNTIF(Individual_Scores_Men_Var!J38:J48, \">0\")+COUNTIF(Individual_Scores_Men_Var!J51:J61, \">0\")+COUNTIF(Individual_Scores_Men_Var!J64:J74, \">0\")+COUNTIF(Individual_Scores_Men_Var!J77:J87, \">0\")+COUNTIF(Individual_Scores_Men_Var!J90:J100, \">0\")+COUNTIF(Individual_Scores_Men_Var!J103:J113, \">0\")+COUNTIF(Individual_Scores_Men_Var!J116:J126, \">0\")+COUNTIF(Individual_Scores_Men_Var!J129:J139, \">0\")+COUNTIF(Individual_Scores_Men_Var!J142:J152, \">0\")+COUNTIF(Individual_Scores_Men_Var!J155:J165, \">0\")+COUNTIF(Individual_Scores_Men_Var!J168:J178, \">0\")+COUNTIF(Individual_Scores_Men_Var!J181:J191, \">0\")+COUNTIF(Individual_Scores_Men_Var!J194:J204, \">0\")+COUNTIF(Individual_Scores_Men_Var!J207:J217, \">0\")+COUNTIF(Individual_Scores_Men_Var!J220:J230, \">0\")+COUNTIF(Individual_Scores_Men_Var!J233:J243, \">0\")","v":90},{"$f":"COUNTIF(Individual_Scores_Men_Var!K12:K22, \">0\")+COUNTIF(Individual_Scores_Men_Var!K25:K35, \">0\")+COUNTIF(Individual_Scores_Men_Var!K38:K48, \">0\")+COUNTIF(Individual_Scores_Men_Var!K51:K61, \">0\")+COUNTIF(Individual_Scores_Men_Var!K64:K74, \">0\")+COUNTIF(Individual_Scores_Men_Var!K77:K87, \">0\")+COUNTIF(Individual_Scores_Men_Var!K90:K100, \">0\")+COUNTIF(Individual_Scores_Men_Var!K103:K113, \">0\")+COUNTIF(Individual_Scores_Men_Var!K116:K126, \">0\")+COUNTIF(Individual_Scores_Men_Var!K129:K139, \">0\")+COUNTIF(Individual_Scores_Men_Var!K142:K152, \">0\")+COUNTIF(Individual_Scores_Men_Var!K155:K165, \">0\")+COUNTIF(Individual_Scores_Men_Var!K168:K178, \">0\")+COUNTIF(Individual_Scores_Men_Var!K181:K191, \">0\")+COUNTIF(Individual_Scores_Men_Var!K194:K204, \">0\")+COUNTIF(Individual_Scores_Men_Var!K207:K217, \">0\")+COUNTIF(Individual_Scores_Men_Var!K220:K230, \">0\")+COUNTIF(Individual_Scores_Men_Var!K233:K243, \">0\")","v":90},{"$f":"COUNTIF(Individual_Scores_Men_Var!L12:L22, \">0\")+COUNTIF(Individual_Scores_Men_Var!L25:L35, \">0\")+COUNTIF(Individual_Scores_Men_Var!L38:L48, \">0\")+COUNTIF(Individual_Scores_Men_Var!L51:L61, \">0\")+COUNTIF(Individual_Scores_Men_Var!L64:L74, \">0\")+COUNTIF(Individual_Scores_Men_Var!L77:L87, \">0\")+COUNTIF(Individual_Scores_Men_Var!L90:L100, \">0\")+COUNTIF(Individual_Scores_Men_Var!L103:L113, \">0\")+COUNTIF(Individual_Scores_Men_Var!L116:L126, \">0\")+COUNTIF(Individual_Scores_Men_Var!L129:L139, \">0\")+COUNTIF(Individual_Scores_Men_Var!L142:L152, \">0\")+COUNTIF(Individual_Scores_Men_Var!L155:L165, \">0\")+COUNTIF(Individual_Scores_Men_Var!L168:L178, \">0\")+COUNTIF(Individual_Scores_Men_Var!L181:L191, \">0\")+COUNTIF(Individual_Scores_Men_Var!L194:L204, \">0\")+COUNTIF(Individual_Scores_Men_Var!L207:L217, \">0\")+COUNTIF(Individual_Scores_Men_Var!L220:L230, \">0\")+COUNTIF(Individual_Scores_Men_Var!L233:L243, \">0\")","v":90},{"$f":"COUNTIF(Individual_Scores_Men_Var!M12:M22, \">0\")+COUNTIF(Individual_Scores_Men_Var!M25:M35, \">0\")+COUNTIF(Individual_Scores_Men_Var!M38:M48, \">0\")+COUNTIF(Individual_Scores_Men_Var!M51:M61, \">0\")+COUNTIF(Individual_Scores_Men_Var!M64:M74, \">0\")+COUNTIF(Individual_Scores_Men_Var!M77:M87, \">0\")+COUNTIF(Individual_Scores_Men_Var!M90:M100, \">0\")+COUNTIF(Individual_Scores_Men_Var!M103:M113, \">0\")+COUNTIF(Individual_Scores_Men_Var!M116:M126, \">0\")+COUNTIF(Individual_Scores_Men_Var!M129:M139, \">0\")+COUNTIF(Individual_Scores_Men_Var!M142:M152, \">0\")+COUNTIF(Individual_Scores_Men_Var!M155:M165, \">0\")+COUNTIF(Individual_Scores_Men_Var!M168:M178, \">0\")+COUNTIF(Individual_Scores_Men_Var!M181:M191, \">0\")+COUNTIF(Individual_Scores_Men_Var!M194:M204, \">0\")+COUNTIF(Individual_Scores_Men_Var!M207:M217, \">0\")+COUNTIF(Individual_Scores_Men_Var!M220:M230, \">0\")+COUNTIF(Individual_Scores_Men_Var!M233:M243, \">0\")","v":90},{"$f":"SUM(D40:J40)","v":630}]
[null,"Qualifying Team Standings "]
[null,"NAIA Weekend-West-Sunday"]
[null,"Men's Varsity"]
[null,null,null,"Overall"]
["Rank","Team",null,"Total"]
[{"$f":"A12","v":1},"Hastings College V",null,{"$f":"K12","v":6571}]
[{"$f":"A13","v":2},"Midland University V",null,6543]
[{"$f":"A14","v":2},"Ottawa University (KS) V",null,6543]
[{"$f":"A15","v":4},"Baker University V",null,6396]
[{"$f":"A16","v":5},"Kansas Wesleyan University V",null,6294]
[{"$f":"A17","v":6},"William Penn University V",null,6218]
[{"$f":"A18","v":7},"Peru State College V",null,6201]
[{"$f":"A19","v":8},"Barton Community College V",null,6136]
[{"$f":"A20","v":9},"Grand View University V",null,6018]
[{"$f":"A21","v":10},"Clarke University V",null,5944]
[{"$f":"A22","v":11},"Avila University V",null,5921]
[{"$f":"A23","v":12},"University Of Saint Mary V",null,5851]
[{"$f":"A24","v":13},"Culver-Stockton College V",null,5676]
[{"$f":"A25","v":14},"Kansas State University V",null,5637]
[{"$f":"A26","v":15},"Central Methodist University V",null,5622]
[{"$f":"A27","v":16},"Kansas ,University Of V",null,5598]
[{"$f":"A28","v":17},"Morningside University V",null,5520]
[{"$f":"A29","v":18},"Missouri Valley College V",null,5348]

{"sheet":"Qual_Team_Standings_Men_JV","index":7,"n_rows":43,"n_cols":54,"rows_kept":43,"cut":false,"hidden":false,"merged":[[0,0,0,17]]}
["Qualifying Team Standings",{"$nulls":50},"A12:M19"]
[{"$nulls":51},"A12:A19"]
[null,"NAIA Weekend-West-Sunday",null,"02/04/2024 - 02/04/2024",{"$nulls":47},"Individual_Scores_Men_JV"]
[null,"Tier 2","NAIA","Lawrence, KS",{"$nulls":49},"IBCYouth"]
[]
[]
[]
[null,"Men's Division",null,null,"Cert. No: 04110"]
[]
[null,null,null,"Team","Team","Team","Team","Team","Team","Team","Overall"]
["Rank","Team","State",1.0,2.0,3.0,4.0,5.0,6.0,7.0,"Total"]
[{"$f":"RANK(K12,$K$12:$K$20)","v":1},"William Penn University JV1",null,{"$f":"Individual_Scores_Men_JV!G114","v":836},{"$f":"Individual_Scores_Men_JV!H114","v":902},{"$f":"Individual_Scores_Men_JV!I114","v":790},{"$f":"Individual_Scores_Men_JV!J114","v":816},{"$f":"Individual_Scores_Men_JV!K114","v":914},{"$f":"Individual_Scores_Men_JV!L114","v":904},{"$f":"Individual_Scores_Men_JV!M114","v":871},{"$f":"SUM(D12:J12)","v":6033}]
[{"$f":"RANK(K13,$K$12:$K$20)","v":2},"Ottawa University (KS) JV2",null,{"$f":"Individual_Scores_Men_JV!G101","v":789},{"$f":"Individual_Scores_Men_JV!H101","v":760},{"$f":"Individual_Scores_Men_JV!I101","v":851},{"$f":"Individual_Scores_Men_JV!J101","v":1003},{"$f":"Individual_Scores_Men_JV!K101","v":855},{"$f":"Individual_Scores_Men_JV!L101","v":951},{"$f":"Individual_Scores_Men_JV!M101","v":793},6002]
[{"$f":"RANK(K14,$K$12:$K$20)","v":3},"Ottawa University (KS) JV1",null,{"$f":"Individual_Scores_Men_JV!G88","v":866},{"$f":"Individual_Scores_Men_JV!H88","v":766},{"$f":"Individual_Scores_Men_JV!I88","v":685},{"$f":"Individual_Scores_Men_JV!J88","v":851},{"$f":"Individual_Scores_Men_JV!K88","v":856},{"$f":"Individual_Scores_Men_JV!L88","v":838},{"$f":"Individual_Scores_Men_JV!M88","v":882},5744]
[{"$f":"RANK(K15,$K$12:$K$20)","v":4},"Baker University JV1",null,{"$f":"Individual_Scores_Men_JV!G36","v":762},{"$f":"Individual_Scores_Men_JV!H36","v":852},{"$f":"Individual_Scores_Men_JV!I36","v":808},{"$f":"Individual_Scores_Men_JV!J36","v":788},{"$f":"Individual_Scores_Men_JV!K36","v":873},{"$f":"Individual_Scores_Men_JV!L36","v":787},{"$f":"Individual_Scores_Men_JV!M36","v":846},5716]
[{"$f":"RANK(K16,$K$12:$K$20)","v":5},"Grand View University JV1",null,{"$f":"Individual_Scores_Men_JV!G49","v":824},{"$f":"Individual_Scores_Men_JV!H49","v":800},{"$f":"Individual_Scores_Men_JV!I49","v":779},{"$f":"Individual_Scores_Men_JV!J49","v":869},{"$f":"Individual_Scores_Men_JV!K49","v":851},{"$f":"Individual_Scores_Men_JV!L49","v":798},{"$f":"Individual_Scores_Men_JV!M49","v":788},5709]
[{"$f":"RANK(K17,$K$12:$K$20)","v":6},"Avila University JV1",null,{"$f":"Individual_Scores_Men_JV!G23","v":859},{"$f":"Individual_Scores_Men_JV!H23","v":811},{"$f":"Individual_Scores_Men_JV!I23","v":723},{"$f":"Individual_Scores_Men_JV!J23","v":911},{"$f":"Individual_Scores_Men_JV!K23","v":746},{"$f":"Individual_Scores_Men_JV!L23","v":743},{"$f":"Individual_Scores_Men_JV!M23","v":687},5480]
[{"$f":"RANK(K18,$K$12:$K$20)","v":7},"Morningside University JV1",null,{"$f":"Individual_Scores_Men_JV!G75","v":462},{"$f":"Individual_Scores_Men_JV!H75","v":435},{"$f":"Individual_Scores_Men_JV!I75","v":525},{"$f":"Individual_Scores_Men_JV!J75","v":500},{"$f":"Individual_Scores_Men_JV!K75","v":439},{"$f":"Individual_Scores_Men_JV!L75","v":507},{"$f":"Individual_Scores_Men_JV!M75","v":446},3314]
[{"$f":"RANK(K19,$K$12:$K$20)","v":8},"Kansas State University JV1",null,{"$f":"Individual_Scores_Men_JV!G62","v":0},{"$f":"Individual_Scores_Men_JV!H62","v":0},{"$f":"Individual_Scores_Men_JV!I62","v":0},{"$f":"Individual_Scores_Men_JV!J62","v":0},{"$f":"Individual_Scores_Men_JV!K62","v":0},{"$f":"Individual_Scores_Men_JV!L62","v":0},{"$f":"Individual_Scores_Men_JV!M62","v":0},0]
[]
[null,"Total Team Pins:",null,{"$f":"SUM(D12:D19)","v":5398},5326,5161,5738,5534,5528,5313,37998]
[null,"Team Field Ave:",null,{"$f":"(D21/8)","v":674.75},665.75,645.125,717.25,691.75,691,664.125,4749.75]
[null,"Individual Field Ave:",null,{"$f":"IF(D30 = 0, 0,D21/D30)","v":163.5757576},161.3939394,156.3939394,173.8787879,167.6969697,167.5151515,161,164.4935065]
[]
[]
[]
[]
[]
[]
[null,null,null,{"$f":"COUNTIF(Individual_Scores_Men_JV!G12:G22, \">0\")+COUNTIF(Individual_Scores_Men_JV!G25:G35, \">0\")+COUNTIF(Individual_Scores_Men_JV!G38:G48, \">0\")+COUNTIF(Individual_Scores_Men_JV!G51:G61, \">0\")+COUNTIF(Individual_Scores_Men_JV!G64:G74, \">0\")+COUNTIF(Individual_Scores_Men_JV!G77:G87, \">0\")+COUNTIF(Individual_Scores_Men_JV!G90:G100, \">0\")+COUNTIF(Individual_Scores_Men_JV!G103:G113, \">0\")","v":33},{"$f":"COUNTIF(Individual_Scores_Men_JV!H12:H22, \">0\")+COUNTIF(Individual_Scores_Men_JV!H25:H35, \">0\")+COUNTIF(Individual_Scores_Men_JV!H38:H48, \">0\")+COUNTIF(Individual_Scores_Men_JV!H51:H61, \">0\")+COUNTIF(Individual_Scores_Men_JV!H64:H74, \">0\")+COUNTIF(Individual_Scores_Men_JV!H77:H87, \">0\")+COUNTIF(Individual_Scores_Men_JV!H90:H100, \">0\")+COUNTIF(Individual_Scores_Men_JV!H103:H113, \">0\")","v":33},{"$f":"COUNTIF(Individual_Scores_Men_JV!I12:I22, \">0\")+COUNTIF(Individual_Scores_Men_JV!I25:I35, \">0\")+COUNTIF(Individual_Scores_Men_JV!I38:I48, \">0\")+COUNTIF(Individual_Scores_Men_JV!I51:I61, \">0\")+COUNTIF(Individual_Scores_Men_JV!I64:I74, \">0\")+COUNTIF(Individual_Scores_Men_JV!I77:I87, \">0\")+COUNTIF(Individual_Scores_Men_JV!I90:I100, \">0\")+COUNTIF(Individual_Scores_Men_JV!I103:I113, \">0\")","v":33},{"$f":"COUNTIF(Individual_Scores_Men_JV!J12:J22, \">0\")+COUNTIF(Individual_Scores_Men_JV!J25:J35, \">0\")+COUNTIF(Individual_Scores_Men_JV!J38:J48, \">0\")+COUNTIF(Individual_Scores_Men_JV!J51:J61, \">0\")+COUNTIF(Individual_Scores_Men_JV!J64:J74, \">0\")+COUNTIF(Individual_Scores_Men_JV!J77:J87, \">0\")+COUNTIF(Individual_Scores_Men_JV!J90:J100, \">0\")+COUNTIF(Individual_Scores_Men_JV!J103:J113, \">0\")","v":33},{"$f":"COUNTIF(Individual_Scores_Men_JV!K12:K22, \">0\")+COUNTIF(Individual_Scores_Men_JV!K25:K35, \">0\")+COUNTIF(Individual_Scores_Men_JV!K38:K48, \">0\")+COUNTIF(Individual_Scores_Men_JV!K51:K61, \">0\")+COUNTIF(Individual_Scores_Men_JV!K64:K74, \">0\")+COUNTIF(Individual_Scores_Men_JV!K77:K87, \">0\")+COUNTIF(Individual_Scores_Men_JV!K90:K100, \">0\")+COUNTIF(Individual_Scores_Men_JV!K103:K113, \">0\")","v":33},{"$f":"COUNTIF(Individual_Scores_Men_JV!L12:L22, \">0\")+COUNTIF(Individual_Scores_Men_JV!L25:L35, \">0\")+COUNTIF(Individual_Scores_Men_JV!L38:L48, \">0\")+COUNTIF(Individual_Scores_Men_JV!L51:L61, \">0\")+COUNTIF(Individual_Scores_Men_JV!L64:L74, \">0\")+COUNTIF(Individual_Scores_Men_JV!L77:L87, \">0\")+COUNTIF(Individual_Scores_Men_JV!L90:L100, \">0\")+COUNTIF(Individual_Scores_Men_JV!L103:L113, \">0\")","v":33},{"$f":"COUNTIF(Individual_Scores_Men_JV!M12:M22, \">0\")+COUNTIF(Individual_Scores_Men_JV!M25:M35, \">0\")+COUNTIF(Individual_Scores_Men_JV!M38:M48, \">0\")+COUNTIF(Individual_Scores_Men_JV!M51:M61, \">0\")+COUNTIF(Individual_Scores_Men_JV!M64:M74, \">0\")+COUNTIF(Individual_Scores_Men_JV!M77:M87, \">0\")+COUNTIF(Individual_Scores_Men_JV!M90:M100, \">0\")+COUNTIF(Individual_Scores_Men_JV!M103:M113, \">0\")","v":33},{"$f":"SUM(D30:J30)","v":231}]
[null,"Qualifying Team Standings "]
[null,"NAIA Weekend-West-Sunday"]
[null,"Men's Jr. Varsity"]
[null,null,null,"Overall"]
["Rank","Team",null,"Total"]
[{"$f":"A12","v":1},"William Penn University JV1",null,{"$f":"K12","v":6033}]
[{"$f":"A13","v":2},"Ottawa University (KS) JV2",null,6002]
[{"$f":"A14","v":3},"Ottawa University (KS) JV1",null,5744]
[{"$f":"A15","v":4},"Baker University JV1",null,5716]
[{"$f":"A16","v":5},"Grand View University JV1",null,5709]
[{"$f":"A17","v":6},"Avila University JV1",null,5480]
[{"$f":"A18","v":7},"Morningside University JV1",null,3314]
[{"$f":"A19","v":8},"Kansas State University JV1",null,0]

{"sheet":"Qual_Team_Standings_Women_Var","index":8,"n_rows":63,"n_cols":54,"rows_kept":63,"cut":false,"hidden":false,"merged":[[0,0,0,17]]}
["Qualifying Team Standings",{"$nulls":50},"A12:M29"]
[{"$nulls":51},"A12:A29"]
[null,"NAIA Weekend-West-Sunday",null,"02/04/2024 - 02/04/2024",{"$nulls":47},"Individual_Scores_Women_Var"]
[null,"Tier 2","NAIA","Lawrence, KS",{"$nulls":49},"IBCYouth"]
[]
[]
[]
[null,"Women's Division",null,null,"Cert. No: 04110"]
[]
[null,null,null,"Team","Team","Team","Team","Team","Team","Team","Overall"]
["Rank","Team","State",1.0,2.0,3.0,4.0,5.0,6.0,7.0,"Total"]
[{"$f":"RANK(K12,$K$12:$K$30)","v":1},"Ottawa University (KS) V",null,{"$f":"Individual_Scores_Women_Var!G205","v":895},{"$f":"Individual_Scores_Women_Var!H205","v":883},{"$f":"Individual_Scores_Women_Var!I205","v":955},{"$f":"Individual_Scores_Women_Var!J205","v":923},{"$f":"Individual_Scores_Women_Var!K205","v":926},{"$f":"Individual_Scores_Women_Var!L205","v":888},{"$f":"Individual_Scores_Women_Var!M205","v":959},{"$f":"SUM(D12:J12)","v":6429}]
[{"$f":"RANK(K13,$K$12:$K$30)","v":2},"Morningside University V",null,{"$f":"Individual_Scores_Women_Var!G192","v":781},{"$f":"Individual_Scores_Women_Var!H192","v":936},{"$f":"Individual_Scores_Women_Var!I192","v":917},{"$f":"Individual_Scores_Women_Var!J192","v":905},{"$f":"Individual_Scores_Women_Var!K192","v":889},{"$f":"Individual_Scores_Women_Var!L192","v":912},{"$f":"Individual_Scores_Women_Var!M192","v":1033},6373]
[{"$f":"RANK(K14,$K$12:$K$30)","v":3},"Grand View University V",null,{"$f":"Individual_Scores_Women_Var!G114","v":897},{"$f":"Individual_Scores_Women_Var!H114","v":830},{"$f":"Individual_Scores_Women_Var!I114","v":865},{"$f":"Individual_Scores_Women_Var!J114","v":850},{"$f":"Individual_Scores_Women_Var!K114","v":917},{"$f":"Individual_Scores_Women_Var!L114","v":900},{"$f":"Individual_Scores_Women_Var!M114","v":846},6105]
[{"$f":"RANK(K15,$K$12:$K$30)","v":4},"Baker University V",null,{"$f":"Individual_Scores_Women_Var!G36","v":895},{"$f":"Individual_Scores_Women_Var!H36","v":836},{"$f":"Individual_Scores_Women_Var!I36","v":906},{"$f":"Individual_Scores_Women_Var!J36","v":911},{"$f":"Individual_Scores_Women_Var!K36","v":797},{"$f":"Individual_Scores_Women_Var!L36","v":902},{"$f":"Individual_Scores_Women_Var!M36","v":783},6030]
[{"$f":"RANK(K16,$K$12:$K$30)","v":5},"William Penn University V",null,{"$f":"Individual_Scores_Women_Var!G244","v":814},{"$f":"Individual_Scores_Women_Var!H244","v":798},{"$f":"Individual_Scores_Women_Var!I244","v":800},{"$f":"Individual_Scores_Women_Var!J244","v":878},{"$f":"Individual_Scores_Women_Var!K244","v":941},{"$f":"Individual_Scores_Women_Var!L244","v":892},{"$f":"Individual_Scores_Women_Var!M244","v":868},5991]
[{"$f":"RANK(K17,$K$12:$K$30)","v":6},"Culver-Stockton College V",null,{"$f":"Individual_Scores_Women_Var!G101","v":882},{"$f":"Individual_Scores_Women_Var!H101","v":840},{"$f":"Individual_Scores_Women_Var!I101","v":886},{"$f":"Individual_Scores_Women_Var!J101","v":872},{"$f":"Individual_Scores_Women_Var!K101","v":793},{"$f":"Individual_Scores_Women_Var!L101","v":832},{"$f":"Individual_Scores_Women_Var!M101","v":774},5879]
[{"$f":"RANK(K18,$K$12:$K$30)","v":7},"Barton Community College V",null,{"$f":"Individual_Scores_Women_Var!G49","v":935},{"$f":"Individual_Scores_Women_Var!H49","v":671},{"$f":"Individual_Scores_Women_Var!I49","v":882},{"$f":"Individual_Scores_Women_Var!J49","v":789},{"$f":"Individual_Scores_Women_Var!K49","v":803},{"$f":"Individual_Scores_Women_Var!L49","v":840},{"$f":"Individual_Scores_Women_Var!M49","v":747},5667]
[{"$f":"RANK(K19,$K$12:$K$30)","v":8},"Columbia College V",null,{"$f":"Individual_Scores_Women_Var!G88","v":745},{"$f":"Individual_Scores_Women_Var!H88","v":788},{"$f":"Individual_Scores_Women_Var!I88","v":912},{"$f":"Individual_Scores_Women_Var!J88","v":946},{"$f":"Individual_Scores_Women_Var!K88","v":734},{"$f":"Individual_Scores_Women_Var!L88","v":774},{"$f":"Individual_Scores_Women_Var!M88","v":737},5636]
[{"$f":"RANK(K20,$K$12:$K$30)","v":9},"Clarke University V",null,{"$f":"Individual_Scores_Women_Var!G75","v":865},{"$f":"Individual_Scores_Women_Var!H75","v":755},{"$f":"Individual_Scores_Women_Var!I75","v":783},{"$f":"Individual_Scores_Women_Var!J75","v":806},{"$f":"Individual_Scores_Women_Var!K75","v":804},{"$f":"Individual_Scores_Women_Var!L75","v":818},{"$f":"Individual_Scores_Women_Var!M75","v":785},5616]
[{"$f":"RANK(K21,$K$12:$K$30)","v":10},"Peru State College V",null,{"$f":"Individual_Scores_Women_Var!G218","v":843},{"$f":"Individual_Scores_Women_Var!H218","v":747},{"$f":"Individual_Scores_Women_Var!I218","v":772},{"$f":"Individual_Scores_Women_Var!J218","v":770},{"$f":"Individual_Scores_Women_Var!K218","v":876},{"$f":"Individual_Scores_Women_Var!L218","v":870},{"$f":"Individual_Scores_Women_Var!M218","v":705},5583]
[{"$f":"RANK(K22,$K$12:$K$30)","v":11},"Midland University V",null,{"$f":"Individual_Scores_Women_Var!G179","v":849},{"$f":"Individual_Scores_Women_Var!H179","v":776},{"$f":"Individual_Scores_Women_Var!I179","v":781},{"$f":"Individual_Scores_Women_Var!J179","v":796},{"$f":"Individual_Scores_Women_Var!K179","v":793},{"$f":"Individual_Scores_Women_Var!L179","v":739},{"$f":"Individual_Scores_Women_Var!M179","v":839},5573]
[{"$f":"RANK(K23,$K$12:$K$30)","v":12},"Kansas Wesleyan University V",null,{"$f":"Individual_Scores_Women_Var!G166","v":740},{"$f":"Individual_Scores_Women_Var!H166","v":772},{"$f":"Individual_Scores_Women_Var!I166","v":834},{"$f":"Individual_Scores_Women_Var!J166","v":762},{"$f":"Individual_Scores_Women_Var!K166","v":852},{"$f":"Individual_Scores_Women_Var!L166","v":738},{"$f":"Individual_Scores_Women_Var!M166","v":820},5518]
[{"$f":"RANK(K24,$K$12:$K$30)","v":13},"Hastings College V",null,{"$f":"Individual_Scores_Women_Var!G127","v":801},{"$f":"Individual_Scores_Women_Var!H127","v":772},{"$f":"Individual_Scores_Women_Var!I127","v":794},{"$f":"Individual_Scores_Women_Var!J127","v":805},{"$f":"Individual_Scores_Women_Var!K127","v":839},{"$f":"Individual_Scores_Women_Var!L127","v":768},{"$f":"Individual_Scores_Women_Var!M127","v":685},5464]
[{"$f":"RANK(K25,$K$12:$K$30)","v":14},"University Of Saint Mary V",null,{"$f":"Individual_Scores_Women_Var!G231","v":765},{"$f":"Individual_Scores_Women_Var!H231","v":795},{"$f":"Individual_Scores_Women_Var!I231","v":738},{"$f":"Individual_Scores_Women_Var!J231","v":732},{"$f":"Individual_Scores_Women_Var!K231","v":825},{"$f":"Individual_Scores_Women_Var!L231","v":743},{"$f":"Individual_Scores_Women_Var!M231","v":780},5378]
[{"$f":"RANK(K26,$K$12:$K$30)","v":15},"Avila University V",null,{"$f":"Individual_Scores_Women_Var!G23","v":799},{"$f":"Individual_Scores_Women_Var!H23","v":805},{"$f":"Individual_Scores_Women_Var!I23","v":827},{"$f":"Individual_Scores_Women_Var!J23","v":657},{"$f":"Individual_Scores_Women_Var!K23","v":737},{"$f":"Individual_Scores_Women_Var!L23","v":749},{"$f":"Individual_Scores_Women_Var!M23","v":761},5335]
[{"$f":"RANK(K27,$K$12:$K$30)","v":16},"Kansas State University V",null,{"$f":"Individual_Scores_Women_Var!G153","v":687},{"$f":"Individual_Scores_Women_Var!H153","v":704},{"$f":"Individual_Scores_Women_Var!I153","v":741},{"$f":"Individual_Scores_Women_Var!J153","v":658},{"$f":"Individual_Scores_Women_Var!K153","v":717},{"$f":"Individual_Scores_Women_Var!L153","v":758},{"$f":"Individual_Scores_Women_Var!M153","v":688},4953]
[{"$f":"RANK(K28,$K$12:$K$30)","v":17},"Kansas ,University Of V",null,{"$f":"Individual_Scores_Women_Var!G140","v":785},{"$f":"Individual_Scores_Women_Var!H140","v":735},{"$f":"Individual_Scores_Women_Var!I140","v":636},{"$f":"Individual_Scores_Women_Var!J140","v":718},{"$f":"Individual_Scores_Women_Var!K140","v":632},{"$f":"Individual_Scores_Women_Var!L140","v":699},{"$f":"Individual_Scores_Women_Var!M140","v":689},4894]
[{"$f":"RANK(K29,$K$12:$K$30)","v":18},"Central Methodist University V",null,{"$f":"Individual_Scores_Women_Var!G62","v":277},{"$f":"Individual_Scores_Women_Var!H62","v":283},{"$f":"Individual_Scores_Women_Var!I62","v":284},{"$f":"Individual_Scores_Women_Var!J62","v":259},{"$f":"Individual_Scores_Women_Var!K62","v":348},{"$f":"Individual_Scores_Women_Var!L62","v":286},{"$f":"Individual_Scores_Women_Var!M62","v":305},2042]
[]
[null,"Total Team Pins:",null,{"$f":"SUM(D12:D29)","v":14255},13726,14313,14037,14223,14108,13804,98466]
[null,"Team Field Ave:",null,{"$f":"(D31/18)","v":791.9444444},762.5555556,795.1666667,779.8333333,790.1666667,783.7777778,766.8888889,5470.333333]
[null,"Individual Field Ave:",null,{"$f":"IF(D40 = 0, 0,D31/D40)","v":161.9886364},155.9772727,162.6477273,159.5113636,161.625,160.3181818,156.8636364,159.8474026]
[]
[]
[]
[]
[]
[]
[null,null,null,{"$f":"COUNTIF(Individual_Scores_Women_Var!G12:G22, \">0\")+COUNTIF(Individual_Scores_Women_Var!G25:G35, \">0\")+COUNTIF(Individual_Scores_Women_Var!G38:G48, \">0\")+COUNTIF(Individual_Scores_Women_Var!G51:G61, \">0\")+COUNTIF(Individual_Scores_Women_Var!G64:G74, \">0\")+COUNTIF(Individual_Scores_Women_Var!G77:G87, \">0\")+COUNTIF(Individual_Scores_Women_Var!G90:G100, \">0\")+COUNTIF(Individual_Scores_Women_Var!G103:G113, \">0\")+COUNTIF(Individual_Scores_Women_Var!G116:G126, \">0\")+COUNTIF(Individual_Scores_Women_Var!G129:G139, \">0\")+COUNTIF(Individual_Scores_Women_Var!G142:G152, \">0\")+COUNTIF(Individual_Scores_Women_Var!G155:G165, \">0\")+COUNTIF(Individual_Scores_Women_Var!G168:G178, \">0\")+COUNTIF(Individual_Scores_Women_Var!G181:G191, \">0\")+COUNTIF(Individual_Scores_Women_Var!G194:G204, \">0\")+COUNTIF(Individual_Scores_Women_Var!G207:G217, \">0\")+COUNTIF(Individual_Scores_Women_Var!G220:G230, \">0\")+COUNTIF(Individual_Scores_Women_Var!G233:G243, \">0\")","v":88},{"$f":"COUNTIF(Individual_Scores_Women_Var!H12:H22, \">0\")+COUNTIF(Individual_Scores_Women_Var!H25:H35, \">0\")+COUNTIF(Individual_Scores_Women_Var!H38:H48, \">0\")+COUNTIF(Individual_Scores_Women_Var!H51:H61, \">0\")+COUNTIF(Individual_Scores_Women_Var!H64:H74, \">0\")+COUNTIF(Individual_Scores_Women_Var!H77:H87, \">0\")+COUNTIF(Individual_Scores_Women_Var!H90:H100, \">0\")+COUNTIF(Individual_Scores_Women_Var!H103:H113, \">0\")+COUNTIF(Individual_Scores_Women_Var!H116:H126, \">0\")+COUNTIF(Individual_Scores_Women_Var!H129:H139, \">0\")+COUNTIF(Individual_Scores_Women_Var!H142:H152, \">0\")+COUNTIF(Individual_Scores_Women_Var!H155:H165, \">0\")+COUNTIF(Individual_Scores_Women_Var!H168:H178, \">0\")+COUNTIF(Individual_Scores_Women_Var!H181:H191, \">0\")+COUNTIF(Individual_Scores_Women_Var!H194:H204, \">0\")+COUNTIF(Individual_Scores_Women_Var!H207:H217, \">0\")+COUNTIF(Individual_Scores_Women_Var!H220:H230, \">0\")+COUNTIF(Individual_Scores_Women_Var!H233:H243, \">0\")","v":88},{"$f":"COUNTIF(Individual_Scores_Women_Var!I12:I22, \">0\")+COUNTIF(Individual_Scores_Women_Var!I25:I35, \">0\")+COUNTIF(Individual_Scores_Women_Var!I38:I48, \">0\")+COUNTIF(Individual_Scores_Women_Var!I51:I61, \">0\")+COUNTIF(Individual_Scores_Women_Var!I64:I74, \">0\")+COUNTIF(Individual_Scores_Women_Var!I77:I87, \">0\")+COUNTIF(Individual_Scores_Women_Var!I90:I100, \">0\")+COUNTIF(Individual_Scores_Women_Var!I103:I113, \">0\")+COUNTIF(Individual_Scores_Women_Var!I116:I126, \">0\")+COUNTIF(Individual_Scores_Women_Var!I129:I139, \">0\")+COUNTIF(Individual_Scores_Women_Var!I142:I152, \">0\")+COUNTIF(Individual_Scores_Women_Var!I155:I165, \">0\")+COUNTIF(Individual_Scores_Women_Var!I168:I178, \">0\")+COUNTIF(Individual_Scores_Women_Var!I181:I191, \">0\")+COUNTIF(Individual_Scores_Women_Var!I194:I204, \">0\")+COUNTIF(Individual_Scores_Women_Var!I207:I217, \">0\")+COUNTIF(Individual_Scores_Women_Var!I220:I230, \">0\")+COUNTIF(Individual_Scores_Women_Var!I233:I243, \">0\")","v":88},{"$f":"COUNTIF(Individual_Scores_Women_Var!J12:J22, \">0\")+COUNTIF(Individual_Scores_Women_Var!J25:J35, \">0\")+COUNTIF(Individual_Scores_Women_Var!J38:J48, \">0\")+COUNTIF(Individual_Scores_Women_Var!J51:J61, \">0\")+COUNTIF(Individual_Scores_Women_Var!J64:J74, \">0\")+COUNTIF(Individual_Scores_Women_Var!J77:J87, \">0\")+COUNTIF(Individual_Scores_Women_Var!J90:J100, \">0\")+COUNTIF(Individual_Scores_Women_Var!J103:J113, \">0\")+COUNTIF(Individual_Scores_Women_Var!J116:J126, \">0\")+COUNTIF(Individual_Scores_Women_Var!J129:J139, \">0\")+COUNTIF(Individual_Scores_Women_Var!J142:J152, \">0\")+COUNTIF(Individual_Scores_Women_Var!J155:J165, \">0\")+COUNTIF(Individual_Scores_Women_Var!J168:J178, \">0\")+COUNTIF(Individual_Scores_Women_Var!J181:J191, \">0\")+COUNTIF(Individual_Scores_Women_Var!J194:J204, \">0\")+COUNTIF(Individual_Scores_Women_Var!J207:J217, \">0\")+COUNTIF(Individual_Scores_Women_Var!J220:J230, \">0\")+COUNTIF(Individual_Scores_Women_Var!J233:J243, \">0\")","v":88},{"$f":"COUNTIF(Individual_Scores_Women_Var!K12:K22, \">0\")+COUNTIF(Individual_Scores_Women_Var!K25:K35, \">0\")+COUNTIF(Individual_Scores_Women_Var!K38:K48, \">0\")+COUNTIF(Individual_Scores_Women_Var!K51:K61, \">0\")+COUNTIF(Individual_Scores_Women_Var!K64:K74, \">0\")+COUNTIF(Individual_Scores_Women_Var!K77:K87, \">0\")+COUNTIF(Individual_Scores_Women_Var!K90:K100, \">0\")+COUNTIF(Individual_Scores_Women_Var!K103:K113, \">0\")+COUNTIF(Individual_Scores_Women_Var!K116:K126, \">0\")+COUNTIF(Individual_Scores_Women_Var!K129:K139, \">0\")+COUNTIF(Individual_Scores_Women_Var!K142:K152, \">0\")+COUNTIF(Individual_Scores_Women_Var!K155:K165, \">0\")+COUNTIF(Individual_Scores_Women_Var!K168:K178, \">0\")+COUNTIF(Individual_Scores_Women_Var!K181:K191, \">0\")+COUNTIF(Individual_Scores_Women_Var!K194:K204, \">0\")+COUNTIF(Individual_Scores_Women_Var!K207:K217, \">0\")+COUNTIF(Individual_Scores_Women_Var!K220:K230, \">0\")+COUNTIF(Individual_Scores_Women_Var!K233:K243, \">0\")","v":88},{"$f":"COUNTIF(Individual_Scores_Women_Var!L12:L22, \">0\")+COUNTIF(Individual_Scores_Women_Var!L25:L35, \">0\")+COUNTIF(Individual_Scores_Women_Var!L38:L48, \">0\")+COUNTIF(Individual_Scores_Women_Var!L51:L61, \">0\")+COUNTIF(Individual_Scores_Women_Var!L64:L74, \">0\")+COUNTIF(Individual_Scores_Women_Var!L77:L87, \">0\")+COUNTIF(Individual_Scores_Women_Var!L90:L100, \">0\")+COUNTIF(Individual_Scores_Women_Var!L103:L113, \">0\")+COUNTIF(Individual_Scores_Women_Var!L116:L126, \">0\")+COUNTIF(Individual_Scores_Women_Var!L129:L139, \">0\")+COUNTIF(Individual_Scores_Women_Var!L142:L152, \">0\")+COUNTIF(Individual_Scores_Women_Var!L155:L165, \">0\")+COUNTIF(Individual_Scores_Women_Var!L168:L178, \">0\")+COUNTIF(Individual_Scores_Women_Var!L181:L191, \">0\")+COUNTIF(Individual_Scores_Women_Var!L194:L204, \">0\")+COUNTIF(Individual_Scores_Women_Var!L207:L217, \">0\")+COUNTIF(Individual_Scores_Women_Var!L220:L230, \">0\")+COUNTIF(Individual_Scores_Women_Var!L233:L243, \">0\")","v":88},{"$f":"COUNTIF(Individual_Scores_Women_Var!M12:M22, \">0\")+COUNTIF(Individual_Scores_Women_Var!M25:M35, \">0\")+COUNTIF(Individual_Scores_Women_Var!M38:M48, \">0\")+COUNTIF(Individual_Scores_Women_Var!M51:M61, \">0\")+COUNTIF(Individual_Scores_Women_Var!M64:M74, \">0\")+COUNTIF(Individual_Scores_Women_Var!M77:M87, \">0\")+COUNTIF(Individual_Scores_Women_Var!M90:M100, \">0\")+COUNTIF(Individual_Scores_Women_Var!M103:M113, \">0\")+COUNTIF(Individual_Scores_Women_Var!M116:M126, \">0\")+COUNTIF(Individual_Scores_Women_Var!M129:M139, \">0\")+COUNTIF(Individual_Scores_Women_Var!M142:M152, \">0\")+COUNTIF(Individual_Scores_Women_Var!M155:M165, \">0\")+COUNTIF(Individual_Scores_Women_Var!M168:M178, \">0\")+COUNTIF(Individual_Scores_Women_Var!M181:M191, \">0\")+COUNTIF(Individual_Scores_Women_Var!M194:M204, \">0\")+COUNTIF(Individual_Scores_Women_Var!M207:M217, \">0\")+COUNTIF(Individual_Scores_Women_Var!M220:M230, \">0\")+COUNTIF(Individual_Scores_Women_Var!M233:M243, \">0\")","v":88},{"$f":"SUM(D40:J40)","v":616}]
[null,"Qualifying Team Standings "]
[null,"NAIA Weekend-West-Sunday"]
[null,"Women's Varsity"]
[null,null,null,"Overall"]
["Rank","Team",null,"Total"]
[{"$f":"A12","v":1},"Ottawa University (KS) V",null,{"$f":"K12","v":6429}]
[{"$f":"A13","v":2},"Morningside University V",null,6373]
[{"$f":"A14","v":3},"Grand View University V",null,6105]
[{"$f":"A15","v":4},"Baker University V",null,6030]
[{"$f":"A16","v":5},"William Penn University V",null,5991]
[{"$f":"A17","v":6},"Culver-Stockton College V",null,5879]
[{"$f":"A18","v":7},"Barton Community College V",null,5667]
[{"$f":"A19","v":8},"Columbia College V",null,5636]
[{"$f":"A20","v":9},"Clarke University V",null,5616]
[{"$f":"A21","v":10},"Peru State College V",null,5583]
[{"$f":"A22","v":11},"Midland University V",null,5573]
[{"$f":"A23","v":12},"Kansas Wesleyan University V",null,5518]
[{"$f":"A24","v":13},"Hastings College V",null,5464]
[{"$f":"A25","v":14},"University Of Saint Mary V",null,5378]
[{"$f":"A26","v":15},"Avila University V",null,5335]
[{"$f":"A27","v":16},"Kansas State University V",null,4953]
[{"$f":"A28","v":17},"Kansas ,University Of V",null,4894]
[{"$f":"A29","v":18},"Central Methodist University V",null,2042]

{"sheet":"Qual_Team_Standings_Women_JV","index":9,"n_rows":35,"n_cols":54,"rows_kept":35,"cut":false,"hidden":false,"merged":[[0,0,0,17]]}
["Qualifying Team Standings",{"$nulls":50},"A12:M15"]
[{"$nulls":51},"A12:A15"]
[null,"NAIA Weekend-West-Sunday",null,"02/04/2024 - 02/04/2024",{"$nulls":47},"Individual_Scores_Women_JV"]
[null,"Tier 2","NAIA","Lawrence, KS",{"$nulls":49},"IBCYouth"]
[]
[]
[]
[null,"Women's Division",null,null,"Cert. No: 04110"]
[]
[null,null,null,"Team","Team","Team","Team","Team","Team","Team","Overall"]
["Rank","Team","State",1.0,2.0,3.0,4.0,5.0,6.0,7.0,"Total"]
[{"$f":"RANK(K12,$K$12:$K$16)","v":1},"William Penn University JV1",null,{"$f":"Individual_Scores_Women_JV!G62","v":757},{"$f":"Individual_Scores_Women_JV!H62","v":819},{"$f":"Individual_Scores_Women_JV!I62","v":845},{"$f":"Individual_Scores_Women_JV!J62","v":803},{"$f":"Individual_Scores_Women_JV!K62","v":885},{"$f":"Individual_Scores_Women_JV!L62","v":791},{"$f":"Individual_Scores_Women_JV!M62","v":791},{"$f":"SUM(D12:J12)","v":5691}]
[{"$f":"RANK(K13,$K$12:$K$16)","v":2},"Ottawa University (KS) JV1",null,{"$f":"Individual_Scores_Women_JV!G49","v":757},{"$f":"Individual_Scores_Women_JV!H49","v":735},{"$f":"Individual_Scores_Women_JV!I49","v":726},{"$f":"Individual_Scores_Women_JV!J49","v":625},{"$f":"Individual_Scores_Women_JV!K49","v":626},{"$f":"Individual_Scores_Women_JV!L49","v":623},{"$f":"Individual_Scores_Women_JV!M49","v":769},4861]
[{"$f":"RANK(K14,$K$12:$K$16)","v":3},"Morningside University JV1",null,{"$f":"Individual_Scores_Women_JV!G36","v":663},{"$f":"Individual_Scores_Women_JV!H36","v":680},{"$f":"Individual_Scores_Women_JV!I36","v":599},{"$f":"Individual_Scores_Women_JV!J36","v":692},{"$f":"Individual_Scores_Women_JV!K36","v":678},{"$f":"Individual_Scores_Women_JV!L36","v":745},{"$f":"Individual_Scores_Women_JV!M36","v":688},4745]
[{"$f":"RANK(K15,$K$12:$K$16)","v":4},"Kansas State University JV1",null,{"$f":"Individual_Scores_Women_JV!G23","v":0},{"$f":"Individual_Scores_Women_JV!H23","v":0},{"$f":"Individual_Scores_Women_JV!I23","v":0},{"$f":"Individual_Scores_Women_JV!J23","v":0},{"$f":"Individual_Scores_Women_JV!K23","v":0},{"$f":"Individual_Scores_Women_JV!L23","v":0},{"$f":"Individual_Scores_Women_JV!M23","v":0},0]
[null," "," "," "," "]
[null,"Total Team Pins:"," ",{"$f":"SUM(D12:D15)","v":2177},2234,2170,2120,2189,2159,2248,15297]
[null,"Team Field Ave:",null,{"$f":"(D17/4)","v":544.25},558.5,542.5,530,547.25,539.75,562,3824.25]
[null,"Individual Field Ave:",null,{"$f":"IF(D26 = 0, 0,D17/D26)","v":145.1333333},148.9333333,144.6666667,151.4285714,156.3571429,154.2142857,149.8666667,149.9705882]
[]
[]
[]
[]
[]
[]
[null,null,null,{"$f":"COUNTIF(Individual_Scores_Women_JV!G12:G22, \">0\")+COUNTIF(Individual_Scores_Women_JV!G25:G35, \">0\")+COUNTIF(Individual_Scores_Women_JV!G38:G48, \">0\")+COUNTIF(Individual_Scores_Women_JV!G51:G61, \">0\")","v":15},{"$f":"COUNTIF(Individual_Scores_Women_JV!H12:H22, \">0\")+COUNTIF(Individual_Scores_Women_JV!H25:H35, \">0\")+COUNTIF(Individual_Scores_Women_JV!H38:H48, \">0\")+COUNTIF(Individual_Scores_Women_JV!H51:H61, \">0\")","v":15},{"$f":"COUNTIF(Individual_Scores_Women_JV!I12:I22, \">0\")+COUNTIF(Individual_Scores_Women_JV!I25:I35, \">0\")+COUNTIF(Individual_Scores_Women_JV!I38:I48, \">0\")+COUNTIF(Individual_Scores_Women_JV!I51:I61, \">0\")","v":15},{"$f":"COUNTIF(Individual_Scores_Women_JV!J12:J22, \">0\")+COUNTIF(Individual_Scores_Women_JV!J25:J35, \">0\")+COUNTIF(Individual_Scores_Women_JV!J38:J48, \">0\")+COUNTIF(Individual_Scores_Women_JV!J51:J61, \">0\")","v":14},{"$f":"COUNTIF(Individual_Scores_Women_JV!K12:K22, \">0\")+COUNTIF(Individual_Scores_Women_JV!K25:K35, \">0\")+COUNTIF(Individual_Scores_Women_JV!K38:K48, \">0\")+COUNTIF(Individual_Scores_Women_JV!K51:K61, \">0\")","v":14},{"$f":"COUNTIF(Individual_Scores_Women_JV!L12:L22, \">0\")+COUNTIF(Individual_Scores_Women_JV!L25:L35, \">0\")+COUNTIF(Individual_Scores_Women_JV!L38:L48, \">0\")+COUNTIF(Individual_Scores_Women_JV!L51:L61, \">0\")","v":14},{"$f":"COUNTIF(Individual_Scores_Women_JV!M12:M22, \">0\")+COUNTIF(Individual_Scores_Women_JV!M25:M35, \">0\")+COUNTIF(Individual_Scores_Women_JV!M38:M48, \">0\")+COUNTIF(Individual_Scores_Women_JV!M51:M61, \">0\")","v":15},{"$f":"SUM(D26:J26)","v":102}]
[null,"Qualifying Team Standings "]
[null,"NAIA Weekend-West-Sunday"]
[null,"Women's Jr. Varsity"]
[null,null,null,"Overall"]
["Rank","Team",null,"Total"]
[{"$f":"A12","v":1},"William Penn University JV1",null,{"$f":"K12","v":5691}]
[{"$f":"A13","v":2},"Ottawa University (KS) JV1",null,4861]
[{"$f":"A14","v":3},"Morningside University JV1",null,4745]
[{"$f":"A15","v":4},"Kansas State University JV1",null,0]

{"sheet":"Indiv_Combined_Scores_Men","index":10,"n_rows":302,"n_cols":141,"rows_kept":302,"cut":false,"hidden":false,"merged":[[0,0,0,17]]}
["Individual Combined Scores",{"$nulls":25},26.0,{"$nulls":104},"G12:M22","B12:B22","D12:D22","C12:C22","Individual_Scores_Men_Var","G13:M23","E13:E23","B13:B23","C13:C23","Indiv_Combined_Scores_Men"]
[{"$nulls":26},"B13:P298",{"$nulls":104},"G25:M35","B25:B35","D25:D35","C25:C35","Individual_Scores_Men_Var","G24:M34","E24:E34","B24:B34","C24:C34","Indiv_Combined_Scores_Men"]
[null,"NAIA Weekend-West-Sunday",null,null,"02/04/2024 - 02/04/2024",{"$nulls":21},"N13:N298","B13:B298",{"$nulls":103},"G38:M48","B38:B48","D38:D48","C38:C48","Individual_Scores_Men_Var","G35:M45","E35:E45","B35:B45","C35:C45","Indiv_Combined_Scores_Men"]
[null,"Tier 2","NAIA",null,"Lawrence, KS",{"$nulls":48},"IBCYouth",{"$nulls":77},"G51:M61","B51:B61","D51:D61","C51:C61","Individual_Scores_Men_Var","G46:M56","E46:E56","B46:B56","C46:C56","Indiv_Combined_Scores_Men"]
[{"$nulls":131},"G64:M74","B64:B74","D64:D74","C64:C74","Individual_Scores_Men_Var","G57:M67","E57:E67","B57:B67","C57:C67","Indiv_Combined_Scores_Men"]
[{"$nulls":131},"G77:M87","B77:B87","D77:D87","C77:C87","Individual_Scores_Men_Var","G68:M78","E68:E78","B68:B78","C68:C78","Indiv_Combined_Scores_Men"]
[{"$nulls":131},"G90:M100","B90:B100","D90:D100","C90:C100","Individual_Scores_Men_Var","G79:M89","E79:E89","B79:B89","C79:C89","Indiv_Combined_Scores_Men"]
[null,"Men's Division",null,null,"Cert. No: 04110",{"$nulls":126},"G103:M113","B103:B113","D103:D113","C103:C113","Individual_Scores_Men_Var","G90:M100","E90:E100","B90:B100","C90:C100","Indiv_Combined_Scores_Men"]
[{"$nulls":131},"G116:M126","B116:B126","D116:D126","C116:C126","Individual_Scores_Men_Var","G101:M111","E101:E111","B101:B111","C101:C111","Indiv_Combined_Scores_Men"]
[{"$nulls":131},"G129:M139","B129:B139","D129:D139","C129:C139","Individual_Scores_Men_Var","G112:M122","E112:E122","B112:B122","C112:C122","Indiv_Combined_Scores_Men"]
[{"$nulls":6},"Game","Game","Game","Game","Game","Game","Game","Individual","Game","Tourn.",{"$nulls":115},"G142:M152","B142:B152","D142:D152","C142:C152","Individual_Scores_Men_Var","G123:M133","E123:E133","B123:B133","C123:C133","Indiv_Combined_Scores_Men"]
["Rank","Bowler","Bowler ID",null,"Team","State",1.0,2.0,3.0,4.0,5.0,6.0,7.0,"Total","Bowled","Ave.",{"$nulls":115},"G155:M165","B155:B165","D155:D165","C155:C165","Individual_Scores_Men_Var","G134:M144","E134:E144","B134:B144","C134:C144","Indiv_Combined_Scores_Men"]
[1.0,"Tanner Mcguire","18-84159",null,"Baker University JV1 ","",220.0,210.0,196.0,195.0,220.0,192.0,195.0,{"$f":"SUM(G13:M13)","v":1428},{"$f":"COUNTIF(G13:M13, \">0\" )","v":7},{"$f":"IF(O13=0,0,N13/O13)","v":204},{"$nulls":115},"G168:M178","B168:B178","D168:D178","C168:C178","Individual_Scores_Men_Var","G145:M155","E145:E155","B145:B155","C145:C155","Indiv_Combined_Scores_Men"]
[2.0,"Eric Moore","8938-1568",null,"Central Methodist University V ","",176.0,203.0,217.0,215.0,214.0,231.0,166.0,1422,7,203.1428571,{"$nulls":115},"G181:M191","B181:B191","D181:D191","C181:C191","Individual_Scores_Men_Var","G156:M166","E156:E166","B156:B166","C156:C166","Indiv_Combined_Scores_Men"]
[3.0,"Miles Peck","11-423986",null,"Midland University V ","",223.0,224.0,195.0,170.0,216.0,208.0,169.0,1405,7,200.7142857,{"$nulls":115},"G194:M204","B194:B204","D194:D204","C194:C204","Individual_Scores_Men_Var","G167:M177","E167:E177","B167:B177","C167:C177","Indiv_Combined_Scores_Men"]
[4.0,"Jerry Jennings","8608-3907",null,"Ottawa University (KS) V ","",248.0,204.0,170.0,167.0,213.0,205.0,180.0,1387,7,198.1428571,{"$nulls":115},"G207:M217","B207:B217","D207:D217","C207:C217","Individual_Scores_Men_Var","G178:M188","E178:E188","B178:B188","C178:C188","Indiv_Combined_Scores_Men"]
[5.0,"Braden Boswell","17-15924",null,"Barton Community College V ","",268.0,182.0,168.0,163.0,189.0,188.0,210.0,1368,7,195.4285714,{"$nulls":115},"G220:M230","B220:B230","D220:D230","C220:C230","Individual_Scores_Men_Var","G189:M199","E189:E199","B189:B199","C189:C199","Indiv_Combined_Scores_Men"]
[6.0,"Jackson Penny","18-94173",null,"Kansas Wesleyan University V ","",193.0,185.0,186.0,214.0,180.0,179.0,230.0,1367,7,195.2857143,{"$nulls":115},"G233:M243","B233:B243","D233:D243","C233:C243","Individual_Scores_Men_Var","G200:M210","E200:E210","B200:B210","C200:C210","Indiv_Combined_Scores_Men"]
[7.0,"Bryce Keykal","8223-85672",null,"William Penn University V ","",210.0,202.0,193.0,186.0,178.0,184.0,213.0,1366,7,195.1428571,{"$nulls":115},"G12:M22","B12:B22","D12:D22","C12:C22","Individual_Scores_Men_JV","G211:M221","E211:E221","B211:B221","C211:C221","Indiv_Combined_Scores_Men"]
[8.0,"Tanner Eckerle","11-439937",null,"Baker University V ","",166.0,204.0,214.0,190.0,201.0,199.0,180.0,1354,7,193.4285714,{"$nulls":115},"G25:M35","B25:B35","D25:D35","C25:C35","Individual_Scores_Men_JV","G222:M232","E222:E232","B222:B232","C222:C232","Indiv_Combined_Scores_Men"]
[9.0,"Justin Weddige","16-124170",null,"Ottawa University (KS) V ","",172.0,231.0,171.0,137.0,247.0,213.0,178.0,1349,7,192.7142857,{"$nulls":115},"G38:M48","B38:B48","D38:D48","C38:C48","Individual_Scores_Men_JV","G233:M243","E233:E243","B233:B243","C233:C243","Indiv_Combined_Scores_Men"]
[10.0,"Brendan Iaulualo","8756-13138",null,"Ottawa University (KS) JV1 ","",203.0,189.0,203.0,205.0,160.0,216.0,169.0,1345,7,192.1428571,{"$nulls":115},"G51:M61","B51:B61","D51:D61","C51:C61","Individual_Scores_Men_JV","G244:M254","E244:E254","B244:B254","C244:C254","Indiv_Combined_Scores_Men"]
[11.0,"Brandon Engels","11-607179",null,"Hastings College V ","",192.0,164.0,199.0,211.0,198.0,156.0,214.0,1334,7,190.5714286,{"$nulls":115},"G64:M74","B64:B74","D64:D74","C64:C74","Individual_Scores_Men_JV","G255:M265","E255:E265","B255:B265","C255:C265","Indiv_Combined_Scores_Men"]
[12.0,"Josh King","18-43056",null,"Baker University V ","",172.0,235.0,180.0,200.0,192.0,188.0,158.0,1325,7,189.2857143,{"$nulls":115},"G77:M87","B77:B87","D77:D87","C77:C87","Individual_Scores_Men_JV","G266:M276","E266:E276","B266:B276","C266:C276","Indiv_Combined_Scores_Men"]
[13.0,"Jacob Frazier","11-238306",null,"Midland University V ","",189.0,166.0,171.0,199.0,208.0,177.0,212.0,1322,7,188.8571429,{"$nulls":115},"G90:M100","B90:B100","D90:D100","C90:C100","Individual_Scores_Men_JV","G277:M287","E277:E287","B277:B287","C277:C287","Indiv_Combined_Scores_Men"]
[14.0,"Luke Belvin","17-101586",null,"Kansas State University V ","",201.0,200.0,179.0,167.0,224.0,150.0,188.0,1309,7,187,{"$nulls":115},"G103:M113","B103:B113","D103:D113","C103:C113","Individual_Scores_Men_JV","G288:M298","E288:E298","B288:B298","C288:C298","Indiv_Combined_Scores_Men"]
[15.0,"Zaylen Dear","22-84259",null,"University Of Saint Mary V ","",163.0,215.0,153.0,245.0,186.0,204.0,140.0,1306,7,186.5714286]
[16.0,"Isiah Bautista","15-195914",null,"Midland University V ","",203.0,172.0,197.0,213.0,199.0,166.0,140.0,1290,7,184.2857143]
[17.0,"Josh Hammons","11-648844",null,"Kansas ,University Of V ","",201.0,223.0,179.0,192.0,180.0,152.0,157.0,1284,7,183.4285714]
[18.0,"Ashton Reyes","7914-32123",null,"Ottawa University (KS) JV2 ","",184.0,133.0,165.0,205.0,214.0,195.0,184.0,1280,7,182.8571429]
[19.0,"Johnathan Hemmingsen","9138-8600",null,"Grand View University V ","",194.0,166.0,159.0,188.0,183.0,172.0,218.0,1280,7,182.8571429]
[20.0,"Kory Ludden","15-149463",null,"Grand View University JV1 ","",161.0,197.0,171.0,186.0,203.0,191.0,171.0,1280,7,182.8571429]
[21.0,"Harley Redding","7914-28980",null,"Clarke University V ","",215.0,201.0,184.0,170.0,141.0,208.0,160.0,1279,7,182.7142857]
[22.0,"Cole Clough","11-663062",null,"Ottawa University (KS) JV1 ","",214.0,156.0,159.0,160.0,180.0,191.0,213.0,1273,7,181.8571429]
[23.0,"Nicholas Prochnow","5689-4652",null,"Grand View University V ","",148.0,149.0,168.0,220.0,209.0,240.0,139.0,1273,7,181.8571429]
[24.0,"Dantoine Ballard","18-48037",null,"University Of Saint Mary V ","",143.0,158.0,212.0,173.0,223.0,182.0,181.0,1272,7,181.7142857]
[25.0,"Max Sturgeon","21-11945",null,"Avila University V ","",193.0,176.0,182.0,214.0,170.0,157.0,178.0,1270,7,181.4285714]
[26.0,"Ken Rowland","18-50479",null,"Baker University V ","",214.0,182.0,158.0,220.0,159.0,192.0,144.0,1269,7,181.2857143]
[27.0,"Stephen Acton","8232-944",null,"Peru State College V ","",207.0,221.0,140.0,175.0,190.0,198.0,138.0,1269,7,181.2857143]
[28.0,"Garraty Richmond","5873-792",null,"William Penn University JV1 ","",170.0,172.0,166.0,162.0,224.0,186.0,186.0,1266,7,180.8571429]
[29.0,"Xander Pickett","11-242166",null,"Grand View University V ","",181.0,193.0,166.0,188.0,178.0,177.0,172.0,1255,7,179.2857143]
[30.0,"Creyton Nisly","11-276735",null,"Peru State College V ","",154.0,170.0,194.0,169.0,196.0,191.0,177.0,1251,7,178.7142857]
[31.0,"Brett Gamber","18-1332",null,"Baker University V ","",175.0,227.0,153.0,186.0,182.0,170.0,156.0,1249,7,178.4285714]
[32.0,"Justin Preston","19-86469",null,"Ottawa University (KS) JV2 ","",134.0,159.0,165.0,248.0,160.0,183.0,195.0,1244,7,177.7142857]
[33.0,"Isaac Skalak","11-377455",null,"Peru State College V ","",162.0,200.0,169.0,210.0,174.0,181.0,146.0,1242,7,177.4285714]
[34.0,"Nathan Hansen","8756-13177",null,"William Penn University JV1 ","",195.0,191.0,145.0,147.0,193.0,181.0,169.0,1221,7,174.4285714]
[35.0,"Matthew Lennox","11-661049",null,"Ottawa University (KS) V ","",231.0,148.0,0.0,168.0,182.0,218.0,269.0,1216,6,202.6666667]
[36.0,"Gage Warren","15-43120",null,"Avila University JV1 ","",234.0,213.0,132.0,178.0,181.0,147.0,128.0,1213,7,173.2857143]
[37.0,"Aidan Vanmetre","19-16176",null,"Baker University V ","",136.0,142.0,181.0,189.0,157.0,195.0,199.0,1199,7,171.2857143]
[38.0,"Andrew Froetschner","11-543266",null,"Kansas Wesleyan University V ","",158.0,157.0,200.0,164.0,213.0,169.0,137.0,1198,7,171.1428571]
[39.0,"Shay White","20-51842",null,"Ottawa University (KS) JV2 ","",146.0,168.0,166.0,192.0,156.0,232.0,137.0,1197,7,171]
[40.0,"Cole Johnson","11-403752",null,"Central Methodist University V ","",162.0,198.0,161.0,107.0,188.0,200.0,176.0,1192,7,170.2857143]
[41.0,"Levi Staley","7914-19067",null,"Culver-Stockton College V ","",131.0,188.0,187.0,169.0,127.0,191.0,194.0,1187,7,169.5714286]
[42.0,"Tanner Webb","11-397609",null,"Clarke University V ","",147.0,202.0,149.0,172.0,183.0,170.0,160.0,1183,7,169]
[43.0,"Joshua Kacich","18-48027",null,"University Of Saint Mary V ","",194.0,166.0,137.0,152.0,173.0,137.0,220.0,1179,7,168.4285714]
[44.0,"Achilles Reyes","7914-32128",null,"Ottawa University (KS) JV2 ","",169.0,148.0,186.0,191.0,161.0,178.0,130.0,1163,7,166.1428571]
[45.0,"Nick Philthilath","18-57615",null,"Morningside University V ","",166.0,221.0,168.0,140.0,124.0,177.0,164.0,1160,7,165.7142857]
[46.0,"Nicholas Miles","11-460695",null,"Missouri Valley College V ","",138.0,172.0,143.0,192.0,178.0,151.0,184.0,1158,7,165.4285714]
[47.0,"Braden Maltz","22-16685",null,"Kansas State University V ","",160.0,179.0,133.0,185.0,167.0,161.0,157.0,1142,7,163.1428571]
[48.0,"Christian Schmadeke","11-386701",null,"Morningside University JV1 ","",152.0,170.0,203.0,192.0,141.0,158.0,126.0,1142,7,163.1428571]
[49.0,"Michael Swancutt","23-3001",null,"Morningside University JV1 ","",163.0,105.0,181.0,161.0,164.0,202.0,163.0,1139,7,162.7142857]
[50.0,"Kaden Kuusela","11-292690",null,"Hastings College V ","",197.0,168.0,201.0,224.0,203.0,144.0,0.0,1137,6,189.5]
[51.0,"Chace Mohrhauser","11-666678",null,"Morningside University V ","",140.0,159.0,132.0,171.0,157.0,214.0,162.0,1135,7,162.1428571]
[52.0,"Kenneth High","11-672708",null,"Hastings College V ","",201.0,211.0,181.0,199.0,148.0,0.0,195.0,1135,6,189.1666667]
[53.0,"Zachary Stoltzfus","20-38570",null,"Morningside University V ","",144.0,173.0,175.0,158.0,178.0,173.0,122.0,1123,7,160.4285714]
[54.0,"Chase Milledge","11-489693",null,"Kansas ,University Of V ","",185.0,156.0,155.0,147.0,144.0,164.0,170.0,1121,7,160.1428571]
[55.0,"Ian Carpenter","11-629159",null,"Ottawa University (KS) JV2 ","",156.0,152.0,169.0,167.0,164.0,163.0,147.0,1118,7,159.7142857]
[56.0,"Colton Carrier","22-31273",null,"Central Methodist University V ","",183.0,226.0,144.0,176.0,131.0,149.0,108.0,1117,7,159.5714286]
[57.0,"Guy Mapstone","7914-9005",null,"Missouri Valley College V ","",194.0,133.0,154.0,201.0,162.0,132.0,139.0,1115,7,159.2857143]
[58.0,"Andru Wilder","11-389770",null,"Grand View University V ","",150.0,129.0,189.0,183.0,134.0,174.0,154.0,1113,7,159]
[59.0,"Colton Cline","15-3085",null,"Avila University JV1 ","",158.0,148.0,212.0,178.0,135.0,155.0,124.0,1110,7,158.5714286]
[60.0,"Landon Jones","11-762339",null,"Kansas Wesleyan University V ","",0.0,145.0,164.0,203.0,211.0,195.0,189.0,1107,6,184.5]
[61.0,"Calvin Mcmiller","16-105571",null,"Avila University JV1 ","",181.0,156.0,137.0,189.0,152.0,161.0,125.0,1101,7,157.2857143]
[62.0,"Cale McConnell","17-107341",null,"Barton Community College V ","",0.0,158.0,197.0,220.0,192.0,178.0,154.0,1099,6,183.1666667]
[63.0,"Seth Nelson","11-34850",null,"Morningside University V ","",193.0,184.0,166.0,154.0,114.0,125.0,160.0,1096,7,156.5714286]
[64.0,"Justin Brookens","11-758428",null,"Baker University JV1 ","",139.0,210.0,146.0,157.0,150.0,155.0,137.0,1094,7,156.2857143]
[65.0,"Logan Gear","7914-8291",null,"Midland University V ","",133.0,0.0,199.0,183.0,212.0,206.0,158.0,1091,6,181.8333333]
[66.0,"Alec Elskamp","16-163630",null,"Kansas Wesleyan University V ","",132.0,0.0,180.0,209.0,212.0,162.0,182.0,1077,6,179.5]
[67.0,"Zonte Spann","11-449090",null,"Ottawa University (KS) JV1 ","",191.0,121.0,132.0,168.0,149.0,128.0,182.0,1071,7,153]
[68.0,"Tre Preston","11-513059",null,"Ottawa University (KS) JV1 ","",138.0,167.0,26.0,157.0,210.0,175.0,181.0,1054,7,150.5714286]
[69.0,"Adante Jones","8568-365435",null,"Clarke University V ","",0.0,164.0,168.0,234.0,145.0,166.0,172.0,1049,6,174.8333333]
[70.0,"Wyatt Grunwald","11-540859",null,"Missouri Valley College V ","",172.0,176.0,178.0,150.0,0.0,179.0,182.0,1037,6,172.8333333]
[71.0,"Jose Limon","11-207956",null,"University Of Saint Mary V ","",132.0,177.0,177.0,165.0,138.0,119.0,126.0,1034,7,147.7142857]
[72.0,"Marco Salcedo","23-2999",null,"Morningside University JV1 ","",147.0,160.0,141.0,147.0,134.0,147.0,157.0,1033,7,147.5714286]
[73.0,"Shane Jordan","11-421706",null,"Clarke University V ","",188.0,136.0,191.0,194.0,185.0,139.0,0.0,1033,6,172.1666667]
[74.0,"Mason Will","11-503053",null,"Culver-Stockton College V ","",0.0,150.0,168.0,171.0,203.0,177.0,153.0,1022,6,170.3333333]
[75.0,"Garrison Parkhurst","17-71170",null,"Missouri Valley College V ","",158.0,142.0,177.0,143.0,134.0,132.0,133.0,1019,7,145.5714286]
[76.0,"Maxwell Martin","16-164014",null,"Grand View University JV1 ","",180.0,164.0,150.0,185.0,191.0,149.0,0.0,1019,6,169.8333333]
[77.0,"Aidan Tesdall","19-81745",null,"Avila University V ","",189.0,152.0,147.0,0.0,181.0,184.0,164.0,1017,6,169.5]
[78.0,"Brenden Lewis","20-30131",null,"Morningside University V ","",155.0,192.0,157.0,119.0,152.0,112.0,119.0,1006,7,143.7142857]
[79.0,"Anthony Morella","16-129865",null,"Hastings College V ","",0.0,0.0,188.0,214.0,234.0,204.0,164.0,1004,5,200.8]
[80.0,"Josh King","18-65090",null,"Ottawa University (KS) JV1 ","",120.0,133.0,165.0,161.0,157.0,128.0,137.0,1001,7,143]
[81.0,"Kenneth Lolley","11-468547",null,"Central Methodist University V ","",141.0,135.0,141.0,114.0,189.0,163.0,112.0,995,7,142.1428571]
[82.0,"Alex Wright","17-4319",null,"Baker University JV1 ","",123.0,0.0,152.0,161.0,170.0,146.0,214.0,966,6,161]
[83.0,"Matthew Berg","18-75437",null,"Ottawa University (KS) V ","",0.0,0.0,132.0,208.0,246.0,190.0,181.0,957,5,191.4]
[84.0,"Brendan Mcdermott","11-653325",null,"Kansas ,University Of V ","",155.0,172.0,170.0,146.0,144.0,150.0,0.0,937,6,156.1666667]
[85.0,"Emilio Gutierrez","22-1902",null,"University Of Saint Mary V ","",0.0,156.0,204.0,168.0,123.0,170.0,107.0,928,6,154.6666667]
[86.0,"Geovanny Peoples","11-742053",null,"Kansas ,University Of V ","",184.0,170.0,145.0,0.0,154.0,121.0,144.0,918,6,153]
[87.0,"Landon Scott","18-98789",null,"Baker University JV1 ","",133.0,153.0,143.0,0.0,188.0,156.0,144.0,917,6,152.8333333]
[88.0,"Conor Fetherston","22-20754",null,"William Penn University V ","",0.0,0.0,214.0,188.0,145.0,216.0,149.0,912,5,182.4]
[89.0,"Tanner Lindquist","20-33157",null,"Baker University JV1 ","",147.0,144.0,171.0,148.0,145.0,0.0,156.0,911,6,151.8333333]
[90.0,"Jared Smith","11-102941",null,"William Penn University V ","",0.0,180.0,255.0,151.0,0.0,175.0,145.0,906,5,181.2]
[91.0,"Gavin Moeller","19-3783",null,"Culver-Stockton College V ","",123.0,0.0,167.0,118.0,148.0,188.0,161.0,905,6,150.8333333]
[92.0,"Ethan Zieglowsky","11-92567",null,"William Penn University JV1 ","",0.0,233.0,170.0,178.0,169.0,148.0,0.0,898,5,179.6]
[93.0,"Dustin Linneman","8191-648",null,"Central Methodist University V ","",144.0,139.0,147.0,140.0,129.0,109.0,88.0,896,7,128]
[94.0,"Jared Dramse","6436-419",null,"Peru State College V ","",176.0,210.0,193.0,149.0,0.0,0.0,162.0,890,5,178]
[95.0,"Brody Stanback","11-392672",null,"Avila University V ","",201.0,138.0,0.0,167.0,205.0,178.0,0.0,889,5,177.8]
[96.0,"Keaten Bieri","11-499974",null,"Culver-Stockton College V ","",204.0,213.0,163.0,148.0,155.0,0.0,0.0,883,5,176.6]
[97.0,"Carter Boley","15-28200",null,"William Penn University V ","",172.0,193.0,179.0,171.0,150.0,0.0,0.0,865,5,173]
[98.0,"David Culp","9600-4102",null,"Kansas State University V ","",0.0,186.0,188.0,216.0,149.0,124.0,0.0,863,5,172.6]
[99.0,"Carter Lambeth","11-342282",null,"Barton Community College V ","",166.0,183.0,164.0,197.0,152.0,0.0,0.0,862,5,172.4]
[100.0,"Joshua Oldham","16-64964",null,"Avila University JV1 ","",0.0,137.0,0.0,197.0,180.0,162.0,177.0,853,5,170.6]
[101.0,"Connor Rissi","11-247244",null,"William Penn University JV1 ","",0.0,0.0,166.0,159.0,159.0,180.0,186.0,850,5,170]
[102.0,"Evan Serrage","15-18094",null,"Avila University V ","",0.0,201.0,181.0,203.0,136.0,0.0,125.0,846,5,169.2]
[103.0,"Wesley Smith","11-429373",null,"Avila University JV1 ","",137.0,157.0,143.0,169.0,98.0,0.0,133.0,837,6,139.5]
[104.0,"Hunter Shannon","5849-84",null,"Grand View University JV1 ","",160.0,0.0,177.0,208.0,124.0,0.0,153.0,822,5,164.4]
[105.0,"Joseph Enderle","18-65299",null,"Ottawa University (KS) V ","",186.0,156.0,149.0,0.0,169.0,0.0,157.0,817,5,163.4]
[106.0,"Spencer Giffin","5900-26017",null,"Ottawa University (KS) V ","",176.0,185.0,137.0,147.0,0.0,172.0,0.0,817,5,163.4]
[107.0,"Nicolas Garza","931-90083",null,"Avila University V ","",0.0,174.0,179.0,140.0,0.0,134.0,165.0,792,5,158.4]
[108.0,"Brandon Nakaoka","11-569567",null,"Grand View University V ","",155.0,110.0,0.0,0.0,173.0,183.0,159.0,780,5,156]
[109.0,"Benjamin Weinzirl","16-162899",null,"Kansas ,University Of V ","",0.0,139.0,0.0,130.0,199.0,154.0,153.0,775,5,155]
[110.0,"Jonathan Featherston","11-230185",null,"Grand View University JV1 ","",172.0,154.0,0.0,140.0,0.0,154.0,139.0,759,5,151.8]
[111.0,"Tristyn Forde","15-187886",null,"Midland University V ","",0.0,206.0,172.0,183.0,177.0,0.0,0.0,738,4,184.5]
[112.0,"Christopher O'Connor","19-1488",null,"Barton Community College V ","",0.0,0.0,253.0,192.0,147.0,145.0,0.0,737,4,184.25]
[113.0,"Logan Lindsley","11-629150",null,"Barton Community College V ","",190.0,180.0,158.0,0.0,0.0,0.0,188.0,716,4,179]
[114.0,"Anthony Hernandez","6238-1210",null,"Hastings College V ","",0.0,0.0,182.0,199.0,185.0,146.0,0.0,712,4,178]
[115.0,"Noah Kidwell","15-76525",null,"William Penn University V ","",185.0,182.0,170.0,162.0,0.0,0.0,0.0,699,4,174.75]
[116.0,"Jett Tolentino","20-53888",null,"Peru State College V ","",0.0,0.0,0.0,206.0,152.0,160.0,179.0,697,4,174.25]
[117.0,"Conner Kirby","21-20530",null,"Kansas Wesleyan University V ","",192.0,187.0,161.0,138.0,0.0,0.0,0.0,678,4,169.5]
[118.0,"Spencer Fleming","17-85693",null,"William Penn University JV1 ","",128.0,0.0,0.0,0.0,169.0,209.0,154.0,660,4,165]
[119.0,"River Vanveghel","17-52681",null,"Culver-Stockton College V ","",157.0,130.0,0.0,0.0,0.0,203.0,160.0,650,4,162.5]
[120.0,"Caleb Murphy","18-7262",null,"Barton Community College V ","",160.0,157.0,0.0,0.0,0.0,211.0,115.0,643,4,160.75]
[121.0,"Caleb Wangler","11-485194",null,"Avila University V ","",169.0,0.0,136.0,0.0,0.0,154.0,182.0,641,4,160.25]
[122.0,"Chris Allison","7823-316503",null,"Missouri Valley College V ","",171.0,121.0,121.0,0.0,0.0,116.0,112.0,641,5,128.2]
[123.0,"Dominick Judge","11-260073",null,"Grand View University JV1 ","",0.0,165.0,147.0,0.0,176.0,148.0,0.0,636,4,159]
[124.0,"Camrey Cavan","15-194051",null,"Grand View University JV1 ","",151.0,0.0,134.0,0.0,157.0,0.0,185.0,627,4,156.75]
[125.0,"Carter Schaffer","21-24464",null,"Kansas State University V ","",147.0,133.0,151.0,0.0,0.0,0.0,178.0,609,4,152.25]
[126.0,"Devin Morelock","11-275379",null,"Kansas State University V ","",0.0,0.0,133.0,167.0,154.0,149.0,0.0,603,4,150.75]
[127.0,"Ethan Simpson","21-88052",null,"Grand View University JV1 ","",0.0,120.0,0.0,150.0,0.0,156.0,140.0,566,4,141.5]
[128.0,"Preston Pacheco","11-348802",null,"Kansas ,University Of V ","",134.0,0.0,154.0,110.0,0.0,0.0,165.0,563,4,140.75]
[129.0,"Swade Helton","21-82211",null,"Kansas State University V ","",123.0,132.0,0.0,0.0,0.0,142.0,166.0,563,4,140.75]
[130.0,"Carson Toews","19-37440",null,"Kansas State University V ","",112.0,0.0,0.0,180.0,99.0,0.0,157.0,548,4,137]
[131.0,"Bailey Gassman","19-73530",null,"Kansas Wesleyan University V ","",0.0,0.0,0.0,0.0,162.0,191.0,192.0,545,3,181.6666667]
[132.0,"Trevor Seeley","11-104662",null,"Hastings College V ","",257.0,144.0,0.0,0.0,0.0,144.0,0.0,545,3,181.6666667]
[133.0,"Dane Conner","7914-17029",null,"Peru State College V ","",151.0,237.0,152.0,0.0,0.0,0.0,0.0,540,3,180]
[134.0,"Cole Gillenwater","20-14741",null,"Culver-Stockton College V ","",0.0,0.0,0.0,162.0,151.0,116.0,108.0,537,4,134.25]
[135.0,"Brandon Ogden","15-183090",null,"Midland University V ","",126.0,0.0,0.0,0.0,0.0,221.0,179.0,526,3,175.3333333]
[136.0,"Tyler Call","8813-4825",null,"Hastings College V ","",212.0,113.0,0.0,0.0,0.0,0.0,192.0,517,3,172.3333333]
[137.0,"Marcus Yamada","5401-79",null,"William Penn University V ","",0.0,0.0,0.0,0.0,201.0,163.0,152.0,516,3,172]
[138.0,"Jordan Gorgas","11-68634",null,"Clarke University V ","",154.0,191.0,0.0,0.0,168.0,0.0,0.0,513,3,171]
[139.0,"Jake Evitts","11-32574",null,"Culver-Stockton College V ","",202.0,164.0,126.0,0.0,0.0,0.0,0.0,492,3,164]
[140.0,"Robert Dostal","5816-1476",null,"William Penn University JV1 ","",170.0,146.0,0.0,0.0,0.0,0.0,176.0,492,3,164]
[141.0,"Kody Sapp","5853-303",null,"William Penn University V ","",157.0,0.0,0.0,0.0,0.0,192.0,140.0,489,3,163]
[142.0,"Bryce Stewart","8599-78423",null,"Avila University V ","",138.0,0.0,0.0,182.0,146.0,0.0,0.0,466,3,155.3333333]
[143.0,"Aidan Piet","11-575136",null,"William Penn University V ","",172.0,162.0,0.0,0.0,131.0,0.0,0.0,465,3,155]
[144.0,"Mannix Amos","18-31111",null,"Clarke University V ","",168.0,0.0,0.0,140.0,0.0,0.0,140.0,448,3,149.3333333]
[145.0,"Torrey Lindsay","15-22092",null,"Barton Community College V ","",114.0,0.0,0.0,159.0,142.0,0.0,0.0,415,3,138.3333333]
[146.0,"Deken Penny","19-83494",null,"Baker University JV1 ","",0.0,135.0,0.0,127.0,0.0,138.0,0.0,400,3,133.3333333]
[147.0,"Brady Darr","11-393421",null,"Avila University JV1 ","",149.0,0.0,99.0,0.0,0.0,118.0,0.0,366,3,122]
[148.0,"Caleb Sterbenz","5822-1038",null,"William Penn University JV1 ","",173.0,160.0,0.0,0.0,0.0,0.0,0.0,333,2,166.5]
[149.0,"Andrew Fonseca","5900-25891",null,"Kansas Wesleyan University V ","",165.0,157.0,0.0,0.0,0.0,0.0,0.0,322,2,161]
[150.0,"Alex Knoshaug","17-40277",null,"Grand View University V ","",0.0,0.0,162.0,155.0,0.0,0.0,0.0,317,2,158.5]
[151.0,"Mathew Smith","11-575080",null,"William Penn University JV1 ","",0.0,0.0,143.0,170.0,0.0,0.0,0.0,313,2,156.5]
[152.0,"Wyatt Woodward","11-713121",null,"Peru State College V ","",0.0,0.0,0.0,0.0,156.0,156.0,0.0,312,2,156]
[153.0,"Cole Nietert","20-10059",null,"Clarke University V ","",0.0,0.0,158.0,0.0,0.0,142.0,0.0,300,2,150]
[154.0,"Cooper Holloway","19-11824",null,"Barton Community College V ","",0.0,0.0,0.0,0.0,0.0,147.0,149.0,296,2,148]
[155.0,"Natalie Briggs","20-48431",null,"Missouri Valley College V ","",0.0,0.0,0.0,156.0,122.0,0.0,0.0,278,2,139]
[156.0,"Carstin Olson","11-120329",null,"Hastings College V ","",0.0,0.0,0.0,0.0,0.0,0.0,187.0,187,1,187]
[157.0,"Casey Upton","11-622863",null,"Midland University V ","",0.0,171.0,0.0,0.0,0.0,0.0,0.0,171,1,171]
[158.0,"Zachary Reuter","20-11563",null,"Clarke University V ","",0.0,0.0,0.0,0.0,0.0,0.0,139.0,139,1,139]
[159.0,"Kalym Henry","7914-11225",null,"University Of Saint Mary V ","",132.0,0.0,0.0,0.0,0.0,0.0,0.0,132,1,132]
[160.0,"Kayla Cowell","16-172292",null,"Missouri Valley College V ","",0.0,0.0,0.0,0.0,100.0,0.0,0.0,100,1,100]
[161.0,"Addison Johnson","17-28711",null,"Midland University V ","",0.0,0.0,0.0,0.0,0.0,0.0,0.0,0,0,0]
[162.0,"Alex Badger","6661-372",null,"Morningside University JV1 ","",0.0,0.0,0.0,0.0,0.0,0.0,0.0,0,0,0]
[163.0,"Ayden Ammann","19-37444",null,"Kansas ,University Of V ","",0.0,0.0,0.0,0.0,0.0,0.0,0.0,0,0,0]
[164.0,"Braden Huber","21-81903",null,"Morningside University JV1 ","",0.0,0.0,0.0,0.0,0.0,0.0,0.0,0,0,0]
[165.0,"Ethan Haas-Oltrogge","23-4482",null,"Peru State College V ","",0.0,0.0,0.0,0.0,0.0,0.0,0.0,0,0,0]
[166.0,"Garrett Messenger","17-38986",null,"Avila University JV1 ","",0.0,0.0,0.0,0.0,0.0,0.0,0.0,0,0,0]
[167.0,"Jacob Fonyi","11-411198",null,"Kansas ,University Of V ","",0.0,0.0,0.0,0.0,0.0,0.0,0.0,0,0,0]
[168.0,"Skyler Vong","15-193757",null,"Grand View University V ","",0.0,0.0,0.0,0.0,0.0,0.0,0.0,0,0,0]
[169.0,null,"",null," V ","",0.0,0.0,0.0,0.0,0.0,0.0,0.0,0,0,0]
[170.0,null,"",null,"Avila University V","",{"$nulls":7},0,0,0]
[171.0,null,"",null,"Avila University V","",{"$nulls":7},0,0,0]
[172.0,null,"",null,"Avila University V","",{"$nulls":7},0,0,0]
[173.0,null,"",null," V ","",0.0,0.0,0.0,0.0,0.0,0.0,0.0,0,0,0]
[174.0,null,"",null," V ","",0.0,0.0,0.0,0.0,0.0,0.0,0.0,0,0,0]
[175.0,null,"",null," V ","",0.0,0.0,0.0,0.0,0.0,0.0,0.0,0,0,0]
[176.0,null,"",null,"Baker University V","",{"$nulls":7},0,0,0]
[177.0,null,"",null,"Baker University V","",{"$nulls":7},0,0,0]
[178.0,null,"",null,"Baker University V","",{"$nulls":7},0,0,0]
[179.0,null,"",null,"Barton Community College V","",{"$nulls":7},0,0,0]
[180.0,null,"",null,"Barton Community College V","",{"$nulls":7},0,0,0]
[181.0,null,"",null,"Barton Community College V","",{"$nulls":7},0,0,0]
[182.0,null,"",null," V ","",0.0,0.0,0.0,0.0,0.0,0.0,0.0,0,0,0]
[183.0,null,"",null," V ","",0.0,0.0,0.0,0.0,0.0,0.0,0.0,0,0,0]
[184.0,null,"",null," V ","",0.0,0.0,0.0,0.0,0.0,0.0,0.0,0,0,0]
[185.0,null,"",null,"Central Methodist University V","",{"$nulls":7},0,0,0]
[186.0,null,"",null,"Central Methodist University V","",{"$nulls":7},0,0,0]
[187.0,null,"",null,"Central Methodist University V","",{"$nulls":7},0,0,0]
[188.0,null,"",null,"Clarke University V","",{"$nulls":7},0,0,0]
[189.0,null,"",null,"Clarke University V","",{"$nulls":7},0,0,0]
[190.0,null,"",null,"Clarke University V","",{"$nulls":7},0,0,0]
[191.0,null,"",null," V ","",0.0,0.0,0.0,0.0,0.0,0.0,0.0,0,0,0]
[192.0,null,"",null,"Culver-Stockton College V","",{"$nulls":7},0,0,0]
[193.0,null,"",null,"Culver-Stockton College V","",{"$nulls":7},0,0,0]
[194.0,null,"",null,"Culver-Stockton College V","",{"$nulls":7},0,0,0]
[195.0,null,"",null," V ","",0.0,0.0,0.0,0.0,0.0,0.0,0.0,0,0,0]
[196.0,null,"",null,"Grand View University V","",{"$nulls":7},0,0,0]
[197.0,null,"",null,"Grand View University V","",{"$nulls":7},0,0,0]
[198.0,null,"",null,"Grand View University V","",{"$nulls":7},0,0,0]
[199.0,null,"",null,"Hastings College V","",{"$nulls":7},0,0,0]
[200.0,null,"",null,"Hastings College V","",{"$nulls":7},0,0,0]
[201.0,null,"",null,"Hastings College V","",{"$nulls":7},0,0,0]
[202.0,null,"",null,"Kansas ,University Of V","",{"$nulls":7},0,0,0]
[203.0,null,"",null,"Kansas ,University Of V","",{"$nulls":7},0,0,0]
[204.0,null,"",null,"Kansas ,University Of V","",{"$nulls":7},0,0,0]
[205.0,null,"",null," V ","",0.0,0.0,0.0,0.0,0.0,0.0,0.0,0,0,0]
[206.0,null,"",null,"Kansas State University V","",{"$nulls":7},0,0,0]
[207.0,null,"",null,"Kansas State University V","",{"$nulls":7},0,0,0]
[208.0,null,"",null,"Kansas State University V","",{"$nulls":7},0,0,0]
[209.0,null,"",null," V ","",0.0,0.0,0.0,0.0,0.0,0.0,0.0,0,0,0]
[210.0,null,"",null,"Kansas Wesleyan University V","",{"$nulls":7},0,0,0]
[211.0,null,"",null,"Kansas Wesleyan University V","",{"$nulls":7},0,0,0]
[212.0,null,"",null,"Kansas Wesleyan University V","",{"$nulls":7},0,0,0]
[213.0,null,"",null,"Midland University V","",{"$nulls":7},0,0,0]
[214.0,null,"",null,"Midland University V","",{"$nulls":7},0,0,0]
[215.0,null,"",null,"Midland University V","",{"$nulls":7},0,0,0]
[216.0,null,"",null," V ","",0.0,0.0,0.0,0.0,0.0,0.0,0.0,0,0,0]
[217.0,null,"",null,"Missouri Valley College V","",{"$nulls":7},0,0,0]
[218.0,null,"",null,"Missouri Valley College V","",{"$nulls":7},0,0,0]
[219.0,null,"",null,"Missouri Valley College V","",{"$nulls":7},0,0,0]
[220.0,null,"",null," V ","",0.0,0.0,0.0,0.0,0.0,0.0,0.0,0,0,0]
[221.0,null,"",null," V ","",0.0,0.0,0.0,0.0,0.0,0.0,0.0,0,0,0]
[222.0,null,"",null," V ","",0.0,0.0,0.0,0.0,0.0,0.0,0.0,0,0,0]
[223.0,null,"",null,"Morningside University V","",{"$nulls":7},0,0,0]
[224.0,null,"",null,"Morningside University V","",{"$nulls":7},0,0,0]
[225.0,null,"",null,"Morningside University V","",{"$nulls":7},0,0,0]
[226.0,null,"",null," V ","",0.0,0.0,0.0,0.0,0.0,0.0,0.0,0,0,0]
[227.0,null,"",null," V ","",0.0,0.0,0.0,0.0,0.0,0.0,0.0,0,0,0]
[228.0,null,"",null,"Ottawa University (KS) V","",{"$nulls":7},0,0,0]
[229.0,null,"",null,"Ottawa University (KS) V","",{"$nulls":7},0,0,0]
[230.0,null,"",null,"Ottawa University (KS) V","",{"$nulls":7},0,0,0]
[231.0,null,"",null,"Peru State College V","",{"$nulls":7},0,0,0]
[232.0,null,"",null,"Peru State College V","",{"$nulls":7},0,0,0]
[233.0,null,"",null,"Peru State College V","",{"$nulls":7},0,0,0]
[234.0,null,"",null," V ","",0.0,0.0,0.0,0.0,0.0,0.0,0.0,0,0,0]
[235.0,null,"",null," V ","",0.0,0.0,0.0,0.0,0.0,0.0,0.0,0,0,0]
[236.0,null,"",null,"University Of Saint Mary V","",{"$nulls":7},0,0,0]
[237.0,null,"",null,"University Of Saint Mary V","",{"$nulls":7},0,0,0]
[238.0,null,"",null,"University Of Saint Mary V","",{"$nulls":7},0,0,0]
[239.0,null,"",null,"William Penn University V","",{"$nulls":7},0,0,0]
[240.0,null,"",null,"William Penn University V","",{"$nulls":7},0,0,0]
[241.0,null,"",null,"William Penn University V","",{"$nulls":7},0,0,0]
[242.0,null,"",null," JV1 ","",0.0,0.0,0.0,0.0,0.0,0.0,0.0,0,0,0]
[243.0,null,"",null,"Avila University JV1","",{"$nulls":7},0,0,0]
[244.0,null,"",null,"Avila University JV1","",{"$nulls":7},0,0,0]
[245.0,null,"",null,"Avila University JV1","",{"$nulls":7},0,0,0]
[246.0,null,"",null," JV1 ","",0.0,0.0,0.0,0.0,0.0,0.0,0.0,0,0,0]
[247.0,null,"",null," JV1 ","",0.0,0.0,0.0,0.0,0.0,0.0,0.0,0,0,0]
[248.0,null,"",null,"Baker University JV1","",{"$nulls":7},0,0,0]
[249.0,null,"",null,"Baker University JV1","",{"$nulls":7},0,0,0]
[250.0,null,"",null,"Baker University JV1","",{"$nulls":7},0,0,0]
[251.0,null,"",null," JV1 ","",0.0,0.0,0.0,0.0,0.0,0.0,0.0,0,0,0]
[252.0,null,"",null,"Grand View University JV1","",{"$nulls":7},0,0,0]
[253.0,null,"",null,"Grand View University JV1","",{"$nulls":7},0,0,0]
[254.0,null,"",null,"Grand View University JV1","",{"$nulls":7},0,0,0]
[255.0,null,"",null," JV1 ","",0.0,0.0,0.0,0.0,0.0,0.0,0.0,0,0,0]
[256.0,null,"",null," JV1 ","",0.0,0.0,0.0,0.0,0.0,0.0,0.0,0,0,0]
[257.0,null,"",null," JV1 ","",0.0,0.0,0.0,0.0,0.0,0.0,0.0,0,0,0]
[258.0,null,"",null," JV1 ","",0.0,0.0,0.0,0.0,0.0,0.0,0.0,0,0,0]
[259.0,null,"",null," JV1 ","",0.0,0.0,0.0,0.0,0.0,0.0,0.0,0,0,0]
[260.0,null,"",null," JV1 ","",0.0,0.0,0.0,0.0,0.0,0.0,0.0,0,0,0]
[261.0,null,"",null," JV1 ","",0.0,0.0,0.0,0.0,0.0,0.0,0.0,0,0,0]
[262.0,null,"",null," JV1 ","",0.0,0.0,0.0,0.0,0.0,0.0,0.0,0,0,0]
[263.0,null,"",null,"Kansas State University JV1","",{"$nulls":7},0,0,0]
[264.0,null,"",null,"Kansas State University JV1","",{"$nulls":7},0,0,0]
[265.0,null,"",null,"Kansas State University JV1","",{"$nulls":7},0,0,0]
[266.0,null,"",null," JV1 ","",0.0,0.0,0.0,0.0,0.0,0.0,0.0,0,0,0]
[267.0,null,"",null," JV1 ","",0.0,0.0,0.0,0.0,0.0,0.0,0.0,0,0,0]
[268.0,null,"",null," JV1 ","",0.0,0.0,0.0,0.0,0.0,0.0,0.0,0,0,0]
[269.0,null,"",null,"Morningside University JV1","",{"$nulls":7},0,0,0]
[270.0,null,"",null,"Morningside University JV1","",{"$nulls":7},0,0,0]
[271.0,null,"",null,"Morningside University JV1","",{"$nulls":7},0,0,0]
[272.0,null,"",null," JV1 ","",0.0,0.0,0.0,0.0,0.0,0.0,0.0,0,0,0]
[273.0,null,"",null," JV1 ","",0.0,0.0,0.0,0.0,0.0,0.0,0.0,0,0,0]
[274.0,null,"",null," JV1 ","",0.0,0.0,0.0,0.0,0.0,0.0,0.0,0,0,0]
[275.0,null,"",null,"Ottawa University (KS) JV1","",{"$nulls":7},0,0,0]
[276.0,null,"",null,"Ottawa University (KS) JV1","",{"$nulls":7},0,0,0]
[277.0,null,"",null,"Ottawa University (KS) JV1","",{"$nulls":7},0,0,0]
[278.0,null,"",null," JV2 ","",0.0,0.0,0.0,0.0,0.0,0.0,0.0,0,0,0]
[279.0,null,"",null," JV2 ","",0.0,0.0,0.0,0.0,0.0,0.0,0.0,0,0,0]
[280.0,null,"",null," JV2 ","",0.0,0.0,0.0,0.0,0.0,0.0,0.0,0,0,0]
[281.0,null,"",null,"Ottawa University (KS) JV2","",{"$nulls":7},0,0,0]
[282.0,null,"",null,"Ottawa University (KS) JV2","",{"$nulls":7},0,0,0]
[283.0,null,"",null,"Ottawa University (KS) JV2","",{"$nulls":7},0,0,0]
[284.0,null,"",null,"William Penn University JV1","",{"$nulls":7},0,0,0]
[285.0,null,"",null,"William Penn University JV1","",{"$nulls":7},0,0,0]
[286.0,null,"",null,"William Penn University JV1","",{"$nulls":7},0,0,0]
[]
[]
[{"$nulls":4},"Total Pins Bowled:",null,{"$f":"SUM(G13:G298)","v":20901},21090,20562,21568,20985,20918,20011,146035]
[{"$nulls":4},"Field Ave::",null,{"$f":"SUM(G301 / (COUNTIF(G13:G298,\">0\")))","v":169.9268293},171.4634146,167.1707317,175.3495935,170.6097561,170.0650407,162.6910569,912.71875]

{"sheet":"Indiv_Combined_Scores_Women","index":11,"n_rows":258,"n_cols":141,"rows_kept":258,"cut":false,"hidden":false,"merged":[[0,0,0,17]]}
["Individual Combined Scores",{"$nulls":25},22.0,{"$nulls":104},"G12:M22","B12:B22","D12:D22","C12:C22","Individual_Scores_Women_Var","G13:M23","E13:E23","B13:B23","C13:C23","Indiv_Combined_Scores_Women"]
[{"$nulls":26},"B13:P254",{"$nulls":104},"G25:M35","B25:B35","D25:D35","C25:C35","Individual_Scores_Women_Var","G24:M34","E24:E34","B24:B34","C24:C34","Indiv_Combined_Scores_Women"]
[null,"NAIA Weekend-West-Sunday",null,null,"02/04/2024 - 02/04/2024",{"$nulls":21},"N13:N254","B13:B254",{"$nulls":103},"G38:M48","B38:B48","D38:D48","C38:C48","Individual_Scores_Women_Var","G35:M45","E35:E45","B35:B45","C35:C45","Indiv_Combined_Scores_Women"]
[null,"Tier 2","NAIA",null,"Lawrence, KS",{"$nulls":48},"IBCYouth",{"$nulls":77},"G51:M61","B51:B61","D51:D61","C51:C61","Individual_Scores_Women_Var","G46:M56","E46:E56","B46:B56","C46:C56","Indiv_Combined_Scores_Women"]
[{"$nulls":131},"G64:M74","B64:B74","D64:D74","C64:C74","Individual_Scores_Women_Var","G57:M67","E57:E67","B57:B67","C57:C67","Indiv_Combined_Scores_Women"]
[{"$nulls":131},"G77:M87","B77:B87","D77:D87","C77:C87","Individual_Scores_Women_Var","G68:M78","E68:E78","B68:B78","C68:C78","Indiv_Combined_Scores_Women"]
[{"$nulls":131},"G90:M100","B90:B100","D90:D100","C90:C100","Individual_Scores_Women_Var","G79:M89","E79:E89","B79:B89","C79:C89","Indiv_Combined_Scores_Women"]
[null,"Women's Division",null,null,"Cert. No: 04110",{"$nulls":126},"G103:M113","B103:B113","D103:D113","C103:C113","Individual_Scores_Women_Var","G90:M100","E90:E100","B90:B100","C90:C100","Indiv_Combined_Scores_Women"]
[{"$nulls":131},"G116:M126","B116:B126","D116:D126","C116:C126","Individual_Scores_Women_Var","G101:M111","E101:E111","B101:B111","C101:C111","Indiv_Combined_Scores_Women"]
[{"$nulls":131},"G129:M139","B129:B139","D129:D139","C129:C139","Individual_Scores_Women_Var","G112:M122","E112:E122","B112:B122","C112:C122","Indiv_Combined_Scores_Women"]
[{"$nulls":6},"Game","Game","Game","Game","Game","Game","Game","Individual","Game","Tourn.",{"$nulls":115},"G142:M152","B142:B152","D142:D152","C142:C152","Individual_Scores_Women_Var","G123:M133","E123:E133","B123:B133","C123:C133","Indiv_Combined_Scores_Women"]
["Rank","Bowler","Bowler ID",null,"Team","State",1.0,2.0,3.0,4.0,5.0,6.0,7.0,"Total","Bowled","Ave.",{"$nulls":115},"G155:M165","B155:B165","D155:D165","C155:C165","Individual_Scores_Women_Var","G134:M144","E134:E144","B134:B144","C134:C144","Indiv_Combined_Scores_Women"]
[1.0,"Holly Bridges","11-188358",null,"Ottawa University (KS) V ","",174.0,168.0,234.0,224.0,190.0,180.0,220.0,{"$f":"SUM(G13:M13)","v":1390},{"$f":"COUNTIF(G13:M13, \">0\" )","v":7},{"$f":"IF(O13=0,0,N13/O13)","v":198.5714286},{"$nulls":115},"G168:M178","B168:B178","D168:D178","C168:C178","Individual_Scores_Women_Var","G145:M155","E145:E155","B145:B155","C145:C155","Indiv_Combined_Scores_Women"]
[2.0,"Carissa Johnson","8337-10677",null,"Morningside University V ","",169.0,186.0,189.0,222.0,179.0,181.0,222.0,1348,7,192.5714286,{"$nulls":115},"G181:M191","B181:B191","D181:D191","C181:C191","Individual_Scores_Women_Var","G156:M166","E156:E166","B156:B166","C156:C166","Indiv_Combined_Scores_Women"]
[3.0,"Kinsey Miller","5900-25170",null,"Baker University V ","",181.0,192.0,198.0,199.0,179.0,212.0,187.0,1348,7,192.5714286,{"$nulls":115},"G194:M204","B194:B204","D194:D204","C194:C204","Individual_Scores_Women_Var","G167:M177","E167:E177","B167:B177","C167:C177","Indiv_Combined_Scores_Women"]
[4.0,"Isabel Tetmeyer","11-232057",null,"Grand View University V ","",182.0,175.0,185.0,200.0,216.0,180.0,190.0,1328,7,189.7142857,{"$nulls":115},"G207:M217","B207:B217","D207:D217","C207:C217","Individual_Scores_Women_Var","G178:M188","E178:E188","B178:B188","C178:C188","Indiv_Combined_Scores_Women"]
[5.0,"Rachel Moore","5853-321",null,"Culver-Stockton College V ","",214.0,193.0,185.0,166.0,195.0,203.0,170.0,1326,7,189.4285714,{"$nulls":115},"G220:M230","B220:B230","D220:D230","C220:C230","Individual_Scores_Women_Var","G189:M199","E189:E199","B189:B199","C189:C199","Indiv_Combined_Scores_Women"]
[6.0,"Makenzie Millard","11-66625",null,"Peru State College V ","",235.0,193.0,177.0,169.0,193.0,184.0,174.0,1325,7,189.2857143,{"$nulls":115},"G233:M243","B233:B243","D233:D243","C233:C243","Individual_Scores_Women_Var","G200:M210","E200:E210","B200:B210","C200:C210","Indiv_Combined_Scores_Women"]
[7.0,"Jadyn Barr","5900-26985",null,"Ottawa University (KS) V ","",201.0,190.0,202.0,170.0,190.0,166.0,200.0,1319,7,188.4285714,{"$nulls":115},"G12:M22","B12:B22","D12:D22","C12:C22","Individual_Scores_Women_JV","G211:M221","E211:E221","B211:B221","C211:C221","Indiv_Combined_Scores_Women"]
[8.0,"Gabriella Evans","11-35370",null,"William Penn University V ","",180.0,147.0,200.0,191.0,198.0,190.0,202.0,1308,7,186.8571429,{"$nulls":115},"G25:M35","B25:B35","D25:D35","C25:C35","Individual_Scores_Women_JV","G222:M232","E222:E232","B222:B232","C222:C232","Indiv_Combined_Scores_Women"]
[9.0,"Audrey Valdez","11-193244",null,"Baker University V ","",238.0,222.0,270.0,135.0,135.0,168.0,135.0,1303,7,186.1428571,{"$nulls":115},"G38:M48","B38:B48","D38:D48","C38:C48","Individual_Scores_Women_JV","G233:M243","E233:E243","B233:B243","C233:C243","Indiv_Combined_Scores_Women"]
[10.0,"Rachel Spier","8337-13882",null,"Morningside University V ","",144.0,176.0,189.0,155.0,198.0,213.0,212.0,1287,7,183.8571429,{"$nulls":115},"G51:M61","B51:B61","D51:D61","C51:C61","Individual_Scores_Women_JV","G244:M254","E244:E254","B244:B254","C244:C254","Indiv_Combined_Scores_Women"]
[11.0,"Emaly Kruse","11-135896",null,"Morningside University V ","",190.0,162.0,204.0,168.0,168.0,169.0,223.0,1284,7,183.4285714]
[12.0,"Gabriella Hernandez","11-241897",null,"Ottawa University (KS) V ","",203.0,166.0,216.0,151.0,205.0,144.0,187.0,1272,7,181.7142857]
[13.0,"Alexa Munhofen","11-273910",null,"Morningside University V ","",153.0,187.0,190.0,193.0,177.0,187.0,184.0,1271,7,181.5714286]
[14.0,"Claire Busch","11-103558",null,"Avila University V ","",212.0,177.0,200.0,167.0,157.0,177.0,178.0,1268,7,181.1428571]
[15.0,"Madison Ross","11-294013",null,"William Penn University V ","",160.0,190.0,159.0,157.0,205.0,221.0,166.0,1258,7,179.7142857]
[16.0,"Kassidy Gerken","5832-2273",null,"Clarke University V ","",191.0,182.0,137.0,197.0,174.0,195.0,177.0,1253,7,179]
[17.0,"Halie Marean","11-96883",null,"Grand View University V ","",208.0,158.0,158.0,189.0,142.0,200.0,192.0,1247,7,178.1428571]
[18.0,"Kaytlyn Andrews","7914-7770",null,"Grand View University V ","",180.0,177.0,184.0,157.0,186.0,175.0,186.0,1245,7,177.8571429]
[19.0,"Jasmine Saunders","17-45685",null,"Culver-Stockton College V ","",148.0,209.0,197.0,166.0,157.0,201.0,163.0,1241,7,177.2857143]
[20.0,"Jerika Koopmeiners","19-70845",null,"Midland University V ","",153.0,161.0,162.0,211.0,178.0,178.0,185.0,1228,7,175.4285714]
[21.0,"Allie Williams","11-529617",null,"Ottawa University (KS) V ","",165.0,191.0,161.0,210.0,183.0,163.0,154.0,1227,7,175.2857143]
[22.0,"Michelle Stewart","11-307190",null,"Grand View University V ","",175.0,178.0,190.0,153.0,189.0,180.0,159.0,1224,7,174.8571429]
[23.0,"Emma Clancy","17-18731",null,"Clarke University V ","",224.0,158.0,154.0,221.0,182.0,159.0,123.0,1221,7,174.4285714]
[24.0,"Jersey Lessenger","11-381963",null,"Culver-Stockton College V ","",202.0,166.0,201.0,192.0,147.0,132.0,158.0,1198,7,171.1428571]
[25.0,"Ashland Hoyt","5998-5608",null,"Midland University V ","",182.0,156.0,187.0,169.0,172.0,150.0,174.0,1190,7,170]
[26.0,"Lola Moore","21-79472",null,"University Of Saint Mary V ","",169.0,153.0,156.0,176.0,201.0,144.0,186.0,1185,7,169.2857143]
[27.0,"Kaleigh Buckalew","7914-12405",null,"Baker University V ","",176.0,181.0,129.0,213.0,142.0,168.0,167.0,1176,7,168]
[28.0,"Marissa Ruiz","18-71705",null,"Hastings College V ","",190.0,181.0,139.0,182.0,193.0,164.0,127.0,1176,7,168]
[29.0,"Emma O'Donnell","5978-620",null,"Kansas Wesleyan University V ","",142.0,180.0,211.0,138.0,146.0,157.0,187.0,1161,7,165.8571429]
[30.0,"Dylan Holmes","20-48752",null,"Baker University V ","",173.0,129.0,168.0,163.0,175.0,171.0,179.0,1158,7,165.4285714]
[31.0,"Kiana Hodges","11-139190",null,"Columbia College V ","",154.0,152.0,189.0,181.0,147.0,168.0,152.0,1143,7,163.2857143]
[32.0,"Allyson Johnson","11-717261",null,"Columbia College V ","",145.0,159.0,166.0,232.0,157.0,130.0,150.0,1139,7,162.7142857]
[33.0,"Kamdyn Burman","20-10175",null,"Avila University V ","",127.0,180.0,154.0,137.0,183.0,173.0,168.0,1122,7,160.2857143]
[34.0,"Emily Ziegler","16-83486",null,"Midland University V ","",178.0,188.0,136.0,152.0,134.0,154.0,179.0,1121,7,160.1428571]
[35.0,"Madison Shontz","20-27294",null,"Culver-Stockton College V ","",147.0,161.0,152.0,220.0,155.0,151.0,135.0,1121,7,160.1428571]
[36.0,"Haylee Busch","11-662816",null,"Kansas Wesleyan University V ","",165.0,139.0,174.0,157.0,157.0,162.0,150.0,1104,7,157.7142857]
[37.0,"Delainey Isaacson","20-55542",null,"Kansas State University V ","",138.0,134.0,153.0,155.0,169.0,169.0,179.0,1097,7,156.7142857]
[38.0,"Annabelle Bitner","5900-28007",null,"Kansas ,University Of V ","",209.0,126.0,146.0,131.0,141.0,151.0,186.0,1090,7,155.7142857]
[39.0,"Allyson Heidenreich","11-393848",null,"Barton Community College V ","",211.0,121.0,194.0,126.0,143.0,178.0,115.0,1088,7,155.4285714]
[40.0,"Autumn Thompson","23-788",null,"Kansas Wesleyan University V ","",154.0,146.0,164.0,153.0,172.0,145.0,154.0,1088,7,155.4285714]
[41.0,"Kylee Busch","11-662819",null,"Kansas Wesleyan University V ","",146.0,151.0,146.0,125.0,193.0,139.0,183.0,1083,7,154.7142857]
[42.0,"Kaylee Laha","15-193314",null,"Kansas Wesleyan University V ","",133.0,156.0,139.0,189.0,184.0,135.0,146.0,1082,7,154.5714286]
[43.0,"Jennifer Hayakawa","18-54066",null,"Clarke University V ","",149.0,144.0,175.0,128.0,174.0,113.0,181.0,1064,7,152]
[44.0,"Samantha Malley","22-1347",null,"Columbia College V ","",145.0,147.0,150.0,171.0,129.0,167.0,149.0,1058,7,151.1428571]
[45.0,"Jaden Rabe","11-648604",null,"Barton Community College V ","",192.0,181.0,150.0,153.0,0.0,188.0,191.0,1055,6,175.8333333]
[46.0,"Natalie Gilbert","23-12122",null,"Kansas State University V ","",113.0,150.0,160.0,158.0,153.0,154.0,146.0,1034,7,147.7142857]
[47.0,"Kirsten Zirjacks","17-84443",null,"Avila University V ","",148.0,171.0,168.0,111.0,144.0,154.0,131.0,1027,7,146.7142857]
[48.0,"Breanne West","11-52087",null,"Columbia College V ","",171.0,177.0,226.0,162.0,143.0,144.0,0.0,1023,6,170.5]
[49.0,"Emily Larson","7914-34066",null,"Clarke University V ","",146.0,119.0,162.0,126.0,143.0,160.0,166.0,1022,7,146]
[50.0,"Carmen Silva","17-57411",null,"University Of Saint Mary V ","",181.0,191.0,158.0,166.0,172.0,151.0,0.0,1019,6,169.8333333]
[51.0,"Rilee Allen","11-531608",null,"Culver-Stockton College V ","",171.0,111.0,151.0,128.0,139.0,145.0,148.0,993,7,141.8571429]
[52.0,"Olivia Oliver","11-393971",null,"Barton Community College V ","",157.0,117.0,162.0,183.0,204.0,167.0,0.0,990,6,165]
[53.0,"Madison Henderson","11-455997",null,"Hastings College V ","",155.0,158.0,208.0,184.0,172.0,110.0,0.0,987,6,164.5]
[54.0,"Brittany Mohling","19-37668",null,"Avila University V ","",168.0,169.0,159.0,115.0,112.0,125.0,126.0,974,7,139.1428571]
[55.0,"Chailyn Scott","11-595640",null,"Barton Community College V ","",208.0,151.0,193.0,163.0,119.0,140.0,0.0,974,6,162.3333333]
[56.0,"Kaitlyn Doyal","18-15133",null,"Peru State College V ","",176.0,136.0,0.0,164.0,208.0,168.0,118.0,970,6,161.6666667]
[57.0,"Adria Huiett","15-184489",null,"Peru State College V ","",0.0,136.0,169.0,153.0,194.0,176.0,126.0,954,6,159]
[58.0,"Jasmine Bridges","16-4404",null,"Barton Community College V ","",167.0,101.0,183.0,164.0,167.0,167.0,0.0,949,6,158.1666667]
[59.0,"Victoria Bestor","22-1548",null,"Avila University V ","",144.0,108.0,146.0,127.0,141.0,120.0,158.0,944,7,134.8571429]
[60.0,"Karli Gilliland","11-634102",null,"Baker University V ","",127.0,0.0,141.0,201.0,166.0,183.0,115.0,933,6,155.5]
[61.0,"Katie Morse","20-10282",null,"Hastings College V ","",145.0,135.0,147.0,92.0,123.0,158.0,122.0,922,7,131.7142857]
[62.0,"Brianna Hubenett","11-623384",null,"University Of Saint Mary V ","",146.0,202.0,156.0,122.0,0.0,153.0,131.0,910,6,151.6666667]
[63.0,"Amanda Peterson","11-264092",null,"Hastings College V ","",0.0,0.0,164.0,175.0,207.0,194.0,161.0,901,5,180.2]
[64.0,"Kinzie Temple","11-734490",null,"Hastings College V ","",147.0,126.0,0.0,172.0,144.0,142.0,167.0,898,6,149.6666667]
[65.0,"Hannah Bowling","16-68196",null,"Midland University V ","",196.0,141.0,159.0,116.0,155.0,0.0,130.0,897,6,149.5]
[66.0,"Sammantha Meyers","11-422677",null,"William Penn University V ","",195.0,145.0,148.0,0.0,0.0,196.0,190.0,874,5,174.8]
[67.0,"Cydnee Whiteleather","15-170867",null,"William Penn University V ","",158.0,157.0,0.0,193.0,221.0,136.0,0.0,865,5,173]
[68.0,"Emma Shaner","9229-56442",null,"Columbia College V ","",0.0,153.0,181.0,200.0,158.0,165.0,0.0,857,5,171.4]
[69.0,"Kinley Nielsen","21-15727",null,"Kansas State University V ","",136.0,190.0,156.0,107.0,0.0,133.0,115.0,837,6,139.5]
[70.0,"Lauren Williams","23-10761",null,"Central Methodist University V ","",101.0,112.0,111.0,103.0,146.0,100.0,129.0,802,7,114.5714286]
[71.0,"Katie Limon","11-207945",null,"University Of Saint Mary V ","",109.0,0.0,135.0,126.0,155.0,150.0,112.0,787,6,131.1666667]
[72.0,"Maya Elliott","11-548891",null,"Central Methodist University V ","",124.0,106.0,103.0,101.0,122.0,108.0,100.0,764,7,109.1428571]
[73.0,"Emilee Hall","7914-27984",null,"Grand View University V ","",152.0,142.0,0.0,0.0,184.0,165.0,119.0,762,5,152.4]
[74.0,"Jada Surritte","11-559058",null,"University Of Saint Mary V ","",160.0,109.0,0.0,142.0,140.0,0.0,206.0,757,5,151.4]
[75.0,"Braylie Apperson","21-82223",null,"Kansas ,University Of V ","",143.0,171.0,130.0,198.0,114.0,0.0,0.0,756,5,151.2]
[76.0,"Koryn Marquez","5495-31883",null,"Ottawa University (KS) V ","",0.0,168.0,142.0,0.0,0.0,235.0,198.0,743,4,185.75]
[77.0,"Rebecca Bruening","23-19342",null,"Kansas ,University Of V ","",177.0,168.0,129.0,0.0,0.0,139.0,122.0,735,5,147]
[78.0,"Alivia Johnson","15-11096",null,"Kansas State University V ","",176.0,93.0,0.0,104.0,113.0,142.0,102.0,730,6,121.6666667]
[79.0,"Oliva Helten","21-472",null,"University Of Saint Mary V ","",0.0,140.0,133.0,0.0,157.0,145.0,145.0,720,5,144]
[80.0,"Addison Foley","22-16659",null,"Kansas State University V ","",124.0,0.0,117.0,0.0,157.0,160.0,146.0,704,5,140.8]
[81.0,"Samantha Creutz","11-460870",null,"Midland University V ","",140.0,130.0,0.0,148.0,154.0,89.0,0.0,661,5,132.2]
[82.0,"Sydney Chandler","21-32743",null,"Kansas ,University Of V ","",124.0,156.0,129.0,143.0,101.0,0.0,0.0,653,5,130.6]
[83.0,"Maren Ewertz","6414-1343",null,"Morningside University V ","",125.0,0.0,0.0,0.0,167.0,162.0,192.0,646,4,161.5]
[84.0,"Olivia Nolte","11-390462",null,"William Penn University V ","",0.0,0.0,149.0,179.0,163.0,149.0,0.0,640,4,160]
[85.0,"Katie Price","16-164416",null,"Peru State College V ","",149.0,132.0,0.0,0.0,0.0,195.0,141.0,617,4,154.25]
[86.0,"Stephanie Thompson","11-43463",null,"Clarke University V ","",155.0,152.0,155.0,134.0,0.0,0.0,0.0,596,4,149]
[87.0,"Victoria Potter","11-446110",null,"William Penn University V ","",121.0,0.0,0.0,158.0,154.0,0.0,163.0,596,4,149]
[88.0,"Abby Dallegge","11-87836",null,"Hastings College V ","",164.0,172.0,136.0,0.0,0.0,0.0,108.0,580,4,145]
[89.0,"Ashley Simpson","23-19341",null,"Kansas ,University Of V ","",0.0,0.0,102.0,118.0,148.0,100.0,110.0,578,5,115.6]
[90.0,"Aleia Crandall","11-378089",null,"Peru State College V ","",146.0,150.0,134.0,0.0,146.0,0.0,0.0,576,4,144]
[91.0,"Kelsey Booker","23-22840",null,"Kansas ,University Of V ","",132.0,114.0,0.0,0.0,0.0,168.0,147.0,561,4,140.25]
[92.0,"Breanna Warren","18-80545",null,"Kansas State University V ","",0.0,137.0,155.0,134.0,125.0,0.0,0.0,551,4,137.75]
[93.0,"Samantha Schiefen","18-6531",null,"Morningside University V ","",0.0,225.0,145.0,167.0,0.0,0.0,0.0,537,3,179]
[94.0,"Grace Dorst","21-52280",null,"Kansas ,University Of V ","",0.0,0.0,0.0,128.0,128.0,141.0,124.0,521,4,130.25]
[95.0,"Kiaralyn Backstrom","11-438615",null,"Ottawa University (KS) V ","",152.0,0.0,0.0,168.0,158.0,0.0,0.0,478,3,159.3333333]
[96.0,"Janell Whitfield","23-10758",null,"Central Methodist University V ","",52.0,65.0,70.0,55.0,80.0,78.0,76.0,476,7,68]
[97.0,"Leia Miller","19-57528",null,"Midland University V ","",0.0,0.0,137.0,0.0,0.0,168.0,171.0,476,3,158.6666667]
[98.0,"Sidney Pawski","17-28566",null,"Clarke University V ","",0.0,0.0,0.0,0.0,131.0,191.0,138.0,460,3,153.3333333]
[99.0,"Caitlin Radliff","11-33690",null,"William Penn University V ","",0.0,159.0,144.0,0.0,0.0,0.0,147.0,450,3,150]
[100.0,"Raelynn Sugden","18-6620",null,"Peru State College V ","",0.0,0.0,139.0,0.0,0.0,147.0,146.0,432,3,144]
[101.0,"Mindy Bartels","11-93281",null,"Peru State College V ","",137.0,0.0,153.0,141.0,0.0,0.0,0.0,431,3,143.6666667]
[102.0,"Cassidy Goans","15-199348",null,"Barton Community College V ","",0.0,0.0,0.0,0.0,170.0,0.0,134.0,304,2,152]
[103.0,"Madison Pickett","11-242164",null,"Grand View University V ","",0.0,0.0,148.0,151.0,0.0,0.0,0.0,299,2,149.5]
[104.0,"Caitlynn Gronenthal","20-57206",null,"Peru State College V ","",0.0,0.0,0.0,143.0,135.0,0.0,0.0,278,2,139]
[105.0,"Cassidy Eschliman","20-16670",null,"Barton Community College V ","",0.0,0.0,0.0,0.0,0.0,0.0,169.0,169,1,169]
[106.0,"Kenna Schmidt","15-91693",null,"Columbia College V ","",0.0,0.0,0.0,0.0,0.0,0.0,148.0,148,1,148]
[107.0,"Mallory Cross","11-188599",null,"Columbia College V ","",0.0,0.0,0.0,0.0,0.0,0.0,138.0,138,1,138]
[108.0,"Morgan Kolanek","21-69516",null,"Barton Community College V ","",0.0,0.0,0.0,0.0,0.0,0.0,138.0,138,1,138]
[109.0,"Rhyleigh Wilson","7914-20775",null,"Columbia College V ","",130.0,0.0,0.0,0.0,0.0,0.0,0.0,130,1,130]
[110.0,"Darby Hauff","20-47504",null,"Baker University V ","",0.0,112.0,0.0,0.0,0.0,0.0,0.0,112,1,112]
[111.0,"Alyssa Molton","23-19336",null,"Kansas ,University Of V ","",0.0,0.0,0.0,0.0,0.0,0.0,0.0,0,0,0]
[112.0,"Amber Wagner","18-70532",null,"Ottawa University (KS) JV1 ","",0.0,0.0,0.0,0.0,0.0,0.0,0.0,0,0,0]
[113.0,"Ashlynn Senecal","11-691826",null,"Ottawa University (KS) JV1 ","",0.0,0.0,0.0,0.0,0.0,0.0,0.0,0,0,0]
[114.0,"Aubrey Strodtman","23-786",null,"Kansas Wesleyan University V ","",0.0,0.0,0.0,0.0,0.0,0.0,0.0,0,0,0]
[115.0,"Aviana Ordonez","16-165606",null,"Baker University V ","",0.0,0.0,0.0,0.0,0.0,0.0,0.0,0,0,0]
[116.0,"Christy Mottier","6928-5185",null,"William Penn University JV1 ","",0.0,0.0,0.0,0.0,0.0,0.0,0.0,0,0,0]
[117.0,"Elana Krutsinger","18-52250",null,"Morningside University JV1 ","",0.0,0.0,0.0,0.0,0.0,0.0,0.0,0,0,0]
[118.0,"Emily Eikenberry","11-40996",null,"William Penn University JV1 ","",0.0,0.0,0.0,0.0,0.0,0.0,0.0,0,0,0]
[119.0,"Emma Foland","18-68921",null,"Avila University V ","",0.0,0.0,0.0,0.0,0.0,0.0,0.0,0,0,0]
[120.0,"Isabel Wong","23-1051",null,"Ottawa University (KS) JV1 ","",0.0,0.0,0.0,0.0,0.0,0.0,0.0,0,0,0]
[121.0,"Jazel Tiquia","19-66110",null,"Ottawa University (KS) JV1 ","",0.0,0.0,0.0,0.0,0.0,0.0,0.0,0,0,0]
[122.0,"Kaylee Bergstrom","11-372758",null,"Midland University V ","",0.0,0.0,0.0,0.0,0.0,0.0,0.0,0,0,0]
[123.0,"Kelcey Aczon-Kawamura","19-78537",null,"William Penn University JV1 ","",0.0,0.0,0.0,0.0,0.0,0.0,0.0,0,0,0]
[124.0,"Kiara(Riley) Howard","19-55217",null,"Morningside University JV1 ","",0.0,0.0,0.0,0.0,0.0,0.0,0.0,0,0,0]
[125.0,"Kiera Jors","7914-2777",null,"Grand View University V ","",0.0,0.0,0.0,0.0,0.0,0.0,0.0,0,0,0]
[126.0,"Liberty Nordstrom","11-250940",null,"Morningside University JV1 ","",0.0,0.0,0.0,0.0,0.0,0.0,0.0,0,0,0]
[127.0,"Lucille Mitchell","11-247563",null,"William Penn University JV1 ","",0.0,0.0,0.0,0.0,0.0,0.0,0.0,0,0,0]
[128.0,"Lydia Phillips","19-80875",null,"Ottawa University (KS) JV1 ","",0.0,0.0,0.0,0.0,0.0,0.0,0.0,0,0,0]
[129.0,"Majayla Boyd","5900-26804",null,"Baker University V ","",0.0,0.0,0.0,0.0,0.0,0.0,0.0,0,0,0]
[130.0,"Olivia Pilcher","11-261138",null,"William Penn University JV1 ","",0.0,0.0,0.0,0.0,0.0,0.0,0.0,0,0,0]
[131.0,"Payton Vogel","11-706020",null,"William Penn University JV1 ","",0.0,0.0,0.0,0.0,0.0,0.0,0.0,0,0,0]
[132.0,"Samantha Sonier","11-81546",null,"Morningside University JV1 ","",0.0,0.0,0.0,0.0,0.0,0.0,0.0,0,0,0]
[133.0,"Saphyre McCombs","18-11595",null,"William Penn University JV1 ","",0.0,0.0,0.0,0.0,0.0,0.0,0.0,0,0,0]
[134.0,"Victoria Cruz Cervantes","16-133687",null,"Midland University V ","",0.0,0.0,0.0,0.0,0.0,0.0,0.0,0,0,0]
[135.0,"Victoria Leal","7914-17150",null,"Avila University V ","",0.0,0.0,0.0,0.0,0.0,0.0,0.0,0,0,0]
[136.0,"Zara Bitsos","11-574512",null,"Morningside University JV1 ","",0.0,0.0,0.0,0.0,0.0,0.0,0.0,0,0,0]
[137.0,null,"",null," V ","",0.0,0.0,0.0,0.0,0.0,0.0,0.0,0,0,0]
[138.0,null,"",null,"Avila University V","",{"$nulls":7},0,0,0]
[139.0,null,"",null,"Avila University V","",{"$nulls":7},0,0,0]
[140.0,null,"",null,"Avila University V","",{"$nulls":7},0,0,0]
[141.0,null,"",null,"Baker University V","",{"$nulls":7},0,0,0]
[142.0,null,"",null,"Baker University V","",{"$nulls":7},0,0,0]
[143.0,null,"",null,"Baker University V","",{"$nulls":7},0,0,0]
[144.0,null,"",null,"Barton Community College V","",{"$nulls":7},0,0,0]
[145.0,null,"",null,"Barton Community College V","",{"$nulls":7},0,0,0]
[146.0,null,"",null,"Barton Community College V","",{"$nulls":7},0,0,0]
[147.0,null,"",null," V ","",0.0,0.0,0.0,0.0,0.0,0.0,0.0,0,0,0]
[148.0,null,"",null," V ","",0.0,0.0,0.0,0.0,0.0,0.0,0.0,0,0,0]
[149.0,null,"",null," V ","",0.0,0.0,0.0,0.0,0.0,0.0,0.0,0,0,0]
[150.0,null,"",null," V ","",0.0,0.0,0.0,0.0,0.0,0.0,0.0,0,0,0]
[151.0,null,"",null," V ","",0.0,0.0,0.0,0.0,0.0,0.0,0.0,0,0,0]
[152.0,null,"",null,"Central Methodist University V","",{"$nulls":7},0,0,0]
[153.0,null,"",null,"Central Methodist University V","",{"$nulls":7},0,0,0]
[154.0,null,"",null,"Central Methodist University V","",{"$nulls":7},0,0,0]
[155.0,null,"",null," V ","",0.0,0.0,0.0,0.0,0.0,0.0,0.0,0,0,0]
[156.0,null,"",null," V ","",0.0,0.0,0.0,0.0,0.0,0.0,0.0,0,0,0]
[157.0,null,"",null,"Clarke University V","",{"$nulls":7},0,0,0]
[158.0,null,"",null,"Clarke University V","",{"$nulls":7},0,0,0]
[159.0,null,"",null,"Clarke University V","",{"$nulls":7},0,0,0]
[160.0,null,"",null,"Columbia College V","",{"$nulls":7},0,0,0]
[161.0,null,"",null,"Columbia College V","",{"$nulls":7},0,0,0]
[162.0,null,"",null,"Columbia College V","",{"$nulls":7},0,0,0]
[163.0,null,"",null," V ","",0.0,0.0,0.0,0.0,0.0,0.0,0.0,0,0,0]
[164.0,null,"",null," V ","",0.0,0.0,0.0,0.0,0.0,0.0,0.0,0,0,0]
[165.0,null,"",null," V ","",0.0,0.0,0.0,0.0,0.0,0.0,0.0,0,0,0]
[166.0,null,"",null,"Culver-Stockton College V","",{"$nulls":7},0,0,0]
[167.0,null,"",null,"Culver-Stockton College V","",{"$nulls":7},0,0,0]
[168.0,null,"",null,"Culver-Stockton College V","",{"$nulls":7},0,0,0]
[169.0,null,"",null," V ","",0.0,0.0,0.0,0.0,0.0,0.0,0.0,0,0,0]
[170.0,null,"",null,"Grand View University V","",{"$nulls":7},0,0,0]
[171.0,null,"",null,"Grand View University V","",{"$nulls":7},0,0,0]
[172.0,null,"",null,"Grand View University V","",{"$nulls":7},0,0,0]
[173.0,null,"",null," V ","",0.0,0.0,0.0,0.0,0.0,0.0,0.0,0,0,0]
[174.0,null,"",null," V ","",0.0,0.0,0.0,0.0,0.0,0.0,0.0,0,0,0]
[175.0,null,"",null,"Hastings College V","",{"$nulls":7},0,0,0]
[176.0,null,"",null,"Hastings College V","",{"$nulls":7},0,0,0]
[177.0,null,"",null,"Hastings College V","",{"$nulls":7},0,0,0]
[178.0,null,"",null,"Kansas ,University Of V","",{"$nulls":7},0,0,0]
[179.0,null,"",null,"Kansas ,University Of V","",{"$nulls":7},0,0,0]
[180.0,null,"",null,"Kansas ,University Of V","",{"$nulls":7},0,0,0]
[181.0,null,"",null," V ","",0.0,0.0,0.0,0.0,0.0,0.0,0.0,0,0,0]
[182.0,null,"",null," V ","",0.0,0.0,0.0,0.0,0.0,0.0,0.0,0,0,0]
[183.0,null,"",null,"Kansas State University V","",{"$nulls":7},0,0,0]
[184.0,null,"",null,"Kansas State University V","",{"$nulls":7},0,0,0]
[185.0,null,"",null,"Kansas State University V","",{"$nulls":7},0,0,0]
[186.0,null,"",null," V ","",0.0,0.0,0.0,0.0,0.0,0.0,0.0,0,0,0]
[187.0,null,"",null," V ","",0.0,0.0,0.0,0.0,0.0,0.0,0.0,0,0,0]
[188.0,null,"",null,"Kansas Wesleyan University V","",{"$nulls":7},0,0,0]
[189.0,null,"",null,"Kansas Wesleyan University V","",{"$nulls":7},0,0,0]
[190.0,null,"",null,"Kansas Wesleyan University V","",{"$nulls":7},0,0,0]
[191.0,null,"",null,"Midland University V","",{"$nulls":7},0,0,0]
[192.0,null,"",null,"Midland University V","",{"$nulls":7},0,0,0]
[193.0,null,"",null,"Midland University V","",{"$nulls":7},0,0,0]
[194.0,null,"",null," V ","",0.0,0.0,0.0,0.0,0.0,0.0,0.0,0,0,0]
[195.0,null,"",null," V ","",0.0,0.0,0.0,0.0,0.0,0.0,0.0,0,0,0]
[196.0,null,"",null,"Morningside University V","",{"$nulls":7},0,0,0]
[197.0,null,"",null,"Morningside University V","",{"$nulls":7},0,0,0]
[198.0,null,"",null,"Morningside University V","",{"$nulls":7},0,0,0]
[199.0,null,"",null," V ","",0.0,0.0,0.0,0.0,0.0,0.0,0.0,0,0,0]
[200.0,null,"",null," V ","",0.0,0.0,0.0,0.0,0.0,0.0,0.0,0,0,0]
[201.0,null,"",null,"Ottawa University (KS) V","",{"$nulls":7},0,0,0]
[202.0,null,"",null,"Ottawa University (KS) V","",{"$nulls":7},0,0,0]
[203.0,null,"",null,"Ottawa University (KS) V","",{"$nulls":7},0,0,0]
[204.0,null,"",null,"Peru State College V","",{"$nulls":7},0,0,0]
[205.0,null,"",null,"Peru State College V","",{"$nulls":7},0,0,0]
[206.0,null,"",null,"Peru State College V","",{"$nulls":7},0,0,0]
[207.0,null,"",null," V ","",0.0,0.0,0.0,0.0,0.0,0.0,0.0,0,0,0]
[208.0,null,"",null," V ","",0.0,0.0,0.0,0.0,0.0,0.0,0.0,0,0,0]
[209.0,null,"",null,"University Of Saint Mary V","",{"$nulls":7},0,0,0]
[210.0,null,"",null,"University Of Saint Mary V","",{"$nulls":7},0,0,0]
[211.0,null,"",null,"University Of Saint Mary V","",{"$nulls":7},0,0,0]
[212.0,null,"",null," V ","",0.0,0.0,0.0,0.0,0.0,0.0,0.0,0,0,0]
[213.0,null,"",null,"William Penn University V","",{"$nulls":7},0,0,0]
[214.0,null,"",null,"William Penn University V","",{"$nulls":7},0,0,0]
[215.0,null,"",null,"William Penn University V","",{"$nulls":7},0,0,0]
[216.0,null,"",null," JV1 ","",0.0,0.0,0.0,0.0,0.0,0.0,0.0,0,0,0]
[217.0,null,"",null," JV1 ","",0.0,0.0,0.0,0.0,0.0,0.0,0.0,0,0,0]
[218.0,null,"",null," JV1 ","",0.0,0.0,0.0,0.0,0.0,0.0,0.0,0,0,0]
[219.0,null,"",null," JV1 ","",0.0,0.0,0.0,0.0,0.0,0.0,0.0,0,0,0]
[220.0,null,"",null," JV1 ","",0.0,0.0,0.0,0.0,0.0,0.0,0.0,0,0,0]
[221.0,null,"",null," JV1 ","",0.0,0.0,0.0,0.0,0.0,0.0,0.0,0,0,0]
[222.0,null,"",null," JV1 ","",0.0,0.0,0.0,0.0,0.0,0.0,0.0,0,0,0]
[223.0,null,"",null," JV1 ","",0.0,0.0,0.0,0.0,0.0,0.0,0.0,0,0,0]
[224.0,null,"",null,"Kansas State University JV1","",{"$nulls":7},0,0,0]
[225.0,null,"",null,"Kansas State University JV1","",{"$nulls":7},0,0,0]
[226.0,null,"",null,"Kansas State University JV1","",{"$nulls":7},0,0,0]
[227.0,null,"",null," JV1 ","",0.0,0.0,0.0,0.0,0.0,0.0,0.0,0,0,0]
[228.0,null,"",null," JV1 ","",0.0,0.0,0.0,0.0,0.0,0.0,0.0,0,0,0]
[229.0,null,"",null," JV1 ","",0.0,0.0,0.0,0.0,0.0,0.0,0.0,0,0,0]
[230.0,null,"",null,"Morningside University JV1","",{"$nulls":7},0,0,0]
[231.0,null,"",null,"Morningside University JV1","",{"$nulls":7},0,0,0]
[232.0,null,"",null,"Morningside University JV1","",{"$nulls":7},0,0,0]
[233.0,null,"",null," JV1 ","",0.0,0.0,0.0,0.0,0.0,0.0,0.0,0,0,0]
[234.0,null,"",null," JV1 ","",0.0,0.0,0.0,0.0,0.0,0.0,0.0,0,0,0]
[235.0,null,"",null," JV1 ","",0.0,0.0,0.0,0.0,0.0,0.0,0.0,0,0,0]
[236.0,null,"",null,"Ottawa University (KS) JV1","",{"$nulls":7},0,0,0]
[237.0,null,"",null,"Ottawa University (KS) JV1","",{"$nulls":7},0,0,0]
[238.0,null,"",null,"Ottawa University (KS) JV1","",{"$nulls":7},0,0,0]
[239.0,null,"",null," JV1 ","",0.0,0.0,0.0,0.0,0.0,0.0,0.0,0,0,0]
[240.0,null,"",null,"William Penn University JV1","",{"$nulls":7},0,0,0]
[241.0,null,"",null,"William Penn University JV1","",{"$nulls":7},0,0,0]
[242.0,null,"",null,"William Penn University JV1","",{"$nulls":7},0,0,0]
[]
[]
[{"$nulls":4},"Total Pins Bowled:",null,{"$f":"SUM(G13:G254)","v":14255},13726,14313,14037,14223,14108,13804,98466]
[{"$nulls":4},"Field Ave::",null,{"$f":"SUM(G257 / (COUNTIF(G13:G254,\">0\")))","v":161.9886364},155.9772727,162.6477273,159.5113636,161.625,160.3181818,156.8636364,895.1454545]