{"text_format":"2","workbook":"xlsx","n_sheets":8,"sheets":["Roster_Selection_Women","Individual_Scores_Women_Var","Individual_Scores_Women_JV","Baker_Scores_Women_Var","Baker_Scores_Women_JV","Qual_Team_Standings_Women_JV","Qual_Team_Standings_Women_Var","Indiv_Combined_Scores_Women"],"not_rendered":{"charts":0,"images":1,"macros":1,"external_links":0,"defined_names":0,"comments":0,"pivot_tables":0},"unopened":[],"bounds":{"document_bytes":16777216,"sheet_cells":100000,"run_cost":"one","rows_first":2000,"rows_last":500,"rows_between":2000,"halvings":0,"cell_chars":16384,"cell_head_chars":4096},"cells_cut":0,"cells_raw":0,"read":"whole","date_system":"1900"}

{"sheet":"Roster_Selection_Women","index":0,"n_rows":320,"n_cols":54,"rows_kept":320,"cut":false,"hidden":false,"merged":[[0,0,0,9]]}
["Tournament Details - Rosters"]
[]
[null,"Mid States Championships (Tier I Women)"]
[null,"Tier 1","USBC",{"$nulls":12},"1202","6","20","5","2.6","2.6",null,null,"7",{"$nulls":29},"IBCYouth"]
[null,"<<Dates>>","<<Event#>>","10/15/2022 - 10/16/2022",{"$nulls":9},"V"]
[null,"<<Location>>",null,"Wichita, KS",{"$nulls":9},"JV1"]
[{"$nulls":13},"JV2"]
[null,"Women's Division",null,"Cert No:","05700"]
[]
[null,"School/Team","State","Bowler ID","Bowler","Division"]
[null,"Avila University",null,""," "," ",null,4597.0,null,false,{"$nulls":17},{"$f":"IFERROR(INDEX(B11:B18, SMALL(IF(\"V\"=F11:F18, ROW(F11:F18)-MIN(ROW(F11:F18))+1, \"\"), ROW() -10 )), \"\")","v":"Avila University"},{"$f":"IFERROR(INDEX(C11:C18, SMALL(IF(\"V\"=F11:F18, ROW(F11:F18)-MIN(ROW(F11:F18))+1, \"\"), ROW() -10 )), \"\")","v":""},{"$f":"IFERROR(INDEX(D11:D18, SMALL(IF(\"V\"=F11:F18, ROW(F11:F18)-MIN(ROW(F11:F18))+1, \"\"), ROW() -10 )), \"\")","v":"16-4955"},{"$f":"IFERROR(INDEX(E11:E18, SMALL(IF(\"V\"=F11:F18, ROW(F11:F18)-MIN(ROW(F11:F18))+1, \"\"), ROW() -10 )), \"\")","v":"Bailey Stephan"},{"$f":"IFERROR(INDEX(B11:B18, SMALL(IF(ISNUMBER(SEARCH(\"JV1\",F11:F18)), ROW(F11:F18)-MIN(ROW(F11:F18))+1, \"\"), ROW() -10 )), \"\")","v":""},{"$f":"IFERROR(INDEX(C11:C18, SMALL(IF(ISNUMBER(SEARCH(\"JV1\",F11:F18)), ROW(F11:F18)-MIN(ROW(F11:F18))+1, \"\"), ROW() -10 )), \"\")","v":""},{"$f":"IFERROR(INDEX(D11:D18, SMALL(IF(ISNUMBER(SEARCH(\"JV1\",F11:F18)), ROW(F11:F18)-MIN(ROW(F11:F18))+1, \"\"), ROW() -10 )), \"\")","v":""},{"$f":"IFERROR(INDEX(E11:E18, SMALL(IF(ISNUMBER(SEARCH(\"JV1\",F11:F18)), ROW(F11:F18)-MIN(ROW(F11:F18))+1, \"\"), ROW() -10 )), \"\")","v":""},{"$f":"IFERROR(INDEX(B11:B18, SMALL(IF(ISNUMBER(SEARCH(\"JV2\",F11:F18)), ROW(F11:F18)-MIN(ROW(F11:F18))+1, \"\"), ROW() -10 )), \"\")","v":""},{"$f":"IFERROR(INDEX(C11:C18, SMALL(IF(ISNUMBER(SEARCH(\"JV2\",F11:F18)), ROW(F11:F18)-MIN(ROW(F11:F18))+1, \"\"), ROW() -10 )), \"\")","v":""},{"$f":"IFERROR(INDEX(D11:D18, SMALL(IF(ISNUMBER(SEARCH(\"JV2\",F11:F18)), ROW(F11:F18)-MIN(ROW(F11:F18))+1, \"\"), ROW() -10 )), \"\")","v":""},{"$f":"IFERROR(INDEX(E11:E18, SMALL(IF(ISNUMBER(SEARCH(\"JV2\",F11:F18)), ROW(F11:F18)-MIN(ROW(F11:F18))+1, \"\"), ROW() -10 )), \"\")","v":""}]
[null,"Avila University",null,"16-4955","Bailey Stephan","V",null,4597.0,null,false,{"$nulls":17},{"$f":"IFERROR(INDEX(B11:B18, SMALL(IF(\"V\"=F11:F18, ROW(F11:F18)-MIN(ROW(F11:F18))+1, \"\"), ROW() -10 )), \"\")","v":"Avila University"},{"$f":"IFERROR(INDEX(C11:C18, SMALL(IF(\"V\"=F11:F18, ROW(F11:F18)-MIN(ROW(F11:F18))+1, \"\"), ROW() -10 )), \"\")","v":""},{"$f":"IFERROR(INDEX(D11:D18, SMALL(IF(\"V\"=F11:F18, ROW(F11:F18)-MIN(ROW(F11:F18))+1, \"\"), ROW() -10 )), \"\")","v":"11-103558"},{"$f":"IFERROR(INDEX(E11:E18, SMALL(IF(\"V\"=F11:F18, ROW(F11:F18)-MIN(ROW(F11:F18))+1, \"\"), ROW() -10 )), \"\")","v":"Claire Busch"},{"$f":"IFERROR(INDEX(B11:B18, SMALL(IF(ISNUMBER(SEARCH(\"JV1\",F11:F18)), ROW(F11:F18)-MIN(ROW(F11:F18))+1, \"\"), ROW() -10 )), \"\")","v":""},{"$f":"IFERROR(INDEX(C11:C18, SMALL(IF(ISNUMBER(SEARCH(\"JV1\",F11:F18)), ROW(F11:F18)-MIN(ROW(F11:F18))+1, \"\"), ROW() -10 )), \"\")","v":""},{"$f":"IFERROR(INDEX(D11:D18, SMALL(IF(ISNUMBER(SEARCH(\"JV1\",F11:F18)), ROW(F11:F18)-MIN(ROW(F11:F18))+1, \"\"), ROW() -10 )), \"\")","v":""},{"$f":"IFERROR(INDEX(E11:E18, SMALL(IF(ISNUMBER(SEARCH(\"JV1\",F11:F18)), ROW(F11:F18)-MIN(ROW(F11:F18))+1, \"\"), ROW() -10 )), \"\")","v":""},{"$f":"IFERROR(INDEX(B11:B18, SMALL(IF(ISNUMBER(SEARCH(\"JV2\",F11:F18)), ROW(F11:F18)-MIN(ROW(F11:F18))+1, \"\"), ROW() -10 )), \"\")","v":""},{"$f":"IFERROR(INDEX(C11:C18, SMALL(IF(ISNUMBER(SEARCH(\"JV2\",F11:F18)), ROW(F11:F18)-MIN(ROW(F11:F18))+1, \"\"), ROW() -10 )), \"\")","v":""},{"$f":"IFERROR(INDEX(D11:D18, SMALL(IF(ISNUMBER(SEARCH(\"JV2\",F11:F18)), ROW(F11:F18)-MIN(ROW(F11:F18))+1, \"\"), ROW() -10 )), \"\")","v":""},{"$f":"IFERROR(INDEX(E11:E18, SMALL(IF(ISNUMBER(SEARCH(\"JV2\",F11:F18)), ROW(F11:F18)-MIN(ROW(F11:F18))+1, \"\"), ROW() -10 )), \"\")","v":""}]
[null,"Avila University",null,"11-103558","Claire Busch","V",null,4597.0,null,false,{"$nulls":17},{"$f":"IFERROR(INDEX(B11:B18, SMALL(IF(\"V\"=F11:F18, ROW(F11:F18)-MIN(ROW(F11:F18))+1, \"\"), ROW() -10 )), \"\")","v":"Avila University"},{"$f":"IFERROR(INDEX(C11:C18, SMALL(IF(\"V\"=F11:F18, ROW(F11:F18)-MIN(ROW(F11:F18))+1, \"\"), ROW() -10 )), \"\")","v":""},{"$f":"IFERROR(INDEX(D11:D18, SMALL(IF(\"V\"=F11:F18, ROW(F11:F18)-MIN(ROW(F11:F18))+1, \"\"), ROW() -10 )), \"\")","v":"11-432748"},{"$f":"IFERROR(INDEX(E11:E18, SMALL(IF(\"V\"=F11:F18, ROW(F11:F18)-MIN(ROW(F11:F18))+1, \"\"), ROW() -10 )), \"\")","v":"Devyn Coleman"},{"$f":"IFERROR(INDEX(B11:B18, SMALL(IF(ISNUMBER(SEARCH(\"JV1\",F11:F18)), ROW(F11:F18)-MIN(ROW(F11:F18))+1, \"\"), ROW() -10 )), \"\")","v":""},{"$f":"IFERROR(INDEX(C11:C18, SMALL(IF(ISNUMBER(SEARCH(\"JV1\",F11:F18)), ROW(F11:F18)-MIN(ROW(F11:F18))+1, \"\"), ROW() -10 )), \"\")","v":""},{"$f":"IFERROR(INDEX(D11:D18, SMALL(IF(ISNUMBER(SEARCH(\"JV1\",F11:F18)), ROW(F11:F18)-MIN(ROW(F11:F18))+1, \"\"), ROW() -10 )), \"\")","v":""},{"$f":"IFERROR(INDEX(E11:E18, SMALL(IF(ISNUMBER(SEARCH(\"JV1\",F11:F18)), ROW(F11:F18)-MIN(ROW(F11:F18))+1, \"\"), ROW() -10 )), \"\")","v":""},{"$f":"IFERROR(INDEX(B11:B18, SMALL(IF(ISNUMBER(SEARCH(\"JV2\",F11:F18)), ROW(F11:F18)-MIN(ROW(F11:F18))+1, \"\"), ROW() -10 )), \"\")","v":""},{"$f":"IFERROR(INDEX(C11:C18, SMALL(IF(ISNUMBER(SEARCH(\"JV2\",F11:F18)), ROW(F11:F18)-MIN(ROW(F11:F18))+1, \"\"), ROW() -10 )), \"\")","v":""},{"$f":"IFERROR(INDEX(D11:D18, SMALL(IF(ISNUMBER(SEARCH(\"JV2\",F11:F18)), ROW(F11:F18)-MIN(ROW(F11:F18))+1, \"\"), ROW() -10 )), \"\")","v":""},{"$f":"IFERROR(INDEX(E11:E18, SMALL(IF(ISNUMBER(SEARCH(\"JV2\",F11:F18)), ROW(F11:F18)-MIN(ROW(F11:F18))+1, \"\"), ROW() -10 )), \"\")","v":""}]
[null,"Avila University",null,"11-432748","Devyn Coleman","V",null,4597.0,null,false,{"$nulls":17},{"$f":"IFERROR(INDEX(B11:B18, SMALL(IF(\"V\"=F11:F18, ROW(F11:F18)-MIN(ROW(F11:F18))+1, \"\"), ROW() -10 )), \"\")","v":"Avila University"},{"$f":"IFERROR(INDEX(C11:C18, SMALL(IF(\"V\"=F11:F18, ROW(F11:F18)-MIN(ROW(F11:F18))+1, \"\"), ROW() -10 )), \"\")","v":""},{"$f":"IFERROR(INDEX(D11:D18, SMALL(IF(\"V\"=F11:F18, ROW(F11:F18)-MIN(ROW(F11:F18))+1, \"\"), ROW() -10 )), \"\")","v":"11-587498"},{"$f":"IFERROR(INDEX(E11:E18, SMALL(IF(\"V\"=F11:F18, ROW(F11:F18)-MIN(ROW(F11:F18))+1, \"\"), ROW() -10 )), \"\")","v":"Joanne Alibayan"},{"$f":"IFERROR(INDEX(B11:B18, SMALL(IF(ISNUMBER(SEARCH(\"JV1\",F11:F18)), ROW(F11:F18)-MIN(ROW(F11:F18))+1, \"\"), ROW() -10 )), \"\")","v":""},{"$f":"IFERROR(INDEX(C11:C18, SMALL(IF(ISNUMBER(SEARCH(\"JV1\",F11:F18)), ROW(F11:F18)-MIN(ROW(F11:F18))+1, \"\"), ROW() -10 )), \"\")","v":""},{"$f":"IFERROR(INDEX(D11:D18, SMALL(IF(ISNUMBER(SEARCH(\"JV1\",F11:F18)), ROW(F11:F18)-MIN(ROW(F11:F18))+1, \"\"), ROW() -10 )), \"\")","v":""},{"$f":"IFERROR(INDEX(E11:E18, SMALL(IF(ISNUMBER(SEARCH(\"JV1\",F11:F18)), ROW(F11:F18)-MIN(ROW(F11:F18))+1, \"\"), ROW() -10 )), \"\")","v":""},{"$f":"IFERROR(INDEX(B11:B18, SMALL(IF(ISNUMBER(SEARCH(\"JV2\",F11:F18)), ROW(F11:F18)-MIN(ROW(F11:F18))+1, \"\"), ROW() -10 )), \"\")","v":""},{"$f":"IFERROR(INDEX(C11:C18, SMALL(IF(ISNUMBER(SEARCH(\"JV2\",F11:F18)), ROW(F11:F18)-MIN(ROW(F11:F18))+1, \"\"), ROW() -10 )), \"\")","v":""},{"$f":"IFERROR(INDEX(D11:D18, SMALL(IF(ISNUMBER(SEARCH(\"JV2\",F11:F18)), ROW(F11:F18)-MIN(ROW(F11:F18))+1, \"\"), ROW() -10 )), \"\")","v":""},{"$f":"IFERROR(INDEX(E11:E18, SMALL(IF(ISNUMBER(SEARCH(\"JV2\",F11:F18)), ROW(F11:F18)-MIN(ROW(F11:F18))+1, \"\"), ROW() -10 )), \"\")","v":""}]
[null,"Avila University",null,"21-4528","Grace Hopkins",null,null,4597.0,null,false,{"$nulls":17},{"$f":"IFERROR(INDEX(B11:B18, SMALL(IF(\"V\"=F11:F18, ROW(F11:F18)-MIN(ROW(F11:F18))+1, \"\"), ROW() -10 )), \"\")","v":"Avila University"},{"$f":"IFERROR(INDEX(C11:C18, SMALL(IF(\"V\"=F11:F18, ROW(F11:F18)-MIN(ROW(F11:F18))+1, \"\"), ROW() -10 )), \"\")","v":""},{"$f":"IFERROR(INDEX(D11:D18, SMALL(IF(\"V\"=F11:F18, ROW(F11:F18)-MIN(ROW(F11:F18))+1, \"\"), ROW() -10 )), \"\")","v":"17-84443"},{"$f":"IFERROR(INDEX(E11:E18, SMALL(IF(\"V\"=F11:F18, ROW(F11:F18)-MIN(ROW(F11:F18))+1, \"\"), ROW() -10 )), \"\")","v":"Kirsten Zirjacks"},{"$f":"IFERROR(INDEX(B11:B18, SMALL(IF(ISNUMBER(SEARCH(\"JV1\",F11:F18)), ROW(F11:F18)-MIN(ROW(F11:F18))+1, \"\"), ROW() -10 )), \"\")","v":""},{"$f":"IFERROR(INDEX(C11:C18, SMALL(IF(ISNUMBER(SEARCH(\"JV1\",F11:F18)), ROW(F11:F18)-MIN(ROW(F11:F18))+1, \"\"), ROW() -10 )), \"\")","v":""},{"$f":"IFERROR(INDEX(D11:D18, SMALL(IF(ISNUMBER(SEARCH(\"JV1\",F11:F18)), ROW(F11:F18)-MIN(ROW(F11:F18))+1, \"\"), ROW() -10 )), \"\")","v":""},{"$f":"IFERROR(INDEX(E11:E18, SMALL(IF(ISNUMBER(SEARCH(\"JV1\",F11:F18)), ROW(F11:F18)-MIN(ROW(F11:F18))+1, \"\"), ROW() -10 )), \"\")","v":""},{"$f":"IFERROR(INDEX(B11:B18, SMALL(IF(ISNUMBER(SEARCH(\"JV2\",F11:F18)), ROW(F11:F18)-MIN(ROW(F11:F18))+1, \"\"), ROW() -10 )), \"\")","v":""},{"$f":"IFERROR(INDEX(C11:C18, SMALL(IF(ISNUMBER(SEARCH(\"JV2\",F11:F18)), ROW(F11:F18)-MIN(ROW(F11:F18))+1, \"\"), ROW() -10 )), \"\")","v":""},{"$f":"IFERROR(INDEX(D11:D18, SMALL(IF(ISNUMBER(SEARCH(\"JV2\",F11:F18)), ROW(F11:F18)-MIN(ROW(F11:F18))+1, \"\"), ROW() -10 )), \"\")","v":""},{"$f":"IFERROR(INDEX(E11:E18, SMALL(IF(ISNUMBER(SEARCH(\"JV2\",F11:F18)), ROW(F11:F18)-MIN(ROW(F11:F18))+1, \"\"), ROW() -10 )), \"\")","v":""}]
[null,"Avila University",null,"11-587498","Joanne Alibayan","V",null,4597.0,null,false,{"$nulls":17},{"$f":"IFERROR(INDEX(B11:B18, SMALL(IF(\"V\"=F11:F18, ROW(F11:F18)-MIN(ROW(F11:F18))+1, \"\"), ROW() -10 )), \"\")","v":"Avila University"},{"$f":"IFERROR(INDEX(C11:C18, SMALL(IF(\"V\"=F11:F18, ROW(F11:F18)-MIN(ROW(F11:F18))+1, \"\"), ROW() -10 )), \"\")","v":""},{"$f":"IFERROR(INDEX(D11:D18, SMALL(IF(\"V\"=F11:F18, ROW(F11:F18)-MIN(ROW(F11:F18))+1, \"\"), ROW() -10 )), \"\")","v":"22-1548"},{"$f":"IFERROR(INDEX(E11:E18, SMALL(IF(\"V\"=F11:F18, ROW(F11:F18)-MIN(ROW(F11:F18))+1, \"\"), ROW() -10 )), \"\")","v":"Victoria Bestor"},{"$f":"IFERROR(INDEX(B11:B18, SMALL(IF(ISNUMBER(SEARCH(\"JV1\",F11:F18)), ROW(F11:F18)-MIN(ROW(F11:F18))+1, \"\"), ROW() -10 )), \"\")","v":""},{"$f":"IFERROR(INDEX(C11:C18, SMALL(IF(ISNUMBER(SEARCH(\"JV1\",F11:F18)), ROW(F11:F18)-MIN(ROW(F11:F18))+1, \"\"), ROW() -10 )), \"\")","v":""},{"$f":"IFERROR(INDEX(D11:D18, SMALL(IF(ISNUMBER(SEARCH(\"JV1\",F11:F18)), ROW(F11:F18)-MIN(ROW(F11:F18))+1, \"\"), ROW() -10 )), \"\")","v":""},{"$f":"IFERROR(INDEX(E11:E18, SMALL(IF(ISNUMBER(SEARCH(\"JV1\",F11:F18)), ROW(F11:F18)-MIN(ROW(F11:F18))+1, \"\"), ROW() -10 )), \"\")","v":""},{"$f":"IFERROR(INDEX(B11:B18, SMALL(IF(ISNUMBER(SEARCH(\"JV2\",F11:F18)), ROW(F11:F18)-MIN(ROW(F11:F18))+1, \"\"), ROW() -10 )), \"\")","v":""},{"$f":"IFERROR(INDEX(C11:C18, SMALL(IF(ISNUMBER(SEARCH(\"JV2\",F11:F18)), ROW(F11:F18)-MIN(ROW(F11:F18))+1, \"\"), ROW() -10 )), \"\")","v":""},{"$f":"IFERROR(INDEX(D11:D18, SMALL(IF(ISNUMBER(SEARCH(\"JV2\",F11:F18)), ROW(F11:F18)-MIN(ROW(F11:F18))+1, \"\"), ROW() -10 )), \"\")","v":""},{"$f":"IFERROR(INDEX(E11:E18, SMALL(IF(ISNUMBER(SEARCH(\"JV2\",F11:F18)), ROW(F11:F18)-MIN(ROW(F11:F18))+1, \"\"), ROW() -10 )), \"\")","v":""}]
[null,"Avila University",null,"17-84443","Kirsten Zirjacks","V",null,4597.0,null,false,{"$nulls":17},{"$f":"IFERROR(INDEX(B11:B18, SMALL(IF(\"V\"=F11:F18, ROW(F11:F18)-MIN(ROW(F11:F18))+1, \"\"), ROW() -10 )), \"\")","v":""},{"$f":"IFERROR(INDEX(C11:C18, SMALL(IF(\"V\"=F11:F18, ROW(F11:F18)-MIN(ROW(F11:F18))+1, \"\"), ROW() -10 )), \"\")","v":""},{"$f":"IFERROR(INDEX(D11:D18, SMALL(IF(\"V\"=F11:F18, ROW(F11:F18)-MIN(ROW(F11:F18))+1, \"\"), ROW() -10 )), \"\")","v":""},{"$f":"IFERROR(INDEX(E11:E18, SMALL(IF(\"V\"=F11:F18, ROW(F11:F18)-MIN(ROW(F11:F18))+1, \"\"), ROW() -10 )), \"\")","v":""},{"$f":"IFERROR(INDEX(B11:B18, SMALL(IF(ISNUMBER(SEARCH(\"JV1\",F11:F18)), ROW(F11:F18)-MIN(ROW(F11:F18))+1, \"\"), ROW() -10 )), \"\")","v":""},{"$f":"IFERROR(INDEX(C11:C18, SMALL(IF(ISNUMBER(SEARCH(\"JV1\",F11:F18)), ROW(F11:F18)-MIN(ROW(F11:F18))+1, \"\"), ROW() -10 )), \"\")","v":""},{"$f":"IFERROR(INDEX(D11:D18, SMALL(IF(ISNUMBER(SEARCH(\"JV1\",F11:F18)), ROW(F11:F18)-MIN(ROW(F11:F18))+1, \"\"), ROW() -10 )), \"\")","v":""},{"$f":"IFERROR(INDEX(E11:E18, SMALL(IF(ISNUMBER(SEARCH(\"JV1\",F11:F18)), ROW(F11:F18)-MIN(ROW(F11:F18))+1, \"\"), ROW() -10 )), \"\")","v":""},{"$f":"IFERROR(INDEX(B11:B18, SMALL(IF(ISNUMBER(SEARCH(\"JV2\",F11:F18)), ROW(F11:F18)-MIN(ROW(F11:F18))+1, \"\"), ROW() -10 )), \"\")","v":""},{"$f":"IFERROR(INDEX(C11:C18, SMALL(IF(ISNUMBER(SEARCH(\"JV2\",F11:F18)), ROW(F11:F18)-MIN(ROW(F11:F18))+1, \"\"), ROW() -10 )), \"\")","v":""},{"$f":"IFERROR(INDEX(D11:D18, SMALL(IF(ISNUMBER(SEARCH(\"JV2\",F11:F18)), ROW(F11:F18)-MIN(ROW(F11:F18))+1, \"\"), ROW() -10 )), \"\")","v":""},{"$f":"IFERROR(INDEX(E11:E18, SMALL(IF(ISNUMBER(SEARCH(\"JV2\",F11:F18)), ROW(F11:F18)-MIN(ROW(F11:F18))+1, \"\"), ROW() -10 )), \"\")","v":""}]
[null,"Avila University",null,"22-1548","Victoria Bestor","V",null,4597.0,null,false,{"$nulls":17},{"$f":"IFERROR(INDEX(B11:B18, SMALL(IF(\"V\"=F11:F18, ROW(F11:F18)-MIN(ROW(F11:F18))+1, \"\"), ROW() -10 )), \"\")","v":""},{"$f":"IFERROR(INDEX(C11:C18, SMALL(IF(\"V\"=F11:F18, ROW(F11:F18)-MIN(ROW(F11:F18))+1, \"\"), ROW() -10 )), \"\")","v":""},{"$f":"IFERROR(INDEX(D11:D18, SMALL(IF(\"V\"=F11:F18, ROW(F11:F18)-MIN(ROW(F11:F18))+1, \"\"), ROW() -10 )), \"\")","v":""},{"$f":"IFERROR(INDEX(E11:E18, SMALL(IF(\"V\"=F11:F18, ROW(F11:F18)-MIN(ROW(F11:F18))+1, \"\"), ROW() -10 )), \"\")","v":""},{"$f":"IFERROR(INDEX(B11:B18, SMALL(IF(ISNUMBER(SEARCH(\"JV1\",F11:F18)), ROW(F11:F18)-MIN(ROW(F11:F18))+1, \"\"), ROW() -10 )), \"\")","v":""},{"$f":"IFERROR(INDEX(C11:C18, SMALL(IF(ISNUMBER(SEARCH(\"JV1\",F11:F18)), ROW(F11:F18)-MIN(ROW(F11:F18))+1, \"\"), ROW() -10 )), \"\")","v":""},{"$f":"IFERROR(INDEX(D11:D18, SMALL(IF(ISNUMBER(SEARCH(\"JV1\",F11:F18)), ROW(F11:F18)-MIN(ROW(F11:F18))+1, \"\"), ROW() -10 )), \"\")","v":""},{"$f":"IFERROR(INDEX(E11:E18, SMALL(IF(ISNUMBER(SEARCH(\"JV1\",F11:F18)), ROW(F11:F18)-MIN(ROW(F11:F18))+1, \"\"), ROW() -10 )), \"\")","v":""},{"$f":"IFERROR(INDEX(B11:B18, SMALL(IF(ISNUMBER(SEARCH(\"JV2\",F11:F18)), ROW(F11:F18)-MIN(ROW(F11:F18))+1, \"\"), ROW() -10 )), \"\")","v":""},{"$f":"IFERROR(INDEX(C11:C18, SMALL(IF(ISNUMBER(SEARCH(\"JV2\",F11:F18)), ROW(F11:F18)-MIN(ROW(F11:F18))+1, \"\"), ROW() -10 )), \"\")","v":""},{"$f":"IFERROR(INDEX(D11:D18, SMALL(IF(ISNUMBER(SEARCH(\"JV2\",F11:F18)), ROW(F11:F18)-MIN(ROW(F11:F18))+1, \"\"), ROW() -10 )), \"\")","v":""},{"$f":"IFERROR(INDEX(E11:E18, SMALL(IF(ISNUMBER(SEARCH(\"JV2\",F11:F18)), ROW(F11:F18)-MIN(ROW(F11:F18))+1, \"\"), ROW() -10 )), \"\")","v":""}]
[null,"Baker University",null,"22-1950","Aleah Netherland"," ",null,3432.0,null,false,{"$nulls":17},{"$f":"IFERROR(INDEX(B19:B33, SMALL(IF(\"V\"=F19:F33, ROW(F19:F33)-MIN(ROW(F19:F33))+1, \"\"), ROW() -18 )), \"\")","v":"Baker University"},{"$f":"IFERROR(INDEX(C19:C33, SMALL(IF(\"V\"=F19:F33, ROW(F19:F33)-MIN(ROW(F19:F33))+1, \"\"), ROW() -18 )), \"\")","v":""},{"$f":"IFERROR(INDEX(D19:D33, SMALL(IF(\"V\"=F19:F33, ROW(F19:F33)-MIN(ROW(F19:F33))+1, \"\"), ROW() -18 )), \"\")","v":"11-193244"},{"$f":"IFERROR(INDEX(E19:E33, SMALL(IF(\"V\"=F19:F33, ROW(F19:F33)-MIN(ROW(F19:F33))+1, \"\"), ROW() -18 )), \"\")","v":"Audrey Valdez"},{"$f":"IFERROR(INDEX(B19:B33, SMALL(IF(ISNUMBER(SEARCH(\"JV1\",F19:F33)), ROW(F19:F33)-MIN(ROW(F19:F33))+1, \"\"), ROW() -18 )), \"\")","v":""},{"$f":"IFERROR(INDEX(C19:C33, SMALL(IF(ISNUMBER(SEARCH(\"JV1\",F19:F33)), ROW(F19:F33)-MIN(ROW(F19:F33))+1, \"\"), ROW() -18 )), \"\")","v":""},{"$f":"IFERROR(INDEX(D19:D33, SMALL(IF(ISNUMBER(SEARCH(\"JV1\",F19:F33)), ROW(F19:F33)-MIN(ROW(F19:F33))+1, \"\"), ROW() -18 )), \"\")","v":""},{"$f":"IFERROR(INDEX(E19:E33, SMALL(IF(ISNUMBER(SEARCH(\"JV1\",F19:F33)), ROW(F19:F33)-MIN(ROW(F19:F33))+1, \"\"), ROW() -18 )), \"\")","v":""},{"$f":"IFERROR(INDEX(B19:B33, SMALL(IF(ISNUMBER(SEARCH(\"JV2\",F19:F33)), ROW(F19:F33)-MIN(ROW(F19:F33))+1, \"\"), ROW() -18 )), \"\")","v":""},{"$f":"IFERROR(INDEX(C19:C33, SMALL(IF(ISNUMBER(SEARCH(\"JV2\",F19:F33)), ROW(F19:F33)-MIN(ROW(F19:F33))+1, \"\"), ROW() -18 )), \"\")","v":""},{"$f":"IFERROR(INDEX(D19:D33, SMALL(IF(ISNUMBER(SEARCH(\"JV2\",F19:F33)), ROW(F19:F33)-MIN(ROW(F19:F33))+1, \"\"), ROW() -18 )), \"\")","v":""},{"$f":"IFERROR(INDEX(E19:E33, SMALL(IF(ISNUMBER(SEARCH(\"JV2\",F19:F33)), ROW(F19:F33)-MIN(ROW(F19:F33))+1, \"\"), ROW() -18 )), \"\")","v":""}]
[null,"Baker University",null,"5900-18030","Ashley Wilson"," ",null,3432.0,null,false,{"$nulls":17},{"$f":"IFERROR(INDEX(B19:B33, SMALL(IF(\"V\"=F19:F33, ROW(F19:F33)-MIN(ROW(F19:F33))+1, \"\"), ROW() -18 )), \"\")","v":"Baker University"},{"$f":"IFERROR(INDEX(C19:C33, SMALL(IF(\"V\"=F19:F33, ROW(F19:F33)-MIN(ROW(F19:F33))+1, \"\"), ROW() -18 )), \"\")","v":""},{"$f":"IFERROR(INDEX(D19:D33, SMALL(IF(\"V\"=F19:F33, ROW(F19:F33)-MIN(ROW(F19:F33))+1, \"\"), ROW() -18 )), \"\")","v":"7914-53224"},{"$f":"IFERROR(INDEX(E19:E33, SMALL(IF(\"V\"=F19:F33, ROW(F19:F33)-MIN(ROW(F19:F33))+1, \"\"), ROW() -18 )), \"\")","v":"Emily Stamper"},{"$f":"IFERROR(INDEX(B19:B33, SMALL(IF(ISNUMBER(SEARCH(\"JV1\",F19:F33)), ROW(F19:F33)-MIN(ROW(F19:F33))+1, \"\"), ROW() -18 )), \"\")","v":""},{"$f":"IFERROR(INDEX(C19:C33, SMALL(IF(ISNUMBER(SEARCH(\"JV1\",F19:F33)), ROW(F19:F33)-MIN(ROW(F19:F33))+1, \"\"), ROW() -18 )), \"\")","v":""},{"$f":"IFERROR(INDEX(D19:D33, SMALL(IF(ISNUMBER(SEARCH(\"JV1\",F19:F33)), ROW(F19:F33)-MIN(ROW(F19:F33))+1, \"\"), ROW() -18 )), \"\")","v":""},{"$f":"IFERROR(INDEX(E19:E33, SMALL(IF(ISNUMBER(SEARCH(\"JV1\",F19:F33)), ROW(F19:F33)-MIN(ROW(F19:F33))+1, \"\"), ROW() -18 )), \"\")","v":""},{"$f":"IFERROR(INDEX(B19:B33, SMALL(IF(ISNUMBER(SEARCH(\"JV2\",F19:F33)), ROW(F19:F33)-MIN(ROW(F19:F33))+1, \"\"), ROW() -18 )), \"\")","v":""},{"$f":"IFERROR(INDEX(C19:C33, SMALL(IF(ISNUMBER(SEARCH(\"JV2\",F19:F33)), ROW(F19:F33)-MIN(ROW(F19:F33))+1, \"\"), ROW() -18 )), \"\")","v":""},{"$f":"IFERROR(INDEX(D19:D33, SMALL(IF(ISNUMBER(SEARCH(\"JV2\",F19:F33)), ROW(F19:F33)-MIN(ROW(F19:F33))+1, \"\"), ROW() -18 )), \"\")","v":""},{"$f":"IFERROR(INDEX(E19:E33, SMALL(IF(ISNUMBER(SEARCH(\"JV2\",F19:F33)), ROW(F19:F33)-MIN(ROW(F19:F33))+1, \"\"), ROW() -18 )), \"\")","v":""}]
[null,"Baker University",null,"11-193244","Audrey Valdez","V",null,3432.0,null,false,{"$nulls":17},{"$f":"IFERROR(INDEX(B19:B33, SMALL(IF(\"V\"=F19:F33, ROW(F19:F33)-MIN(ROW(F19:F33))+1, \"\"), ROW() -18 )), \"\")","v":"Baker University"},{"$f":"IFERROR(INDEX(C19:C33, SMALL(IF(\"V\"=F19:F33, ROW(F19:F33)-MIN(ROW(F19:F33))+1, \"\"), ROW() -18 )), \"\")","v":""},{"$f":"IFERROR(INDEX(D19:D33, SMALL(IF(\"V\"=F19:F33, ROW(F19:F33)-MIN(ROW(F19:F33))+1, \"\"), ROW() -18 )), \"\")","v":"11-513141"},{"$f":"IFERROR(INDEX(E19:E33, SMALL(IF(\"V\"=F19:F33, ROW(F19:F33)-MIN(ROW(F19:F33))+1, \"\"), ROW() -18 )), \"\")","v":"Hailee McCormick"},{"$f":"IFERROR(INDEX(B19:B33, SMALL(IF(ISNUMBER(SEARCH(\"JV1\",F19:F33)), ROW(F19:F33)-MIN(ROW(F19:F33))+1, \"\"), ROW() -18 )), \"\")","v":""},{"$f":"IFERROR(INDEX(C19:C33, SMALL(IF(ISNUMBER(SEARCH(\"JV1\",F19:F33)), ROW(F19:F33)-MIN(ROW(F19:F33))+1, \"\"), ROW() -18 )), \"\")","v":""},{"$f":"IFERROR(INDEX(D19:D33, SMALL(IF(ISNUMBER(SEARCH(\"JV1\",F19:F33)), ROW(F19:F33)-MIN(ROW(F19:F33))+1, \"\"), ROW() -18 )), \"\")","v":""},{"$f":"IFERROR(INDEX(E19:E33, SMALL(IF(ISNUMBER(SEARCH(\"JV1\",F19:F33)), ROW(F19:F33)-MIN(ROW(F19:F33))+1, \"\"), ROW() -18 )), \"\")","v":""},{"$f":"IFERROR(INDEX(B19:B33, SMALL(IF(ISNUMBER(SEARCH(\"JV2\",F19:F33)), ROW(F19:F33)-MIN(ROW(F19:F33))+1, \"\"), ROW() -18 )), \"\")","v":""},{"$f":"IFERROR(INDEX(C19:C33, SMALL(IF(ISNUMBER(SEARCH(\"JV2\",F19:F33)), ROW(F19:F33)-MIN(ROW(F19:F33))+1, \"\"), ROW() -18 )), \"\")","v":""},{"$f":"IFERROR(INDEX(D19:D33, SMALL(IF(ISNUMBER(SEARCH(\"JV2\",F19:F33)), ROW(F19:F33)-MIN(ROW(F19:F33))+1, \"\"), ROW() -18 )), \"\")","v":""},{"$f":"IFERROR(INDEX(E19:E33, SMALL(IF(ISNUMBER(SEARCH(\"JV2\",F19:F33)), ROW(F19:F33)-MIN(ROW(F19:F33))+1, \"\"), ROW() -18 )), \"\")","v":""}]
[null,"Baker University",null,"11-608160","Caitlin Lucas"," ",null,3432.0,null,false,{"$nulls":17},{"$f":"IFERROR(INDEX(B19:B33, SMALL(IF(\"V\"=F19:F33, ROW(F19:F33)-MIN(ROW(F19:F33))+1, \"\"), ROW() -18 )), \"\")","v":"Baker University"},{"$f":"IFERROR(INDEX(C19:C33, SMALL(IF(\"V\"=F19:F33, ROW(F19:F33)-MIN(ROW(F19:F33))+1, \"\"), ROW() -18 )), \"\")","v":""},{"$f":"IFERROR(INDEX(D19:D33, SMALL(IF(\"V\"=F19:F33, ROW(F19:F33)-MIN(ROW(F19:F33))+1, \"\"), ROW() -18 )), \"\")","v":"5900-25170"},{"$f":"IFERROR(INDEX(E19:E33, SMALL(IF(\"V\"=F19:F33, ROW(F19:F33)-MIN(ROW(F19:F33))+1, \"\"), ROW() -18 )), \"\")","v":"Kinsey Miller"},{"$f":"IFERROR(INDEX(B19:B33, SMALL(IF(ISNUMBER(SEARCH(\"JV1\",F19:F33)), ROW(F19:F33)-MIN(ROW(F19:F33))+1, \"\"), ROW() -18 )), \"\")","v":""},{"$f":"IFERROR(INDEX(C19:C33, SMALL(IF(ISNUMBER(SEARCH(\"JV1\",F19:F33)), ROW(F19:F33)-MIN(ROW(F19:F33))+1, \"\"), ROW() -18 )), \"\")","v":""},{"$f":"IFERROR(INDEX(D19:D33, SMALL(IF(ISNUMBER(SEARCH(\"JV1\",F19:F33)), ROW(F19:F33)-MIN(ROW(F19:F33))+1, \"\"), ROW() -18 )), \"\")","v":""},{"$f":"IFERROR(INDEX(E19:E33, SMALL(IF(ISNUMBER(SEARCH(\"JV1\",F19:F33)), ROW(F19:F33)-MIN(ROW(F19:F33))+1, \"\"), ROW() -18 )), \"\")","v":""},{"$f":"IFERROR(INDEX(B19:B33, SMALL(IF(ISNUMBER(SEARCH(\"JV2\",F19:F33)), ROW(F19:F33)-MIN(ROW(F19:F33))+1, \"\"), ROW() -18 )), \"\")","v":""},{"$f":"IFERROR(INDEX(C19:C33, SMALL(IF(ISNUMBER(SEARCH(\"JV2\",F19:F33)), ROW(F19:F33)-MIN(ROW(F19:F33))+1, \"\"), ROW() -18 )), \"\")","v":""},{"$f":"IFERROR(INDEX(D19:D33, SMALL(IF(ISNUMBER(SEARCH(\"JV2\",F19:F33)), ROW(F19:F33)-MIN(ROW(F19:F33))+1, \"\"), ROW() -18 )), \"\")","v":""},{"$f":"IFERROR(INDEX(E19:E33, SMALL(IF(ISNUMBER(SEARCH(\"JV2\",F19:F33)), ROW(F19:F33)-MIN(ROW(F19:F33))+1, \"\"), ROW() -18 )), \"\")","v":""}]
[null,"Baker University",null,"20-48752","Dylan Holmes"," ",null,3432.0,null,false,{"$nulls":17},{"$f":"IFERROR(INDEX(B19:B33, SMALL(IF(\"V\"=F19:F33, ROW(F19:F33)-MIN(ROW(F19:F33))+1, \"\"), ROW() -18 )), \"\")","v":"Baker University"},{"$f":"IFERROR(INDEX(C19:C33, SMALL(IF(\"V\"=F19:F33, ROW(F19:F33)-MIN(ROW(F19:F33))+1, \"\"), ROW() -18 )), \"\")","v":""},{"$f":"IFERROR(INDEX(D19:D33, SMALL(IF(\"V\"=F19:F33, ROW(F19:F33)-MIN(ROW(F19:F33))+1, \"\"), ROW() -18 )), \"\")","v":"11-246284"},{"$f":"IFERROR(INDEX(E19:E33, SMALL(IF(\"V\"=F19:F33, ROW(F19:F33)-MIN(ROW(F19:F33))+1, \"\"), ROW() -18 )), \"\")","v":"Kristina Harris"},{"$f":"IFERROR(INDEX(B19:B33, SMALL(IF(ISNUMBER(SEARCH(\"JV1\",F19:F33)), ROW(F19:F33)-MIN(ROW(F19:F33))+1, \"\"), ROW() -18 )), \"\")","v":""},{"$f":"IFERROR(INDEX(C19:C33, SMALL(IF(ISNUMBER(SEARCH(\"JV1\",F19:F33)), ROW(F19:F33)-MIN(ROW(F19:F33))+1, \"\"), ROW() -18 )), \"\")","v":""},{"$f":"IFERROR(INDEX(D19:D33, SMALL(IF(ISNUMBER(SEARCH(\"JV1\",F19:F33)), ROW(F19:F33)-MIN(ROW(F19:F33))+1, \"\"), ROW() -18 )), \"\")","v":""},{"$f":"IFERROR(INDEX(E19:E33, SMALL(IF(ISNUMBER(SEARCH(\"JV1\",F19:F33)), ROW(F19:F33)-MIN(ROW(F19:F33))+1, \"\"), ROW() -18 )), \"\")","v":""},{"$f":"IFERROR(INDEX(B19:B33, SMALL(IF(ISNUMBER(SEARCH(\"JV2\",F19:F33)), ROW(F19:F33)-MIN(ROW(F19:F33))+1, \"\"), ROW() -18 )), \"\")","v":""},{"$f":"IFERROR(INDEX(C19:C33, SMALL(IF(ISNUMBER(SEARCH(\"JV2\",F19:F33)), ROW(F19:F33)-MIN(ROW(F19:F33))+1, \"\"), ROW() -18 )), \"\")","v":""},{"$f":"IFERROR(INDEX(D19:D33, SMALL(IF(ISNUMBER(SEARCH(\"JV2\",F19:F33)), ROW(F19:F33)-MIN(ROW(F19:F33))+1, \"\"), ROW() -18 )), \"\")","v":""},{"$f":"IFERROR(INDEX(E19:E33, SMALL(IF(ISNUMBER(SEARCH(\"JV2\",F19:F33)), ROW(F19:F33)-MIN(ROW(F19:F33))+1, \"\"), ROW() -18 )), \"\")","v":""}]
[null,"Baker University",null,"7914-53224","Emily Stamper","V",null,3432.0,null,false,{"$nulls":17},{"$f":"IFERROR(INDEX(B19:B33, SMALL(IF(\"V\"=F19:F33, ROW(F19:F33)-MIN(ROW(F19:F33))+1, \"\"), ROW() -18 )), \"\")","v":"Baker University"},{"$f":"IFERROR(INDEX(C19:C33, SMALL(IF(\"V\"=F19:F33, ROW(F19:F33)-MIN(ROW(F19:F33))+1, \"\"), ROW() -18 )), \"\")","v":""},{"$f":"IFERROR(INDEX(D19:D33, SMALL(IF(\"V\"=F19:F33, ROW(F19:F33)-MIN(ROW(F19:F33))+1, \"\"), ROW() -18 )), \"\")","v":"5900-26804"},{"$f":"IFERROR(INDEX(E19:E33, SMALL(IF(\"V\"=F19:F33, ROW(F19:F33)-MIN(ROW(F19:F33))+1, \"\"), ROW() -18 )), \"\")","v":"Majayla Boyd"},{"$f":"IFERROR(INDEX(B19:B33, SMALL(IF(ISNUMBER(SEARCH(\"JV1\",F19:F33)), ROW(F19:F33)-MIN(ROW(F19:F33))+1, \"\"), ROW() -18 )), \"\")","v":""},{"$f":"IFERROR(INDEX(C19:C33, SMALL(IF(ISNUMBER(SEARCH(\"JV1\",F19:F33)), ROW(F19:F33)-MIN(ROW(F19:F33))+1, \"\"), ROW() -18 )), \"\")","v":""},{"$f":"IFERROR(INDEX(D19:D33, SMALL(IF(ISNUMBER(SEARCH(\"JV1\",F19:F33)), ROW(F19:F33)-MIN(ROW(F19:F33))+1, \"\"), ROW() -18 )), \"\")","v":""},{"$f":"IFERROR(INDEX(E19:E33, SMALL(IF(ISNUMBER(SEARCH(\"JV1\",F19:F33)), ROW(F19:F33)-MIN(ROW(F19:F33))+1, \"\"), ROW() -18 )), \"\")","v":""},{"$f":"IFERROR(INDEX(B19:B33, SMALL(IF(ISNUMBER(SEARCH(\"JV2\",F19:F33)), ROW(F19:F33)-MIN(ROW(F19:F33))+1, \"\"), ROW() -18 )), \"\")","v":""},{"$f":"IFERROR(INDEX(C19:C33, SMALL(IF(ISNUMBER(SEARCH(\"JV2\",F19:F33)), ROW(F19:F33)-MIN(ROW(F19:F33))+1, \"\"), ROW() -18 )), \"\")","v":""},{"$f":"IFERROR(INDEX(D19:D33, SMALL(IF(ISNUMBER(SEARCH(\"JV2\",F19:F33)), ROW(F19:F33)-MIN(ROW(F19:F33))+1, \"\"), ROW() -18 )), \"\")","v":""},{"$f":"IFERROR(INDEX(E19:E33, SMALL(IF(ISNUMBER(SEARCH(\"JV2\",F19:F33)), ROW(F19:F33)-MIN(ROW(F19:F33))+1, \"\"), ROW() -18 )), \"\")","v":""}]
[null,"Baker University",null,"11-513141","Hailee McCormick","V",null,3432.0,null,false,{"$nulls":17},{"$f":"IFERROR(INDEX(B19:B33, SMALL(IF(\"V\"=F19:F33, ROW(F19:F33)-MIN(ROW(F19:F33))+1, \"\"), ROW() -18 )), \"\")","v":"Baker University"},{"$f":"IFERROR(INDEX(C19:C33, SMALL(IF(\"V\"=F19:F33, ROW(F19:F33)-MIN(ROW(F19:F33))+1, \"\"), ROW() -18 )), \"\")","v":""},{"$f":"IFERROR(INDEX(D19:D33, SMALL(IF(\"V\"=F19:F33, ROW(F19:F33)-MIN(ROW(F19:F33))+1, \"\"), ROW() -18 )), \"\")","v":"5900-26536"},{"$f":"IFERROR(INDEX(E19:E33, SMALL(IF(\"V\"=F19:F33, ROW(F19:F33)-MIN(ROW(F19:F33))+1, \"\"), ROW() -18 )), \"\")","v":"Skylar Valdez"},{"$f":"IFERROR(INDEX(B19:B33, SMALL(IF(ISNUMBER(SEARCH(\"JV1\",F19:F33)), ROW(F19:F33)-MIN(ROW(F19:F33))+1, \"\"), ROW() -18 )), \"\")","v":""},{"$f":"IFERROR(INDEX(C19:C33, SMALL(IF(ISNUMBER(SEARCH(\"JV1\",F19:F33)), ROW(F19:F33)-MIN(ROW(F19:F33))+1, \"\"), ROW() -18 )), \"\")","v":""},{"$f":"IFERROR(INDEX(D19:D33, SMALL(IF(ISNUMBER(SEARCH(\"JV1\",F19:F33)), ROW(F19:F33)-MIN(ROW(F19:F33))+1, \"\"), ROW() -18 )), \"\")","v":""},{"$f":"IFERROR(INDEX(E19:E33, SMALL(IF(ISNUMBER(SEARCH(\"JV1\",F19:F33)), ROW(F19:F33)-MIN(ROW(F19:F33))+1, \"\"), ROW() -18 )), \"\")","v":""},{"$f":"IFERROR(INDEX(B19:B33, SMALL(IF(ISNUMBER(SEARCH(\"JV2\",F19:F33)), ROW(F19:F33)-MIN(ROW(F19:F33))+1, \"\"), ROW() -18 )), \"\")","v":""},{"$f":"IFERROR(INDEX(C19:C33, SMALL(IF(ISNUMBER(SEARCH(\"JV2\",F19:F33)), ROW(F19:F33)-MIN(ROW(F19:F33))+1, \"\"), ROW() -18 )), \"\")","v":""},{"$f":"IFERROR(INDEX(D19:D33, SMALL(IF(ISNUMBER(SEARCH(\"JV2\",F19:F33)), ROW(F19:F33)-MIN(ROW(F19:F33))+1, \"\"), ROW() -18 )), \"\")","v":""},{"$f":"IFERROR(INDEX(E19:E33, SMALL(IF(ISNUMBER(SEARCH(\"JV2\",F19:F33)), ROW(F19:F33)-MIN(ROW(F19:F33))+1, \"\"), ROW() -18 )), \"\")","v":""}]
[null,"Baker University",null,"11-634102","Karli Gilliland"," ",null,3432.0,null,false,{"$nulls":17},{"$f":"IFERROR(INDEX(B19:B33, SMALL(IF(\"V\"=F19:F33, ROW(F19:F33)-MIN(ROW(F19:F33))+1, \"\"), ROW() -18 )), \"\")","v":""},{"$f":"IFERROR(INDEX(C19:C33, SMALL(IF(\"V\"=F19:F33, ROW(F19:F33)-MIN(ROW(F19:F33))+1, \"\"), ROW() -18 )), \"\")","v":""},{"$f":"IFERROR(INDEX(D19:D33, SMALL(IF(\"V\"=F19:F33, ROW(F19:F33)-MIN(ROW(F19:F33))+1, \"\"), ROW() -18 )), \"\")","v":""},{"$f":"IFERROR(INDEX(E19:E33, SMALL(IF(\"V\"=F19:F33, ROW(F19:F33)-MIN(ROW(F19:F33))+1, \"\"), ROW() -18 )), \"\")","v":""},{"$f":"IFERROR(INDEX(B19:B33, SMALL(IF(ISNUMBER(SEARCH(\"JV1\",F19:F33)), ROW(F19:F33)-MIN(ROW(F19:F33))+1, \"\"), ROW() -18 )), \"\")","v":""},{"$f":"IFERROR(INDEX(C19:C33, SMALL(IF(ISNUMBER(SEARCH(\"JV1\",F19:F33)), ROW(F19:F33)-MIN(ROW(F19:F33))+1, \"\"), ROW() -18 )), \"\")","v":""},{"$f":"IFERROR(INDEX(D19:D33, SMALL(IF(ISNUMBER(SEARCH(\"JV1\",F19:F33)), ROW(F19:F33)-MIN(ROW(F19:F33))+1, \"\"), ROW() -18 )), \"\")","v":""},{"$f":"IFERROR(INDEX(E19:E33, SMALL(IF(ISNUMBER(SEARCH(\"JV1\",F19:F33)), ROW(F19:F33)-MIN(ROW(F19:F33))+1, \"\"), ROW() -18 )), \"\")","v":""},{"$f":"IFERROR(INDEX(B19:B33, SMALL(IF(ISNUMBER(SEARCH(\"JV2\",F19:F33)), ROW(F19:F33)-MIN(ROW(F19:F33))+1, \"\"), ROW() -18 )), \"\")","v":""},{"$f":"IFERROR(INDEX(C19:C33, SMALL(IF(ISNUMBER(SEARCH(\"JV2\",F19:F33)), ROW(F19:F33)-MIN(ROW(F19:F33))+1, \"\"), ROW() -18 )), \"\")","v":""},{"$f":"IFERROR(INDEX(D19:D33, SMALL(IF(ISNUMBER(SEARCH(\"JV2\",F19:F33)), ROW(F19:F33)-MIN(ROW(F19:F33))+1, \"\"), ROW() -18 )), \"\")","v":""},{"$f":"IFERROR(INDEX(E19:E33, SMALL(IF(ISNUMBER(SEARCH(\"JV2\",F19:F33)), ROW(F19:F33)-MIN(ROW(F19:F33))+1, \"\"), ROW() -18 )), \"\")","v":""}]
[null,"Baker University",null,"5900-25170","Kinsey Miller","V",null,3432.0,null,false]
[null,"Baker University",null,"11-246284","Kristina Harris","V",null,3432.0,null,false]
[null,"Baker University",null,"11-375249","Maggie Stadler"," ",null,3432.0,null,false]
[null,"Baker University",null,"5900-26804","Majayla Boyd","V",null,3432.0,null,false]
[null,"Baker University",null,"8108-81127","Olivia Kopala"," ",null,3432.0,null,false]
[null,"Baker University",null,"20-11357","Roberta Gonzalez"," ",null,3432.0,null,false]
[null,"Baker University",null,"5900-26536","Skylar Valdez","V",null,3432.0,null,false]
[null,"Barton Community College",null,"11-393848","Allyson Heidenreich","JV1",null,4505.0,null,false,{"$nulls":17},{"$f":"IFERROR(INDEX(B34:B44, SMALL(IF(\"V\"=F34:F44, ROW(F34:F44)-MIN(ROW(F34:F44))+1, \"\"), ROW() -33 )), \"\")","v":"Barton Community College"},{"$f":"IFERROR(INDEX(C34:C44, SMALL(IF(\"V\"=F34:F44, ROW(F34:F44)-MIN(ROW(F34:F44))+1, \"\"), ROW() -33 )), \"\")","v":""},{"$f":"IFERROR(INDEX(D34:D44, SMALL(IF(\"V\"=F34:F44, ROW(F34:F44)-MIN(ROW(F34:F44))+1, \"\"), ROW() -33 )), \"\")","v":"11-204481"},{"$f":"IFERROR(INDEX(E34:E44, SMALL(IF(\"V\"=F34:F44, ROW(F34:F44)-MIN(ROW(F34:F44))+1, \"\"), ROW() -33 )), \"\")","v":"Ana Stanton"},{"$f":"IFERROR(INDEX(B34:B44, SMALL(IF(ISNUMBER(SEARCH(\"JV1\",F34:F44)), ROW(F34:F44)-MIN(ROW(F34:F44))+1, \"\"), ROW() -33 )), \"\")","v":"Barton Community College"},{"$f":"IFERROR(INDEX(C34:C44, SMALL(IF(ISNUMBER(SEARCH(\"JV1\",F34:F44)), ROW(F34:F44)-MIN(ROW(F34:F44))+1, \"\"), ROW() -33 )), \"\")","v":""},{"$f":"IFERROR(INDEX(D34:D44, SMALL(IF(ISNUMBER(SEARCH(\"JV1\",F34:F44)), ROW(F34:F44)-MIN(ROW(F34:F44))+1, \"\"), ROW() -33 )), \"\")","v":"11-393848"},{"$f":"IFERROR(INDEX(E34:E44, SMALL(IF(ISNUMBER(SEARCH(\"JV1\",F34:F44)), ROW(F34:F44)-MIN(ROW(F34:F44))+1, \"\"), ROW() -33 )), \"\")","v":"Allyson Heidenreich"},{"$f":"IFERROR(INDEX(B34:B44, SMALL(IF(ISNUMBER(SEARCH(\"JV2\",F34:F44)), ROW(F34:F44)-MIN(ROW(F34:F44))+1, \"\"), ROW() -33 )), \"\")","v":""},{"$f":"IFERROR(INDEX(C34:C44, SMALL(IF(ISNUMBER(SEARCH(\"JV2\",F34:F44)), ROW(F34:F44)-MIN(ROW(F34:F44))+1, \"\"), ROW() -33 )), \"\")","v":""},{"$f":"IFERROR(INDEX(D34:D44, SMALL(IF(ISNUMBER(SEARCH(\"JV2\",F34:F44)), ROW(F34:F44)-MIN(ROW(F34:F44))+1, \"\"), ROW() -33 )), \"\")","v":""},{"$f":"IFERROR(INDEX(E34:E44, SMALL(IF(ISNUMBER(SEARCH(\"JV2\",F34:F44)), ROW(F34:F44)-MIN(ROW(F34:F44))+1, \"\"), ROW() -33 )), \"\")","v":""}]
[null,"Barton Community College",null,"11-204481","Ana Stanton","V",null,4505.0,null,false,{"$nulls":17},{"$f":"IFERROR(INDEX(B34:B44, SMALL(IF(\"V\"=F34:F44, ROW(F34:F44)-MIN(ROW(F34:F44))+1, \"\"), ROW() -33 )), \"\")","v":"Barton Community College"},{"$f":"IFERROR(INDEX(C34:C44, SMALL(IF(\"V\"=F34:F44, ROW(F34:F44)-MIN(ROW(F34:F44))+1, \"\"), ROW() -33 )), \"\")","v":""},{"$f":"IFERROR(INDEX(D34:D44, SMALL(IF(\"V\"=F34:F44, ROW(F34:F44)-MIN(ROW(F34:F44))+1, \"\"), ROW() -33 )), \"\")","v":"11-344613"},{"$f":"IFERROR(INDEX(E34:E44, SMALL(IF(\"V\"=F34:F44, ROW(F34:F44)-MIN(ROW(F34:F44))+1, \"\"), ROW() -33 )), \"\")","v":"Angelina Leeper"},{"$f":"IFERROR(INDEX(B34:B44, SMALL(IF(ISNUMBER(SEARCH(\"JV1\",F34:F44)), ROW(F34:F44)-MIN(ROW(F34:F44))+1, \"\"), ROW() -33 )), \"\")","v":"Barton Community College"},{"$f":"IFERROR(INDEX(C34:C44, SMALL(IF(ISNUMBER(SEARCH(\"JV1\",F34:F44)), ROW(F34:F44)-MIN(ROW(F34:F44))+1, \"\"), ROW() -33 )), \"\")","v":""},{"$f":"IFERROR(INDEX(D34:D44, SMALL(IF(ISNUMBER(SEARCH(\"JV1\",F34:F44)), ROW(F34:F44)-MIN(ROW(F34:F44))+1, \"\"), ROW() -33 )), \"\")","v":"15-199348"},{"$f":"IFERROR(INDEX(E34:E44, SMALL(IF(ISNUMBER(SEARCH(\"JV1\",F34:F44)), ROW(F34:F44)-MIN(ROW(F34:F44))+1, \"\"), ROW() -33 )), \"\")","v":"Cassidy Goans"},{"$f":"IFERROR(INDEX(B34:B44, SMALL(IF(ISNUMBER(SEARCH(\"JV2\",F34:F44)), ROW(F34:F44)-MIN(ROW(F34:F44))+1, \"\"), ROW() -33 )), \"\")","v":""},{"$f":"IFERROR(INDEX(C34:C44, SMALL(IF(ISNUMBER(SEARCH(\"JV2\",F34:F44)), ROW(F34:F44)-MIN(ROW(F34:F44))+1, \"\"), ROW() -33 )), \"\")","v":""},{"$f":"IFERROR(INDEX(D34:D44, SMALL(IF(ISNUMBER(SEARCH(\"JV2\",F34:F44)), ROW(F34:F44)-MIN(ROW(F34:F44))+1, \"\"), ROW() -33 )), \"\")","v":""},{"$f":"IFERROR(INDEX(E34:E44, SMALL(IF(ISNUMBER(SEARCH(\"JV2\",F34:F44)), ROW(F34:F44)-MIN(ROW(F34:F44))+1, \"\"), ROW() -33 )), \"\")","v":""}]
[null,"Barton Community College",null,"11-344613","Angelina Leeper","V",null,4505.0,null,false,{"$nulls":17},{"$f":"IFERROR(INDEX(B34:B44, SMALL(IF(\"V\"=F34:F44, ROW(F34:F44)-MIN(ROW(F34:F44))+1, \"\"), ROW() -33 )), \"\")","v":"Barton Community College"},{"$f":"IFERROR(INDEX(C34:C44, SMALL(IF(\"V\"=F34:F44, ROW(F34:F44)-MIN(ROW(F34:F44))+1, \"\"), ROW() -33 )), \"\")","v":""},{"$f":"IFERROR(INDEX(D34:D44, SMALL(IF(\"V\"=F34:F44, ROW(F34:F44)-MIN(ROW(F34:F44))+1, \"\"), ROW() -33 )), \"\")","v":"18-97007"},{"$f":"IFERROR(INDEX(E34:E44, SMALL(IF(\"V\"=F34:F44, ROW(F34:F44)-MIN(ROW(F34:F44))+1, \"\"), ROW() -33 )), \"\")","v":"Courtney Kitchen"},{"$f":"IFERROR(INDEX(B34:B44, SMALL(IF(ISNUMBER(SEARCH(\"JV1\",F34:F44)), ROW(F34:F44)-MIN(ROW(F34:F44))+1, \"\"), ROW() -33 )), \"\")","v":"Barton Community College"},{"$f":"IFERROR(INDEX(C34:C44, SMALL(IF(ISNUMBER(SEARCH(\"JV1\",F34:F44)), ROW(F34:F44)-MIN(ROW(F34:F44))+1, \"\"), ROW() -33 )), \"\")","v":""},{"$f":"IFERROR(INDEX(D34:D44, SMALL(IF(ISNUMBER(SEARCH(\"JV1\",F34:F44)), ROW(F34:F44)-MIN(ROW(F34:F44))+1, \"\"), ROW() -33 )), \"\")","v":"17-36756"},{"$f":"IFERROR(INDEX(E34:E44, SMALL(IF(ISNUMBER(SEARCH(\"JV1\",F34:F44)), ROW(F34:F44)-MIN(ROW(F34:F44))+1, \"\"), ROW() -33 )), \"\")","v":"Kristy Wittig"},{"$f":"IFERROR(INDEX(B34:B44, SMALL(IF(ISNUMBER(SEARCH(\"JV2\",F34:F44)), ROW(F34:F44)-MIN(ROW(F34:F44))+1, \"\"), ROW() -33 )), \"\")","v":""},{"$f":"IFERROR(INDEX(C34:C44, SMALL(IF(ISNUMBER(SEARCH(\"JV2\",F34:F44)), ROW(F34:F44)-MIN(ROW(F34:F44))+1, \"\"), ROW() -33 )), \"\")","v":""},{"$f":"IFERROR(INDEX(D34:D44, SMALL(IF(ISNUMBER(SEARCH(\"JV2\",F34:F44)), ROW(F34:F44)-MIN(ROW(F34:F44))+1, \"\"), ROW() -33 )), \"\")","v":""},{"$f":"IFERROR(INDEX(E34:E44, SMALL(IF(ISNUMBER(SEARCH(\"JV2\",F34:F44)), ROW(F34:F44)-MIN(ROW(F34:F44))+1, \"\"), ROW() -33 )), \"\")","v":""}]
[null,"Barton Community College",null,"15-199348","Cassidy Goans","JV1",null,4505.0,null,false,{"$nulls":17},{"$f":"IFERROR(INDEX(B34:B44, SMALL(IF(\"V\"=F34:F44, ROW(F34:F44)-MIN(ROW(F34:F44))+1, \"\"), ROW() -33 )), \"\")","v":"Barton Community College"},{"$f":"IFERROR(INDEX(C34:C44, SMALL(IF(\"V\"=F34:F44, ROW(F34:F44)-MIN(ROW(F34:F44))+1, \"\"), ROW() -33 )), \"\")","v":""},{"$f":"IFERROR(INDEX(D34:D44, SMALL(IF(\"V\"=F34:F44, ROW(F34:F44)-MIN(ROW(F34:F44))+1, \"\"), ROW() -33 )), \"\")","v":"11-465480"},{"$f":"IFERROR(INDEX(E34:E44, SMALL(IF(\"V\"=F34:F44, ROW(F34:F44)-MIN(ROW(F34:F44))+1, \"\"), ROW() -33 )), \"\")","v":"Ella Adkins"},{"$f":"IFERROR(INDEX(B34:B44, SMALL(IF(ISNUMBER(SEARCH(\"JV1\",F34:F44)), ROW(F34:F44)-MIN(ROW(F34:F44))+1, \"\"), ROW() -33 )), \"\")","v":"Barton Community College"},{"$f":"IFERROR(INDEX(C34:C44, SMALL(IF(ISNUMBER(SEARCH(\"JV1\",F34:F44)), ROW(F34:F44)-MIN(ROW(F34:F44))+1, \"\"), ROW() -33 )), \"\")","v":""},{"$f":"IFERROR(INDEX(D34:D44, SMALL(IF(ISNUMBER(SEARCH(\"JV1\",F34:F44)), ROW(F34:F44)-MIN(ROW(F34:F44))+1, \"\"), ROW() -33 )), \"\")","v":"22-25836"},{"$f":"IFERROR(INDEX(E34:E44, SMALL(IF(ISNUMBER(SEARCH(\"JV1\",F34:F44)), ROW(F34:F44)-MIN(ROW(F34:F44))+1, \"\"), ROW() -33 )), \"\")","v":"Leah Reid"},{"$f":"IFERROR(INDEX(B34:B44, SMALL(IF(ISNUMBER(SEARCH(\"JV2\",F34:F44)), ROW(F34:F44)-MIN(ROW(F34:F44))+1, \"\"), ROW() -33 )), \"\")","v":""},{"$f":"IFERROR(INDEX(C34:C44, SMALL(IF(ISNUMBER(SEARCH(\"JV2\",F34:F44)), ROW(F34:F44)-MIN(ROW(F34:F44))+1, \"\"), ROW() -33 )), \"\")","v":""},{"$f":"IFERROR(INDEX(D34:D44, SMALL(IF(ISNUMBER(SEARCH(\"JV2\",F34:F44)), ROW(F34:F44)-MIN(ROW(F34:F44))+1, \"\"), ROW() -33 )), \"\")","v":""},{"$f":"IFERROR(INDEX(E34:E44, SMALL(IF(ISNUMBER(SEARCH(\"JV2\",F34:F44)), ROW(F34:F44)-MIN(ROW(F34:F44))+1, \"\"), ROW() -33 )), \"\")","v":""}]
[null,"Barton Community College",null,"18-97007","Courtney Kitchen","V",null,4505.0,null,false,{"$nulls":17},{"$f":"IFERROR(INDEX(B34:B44, SMALL(IF(\"V\"=F34:F44, ROW(F34:F44)-MIN(ROW(F34:F44))+1, \"\"), ROW() -33 )), \"\")","v":"Barton Community College"},{"$f":"IFERROR(INDEX(C34:C44, SMALL(IF(\"V\"=F34:F44, ROW(F34:F44)-MIN(ROW(F34:F44))+1, \"\"), ROW() -33 )), \"\")","v":""},{"$f":"IFERROR(INDEX(D34:D44, SMALL(IF(\"V\"=F34:F44, ROW(F34:F44)-MIN(ROW(F34:F44))+1, \"\"), ROW() -33 )), \"\")","v":"16-4404"},{"$f":"IFERROR(INDEX(E34:E44, SMALL(IF(\"V\"=F34:F44, ROW(F34:F44)-MIN(ROW(F34:F44))+1, \"\"), ROW() -33 )), \"\")","v":"Jasmine Bridges"},{"$f":"IFERROR(INDEX(B34:B44, SMALL(IF(ISNUMBER(SEARCH(\"JV1\",F34:F44)), ROW(F34:F44)-MIN(ROW(F34:F44))+1, \"\"), ROW() -33 )), \"\")","v":"Barton Community College"},{"$f":"IFERROR(INDEX(C34:C44, SMALL(IF(ISNUMBER(SEARCH(\"JV1\",F34:F44)), ROW(F34:F44)-MIN(ROW(F34:F44))+1, \"\"), ROW() -33 )), \"\")","v":""},{"$f":"IFERROR(INDEX(D34:D44, SMALL(IF(ISNUMBER(SEARCH(\"JV1\",F34:F44)), ROW(F34:F44)-MIN(ROW(F34:F44))+1, \"\"), ROW() -33 )), \"\")","v":"11-393971"},{"$f":"IFERROR(INDEX(E34:E44, SMALL(IF(ISNUMBER(SEARCH(\"JV1\",F34:F44)), ROW(F34:F44)-MIN(ROW(F34:F44))+1, \"\"), ROW() -33 )), \"\")","v":"Olivia Oliver"},{"$f":"IFERROR(INDEX(B34:B44, SMALL(IF(ISNUMBER(SEARCH(\"JV2\",F34:F44)), ROW(F34:F44)-MIN(ROW(F34:F44))+1, \"\"), ROW() -33 )), \"\")","v":""},{"$f":"IFERROR(INDEX(C34:C44, SMALL(IF(ISNUMBER(SEARCH(\"JV2\",F34:F44)), ROW(F34:F44)-MIN(ROW(F34:F44))+1, \"\"), ROW() -33 )), \"\")","v":""},{"$f":"IFERROR(INDEX(D34:D44, SMALL(IF(ISNUMBER(SEARCH(\"JV2\",F34:F44)), ROW(F34:F44)-MIN(ROW(F34:F44))+1, \"\"), ROW() -33 )), \"\")","v":""},{"$f":"IFERROR(INDEX(E34:E44, SMALL(IF(ISNUMBER(SEARCH(\"JV2\",F34:F44)), ROW(F34:F44)-MIN(ROW(F34:F44))+1, \"\"), ROW() -33 )), \"\")","v":""}]
[null,"Barton Community College",null,"11-465480","Ella Adkins","V",null,4505.0,null,false,{"$nulls":17},{"$f":"IFERROR(INDEX(B34:B44, SMALL(IF(\"V\"=F34:F44, ROW(F34:F44)-MIN(ROW(F34:F44))+1, \"\"), ROW() -33 )), \"\")","v":"Barton Community College"},{"$f":"IFERROR(INDEX(C34:C44, SMALL(IF(\"V\"=F34:F44, ROW(F34:F44)-MIN(ROW(F34:F44))+1, \"\"), ROW() -33 )), \"\")","v":""},{"$f":"IFERROR(INDEX(D34:D44, SMALL(IF(\"V\"=F34:F44, ROW(F34:F44)-MIN(ROW(F34:F44))+1, \"\"), ROW() -33 )), \"\")","v":"11-188599"},{"$f":"IFERROR(INDEX(E34:E44, SMALL(IF(\"V\"=F34:F44, ROW(F34:F44)-MIN(ROW(F34:F44))+1, \"\"), ROW() -33 )), \"\")","v":"Mallory Cross"},{"$f":"IFERROR(INDEX(B34:B44, SMALL(IF(ISNUMBER(SEARCH(\"JV1\",F34:F44)), ROW(F34:F44)-MIN(ROW(F34:F44))+1, \"\"), ROW() -33 )), \"\")","v":""},{"$f":"IFERROR(INDEX(C34:C44, SMALL(IF(ISNUMBER(SEARCH(\"JV1\",F34:F44)), ROW(F34:F44)-MIN(ROW(F34:F44))+1, \"\"), ROW() -33 )), \"\")","v":""},{"$f":"IFERROR(INDEX(D34:D44, SMALL(IF(ISNUMBER(SEARCH(\"JV1\",F34:F44)), ROW(F34:F44)-MIN(ROW(F34:F44))+1, \"\"), ROW() -33 )), \"\")","v":""},{"$f":"IFERROR(INDEX(E34:E44, SMALL(IF(ISNUMBER(SEARCH(\"JV1\",F34:F44)), ROW(F34:F44)-MIN(ROW(F34:F44))+1, \"\"), ROW() -33 )), \"\")","v":""},{"$f":"IFERROR(INDEX(B34:B44, SMALL(IF(ISNUMBER(SEARCH(\"JV2\",F34:F44)), ROW(F34:F44)-MIN(ROW(F34:F44))+1, \"\"), ROW() -33 )), \"\")","v":""},{"$f":"IFERROR(INDEX(C34:C44, SMALL(IF(ISNUMBER(SEARCH(\"JV2\",F34:F44)), ROW(F34:F44)-MIN(ROW(F34:F44))+1, \"\"), ROW() -33 )), \"\")","v":""},{"$f":"IFERROR(INDEX(D34:D44, SMALL(IF(ISNUMBER(SEARCH(\"JV2\",F34:F44)), ROW(F34:F44)-MIN(ROW(F34:F44))+1, \"\"), ROW() -33 )), \"\")","v":""},{"$f":"IFERROR(INDEX(E34:E44, SMALL(IF(ISNUMBER(SEARCH(\"JV2\",F34:F44)), ROW(F34:F44)-MIN(ROW(F34:F44))+1, \"\"), ROW() -33 )), \"\")","v":""}]
[null,"Barton Community College",null,"16-4404","Jasmine Bridges","V",null,4505.0,null,false,{"$nulls":17},{"$f":"IFERROR(INDEX(B34:B44, SMALL(IF(\"V\"=F34:F44, ROW(F34:F44)-MIN(ROW(F34:F44))+1, \"\"), ROW() -33 )), \"\")","v":""},{"$f":"IFERROR(INDEX(C34:C44, SMALL(IF(\"V\"=F34:F44, ROW(F34:F44)-MIN(ROW(F34:F44))+1, \"\"), ROW() -33 )), \"\")","v":""},{"$f":"IFERROR(INDEX(D34:D44, SMALL(IF(\"V\"=F34:F44, ROW(F34:F44)-MIN(ROW(F34:F44))+1, \"\"), ROW() -33 )), \"\")","v":""},{"$f":"IFERROR(INDEX(E34:E44, SMALL(IF(\"V\"=F34:F44, ROW(F34:F44)-MIN(ROW(F34:F44))+1, \"\"), ROW() -33 )), \"\")","v":""},{"$f":"IFERROR(INDEX(B34:B44, SMALL(IF(ISNUMBER(SEARCH(\"JV1\",F34:F44)), ROW(F34:F44)-MIN(ROW(F34:F44))+1, \"\"), ROW() -33 )), \"\")","v":""},{"$f":"IFERROR(INDEX(C34:C44, SMALL(IF(ISNUMBER(SEARCH(\"JV1\",F34:F44)), ROW(F34:F44)-MIN(ROW(F34:F44))+1, \"\"), ROW() -33 )), \"\")","v":""},{"$f":"IFERROR(INDEX(D34:D44, SMALL(IF(ISNUMBER(SEARCH(\"JV1\",F34:F44)), ROW(F34:F44)-MIN(ROW(F34:F44))+1, \"\"), ROW() -33 )), \"\")","v":""},{"$f":"IFERROR(INDEX(E34:E44, SMALL(IF(ISNUMBER(SEARCH(\"JV1\",F34:F44)), ROW(F34:F44)-MIN(ROW(F34:F44))+1, \"\"), ROW() -33 )), \"\")","v":""},{"$f":"IFERROR(INDEX(B34:B44, SMALL(IF(ISNUMBER(SEARCH(\"JV2\",F34:F44)), ROW(F34:F44)-MIN(ROW(F34:F44))+1, \"\"), ROW() -33 )), \"\")","v":""},{"$f":"IFERROR(INDEX(C34:C44, SMALL(IF(ISNUMBER(SEARCH(\"JV2\",F34:F44)), ROW(F34:F44)-MIN(ROW(F34:F44))+1, \"\"), ROW() -33 )), \"\")","v":""},{"$f":"IFERROR(INDEX(D34:D44, SMALL(IF(ISNUMBER(SEARCH(\"JV2\",F34:F44)), ROW(F34:F44)-MIN(ROW(F34:F44))+1, \"\"), ROW() -33 )), \"\")","v":""},{"$f":"IFERROR(INDEX(E34:E44, SMALL(IF(ISNUMBER(SEARCH(\"JV2\",F34:F44)), ROW(F34:F44)-MIN(ROW(F34:F44))+1, \"\"), ROW() -33 )), \"\")","v":""}]
[null,"Barton Community College",null,"17-36756","Kristy Wittig","JV1",null,4505.0,null,false,{"$nulls":17},{"$f":"IFERROR(INDEX(B34:B44, SMALL(IF(\"V\"=F34:F44, ROW(F34:F44)-MIN(ROW(F34:F44))+1, \"\"), ROW() -33 )), \"\")","v":""},{"$f":"IFERROR(INDEX(C34:C44, SMALL(IF(\"V\"=F34:F44, ROW(F34:F44)-MIN(ROW(F34:F44))+1, \"\"), ROW() -33 )), \"\")","v":""},{"$f":"IFERROR(INDEX(D34:D44, SMALL(IF(\"V\"=F34:F44, ROW(F34:F44)-MIN(ROW(F34:F44))+1, \"\"), ROW() -33 )), \"\")","v":""},{"$f":"IFERROR(INDEX(E34:E44, SMALL(IF(\"V\"=F34:F44, ROW(F34:F44)-MIN(ROW(F34:F44))+1, \"\"), ROW() -33 )), \"\")","v":""},{"$f":"IFERROR(INDEX(B34:B44, SMALL(IF(ISNUMBER(SEARCH(\"JV1\",F34:F44)), ROW(F34:F44)-MIN(ROW(F34:F44))+1, \"\"), ROW() -33 )), \"\")","v":""},{"$f":"IFERROR(INDEX(C34:C44, SMALL(IF(ISNUMBER(SEARCH(\"JV1\",F34:F44)), ROW(F34:F44)-MIN(ROW(F34:F44))+1, \"\"), ROW() -33 )), \"\")","v":""},{"$f":"IFERROR(INDEX(D34:D44, SMALL(IF(ISNUMBER(SEARCH(\"JV1\",F34:F44)), ROW(F34:F44)-MIN(ROW(F34:F44))+1, \"\"), ROW() -33 )), \"\")","v":""},{"$f":"IFERROR(INDEX(E34:E44, SMALL(IF(ISNUMBER(SEARCH(\"JV1\",F34:F44)), ROW(F34:F44)-MIN(ROW(F34:F44))+1, \"\"), ROW() -33 )), \"\")","v":""},{"$f":"IFERROR(INDEX(B34:B44, SMALL(IF(ISNUMBER(SEARCH(\"JV2\",F34:F44)), ROW(F34:F44)-MIN(ROW(F34:F44))+1, \"\"), ROW() -33 )), \"\")","v":""},{"$f":"IFERROR(INDEX(C34:C44, SMALL(IF(ISNUMBER(SEARCH(\"JV2\",F34:F44)), ROW(F34:F44)-MIN(ROW(F34:F44))+1, \"\"), ROW() -33 )), \"\")","v":""},{"$f":"IFERROR(INDEX(D34:D44, SMALL(IF(ISNUMBER(SEARCH(\"JV2\",F34:F44)), ROW(F34:F44)-MIN(ROW(F34:F44))+1, \"\"), ROW() -33 )), \"\")","v":""},{"$f":"IFERROR(INDEX(E34:E44, SMALL(IF(ISNUMBER(SEARCH(\"JV2\",F34:F44)), ROW(F34:F44)-MIN(ROW(F34:F44))+1, \"\"), ROW() -33 )), \"\")","v":""}]
[null,"Barton Community College",null,"22-25836","Leah Reid","JV1",null,4505.0,null,false]
[null,"Barton Community College",null,"11-188599","Mallory Cross","V",null,4505.0,null,false]
[null,"Barton Community College",null,"11-393971","Olivia Oliver","JV1",null,4505.0,null,false]
[null,"Coe College",null,"21-4177","Aaminah Dishman"," ",null,4520.0,null,false,{"$nulls":17},{"$f":"IFERROR(INDEX(B45:B62, SMALL(IF(\"V\"=F45:F62, ROW(F45:F62)-MIN(ROW(F45:F62))+1, \"\"), ROW() -44 )), \"\")","v":"Coe College"},{"$f":"IFERROR(INDEX(C45:C62, SMALL(IF(\"V\"=F45:F62, ROW(F45:F62)-MIN(ROW(F45:F62))+1, \"\"), ROW() -44 )), \"\")","v":""},{"$f":"IFERROR(INDEX(D45:D62, SMALL(IF(\"V\"=F45:F62, ROW(F45:F62)-MIN(ROW(F45:F62))+1, \"\"), ROW() -44 )), \"\")","v":"11-314483"},{"$f":"IFERROR(INDEX(E45:E62, SMALL(IF(\"V\"=F45:F62, ROW(F45:F62)-MIN(ROW(F45:F62))+1, \"\"), ROW() -44 )), \"\")","v":"Autumn Grzenia"},{"$f":"IFERROR(INDEX(B45:B62, SMALL(IF(ISNUMBER(SEARCH(\"JV1\",F45:F62)), ROW(F45:F62)-MIN(ROW(F45:F62))+1, \"\"), ROW() -44 )), \"\")","v":""},{"$f":"IFERROR(INDEX(C45:C62, SMALL(IF(ISNUMBER(SEARCH(\"JV1\",F45:F62)), ROW(F45:F62)-MIN(ROW(F45:F62))+1, \"\"), ROW() -44 )), \"\")","v":""},{"$f":"IFERROR(INDEX(D45:D62, SMALL(IF(ISNUMBER(SEARCH(\"JV1\",F45:F62)), ROW(F45:F62)-MIN(ROW(F45:F62))+1, \"\"), ROW() -44 )), \"\")","v":""},{"$f":"IFERROR(INDEX(E45:E62, SMALL(IF(ISNUMBER(SEARCH(\"JV1\",F45:F62)), ROW(F45:F62)-MIN(ROW(F45:F62))+1, \"\"), ROW() -44 )), \"\")","v":""},{"$f":"IFERROR(INDEX(B45:B62, SMALL(IF(ISNUMBER(SEARCH(\"JV2\",F45:F62)), ROW(F45:F62)-MIN(ROW(F45:F62))+1, \"\"), ROW() -44 )), \"\")","v":""},{"$f":"IFERROR(INDEX(C45:C62, SMALL(IF(ISNUMBER(SEARCH(\"JV2\",F45:F62)), ROW(F45:F62)-MIN(ROW(F45:F62))+1, \"\"), ROW() -44 )), \"\")","v":""},{"$f":"IFERROR(INDEX(D45:D62, SMALL(IF(ISNUMBER(SEARCH(\"JV2\",F45:F62)), ROW(F45:F62)-MIN(ROW(F45:F62))+1, \"\"), ROW() -44 )), \"\")","v":""},{"$f":"IFERROR(INDEX(E45:E62, SMALL(IF(ISNUMBER(SEARCH(\"JV2\",F45:F62)), ROW(F45:F62)-MIN(ROW(F45:F62))+1, \"\"), ROW() -44 )), \"\")","v":""}]
[null,"Coe College",null,"7914-3607","Alexsandra Thomas"," ",null,4520.0,null,false,{"$nulls":17},{"$f":"IFERROR(INDEX(B45:B62, SMALL(IF(\"V\"=F45:F62, ROW(F45:F62)-MIN(ROW(F45:F62))+1, \"\"), ROW() -44 )), \"\")","v":"Coe College"},{"$f":"IFERROR(INDEX(C45:C62, SMALL(IF(\"V\"=F45:F62, ROW(F45:F62)-MIN(ROW(F45:F62))+1, \"\"), ROW() -44 )), \"\")","v":""},{"$f":"IFERROR(INDEX(D45:D62, SMALL(IF(\"V\"=F45:F62, ROW(F45:F62)-MIN(ROW(F45:F62))+1, \"\"), ROW() -44 )), \"\")","v":"15-29134"},{"$f":"IFERROR(INDEX(E45:E62, SMALL(IF(\"V\"=F45:F62, ROW(F45:F62)-MIN(ROW(F45:F62))+1, \"\"), ROW() -44 )), \"\")","v":"Kaitelin Konz"},{"$f":"IFERROR(INDEX(B45:B62, SMALL(IF(ISNUMBER(SEARCH(\"JV1\",F45:F62)), ROW(F45:F62)-MIN(ROW(F45:F62))+1, \"\"), ROW() -44 )), \"\")","v":""},{"$f":"IFERROR(INDEX(C45:C62, SMALL(IF(ISNUMBER(SEARCH(\"JV1\",F45:F62)), ROW(F45:F62)-MIN(ROW(F45:F62))+1, \"\"), ROW() -44 )), \"\")","v":""},{"$f":"IFERROR(INDEX(D45:D62, SMALL(IF(ISNUMBER(SEARCH(\"JV1\",F45:F62)), ROW(F45:F62)-MIN(ROW(F45:F62))+1, \"\"), ROW() -44 )), \"\")","v":""},{"$f":"IFERROR(INDEX(E45:E62, SMALL(IF(ISNUMBER(SEARCH(\"JV1\",F45:F62)), ROW(F45:F62)-MIN(ROW(F45:F62))+1, \"\"), ROW() -44 )), \"\")","v":""},{"$f":"IFERROR(INDEX(B45:B62, SMALL(IF(ISNUMBER(SEARCH(\"JV2\",F45:F62)), ROW(F45:F62)-MIN(ROW(F45:F62))+1, \"\"), ROW() -44 )), \"\")","v":""},{"$f":"IFERROR(INDEX(C45:C62, SMALL(IF(ISNUMBER(SEARCH(\"JV2\",F45:F62)), ROW(F45:F62)-MIN(ROW(F45:F62))+1, \"\"), ROW() -44 )), \"\")","v":""},{"$f":"IFERROR(INDEX(D45:D62, SMALL(IF(ISNUMBER(SEARCH(\"JV2\",F45:F62)), ROW(F45:F62)-MIN(ROW(F45:F62))+1, \"\"), ROW() -44 )), \"\")","v":""},{"$f":"IFERROR(INDEX(E45:E62, SMALL(IF(ISNUMBER(SEARCH(\"JV2\",F45:F62)), ROW(F45:F62)-MIN(ROW(F45:F62))+1, \"\"), ROW() -44 )), \"\")","v":""}]
[null,"Coe College",null,"11-314483","Autumn Grzenia","V",null,4520.0,null,false,{"$nulls":17},{"$f":"IFERROR(INDEX(B45:B62, SMALL(IF(\"V\"=F45:F62, ROW(F45:F62)-MIN(ROW(F45:F62))+1, \"\"), ROW() -44 )), \"\")","v":"Coe College"},{"$f":"IFERROR(INDEX(C45:C62, SMALL(IF(\"V\"=F45:F62, ROW(F45:F62)-MIN(ROW(F45:F62))+1, \"\"), ROW() -44 )), \"\")","v":""},{"$f":"IFERROR(INDEX(D45:D62, SMALL(IF(\"V\"=F45:F62, ROW(F45:F62)-MIN(ROW(F45:F62))+1, \"\"), ROW() -44 )), \"\")","v":"19-80002"},{"$f":"IFERROR(INDEX(E45:E62, SMALL(IF(\"V\"=F45:F62, ROW(F45:F62)-MIN(ROW(F45:F62))+1, \"\"), ROW() -44 )), \"\")","v":"Kaliah Griffin"},{"$f":"IFERROR(INDEX(B45:B62, SMALL(IF(ISNUMBER(SEARCH(\"JV1\",F45:F62)), ROW(F45:F62)-MIN(ROW(F45:F62))+1, \"\"), ROW() -44 )), \"\")","v":""},{"$f":"IFERROR(INDEX(C45:C62, SMALL(IF(ISNUMBER(SEARCH(\"JV1\",F45:F62)), ROW(F45:F62)-MIN(ROW(F45:F62))+1, \"\"), ROW() -44 )), \"\")","v":""},{"$f":"IFERROR(INDEX(D45:D62, SMALL(IF(ISNUMBER(SEARCH(\"JV1\",F45:F62)), ROW(F45:F62)-MIN(ROW(F45:F62))+1, \"\"), ROW() -44 )), \"\")","v":""},{"$f":"IFERROR(INDEX(E45:E62, SMALL(IF(ISNUMBER(SEARCH(\"JV1\",F45:F62)), ROW(F45:F62)-MIN(ROW(F45:F62))+1, \"\"), ROW() -44 )), \"\")","v":""},{"$f":"IFERROR(INDEX(B45:B62, SMALL(IF(ISNUMBER(SEARCH(\"JV2\",F45:F62)), ROW(F45:F62)-MIN(ROW(F45:F62))+1, \"\"), ROW() -44 )), \"\")","v":""},{"$f":"IFERROR(INDEX(C45:C62, SMALL(IF(ISNUMBER(SEARCH(\"JV2\",F45:F62)), ROW(F45:F62)-MIN(ROW(F45:F62))+1, \"\"), ROW() -44 )), \"\")","v":""},{"$f":"IFERROR(INDEX(D45:D62, SMALL(IF(ISNUMBER(SEARCH(\"JV2\",F45:F62)), ROW(F45:F62)-MIN(ROW(F45:F62))+1, \"\"), ROW() -44 )), \"\")","v":""},{"$f":"IFERROR(INDEX(E45:E62, SMALL(IF(ISNUMBER(SEARCH(\"JV2\",F45:F62)), ROW(F45:F62)-MIN(ROW(F45:F62))+1, \"\"), ROW() -44 )), \"\")","v":""}]
[null,"Coe College",null,"22-9894","Camryn Platt"," ",null,4520.0,null,false,{"$nulls":17},{"$f":"IFERROR(INDEX(B45:B62, SMALL(IF(\"V\"=F45:F62, ROW(F45:F62)-MIN(ROW(F45:F62))+1, \"\"), ROW() -44 )), \"\")","v":"Coe College"},{"$f":"IFERROR(INDEX(C45:C62, SMALL(IF(\"V\"=F45:F62, ROW(F45:F62)-MIN(ROW(F45:F62))+1, \"\"), ROW() -44 )), \"\")","v":""},{"$f":"IFERROR(INDEX(D45:D62, SMALL(IF(\"V\"=F45:F62, ROW(F45:F62)-MIN(ROW(F45:F62))+1, \"\"), ROW() -44 )), \"\")","v":"16-124494"},{"$f":"IFERROR(INDEX(E45:E62, SMALL(IF(\"V\"=F45:F62, ROW(F45:F62)-MIN(ROW(F45:F62))+1, \"\"), ROW() -44 )), \"\")","v":"Katrina Kendle"},{"$f":"IFERROR(INDEX(B45:B62, SMALL(IF(ISNUMBER(SEARCH(\"JV1\",F45:F62)), ROW(F45:F62)-MIN(ROW(F45:F62))+1, \"\"), ROW() -44 )), \"\")","v":""},{"$f":"IFERROR(INDEX(C45:C62, SMALL(IF(ISNUMBER(SEARCH(\"JV1\",F45:F62)), ROW(F45:F62)-MIN(ROW(F45:F62))+1, \"\"), ROW() -44 )), \"\")","v":""},{"$f":"IFERROR(INDEX(D45:D62, SMALL(IF(ISNUMBER(SEARCH(\"JV1\",F45:F62)), ROW(F45:F62)-MIN(ROW(F45:F62))+1, \"\"), ROW() -44 )), \"\")","v":""},{"$f":"IFERROR(INDEX(E45:E62, SMALL(IF(ISNUMBER(SEARCH(\"JV1\",F45:F62)), ROW(F45:F62)-MIN(ROW(F45:F62))+1, \"\"), ROW() -44 )), \"\")","v":""},{"$f":"IFERROR(INDEX(B45:B62, SMALL(IF(ISNUMBER(SEARCH(\"JV2\",F45:F62)), ROW(F45:F62)-MIN(ROW(F45:F62))+1, \"\"), ROW() -44 )), \"\")","v":""},{"$f":"IFERROR(INDEX(C45:C62, SMALL(IF(ISNUMBER(SEARCH(\"JV2\",F45:F62)), ROW(F45:F62)-MIN(ROW(F45:F62))+1, \"\"), ROW() -44 )), \"\")","v":""},{"$f":"IFERROR(INDEX(D45:D62, SMALL(IF(ISNUMBER(SEARCH(\"JV2\",F45:F62)), ROW(F45:F62)-MIN(ROW(F45:F62))+1, \"\"), ROW() -44 )), \"\")","v":""},{"$f":"IFERROR(INDEX(E45:E62, SMALL(IF(ISNUMBER(SEARCH(\"JV2\",F45:F62)), ROW(F45:F62)-MIN(ROW(F45:F62))+1, \"\"), ROW() -44 )), \"\")","v":""}]
[null,"Coe College",null,"11-687872","Carli Gordon"," ",null,4520.0,null,false,{"$nulls":17},{"$f":"IFERROR(INDEX(B45:B62, SMALL(IF(\"V\"=F45:F62, ROW(F45:F62)-MIN(ROW(F45:F62))+1, \"\"), ROW() -44 )), \"\")","v":"Coe College"},{"$f":"IFERROR(INDEX(C45:C62, SMALL(IF(\"V\"=F45:F62, ROW(F45:F62)-MIN(ROW(F45:F62))+1, \"\"), ROW() -44 )), \"\")","v":""},{"$f":"IFERROR(INDEX(D45:D62, SMALL(IF(\"V\"=F45:F62, ROW(F45:F62)-MIN(ROW(F45:F62))+1, \"\"), ROW() -44 )), \"\")","v":"11-381940"},{"$f":"IFERROR(INDEX(E45:E62, SMALL(IF(\"V\"=F45:F62, ROW(F45:F62)-MIN(ROW(F45:F62))+1, \"\"), ROW() -44 )), \"\")","v":"Lauren Bodman"},{"$f":"IFERROR(INDEX(B45:B62, SMALL(IF(ISNUMBER(SEARCH(\"JV1\",F45:F62)), ROW(F45:F62)-MIN(ROW(F45:F62))+1, \"\"), ROW() -44 )), \"\")","v":""},{"$f":"IFERROR(INDEX(C45:C62, SMALL(IF(ISNUMBER(SEARCH(\"JV1\",F45:F62)), ROW(F45:F62)-MIN(ROW(F45:F62))+1, \"\"), ROW() -44 )), \"\")","v":""},{"$f":"IFERROR(INDEX(D45:D62, SMALL(IF(ISNUMBER(SEARCH(\"JV1\",F45:F62)), ROW(F45:F62)-MIN(ROW(F45:F62))+1, \"\"), ROW() -44 )), \"\")","v":""},{"$f":"IFERROR(INDEX(E45:E62, SMALL(IF(ISNUMBER(SEARCH(\"JV1\",F45:F62)), ROW(F45:F62)-MIN(ROW(F45:F62))+1, \"\"), ROW() -44 )), \"\")","v":""},{"$f":"IFERROR(INDEX(B45:B62, SMALL(IF(ISNUMBER(SEARCH(\"JV2\",F45:F62)), ROW(F45:F62)-MIN(ROW(F45:F62))+1, \"\"), ROW() -44 )), \"\")","v":""},{"$f":"IFERROR(INDEX(C45:C62, SMALL(IF(ISNUMBER(SEARCH(\"JV2\",F45:F62)), ROW(F45:F62)-MIN(ROW(F45:F62))+1, \"\"), ROW() -44 )), \"\")","v":""},{"$f":"IFERROR(INDEX(D45:D62, SMALL(IF(ISNUMBER(SEARCH(\"JV2\",F45:F62)), ROW(F45:F62)-MIN(ROW(F45:F62))+1, \"\"), ROW() -44 )), \"\")","v":""},{"$f":"IFERROR(INDEX(E45:E62, SMALL(IF(ISNUMBER(SEARCH(\"JV2\",F45:F62)), ROW(F45:F62)-MIN(ROW(F45:F62))+1, \"\"), ROW() -44 )), \"\")","v":""}]
[null,"Coe College",null,"22-9898","Cheyenne Spuehler"," ",null,4520.0,null,false,{"$nulls":17},{"$f":"IFERROR(INDEX(B45:B62, SMALL(IF(\"V\"=F45:F62, ROW(F45:F62)-MIN(ROW(F45:F62))+1, \"\"), ROW() -44 )), \"\")","v":"Coe College"},{"$f":"IFERROR(INDEX(C45:C62, SMALL(IF(\"V\"=F45:F62, ROW(F45:F62)-MIN(ROW(F45:F62))+1, \"\"), ROW() -44 )), \"\")","v":""},{"$f":"IFERROR(INDEX(D45:D62, SMALL(IF(\"V\"=F45:F62, ROW(F45:F62)-MIN(ROW(F45:F62))+1, \"\"), ROW() -44 )), \"\")","v":"11-477923"},{"$f":"IFERROR(INDEX(E45:E62, SMALL(IF(\"V\"=F45:F62, ROW(F45:F62)-MIN(ROW(F45:F62))+1, \"\"), ROW() -44 )), \"\")","v":"Michaela Beckmann"},{"$f":"IFERROR(INDEX(B45:B62, SMALL(IF(ISNUMBER(SEARCH(\"JV1\",F45:F62)), ROW(F45:F62)-MIN(ROW(F45:F62))+1, \"\"), ROW() -44 )), \"\")","v":""},{"$f":"IFERROR(INDEX(C45:C62, SMALL(IF(ISNUMBER(SEARCH(\"JV1\",F45:F62)), ROW(F45:F62)-MIN(ROW(F45:F62))+1, \"\"), ROW() -44 )), \"\")","v":""},{"$f":"IFERROR(INDEX(D45:D62, SMALL(IF(ISNUMBER(SEARCH(\"JV1\",F45:F62)), ROW(F45:F62)-MIN(ROW(F45:F62))+1, \"\"), ROW() -44 )), \"\")","v":""},{"$f":"IFERROR(INDEX(E45:E62, SMALL(IF(ISNUMBER(SEARCH(\"JV1\",F45:F62)), ROW(F45:F62)-MIN(ROW(F45:F62))+1, \"\"), ROW() -44 )), \"\")","v":""},{"$f":"IFERROR(INDEX(B45:B62, SMALL(IF(ISNUMBER(SEARCH(\"JV2\",F45:F62)), ROW(F45:F62)-MIN(ROW(F45:F62))+1, \"\"), ROW() -44 )), \"\")","v":""},{"$f":"IFERROR(INDEX(C45:C62, SMALL(IF(ISNUMBER(SEARCH(\"JV2\",F45:F62)), ROW(F45:F62)-MIN(ROW(F45:F62))+1, \"\"), ROW() -44 )), \"\")","v":""},{"$f":"IFERROR(INDEX(D45:D62, SMALL(IF(ISNUMBER(SEARCH(\"JV2\",F45:F62)), ROW(F45:F62)-MIN(ROW(F45:F62))+1, \"\"), ROW() -44 )), \"\")","v":""},{"$f":"IFERROR(INDEX(E45:E62, SMALL(IF(ISNUMBER(SEARCH(\"JV2\",F45:F62)), ROW(F45:F62)-MIN(ROW(F45:F62))+1, \"\"), ROW() -44 )), \"\")","v":""}]
[null,"Coe College",null,"18-48893","Christina Harrelson"," ",null,4520.0,null,false,{"$nulls":17},{"$f":"IFERROR(INDEX(B45:B62, SMALL(IF(\"V\"=F45:F62, ROW(F45:F62)-MIN(ROW(F45:F62))+1, \"\"), ROW() -44 )), \"\")","v":"Coe College"},{"$f":"IFERROR(INDEX(C45:C62, SMALL(IF(\"V\"=F45:F62, ROW(F45:F62)-MIN(ROW(F45:F62))+1, \"\"), ROW() -44 )), \"\")","v":""},{"$f":"IFERROR(INDEX(D45:D62, SMALL(IF(\"V\"=F45:F62, ROW(F45:F62)-MIN(ROW(F45:F62))+1, \"\"), ROW() -44 )), \"\")","v":"11-341614"},{"$f":"IFERROR(INDEX(E45:E62, SMALL(IF(\"V\"=F45:F62, ROW(F45:F62)-MIN(ROW(F45:F62))+1, \"\"), ROW() -44 )), \"\")","v":"Shelby Logston"},{"$f":"IFERROR(INDEX(B45:B62, SMALL(IF(ISNUMBER(SEARCH(\"JV1\",F45:F62)), ROW(F45:F62)-MIN(ROW(F45:F62))+1, \"\"), ROW() -44 )), \"\")","v":""},{"$f":"IFERROR(INDEX(C45:C62, SMALL(IF(ISNUMBER(SEARCH(\"JV1\",F45:F62)), ROW(F45:F62)-MIN(ROW(F45:F62))+1, \"\"), ROW() -44 )), \"\")","v":""},{"$f":"IFERROR(INDEX(D45:D62, SMALL(IF(ISNUMBER(SEARCH(\"JV1\",F45:F62)), ROW(F45:F62)-MIN(ROW(F45:F62))+1, \"\"), ROW() -44 )), \"\")","v":""},{"$f":"IFERROR(INDEX(E45:E62, SMALL(IF(ISNUMBER(SEARCH(\"JV1\",F45:F62)), ROW(F45:F62)-MIN(ROW(F45:F62))+1, \"\"), ROW() -44 )), \"\")","v":""},{"$f":"IFERROR(INDEX(B45:B62, SMALL(IF(ISNUMBER(SEARCH(\"JV2\",F45:F62)), ROW(F45:F62)-MIN(ROW(F45:F62))+1, \"\"), ROW() -44 )), \"\")","v":""},{"$f":"IFERROR(INDEX(C45:C62, SMALL(IF(ISNUMBER(SEARCH(\"JV2\",F45:F62)), ROW(F45:F62)-MIN(ROW(F45:F62))+1, \"\"), ROW() -44 )), \"\")","v":""},{"$f":"IFERROR(INDEX(D45:D62, SMALL(IF(ISNUMBER(SEARCH(\"JV2\",F45:F62)), ROW(F45:F62)-MIN(ROW(F45:F62))+1, \"\"), ROW() -44 )), \"\")","v":""},{"$f":"IFERROR(INDEX(E45:E62, SMALL(IF(ISNUMBER(SEARCH(\"JV2\",F45:F62)), ROW(F45:F62)-MIN(ROW(F45:F62))+1, \"\"), ROW() -44 )), \"\")","v":""}]
[null,"Coe College",null,"22-9897","Gracey Swanson"," ",null,4520.0,null,false,{"$nulls":17},{"$f":"IFERROR(INDEX(B45:B62, SMALL(IF(\"V\"=F45:F62, ROW(F45:F62)-MIN(ROW(F45:F62))+1, \"\"), ROW() -44 )), \"\")","v":"Coe College"},{"$f":"IFERROR(INDEX(C45:C62, SMALL(IF(\"V\"=F45:F62, ROW(F45:F62)-MIN(ROW(F45:F62))+1, \"\"), ROW() -44 )), \"\")","v":""},{"$f":"IFERROR(INDEX(D45:D62, SMALL(IF(\"V\"=F45:F62, ROW(F45:F62)-MIN(ROW(F45:F62))+1, \"\"), ROW() -44 )), \"\")","v":"11-35371"},{"$f":"IFERROR(INDEX(E45:E62, SMALL(IF(\"V\"=F45:F62, ROW(F45:F62)-MIN(ROW(F45:F62))+1, \"\"), ROW() -44 )), \"\")","v":"Whittney Morse"},{"$f":"IFERROR(INDEX(B45:B62, SMALL(IF(ISNUMBER(SEARCH(\"JV1\",F45:F62)), ROW(F45:F62)-MIN(ROW(F45:F62))+1, \"\"), ROW() -44 )), \"\")","v":""},{"$f":"IFERROR(INDEX(C45:C62, SMALL(IF(ISNUMBER(SEARCH(\"JV1\",F45:F62)), ROW(F45:F62)-MIN(ROW(F45:F62))+1, \"\"), ROW() -44 )), \"\")","v":""},{"$f":"IFERROR(INDEX(D45:D62, SMALL(IF(ISNUMBER(SEARCH(\"JV1\",F45:F62)), ROW(F45:F62)-MIN(ROW(F45:F62))+1, \"\"), ROW() -44 )), \"\")","v":""},{"$f":"IFERROR(INDEX(E45:E62, SMALL(IF(ISNUMBER(SEARCH(\"JV1\",F45:F62)), ROW(F45:F62)-MIN(ROW(F45:F62))+1, \"\"), ROW() -44 )), \"\")","v":""},{"$f":"IFERROR(INDEX(B45:B62, SMALL(IF(ISNUMBER(SEARCH(\"JV2\",F45:F62)), ROW(F45:F62)-MIN(ROW(F45:F62))+1, \"\"), ROW() -44 )), \"\")","v":""},{"$f":"IFERROR(INDEX(C45:C62, SMALL(IF(ISNUMBER(SEARCH(\"JV2\",F45:F62)), ROW(F45:F62)-MIN(ROW(F45:F62))+1, \"\"), ROW() -44 )), \"\")","v":""},{"$f":"IFERROR(INDEX(D45:D62, SMALL(IF(ISNUMBER(SEARCH(\"JV2\",F45:F62)), ROW(F45:F62)-MIN(ROW(F45:F62))+1, \"\"), ROW() -44 )), \"\")","v":""},{"$f":"IFERROR(INDEX(E45:E62, SMALL(IF(ISNUMBER(SEARCH(\"JV2\",F45:F62)), ROW(F45:F62)-MIN(ROW(F45:F62))+1, \"\"), ROW() -44 )), \"\")","v":""}]
[null,"Coe College",null,"11-636579","Jocelyn Shields"," ",null,4520.0,null,false]
[null,"Coe College",null,"15-29134","Kaitelin Konz","V",null,4520.0,null,false]
[null,"Coe College",null,"19-80002","Kaliah Griffin","V",null,4520.0,null,false]
[null,"Coe College",null,"16-124494","Katrina Kendle","V",null,4520.0,null,false]
[null,"Coe College",null,"11-381940","Lauren Bodman","V",null,4520.0,null,false]
[null,"Coe College",null,"11-477923","Michaela Beckmann","V",null,4520.0,null,false]
[null,"Coe College",null,"11-54539","Regyn Buffington"," ",null,4520.0,null,false]
[null,"Coe College",null,"11-341614","Shelby Logston","V",null,4520.0,null,false]
[null,"Coe College",null,"11-592286","Taylor Peterson"," ",null,4520.0,null,false]
[null,"Coe College",null,"11-35371","Whittney Morse","V",null,4520.0,null,false]
[null,"College Of Saint Mary",null,""," "," ",null,4445.0,null,false,{"$nulls":17},{"$f":"IFERROR(INDEX(B63:B70, SMALL(IF(\"V\"=F63:F70, ROW(F63:F70)-MIN(ROW(F63:F70))+1, \"\"), ROW() -62 )), \"\")","v":"College Of Saint Mary"},{"$f":"IFERROR(INDEX(C63:C70, SMALL(IF(\"V\"=F63:F70, ROW(F63:F70)-MIN(ROW(F63:F70))+1, \"\"), ROW() -62 )), \"\")","v":""},{"$f":"IFERROR(INDEX(D63:D70, SMALL(IF(\"V\"=F63:F70, ROW(F63:F70)-MIN(ROW(F63:F70))+1, \"\"), ROW() -62 )), \"\")","v":"11-180799"},{"$f":"IFERROR(INDEX(E63:E70, SMALL(IF(\"V\"=F63:F70, ROW(F63:F70)-MIN(ROW(F63:F70))+1, \"\"), ROW() -62 )), \"\")","v":"Alexius Brass"},{"$f":"IFERROR(INDEX(B63:B70, SMALL(IF(ISNUMBER(SEARCH(\"JV1\",F63:F70)), ROW(F63:F70)-MIN(ROW(F63:F70))+1, \"\"), ROW() -62 )), \"\")","v":""},{"$f":"IFERROR(INDEX(C63:C70, SMALL(IF(ISNUMBER(SEARCH(\"JV1\",F63:F70)), ROW(F63:F70)-MIN(ROW(F63:F70))+1, \"\"), ROW() -62 )), \"\")","v":""},{"$f":"IFERROR(INDEX(D63:D70, SMALL(IF(ISNUMBER(SEARCH(\"JV1\",F63:F70)), ROW(F63:F70)-MIN(ROW(F63:F70))+1, \"\"), ROW() -62 )), \"\")","v":""},{"$f":"IFERROR(INDEX(E63:E70, SMALL(IF(ISNUMBER(SEARCH(\"JV1\",F63:F70)), ROW(F63:F70)-MIN(ROW(F63:F70))+1, \"\"), ROW() -62 )), \"\")","v":""},{"$f":"IFERROR(INDEX(B63:B70, SMALL(IF(ISNUMBER(SEARCH(\"JV2\",F63:F70)), ROW(F63:F70)-MIN(ROW(F63:F70))+1, \"\"), ROW() -62 )), \"\")","v":""},{"$f":"IFERROR(INDEX(C63:C70, SMALL(IF(ISNUMBER(SEARCH(\"JV2\",F63:F70)), ROW(F63:F70)-MIN(ROW(F63:F70))+1, \"\"), ROW() -62 )), \"\")","v":""},{"$f":"IFERROR(INDEX(D63:D70, SMALL(IF(ISNUMBER(SEARCH(\"JV2\",F63:F70)), ROW(F63:F70)-MIN(ROW(F63:F70))+1, \"\"), ROW() -62 )), \"\")","v":""},{"$f":"IFERROR(INDEX(E63:E70, SMALL(IF(ISNUMBER(SEARCH(\"JV2\",F63:F70)), ROW(F63:F70)-MIN(ROW(F63:F70))+1, \"\"), ROW() -62 )), \"\")","v":""}]
[null,"College Of Saint Mary",null,"11-180799","Alexius Brass","V",null,4445.0,null,false,{"$nulls":17},{"$f":"IFERROR(INDEX(B63:B70, SMALL(IF(\"V\"=F63:F70, ROW(F63:F70)-MIN(ROW(F63:F70))+1, \"\"), ROW() -62 )), \"\")","v":"College Of Saint Mary"},{"$f":"IFERROR(INDEX(C63:C70, SMALL(IF(\"V\"=F63:F70, ROW(F63:F70)-MIN(ROW(F63:F70))+1, \"\"), ROW() -62 )), \"\")","v":""},{"$f":"IFERROR(INDEX(D63:D70, SMALL(IF(\"V\"=F63:F70, ROW(F63:F70)-MIN(ROW(F63:F70))+1, \"\"), ROW() -62 )), \"\")","v":"7914-679"},{"$f":"IFERROR(INDEX(E63:E70, SMALL(IF(\"V\"=F63:F70, ROW(F63:F70)-MIN(ROW(F63:F70))+1, \"\"), ROW() -62 )), \"\")","v":"Cassidy Bradley"},{"$f":"IFERROR(INDEX(B63:B70, SMALL(IF(ISNUMBER(SEARCH(\"JV1\",F63:F70)), ROW(F63:F70)-MIN(ROW(F63:F70))+1, \"\"), ROW() -62 )), \"\")","v":""},{"$f":"IFERROR(INDEX(C63:C70, SMALL(IF(ISNUMBER(SEARCH(\"JV1\",F63:F70)), ROW(F63:F70)-MIN(ROW(F63:F70))+1, \"\"), ROW() -62 )), \"\")","v":""},{"$f":"IFERROR(INDEX(D63:D70, SMALL(IF(ISNUMBER(SEARCH(\"JV1\",F63:F70)), ROW(F63:F70)-MIN(ROW(F63:F70))+1, \"\"), ROW() -62 )), \"\")","v":""},{"$f":"IFERROR(INDEX(E63:E70, SMALL(IF(ISNUMBER(SEARCH(\"JV1\",F63:F70)), ROW(F63:F70)-MIN(ROW(F63:F70))+1, \"\"), ROW() -62 )), \"\")","v":""},{"$f":"IFERROR(INDEX(B63:B70, SMALL(IF(ISNUMBER(SEARCH(\"JV2\",F63:F70)), ROW(F63:F70)-MIN(ROW(F63:F70))+1, \"\"), ROW() -62 )), \"\")","v":""},{"$f":"IFERROR(INDEX(C63:C70, SMALL(IF(ISNUMBER(SEARCH(\"JV2\",F63:F70)), ROW(F63:F70)-MIN(ROW(F63:F70))+1, \"\"), ROW() -62 )), \"\")","v":""},{"$f":"IFERROR(INDEX(D63:D70, SMALL(IF(ISNUMBER(SEARCH(\"JV2\",F63:F70)), ROW(F63:F70)-MIN(ROW(F63:F70))+1, \"\"), ROW() -62 )), \"\")","v":""},{"$f":"IFERROR(INDEX(E63:E70, SMALL(IF(ISNUMBER(SEARCH(\"JV2\",F63:F70)), ROW(F63:F70)-MIN(ROW(F63:F70))+1, \"\"), ROW() -62 )), \"\")","v":""}]
[null,"College Of Saint Mary",null,"7914-679","Cassidy Bradley","V",null,4445.0,null,false,{"$nulls":17},{"$f":"IFERROR(INDEX(B63:B70, SMALL(IF(\"V\"=F63:F70, ROW(F63:F70)-MIN(ROW(F63:F70))+1, \"\"), ROW() -62 )), \"\")","v":"College Of Saint Mary"},{"$f":"IFERROR(INDEX(C63:C70, SMALL(IF(\"V\"=F63:F70, ROW(F63:F70)-MIN(ROW(F63:F70))+1, \"\"), ROW() -62 )), \"\")","v":""},{"$f":"IFERROR(INDEX(D63:D70, SMALL(IF(\"V\"=F63:F70, ROW(F63:F70)-MIN(ROW(F63:F70))+1, \"\"), ROW() -62 )), \"\")","v":"15-118872"},{"$f":"IFERROR(INDEX(E63:E70, SMALL(IF(\"V\"=F63:F70, ROW(F63:F70)-MIN(ROW(F63:F70))+1, \"\"), ROW() -62 )), \"\")","v":"Janica Soar"},{"$f":"IFERROR(INDEX(B63:B70, SMALL(IF(ISNUMBER(SEARCH(\"JV1\",F63:F70)), ROW(F63:F70)-MIN(ROW(F63:F70))+1, \"\"), ROW() -62 )), \"\")","v":""},{"$f":"IFERROR(INDEX(C63:C70, SMALL(IF(ISNUMBER(SEARCH(\"JV1\",F63:F70)), ROW(F63:F70)-MIN(ROW(F63:F70))+1, \"\"), ROW() -62 )), \"\")","v":""},{"$f":"IFERROR(INDEX(D63:D70, SMALL(IF(ISNUMBER(SEARCH(\"JV1\",F63:F70)), ROW(F63:F70)-MIN(ROW(F63:F70))+1, \"\"), ROW() -62 )), \"\")","v":""},{"$f":"IFERROR(INDEX(E63:E70, SMALL(IF(ISNUMBER(SEARCH(\"JV1\",F63:F70)), ROW(F63:F70)-MIN(ROW(F63:F70))+1, \"\"), ROW() -62 )), \"\")","v":""},{"$f":"IFERROR(INDEX(B63:B70, SMALL(IF(ISNUMBER(SEARCH(\"JV2\",F63:F70)), ROW(F63:F70)-MIN(ROW(F63:F70))+1, \"\"), ROW() -62 )), \"\")","v":""},{"$f":"IFERROR(INDEX(C63:C70, SMALL(IF(ISNUMBER(SEARCH(\"JV2\",F63:F70)), ROW(F63:F70)-MIN(ROW(F63:F70))+1, \"\"), ROW() -62 )), \"\")","v":""},{"$f":"IFERROR(INDEX(D63:D70, SMALL(IF(ISNUMBER(SEARCH(\"JV2\",F63:F70)), ROW(F63:F70)-MIN(ROW(F63:F70))+1, \"\"), ROW() -62 )), \"\")","v":""},{"$f":"IFERROR(INDEX(E63:E70, SMALL(IF(ISNUMBER(SEARCH(\"JV2\",F63:F70)), ROW(F63:F70)-MIN(ROW(F63:F70))+1, \"\"), ROW() -62 )), \"\")","v":""}]
[null,"College Of Saint Mary",null,"15-118872","Janica Soar","V",null,4445.0,null,false,{"$nulls":17},{"$f":"IFERROR(INDEX(B63:B70, SMALL(IF(\"V\"=F63:F70, ROW(F63:F70)-MIN(ROW(F63:F70))+1, \"\"), ROW() -62 )), \"\")","v":"College Of Saint Mary"},{"$f":"IFERROR(INDEX(C63:C70, SMALL(IF(\"V\"=F63:F70, ROW(F63:F70)-MIN(ROW(F63:F70))+1, \"\"), ROW() -62 )), \"\")","v":""},{"$f":"IFERROR(INDEX(D63:D70, SMALL(IF(\"V\"=F63:F70, ROW(F63:F70)-MIN(ROW(F63:F70))+1, \"\"), ROW() -62 )), \"\")","v":"17-33555"},{"$f":"IFERROR(INDEX(E63:E70, SMALL(IF(\"V\"=F63:F70, ROW(F63:F70)-MIN(ROW(F63:F70))+1, \"\"), ROW() -62 )), \"\")","v":"Kaitlyn Dickmeyer"},{"$f":"IFERROR(INDEX(B63:B70, SMALL(IF(ISNUMBER(SEARCH(\"JV1\",F63:F70)), ROW(F63:F70)-MIN(ROW(F63:F70))+1, \"\"), ROW() -62 )), \"\")","v":""},{"$f":"IFERROR(INDEX(C63:C70, SMALL(IF(ISNUMBER(SEARCH(\"JV1\",F63:F70)), ROW(F63:F70)-MIN(ROW(F63:F70))+1, \"\"), ROW() -62 )), \"\")","v":""},{"$f":"IFERROR(INDEX(D63:D70, SMALL(IF(ISNUMBER(SEARCH(\"JV1\",F63:F70)), ROW(F63:F70)-MIN(ROW(F63:F70))+1, \"\"), ROW() -62 )), \"\")","v":""},{"$f":"IFERROR(INDEX(E63:E70, SMALL(IF(ISNUMBER(SEARCH(\"JV1\",F63:F70)), ROW(F63:F70)-MIN(ROW(F63:F70))+1, \"\"), ROW() -62 )), \"\")","v":""},{"$f":"IFERROR(INDEX(B63:B70, SMALL(IF(ISNUMBER(SEARCH(\"JV2\",F63:F70)), ROW(F63:F70)-MIN(ROW(F63:F70))+1, \"\"), ROW() -62 )), \"\")","v":""},{"$f":"IFERROR(INDEX(C63:C70, SMALL(IF(ISNUMBER(SEARCH(\"JV2\",F63:F70)), ROW(F63:F70)-MIN(ROW(F63:F70))+1, \"\"), ROW() -62 )), \"\")","v":""},{"$f":"IFERROR(INDEX(D63:D70, SMALL(IF(ISNUMBER(SEARCH(\"JV2\",F63:F70)), ROW(F63:F70)-MIN(ROW(F63:F70))+1, \"\"), ROW() -62 )), \"\")","v":""},{"$f":"IFERROR(INDEX(E63:E70, SMALL(IF(ISNUMBER(SEARCH(\"JV2\",F63:F70)), ROW(F63:F70)-MIN(ROW(F63:F70))+1, \"\"), ROW() -62 )), \"\")","v":""}]
[null,"College Of Saint Mary",null,"17-33555","Kaitlyn Dickmeyer","V",null,4445.0,null,false,{"$nulls":17},{"$f":"IFERROR(INDEX(B63:B70, SMALL(IF(\"V\"=F63:F70, ROW(F63:F70)-MIN(ROW(F63:F70))+1, \"\"), ROW() -62 )), \"\")","v":"College Of Saint Mary"},{"$f":"IFERROR(INDEX(C63:C70, SMALL(IF(\"V\"=F63:F70, ROW(F63:F70)-MIN(ROW(F63:F70))+1, \"\"), ROW() -62 )), \"\")","v":""},{"$f":"IFERROR(INDEX(D63:D70, SMALL(IF(\"V\"=F63:F70, ROW(F63:F70)-MIN(ROW(F63:F70))+1, \"\"), ROW() -62 )), \"\")","v":"11-103569"},{"$f":"IFERROR(INDEX(E63:E70, SMALL(IF(\"V\"=F63:F70, ROW(F63:F70)-MIN(ROW(F63:F70))+1, \"\"), ROW() -62 )), \"\")","v":"Lexie Busch"},{"$f":"IFERROR(INDEX(B63:B70, SMALL(IF(ISNUMBER(SEARCH(\"JV1\",F63:F70)), ROW(F63:F70)-MIN(ROW(F63:F70))+1, \"\"), ROW() -62 )), \"\")","v":""},{"$f":"IFERROR(INDEX(C63:C70, SMALL(IF(ISNUMBER(SEARCH(\"JV1\",F63:F70)), ROW(F63:F70)-MIN(ROW(F63:F70))+1, \"\"), ROW() -62 )), \"\")","v":""},{"$f":"IFERROR(INDEX(D63:D70, SMALL(IF(ISNUMBER(SEARCH(\"JV1\",F63:F70)), ROW(F63:F70)-MIN(ROW(F63:F70))+1, \"\"), ROW() -62 )), \"\")","v":""},{"$f":"IFERROR(INDEX(E63:E70, SMALL(IF(ISNUMBER(SEARCH(\"JV1\",F63:F70)), ROW(F63:F70)-MIN(ROW(F63:F70))+1, \"\"), ROW() -62 )), \"\")","v":""},{"$f":"IFERROR(INDEX(B63:B70, SMALL(IF(ISNUMBER(SEARCH(\"JV2\",F63:F70)), ROW(F63:F70)-MIN(ROW(F63:F70))+1, \"\"), ROW() -62 )), \"\")","v":""},{"$f":"IFERROR(INDEX(C63:C70, SMALL(IF(ISNUMBER(SEARCH(\"JV2\",F63:F70)), ROW(F63:F70)-MIN(ROW(F63:F70))+1, \"\"), ROW() -62 )), \"\")","v":""},{"$f":"IFERROR(INDEX(D63:D70, SMALL(IF(ISNUMBER(SEARCH(\"JV2\",F63:F70)), ROW(F63:F70)-MIN(ROW(F63:F70))+1, \"\"), ROW() -62 )), \"\")","v":""},{"$f":"IFERROR(INDEX(E63:E70, SMALL(IF(ISNUMBER(SEARCH(\"JV2\",F63:F70)), ROW(F63:F70)-MIN(ROW(F63:F70))+1, \"\"), ROW() -62 )), \"\")","v":""}]
[null,"College Of Saint Mary",null,"11-103569","Lexie Busch","V",null,4445.0,null,false,{"$nulls":17},{"$f":"IFERROR(INDEX(B63:B70, SMALL(IF(\"V\"=F63:F70, ROW(F63:F70)-MIN(ROW(F63:F70))+1, \"\"), ROW() -62 )), \"\")","v":"College Of Saint Mary"},{"$f":"IFERROR(INDEX(C63:C70, SMALL(IF(\"V\"=F63:F70, ROW(F63:F70)-MIN(ROW(F63:F70))+1, \"\"), ROW() -62 )), \"\")","v":""},{"$f":"IFERROR(INDEX(D63:D70, SMALL(IF(\"V\"=F63:F70, ROW(F63:F70)-MIN(ROW(F63:F70))+1, \"\"), ROW() -62 )), \"\")","v":"22-12243"},{"$f":"IFERROR(INDEX(E63:E70, SMALL(IF(\"V\"=F63:F70, ROW(F63:F70)-MIN(ROW(F63:F70))+1, \"\"), ROW() -62 )), \"\")","v":"Marissa Byrd"},{"$f":"IFERROR(INDEX(B63:B70, SMALL(IF(ISNUMBER(SEARCH(\"JV1\",F63:F70)), ROW(F63:F70)-MIN(ROW(F63:F70))+1, \"\"), ROW() -62 )), \"\")","v":""},{"$f":"IFERROR(INDEX(C63:C70, SMALL(IF(ISNUMBER(SEARCH(\"JV1\",F63:F70)), ROW(F63:F70)-MIN(ROW(F63:F70))+1, \"\"), ROW() -62 )), \"\")","v":""},{"$f":"IFERROR(INDEX(D63:D70, SMALL(IF(ISNUMBER(SEARCH(\"JV1\",F63:F70)), ROW(F63:F70)-MIN(ROW(F63:F70))+1, \"\"), ROW() -62 )), \"\")","v":""},{"$f":"IFERROR(INDEX(E63:E70, SMALL(IF(ISNUMBER(SEARCH(\"JV1\",F63:F70)), ROW(F63:F70)-MIN(ROW(F63:F70))+1, \"\"), ROW() -62 )), \"\")","v":""},{"$f":"IFERROR(INDEX(B63:B70, SMALL(IF(ISNUMBER(SEARCH(\"JV2\",F63:F70)), ROW(F63:F70)-MIN(ROW(F63:F70))+1, \"\"), ROW() -62 )), \"\")","v":""},{"$f":"IFERROR(INDEX(C63:C70, SMALL(IF(ISNUMBER(SEARCH(\"JV2\",F63:F70)), ROW(F63:F70)-MIN(ROW(F63:F70))+1, \"\"), ROW() -62 )), \"\")","v":""},{"$f":"IFERROR(INDEX(D63:D70, SMALL(IF(ISNUMBER(SEARCH(\"JV2\",F63:F70)), ROW(F63:F70)-MIN(ROW(F63:F70))+1, \"\"), ROW() -62 )), \"\")","v":""},{"$f":"IFERROR(INDEX(E63:E70, SMALL(IF(ISNUMBER(SEARCH(\"JV2\",F63:F70)), ROW(F63:F70)-MIN(ROW(F63:F70))+1, \"\"), ROW() -62 )), \"\")","v":""}]
[null,"College Of Saint Mary",null,"22-12243","Marissa Byrd","V",null,4445.0,null,false,{"$nulls":17},{"$f":"IFERROR(INDEX(B63:B70, SMALL(IF(\"V\"=F63:F70, ROW(F63:F70)-MIN(ROW(F63:F70))+1, \"\"), ROW() -62 )), \"\")","v":""},{"$f":"IFERROR(INDEX(C63:C70, SMALL(IF(\"V\"=F63:F70, ROW(F63:F70)-MIN(ROW(F63:F70))+1, \"\"), ROW() -62 )), \"\")","v":""},{"$f":"IFERROR(INDEX(D63:D70, SMALL(IF(\"V\"=F63:F70, ROW(F63:F70)-MIN(ROW(F63:F70))+1, \"\"), ROW() -62 )), \"\")","v":""},{"$f":"IFERROR(INDEX(E63:E70, SMALL(IF(\"V\"=F63:F70, ROW(F63:F70)-MIN(ROW(F63:F70))+1, \"\"), ROW() -62 )), \"\")","v":""},{"$f":"IFERROR(INDEX(B63:B70, SMALL(IF(ISNUMBER(SEARCH(\"JV1\",F63:F70)), ROW(F63:F70)-MIN(ROW(F63:F70))+1, \"\"), ROW() -62 )), \"\")","v":""},{"$f":"IFERROR(INDEX(C63:C70, SMALL(IF(ISNUMBER(SEARCH(\"JV1\",F63:F70)), ROW(F63:F70)-MIN(ROW(F63:F70))+1, \"\"), ROW() -62 )), \"\")","v":""},{"$f":"IFERROR(INDEX(D63:D70, SMALL(IF(ISNUMBER(SEARCH(\"JV1\",F63:F70)), ROW(F63:F70)-MIN(ROW(F63:F70))+1, \"\"), ROW() -62 )), \"\")","v":""},{"$f":"IFERROR(INDEX(E63:E70, SMALL(IF(ISNUMBER(SEARCH(\"JV1\",F63:F70)), ROW(F63:F70)-MIN(ROW(F63:F70))+1, \"\"), ROW() -62 )), \"\")","v":""},{"$f":"IFERROR(INDEX(B63:B70, SMALL(IF(ISNUMBER(SEARCH(\"JV2\",F63:F70)), ROW(F63:F70)-MIN(ROW(F63:F70))+1, \"\"), ROW() -62 )), \"\")","v":""},{"$f":"IFERROR(INDEX(C63:C70, SMALL(IF(ISNUMBER(SEARCH(\"JV2\",F63:F70)), ROW(F63:F70)-MIN(ROW(F63:F70))+1, \"\"), ROW() -62 )), \"\")","v":""},{"$f":"IFERROR(INDEX(D63:D70, SMALL(IF(ISNUMBER(SEARCH(\"JV2\",F63:F70)), ROW(F63:F70)-MIN(ROW(F63:F70))+1, \"\"), ROW() -62 )), \"\")","v":""},{"$f":"IFERROR(INDEX(E63:E70, SMALL(IF(ISNUMBER(SEARCH(\"JV2\",F63:F70)), ROW(F63:F70)-MIN(ROW(F63:F70))+1, \"\"), ROW() -62 )), \"\")","v":""}]
[null,"College Of Saint Mary",null,"19-11305","Yaramy Hernandez-Marin"," ",null,4445.0,null,false,{"$nulls":17},{"$f":"IFERROR(INDEX(B63:B70, SMALL(IF(\"V\"=F63:F70, ROW(F63:F70)-MIN(ROW(F63:F70))+1, \"\"), ROW() -62 )), \"\")","v":""},{"$f":"IFERROR(INDEX(C63:C70, SMALL(IF(\"V\"=F63:F70, ROW(F63:F70)-MIN(ROW(F63:F70))+1, \"\"), ROW() -62 )), \"\")","v":""},{"$f":"IFERROR(INDEX(D63:D70, SMALL(IF(\"V\"=F63:F70, ROW(F63:F70)-MIN(ROW(F63:F70))+1, \"\"), ROW() -62 )), \"\")","v":""},{"$f":"IFERROR(INDEX(E63:E70, SMALL(IF(\"V\"=F63:F70, ROW(F63:F70)-MIN(ROW(F63:F70))+1, \"\"), ROW() -62 )), \"\")","v":""},{"$f":"IFERROR(INDEX(B63:B70, SMALL(IF(ISNUMBER(SEARCH(\"JV1\",F63:F70)), ROW(F63:F70)-MIN(ROW(F63:F70))+1, \"\"), ROW() -62 )), \"\")","v":""},{"$f":"IFERROR(INDEX(C63:C70, SMALL(IF(ISNUMBER(SEARCH(\"JV1\",F63:F70)), ROW(F63:F70)-MIN(ROW(F63:F70))+1, \"\"), ROW() -62 )), \"\")","v":""},{"$f":"IFERROR(INDEX(D63:D70, SMALL(IF(ISNUMBER(SEARCH(\"JV1\",F63:F70)), ROW(F63:F70)-MIN(ROW(F63:F70))+1, \"\"), ROW() -62 )), \"\")","v":""},{"$f":"IFERROR(INDEX(E63:E70, SMALL(IF(ISNUMBER(SEARCH(\"JV1\",F63:F70)), ROW(F63:F70)-MIN(ROW(F63:F70))+1, \"\"), ROW() -62 )), \"\")","v":""},{"$f":"IFERROR(INDEX(B63:B70, SMALL(IF(ISNUMBER(SEARCH(\"JV2\",F63:F70)), ROW(F63:F70)-MIN(ROW(F63:F70))+1, \"\"), ROW() -62 )), \"\")","v":""},{"$f":"IFERROR(INDEX(C63:C70, SMALL(IF(ISNUMBER(SEARCH(\"JV2\",F63:F70)), ROW(F63:F70)-MIN(ROW(F63:F70))+1, \"\"), ROW() -62 )), \"\")","v":""},{"$f":"IFERROR(INDEX(D63:D70, SMALL(IF(ISNUMBER(SEARCH(\"JV2\",F63:F70)), ROW(F63:F70)-MIN(ROW(F63:F70))+1, \"\"), ROW() -62 )), \"\")","v":""},{"$f":"IFERROR(INDEX(E63:E70, SMALL(IF(ISNUMBER(SEARCH(\"JV2\",F63:F70)), ROW(F63:F70)-MIN(ROW(F63:F70))+1, \"\"), ROW() -62 )), \"\")","v":""}]
[null,"Culver-Stockton College",null,"7914-30106","Alexie Little","V",null,4352.0,null,false,{"$nulls":17},{"$f":"IFERROR(INDEX(B71:B80, SMALL(IF(\"V\"=F71:F80, ROW(F71:F80)-MIN(ROW(F71:F80))+1, \"\"), ROW() -70 )), \"\")","v":"Culver-Stockton College"},{"$f":"IFERROR(INDEX(C71:C80, SMALL(IF(\"V\"=F71:F80, ROW(F71:F80)-MIN(ROW(F71:F80))+1, \"\"), ROW() -70 )), \"\")","v":""},{"$f":"IFERROR(INDEX(D71:D80, SMALL(IF(\"V\"=F71:F80, ROW(F71:F80)-MIN(ROW(F71:F80))+1, \"\"), ROW() -70 )), \"\")","v":"7914-30106"},{"$f":"IFERROR(INDEX(E71:E80, SMALL(IF(\"V\"=F71:F80, ROW(F71:F80)-MIN(ROW(F71:F80))+1, \"\"), ROW() -70 )), \"\")","v":"Alexie Little"},{"$f":"IFERROR(INDEX(B71:B80, SMALL(IF(ISNUMBER(SEARCH(\"JV1\",F71:F80)), ROW(F71:F80)-MIN(ROW(F71:F80))+1, \"\"), ROW() -70 )), \"\")","v":""},{"$f":"IFERROR(INDEX(C71:C80, SMALL(IF(ISNUMBER(SEARCH(\"JV1\",F71:F80)), ROW(F71:F80)-MIN(ROW(F71:F80))+1, \"\"), ROW() -70 )), \"\")","v":""},{"$f":"IFERROR(INDEX(D71:D80, SMALL(IF(ISNUMBER(SEARCH(\"JV1\",F71:F80)), ROW(F71:F80)-MIN(ROW(F71:F80))+1, \"\"), ROW() -70 )), \"\")","v":""},{"$f":"IFERROR(INDEX(E71:E80, SMALL(IF(ISNUMBER(SEARCH(\"JV1\",F71:F80)), ROW(F71:F80)-MIN(ROW(F71:F80))+1, \"\"), ROW() -70 )), \"\")","v":""},{"$f":"IFERROR(INDEX(B71:B80, SMALL(IF(ISNUMBER(SEARCH(\"JV2\",F71:F80)), ROW(F71:F80)-MIN(ROW(F71:F80))+1, \"\"), ROW() -70 )), \"\")","v":""},{"$f":"IFERROR(INDEX(C71:C80, SMALL(IF(ISNUMBER(SEARCH(\"JV2\",F71:F80)), ROW(F71:F80)-MIN(ROW(F71:F80))+1, \"\"), ROW() -70 )), \"\")","v":""},{"$f":"IFERROR(INDEX(D71:D80, SMALL(IF(ISNUMBER(SEARCH(\"JV2\",F71:F80)), ROW(F71:F80)-MIN(ROW(F71:F80))+1, \"\"), ROW() -70 )), \"\")","v":""},{"$f":"IFERROR(INDEX(E71:E80, SMALL(IF(ISNUMBER(SEARCH(\"JV2\",F71:F80)), ROW(F71:F80)-MIN(ROW(F71:F80))+1, \"\"), ROW() -70 )), \"\")","v":""}]
[null,"Culver-Stockton College",null,"16-77588","Allisyn Pohl","V",null,4352.0,null,false,{"$nulls":17},{"$f":"IFERROR(INDEX(B71:B80, SMALL(IF(\"V\"=F71:F80, ROW(F71:F80)-MIN(ROW(F71:F80))+1, \"\"), ROW() -70 )), \"\")","v":"Culver-Stockton College"},{"$f":"IFERROR(INDEX(C71:C80, SMALL(IF(\"V\"=F71:F80, ROW(F71:F80)-MIN(ROW(F71:F80))+1, \"\"), ROW() -70 )), \"\")","v":""},{"$f":"IFERROR(INDEX(D71:D80, SMALL(IF(\"V\"=F71:F80, ROW(F71:F80)-MIN(ROW(F71:F80))+1, \"\"), ROW() -70 )), \"\")","v":"16-77588"},{"$f":"IFERROR(INDEX(E71:E80, SMALL(IF(\"V\"=F71:F80, ROW(F71:F80)-MIN(ROW(F71:F80))+1, \"\"), ROW() -70 )), \"\")","v":"Allisyn Pohl"},{"$f":"IFERROR(INDEX(B71:B80, SMALL(IF(ISNUMBER(SEARCH(\"JV1\",F71:F80)), ROW(F71:F80)-MIN(ROW(F71:F80))+1, \"\"), ROW() -70 )), \"\")","v":""},{"$f":"IFERROR(INDEX(C71:C80, SMALL(IF(ISNUMBER(SEARCH(\"JV1\",F71:F80)), ROW(F71:F80)-MIN(ROW(F71:F80))+1, \"\"), ROW() -70 )), \"\")","v":""},{"$f":"IFERROR(INDEX(D71:D80, SMALL(IF(ISNUMBER(SEARCH(\"JV1\",F71:F80)), ROW(F71:F80)-MIN(ROW(F71:F80))+1, \"\"), ROW() -70 )), \"\")","v":""},{"$f":"IFERROR(INDEX(E71:E80, SMALL(IF(ISNUMBER(SEARCH(\"JV1\",F71:F80)), ROW(F71:F80)-MIN(ROW(F71:F80))+1, \"\"), ROW() -70 )), \"\")","v":""},{"$f":"IFERROR(INDEX(B71:B80, SMALL(IF(ISNUMBER(SEARCH(\"JV2\",F71:F80)), ROW(F71:F80)-MIN(ROW(F71:F80))+1, \"\"), ROW() -70 )), \"\")","v":""},{"$f":"IFERROR(INDEX(C71:C80, SMALL(IF(ISNUMBER(SEARCH(\"JV2\",F71:F80)), ROW(F71:F80)-MIN(ROW(F71:F80))+1, \"\"), ROW() -70 )), \"\")","v":""},{"$f":"IFERROR(INDEX(D71:D80, SMALL(IF(ISNUMBER(SEARCH(\"JV2\",F71:F80)), ROW(F71:F80)-MIN(ROW(F71:F80))+1, \"\"), ROW() -70 )), \"\")","v":""},{"$f":"IFERROR(INDEX(E71:E80, SMALL(IF(ISNUMBER(SEARCH(\"JV2\",F71:F80)), ROW(F71:F80)-MIN(ROW(F71:F80))+1, \"\"), ROW() -70 )), \"\")","v":""}]
[null,"Culver-Stockton College",null,"11-450352","Bailey Orsette","V",null,4352.0,null,false,{"$nulls":17},{"$f":"IFERROR(INDEX(B71:B80, SMALL(IF(\"V\"=F71:F80, ROW(F71:F80)-MIN(ROW(F71:F80))+1, \"\"), ROW() -70 )), \"\")","v":"Culver-Stockton College"},{"$f":"IFERROR(INDEX(C71:C80, SMALL(IF(\"V\"=F71:F80, ROW(F71:F80)-MIN(ROW(F71:F80))+1, \"\"), ROW() -70 )), \"\")","v":""},{"$f":"IFERROR(INDEX(D71:D80, SMALL(IF(\"V\"=F71:F80, ROW(F71:F80)-MIN(ROW(F71:F80))+1, \"\"), ROW() -70 )), \"\")","v":"11-450352"},{"$f":"IFERROR(INDEX(E71:E80, SMALL(IF(\"V\"=F71:F80, ROW(F71:F80)-MIN(ROW(F71:F80))+1, \"\"), ROW() -70 )), \"\")","v":"Bailey Orsette"},{"$f":"IFERROR(INDEX(B71:B80, SMALL(IF(ISNUMBER(SEARCH(\"JV1\",F71:F80)), ROW(F71:F80)-MIN(ROW(F71:F80))+1, \"\"), ROW() -70 )), \"\")","v":""},{"$f":"IFERROR(INDEX(C71:C80, SMALL(IF(ISNUMBER(SEARCH(\"JV1\",F71:F80)), ROW(F71:F80)-MIN(ROW(F71:F80))+1, \"\"), ROW() -70 )), \"\")","v":""},{"$f":"IFERROR(INDEX(D71:D80, SMALL(IF(ISNUMBER(SEARCH(\"JV1\",F71:F80)), ROW(F71:F80)-MIN(ROW(F71:F80))+1, \"\"), ROW() -70 )), \"\")","v":""},{"$f":"IFERROR(INDEX(E71:E80, SMALL(IF(ISNUMBER(SEARCH(\"JV1\",F71:F80)), ROW(F71:F80)-MIN(ROW(F71:F80))+1, \"\"), ROW() -70 )), \"\")","v":""},{"$f":"IFERROR(INDEX(B71:B80, SMALL(IF(ISNUMBER(SEARCH(\"JV2\",F71:F80)), ROW(F71:F80)-MIN(ROW(F71:F80))+1, \"\"), ROW() -70 )), \"\")","v":""},{"$f":"IFERROR(INDEX(C71:C80, SMALL(IF(ISNUMBER(SEARCH(\"JV2\",F71:F80)), ROW(F71:F80)-MIN(ROW(F71:F80))+1, \"\"), ROW() -70 )), \"\")","v":""},{"$f":"IFERROR(INDEX(D71:D80, SMALL(IF(ISNUMBER(SEARCH(\"JV2\",F71:F80)), ROW(F71:F80)-MIN(ROW(F71:F80))+1, \"\"), ROW() -70 )), \"\")","v":""},{"$f":"IFERROR(INDEX(E71:E80, SMALL(IF(ISNUMBER(SEARCH(\"JV2\",F71:F80)), ROW(F71:F80)-MIN(ROW(F71:F80))+1, \"\"), ROW() -70 )), \"\")","v":""}]
[null,"Culver-Stockton College",null,"6589-15546","Carlee Hummel","V",null,4352.0,null,false,{"$nulls":17},{"$f":"IFERROR(INDEX(B71:B80, SMALL(IF(\"V\"=F71:F80, ROW(F71:F80)-MIN(ROW(F71:F80))+1, \"\"), ROW() -70 )), \"\")","v":"Culver-Stockton College"},{"$f":"IFERROR(INDEX(C71:C80, SMALL(IF(\"V\"=F71:F80, ROW(F71:F80)-MIN(ROW(F71:F80))+1, \"\"), ROW() -70 )), \"\")","v":""},{"$f":"IFERROR(INDEX(D71:D80, SMALL(IF(\"V\"=F71:F80, ROW(F71:F80)-MIN(ROW(F71:F80))+1, \"\"), ROW() -70 )), \"\")","v":"6589-15546"},{"$f":"IFERROR(INDEX(E71:E80, SMALL(IF(\"V\"=F71:F80, ROW(F71:F80)-MIN(ROW(F71:F80))+1, \"\"), ROW() -70 )), \"\")","v":"Carlee Hummel"},{"$f":"IFERROR(INDEX(B71:B80, SMALL(IF(ISNUMBER(SEARCH(\"JV1\",F71:F80)), ROW(F71:F80)-MIN(ROW(F71:F80))+1, \"\"), ROW() -70 )), \"\")","v":""},{"$f":"IFERROR(INDEX(C71:C80, SMALL(IF(ISNUMBER(SEARCH(\"JV1\",F71:F80)), ROW(F71:F80)-MIN(ROW(F71:F80))+1, \"\"), ROW() -70 )), \"\")","v":""},{"$f":"IFERROR(INDEX(D71:D80, SMALL(IF(ISNUMBER(SEARCH(\"JV1\",F71:F80)), ROW(F71:F80)-MIN(ROW(F71:F80))+1, \"\"), ROW() -70 )), \"\")","v":""},{"$f":"IFERROR(INDEX(E71:E80, SMALL(IF(ISNUMBER(SEARCH(\"JV1\",F71:F80)), ROW(F71:F80)-MIN(ROW(F71:F80))+1, \"\"), ROW() -70 )), \"\")","v":""},{"$f":"IFERROR(INDEX(B71:B80, SMALL(IF(ISNUMBER(SEARCH(\"JV2\",F71:F80)), ROW(F71:F80)-MIN(ROW(F71:F80))+1, \"\"), ROW() -70 )), \"\")","v":""},{"$f":"IFERROR(INDEX(C71:C80, SMALL(IF(ISNUMBER(SEARCH(\"JV2\",F71:F80)), ROW(F71:F80)-MIN(ROW(F71:F80))+1, \"\"), ROW() -70 )), \"\")","v":""},{"$f":"IFERROR(INDEX(D71:D80, SMALL(IF(ISNUMBER(SEARCH(\"JV2\",F71:F80)), ROW(F71:F80)-MIN(ROW(F71:F80))+1, \"\"), ROW() -70 )), \"\")","v":""},{"$f":"IFERROR(INDEX(E71:E80, SMALL(IF(ISNUMBER(SEARCH(\"JV2\",F71:F80)), ROW(F71:F80)-MIN(ROW(F71:F80))+1, \"\"), ROW() -70 )), \"\")","v":""}]
[null,"Culver-Stockton College",null,"17-45685","Jasmine Saunders","V",null,4352.0,null,false,{"$nulls":17},{"$f":"IFERROR(INDEX(B71:B80, SMALL(IF(\"V\"=F71:F80, ROW(F71:F80)-MIN(ROW(F71:F80))+1, \"\"), ROW() -70 )), \"\")","v":"Culver-Stockton College"},{"$f":"IFERROR(INDEX(C71:C80, SMALL(IF(\"V\"=F71:F80, ROW(F71:F80)-MIN(ROW(F71:F80))+1, \"\"), ROW() -70 )), \"\")","v":""},{"$f":"IFERROR(INDEX(D71:D80, SMALL(IF(\"V\"=F71:F80, ROW(F71:F80)-MIN(ROW(F71:F80))+1, \"\"), ROW() -70 )), \"\")","v":"17-45685"},{"$f":"IFERROR(INDEX(E71:E80, SMALL(IF(\"V\"=F71:F80, ROW(F71:F80)-MIN(ROW(F71:F80))+1, \"\"), ROW() -70 )), \"\")","v":"Jasmine Saunders"},{"$f":"IFERROR(INDEX(B71:B80, SMALL(IF(ISNUMBER(SEARCH(\"JV1\",F71:F80)), ROW(F71:F80)-MIN(ROW(F71:F80))+1, \"\"), ROW() -70 )), \"\")","v":""},{"$f":"IFERROR(INDEX(C71:C80, SMALL(IF(ISNUMBER(SEARCH(\"JV1\",F71:F80)), ROW(F71:F80)-MIN(ROW(F71:F80))+1, \"\"), ROW() -70 )), \"\")","v":""},{"$f":"IFERROR(INDEX(D71:D80, SMALL(IF(ISNUMBER(SEARCH(\"JV1\",F71:F80)), ROW(F71:F80)-MIN(ROW(F71:F80))+1, \"\"), ROW() -70 )), \"\")","v":""},{"$f":"IFERROR(INDEX(E71:E80, SMALL(IF(ISNUMBER(SEARCH(\"JV1\",F71:F80)), ROW(F71:F80)-MIN(ROW(F71:F80))+1, \"\"), ROW() -70 )), \"\")","v":""},{"$f":"IFERROR(INDEX(B71:B80, SMALL(IF(ISNUMBER(SEARCH(\"JV2\",F71:F80)), ROW(F71:F80)-MIN(ROW(F71:F80))+1, \"\"), ROW() -70 )), \"\")","v":""},{"$f":"IFERROR(INDEX(C71:C80, SMALL(IF(ISNUMBER(SEARCH(\"JV2\",F71:F80)), ROW(F71:F80)-MIN(ROW(F71:F80))+1, \"\"), ROW() -70 )), \"\")","v":""},{"$f":"IFERROR(INDEX(D71:D80, SMALL(IF(ISNUMBER(SEARCH(\"JV2\",F71:F80)), ROW(F71:F80)-MIN(ROW(F71:F80))+1, \"\"), ROW() -70 )), \"\")","v":""},{"$f":"IFERROR(INDEX(E71:E80, SMALL(IF(ISNUMBER(SEARCH(\"JV2\",F71:F80)), ROW(F71:F80)-MIN(ROW(F71:F80))+1, \"\"), ROW() -70 )), \"\")","v":""}]
[null,"Culver-Stockton College",null,"5711-323","Jessica Mock","V",null,4352.0,null,false,{"$nulls":17},{"$f":"IFERROR(INDEX(B71:B80, SMALL(IF(\"V\"=F71:F80, ROW(F71:F80)-MIN(ROW(F71:F80))+1, \"\"), ROW() -70 )), \"\")","v":"Culver-Stockton College"},{"$f":"IFERROR(INDEX(C71:C80, SMALL(IF(\"V\"=F71:F80, ROW(F71:F80)-MIN(ROW(F71:F80))+1, \"\"), ROW() -70 )), \"\")","v":""},{"$f":"IFERROR(INDEX(D71:D80, SMALL(IF(\"V\"=F71:F80, ROW(F71:F80)-MIN(ROW(F71:F80))+1, \"\"), ROW() -70 )), \"\")","v":"5711-323"},{"$f":"IFERROR(INDEX(E71:E80, SMALL(IF(\"V\"=F71:F80, ROW(F71:F80)-MIN(ROW(F71:F80))+1, \"\"), ROW() -70 )), \"\")","v":"Jessica Mock"},{"$f":"IFERROR(INDEX(B71:B80, SMALL(IF(ISNUMBER(SEARCH(\"JV1\",F71:F80)), ROW(F71:F80)-MIN(ROW(F71:F80))+1, \"\"), ROW() -70 )), \"\")","v":""},{"$f":"IFERROR(INDEX(C71:C80, SMALL(IF(ISNUMBER(SEARCH(\"JV1\",F71:F80)), ROW(F71:F80)-MIN(ROW(F71:F80))+1, \"\"), ROW() -70 )), \"\")","v":""},{"$f":"IFERROR(INDEX(D71:D80, SMALL(IF(ISNUMBER(SEARCH(\"JV1\",F71:F80)), ROW(F71:F80)-MIN(ROW(F71:F80))+1, \"\"), ROW() -70 )), \"\")","v":""},{"$f":"IFERROR(INDEX(E71:E80, SMALL(IF(ISNUMBER(SEARCH(\"JV1\",F71:F80)), ROW(F71:F80)-MIN(ROW(F71:F80))+1, \"\"), ROW() -70 )), \"\")","v":""},{"$f":"IFERROR(INDEX(B71:B80, SMALL(IF(ISNUMBER(SEARCH(\"JV2\",F71:F80)), ROW(F71:F80)-MIN(ROW(F71:F80))+1, \"\"), ROW() -70 )), \"\")","v":""},{"$f":"IFERROR(INDEX(C71:C80, SMALL(IF(ISNUMBER(SEARCH(\"JV2\",F71:F80)), ROW(F71:F80)-MIN(ROW(F71:F80))+1, \"\"), ROW() -70 )), \"\")","v":""},{"$f":"IFERROR(INDEX(D71:D80, SMALL(IF(ISNUMBER(SEARCH(\"JV2\",F71:F80)), ROW(F71:F80)-MIN(ROW(F71:F80))+1, \"\"), ROW() -70 )), \"\")","v":""},{"$f":"IFERROR(INDEX(E71:E80, SMALL(IF(ISNUMBER(SEARCH(\"JV2\",F71:F80)), ROW(F71:F80)-MIN(ROW(F71:F80))+1, \"\"), ROW() -70 )), \"\")","v":""}]
[null,"Culver-Stockton College",null,"11-475016","Kassidy Young","V",null,4352.0,null,false,{"$nulls":17},{"$f":"IFERROR(INDEX(B71:B80, SMALL(IF(\"V\"=F71:F80, ROW(F71:F80)-MIN(ROW(F71:F80))+1, \"\"), ROW() -70 )), \"\")","v":"Culver-Stockton College"},{"$f":"IFERROR(INDEX(C71:C80, SMALL(IF(\"V\"=F71:F80, ROW(F71:F80)-MIN(ROW(F71:F80))+1, \"\"), ROW() -70 )), \"\")","v":""},{"$f":"IFERROR(INDEX(D71:D80, SMALL(IF(\"V\"=F71:F80, ROW(F71:F80)-MIN(ROW(F71:F80))+1, \"\"), ROW() -70 )), \"\")","v":"11-475016"},{"$f":"IFERROR(INDEX(E71:E80, SMALL(IF(\"V\"=F71:F80, ROW(F71:F80)-MIN(ROW(F71:F80))+1, \"\"), ROW() -70 )), \"\")","v":"Kassidy Young"},{"$f":"IFERROR(INDEX(B71:B80, SMALL(IF(ISNUMBER(SEARCH(\"JV1\",F71:F80)), ROW(F71:F80)-MIN(ROW(F71:F80))+1, \"\"), ROW() -70 )), \"\")","v":""},{"$f":"IFERROR(INDEX(C71:C80, SMALL(IF(ISNUMBER(SEARCH(\"JV1\",F71:F80)), ROW(F71:F80)-MIN(ROW(F71:F80))+1, \"\"), ROW() -70 )), \"\")","v":""},{"$f":"IFERROR(INDEX(D71:D80, SMALL(IF(ISNUMBER(SEARCH(\"JV1\",F71:F80)), ROW(F71:F80)-MIN(ROW(F71:F80))+1, \"\"), ROW() -70 )), \"\")","v":""},{"$f":"IFERROR(INDEX(E71:E80, SMALL(IF(ISNUMBER(SEARCH(\"JV1\",F71:F80)), ROW(F71:F80)-MIN(ROW(F71:F80))+1, \"\"), ROW() -70 )), \"\")","v":""},{"$f":"IFERROR(INDEX(B71:B80, SMALL(IF(ISNUMBER(SEARCH(\"JV2\",F71:F80)), ROW(F71:F80)-MIN(ROW(F71:F80))+1, \"\"), ROW() -70 )), \"\")","v":""},{"$f":"IFERROR(INDEX(C71:C80, SMALL(IF(ISNUMBER(SEARCH(\"JV2\",F71:F80)), ROW(F71:F80)-MIN(ROW(F71:F80))+1, \"\"), ROW() -70 )), \"\")","v":""},{"$f":"IFERROR(INDEX(D71:D80, SMALL(IF(ISNUMBER(SEARCH(\"JV2\",F71:F80)), ROW(F71:F80)-MIN(ROW(F71:F80))+1, \"\"), ROW() -70 )), \"\")","v":""},{"$f":"IFERROR(INDEX(E71:E80, SMALL(IF(ISNUMBER(SEARCH(\"JV2\",F71:F80)), ROW(F71:F80)-MIN(ROW(F71:F80))+1, \"\"), ROW() -70 )), \"\")","v":""}]
[null,"Culver-Stockton College",null,"18-88340","Lily Fischer","V",null,4352.0,null,false,{"$nulls":17},{"$f":"IFERROR(INDEX(B71:B80, SMALL(IF(\"V\"=F71:F80, ROW(F71:F80)-MIN(ROW(F71:F80))+1, \"\"), ROW() -70 )), \"\")","v":"Culver-Stockton College"},{"$f":"IFERROR(INDEX(C71:C80, SMALL(IF(\"V\"=F71:F80, ROW(F71:F80)-MIN(ROW(F71:F80))+1, \"\"), ROW() -70 )), \"\")","v":""},{"$f":"IFERROR(INDEX(D71:D80, SMALL(IF(\"V\"=F71:F80, ROW(F71:F80)-MIN(ROW(F71:F80))+1, \"\"), ROW() -70 )), \"\")","v":"18-88340"},{"$f":"IFERROR(INDEX(E71:E80, SMALL(IF(\"V\"=F71:F80, ROW(F71:F80)-MIN(ROW(F71:F80))+1, \"\"), ROW() -70 )), \"\")","v":"Lily Fischer"},{"$f":"IFERROR(INDEX(B71:B80, SMALL(IF(ISNUMBER(SEARCH(\"JV1\",F71:F80)), ROW(F71:F80)-MIN(ROW(F71:F80))+1, \"\"), ROW() -70 )), \"\")","v":""},{"$f":"IFERROR(INDEX(C71:C80, SMALL(IF(ISNUMBER(SEARCH(\"JV1\",F71:F80)), ROW(F71:F80)-MIN(ROW(F71:F80))+1, \"\"), ROW() -70 )), \"\")","v":""},{"$f":"IFERROR(INDEX(D71:D80, SMALL(IF(ISNUMBER(SEARCH(\"JV1\",F71:F80)), ROW(F71:F80)-MIN(ROW(F71:F80))+1, \"\"), ROW() -70 )), \"\")","v":""},{"$f":"IFERROR(INDEX(E71:E80, SMALL(IF(ISNUMBER(SEARCH(\"JV1\",F71:F80)), ROW(F71:F80)-MIN(ROW(F71:F80))+1, \"\"), ROW() -70 )), \"\")","v":""},{"$f":"IFERROR(INDEX(B71:B80, SMALL(IF(ISNUMBER(SEARCH(\"JV2\",F71:F80)), ROW(F71:F80)-MIN(ROW(F71:F80))+1, \"\"), ROW() -70 )), \"\")","v":""},{"$f":"IFERROR(INDEX(C71:C80, SMALL(IF(ISNUMBER(SEARCH(\"JV2\",F71:F80)), ROW(F71:F80)-MIN(ROW(F71:F80))+1, \"\"), ROW() -70 )), \"\")","v":""},{"$f":"IFERROR(INDEX(D71:D80, SMALL(IF(ISNUMBER(SEARCH(\"JV2\",F71:F80)), ROW(F71:F80)-MIN(ROW(F71:F80))+1, \"\"), ROW() -70 )), \"\")","v":""},{"$f":"IFERROR(INDEX(E71:E80, SMALL(IF(ISNUMBER(SEARCH(\"JV2\",F71:F80)), ROW(F71:F80)-MIN(ROW(F71:F80))+1, \"\"), ROW() -70 )), \"\")","v":""}]
[null,"Culver-Stockton College",null,"11-531608","Rilee Allen"," ",null,4352.0,null,false]
[null,"Culver-Stockton College",null,"11-662090","Veronica Martin"," ",null,4352.0,null,false]
[null,"Grand View University",null,"11-260228","Ashly Wiegand"," ",null,3743.0,null,false,{"$nulls":17},{"$f":"IFERROR(INDEX(B81:B95, SMALL(IF(\"V\"=F81:F95, ROW(F81:F95)-MIN(ROW(F81:F95))+1, \"\"), ROW() -80 )), \"\")","v":"Grand View University"},{"$f":"IFERROR(INDEX(C81:C95, SMALL(IF(\"V\"=F81:F95, ROW(F81:F95)-MIN(ROW(F81:F95))+1, \"\"), ROW() -80 )), \"\")","v":""},{"$f":"IFERROR(INDEX(D81:D95, SMALL(IF(\"V\"=F81:F95, ROW(F81:F95)-MIN(ROW(F81:F95))+1, \"\"), ROW() -80 )), \"\")","v":"7914-27984"},{"$f":"IFERROR(INDEX(E81:E95, SMALL(IF(\"V\"=F81:F95, ROW(F81:F95)-MIN(ROW(F81:F95))+1, \"\"), ROW() -80 )), \"\")","v":"Emilee Hall"},{"$f":"IFERROR(INDEX(B81:B95, SMALL(IF(ISNUMBER(SEARCH(\"JV1\",F81:F95)), ROW(F81:F95)-MIN(ROW(F81:F95))+1, \"\"), ROW() -80 )), \"\")","v":""},{"$f":"IFERROR(INDEX(C81:C95, SMALL(IF(ISNUMBER(SEARCH(\"JV1\",F81:F95)), ROW(F81:F95)-MIN(ROW(F81:F95))+1, \"\"), ROW() -80 )), \"\")","v":""},{"$f":"IFERROR(INDEX(D81:D95, SMALL(IF(ISNUMBER(SEARCH(\"JV1\",F81:F95)), ROW(F81:F95)-MIN(ROW(F81:F95))+1, \"\"), ROW() -80 )), \"\")","v":""},{"$f":"IFERROR(INDEX(E81:E95, SMALL(IF(ISNUMBER(SEARCH(\"JV1\",F81:F95)), ROW(F81:F95)-MIN(ROW(F81:F95))+1, \"\"), ROW() -80 )), \"\")","v":""},{"$f":"IFERROR(INDEX(B81:B95, SMALL(IF(ISNUMBER(SEARCH(\"JV2\",F81:F95)), ROW(F81:F95)-MIN(ROW(F81:F95))+1, \"\"), ROW() -80 )), \"\")","v":""},{"$f":"IFERROR(INDEX(C81:C95, SMALL(IF(ISNUMBER(SEARCH(\"JV2\",F81:F95)), ROW(F81:F95)-MIN(ROW(F81:F95))+1, \"\"), ROW() -80 )), \"\")","v":""},{"$f":"IFERROR(INDEX(D81:D95, SMALL(IF(ISNUMBER(SEARCH(\"JV2\",F81:F95)), ROW(F81:F95)-MIN(ROW(F81:F95))+1, \"\"), ROW() -80 )), \"\")","v":""},{"$f":"IFERROR(INDEX(E81:E95, SMALL(IF(ISNUMBER(SEARCH(\"JV2\",F81:F95)), ROW(F81:F95)-MIN(ROW(F81:F95))+1, \"\"), ROW() -80 )), \"\")","v":""}]
[null,"Grand View University",null,"8223-84048","Autumn Forrester"," ",null,3743.0,null,false,{"$nulls":17},{"$f":"IFERROR(INDEX(B81:B95, SMALL(IF(\"V\"=F81:F95, ROW(F81:F95)-MIN(ROW(F81:F95))+1, \"\"), ROW() -80 )), \"\")","v":"Grand View University"},{"$f":"IFERROR(INDEX(C81:C95, SMALL(IF(\"V\"=F81:F95, ROW(F81:F95)-MIN(ROW(F81:F95))+1, \"\"), ROW() -80 )), \"\")","v":""},{"$f":"IFERROR(INDEX(D81:D95, SMALL(IF(\"V\"=F81:F95, ROW(F81:F95)-MIN(ROW(F81:F95))+1, \"\"), ROW() -80 )), \"\")","v":"11-232057"},{"$f":"IFERROR(INDEX(E81:E95, SMALL(IF(\"V\"=F81:F95, ROW(F81:F95)-MIN(ROW(F81:F95))+1, \"\"), ROW() -80 )), \"\")","v":"Isabel Tetmeyer"},{"$f":"IFERROR(INDEX(B81:B95, SMALL(IF(ISNUMBER(SEARCH(\"JV1\",F81:F95)), ROW(F81:F95)-MIN(ROW(F81:F95))+1, \"\"), ROW() -80 )), \"\")","v":""},{"$f":"IFERROR(INDEX(C81:C95, SMALL(IF(ISNUMBER(SEARCH(\"JV1\",F81:F95)), ROW(F81:F95)-MIN(ROW(F81:F95))+1, \"\"), ROW() -80 )), \"\")","v":""},{"$f":"IFERROR(INDEX(D81:D95, SMALL(IF(ISNUMBER(SEARCH(\"JV1\",F81:F95)), ROW(F81:F95)-MIN(ROW(F81:F95))+1, \"\"), ROW() -80 )), \"\")","v":""},{"$f":"IFERROR(INDEX(E81:E95, SMALL(IF(ISNUMBER(SEARCH(\"JV1\",F81:F95)), ROW(F81:F95)-MIN(ROW(F81:F95))+1, \"\"), ROW() -80 )), \"\")","v":""},{"$f":"IFERROR(INDEX(B81:B95, SMALL(IF(ISNUMBER(SEARCH(\"JV2\",F81:F95)), ROW(F81:F95)-MIN(ROW(F81:F95))+1, \"\"), ROW() -80 )), \"\")","v":""},{"$f":"IFERROR(INDEX(C81:C95, SMALL(IF(ISNUMBER(SEARCH(\"JV2\",F81:F95)), ROW(F81:F95)-MIN(ROW(F81:F95))+1, \"\"), ROW() -80 )), \"\")","v":""},{"$f":"IFERROR(INDEX(D81:D95, SMALL(IF(ISNUMBER(SEARCH(\"JV2\",F81:F95)), ROW(F81:F95)-MIN(ROW(F81:F95))+1, \"\"), ROW() -80 )), \"\")","v":""},{"$f":"IFERROR(INDEX(E81:E95, SMALL(IF(ISNUMBER(SEARCH(\"JV2\",F81:F95)), ROW(F81:F95)-MIN(ROW(F81:F95))+1, \"\"), ROW() -80 )), \"\")","v":""}]
[null,"Grand View University",null,"7914-27984","Emilee Hall","V",null,3743.0,null,false,{"$nulls":17},{"$f":"IFERROR(INDEX(B81:B95, SMALL(IF(\"V\"=F81:F95, ROW(F81:F95)-MIN(ROW(F81:F95))+1, \"\"), ROW() -80 )), \"\")","v":"Grand View University"},{"$f":"IFERROR(INDEX(C81:C95, SMALL(IF(\"V\"=F81:F95, ROW(F81:F95)-MIN(ROW(F81:F95))+1, \"\"), ROW() -80 )), \"\")","v":""},{"$f":"IFERROR(INDEX(D81:D95, SMALL(IF(\"V\"=F81:F95, ROW(F81:F95)-MIN(ROW(F81:F95))+1, \"\"), ROW() -80 )), \"\")","v":"7914-7770"},{"$f":"IFERROR(INDEX(E81:E95, SMALL(IF(\"V\"=F81:F95, ROW(F81:F95)-MIN(ROW(F81:F95))+1, \"\"), ROW() -80 )), \"\")","v":"Kaytlyn Andrews"},{"$f":"IFERROR(INDEX(B81:B95, SMALL(IF(ISNUMBER(SEARCH(\"JV1\",F81:F95)), ROW(F81:F95)-MIN(ROW(F81:F95))+1, \"\"), ROW() -80 )), \"\")","v":""},{"$f":"IFERROR(INDEX(C81:C95, SMALL(IF(ISNUMBER(SEARCH(\"JV1\",F81:F95)), ROW(F81:F95)-MIN(ROW(F81:F95))+1, \"\"), ROW() -80 )), \"\")","v":""},{"$f":"IFERROR(INDEX(D81:D95, SMALL(IF(ISNUMBER(SEARCH(\"JV1\",F81:F95)), ROW(F81:F95)-MIN(ROW(F81:F95))+1, \"\"), ROW() -80 )), \"\")","v":""},{"$f":"IFERROR(INDEX(E81:E95, SMALL(IF(ISNUMBER(SEARCH(\"JV1\",F81:F95)), ROW(F81:F95)-MIN(ROW(F81:F95))+1, \"\"), ROW() -80 )), \"\")","v":""},{"$f":"IFERROR(INDEX(B81:B95, SMALL(IF(ISNUMBER(SEARCH(\"JV2\",F81:F95)), ROW(F81:F95)-MIN(ROW(F81:F95))+1, \"\"), ROW() -80 )), \"\")","v":""},{"$f":"IFERROR(INDEX(C81:C95, SMALL(IF(ISNUMBER(SEARCH(\"JV2\",F81:F95)), ROW(F81:F95)-MIN(ROW(F81:F95))+1, \"\"), ROW() -80 )), \"\")","v":""},{"$f":"IFERROR(INDEX(D81:D95, SMALL(IF(ISNUMBER(SEARCH(\"JV2\",F81:F95)), ROW(F81:F95)-MIN(ROW(F81:F95))+1, \"\"), ROW() -80 )), \"\")","v":""},{"$f":"IFERROR(INDEX(E81:E95, SMALL(IF(ISNUMBER(SEARCH(\"JV2\",F81:F95)), ROW(F81:F95)-MIN(ROW(F81:F95))+1, \"\"), ROW() -80 )), \"\")","v":""}]
[null,"Grand View University",null,"11-96883","Halie Marean"," ",null,3743.0,null,false,{"$nulls":17},{"$f":"IFERROR(INDEX(B81:B95, SMALL(IF(\"V\"=F81:F95, ROW(F81:F95)-MIN(ROW(F81:F95))+1, \"\"), ROW() -80 )), \"\")","v":"Grand View University"},{"$f":"IFERROR(INDEX(C81:C95, SMALL(IF(\"V\"=F81:F95, ROW(F81:F95)-MIN(ROW(F81:F95))+1, \"\"), ROW() -80 )), \"\")","v":""},{"$f":"IFERROR(INDEX(D81:D95, SMALL(IF(\"V\"=F81:F95, ROW(F81:F95)-MIN(ROW(F81:F95))+1, \"\"), ROW() -80 )), \"\")","v":"18-34841"},{"$f":"IFERROR(INDEX(E81:E95, SMALL(IF(\"V\"=F81:F95, ROW(F81:F95)-MIN(ROW(F81:F95))+1, \"\"), ROW() -80 )), \"\")","v":"Kylie Arai"},{"$f":"IFERROR(INDEX(B81:B95, SMALL(IF(ISNUMBER(SEARCH(\"JV1\",F81:F95)), ROW(F81:F95)-MIN(ROW(F81:F95))+1, \"\"), ROW() -80 )), \"\")","v":""},{"$f":"IFERROR(INDEX(C81:C95, SMALL(IF(ISNUMBER(SEARCH(\"JV1\",F81:F95)), ROW(F81:F95)-MIN(ROW(F81:F95))+1, \"\"), ROW() -80 )), \"\")","v":""},{"$f":"IFERROR(INDEX(D81:D95, SMALL(IF(ISNUMBER(SEARCH(\"JV1\",F81:F95)), ROW(F81:F95)-MIN(ROW(F81:F95))+1, \"\"), ROW() -80 )), \"\")","v":""},{"$f":"IFERROR(INDEX(E81:E95, SMALL(IF(ISNUMBER(SEARCH(\"JV1\",F81:F95)), ROW(F81:F95)-MIN(ROW(F81:F95))+1, \"\"), ROW() -80 )), \"\")","v":""},{"$f":"IFERROR(INDEX(B81:B95, SMALL(IF(ISNUMBER(SEARCH(\"JV2\",F81:F95)), ROW(F81:F95)-MIN(ROW(F81:F95))+1, \"\"), ROW() -80 )), \"\")","v":""},{"$f":"IFERROR(INDEX(C81:C95, SMALL(IF(ISNUMBER(SEARCH(\"JV2\",F81:F95)), ROW(F81:F95)-MIN(ROW(F81:F95))+1, \"\"), ROW() -80 )), \"\")","v":""},{"$f":"IFERROR(INDEX(D81:D95, SMALL(IF(ISNUMBER(SEARCH(\"JV2\",F81:F95)), ROW(F81:F95)-MIN(ROW(F81:F95))+1, \"\"), ROW() -80 )), \"\")","v":""},{"$f":"IFERROR(INDEX(E81:E95, SMALL(IF(ISNUMBER(SEARCH(\"JV2\",F81:F95)), ROW(F81:F95)-MIN(ROW(F81:F95))+1, \"\"), ROW() -80 )), \"\")","v":""}]
[null,"Grand View University",null,"7914-2693","Hannah Beveridge"," ",null,3743.0,null,false,{"$nulls":17},{"$f":"IFERROR(INDEX(B81:B95, SMALL(IF(\"V\"=F81:F95, ROW(F81:F95)-MIN(ROW(F81:F95))+1, \"\"), ROW() -80 )), \"\")","v":"Grand View University"},{"$f":"IFERROR(INDEX(C81:C95, SMALL(IF(\"V\"=F81:F95, ROW(F81:F95)-MIN(ROW(F81:F95))+1, \"\"), ROW() -80 )), \"\")","v":""},{"$f":"IFERROR(INDEX(D81:D95, SMALL(IF(\"V\"=F81:F95, ROW(F81:F95)-MIN(ROW(F81:F95))+1, \"\"), ROW() -80 )), \"\")","v":"11-667364"},{"$f":"IFERROR(INDEX(E81:E95, SMALL(IF(\"V\"=F81:F95, ROW(F81:F95)-MIN(ROW(F81:F95))+1, \"\"), ROW() -80 )), \"\")","v":"Leah Sanck"},{"$f":"IFERROR(INDEX(B81:B95, SMALL(IF(ISNUMBER(SEARCH(\"JV1\",F81:F95)), ROW(F81:F95)-MIN(ROW(F81:F95))+1, \"\"), ROW() -80 )), \"\")","v":""},{"$f":"IFERROR(INDEX(C81:C95, SMALL(IF(ISNUMBER(SEARCH(\"JV1\",F81:F95)), ROW(F81:F95)-MIN(ROW(F81:F95))+1, \"\"), ROW() -80 )), \"\")","v":""},{"$f":"IFERROR(INDEX(D81:D95, SMALL(IF(ISNUMBER(SEARCH(\"JV1\",F81:F95)), ROW(F81:F95)-MIN(ROW(F81:F95))+1, \"\"), ROW() -80 )), \"\")","v":""},{"$f":"IFERROR(INDEX(E81:E95, SMALL(IF(ISNUMBER(SEARCH(\"JV1\",F81:F95)), ROW(F81:F95)-MIN(ROW(F81:F95))+1, \"\"), ROW() -80 )), \"\")","v":""},{"$f":"IFERROR(INDEX(B81:B95, SMALL(IF(ISNUMBER(SEARCH(\"JV2\",F81:F95)), ROW(F81:F95)-MIN(ROW(F81:F95))+1, \"\"), ROW() -80 )), \"\")","v":""},{"$f":"IFERROR(INDEX(C81:C95, SMALL(IF(ISNUMBER(SEARCH(\"JV2\",F81:F95)), ROW(F81:F95)-MIN(ROW(F81:F95))+1, \"\"), ROW() -80 )), \"\")","v":""},{"$f":"IFERROR(INDEX(D81:D95, SMALL(IF(ISNUMBER(SEARCH(\"JV2\",F81:F95)), ROW(F81:F95)-MIN(ROW(F81:F95))+1, \"\"), ROW() -80 )), \"\")","v":""},{"$f":"IFERROR(INDEX(E81:E95, SMALL(IF(ISNUMBER(SEARCH(\"JV2\",F81:F95)), ROW(F81:F95)-MIN(ROW(F81:F95))+1, \"\"), ROW() -80 )), \"\")","v":""}]
[null,"Grand View University",null,"11-232057","Isabel Tetmeyer","V",null,3743.0,null,false,{"$nulls":17},{"$f":"IFERROR(INDEX(B81:B95, SMALL(IF(\"V\"=F81:F95, ROW(F81:F95)-MIN(ROW(F81:F95))+1, \"\"), ROW() -80 )), \"\")","v":"Grand View University"},{"$f":"IFERROR(INDEX(C81:C95, SMALL(IF(\"V\"=F81:F95, ROW(F81:F95)-MIN(ROW(F81:F95))+1, \"\"), ROW() -80 )), \"\")","v":""},{"$f":"IFERROR(INDEX(D81:D95, SMALL(IF(\"V\"=F81:F95, ROW(F81:F95)-MIN(ROW(F81:F95))+1, \"\"), ROW() -80 )), \"\")","v":"11-307190"},{"$f":"IFERROR(INDEX(E81:E95, SMALL(IF(\"V\"=F81:F95, ROW(F81:F95)-MIN(ROW(F81:F95))+1, \"\"), ROW() -80 )), \"\")","v":"Michelle Stewart"},{"$f":"IFERROR(INDEX(B81:B95, SMALL(IF(ISNUMBER(SEARCH(\"JV1\",F81:F95)), ROW(F81:F95)-MIN(ROW(F81:F95))+1, \"\"), ROW() -80 )), \"\")","v":""},{"$f":"IFERROR(INDEX(C81:C95, SMALL(IF(ISNUMBER(SEARCH(\"JV1\",F81:F95)), ROW(F81:F95)-MIN(ROW(F81:F95))+1, \"\"), ROW() -80 )), \"\")","v":""},{"$f":"IFERROR(INDEX(D81:D95, SMALL(IF(ISNUMBER(SEARCH(\"JV1\",F81:F95)), ROW(F81:F95)-MIN(ROW(F81:F95))+1, \"\"), ROW() -80 )), \"\")","v":""},{"$f":"IFERROR(INDEX(E81:E95, SMALL(IF(ISNUMBER(SEARCH(\"JV1\",F81:F95)), ROW(F81:F95)-MIN(ROW(F81:F95))+1, \"\"), ROW() -80 )), \"\")","v":""},{"$f":"IFERROR(INDEX(B81:B95, SMALL(IF(ISNUMBER(SEARCH(\"JV2\",F81:F95)), ROW(F81:F95)-MIN(ROW(F81:F95))+1, \"\"), ROW() -80 )), \"\")","v":""},{"$f":"IFERROR(INDEX(C81:C95, SMALL(IF(ISNUMBER(SEARCH(\"JV2\",F81:F95)), ROW(F81:F95)-MIN(ROW(F81:F95))+1, \"\"), ROW() -80 )), \"\")","v":""},{"$f":"IFERROR(INDEX(D81:D95, SMALL(IF(ISNUMBER(SEARCH(\"JV2\",F81:F95)), ROW(F81:F95)-MIN(ROW(F81:F95))+1, \"\"), ROW() -80 )), \"\")","v":""},{"$f":"IFERROR(INDEX(E81:E95, SMALL(IF(ISNUMBER(SEARCH(\"JV2\",F81:F95)), ROW(F81:F95)-MIN(ROW(F81:F95))+1, \"\"), ROW() -80 )), \"\")","v":""}]
[null,"Grand View University",null,"7914-7770","Kaytlyn Andrews","V",null,3743.0,null,false,{"$nulls":17},{"$f":"IFERROR(INDEX(B81:B95, SMALL(IF(\"V\"=F81:F95, ROW(F81:F95)-MIN(ROW(F81:F95))+1, \"\"), ROW() -80 )), \"\")","v":"Grand View University"},{"$f":"IFERROR(INDEX(C81:C95, SMALL(IF(\"V\"=F81:F95, ROW(F81:F95)-MIN(ROW(F81:F95))+1, \"\"), ROW() -80 )), \"\")","v":""},{"$f":"IFERROR(INDEX(D81:D95, SMALL(IF(\"V\"=F81:F95, ROW(F81:F95)-MIN(ROW(F81:F95))+1, \"\"), ROW() -80 )), \"\")","v":"8828-32679"},{"$f":"IFERROR(INDEX(E81:E95, SMALL(IF(\"V\"=F81:F95, ROW(F81:F95)-MIN(ROW(F81:F95))+1, \"\"), ROW() -80 )), \"\")","v":"Sabrina Bennett"},{"$f":"IFERROR(INDEX(B81:B95, SMALL(IF(ISNUMBER(SEARCH(\"JV1\",F81:F95)), ROW(F81:F95)-MIN(ROW(F81:F95))+1, \"\"), ROW() -80 )), \"\")","v":""},{"$f":"IFERROR(INDEX(C81:C95, SMALL(IF(ISNUMBER(SEARCH(\"JV1\",F81:F95)), ROW(F81:F95)-MIN(ROW(F81:F95))+1, \"\"), ROW() -80 )), \"\")","v":""},{"$f":"IFERROR(INDEX(D81:D95, SMALL(IF(ISNUMBER(SEARCH(\"JV1\",F81:F95)), ROW(F81:F95)-MIN(ROW(F81:F95))+1, \"\"), ROW() -80 )), \"\")","v":""},{"$f":"IFERROR(INDEX(E81:E95, SMALL(IF(ISNUMBER(SEARCH(\"JV1\",F81:F95)), ROW(F81:F95)-MIN(ROW(F81:F95))+1, \"\"), ROW() -80 )), \"\")","v":""},{"$f":"IFERROR(INDEX(B81:B95, SMALL(IF(ISNUMBER(SEARCH(\"JV2\",F81:F95)), ROW(F81:F95)-MIN(ROW(F81:F95))+1, \"\"), ROW() -80 )), \"\")","v":""},{"$f":"IFERROR(INDEX(C81:C95, SMALL(IF(ISNUMBER(SEARCH(\"JV2\",F81:F95)), ROW(F81:F95)-MIN(ROW(F81:F95))+1, \"\"), ROW() -80 )), \"\")","v":""},{"$f":"IFERROR(INDEX(D81:D95, SMALL(IF(ISNUMBER(SEARCH(\"JV2\",F81:F95)), ROW(F81:F95)-MIN(ROW(F81:F95))+1, \"\"), ROW() -80 )), \"\")","v":""},{"$f":"IFERROR(INDEX(E81:E95, SMALL(IF(ISNUMBER(SEARCH(\"JV2\",F81:F95)), ROW(F81:F95)-MIN(ROW(F81:F95))+1, \"\"), ROW() -80 )), \"\")","v":""}]
[null,"Grand View University",null,"7914-2777","Kiera Jors"," ",null,3743.0,null,false,{"$nulls":17},{"$f":"IFERROR(INDEX(B81:B95, SMALL(IF(\"V\"=F81:F95, ROW(F81:F95)-MIN(ROW(F81:F95))+1, \"\"), ROW() -80 )), \"\")","v":""},{"$f":"IFERROR(INDEX(C81:C95, SMALL(IF(\"V\"=F81:F95, ROW(F81:F95)-MIN(ROW(F81:F95))+1, \"\"), ROW() -80 )), \"\")","v":""},{"$f":"IFERROR(INDEX(D81:D95, SMALL(IF(\"V\"=F81:F95, ROW(F81:F95)-MIN(ROW(F81:F95))+1, \"\"), ROW() -80 )), \"\")","v":""},{"$f":"IFERROR(INDEX(E81:E95, SMALL(IF(\"V\"=F81:F95, ROW(F81:F95)-MIN(ROW(F81:F95))+1, \"\"), ROW() -80 )), \"\")","v":""},{"$f":"IFERROR(INDEX(B81:B95, SMALL(IF(ISNUMBER(SEARCH(\"JV1\",F81:F95)), ROW(F81:F95)-MIN(ROW(F81:F95))+1, \"\"), ROW() -80 )), \"\")","v":""},{"$f":"IFERROR(INDEX(C81:C95, SMALL(IF(ISNUMBER(SEARCH(\"JV1\",F81:F95)), ROW(F81:F95)-MIN(ROW(F81:F95))+1, \"\"), ROW() -80 )), \"\")","v":""},{"$f":"IFERROR(INDEX(D81:D95, SMALL(IF(ISNUMBER(SEARCH(\"JV1\",F81:F95)), ROW(F81:F95)-MIN(ROW(F81:F95))+1, \"\"), ROW() -80 )), \"\")","v":""},{"$f":"IFERROR(INDEX(E81:E95, SMALL(IF(ISNUMBER(SEARCH(\"JV1\",F81:F95)), ROW(F81:F95)-MIN(ROW(F81:F95))+1, \"\"), ROW() -80 )), \"\")","v":""},{"$f":"IFERROR(INDEX(B81:B95, SMALL(IF(ISNUMBER(SEARCH(\"JV2\",F81:F95)), ROW(F81:F95)-MIN(ROW(F81:F95))+1, \"\"), ROW() -80 )), \"\")","v":""},{"$f":"IFERROR(INDEX(C81:C95, SMALL(IF(ISNUMBER(SEARCH(\"JV2\",F81:F95)), ROW(F81:F95)-MIN(ROW(F81:F95))+1, \"\"), ROW() -80 )), \"\")","v":""},{"$f":"IFERROR(INDEX(D81:D95, SMALL(IF(ISNUMBER(SEARCH(\"JV2\",F81:F95)), ROW(F81:F95)-MIN(ROW(F81:F95))+1, \"\"), ROW() -80 )), \"\")","v":""},{"$f":"IFERROR(INDEX(E81:E95, SMALL(IF(ISNUMBER(SEARCH(\"JV2\",F81:F95)), ROW(F81:F95)-MIN(ROW(F81:F95))+1, \"\"), ROW() -80 )), \"\")","v":""}]
[null,"Grand View University",null,"17-63686","Kylee Hoffman"," ",null,3743.0,null,false]
[null,"Grand View University",null,"18-34841","Kylie Arai","V",null,3743.0,null,false]
[null,"Grand View University",null,"11-667364","Leah Sanck","V",null,3743.0,null,false]
[null,"Grand View University",null,"11-693909","Lisa Messer"," ",null,3743.0,null,false]
[null,"Grand View University",null,"11-307190","Michelle Stewart","V",null,3743.0,null,false]
[null,"Grand View University",null,"5730-33858","Rachel Gore"," ",null,3743.0,null,false]
[null,"Grand View University",null,"8828-32679","Sabrina Bennett","V",null,3743.0,null,false]
[null,"Hastings College",null,"11-87836","Abby Dallegge","V",null,4331.0,null,false,{"$nulls":17},{"$f":"IFERROR(INDEX(B96:B105, SMALL(IF(\"V\"=F96:F105, ROW(F96:F105)-MIN(ROW(F96:F105))+1, \"\"), ROW() -95 )), \"\")","v":"Hastings College"},{"$f":"IFERROR(INDEX(C96:C105, SMALL(IF(\"V\"=F96:F105, ROW(F96:F105)-MIN(ROW(F96:F105))+1, \"\"), ROW() -95 )), \"\")","v":""},{"$f":"IFERROR(INDEX(D96:D105, SMALL(IF(\"V\"=F96:F105, ROW(F96:F105)-MIN(ROW(F96:F105))+1, \"\"), ROW() -95 )), \"\")","v":"11-87836"},{"$f":"IFERROR(INDEX(E96:E105, SMALL(IF(\"V\"=F96:F105, ROW(F96:F105)-MIN(ROW(F96:F105))+1, \"\"), ROW() -95 )), \"\")","v":"Abby Dallegge"},{"$f":"IFERROR(INDEX(B96:B105, SMALL(IF(ISNUMBER(SEARCH(\"JV1\",F96:F105)), ROW(F96:F105)-MIN(ROW(F96:F105))+1, \"\"), ROW() -95 )), \"\")","v":""},{"$f":"IFERROR(INDEX(C96:C105, SMALL(IF(ISNUMBER(SEARCH(\"JV1\",F96:F105)), ROW(F96:F105)-MIN(ROW(F96:F105))+1, \"\"), ROW() -95 )), \"\")","v":""},{"$f":"IFERROR(INDEX(D96:D105, SMALL(IF(ISNUMBER(SEARCH(\"JV1\",F96:F105)), ROW(F96:F105)-MIN(ROW(F96:F105))+1, \"\"), ROW() -95 )), \"\")","v":""},{"$f":"IFERROR(INDEX(E96:E105, SMALL(IF(ISNUMBER(SEARCH(\"JV1\",F96:F105)), ROW(F96:F105)-MIN(ROW(F96:F105))+1, \"\"), ROW() -95 )), \"\")","v":""},{"$f":"IFERROR(INDEX(B96:B105, SMALL(IF(ISNUMBER(SEARCH(\"JV2\",F96:F105)), ROW(F96:F105)-MIN(ROW(F96:F105))+1, \"\"), ROW() -95 )), \"\")","v":""},{"$f":"IFERROR(INDEX(C96:C105, SMALL(IF(ISNUMBER(SEARCH(\"JV2\",F96:F105)), ROW(F96:F105)-MIN(ROW(F96:F105))+1, \"\"), ROW() -95 )), \"\")","v":""},{"$f":"IFERROR(INDEX(D96:D105, SMALL(IF(ISNUMBER(SEARCH(\"JV2\",F96:F105)), ROW(F96:F105)-MIN(ROW(F96:F105))+1, \"\"), ROW() -95 )), \"\")","v":""},{"$f":"IFERROR(INDEX(E96:E105, SMALL(IF(ISNUMBER(SEARCH(\"JV2\",F96:F105)), ROW(F96:F105)-MIN(ROW(F96:F105))+1, \"\"), ROW() -95 )), \"\")","v":""}]
[null,"Hastings College",null,"5507-587","Aislynn Davis","V",null,4331.0,null,false,{"$nulls":17},{"$f":"IFERROR(INDEX(B96:B105, SMALL(IF(\"V\"=F96:F105, ROW(F96:F105)-MIN(ROW(F96:F105))+1, \"\"), ROW() -95 )), \"\")","v":"Hastings College"},{"$f":"IFERROR(INDEX(C96:C105, SMALL(IF(\"V\"=F96:F105, ROW(F96:F105)-MIN(ROW(F96:F105))+1, \"\"), ROW() -95 )), \"\")","v":""},{"$f":"IFERROR(INDEX(D96:D105, SMALL(IF(\"V\"=F96:F105, ROW(F96:F105)-MIN(ROW(F96:F105))+1, \"\"), ROW() -95 )), \"\")","v":"5507-587"},{"$f":"IFERROR(INDEX(E96:E105, SMALL(IF(\"V\"=F96:F105, ROW(F96:F105)-MIN(ROW(F96:F105))+1, \"\"), ROW() -95 )), \"\")","v":"Aislynn Davis"},{"$f":"IFERROR(INDEX(B96:B105, SMALL(IF(ISNUMBER(SEARCH(\"JV1\",F96:F105)), ROW(F96:F105)-MIN(ROW(F96:F105))+1, \"\"), ROW() -95 )), \"\")","v":""},{"$f":"IFERROR(INDEX(C96:C105, SMALL(IF(ISNUMBER(SEARCH(\"JV1\",F96:F105)), ROW(F96:F105)-MIN(ROW(F96:F105))+1, \"\"), ROW() -95 )), \"\")","v":""},{"$f":"IFERROR(INDEX(D96:D105, SMALL(IF(ISNUMBER(SEARCH(\"JV1\",F96:F105)), ROW(F96:F105)-MIN(ROW(F96:F105))+1, \"\"), ROW() -95 )), \"\")","v":""},{"$f":"IFERROR(INDEX(E96:E105, SMALL(IF(ISNUMBER(SEARCH(\"JV1\",F96:F105)), ROW(F96:F105)-MIN(ROW(F96:F105))+1, \"\"), ROW() -95 )), \"\")","v":""},{"$f":"IFERROR(INDEX(B96:B105, SMALL(IF(ISNUMBER(SEARCH(\"JV2\",F96:F105)), ROW(F96:F105)-MIN(ROW(F96:F105))+1, \"\"), ROW() -95 )), \"\")","v":""},{"$f":"IFERROR(INDEX(C96:C105, SMALL(IF(ISNUMBER(SEARCH(\"JV2\",F96:F105)), ROW(F96:F105)-MIN(ROW(F96:F105))+1, \"\"), ROW() -95 )), \"\")","v":""},{"$f":"IFERROR(INDEX(D96:D105, SMALL(IF(ISNUMBER(SEARCH(\"JV2\",F96:F105)), ROW(F96:F105)-MIN(ROW(F96:F105))+1, \"\"), ROW() -95 )), \"\")","v":""},{"$f":"IFERROR(INDEX(E96:E105, SMALL(IF(ISNUMBER(SEARCH(\"JV2\",F96:F105)), ROW(F96:F105)-MIN(ROW(F96:F105))+1, \"\"), ROW() -95 )), \"\")","v":""}]
[null,"Hastings College",null,"11-264092","Amanda Peterson","V",null,4331.0,null,false,{"$nulls":17},{"$f":"IFERROR(INDEX(B96:B105, SMALL(IF(\"V\"=F96:F105, ROW(F96:F105)-MIN(ROW(F96:F105))+1, \"\"), ROW() -95 )), \"\")","v":"Hastings College"},{"$f":"IFERROR(INDEX(C96:C105, SMALL(IF(\"V\"=F96:F105, ROW(F96:F105)-MIN(ROW(F96:F105))+1, \"\"), ROW() -95 )), \"\")","v":""},{"$f":"IFERROR(INDEX(D96:D105, SMALL(IF(\"V\"=F96:F105, ROW(F96:F105)-MIN(ROW(F96:F105))+1, \"\"), ROW() -95 )), \"\")","v":"11-264092"},{"$f":"IFERROR(INDEX(E96:E105, SMALL(IF(\"V\"=F96:F105, ROW(F96:F105)-MIN(ROW(F96:F105))+1, \"\"), ROW() -95 )), \"\")","v":"Amanda Peterson"},{"$f":"IFERROR(INDEX(B96:B105, SMALL(IF(ISNUMBER(SEARCH(\"JV1\",F96:F105)), ROW(F96:F105)-MIN(ROW(F96:F105))+1, \"\"), ROW() -95 )), \"\")","v":""},{"$f":"IFERROR(INDEX(C96:C105, SMALL(IF(ISNUMBER(SEARCH(\"JV1\",F96:F105)), ROW(F96:F105)-MIN(ROW(F96:F105))+1, \"\"), ROW() -95 )), \"\")","v":""},{"$f":"IFERROR(INDEX(D96:D105, SMALL(IF(ISNUMBER(SEARCH(\"JV1\",F96:F105)), ROW(F96:F105)-MIN(ROW(F96:F105))+1, \"\"), ROW() -95 )), \"\")","v":""},{"$f":"IFERROR(INDEX(E96:E105, SMALL(IF(ISNUMBER(SEARCH(\"JV1\",F96:F105)), ROW(F96:F105)-MIN(ROW(F96:F105))+1, \"\"), ROW() -95 )), \"\")","v":""},{"$f":"IFERROR(INDEX(B96:B105, SMALL(IF(ISNUMBER(SEARCH(\"JV2\",F96:F105)), ROW(F96:F105)-MIN(ROW(F96:F105))+1, \"\"), ROW() -95 )), \"\")","v":""},{"$f":"IFERROR(INDEX(C96:C105, SMALL(IF(ISNUMBER(SEARCH(\"JV2\",F96:F105)), ROW(F96:F105)-MIN(ROW(F96:F105))+1, \"\"), ROW() -95 )), \"\")","v":""},{"$f":"IFERROR(INDEX(D96:D105, SMALL(IF(ISNUMBER(SEARCH(\"JV2\",F96:F105)), ROW(F96:F105)-MIN(ROW(F96:F105))+1, \"\"), ROW() -95 )), \"\")","v":""},{"$f":"IFERROR(INDEX(E96:E105, SMALL(IF(ISNUMBER(SEARCH(\"JV2\",F96:F105)), ROW(F96:F105)-MIN(ROW(F96:F105))+1, \"\"), ROW() -95 )), \"\")","v":""}]
[null,"Hastings College",null,"8966-4192","Britiney Baker","V",null,4331.0,null,false,{"$nulls":17},{"$f":"IFERROR(INDEX(B96:B105, SMALL(IF(\"V\"=F96:F105, ROW(F96:F105)-MIN(ROW(F96:F105))+1, \"\"), ROW() -95 )), \"\")","v":"Hastings College"},{"$f":"IFERROR(INDEX(C96:C105, SMALL(IF(\"V\"=F96:F105, ROW(F96:F105)-MIN(ROW(F96:F105))+1, \"\"), ROW() -95 )), \"\")","v":""},{"$f":"IFERROR(INDEX(D96:D105, SMALL(IF(\"V\"=F96:F105, ROW(F96:F105)-MIN(ROW(F96:F105))+1, \"\"), ROW() -95 )), \"\")","v":"8966-4192"},{"$f":"IFERROR(INDEX(E96:E105, SMALL(IF(\"V\"=F96:F105, ROW(F96:F105)-MIN(ROW(F96:F105))+1, \"\"), ROW() -95 )), \"\")","v":"Britiney Baker"},{"$f":"IFERROR(INDEX(B96:B105, SMALL(IF(ISNUMBER(SEARCH(\"JV1\",F96:F105)), ROW(F96:F105)-MIN(ROW(F96:F105))+1, \"\"), ROW() -95 )), \"\")","v":""},{"$f":"IFERROR(INDEX(C96:C105, SMALL(IF(ISNUMBER(SEARCH(\"JV1\",F96:F105)), ROW(F96:F105)-MIN(ROW(F96:F105))+1, \"\"), ROW() -95 )), \"\")","v":""},{"$f":"IFERROR(INDEX(D96:D105, SMALL(IF(ISNUMBER(SEARCH(\"JV1\",F96:F105)), ROW(F96:F105)-MIN(ROW(F96:F105))+1, \"\"), ROW() -95 )), \"\")","v":""},{"$f":"IFERROR(INDEX(E96:E105, SMALL(IF(ISNUMBER(SEARCH(\"JV1\",F96:F105)), ROW(F96:F105)-MIN(ROW(F96:F105))+1, \"\"), ROW() -95 )), \"\")","v":""},{"$f":"IFERROR(INDEX(B96:B105, SMALL(IF(ISNUMBER(SEARCH(\"JV2\",F96:F105)), ROW(F96:F105)-MIN(ROW(F96:F105))+1, \"\"), ROW() -95 )), \"\")","v":""},{"$f":"IFERROR(INDEX(C96:C105, SMALL(IF(ISNUMBER(SEARCH(\"JV2\",F96:F105)), ROW(F96:F105)-MIN(ROW(F96:F105))+1, \"\"), ROW() -95 )), \"\")","v":""},{"$f":"IFERROR(INDEX(D96:D105, SMALL(IF(ISNUMBER(SEARCH(\"JV2\",F96:F105)), ROW(F96:F105)-MIN(ROW(F96:F105))+1, \"\"), ROW() -95 )), \"\")","v":""},{"$f":"IFERROR(INDEX(E96:E105, SMALL(IF(ISNUMBER(SEARCH(\"JV2\",F96:F105)), ROW(F96:F105)-MIN(ROW(F96:F105))+1, \"\"), ROW() -95 )), \"\")","v":""}]
[null,"Hastings College",null,"11-427709","Emmeline Herman","V",null,4331.0,null,false,{"$nulls":17},{"$f":"IFERROR(INDEX(B96:B105, SMALL(IF(\"V\"=F96:F105, ROW(F96:F105)-MIN(ROW(F96:F105))+1, \"\"), ROW() -95 )), \"\")","v":"Hastings College"},{"$f":"IFERROR(INDEX(C96:C105, SMALL(IF(\"V\"=F96:F105, ROW(F96:F105)-MIN(ROW(F96:F105))+1, \"\"), ROW() -95 )), \"\")","v":""},{"$f":"IFERROR(INDEX(D96:D105, SMALL(IF(\"V\"=F96:F105, ROW(F96:F105)-MIN(ROW(F96:F105))+1, \"\"), ROW() -95 )), \"\")","v":"11-427709"},{"$f":"IFERROR(INDEX(E96:E105, SMALL(IF(\"V\"=F96:F105, ROW(F96:F105)-MIN(ROW(F96:F105))+1, \"\"), ROW() -95 )), \"\")","v":"Emmeline Herman"},{"$f":"IFERROR(INDEX(B96:B105, SMALL(IF(ISNUMBER(SEARCH(\"JV1\",F96:F105)), ROW(F96:F105)-MIN(ROW(F96:F105))+1, \"\"), ROW() -95 )), \"\")","v":""},{"$f":"IFERROR(INDEX(C96:C105, SMALL(IF(ISNUMBER(SEARCH(\"JV1\",F96:F105)), ROW(F96:F105)-MIN(ROW(F96:F105))+1, \"\"), ROW() -95 )), \"\")","v":""},{"$f":"IFERROR(INDEX(D96:D105, SMALL(IF(ISNUMBER(SEARCH(\"JV1\",F96:F105)), ROW(F96:F105)-MIN(ROW(F96:F105))+1, \"\"), ROW() -95 )), \"\")","v":""},{"$f":"IFERROR(INDEX(E96:E105, SMALL(IF(ISNUMBER(SEARCH(\"JV1\",F96:F105)), ROW(F96:F105)-MIN(ROW(F96:F105))+1, \"\"), ROW() -95 )), \"\")","v":""},{"$f":"IFERROR(INDEX(B96:B105, SMALL(IF(ISNUMBER(SEARCH(\"JV2\",F96:F105)), ROW(F96:F105)-MIN(ROW(F96:F105))+1, \"\"), ROW() -95 )), \"\")","v":""},{"$f":"IFERROR(INDEX(C96:C105, SMALL(IF(ISNUMBER(SEARCH(\"JV2\",F96:F105)), ROW(F96:F105)-MIN(ROW(F96:F105))+1, \"\"), ROW() -95 )), \"\")","v":""},{"$f":"IFERROR(INDEX(D96:D105, SMALL(IF(ISNUMBER(SEARCH(\"JV2\",F96:F105)), ROW(F96:F105)-MIN(ROW(F96:F105))+1, \"\"), ROW() -95 )), \"\")","v":""},{"$f":"IFERROR(INDEX(E96:E105, SMALL(IF(ISNUMBER(SEARCH(\"JV2\",F96:F105)), ROW(F96:F105)-MIN(ROW(F96:F105))+1, \"\"), ROW() -95 )), \"\")","v":""}]
[null,"Hastings College",null,"11-549048","Lexi Montoya"," ",null,4331.0,null,false,{"$nulls":17},{"$f":"IFERROR(INDEX(B96:B105, SMALL(IF(\"V\"=F96:F105, ROW(F96:F105)-MIN(ROW(F96:F105))+1, \"\"), ROW() -95 )), \"\")","v":"Hastings College"},{"$f":"IFERROR(INDEX(C96:C105, SMALL(IF(\"V\"=F96:F105, ROW(F96:F105)-MIN(ROW(F96:F105))+1, \"\"), ROW() -95 )), \"\")","v":""},{"$f":"IFERROR(INDEX(D96:D105, SMALL(IF(\"V\"=F96:F105, ROW(F96:F105)-MIN(ROW(F96:F105))+1, \"\"), ROW() -95 )), \"\")","v":"11-455997"},{"$f":"IFERROR(INDEX(E96:E105, SMALL(IF(\"V\"=F96:F105, ROW(F96:F105)-MIN(ROW(F96:F105))+1, \"\"), ROW() -95 )), \"\")","v":"Madison Henderson"},{"$f":"IFERROR(INDEX(B96:B105, SMALL(IF(ISNUMBER(SEARCH(\"JV1\",F96:F105)), ROW(F96:F105)-MIN(ROW(F96:F105))+1, \"\"), ROW() -95 )), \"\")","v":""},{"$f":"IFERROR(INDEX(C96:C105, SMALL(IF(ISNUMBER(SEARCH(\"JV1\",F96:F105)), ROW(F96:F105)-MIN(ROW(F96:F105))+1, \"\"), ROW() -95 )), \"\")","v":""},{"$f":"IFERROR(INDEX(D96:D105, SMALL(IF(ISNUMBER(SEARCH(\"JV1\",F96:F105)), ROW(F96:F105)-MIN(ROW(F96:F105))+1, \"\"), ROW() -95 )), \"\")","v":""},{"$f":"IFERROR(INDEX(E96:E105, SMALL(IF(ISNUMBER(SEARCH(\"JV1\",F96:F105)), ROW(F96:F105)-MIN(ROW(F96:F105))+1, \"\"), ROW() -95 )), \"\")","v":""},{"$f":"IFERROR(INDEX(B96:B105, SMALL(IF(ISNUMBER(SEARCH(\"JV2\",F96:F105)), ROW(F96:F105)-MIN(ROW(F96:F105))+1, \"\"), ROW() -95 )), \"\")","v":""},{"$f":"IFERROR(INDEX(C96:C105, SMALL(IF(ISNUMBER(SEARCH(\"JV2\",F96:F105)), ROW(F96:F105)-MIN(ROW(F96:F105))+1, \"\"), ROW() -95 )), \"\")","v":""},{"$f":"IFERROR(INDEX(D96:D105, SMALL(IF(ISNUMBER(SEARCH(\"JV2\",F96:F105)), ROW(F96:F105)-MIN(ROW(F96:F105))+1, \"\"), ROW() -95 )), \"\")","v":""},{"$f":"IFERROR(INDEX(E96:E105, SMALL(IF(ISNUMBER(SEARCH(\"JV2\",F96:F105)), ROW(F96:F105)-MIN(ROW(F96:F105))+1, \"\"), ROW() -95 )), \"\")","v":""}]
[null,"Hastings College",null,"7914-16525","Madelyn Pulliam"," ",null,4331.0,null,false,{"$nulls":17},{"$f":"IFERROR(INDEX(B96:B105, SMALL(IF(\"V\"=F96:F105, ROW(F96:F105)-MIN(ROW(F96:F105))+1, \"\"), ROW() -95 )), \"\")","v":"Hastings College"},{"$f":"IFERROR(INDEX(C96:C105, SMALL(IF(\"V\"=F96:F105, ROW(F96:F105)-MIN(ROW(F96:F105))+1, \"\"), ROW() -95 )), \"\")","v":""},{"$f":"IFERROR(INDEX(D96:D105, SMALL(IF(\"V\"=F96:F105, ROW(F96:F105)-MIN(ROW(F96:F105))+1, \"\"), ROW() -95 )), \"\")","v":"18-71705"},{"$f":"IFERROR(INDEX(E96:E105, SMALL(IF(\"V\"=F96:F105, ROW(F96:F105)-MIN(ROW(F96:F105))+1, \"\"), ROW() -95 )), \"\")","v":"Marissa Ruiz"},{"$f":"IFERROR(INDEX(B96:B105, SMALL(IF(ISNUMBER(SEARCH(\"JV1\",F96:F105)), ROW(F96:F105)-MIN(ROW(F96:F105))+1, \"\"), ROW() -95 )), \"\")","v":""},{"$f":"IFERROR(INDEX(C96:C105, SMALL(IF(ISNUMBER(SEARCH(\"JV1\",F96:F105)), ROW(F96:F105)-MIN(ROW(F96:F105))+1, \"\"), ROW() -95 )), \"\")","v":""},{"$f":"IFERROR(INDEX(D96:D105, SMALL(IF(ISNUMBER(SEARCH(\"JV1\",F96:F105)), ROW(F96:F105)-MIN(ROW(F96:F105))+1, \"\"), ROW() -95 )), \"\")","v":""},{"$f":"IFERROR(INDEX(E96:E105, SMALL(IF(ISNUMBER(SEARCH(\"JV1\",F96:F105)), ROW(F96:F105)-MIN(ROW(F96:F105))+1, \"\"), ROW() -95 )), \"\")","v":""},{"$f":"IFERROR(INDEX(B96:B105, SMALL(IF(ISNUMBER(SEARCH(\"JV2\",F96:F105)), ROW(F96:F105)-MIN(ROW(F96:F105))+1, \"\"), ROW() -95 )), \"\")","v":""},{"$f":"IFERROR(INDEX(C96:C105, SMALL(IF(ISNUMBER(SEARCH(\"JV2\",F96:F105)), ROW(F96:F105)-MIN(ROW(F96:F105))+1, \"\"), ROW() -95 )), \"\")","v":""},{"$f":"IFERROR(INDEX(D96:D105, SMALL(IF(ISNUMBER(SEARCH(\"JV2\",F96:F105)), ROW(F96:F105)-MIN(ROW(F96:F105))+1, \"\"), ROW() -95 )), \"\")","v":""},{"$f":"IFERROR(INDEX(E96:E105, SMALL(IF(ISNUMBER(SEARCH(\"JV2\",F96:F105)), ROW(F96:F105)-MIN(ROW(F96:F105))+1, \"\"), ROW() -95 )), \"\")","v":""}]
[null,"Hastings College",null,"11-455997","Madison Henderson","V",null,4331.0,null,false,{"$nulls":17},{"$f":"IFERROR(INDEX(B96:B105, SMALL(IF(\"V\"=F96:F105, ROW(F96:F105)-MIN(ROW(F96:F105))+1, \"\"), ROW() -95 )), \"\")","v":"Hastings College"},{"$f":"IFERROR(INDEX(C96:C105, SMALL(IF(\"V\"=F96:F105, ROW(F96:F105)-MIN(ROW(F96:F105))+1, \"\"), ROW() -95 )), \"\")","v":""},{"$f":"IFERROR(INDEX(D96:D105, SMALL(IF(\"V\"=F96:F105, ROW(F96:F105)-MIN(ROW(F96:F105))+1, \"\"), ROW() -95 )), \"\")","v":"7914-2571"},{"$f":"IFERROR(INDEX(E96:E105, SMALL(IF(\"V\"=F96:F105, ROW(F96:F105)-MIN(ROW(F96:F105))+1, \"\"), ROW() -95 )), \"\")","v":"Skylee Obenschain"},{"$f":"IFERROR(INDEX(B96:B105, SMALL(IF(ISNUMBER(SEARCH(\"JV1\",F96:F105)), ROW(F96:F105)-MIN(ROW(F96:F105))+1, \"\"), ROW() -95 )), \"\")","v":""},{"$f":"IFERROR(INDEX(C96:C105, SMALL(IF(ISNUMBER(SEARCH(\"JV1\",F96:F105)), ROW(F96:F105)-MIN(ROW(F96:F105))+1, \"\"), ROW() -95 )), \"\")","v":""},{"$f":"IFERROR(INDEX(D96:D105, SMALL(IF(ISNUMBER(SEARCH(\"JV1\",F96:F105)), ROW(F96:F105)-MIN(ROW(F96:F105))+1, \"\"), ROW() -95 )), \"\")","v":""},{"$f":"IFERROR(INDEX(E96:E105, SMALL(IF(ISNUMBER(SEARCH(\"JV1\",F96:F105)), ROW(F96:F105)-MIN(ROW(F96:F105))+1, \"\"), ROW() -95 )), \"\")","v":""},{"$f":"IFERROR(INDEX(B96:B105, SMALL(IF(ISNUMBER(SEARCH(\"JV2\",F96:F105)), ROW(F96:F105)-MIN(ROW(F96:F105))+1, \"\"), ROW() -95 )), \"\")","v":""},{"$f":"IFERROR(INDEX(C96:C105, SMALL(IF(ISNUMBER(SEARCH(\"JV2\",F96:F105)), ROW(F96:F105)-MIN(ROW(F96:F105))+1, \"\"), ROW() -95 )), \"\")","v":""},{"$f":"IFERROR(INDEX(D96:D105, SMALL(IF(ISNUMBER(SEARCH(\"JV2\",F96:F105)), ROW(F96:F105)-MIN(ROW(F96:F105))+1, \"\"), ROW() -95 )), \"\")","v":""},{"$f":"IFERROR(INDEX(E96:E105, SMALL(IF(ISNUMBER(SEARCH(\"JV2\",F96:F105)), ROW(F96:F105)-MIN(ROW(F96:F105))+1, \"\"), ROW() -95 )), \"\")","v":""}]
[null,"Hastings College",null,"18-71705","Marissa Ruiz","V",null,4331.0,null,false]
[null,"Hastings College",null,"7914-2571","Skylee Obenschain","V",null,4331.0,null,false]
[null,"Iowa Central Community College",null,"11-107840","Abigail (Abby) Price","V",null,4158.0,null,false,{"$nulls":17},{"$f":"IFERROR(INDEX(B106:B116, SMALL(IF(\"V\"=F106:F116, ROW(F106:F116)-MIN(ROW(F106:F116))+1, \"\"), ROW() -105 )), \"\")","v":"Iowa Central Community College"},{"$f":"IFERROR(INDEX(C106:C116, SMALL(IF(\"V\"=F106:F116, ROW(F106:F116)-MIN(ROW(F106:F116))+1, \"\"), ROW() -105 )), \"\")","v":""},{"$f":"IFERROR(INDEX(D106:D116, SMALL(IF(\"V\"=F106:F116, ROW(F106:F116)-MIN(ROW(F106:F116))+1, \"\"), ROW() -105 )), \"\")","v":"11-107840"},{"$f":"IFERROR(INDEX(E106:E116, SMALL(IF(\"V\"=F106:F116, ROW(F106:F116)-MIN(ROW(F106:F116))+1, \"\"), ROW() -105 )), \"\")","v":"Abigail (Abby) Price"},{"$f":"IFERROR(INDEX(B106:B116, SMALL(IF(ISNUMBER(SEARCH(\"JV1\",F106:F116)), ROW(F106:F116)-MIN(ROW(F106:F116))+1, \"\"), ROW() -105 )), \"\")","v":""},{"$f":"IFERROR(INDEX(C106:C116, SMALL(IF(ISNUMBER(SEARCH(\"JV1\",F106:F116)), ROW(F106:F116)-MIN(ROW(F106:F116))+1, \"\"), ROW() -105 )), \"\")","v":""},{"$f":"IFERROR(INDEX(D106:D116, SMALL(IF(ISNUMBER(SEARCH(\"JV1\",F106:F116)), ROW(F106:F116)-MIN(ROW(F106:F116))+1, \"\"), ROW() -105 )), \"\")","v":""},{"$f":"IFERROR(INDEX(E106:E116, SMALL(IF(ISNUMBER(SEARCH(\"JV1\",F106:F116)), ROW(F106:F116)-MIN(ROW(F106:F116))+1, \"\"), ROW() -105 )), \"\")","v":""},{"$f":"IFERROR(INDEX(B106:B116, SMALL(IF(ISNUMBER(SEARCH(\"JV2\",F106:F116)), ROW(F106:F116)-MIN(ROW(F106:F116))+1, \"\"), ROW() -105 )), \"\")","v":""},{"$f":"IFERROR(INDEX(C106:C116, SMALL(IF(ISNUMBER(SEARCH(\"JV2\",F106:F116)), ROW(F106:F116)-MIN(ROW(F106:F116))+1, \"\"), ROW() -105 )), \"\")","v":""},{"$f":"IFERROR(INDEX(D106:D116, SMALL(IF(ISNUMBER(SEARCH(\"JV2\",F106:F116)), ROW(F106:F116)-MIN(ROW(F106:F116))+1, \"\"), ROW() -105 )), \"\")","v":""},{"$f":"IFERROR(INDEX(E106:E116, SMALL(IF(ISNUMBER(SEARCH(\"JV2\",F106:F116)), ROW(F106:F116)-MIN(ROW(F106:F116))+1, \"\"), ROW() -105 )), \"\")","v":""}]
[null,"Iowa Central Community College",null,"11-234952","Alexis Hanson","V",null,4158.0,null,false,{"$nulls":17},{"$f":"IFERROR(INDEX(B106:B116, SMALL(IF(\"V\"=F106:F116, ROW(F106:F116)-MIN(ROW(F106:F116))+1, \"\"), ROW() -105 )), \"\")","v":"Iowa Central Community College"},{"$f":"IFERROR(INDEX(C106:C116, SMALL(IF(\"V\"=F106:F116, ROW(F106:F116)-MIN(ROW(F106:F116))+1, \"\"), ROW() -105 )), \"\")","v":""},{"$f":"IFERROR(INDEX(D106:D116, SMALL(IF(\"V\"=F106:F116, ROW(F106:F116)-MIN(ROW(F106:F116))+1, \"\"), ROW() -105 )), \"\")","v":"11-234952"},{"$f":"IFERROR(INDEX(E106:E116, SMALL(IF(\"V\"=F106:F116, ROW(F106:F116)-MIN(ROW(F106:F116))+1, \"\"), ROW() -105 )), \"\")","v":"Alexis Hanson"},{"$f":"IFERROR(INDEX(B106:B116, SMALL(IF(ISNUMBER(SEARCH(\"JV1\",F106:F116)), ROW(F106:F116)-MIN(ROW(F106:F116))+1, \"\"), ROW() -105 )), \"\")","v":""},{"$f":"IFERROR(INDEX(C106:C116, SMALL(IF(ISNUMBER(SEARCH(\"JV1\",F106:F116)), ROW(F106:F116)-MIN(ROW(F106:F116))+1, \"\"), ROW() -105 )), \"\")","v":""},{"$f":"IFERROR(INDEX(D106:D116, SMALL(IF(ISNUMBER(SEARCH(\"JV1\",F106:F116)), ROW(F106:F116)-MIN(ROW(F106:F116))+1, \"\"), ROW() -105 )), \"\")","v":""},{"$f":"IFERROR(INDEX(E106:E116, SMALL(IF(ISNUMBER(SEARCH(\"JV1\",F106:F116)), ROW(F106:F116)-MIN(ROW(F106:F116))+1, \"\"), ROW() -105 )), \"\")","v":""},{"$f":"IFERROR(INDEX(B106:B116, SMALL(IF(ISNUMBER(SEARCH(\"JV2\",F106:F116)), ROW(F106:F116)-MIN(ROW(F106:F116))+1, \"\"), ROW() -105 )), \"\")","v":""},{"$f":"IFERROR(INDEX(C106:C116, SMALL(IF(ISNUMBER(SEARCH(\"JV2\",F106:F116)), ROW(F106:F116)-MIN(ROW(F106:F116))+1, \"\"), ROW() -105 )), \"\")","v":""},{"$f":"IFERROR(INDEX(D106:D116, SMALL(IF(ISNUMBER(SEARCH(\"JV2\",F106:F116)), ROW(F106:F116)-MIN(ROW(F106:F116))+1, \"\"), ROW() -105 )), \"\")","v":""},{"$f":"IFERROR(INDEX(E106:E116, SMALL(IF(ISNUMBER(SEARCH(\"JV2\",F106:F116)), ROW(F106:F116)-MIN(ROW(F106:F116))+1, \"\"), ROW() -105 )), \"\")","v":""}]
[null,"Iowa Central Community College",null,"11-141783","Alexis Kenney"," ",null,4158.0,null,false,{"$nulls":17},{"$f":"IFERROR(INDEX(B106:B116, SMALL(IF(\"V\"=F106:F116, ROW(F106:F116)-MIN(ROW(F106:F116))+1, \"\"), ROW() -105 )), \"\")","v":"Iowa Central Community College"},{"$f":"IFERROR(INDEX(C106:C116, SMALL(IF(\"V\"=F106:F116, ROW(F106:F116)-MIN(ROW(F106:F116))+1, \"\"), ROW() -105 )), \"\")","v":""},{"$f":"IFERROR(INDEX(D106:D116, SMALL(IF(\"V\"=F106:F116, ROW(F106:F116)-MIN(ROW(F106:F116))+1, \"\"), ROW() -105 )), \"\")","v":"22-1523"},{"$f":"IFERROR(INDEX(E106:E116, SMALL(IF(\"V\"=F106:F116, ROW(F106:F116)-MIN(ROW(F106:F116))+1, \"\"), ROW() -105 )), \"\")","v":"Ann Alsup"},{"$f":"IFERROR(INDEX(B106:B116, SMALL(IF(ISNUMBER(SEARCH(\"JV1\",F106:F116)), ROW(F106:F116)-MIN(ROW(F106:F116))+1, \"\"), ROW() -105 )), \"\")","v":""},{"$f":"IFERROR(INDEX(C106:C116, SMALL(IF(ISNUMBER(SEARCH(\"JV1\",F106:F116)), ROW(F106:F116)-MIN(ROW(F106:F116))+1, \"\"), ROW() -105 )), \"\")","v":""},{"$f":"IFERROR(INDEX(D106:D116, SMALL(IF(ISNUMBER(SEARCH(\"JV1\",F106:F116)), ROW(F106:F116)-MIN(ROW(F106:F116))+1, \"\"), ROW() -105 )), \"\")","v":""},{"$f":"IFERROR(INDEX(E106:E116, SMALL(IF(ISNUMBER(SEARCH(\"JV1\",F106:F116)), ROW(F106:F116)-MIN(ROW(F106:F116))+1, \"\"), ROW() -105 )), \"\")","v":""},{"$f":"IFERROR(INDEX(B106:B116, SMALL(IF(ISNUMBER(SEARCH(\"JV2\",F106:F116)), ROW(F106:F116)-MIN(ROW(F106:F116))+1, \"\"), ROW() -105 )), \"\")","v":""},{"$f":"IFERROR(INDEX(C106:C116, SMALL(IF(ISNUMBER(SEARCH(\"JV2\",F106:F116)), ROW(F106:F116)-MIN(ROW(F106:F116))+1, \"\"), ROW() -105 )), \"\")","v":""},{"$f":"IFERROR(INDEX(D106:D116, SMALL(IF(ISNUMBER(SEARCH(\"JV2\",F106:F116)), ROW(F106:F116)-MIN(ROW(F106:F116))+1, \"\"), ROW() -105 )), \"\")","v":""},{"$f":"IFERROR(INDEX(E106:E116, SMALL(IF(ISNUMBER(SEARCH(\"JV2\",F106:F116)), ROW(F106:F116)-MIN(ROW(F106:F116))+1, \"\"), ROW() -105 )), \"\")","v":""}]
[null,"Iowa Central Community College",null,"22-1523","Ann Alsup","V",null,4158.0,null,false,{"$nulls":17},{"$f":"IFERROR(INDEX(B106:B116, SMALL(IF(\"V\"=F106:F116, ROW(F106:F116)-MIN(ROW(F106:F116))+1, \"\"), ROW() -105 )), \"\")","v":"Iowa Central Community College"},{"$f":"IFERROR(INDEX(C106:C116, SMALL(IF(\"V\"=F106:F116, ROW(F106:F116)-MIN(ROW(F106:F116))+1, \"\"), ROW() -105 )), \"\")","v":""},{"$f":"IFERROR(INDEX(D106:D116, SMALL(IF(\"V\"=F106:F116, ROW(F106:F116)-MIN(ROW(F106:F116))+1, \"\"), ROW() -105 )), \"\")","v":"18-63585"},{"$f":"IFERROR(INDEX(E106:E116, SMALL(IF(\"V\"=F106:F116, ROW(F106:F116)-MIN(ROW(F106:F116))+1, \"\"), ROW() -105 )), \"\")","v":"Ashley Lacey"},{"$f":"IFERROR(INDEX(B106:B116, SMALL(IF(ISNUMBER(SEARCH(\"JV1\",F106:F116)), ROW(F106:F116)-MIN(ROW(F106:F116))+1, \"\"), ROW() -105 )), \"\")","v":""},{"$f":"IFERROR(INDEX(C106:C116, SMALL(IF(ISNUMBER(SEARCH(\"JV1\",F106:F116)), ROW(F106:F116)-MIN(ROW(F106:F116))+1, \"\"), ROW() -105 )), \"\")","v":""},{"$f":"IFERROR(INDEX(D106:D116, SMALL(IF(ISNUMBER(SEARCH(\"JV1\",F106:F116)), ROW(F106:F116)-MIN(ROW(F106:F116))+1, \"\"), ROW() -105 )), \"\")","v":""},{"$f":"IFERROR(INDEX(E106:E116, SMALL(IF(ISNUMBER(SEARCH(\"JV1\",F106:F116)), ROW(F106:F116)-MIN(ROW(F106:F116))+1, \"\"), ROW() -105 )), \"\")","v":""},{"$f":"IFERROR(INDEX(B106:B116, SMALL(IF(ISNUMBER(SEARCH(\"JV2\",F106:F116)), ROW(F106:F116)-MIN(ROW(F106:F116))+1, \"\"), ROW() -105 )), \"\")","v":""},{"$f":"IFERROR(INDEX(C106:C116, SMALL(IF(ISNUMBER(SEARCH(\"JV2\",F106:F116)), ROW(F106:F116)-MIN(ROW(F106:F116))+1, \"\"), ROW() -105 )), \"\")","v":""},{"$f":"IFERROR(INDEX(D106:D116, SMALL(IF(ISNUMBER(SEARCH(\"JV2\",F106:F116)), ROW(F106:F116)-MIN(ROW(F106:F116))+1, \"\"), ROW() -105 )), \"\")","v":""},{"$f":"IFERROR(INDEX(E106:E116, SMALL(IF(ISNUMBER(SEARCH(\"JV2\",F106:F116)), ROW(F106:F116)-MIN(ROW(F106:F116))+1, \"\"), ROW() -105 )), \"\")","v":""}]
[null,"Iowa Central Community College",null,"22-1525","Arianna Slusarek"," ",null,4158.0,null,false,{"$nulls":17},{"$f":"IFERROR(INDEX(B106:B116, SMALL(IF(\"V\"=F106:F116, ROW(F106:F116)-MIN(ROW(F106:F116))+1, \"\"), ROW() -105 )), \"\")","v":"Iowa Central Community College"},{"$f":"IFERROR(INDEX(C106:C116, SMALL(IF(\"V\"=F106:F116, ROW(F106:F116)-MIN(ROW(F106:F116))+1, \"\"), ROW() -105 )), \"\")","v":""},{"$f":"IFERROR(INDEX(D106:D116, SMALL(IF(\"V\"=F106:F116, ROW(F106:F116)-MIN(ROW(F106:F116))+1, \"\"), ROW() -105 )), \"\")","v":"19-22703"},{"$f":"IFERROR(INDEX(E106:E116, SMALL(IF(\"V\"=F106:F116, ROW(F106:F116)-MIN(ROW(F106:F116))+1, \"\"), ROW() -105 )), \"\")","v":"Brynne Mickelson"},{"$f":"IFERROR(INDEX(B106:B116, SMALL(IF(ISNUMBER(SEARCH(\"JV1\",F106:F116)), ROW(F106:F116)-MIN(ROW(F106:F116))+1, \"\"), ROW() -105 )), \"\")","v":""},{"$f":"IFERROR(INDEX(C106:C116, SMALL(IF(ISNUMBER(SEARCH(\"JV1\",F106:F116)), ROW(F106:F116)-MIN(ROW(F106:F116))+1, \"\"), ROW() -105 )), \"\")","v":""},{"$f":"IFERROR(INDEX(D106:D116, SMALL(IF(ISNUMBER(SEARCH(\"JV1\",F106:F116)), ROW(F106:F116)-MIN(ROW(F106:F116))+1, \"\"), ROW() -105 )), \"\")","v":""},{"$f":"IFERROR(INDEX(E106:E116, SMALL(IF(ISNUMBER(SEARCH(\"JV1\",F106:F116)), ROW(F106:F116)-MIN(ROW(F106:F116))+1, \"\"), ROW() -105 )), \"\")","v":""},{"$f":"IFERROR(INDEX(B106:B116, SMALL(IF(ISNUMBER(SEARCH(\"JV2\",F106:F116)), ROW(F106:F116)-MIN(ROW(F106:F116))+1, \"\"), ROW() -105 )), \"\")","v":""},{"$f":"IFERROR(INDEX(C106:C116, SMALL(IF(ISNUMBER(SEARCH(\"JV2\",F106:F116)), ROW(F106:F116)-MIN(ROW(F106:F116))+1, \"\"), ROW() -105 )), \"\")","v":""},{"$f":"IFERROR(INDEX(D106:D116, SMALL(IF(ISNUMBER(SEARCH(\"JV2\",F106:F116)), ROW(F106:F116)-MIN(ROW(F106:F116))+1, \"\"), ROW() -105 )), \"\")","v":""},{"$f":"IFERROR(INDEX(E106:E116, SMALL(IF(ISNUMBER(SEARCH(\"JV2\",F106:F116)), ROW(F106:F116)-MIN(ROW(F106:F116))+1, \"\"), ROW() -105 )), \"\")","v":""}]
[null,"Iowa Central Community College",null,"18-63585","Ashley Lacey","V",null,4158.0,null,false,{"$nulls":17},{"$f":"IFERROR(INDEX(B106:B116, SMALL(IF(\"V\"=F106:F116, ROW(F106:F116)-MIN(ROW(F106:F116))+1, \"\"), ROW() -105 )), \"\")","v":"Iowa Central Community College"},{"$f":"IFERROR(INDEX(C106:C116, SMALL(IF(\"V\"=F106:F116, ROW(F106:F116)-MIN(ROW(F106:F116))+1, \"\"), ROW() -105 )), \"\")","v":""},{"$f":"IFERROR(INDEX(D106:D116, SMALL(IF(\"V\"=F106:F116, ROW(F106:F116)-MIN(ROW(F106:F116))+1, \"\"), ROW() -105 )), \"\")","v":"18-68396"},{"$f":"IFERROR(INDEX(E106:E116, SMALL(IF(\"V\"=F106:F116, ROW(F106:F116)-MIN(ROW(F106:F116))+1, \"\"), ROW() -105 )), \"\")","v":"Cassie Lee"},{"$f":"IFERROR(INDEX(B106:B116, SMALL(IF(ISNUMBER(SEARCH(\"JV1\",F106:F116)), ROW(F106:F116)-MIN(ROW(F106:F116))+1, \"\"), ROW() -105 )), \"\")","v":""},{"$f":"IFERROR(INDEX(C106:C116, SMALL(IF(ISNUMBER(SEARCH(\"JV1\",F106:F116)), ROW(F106:F116)-MIN(ROW(F106:F116))+1, \"\"), ROW() -105 )), \"\")","v":""},{"$f":"IFERROR(INDEX(D106:D116, SMALL(IF(ISNUMBER(SEARCH(\"JV1\",F106:F116)), ROW(F106:F116)-MIN(ROW(F106:F116))+1, \"\"), ROW() -105 )), \"\")","v":""},{"$f":"IFERROR(INDEX(E106:E116, SMALL(IF(ISNUMBER(SEARCH(\"JV1\",F106:F116)), ROW(F106:F116)-MIN(ROW(F106:F116))+1, \"\"), ROW() -105 )), \"\")","v":""},{"$f":"IFERROR(INDEX(B106:B116, SMALL(IF(ISNUMBER(SEARCH(\"JV2\",F106:F116)), ROW(F106:F116)-MIN(ROW(F106:F116))+1, \"\"), ROW() -105 )), \"\")","v":""},{"$f":"IFERROR(INDEX(C106:C116, SMALL(IF(ISNUMBER(SEARCH(\"JV2\",F106:F116)), ROW(F106:F116)-MIN(ROW(F106:F116))+1, \"\"), ROW() -105 )), \"\")","v":""},{"$f":"IFERROR(INDEX(D106:D116, SMALL(IF(ISNUMBER(SEARCH(\"JV2\",F106:F116)), ROW(F106:F116)-MIN(ROW(F106:F116))+1, \"\"), ROW() -105 )), \"\")","v":""},{"$f":"IFERROR(INDEX(E106:E116, SMALL(IF(ISNUMBER(SEARCH(\"JV2\",F106:F116)), ROW(F106:F116)-MIN(ROW(F106:F116))+1, \"\"), ROW() -105 )), \"\")","v":""}]
[null,"Iowa Central Community College",null,"19-22703","Brynne Mickelson","V",null,4158.0,null,false,{"$nulls":17},{"$f":"IFERROR(INDEX(B106:B116, SMALL(IF(\"V\"=F106:F116, ROW(F106:F116)-MIN(ROW(F106:F116))+1, \"\"), ROW() -105 )), \"\")","v":"Iowa Central Community College"},{"$f":"IFERROR(INDEX(C106:C116, SMALL(IF(\"V\"=F106:F116, ROW(F106:F116)-MIN(ROW(F106:F116))+1, \"\"), ROW() -105 )), \"\")","v":""},{"$f":"IFERROR(INDEX(D106:D116, SMALL(IF(\"V\"=F106:F116, ROW(F106:F116)-MIN(ROW(F106:F116))+1, \"\"), ROW() -105 )), \"\")","v":"11-381947"},{"$f":"IFERROR(INDEX(E106:E116, SMALL(IF(\"V\"=F106:F116, ROW(F106:F116)-MIN(ROW(F106:F116))+1, \"\"), ROW() -105 )), \"\")","v":"Madisyn Gerdts"},{"$f":"IFERROR(INDEX(B106:B116, SMALL(IF(ISNUMBER(SEARCH(\"JV1\",F106:F116)), ROW(F106:F116)-MIN(ROW(F106:F116))+1, \"\"), ROW() -105 )), \"\")","v":""},{"$f":"IFERROR(INDEX(C106:C116, SMALL(IF(ISNUMBER(SEARCH(\"JV1\",F106:F116)), ROW(F106:F116)-MIN(ROW(F106:F116))+1, \"\"), ROW() -105 )), \"\")","v":""},{"$f":"IFERROR(INDEX(D106:D116, SMALL(IF(ISNUMBER(SEARCH(\"JV1\",F106:F116)), ROW(F106:F116)-MIN(ROW(F106:F116))+1, \"\"), ROW() -105 )), \"\")","v":""},{"$f":"IFERROR(INDEX(E106:E116, SMALL(IF(ISNUMBER(SEARCH(\"JV1\",F106:F116)), ROW(F106:F116)-MIN(ROW(F106:F116))+1, \"\"), ROW() -105 )), \"\")","v":""},{"$f":"IFERROR(INDEX(B106:B116, SMALL(IF(ISNUMBER(SEARCH(\"JV2\",F106:F116)), ROW(F106:F116)-MIN(ROW(F106:F116))+1, \"\"), ROW() -105 )), \"\")","v":""},{"$f":"IFERROR(INDEX(C106:C116, SMALL(IF(ISNUMBER(SEARCH(\"JV2\",F106:F116)), ROW(F106:F116)-MIN(ROW(F106:F116))+1, \"\"), ROW() -105 )), \"\")","v":""},{"$f":"IFERROR(INDEX(D106:D116, SMALL(IF(ISNUMBER(SEARCH(\"JV2\",F106:F116)), ROW(F106:F116)-MIN(ROW(F106:F116))+1, \"\"), ROW() -105 )), \"\")","v":""},{"$f":"IFERROR(INDEX(E106:E116, SMALL(IF(ISNUMBER(SEARCH(\"JV2\",F106:F116)), ROW(F106:F116)-MIN(ROW(F106:F116))+1, \"\"), ROW() -105 )), \"\")","v":""}]
[null,"Iowa Central Community College",null,"18-68396","Cassie Lee","V",null,4158.0,null,false,{"$nulls":17},{"$f":"IFERROR(INDEX(B106:B116, SMALL(IF(\"V\"=F106:F116, ROW(F106:F116)-MIN(ROW(F106:F116))+1, \"\"), ROW() -105 )), \"\")","v":"Iowa Central Community College"},{"$f":"IFERROR(INDEX(C106:C116, SMALL(IF(\"V\"=F106:F116, ROW(F106:F116)-MIN(ROW(F106:F116))+1, \"\"), ROW() -105 )), \"\")","v":""},{"$f":"IFERROR(INDEX(D106:D116, SMALL(IF(\"V\"=F106:F116, ROW(F106:F116)-MIN(ROW(F106:F116))+1, \"\"), ROW() -105 )), \"\")","v":"11-446110"},{"$f":"IFERROR(INDEX(E106:E116, SMALL(IF(\"V\"=F106:F116, ROW(F106:F116)-MIN(ROW(F106:F116))+1, \"\"), ROW() -105 )), \"\")","v":"Victoria Potter"},{"$f":"IFERROR(INDEX(B106:B116, SMALL(IF(ISNUMBER(SEARCH(\"JV1\",F106:F116)), ROW(F106:F116)-MIN(ROW(F106:F116))+1, \"\"), ROW() -105 )), \"\")","v":""},{"$f":"IFERROR(INDEX(C106:C116, SMALL(IF(ISNUMBER(SEARCH(\"JV1\",F106:F116)), ROW(F106:F116)-MIN(ROW(F106:F116))+1, \"\"), ROW() -105 )), \"\")","v":""},{"$f":"IFERROR(INDEX(D106:D116, SMALL(IF(ISNUMBER(SEARCH(\"JV1\",F106:F116)), ROW(F106:F116)-MIN(ROW(F106:F116))+1, \"\"), ROW() -105 )), \"\")","v":""},{"$f":"IFERROR(INDEX(E106:E116, SMALL(IF(ISNUMBER(SEARCH(\"JV1\",F106:F116)), ROW(F106:F116)-MIN(ROW(F106:F116))+1, \"\"), ROW() -105 )), \"\")","v":""},{"$f":"IFERROR(INDEX(B106:B116, SMALL(IF(ISNUMBER(SEARCH(\"JV2\",F106:F116)), ROW(F106:F116)-MIN(ROW(F106:F116))+1, \"\"), ROW() -105 )), \"\")","v":""},{"$f":"IFERROR(INDEX(C106:C116, SMALL(IF(ISNUMBER(SEARCH(\"JV2\",F106:F116)), ROW(F106:F116)-MIN(ROW(F106:F116))+1, \"\"), ROW() -105 )), \"\")","v":""},{"$f":"IFERROR(INDEX(D106:D116, SMALL(IF(ISNUMBER(SEARCH(\"JV2\",F106:F116)), ROW(F106:F116)-MIN(ROW(F106:F116))+1, \"\"), ROW() -105 )), \"\")","v":""},{"$f":"IFERROR(INDEX(E106:E116, SMALL(IF(ISNUMBER(SEARCH(\"JV2\",F106:F116)), ROW(F106:F116)-MIN(ROW(F106:F116))+1, \"\"), ROW() -105 )), \"\")","v":""}]
[null,"Iowa Central Community College",null,"11-687699","Emily Tieskotter"," ",null,4158.0,null,false]
[null,"Iowa Central Community College",null,"11-381947","Madisyn Gerdts","V",null,4158.0,null,false]
[null,"Iowa Central Community College",null,"11-446110","Victoria Potter","V",null,4158.0,null,false]
[null,"Iowa Western Community College",null,""," "," ",null,4463.0,null,false,{"$nulls":17},{"$f":"IFERROR(INDEX(B117:B124, SMALL(IF(\"V\"=F117:F124, ROW(F117:F124)-MIN(ROW(F117:F124))+1, \"\"), ROW() -116 )), \"\")","v":"Iowa Western Community College"},{"$f":"IFERROR(INDEX(C117:C124, SMALL(IF(\"V\"=F117:F124, ROW(F117:F124)-MIN(ROW(F117:F124))+1, \"\"), ROW() -116 )), \"\")","v":""},{"$f":"IFERROR(INDEX(D117:D124, SMALL(IF(\"V\"=F117:F124, ROW(F117:F124)-MIN(ROW(F117:F124))+1, \"\"), ROW() -116 )), \"\")","v":"22-2842"},{"$f":"IFERROR(INDEX(E117:E124, SMALL(IF(\"V\"=F117:F124, ROW(F117:F124)-MIN(ROW(F117:F124))+1, \"\"), ROW() -116 )), \"\")","v":"Dylan Freeman"},{"$f":"IFERROR(INDEX(B117:B124, SMALL(IF(ISNUMBER(SEARCH(\"JV1\",F117:F124)), ROW(F117:F124)-MIN(ROW(F117:F124))+1, \"\"), ROW() -116 )), \"\")","v":""},{"$f":"IFERROR(INDEX(C117:C124, SMALL(IF(ISNUMBER(SEARCH(\"JV1\",F117:F124)), ROW(F117:F124)-MIN(ROW(F117:F124))+1, \"\"), ROW() -116 )), \"\")","v":""},{"$f":"IFERROR(INDEX(D117:D124, SMALL(IF(ISNUMBER(SEARCH(\"JV1\",F117:F124)), ROW(F117:F124)-MIN(ROW(F117:F124))+1, \"\"), ROW() -116 )), \"\")","v":""},{"$f":"IFERROR(INDEX(E117:E124, SMALL(IF(ISNUMBER(SEARCH(\"JV1\",F117:F124)), ROW(F117:F124)-MIN(ROW(F117:F124))+1, \"\"), ROW() -116 )), \"\")","v":""},{"$f":"IFERROR(INDEX(B117:B124, SMALL(IF(ISNUMBER(SEARCH(\"JV2\",F117:F124)), ROW(F117:F124)-MIN(ROW(F117:F124))+1, \"\"), ROW() -116 )), \"\")","v":""},{"$f":"IFERROR(INDEX(C117:C124, SMALL(IF(ISNUMBER(SEARCH(\"JV2\",F117:F124)), ROW(F117:F124)-MIN(ROW(F117:F124))+1, \"\"), ROW() -116 )), \"\")","v":""},{"$f":"IFERROR(INDEX(D117:D124, SMALL(IF(ISNUMBER(SEARCH(\"JV2\",F117:F124)), ROW(F117:F124)-MIN(ROW(F117:F124))+1, \"\"), ROW() -116 )), \"\")","v":""},{"$f":"IFERROR(INDEX(E117:E124, SMALL(IF(ISNUMBER(SEARCH(\"JV2\",F117:F124)), ROW(F117:F124)-MIN(ROW(F117:F124))+1, \"\"), ROW() -116 )), \"\")","v":""}]
[null,"Iowa Western Community College",null,"22-2842","Dylan Freeman","V",null,4463.0,null,false,{"$nulls":17},{"$f":"IFERROR(INDEX(B117:B124, SMALL(IF(\"V\"=F117:F124, ROW(F117:F124)-MIN(ROW(F117:F124))+1, \"\"), ROW() -116 )), \"\")","v":"Iowa Western Community College"},{"$f":"IFERROR(INDEX(C117:C124, SMALL(IF(\"V\"=F117:F124, ROW(F117:F124)-MIN(ROW(F117:F124))+1, \"\"), ROW() -116 )), \"\")","v":""},{"$f":"IFERROR(INDEX(D117:D124, SMALL(IF(\"V\"=F117:F124, ROW(F117:F124)-MIN(ROW(F117:F124))+1, \"\"), ROW() -116 )), \"\")","v":"19-86489"},{"$f":"IFERROR(INDEX(E117:E124, SMALL(IF(\"V\"=F117:F124, ROW(F117:F124)-MIN(ROW(F117:F124))+1, \"\"), ROW() -116 )), \"\")","v":"Gabbi McCarthy"},{"$f":"IFERROR(INDEX(B117:B124, SMALL(IF(ISNUMBER(SEARCH(\"JV1\",F117:F124)), ROW(F117:F124)-MIN(ROW(F117:F124))+1, \"\"), ROW() -116 )), \"\")","v":""},{"$f":"IFERROR(INDEX(C117:C124, SMALL(IF(ISNUMBER(SEARCH(\"JV1\",F117:F124)), ROW(F117:F124)-MIN(ROW(F117:F124))+1, \"\"), ROW() -116 )), \"\")","v":""},{"$f":"IFERROR(INDEX(D117:D124, SMALL(IF(ISNUMBER(SEARCH(\"JV1\",F117:F124)), ROW(F117:F124)-MIN(ROW(F117:F124))+1, \"\"), ROW() -116 )), \"\")","v":""},{"$f":"IFERROR(INDEX(E117:E124, SMALL(IF(ISNUMBER(SEARCH(\"JV1\",F117:F124)), ROW(F117:F124)-MIN(ROW(F117:F124))+1, \"\"), ROW() -116 )), \"\")","v":""},{"$f":"IFERROR(INDEX(B117:B124, SMALL(IF(ISNUMBER(SEARCH(\"JV2\",F117:F124)), ROW(F117:F124)-MIN(ROW(F117:F124))+1, \"\"), ROW() -116 )), \"\")","v":""},{"$f":"IFERROR(INDEX(C117:C124, SMALL(IF(ISNUMBER(SEARCH(\"JV2\",F117:F124)), ROW(F117:F124)-MIN(ROW(F117:F124))+1, \"\"), ROW() -116 )), \"\")","v":""},{"$f":"IFERROR(INDEX(D117:D124, SMALL(IF(ISNUMBER(SEARCH(\"JV2\",F117:F124)), ROW(F117:F124)-MIN(ROW(F117:F124))+1, \"\"), ROW() -116 )), \"\")","v":""},{"$f":"IFERROR(INDEX(E117:E124, SMALL(IF(ISNUMBER(SEARCH(\"JV2\",F117:F124)), ROW(F117:F124)-MIN(ROW(F117:F124))+1, \"\"), ROW() -116 )), \"\")","v":""}]
[null,"Iowa Western Community College",null,"19-86489","Gabbi McCarthy","V",null,4463.0,null,false,{"$nulls":17},{"$f":"IFERROR(INDEX(B117:B124, SMALL(IF(\"V\"=F117:F124, ROW(F117:F124)-MIN(ROW(F117:F124))+1, \"\"), ROW() -116 )), \"\")","v":"Iowa Western Community College"},{"$f":"IFERROR(INDEX(C117:C124, SMALL(IF(\"V\"=F117:F124, ROW(F117:F124)-MIN(ROW(F117:F124))+1, \"\"), ROW() -116 )), \"\")","v":""},{"$f":"IFERROR(INDEX(D117:D124, SMALL(IF(\"V\"=F117:F124, ROW(F117:F124)-MIN(ROW(F117:F124))+1, \"\"), ROW() -116 )), \"\")","v":"11-666402"},{"$f":"IFERROR(INDEX(E117:E124, SMALL(IF(\"V\"=F117:F124, ROW(F117:F124)-MIN(ROW(F117:F124))+1, \"\"), ROW() -116 )), \"\")","v":"Kasey Pleas"},{"$f":"IFERROR(INDEX(B117:B124, SMALL(IF(ISNUMBER(SEARCH(\"JV1\",F117:F124)), ROW(F117:F124)-MIN(ROW(F117:F124))+1, \"\"), ROW() -116 )), \"\")","v":""},{"$f":"IFERROR(INDEX(C117:C124, SMALL(IF(ISNUMBER(SEARCH(\"JV1\",F117:F124)), ROW(F117:F124)-MIN(ROW(F117:F124))+1, \"\"), ROW() -116 )), \"\")","v":""},{"$f":"IFERROR(INDEX(D117:D124, SMALL(IF(ISNUMBER(SEARCH(\"JV1\",F117:F124)), ROW(F117:F124)-MIN(ROW(F117:F124))+1, \"\"), ROW() -116 )), \"\")","v":""},{"$f":"IFERROR(INDEX(E117:E124, SMALL(IF(ISNUMBER(SEARCH(\"JV1\",F117:F124)), ROW(F117:F124)-MIN(ROW(F117:F124))+1, \"\"), ROW() -116 )), \"\")","v":""},{"$f":"IFERROR(INDEX(B117:B124, SMALL(IF(ISNUMBER(SEARCH(\"JV2\",F117:F124)), ROW(F117:F124)-MIN(ROW(F117:F124))+1, \"\"), ROW() -116 )), \"\")","v":""},{"$f":"IFERROR(INDEX(C117:C124, SMALL(IF(ISNUMBER(SEARCH(\"JV2\",F117:F124)), ROW(F117:F124)-MIN(ROW(F117:F124))+1, \"\"), ROW() -116 )), \"\")","v":""},{"$f":"IFERROR(INDEX(D117:D124, SMALL(IF(ISNUMBER(SEARCH(\"JV2\",F117:F124)), ROW(F117:F124)-MIN(ROW(F117:F124))+1, \"\"), ROW() -116 )), \"\")","v":""},{"$f":"IFERROR(INDEX(E117:E124, SMALL(IF(ISNUMBER(SEARCH(\"JV2\",F117:F124)), ROW(F117:F124)-MIN(ROW(F117:F124))+1, \"\"), ROW() -116 )), \"\")","v":""}]
[null,"Iowa Western Community College",null,"11-666402","Kasey Pleas","V",null,4463.0,null,false,{"$nulls":17},{"$f":"IFERROR(INDEX(B117:B124, SMALL(IF(\"V\"=F117:F124, ROW(F117:F124)-MIN(ROW(F117:F124))+1, \"\"), ROW() -116 )), \"\")","v":"Iowa Western Community College"},{"$f":"IFERROR(INDEX(C117:C124, SMALL(IF(\"V\"=F117:F124, ROW(F117:F124)-MIN(ROW(F117:F124))+1, \"\"), ROW() -116 )), \"\")","v":""},{"$f":"IFERROR(INDEX(D117:D124, SMALL(IF(\"V\"=F117:F124, ROW(F117:F124)-MIN(ROW(F117:F124))+1, \"\"), ROW() -116 )), \"\")","v":"18-27388"},{"$f":"IFERROR(INDEX(E117:E124, SMALL(IF(\"V\"=F117:F124, ROW(F117:F124)-MIN(ROW(F117:F124))+1, \"\"), ROW() -116 )), \"\")","v":"Kaylynn Oliver"},{"$f":"IFERROR(INDEX(B117:B124, SMALL(IF(ISNUMBER(SEARCH(\"JV1\",F117:F124)), ROW(F117:F124)-MIN(ROW(F117:F124))+1, \"\"), ROW() -116 )), \"\")","v":""},{"$f":"IFERROR(INDEX(C117:C124, SMALL(IF(ISNUMBER(SEARCH(\"JV1\",F117:F124)), ROW(F117:F124)-MIN(ROW(F117:F124))+1, \"\"), ROW() -116 )), \"\")","v":""},{"$f":"IFERROR(INDEX(D117:D124, SMALL(IF(ISNUMBER(SEARCH(\"JV1\",F117:F124)), ROW(F117:F124)-MIN(ROW(F117:F124))+1, \"\"), ROW() -116 )), \"\")","v":""},{"$f":"IFERROR(INDEX(E117:E124, SMALL(IF(ISNUMBER(SEARCH(\"JV1\",F117:F124)), ROW(F117:F124)-MIN(ROW(F117:F124))+1, \"\"), ROW() -116 )), \"\")","v":""},{"$f":"IFERROR(INDEX(B117:B124, SMALL(IF(ISNUMBER(SEARCH(\"JV2\",F117:F124)), ROW(F117:F124)-MIN(ROW(F117:F124))+1, \"\"), ROW() -116 )), \"\")","v":""},{"$f":"IFERROR(INDEX(C117:C124, SMALL(IF(ISNUMBER(SEARCH(\"JV2\",F117:F124)), ROW(F117:F124)-MIN(ROW(F117:F124))+1, \"\"), ROW() -116 )), \"\")","v":""},{"$f":"IFERROR(INDEX(D117:D124, SMALL(IF(ISNUMBER(SEARCH(\"JV2\",F117:F124)), ROW(F117:F124)-MIN(ROW(F117:F124))+1, \"\"), ROW() -116 )), \"\")","v":""},{"$f":"IFERROR(INDEX(E117:E124, SMALL(IF(ISNUMBER(SEARCH(\"JV2\",F117:F124)), ROW(F117:F124)-MIN(ROW(F117:F124))+1, \"\"), ROW() -116 )), \"\")","v":""}]
[null,"Iowa Western Community College",null,"18-27388","Kaylynn Oliver","V",null,4463.0,null,false,{"$nulls":17},{"$f":"IFERROR(INDEX(B117:B124, SMALL(IF(\"V\"=F117:F124, ROW(F117:F124)-MIN(ROW(F117:F124))+1, \"\"), ROW() -116 )), \"\")","v":"Iowa Western Community College"},{"$f":"IFERROR(INDEX(C117:C124, SMALL(IF(\"V\"=F117:F124, ROW(F117:F124)-MIN(ROW(F117:F124))+1, \"\"), ROW() -116 )), \"\")","v":""},{"$f":"IFERROR(INDEX(D117:D124, SMALL(IF(\"V\"=F117:F124, ROW(F117:F124)-MIN(ROW(F117:F124))+1, \"\"), ROW() -116 )), \"\")","v":"9130-1913"},{"$f":"IFERROR(INDEX(E117:E124, SMALL(IF(\"V\"=F117:F124, ROW(F117:F124)-MIN(ROW(F117:F124))+1, \"\"), ROW() -116 )), \"\")","v":"Kerry Crossman"},{"$f":"IFERROR(INDEX(B117:B124, SMALL(IF(ISNUMBER(SEARCH(\"JV1\",F117:F124)), ROW(F117:F124)-MIN(ROW(F117:F124))+1, \"\"), ROW() -116 )), \"\")","v":""},{"$f":"IFERROR(INDEX(C117:C124, SMALL(IF(ISNUMBER(SEARCH(\"JV1\",F117:F124)), ROW(F117:F124)-MIN(ROW(F117:F124))+1, \"\"), ROW() -116 )), \"\")","v":""},{"$f":"IFERROR(INDEX(D117:D124, SMALL(IF(ISNUMBER(SEARCH(\"JV1\",F117:F124)), ROW(F117:F124)-MIN(ROW(F117:F124))+1, \"\"), ROW() -116 )), \"\")","v":""},{"$f":"IFERROR(INDEX(E117:E124, SMALL(IF(ISNUMBER(SEARCH(\"JV1\",F117:F124)), ROW(F117:F124)-MIN(ROW(F117:F124))+1, \"\"), ROW() -116 )), \"\")","v":""},{"$f":"IFERROR(INDEX(B117:B124, SMALL(IF(ISNUMBER(SEARCH(\"JV2\",F117:F124)), ROW(F117:F124)-MIN(ROW(F117:F124))+1, \"\"), ROW() -116 )), \"\")","v":""},{"$f":"IFERROR(INDEX(C117:C124, SMALL(IF(ISNUMBER(SEARCH(\"JV2\",F117:F124)), ROW(F117:F124)-MIN(ROW(F117:F124))+1, \"\"), ROW() -116 )), \"\")","v":""},{"$f":"IFERROR(INDEX(D117:D124, SMALL(IF(ISNUMBER(SEARCH(\"JV2\",F117:F124)), ROW(F117:F124)-MIN(ROW(F117:F124))+1, \"\"), ROW() -116 )), \"\")","v":""},{"$f":"IFERROR(INDEX(E117:E124, SMALL(IF(ISNUMBER(SEARCH(\"JV2\",F117:F124)), ROW(F117:F124)-MIN(ROW(F117:F124))+1, \"\"), ROW() -116 )), \"\")","v":""}]
[null,"Iowa Western Community College",null,"9130-1913","Kerry Crossman","V",null,4463.0,null,false,{"$nulls":17},{"$f":"IFERROR(INDEX(B117:B124, SMALL(IF(\"V\"=F117:F124, ROW(F117:F124)-MIN(ROW(F117:F124))+1, \"\"), ROW() -116 )), \"\")","v":"Iowa Western Community College"},{"$f":"IFERROR(INDEX(C117:C124, SMALL(IF(\"V\"=F117:F124, ROW(F117:F124)-MIN(ROW(F117:F124))+1, \"\"), ROW() -116 )), \"\")","v":""},{"$f":"IFERROR(INDEX(D117:D124, SMALL(IF(\"V\"=F117:F124, ROW(F117:F124)-MIN(ROW(F117:F124))+1, \"\"), ROW() -116 )), \"\")","v":"11-765361"},{"$f":"IFERROR(INDEX(E117:E124, SMALL(IF(\"V\"=F117:F124, ROW(F117:F124)-MIN(ROW(F117:F124))+1, \"\"), ROW() -116 )), \"\")","v":"Maddy Addleman"},{"$f":"IFERROR(INDEX(B117:B124, SMALL(IF(ISNUMBER(SEARCH(\"JV1\",F117:F124)), ROW(F117:F124)-MIN(ROW(F117:F124))+1, \"\"), ROW() -116 )), \"\")","v":""},{"$f":"IFERROR(INDEX(C117:C124, SMALL(IF(ISNUMBER(SEARCH(\"JV1\",F117:F124)), ROW(F117:F124)-MIN(ROW(F117:F124))+1, \"\"), ROW() -116 )), \"\")","v":""},{"$f":"IFERROR(INDEX(D117:D124, SMALL(IF(ISNUMBER(SEARCH(\"JV1\",F117:F124)), ROW(F117:F124)-MIN(ROW(F117:F124))+1, \"\"), ROW() -116 )), \"\")","v":""},{"$f":"IFERROR(INDEX(E117:E124, SMALL(IF(ISNUMBER(SEARCH(\"JV1\",F117:F124)), ROW(F117:F124)-MIN(ROW(F117:F124))+1, \"\"), ROW() -116 )), \"\")","v":""},{"$f":"IFERROR(INDEX(B117:B124, SMALL(IF(ISNUMBER(SEARCH(\"JV2\",F117:F124)), ROW(F117:F124)-MIN(ROW(F117:F124))+1, \"\"), ROW() -116 )), \"\")","v":""},{"$f":"IFERROR(INDEX(C117:C124, SMALL(IF(ISNUMBER(SEARCH(\"JV2\",F117:F124)), ROW(F117:F124)-MIN(ROW(F117:F124))+1, \"\"), ROW() -116 )), \"\")","v":""},{"$f":"IFERROR(INDEX(D117:D124, SMALL(IF(ISNUMBER(SEARCH(\"JV2\",F117:F124)), ROW(F117:F124)-MIN(ROW(F117:F124))+1, \"\"), ROW() -116 )), \"\")","v":""},{"$f":"IFERROR(INDEX(E117:E124, SMALL(IF(ISNUMBER(SEARCH(\"JV2\",F117:F124)), ROW(F117:F124)-MIN(ROW(F117:F124))+1, \"\"), ROW() -116 )), \"\")","v":""}]
[null,"Iowa Western Community College",null,"11-765361","Maddy Addleman","V",null,4463.0,null,false,{"$nulls":17},{"$f":"IFERROR(INDEX(B117:B124, SMALL(IF(\"V\"=F117:F124, ROW(F117:F124)-MIN(ROW(F117:F124))+1, \"\"), ROW() -116 )), \"\")","v":"Iowa Western Community College"},{"$f":"IFERROR(INDEX(C117:C124, SMALL(IF(\"V\"=F117:F124, ROW(F117:F124)-MIN(ROW(F117:F124))+1, \"\"), ROW() -116 )), \"\")","v":""},{"$f":"IFERROR(INDEX(D117:D124, SMALL(IF(\"V\"=F117:F124, ROW(F117:F124)-MIN(ROW(F117:F124))+1, \"\"), ROW() -116 )), \"\")","v":"7914-26375"},{"$f":"IFERROR(INDEX(E117:E124, SMALL(IF(\"V\"=F117:F124, ROW(F117:F124)-MIN(ROW(F117:F124))+1, \"\"), ROW() -116 )), \"\")","v":"Natalie Arnold"},{"$f":"IFERROR(INDEX(B117:B124, SMALL(IF(ISNUMBER(SEARCH(\"JV1\",F117:F124)), ROW(F117:F124)-MIN(ROW(F117:F124))+1, \"\"), ROW() -116 )), \"\")","v":""},{"$f":"IFERROR(INDEX(C117:C124, SMALL(IF(ISNUMBER(SEARCH(\"JV1\",F117:F124)), ROW(F117:F124)-MIN(ROW(F117:F124))+1, \"\"), ROW() -116 )), \"\")","v":""},{"$f":"IFERROR(INDEX(D117:D124, SMALL(IF(ISNUMBER(SEARCH(\"JV1\",F117:F124)), ROW(F117:F124)-MIN(ROW(F117:F124))+1, \"\"), ROW() -116 )), \"\")","v":""},{"$f":"IFERROR(INDEX(E117:E124, SMALL(IF(ISNUMBER(SEARCH(\"JV1\",F117:F124)), ROW(F117:F124)-MIN(ROW(F117:F124))+1, \"\"), ROW() -116 )), \"\")","v":""},{"$f":"IFERROR(INDEX(B117:B124, SMALL(IF(ISNUMBER(SEARCH(\"JV2\",F117:F124)), ROW(F117:F124)-MIN(ROW(F117:F124))+1, \"\"), ROW() -116 )), \"\")","v":""},{"$f":"IFERROR(INDEX(C117:C124, SMALL(IF(ISNUMBER(SEARCH(\"JV2\",F117:F124)), ROW(F117:F124)-MIN(ROW(F117:F124))+1, \"\"), ROW() -116 )), \"\")","v":""},{"$f":"IFERROR(INDEX(D117:D124, SMALL(IF(ISNUMBER(SEARCH(\"JV2\",F117:F124)), ROW(F117:F124)-MIN(ROW(F117:F124))+1, \"\"), ROW() -116 )), \"\")","v":""},{"$f":"IFERROR(INDEX(E117:E124, SMALL(IF(ISNUMBER(SEARCH(\"JV2\",F117:F124)), ROW(F117:F124)-MIN(ROW(F117:F124))+1, \"\"), ROW() -116 )), \"\")","v":""}]
[null,"Iowa Western Community College",null,"7914-26375","Natalie Arnold","V",null,4463.0,null,false,{"$nulls":17},{"$f":"IFERROR(INDEX(B117:B124, SMALL(IF(\"V\"=F117:F124, ROW(F117:F124)-MIN(ROW(F117:F124))+1, \"\"), ROW() -116 )), \"\")","v":""},{"$f":"IFERROR(INDEX(C117:C124, SMALL(IF(\"V\"=F117:F124, ROW(F117:F124)-MIN(ROW(F117:F124))+1, \"\"), ROW() -116 )), \"\")","v":""},{"$f":"IFERROR(INDEX(D117:D124, SMALL(IF(\"V\"=F117:F124, ROW(F117:F124)-MIN(ROW(F117:F124))+1, \"\"), ROW() -116 )), \"\")","v":""},{"$f":"IFERROR(INDEX(E117:E124, SMALL(IF(\"V\"=F117:F124, ROW(F117:F124)-MIN(ROW(F117:F124))+1, \"\"), ROW() -116 )), \"\")","v":""},{"$f":"IFERROR(INDEX(B117:B124, SMALL(IF(ISNUMBER(SEARCH(\"JV1\",F117:F124)), ROW(F117:F124)-MIN(ROW(F117:F124))+1, \"\"), ROW() -116 )), \"\")","v":""},{"$f":"IFERROR(INDEX(C117:C124, SMALL(IF(ISNUMBER(SEARCH(\"JV1\",F117:F124)), ROW(F117:F124)-MIN(ROW(F117:F124))+1, \"\"), ROW() -116 )), \"\")","v":""},{"$f":"IFERROR(INDEX(D117:D124, SMALL(IF(ISNUMBER(SEARCH(\"JV1\",F117:F124)), ROW(F117:F124)-MIN(ROW(F117:F124))+1, \"\"), ROW() -116 )), \"\")","v":""},{"$f":"IFERROR(INDEX(E117:E124, SMALL(IF(ISNUMBER(SEARCH(\"JV1\",F117:F124)), ROW(F117:F124)-MIN(ROW(F117:F124))+1, \"\"), ROW() -116 )), \"\")","v":""},{"$f":"IFERROR(INDEX(B117:B124, SMALL(IF(ISNUMBER(SEARCH(\"JV2\",F117:F124)), ROW(F117:F124)-MIN(ROW(F117:F124))+1, \"\"), ROW() -116 )), \"\")","v":""},{"$f":"IFERROR(INDEX(C117:C124, SMALL(IF(ISNUMBER(SEARCH(\"JV2\",F117:F124)), ROW(F117:F124)-MIN(ROW(F117:F124))+1, \"\"), ROW() -116 )), \"\")","v":""},{"$f":"IFERROR(INDEX(D117:D124, SMALL(IF(ISNUMBER(SEARCH(\"JV2\",F117:F124)), ROW(F117:F124)-MIN(ROW(F117:F124))+1, \"\"), ROW() -116 )), \"\")","v":""},{"$f":"IFERROR(INDEX(E117:E124, SMALL(IF(ISNUMBER(SEARCH(\"JV2\",F117:F124)), ROW(F117:F124)-MIN(ROW(F117:F124))+1, \"\"), ROW() -116 )), \"\")","v":""}]
[null,"Kansas ,University Of",null,"5900-28007","Annabelle Bitner","V",null,2329.0,null,false,{"$nulls":17},{"$f":"IFERROR(INDEX(B125:B132, SMALL(IF(\"V\"=F125:F132, ROW(F125:F132)-MIN(ROW(F125:F132))+1, \"\"), ROW() -124 )), \"\")","v":"Kansas ,University Of"},{"$f":"IFERROR(INDEX(C125:C132, SMALL(IF(\"V\"=F125:F132, ROW(F125:F132)-MIN(ROW(F125:F132))+1, \"\"), ROW() -124 )), \"\")","v":""},{"$f":"IFERROR(INDEX(D125:D132, SMALL(IF(\"V\"=F125:F132, ROW(F125:F132)-MIN(ROW(F125:F132))+1, \"\"), ROW() -124 )), \"\")","v":"5900-28007"},{"$f":"IFERROR(INDEX(E125:E132, SMALL(IF(\"V\"=F125:F132, ROW(F125:F132)-MIN(ROW(F125:F132))+1, \"\"), ROW() -124 )), \"\")","v":"Annabelle Bitner"},{"$f":"IFERROR(INDEX(B125:B132, SMALL(IF(ISNUMBER(SEARCH(\"JV1\",F125:F132)), ROW(F125:F132)-MIN(ROW(F125:F132))+1, \"\"), ROW() -124 )), \"\")","v":""},{"$f":"IFERROR(INDEX(C125:C132, SMALL(IF(ISNUMBER(SEARCH(\"JV1\",F125:F132)), ROW(F125:F132)-MIN(ROW(F125:F132))+1, \"\"), ROW() -124 )), \"\")","v":""},{"$f":"IFERROR(INDEX(D125:D132, SMALL(IF(ISNUMBER(SEARCH(\"JV1\",F125:F132)), ROW(F125:F132)-MIN(ROW(F125:F132))+1, \"\"), ROW() -124 )), \"\")","v":""},{"$f":"IFERROR(INDEX(E125:E132, SMALL(IF(ISNUMBER(SEARCH(\"JV1\",F125:F132)), ROW(F125:F132)-MIN(ROW(F125:F132))+1, \"\"), ROW() -124 )), \"\")","v":""},{"$f":"IFERROR(INDEX(B125:B132, SMALL(IF(ISNUMBER(SEARCH(\"JV2\",F125:F132)), ROW(F125:F132)-MIN(ROW(F125:F132))+1, \"\"), ROW() -124 )), \"\")","v":""},{"$f":"IFERROR(INDEX(C125:C132, SMALL(IF(ISNUMBER(SEARCH(\"JV2\",F125:F132)), ROW(F125:F132)-MIN(ROW(F125:F132))+1, \"\"), ROW() -124 )), \"\")","v":""},{"$f":"IFERROR(INDEX(D125:D132, SMALL(IF(ISNUMBER(SEARCH(\"JV2\",F125:F132)), ROW(F125:F132)-MIN(ROW(F125:F132))+1, \"\"), ROW() -124 )), \"\")","v":""},{"$f":"IFERROR(INDEX(E125:E132, SMALL(IF(ISNUMBER(SEARCH(\"JV2\",F125:F132)), ROW(F125:F132)-MIN(ROW(F125:F132))+1, \"\"), ROW() -124 )), \"\")","v":""}]
[null,"Kansas ,University Of",null,"11-92841","Elyse Spaccapaniccia"," ",null,2329.0,null,false,{"$nulls":17},{"$f":"IFERROR(INDEX(B125:B132, SMALL(IF(\"V\"=F125:F132, ROW(F125:F132)-MIN(ROW(F125:F132))+1, \"\"), ROW() -124 )), \"\")","v":"Kansas ,University Of"},{"$f":"IFERROR(INDEX(C125:C132, SMALL(IF(\"V\"=F125:F132, ROW(F125:F132)-MIN(ROW(F125:F132))+1, \"\"), ROW() -124 )), \"\")","v":""},{"$f":"IFERROR(INDEX(D125:D132, SMALL(IF(\"V\"=F125:F132, ROW(F125:F132)-MIN(ROW(F125:F132))+1, \"\"), ROW() -124 )), \"\")","v":"21-52280"},{"$f":"IFERROR(INDEX(E125:E132, SMALL(IF(\"V\"=F125:F132, ROW(F125:F132)-MIN(ROW(F125:F132))+1, \"\"), ROW() -124 )), \"\")","v":"Grace Dorst"},{"$f":"IFERROR(INDEX(B125:B132, SMALL(IF(ISNUMBER(SEARCH(\"JV1\",F125:F132)), ROW(F125:F132)-MIN(ROW(F125:F132))+1, \"\"), ROW() -124 )), \"\")","v":""},{"$f":"IFERROR(INDEX(C125:C132, SMALL(IF(ISNUMBER(SEARCH(\"JV1\",F125:F132)), ROW(F125:F132)-MIN(ROW(F125:F132))+1, \"\"), ROW() -124 )), \"\")","v":""},{"$f":"IFERROR(INDEX(D125:D132, SMALL(IF(ISNUMBER(SEARCH(\"JV1\",F125:F132)), ROW(F125:F132)-MIN(ROW(F125:F132))+1, \"\"), ROW() -124 )), \"\")","v":""},{"$f":"IFERROR(INDEX(E125:E132, SMALL(IF(ISNUMBER(SEARCH(\"JV1\",F125:F132)), ROW(F125:F132)-MIN(ROW(F125:F132))+1, \"\"), ROW() -124 )), \"\")","v":""},{"$f":"IFERROR(INDEX(B125:B132, SMALL(IF(ISNUMBER(SEARCH(\"JV2\",F125:F132)), ROW(F125:F132)-MIN(ROW(F125:F132))+1, \"\"), ROW() -124 )), \"\")","v":""},{"$f":"IFERROR(INDEX(C125:C132, SMALL(IF(ISNUMBER(SEARCH(\"JV2\",F125:F132)), ROW(F125:F132)-MIN(ROW(F125:F132))+1, \"\"), ROW() -124 )), \"\")","v":""},{"$f":"IFERROR(INDEX(D125:D132, SMALL(IF(ISNUMBER(SEARCH(\"JV2\",F125:F132)), ROW(F125:F132)-MIN(ROW(F125:F132))+1, \"\"), ROW() -124 )), \"\")","v":""},{"$f":"IFERROR(INDEX(E125:E132, SMALL(IF(ISNUMBER(SEARCH(\"JV2\",F125:F132)), ROW(F125:F132)-MIN(ROW(F125:F132))+1, \"\"), ROW() -124 )), \"\")","v":""}]
[null,"Kansas ,University Of",null,"21-52280","Grace Dorst","V",null,2329.0,null,false,{"$nulls":17},{"$f":"IFERROR(INDEX(B125:B132, SMALL(IF(\"V\"=F125:F132, ROW(F125:F132)-MIN(ROW(F125:F132))+1, \"\"), ROW() -124 )), \"\")","v":"Kansas ,University Of"},{"$f":"IFERROR(INDEX(C125:C132, SMALL(IF(\"V\"=F125:F132, ROW(F125:F132)-MIN(ROW(F125:F132))+1, \"\"), ROW() -124 )), \"\")","v":""},{"$f":"IFERROR(INDEX(D125:D132, SMALL(IF(\"V\"=F125:F132, ROW(F125:F132)-MIN(ROW(F125:F132))+1, \"\"), ROW() -124 )), \"\")","v":"22-20256"},{"$f":"IFERROR(INDEX(E125:E132, SMALL(IF(\"V\"=F125:F132, ROW(F125:F132)-MIN(ROW(F125:F132))+1, \"\"), ROW() -124 )), \"\")","v":"Hilary Liermann"},{"$f":"IFERROR(INDEX(B125:B132, SMALL(IF(ISNUMBER(SEARCH(\"JV1\",F125:F132)), ROW(F125:F132)-MIN(ROW(F125:F132))+1, \"\"), ROW() -124 )), \"\")","v":""},{"$f":"IFERROR(INDEX(C125:C132, SMALL(IF(ISNUMBER(SEARCH(\"JV1\",F125:F132)), ROW(F125:F132)-MIN(ROW(F125:F132))+1, \"\"), ROW() -124 )), \"\")","v":""},{"$f":"IFERROR(INDEX(D125:D132, SMALL(IF(ISNUMBER(SEARCH(\"JV1\",F125:F132)), ROW(F125:F132)-MIN(ROW(F125:F132))+1, \"\"), ROW() -124 )), \"\")","v":""},{"$f":"IFERROR(INDEX(E125:E132, SMALL(IF(ISNUMBER(SEARCH(\"JV1\",F125:F132)), ROW(F125:F132)-MIN(ROW(F125:F132))+1, \"\"), ROW() -124 )), \"\")","v":""},{"$f":"IFERROR(INDEX(B125:B132, SMALL(IF(ISNUMBER(SEARCH(\"JV2\",F125:F132)), ROW(F125:F132)-MIN(ROW(F125:F132))+1, \"\"), ROW() -124 )), \"\")","v":""},{"$f":"IFERROR(INDEX(C125:C132, SMALL(IF(ISNUMBER(SEARCH(\"JV2\",F125:F132)), ROW(F125:F132)-MIN(ROW(F125:F132))+1, \"\"), ROW() -124 )), \"\")","v":""},{"$f":"IFERROR(INDEX(D125:D132, SMALL(IF(ISNUMBER(SEARCH(\"JV2\",F125:F132)), ROW(F125:F132)-MIN(ROW(F125:F132))+1, \"\"), ROW() -124 )), \"\")","v":""},{"$f":"IFERROR(INDEX(E125:E132, SMALL(IF(ISNUMBER(SEARCH(\"JV2\",F125:F132)), ROW(F125:F132)-MIN(ROW(F125:F132))+1, \"\"), ROW() -124 )), \"\")","v":""}]
[null,"Kansas ,University Of",null,"22-20256","Hilary Liermann","V",null,2329.0,null,false,{"$nulls":17},{"$f":"IFERROR(INDEX(B125:B132, SMALL(IF(\"V\"=F125:F132, ROW(F125:F132)-MIN(ROW(F125:F132))+1, \"\"), ROW() -124 )), \"\")","v":"Kansas ,University Of"},{"$f":"IFERROR(INDEX(C125:C132, SMALL(IF(\"V\"=F125:F132, ROW(F125:F132)-MIN(ROW(F125:F132))+1, \"\"), ROW() -124 )), \"\")","v":""},{"$f":"IFERROR(INDEX(D125:D132, SMALL(IF(\"V\"=F125:F132, ROW(F125:F132)-MIN(ROW(F125:F132))+1, \"\"), ROW() -124 )), \"\")","v":"18-3937"},{"$f":"IFERROR(INDEX(E125:E132, SMALL(IF(\"V\"=F125:F132, ROW(F125:F132)-MIN(ROW(F125:F132))+1, \"\"), ROW() -124 )), \"\")","v":"Jessenia Hernandez"},{"$f":"IFERROR(INDEX(B125:B132, SMALL(IF(ISNUMBER(SEARCH(\"JV1\",F125:F132)), ROW(F125:F132)-MIN(ROW(F125:F132))+1, \"\"), ROW() -124 )), \"\")","v":""},{"$f":"IFERROR(INDEX(C125:C132, SMALL(IF(ISNUMBER(SEARCH(\"JV1\",F125:F132)), ROW(F125:F132)-MIN(ROW(F125:F132))+1, \"\"), ROW() -124 )), \"\")","v":""},{"$f":"IFERROR(INDEX(D125:D132, SMALL(IF(ISNUMBER(SEARCH(\"JV1\",F125:F132)), ROW(F125:F132)-MIN(ROW(F125:F132))+1, \"\"), ROW() -124 )), \"\")","v":""},{"$f":"IFERROR(INDEX(E125:E132, SMALL(IF(ISNUMBER(SEARCH(\"JV1\",F125:F132)), ROW(F125:F132)-MIN(ROW(F125:F132))+1, \"\"), ROW() -124 )), \"\")","v":""},{"$f":"IFERROR(INDEX(B125:B132, SMALL(IF(ISNUMBER(SEARCH(\"JV2\",F125:F132)), ROW(F125:F132)-MIN(ROW(F125:F132))+1, \"\"), ROW() -124 )), \"\")","v":""},{"$f":"IFERROR(INDEX(C125:C132, SMALL(IF(ISNUMBER(SEARCH(\"JV2\",F125:F132)), ROW(F125:F132)-MIN(ROW(F125:F132))+1, \"\"), ROW() -124 )), \"\")","v":""},{"$f":"IFERROR(INDEX(D125:D132, SMALL(IF(ISNUMBER(SEARCH(\"JV2\",F125:F132)), ROW(F125:F132)-MIN(ROW(F125:F132))+1, \"\"), ROW() -124 )), \"\")","v":""},{"$f":"IFERROR(INDEX(E125:E132, SMALL(IF(ISNUMBER(SEARCH(\"JV2\",F125:F132)), ROW(F125:F132)-MIN(ROW(F125:F132))+1, \"\"), ROW() -124 )), \"\")","v":""}]
[null,"Kansas ,University Of",null,"18-3937","Jessenia Hernandez","V",null,2329.0,null,false,{"$nulls":17},{"$f":"IFERROR(INDEX(B125:B132, SMALL(IF(\"V\"=F125:F132, ROW(F125:F132)-MIN(ROW(F125:F132))+1, \"\"), ROW() -124 )), \"\")","v":"Kansas ,University Of"},{"$f":"IFERROR(INDEX(C125:C132, SMALL(IF(\"V\"=F125:F132, ROW(F125:F132)-MIN(ROW(F125:F132))+1, \"\"), ROW() -124 )), \"\")","v":""},{"$f":"IFERROR(INDEX(D125:D132, SMALL(IF(\"V\"=F125:F132, ROW(F125:F132)-MIN(ROW(F125:F132))+1, \"\"), ROW() -124 )), \"\")","v":"20-40945"},{"$f":"IFERROR(INDEX(E125:E132, SMALL(IF(\"V\"=F125:F132, ROW(F125:F132)-MIN(ROW(F125:F132))+1, \"\"), ROW() -124 )), \"\")","v":"Payton Nies"},{"$f":"IFERROR(INDEX(B125:B132, SMALL(IF(ISNUMBER(SEARCH(\"JV1\",F125:F132)), ROW(F125:F132)-MIN(ROW(F125:F132))+1, \"\"), ROW() -124 )), \"\")","v":""},{"$f":"IFERROR(INDEX(C125:C132, SMALL(IF(ISNUMBER(SEARCH(\"JV1\",F125:F132)), ROW(F125:F132)-MIN(ROW(F125:F132))+1, \"\"), ROW() -124 )), \"\")","v":""},{"$f":"IFERROR(INDEX(D125:D132, SMALL(IF(ISNUMBER(SEARCH(\"JV1\",F125:F132)), ROW(F125:F132)-MIN(ROW(F125:F132))+1, \"\"), ROW() -124 )), \"\")","v":""},{"$f":"IFERROR(INDEX(E125:E132, SMALL(IF(ISNUMBER(SEARCH(\"JV1\",F125:F132)), ROW(F125:F132)-MIN(ROW(F125:F132))+1, \"\"), ROW() -124 )), \"\")","v":""},{"$f":"IFERROR(INDEX(B125:B132, SMALL(IF(ISNUMBER(SEARCH(\"JV2\",F125:F132)), ROW(F125:F132)-MIN(ROW(F125:F132))+1, \"\"), ROW() -124 )), \"\")","v":""},{"$f":"IFERROR(INDEX(C125:C132, SMALL(IF(ISNUMBER(SEARCH(\"JV2\",F125:F132)), ROW(F125:F132)-MIN(ROW(F125:F132))+1, \"\"), ROW() -124 )), \"\")","v":""},{"$f":"IFERROR(INDEX(D125:D132, SMALL(IF(ISNUMBER(SEARCH(\"JV2\",F125:F132)), ROW(F125:F132)-MIN(ROW(F125:F132))+1, \"\"), ROW() -124 )), \"\")","v":""},{"$f":"IFERROR(INDEX(E125:E132, SMALL(IF(ISNUMBER(SEARCH(\"JV2\",F125:F132)), ROW(F125:F132)-MIN(ROW(F125:F132))+1, \"\"), ROW() -124 )), \"\")","v":""}]
[null,"Kansas ,University Of",null,"20-40945","Payton Nies","V",null,2329.0,null,false,{"$nulls":17},{"$f":"IFERROR(INDEX(B125:B132, SMALL(IF(\"V\"=F125:F132, ROW(F125:F132)-MIN(ROW(F125:F132))+1, \"\"), ROW() -124 )), \"\")","v":"Kansas ,University Of"},{"$f":"IFERROR(INDEX(C125:C132, SMALL(IF(\"V\"=F125:F132, ROW(F125:F132)-MIN(ROW(F125:F132))+1, \"\"), ROW() -124 )), \"\")","v":""},{"$f":"IFERROR(INDEX(D125:D132, SMALL(IF(\"V\"=F125:F132, ROW(F125:F132)-MIN(ROW(F125:F132))+1, \"\"), ROW() -124 )), \"\")","v":"17-89547"},{"$f":"IFERROR(INDEX(E125:E132, SMALL(IF(\"V\"=F125:F132, ROW(F125:F132)-MIN(ROW(F125:F132))+1, \"\"), ROW() -124 )), \"\")","v":"Remy Asta"},{"$f":"IFERROR(INDEX(B125:B132, SMALL(IF(ISNUMBER(SEARCH(\"JV1\",F125:F132)), ROW(F125:F132)-MIN(ROW(F125:F132))+1, \"\"), ROW() -124 )), \"\")","v":""},{"$f":"IFERROR(INDEX(C125:C132, SMALL(IF(ISNUMBER(SEARCH(\"JV1\",F125:F132)), ROW(F125:F132)-MIN(ROW(F125:F132))+1, \"\"), ROW() -124 )), \"\")","v":""},{"$f":"IFERROR(INDEX(D125:D132, SMALL(IF(ISNUMBER(SEARCH(\"JV1\",F125:F132)), ROW(F125:F132)-MIN(ROW(F125:F132))+1, \"\"), ROW() -124 )), \"\")","v":""},{"$f":"IFERROR(INDEX(E125:E132, SMALL(IF(ISNUMBER(SEARCH(\"JV1\",F125:F132)), ROW(F125:F132)-MIN(ROW(F125:F132))+1, \"\"), ROW() -124 )), \"\")","v":""},{"$f":"IFERROR(INDEX(B125:B132, SMALL(IF(ISNUMBER(SEARCH(\"JV2\",F125:F132)), ROW(F125:F132)-MIN(ROW(F125:F132))+1, \"\"), ROW() -124 )), \"\")","v":""},{"$f":"IFERROR(INDEX(C125:C132, SMALL(IF(ISNUMBER(SEARCH(\"JV2\",F125:F132)), ROW(F125:F132)-MIN(ROW(F125:F132))+1, \"\"), ROW() -124 )), \"\")","v":""},{"$f":"IFERROR(INDEX(D125:D132, SMALL(IF(ISNUMBER(SEARCH(\"JV2\",F125:F132)), ROW(F125:F132)-MIN(ROW(F125:F132))+1, \"\"), ROW() -124 )), \"\")","v":""},{"$f":"IFERROR(INDEX(E125:E132, SMALL(IF(ISNUMBER(SEARCH(\"JV2\",F125:F132)), ROW(F125:F132)-MIN(ROW(F125:F132))+1, \"\"), ROW() -124 )), \"\")","v":""}]
[null,"Kansas ,University Of",null,"17-89547","Remy Asta","V",null,2329.0,null,false,{"$nulls":17},{"$f":"IFERROR(INDEX(B125:B132, SMALL(IF(\"V\"=F125:F132, ROW(F125:F132)-MIN(ROW(F125:F132))+1, \"\"), ROW() -124 )), \"\")","v":"Kansas ,University Of"},{"$f":"IFERROR(INDEX(C125:C132, SMALL(IF(\"V\"=F125:F132, ROW(F125:F132)-MIN(ROW(F125:F132))+1, \"\"), ROW() -124 )), \"\")","v":""},{"$f":"IFERROR(INDEX(D125:D132, SMALL(IF(\"V\"=F125:F132, ROW(F125:F132)-MIN(ROW(F125:F132))+1, \"\"), ROW() -124 )), \"\")","v":"21-32743"},{"$f":"IFERROR(INDEX(E125:E132, SMALL(IF(\"V\"=F125:F132, ROW(F125:F132)-MIN(ROW(F125:F132))+1, \"\"), ROW() -124 )), \"\")","v":"Sydney Chandler"},{"$f":"IFERROR(INDEX(B125:B132, SMALL(IF(ISNUMBER(SEARCH(\"JV1\",F125:F132)), ROW(F125:F132)-MIN(ROW(F125:F132))+1, \"\"), ROW() -124 )), \"\")","v":""},{"$f":"IFERROR(INDEX(C125:C132, SMALL(IF(ISNUMBER(SEARCH(\"JV1\",F125:F132)), ROW(F125:F132)-MIN(ROW(F125:F132))+1, \"\"), ROW() -124 )), \"\")","v":""},{"$f":"IFERROR(INDEX(D125:D132, SMALL(IF(ISNUMBER(SEARCH(\"JV1\",F125:F132)), ROW(F125:F132)-MIN(ROW(F125:F132))+1, \"\"), ROW() -124 )), \"\")","v":""},{"$f":"IFERROR(INDEX(E125:E132, SMALL(IF(ISNUMBER(SEARCH(\"JV1\",F125:F132)), ROW(F125:F132)-MIN(ROW(F125:F132))+1, \"\"), ROW() -124 )), \"\")","v":""},{"$f":"IFERROR(INDEX(B125:B132, SMALL(IF(ISNUMBER(SEARCH(\"JV2\",F125:F132)), ROW(F125:F132)-MIN(ROW(F125:F132))+1, \"\"), ROW() -124 )), \"\")","v":""},{"$f":"IFERROR(INDEX(C125:C132, SMALL(IF(ISNUMBER(SEARCH(\"JV2\",F125:F132)), ROW(F125:F132)-MIN(ROW(F125:F132))+1, \"\"), ROW() -124 )), \"\")","v":""},{"$f":"IFERROR(INDEX(D125:D132, SMALL(IF(ISNUMBER(SEARCH(\"JV2\",F125:F132)), ROW(F125:F132)-MIN(ROW(F125:F132))+1, \"\"), ROW() -124 )), \"\")","v":""},{"$f":"IFERROR(INDEX(E125:E132, SMALL(IF(ISNUMBER(SEARCH(\"JV2\",F125:F132)), ROW(F125:F132)-MIN(ROW(F125:F132))+1, \"\"), ROW() -124 )), \"\")","v":""}]
[null,"Kansas ,University Of",null,"21-32743","Sydney Chandler","V",null,2329.0,null,false,{"$nulls":17},{"$f":"IFERROR(INDEX(B125:B132, SMALL(IF(\"V\"=F125:F132, ROW(F125:F132)-MIN(ROW(F125:F132))+1, \"\"), ROW() -124 )), \"\")","v":""},{"$f":"IFERROR(INDEX(C125:C132, SMALL(IF(\"V\"=F125:F132, ROW(F125:F132)-MIN(ROW(F125:F132))+1, \"\"), ROW() -124 )), \"\")","v":""},{"$f":"IFERROR(INDEX(D125:D132, SMALL(IF(\"V\"=F125:F132, ROW(F125:F132)-MIN(ROW(F125:F132))+1, \"\"), ROW() -124 )), \"\")","v":""},{"$f":"IFERROR(INDEX(E125:E132, SMALL(IF(\"V\"=F125:F132, ROW(F125:F132)-MIN(ROW(F125:F132))+1, \"\"), ROW() -124 )), \"\")","v":""},{"$f":"IFERROR(INDEX(B125:B132, SMALL(IF(ISNUMBER(SEARCH(\"JV1\",F125:F132)), ROW(F125:F132)-MIN(ROW(F125:F132))+1, \"\"), ROW() -124 )), \"\")","v":""},{"$f":"IFERROR(INDEX(C125:C132, SMALL(IF(ISNUMBER(SEARCH(\"JV1\",F125:F132)), ROW(F125:F132)-MIN(ROW(F125:F132))+1, \"\"), ROW() -124 )), \"\")","v":""},{"$f":"IFERROR(INDEX(D125:D132, SMALL(IF(ISNUMBER(SEARCH(\"JV1\",F125:F132)), ROW(F125:F132)-MIN(ROW(F125:F132))+1, \"\"), ROW() -124 )), \"\")","v":""},{"$f":"IFERROR(INDEX(E125:E132, SMALL(IF(ISNUMBER(SEARCH(\"JV1\",F125:F132)), ROW(F125:F132)-MIN(ROW(F125:F132))+1, \"\"), ROW() -124 )), \"\")","v":""},{"$f":"IFERROR(INDEX(B125:B132, SMALL(IF(ISNUMBER(SEARCH(\"JV2\",F125:F132)), ROW(F125:F132)-MIN(ROW(F125:F132))+1, \"\"), ROW() -124 )), \"\")","v":""},{"$f":"IFERROR(INDEX(C125:C132, SMALL(IF(ISNUMBER(SEARCH(\"JV2\",F125:F132)), ROW(F125:F132)-MIN(ROW(F125:F132))+1, \"\"), ROW() -124 )), \"\")","v":""},{"$f":"IFERROR(INDEX(D125:D132, SMALL(IF(ISNUMBER(SEARCH(\"JV2\",F125:F132)), ROW(F125:F132)-MIN(ROW(F125:F132))+1, \"\"), ROW() -124 )), \"\")","v":""},{"$f":"IFERROR(INDEX(E125:E132, SMALL(IF(ISNUMBER(SEARCH(\"JV2\",F125:F132)), ROW(F125:F132)-MIN(ROW(F125:F132))+1, \"\"), ROW() -124 )), \"\")","v":""}]
[null,"Kansas State University",null,"22-16659","Addison Foley"," ",null,4450.0,null,false,{"$nulls":17},{"$f":"IFERROR(INDEX(B133:B141, SMALL(IF(\"V\"=F133:F141, ROW(F133:F141)-MIN(ROW(F133:F141))+1, \"\"), ROW() -132 )), \"\")","v":"Kansas State University"},{"$f":"IFERROR(INDEX(C133:C141, SMALL(IF(\"V\"=F133:F141, ROW(F133:F141)-MIN(ROW(F133:F141))+1, \"\"), ROW() -132 )), \"\")","v":""},{"$f":"IFERROR(INDEX(D133:D141, SMALL(IF(\"V\"=F133:F141, ROW(F133:F141)-MIN(ROW(F133:F141))+1, \"\"), ROW() -132 )), \"\")","v":"22-16667"},{"$f":"IFERROR(INDEX(E133:E141, SMALL(IF(\"V\"=F133:F141, ROW(F133:F141)-MIN(ROW(F133:F141))+1, \"\"), ROW() -132 )), \"\")","v":"Gabriela Ramirez"},{"$f":"IFERROR(INDEX(B133:B141, SMALL(IF(ISNUMBER(SEARCH(\"JV1\",F133:F141)), ROW(F133:F141)-MIN(ROW(F133:F141))+1, \"\"), ROW() -132 )), \"\")","v":""},{"$f":"IFERROR(INDEX(C133:C141, SMALL(IF(ISNUMBER(SEARCH(\"JV1\",F133:F141)), ROW(F133:F141)-MIN(ROW(F133:F141))+1, \"\"), ROW() -132 )), \"\")","v":""},{"$f":"IFERROR(INDEX(D133:D141, SMALL(IF(ISNUMBER(SEARCH(\"JV1\",F133:F141)), ROW(F133:F141)-MIN(ROW(F133:F141))+1, \"\"), ROW() -132 )), \"\")","v":""},{"$f":"IFERROR(INDEX(E133:E141, SMALL(IF(ISNUMBER(SEARCH(\"JV1\",F133:F141)), ROW(F133:F141)-MIN(ROW(F133:F141))+1, \"\"), ROW() -132 )), \"\")","v":""},{"$f":"IFERROR(INDEX(B133:B141, SMALL(IF(ISNUMBER(SEARCH(\"JV2\",F133:F141)), ROW(F133:F141)-MIN(ROW(F133:F141))+1, \"\"), ROW() -132 )), \"\")","v":""},{"$f":"IFERROR(INDEX(C133:C141, SMALL(IF(ISNUMBER(SEARCH(\"JV2\",F133:F141)), ROW(F133:F141)-MIN(ROW(F133:F141))+1, \"\"), ROW() -132 )), \"\")","v":""},{"$f":"IFERROR(INDEX(D133:D141, SMALL(IF(ISNUMBER(SEARCH(\"JV2\",F133:F141)), ROW(F133:F141)-MIN(ROW(F133:F141))+1, \"\"), ROW() -132 )), \"\")","v":""},{"$f":"IFERROR(INDEX(E133:E141, SMALL(IF(ISNUMBER(SEARCH(\"JV2\",F133:F141)), ROW(F133:F141)-MIN(ROW(F133:F141))+1, \"\"), ROW() -132 )), \"\")","v":""}]
[null,"Kansas State University",null,"21-92228","Elizabeth Barrientos"," ",null,4450.0,null,false,{"$nulls":17},{"$f":"IFERROR(INDEX(B133:B141, SMALL(IF(\"V\"=F133:F141, ROW(F133:F141)-MIN(ROW(F133:F141))+1, \"\"), ROW() -132 )), \"\")","v":"Kansas State University"},{"$f":"IFERROR(INDEX(C133:C141, SMALL(IF(\"V\"=F133:F141, ROW(F133:F141)-MIN(ROW(F133:F141))+1, \"\"), ROW() -132 )), \"\")","v":""},{"$f":"IFERROR(INDEX(D133:D141, SMALL(IF(\"V\"=F133:F141, ROW(F133:F141)-MIN(ROW(F133:F141))+1, \"\"), ROW() -132 )), \"\")","v":"22-16669"},{"$f":"IFERROR(INDEX(E133:E141, SMALL(IF(\"V\"=F133:F141, ROW(F133:F141)-MIN(ROW(F133:F141))+1, \"\"), ROW() -132 )), \"\")","v":"Kennedy Jones"},{"$f":"IFERROR(INDEX(B133:B141, SMALL(IF(ISNUMBER(SEARCH(\"JV1\",F133:F141)), ROW(F133:F141)-MIN(ROW(F133:F141))+1, \"\"), ROW() -132 )), \"\")","v":""},{"$f":"IFERROR(INDEX(C133:C141, SMALL(IF(ISNUMBER(SEARCH(\"JV1\",F133:F141)), ROW(F133:F141)-MIN(ROW(F133:F141))+1, \"\"), ROW() -132 )), \"\")","v":""},{"$f":"IFERROR(INDEX(D133:D141, SMALL(IF(ISNUMBER(SEARCH(\"JV1\",F133:F141)), ROW(F133:F141)-MIN(ROW(F133:F141))+1, \"\"), ROW() -132 )), \"\")","v":""},{"$f":"IFERROR(INDEX(E133:E141, SMALL(IF(ISNUMBER(SEARCH(\"JV1\",F133:F141)), ROW(F133:F141)-MIN(ROW(F133:F141))+1, \"\"), ROW() -132 )), \"\")","v":""},{"$f":"IFERROR(INDEX(B133:B141, SMALL(IF(ISNUMBER(SEARCH(\"JV2\",F133:F141)), ROW(F133:F141)-MIN(ROW(F133:F141))+1, \"\"), ROW() -132 )), \"\")","v":""},{"$f":"IFERROR(INDEX(C133:C141, SMALL(IF(ISNUMBER(SEARCH(\"JV2\",F133:F141)), ROW(F133:F141)-MIN(ROW(F133:F141))+1, \"\"), ROW() -132 )), \"\")","v":""},{"$f":"IFERROR(INDEX(D133:D141, SMALL(IF(ISNUMBER(SEARCH(\"JV2\",F133:F141)), ROW(F133:F141)-MIN(ROW(F133:F141))+1, \"\"), ROW() -132 )), \"\")","v":""},{"$f":"IFERROR(INDEX(E133:E141, SMALL(IF(ISNUMBER(SEARCH(\"JV2\",F133:F141)), ROW(F133:F141)-MIN(ROW(F133:F141))+1, \"\"), ROW() -132 )), \"\")","v":""}]
[null,"Kansas State University",null,"15-56899","Emily Pine"," ",null,4450.0,null,false,{"$nulls":17},{"$f":"IFERROR(INDEX(B133:B141, SMALL(IF(\"V\"=F133:F141, ROW(F133:F141)-MIN(ROW(F133:F141))+1, \"\"), ROW() -132 )), \"\")","v":"Kansas State University"},{"$f":"IFERROR(INDEX(C133:C141, SMALL(IF(\"V\"=F133:F141, ROW(F133:F141)-MIN(ROW(F133:F141))+1, \"\"), ROW() -132 )), \"\")","v":""},{"$f":"IFERROR(INDEX(D133:D141, SMALL(IF(\"V\"=F133:F141, ROW(F133:F141)-MIN(ROW(F133:F141))+1, \"\"), ROW() -132 )), \"\")","v":"21-15727"},{"$f":"IFERROR(INDEX(E133:E141, SMALL(IF(\"V\"=F133:F141, ROW(F133:F141)-MIN(ROW(F133:F141))+1, \"\"), ROW() -132 )), \"\")","v":"Kinley Nielsen"},{"$f":"IFERROR(INDEX(B133:B141, SMALL(IF(ISNUMBER(SEARCH(\"JV1\",F133:F141)), ROW(F133:F141)-MIN(ROW(F133:F141))+1, \"\"), ROW() -132 )), \"\")","v":""},{"$f":"IFERROR(INDEX(C133:C141, SMALL(IF(ISNUMBER(SEARCH(\"JV1\",F133:F141)), ROW(F133:F141)-MIN(ROW(F133:F141))+1, \"\"), ROW() -132 )), \"\")","v":""},{"$f":"IFERROR(INDEX(D133:D141, SMALL(IF(ISNUMBER(SEARCH(\"JV1\",F133:F141)), ROW(F133:F141)-MIN(ROW(F133:F141))+1, \"\"), ROW() -132 )), \"\")","v":""},{"$f":"IFERROR(INDEX(E133:E141, SMALL(IF(ISNUMBER(SEARCH(\"JV1\",F133:F141)), ROW(F133:F141)-MIN(ROW(F133:F141))+1, \"\"), ROW() -132 )), \"\")","v":""},{"$f":"IFERROR(INDEX(B133:B141, SMALL(IF(ISNUMBER(SEARCH(\"JV2\",F133:F141)), ROW(F133:F141)-MIN(ROW(F133:F141))+1, \"\"), ROW() -132 )), \"\")","v":""},{"$f":"IFERROR(INDEX(C133:C141, SMALL(IF(ISNUMBER(SEARCH(\"JV2\",F133:F141)), ROW(F133:F141)-MIN(ROW(F133:F141))+1, \"\"), ROW() -132 )), \"\")","v":""},{"$f":"IFERROR(INDEX(D133:D141, SMALL(IF(ISNUMBER(SEARCH(\"JV2\",F133:F141)), ROW(F133:F141)-MIN(ROW(F133:F141))+1, \"\"), ROW() -132 )), \"\")","v":""},{"$f":"IFERROR(INDEX(E133:E141, SMALL(IF(ISNUMBER(SEARCH(\"JV2\",F133:F141)), ROW(F133:F141)-MIN(ROW(F133:F141))+1, \"\"), ROW() -132 )), \"\")","v":""}]
[null,"Kansas State University",null,"22-16667","Gabriela Ramirez","V",null,4450.0,null,false,{"$nulls":17},{"$f":"IFERROR(INDEX(B133:B141, SMALL(IF(\"V\"=F133:F141, ROW(F133:F141)-MIN(ROW(F133:F141))+1, \"\"), ROW() -132 )), \"\")","v":"Kansas State University"},{"$f":"IFERROR(INDEX(C133:C141, SMALL(IF(\"V\"=F133:F141, ROW(F133:F141)-MIN(ROW(F133:F141))+1, \"\"), ROW() -132 )), \"\")","v":""},{"$f":"IFERROR(INDEX(D133:D141, SMALL(IF(\"V\"=F133:F141, ROW(F133:F141)-MIN(ROW(F133:F141))+1, \"\"), ROW() -132 )), \"\")","v":"22-16673"},{"$f":"IFERROR(INDEX(E133:E141, SMALL(IF(\"V\"=F133:F141, ROW(F133:F141)-MIN(ROW(F133:F141))+1, \"\"), ROW() -132 )), \"\")","v":"Lillie Harper"},{"$f":"IFERROR(INDEX(B133:B141, SMALL(IF(ISNUMBER(SEARCH(\"JV1\",F133:F141)), ROW(F133:F141)-MIN(ROW(F133:F141))+1, \"\"), ROW() -132 )), \"\")","v":""},{"$f":"IFERROR(INDEX(C133:C141, SMALL(IF(ISNUMBER(SEARCH(\"JV1\",F133:F141)), ROW(F133:F141)-MIN(ROW(F133:F141))+1, \"\"), ROW() -132 )), \"\")","v":""},{"$f":"IFERROR(INDEX(D133:D141, SMALL(IF(ISNUMBER(SEARCH(\"JV1\",F133:F141)), ROW(F133:F141)-MIN(ROW(F133:F141))+1, \"\"), ROW() -132 )), \"\")","v":""},{"$f":"IFERROR(INDEX(E133:E141, SMALL(IF(ISNUMBER(SEARCH(\"JV1\",F133:F141)), ROW(F133:F141)-MIN(ROW(F133:F141))+1, \"\"), ROW() -132 )), \"\")","v":""},{"$f":"IFERROR(INDEX(B133:B141, SMALL(IF(ISNUMBER(SEARCH(\"JV2\",F133:F141)), ROW(F133:F141)-MIN(ROW(F133:F141))+1, \"\"), ROW() -132 )), \"\")","v":""},{"$f":"IFERROR(INDEX(C133:C141, SMALL(IF(ISNUMBER(SEARCH(\"JV2\",F133:F141)), ROW(F133:F141)-MIN(ROW(F133:F141))+1, \"\"), ROW() -132 )), \"\")","v":""},{"$f":"IFERROR(INDEX(D133:D141, SMALL(IF(ISNUMBER(SEARCH(\"JV2\",F133:F141)), ROW(F133:F141)-MIN(ROW(F133:F141))+1, \"\"), ROW() -132 )), \"\")","v":""},{"$f":"IFERROR(INDEX(E133:E141, SMALL(IF(ISNUMBER(SEARCH(\"JV2\",F133:F141)), ROW(F133:F141)-MIN(ROW(F133:F141))+1, \"\"), ROW() -132 )), \"\")","v":""}]
[null,"Kansas State University",null,"22-16669","Kennedy Jones","V",null,4450.0,null,false,{"$nulls":17},{"$f":"IFERROR(INDEX(B133:B141, SMALL(IF(\"V\"=F133:F141, ROW(F133:F141)-MIN(ROW(F133:F141))+1, \"\"), ROW() -132 )), \"\")","v":"Kansas State University"},{"$f":"IFERROR(INDEX(C133:C141, SMALL(IF(\"V\"=F133:F141, ROW(F133:F141)-MIN(ROW(F133:F141))+1, \"\"), ROW() -132 )), \"\")","v":""},{"$f":"IFERROR(INDEX(D133:D141, SMALL(IF(\"V\"=F133:F141, ROW(F133:F141)-MIN(ROW(F133:F141))+1, \"\"), ROW() -132 )), \"\")","v":"5900-25978"},{"$f":"IFERROR(INDEX(E133:E141, SMALL(IF(\"V\"=F133:F141, ROW(F133:F141)-MIN(ROW(F133:F141))+1, \"\"), ROW() -132 )), \"\")","v":"Mary Beth Stankiewicz"},{"$f":"IFERROR(INDEX(B133:B141, SMALL(IF(ISNUMBER(SEARCH(\"JV1\",F133:F141)), ROW(F133:F141)-MIN(ROW(F133:F141))+1, \"\"), ROW() -132 )), \"\")","v":""},{"$f":"IFERROR(INDEX(C133:C141, SMALL(IF(ISNUMBER(SEARCH(\"JV1\",F133:F141)), ROW(F133:F141)-MIN(ROW(F133:F141))+1, \"\"), ROW() -132 )), \"\")","v":""},{"$f":"IFERROR(INDEX(D133:D141, SMALL(IF(ISNUMBER(SEARCH(\"JV1\",F133:F141)), ROW(F133:F141)-MIN(ROW(F133:F141))+1, \"\"), ROW() -132 )), \"\")","v":""},{"$f":"IFERROR(INDEX(E133:E141, SMALL(IF(ISNUMBER(SEARCH(\"JV1\",F133:F141)), ROW(F133:F141)-MIN(ROW(F133:F141))+1, \"\"), ROW() -132 )), \"\")","v":""},{"$f":"IFERROR(INDEX(B133:B141, SMALL(IF(ISNUMBER(SEARCH(\"JV2\",F133:F141)), ROW(F133:F141)-MIN(ROW(F133:F141))+1, \"\"), ROW() -132 )), \"\")","v":""},{"$f":"IFERROR(INDEX(C133:C141, SMALL(IF(ISNUMBER(SEARCH(\"JV2\",F133:F141)), ROW(F133:F141)-MIN(ROW(F133:F141))+1, \"\"), ROW() -132 )), \"\")","v":""},{"$f":"IFERROR(INDEX(D133:D141, SMALL(IF(ISNUMBER(SEARCH(\"JV2\",F133:F141)), ROW(F133:F141)-MIN(ROW(F133:F141))+1, \"\"), ROW() -132 )), \"\")","v":""},{"$f":"IFERROR(INDEX(E133:E141, SMALL(IF(ISNUMBER(SEARCH(\"JV2\",F133:F141)), ROW(F133:F141)-MIN(ROW(F133:F141))+1, \"\"), ROW() -132 )), \"\")","v":""}]
[null,"Kansas State University",null,"21-15727","Kinley Nielsen","V",null,4450.0,null,false,{"$nulls":17},{"$f":"IFERROR(INDEX(B133:B141, SMALL(IF(\"V\"=F133:F141, ROW(F133:F141)-MIN(ROW(F133:F141))+1, \"\"), ROW() -132 )), \"\")","v":"Kansas State University"},{"$f":"IFERROR(INDEX(C133:C141, SMALL(IF(\"V\"=F133:F141, ROW(F133:F141)-MIN(ROW(F133:F141))+1, \"\"), ROW() -132 )), \"\")","v":""},{"$f":"IFERROR(INDEX(D133:D141, SMALL(IF(\"V\"=F133:F141, ROW(F133:F141)-MIN(ROW(F133:F141))+1, \"\"), ROW() -132 )), \"\")","v":"931-89481"},{"$f":"IFERROR(INDEX(E133:E141, SMALL(IF(\"V\"=F133:F141, ROW(F133:F141)-MIN(ROW(F133:F141))+1, \"\"), ROW() -132 )), \"\")","v":"Naomi Harrison"},{"$f":"IFERROR(INDEX(B133:B141, SMALL(IF(ISNUMBER(SEARCH(\"JV1\",F133:F141)), ROW(F133:F141)-MIN(ROW(F133:F141))+1, \"\"), ROW() -132 )), \"\")","v":""},{"$f":"IFERROR(INDEX(C133:C141, SMALL(IF(ISNUMBER(SEARCH(\"JV1\",F133:F141)), ROW(F133:F141)-MIN(ROW(F133:F141))+1, \"\"), ROW() -132 )), \"\")","v":""},{"$f":"IFERROR(INDEX(D133:D141, SMALL(IF(ISNUMBER(SEARCH(\"JV1\",F133:F141)), ROW(F133:F141)-MIN(ROW(F133:F141))+1, \"\"), ROW() -132 )), \"\")","v":""},{"$f":"IFERROR(INDEX(E133:E141, SMALL(IF(ISNUMBER(SEARCH(\"JV1\",F133:F141)), ROW(F133:F141)-MIN(ROW(F133:F141))+1, \"\"), ROW() -132 )), \"\")","v":""},{"$f":"IFERROR(INDEX(B133:B141, SMALL(IF(ISNUMBER(SEARCH(\"JV2\",F133:F141)), ROW(F133:F141)-MIN(ROW(F133:F141))+1, \"\"), ROW() -132 )), \"\")","v":""},{"$f":"IFERROR(INDEX(C133:C141, SMALL(IF(ISNUMBER(SEARCH(\"JV2\",F133:F141)), ROW(F133:F141)-MIN(ROW(F133:F141))+1, \"\"), ROW() -132 )), \"\")","v":""},{"$f":"IFERROR(INDEX(D133:D141, SMALL(IF(ISNUMBER(SEARCH(\"JV2\",F133:F141)), ROW(F133:F141)-MIN(ROW(F133:F141))+1, \"\"), ROW() -132 )), \"\")","v":""},{"$f":"IFERROR(INDEX(E133:E141, SMALL(IF(ISNUMBER(SEARCH(\"JV2\",F133:F141)), ROW(F133:F141)-MIN(ROW(F133:F141))+1, \"\"), ROW() -132 )), \"\")","v":""}]
[null,"Kansas State University",null,"22-16673","Lillie Harper","V",null,4450.0,null,false,{"$nulls":17},{"$f":"IFERROR(INDEX(B133:B141, SMALL(IF(\"V\"=F133:F141, ROW(F133:F141)-MIN(ROW(F133:F141))+1, \"\"), ROW() -132 )), \"\")","v":""},{"$f":"IFERROR(INDEX(C133:C141, SMALL(IF(\"V\"=F133:F141, ROW(F133:F141)-MIN(ROW(F133:F141))+1, \"\"), ROW() -132 )), \"\")","v":""},{"$f":"IFERROR(INDEX(D133:D141, SMALL(IF(\"V\"=F133:F141, ROW(F133:F141)-MIN(ROW(F133:F141))+1, \"\"), ROW() -132 )), \"\")","v":""},{"$f":"IFERROR(INDEX(E133:E141, SMALL(IF(\"V\"=F133:F141, ROW(F133:F141)-MIN(ROW(F133:F141))+1, \"\"), ROW() -132 )), \"\")","v":""},{"$f":"IFERROR(INDEX(B133:B141, SMALL(IF(ISNUMBER(SEARCH(\"JV1\",F133:F141)), ROW(F133:F141)-MIN(ROW(F133:F141))+1, \"\"), ROW() -132 )), \"\")","v":""},{"$f":"IFERROR(INDEX(C133:C141, SMALL(IF(ISNUMBER(SEARCH(\"JV1\",F133:F141)), ROW(F133:F141)-MIN(ROW(F133:F141))+1, \"\"), ROW() -132 )), \"\")","v":""},{"$f":"IFERROR(INDEX(D133:D141, SMALL(IF(ISNUMBER(SEARCH(\"JV1\",F133:F141)), ROW(F133:F141)-MIN(ROW(F133:F141))+1, \"\"), ROW() -132 )), \"\")","v":""},{"$f":"IFERROR(INDEX(E133:E141, SMALL(IF(ISNUMBER(SEARCH(\"JV1\",F133:F141)), ROW(F133:F141)-MIN(ROW(F133:F141))+1, \"\"), ROW() -132 )), \"\")","v":""},{"$f":"IFERROR(INDEX(B133:B141, SMALL(IF(ISNUMBER(SEARCH(\"JV2\",F133:F141)), ROW(F133:F141)-MIN(ROW(F133:F141))+1, \"\"), ROW() -132 )), \"\")","v":""},{"$f":"IFERROR(INDEX(C133:C141, SMALL(IF(ISNUMBER(SEARCH(\"JV2\",F133:F141)), ROW(F133:F141)-MIN(ROW(F133:F141))+1, \"\"), ROW() -132 )), \"\")","v":""},{"$f":"IFERROR(INDEX(D133:D141, SMALL(IF(ISNUMBER(SEARCH(\"JV2\",F133:F141)), ROW(F133:F141)-MIN(ROW(F133:F141))+1, \"\"), ROW() -132 )), \"\")","v":""},{"$f":"IFERROR(INDEX(E133:E141, SMALL(IF(ISNUMBER(SEARCH(\"JV2\",F133:F141)), ROW(F133:F141)-MIN(ROW(F133:F141))+1, \"\"), ROW() -132 )), \"\")","v":""}]
[null,"Kansas State University",null,"5900-25978","Mary Beth Stankiewicz","V",null,4450.0,null,false,{"$nulls":17},{"$f":"IFERROR(INDEX(B133:B141, SMALL(IF(\"V\"=F133:F141, ROW(F133:F141)-MIN(ROW(F133:F141))+1, \"\"), ROW() -132 )), \"\")","v":""},{"$f":"IFERROR(INDEX(C133:C141, SMALL(IF(\"V\"=F133:F141, ROW(F133:F141)-MIN(ROW(F133:F141))+1, \"\"), ROW() -132 )), \"\")","v":""},{"$f":"IFERROR(INDEX(D133:D141, SMALL(IF(\"V\"=F133:F141, ROW(F133:F141)-MIN(ROW(F133:F141))+1, \"\"), ROW() -132 )), \"\")","v":""},{"$f":"IFERROR(INDEX(E133:E141, SMALL(IF(\"V\"=F133:F141, ROW(F133:F141)-MIN(ROW(F133:F141))+1, \"\"), ROW() -132 )), \"\")","v":""},{"$f":"IFERROR(INDEX(B133:B141, SMALL(IF(ISNUMBER(SEARCH(\"JV1\",F133:F141)), ROW(F133:F141)-MIN(ROW(F133:F141))+1, \"\"), ROW() -132 )), \"\")","v":""},{"$f":"IFERROR(INDEX(C133:C141, SMALL(IF(ISNUMBER(SEARCH(\"JV1\",F133:F141)), ROW(F133:F141)-MIN(ROW(F133:F141))+1, \"\"), ROW() -132 )), \"\")","v":""},{"$f":"IFERROR(INDEX(D133:D141, SMALL(IF(ISNUMBER(SEARCH(\"JV1\",F133:F141)), ROW(F133:F141)-MIN(ROW(F133:F141))+1, \"\"), ROW() -132 )), \"\")","v":""},{"$f":"IFERROR(INDEX(E133:E141, SMALL(IF(ISNUMBER(SEARCH(\"JV1\",F133:F141)), ROW(F133:F141)-MIN(ROW(F133:F141))+1, \"\"), ROW() -132 )), \"\")","v":""},{"$f":"IFERROR(INDEX(B133:B141, SMALL(IF(ISNUMBER(SEARCH(\"JV2\",F133:F141)), ROW(F133:F141)-MIN(ROW(F133:F141))+1, \"\"), ROW() -132 )), \"\")","v":""},{"$f":"IFERROR(INDEX(C133:C141, SMALL(IF(ISNUMBER(SEARCH(\"JV2\",F133:F141)), ROW(F133:F141)-MIN(ROW(F133:F141))+1, \"\"), ROW() -132 )), \"\")","v":""},{"$f":"IFERROR(INDEX(D133:D141, SMALL(IF(ISNUMBER(SEARCH(\"JV2\",F133:F141)), ROW(F133:F141)-MIN(ROW(F133:F141))+1, \"\"), ROW() -132 )), \"\")","v":""},{"$f":"IFERROR(INDEX(E133:E141, SMALL(IF(ISNUMBER(SEARCH(\"JV2\",F133:F141)), ROW(F133:F141)-MIN(ROW(F133:F141))+1, \"\"), ROW() -132 )), \"\")","v":""}]
[null,"Kansas State University",null,"931-89481","Naomi Harrison","V",null,4450.0,null,false]
[null,"Kansas Wesleyan University",null,""," "," ",null,4430.0,null,false,{"$nulls":17},{"$f":"IFERROR(INDEX(B142:B149, SMALL(IF(\"V\"=F142:F149, ROW(F142:F149)-MIN(ROW(F142:F149))+1, \"\"), ROW() -141 )), \"\")","v":"Kansas Wesleyan University"},{"$f":"IFERROR(INDEX(C142:C149, SMALL(IF(\"V\"=F142:F149, ROW(F142:F149)-MIN(ROW(F142:F149))+1, \"\"), ROW() -141 )), \"\")","v":""},{"$f":"IFERROR(INDEX(D142:D149, SMALL(IF(\"V\"=F142:F149, ROW(F142:F149)-MIN(ROW(F142:F149))+1, \"\"), ROW() -141 )), \"\")","v":"5900-23214"},{"$f":"IFERROR(INDEX(E142:E149, SMALL(IF(\"V\"=F142:F149, ROW(F142:F149)-MIN(ROW(F142:F149))+1, \"\"), ROW() -141 )), \"\")","v":"Chloe Lovell"},{"$f":"IFERROR(INDEX(B142:B149, SMALL(IF(ISNUMBER(SEARCH(\"JV1\",F142:F149)), ROW(F142:F149)-MIN(ROW(F142:F149))+1, \"\"), ROW() -141 )), \"\")","v":""},{"$f":"IFERROR(INDEX(C142:C149, SMALL(IF(ISNUMBER(SEARCH(\"JV1\",F142:F149)), ROW(F142:F149)-MIN(ROW(F142:F149))+1, \"\"), ROW() -141 )), \"\")","v":""},{"$f":"IFERROR(INDEX(D142:D149, SMALL(IF(ISNUMBER(SEARCH(\"JV1\",F142:F149)), ROW(F142:F149)-MIN(ROW(F142:F149))+1, \"\"), ROW() -141 )), \"\")","v":""},{"$f":"IFERROR(INDEX(E142:E149, SMALL(IF(ISNUMBER(SEARCH(\"JV1\",F142:F149)), ROW(F142:F149)-MIN(ROW(F142:F149))+1, \"\"), ROW() -141 )), \"\")","v":""},{"$f":"IFERROR(INDEX(B142:B149, SMALL(IF(ISNUMBER(SEARCH(\"JV2\",F142:F149)), ROW(F142:F149)-MIN(ROW(F142:F149))+1, \"\"), ROW() -141 )), \"\")","v":""},{"$f":"IFERROR(INDEX(C142:C149, SMALL(IF(ISNUMBER(SEARCH(\"JV2\",F142:F149)), ROW(F142:F149)-MIN(ROW(F142:F149))+1, \"\"), ROW() -141 )), \"\")","v":""},{"$f":"IFERROR(INDEX(D142:D149, SMALL(IF(ISNUMBER(SEARCH(\"JV2\",F142:F149)), ROW(F142:F149)-MIN(ROW(F142:F149))+1, \"\"), ROW() -141 )), \"\")","v":""},{"$f":"IFERROR(INDEX(E142:E149, SMALL(IF(ISNUMBER(SEARCH(\"JV2\",F142:F149)), ROW(F142:F149)-MIN(ROW(F142:F149))+1, \"\"), ROW() -141 )), \"\")","v":""}]
[null,"Kansas Wesleyan University",null,"5900-23214","Chloe Lovell","V",null,4430.0,null,false,{"$nulls":17},{"$f":"IFERROR(INDEX(B142:B149, SMALL(IF(\"V\"=F142:F149, ROW(F142:F149)-MIN(ROW(F142:F149))+1, \"\"), ROW() -141 )), \"\")","v":"Kansas Wesleyan University"},{"$f":"IFERROR(INDEX(C142:C149, SMALL(IF(\"V\"=F142:F149, ROW(F142:F149)-MIN(ROW(F142:F149))+1, \"\"), ROW() -141 )), \"\")","v":""},{"$f":"IFERROR(INDEX(D142:D149, SMALL(IF(\"V\"=F142:F149, ROW(F142:F149)-MIN(ROW(F142:F149))+1, \"\"), ROW() -141 )), \"\")","v":"11-662816"},{"$f":"IFERROR(INDEX(E142:E149, SMALL(IF(\"V\"=F142:F149, ROW(F142:F149)-MIN(ROW(F142:F149))+1, \"\"), ROW() -141 )), \"\")","v":"Haylee Busch"},{"$f":"IFERROR(INDEX(B142:B149, SMALL(IF(ISNUMBER(SEARCH(\"JV1\",F142:F149)), ROW(F142:F149)-MIN(ROW(F142:F149))+1, \"\"), ROW() -141 )), \"\")","v":""},{"$f":"IFERROR(INDEX(C142:C149, SMALL(IF(ISNUMBER(SEARCH(\"JV1\",F142:F149)), ROW(F142:F149)-MIN(ROW(F142:F149))+1, \"\"), ROW() -141 )), \"\")","v":""},{"$f":"IFERROR(INDEX(D142:D149, SMALL(IF(ISNUMBER(SEARCH(\"JV1\",F142:F149)), ROW(F142:F149)-MIN(ROW(F142:F149))+1, \"\"), ROW() -141 )), \"\")","v":""},{"$f":"IFERROR(INDEX(E142:E149, SMALL(IF(ISNUMBER(SEARCH(\"JV1\",F142:F149)), ROW(F142:F149)-MIN(ROW(F142:F149))+1, \"\"), ROW() -141 )), \"\")","v":""},{"$f":"IFERROR(INDEX(B142:B149, SMALL(IF(ISNUMBER(SEARCH(\"JV2\",F142:F149)), ROW(F142:F149)-MIN(ROW(F142:F149))+1, \"\"), ROW() -141 )), \"\")","v":""},{"$f":"IFERROR(INDEX(C142:C149, SMALL(IF(ISNUMBER(SEARCH(\"JV2\",F142:F149)), ROW(F142:F149)-MIN(ROW(F142:F149))+1, \"\"), ROW() -141 )), \"\")","v":""},{"$f":"IFERROR(INDEX(D142:D149, SMALL(IF(ISNUMBER(SEARCH(\"JV2\",F142:F149)), ROW(F142:F149)-MIN(ROW(F142:F149))+1, \"\"), ROW() -141 )), \"\")","v":""},{"$f":"IFERROR(INDEX(E142:E149, SMALL(IF(ISNUMBER(SEARCH(\"JV2\",F142:F149)), ROW(F142:F149)-MIN(ROW(F142:F149))+1, \"\"), ROW() -141 )), \"\")","v":""}]
[null,"Kansas Wesleyan University",null,"11-662816","Haylee Busch","V",null,4430.0,null,false,{"$nulls":17},{"$f":"IFERROR(INDEX(B142:B149, SMALL(IF(\"V\"=F142:F149, ROW(F142:F149)-MIN(ROW(F142:F149))+1, \"\"), ROW() -141 )), \"\")","v":"Kansas Wesleyan University"},{"$f":"IFERROR(INDEX(C142:C149, SMALL(IF(\"V\"=F142:F149, ROW(F142:F149)-MIN(ROW(F142:F149))+1, \"\"), ROW() -141 )), \"\")","v":""},{"$f":"IFERROR(INDEX(D142:D149, SMALL(IF(\"V\"=F142:F149, ROW(F142:F149)-MIN(ROW(F142:F149))+1, \"\"), ROW() -141 )), \"\")","v":"11-763330"},{"$f":"IFERROR(INDEX(E142:E149, SMALL(IF(\"V\"=F142:F149, ROW(F142:F149)-MIN(ROW(F142:F149))+1, \"\"), ROW() -141 )), \"\")","v":"Hayleigh Hale-Haggard"},{"$f":"IFERROR(INDEX(B142:B149, SMALL(IF(ISNUMBER(SEARCH(\"JV1\",F142:F149)), ROW(F142:F149)-MIN(ROW(F142:F149))+1, \"\"), ROW() -141 )), \"\")","v":""},{"$f":"IFERROR(INDEX(C142:C149, SMALL(IF(ISNUMBER(SEARCH(\"JV1\",F142:F149)), ROW(F142:F149)-MIN(ROW(F142:F149))+1, \"\"), ROW() -141 )), \"\")","v":""},{"$f":"IFERROR(INDEX(D142:D149, SMALL(IF(ISNUMBER(SEARCH(\"JV1\",F142:F149)), ROW(F142:F149)-MIN(ROW(F142:F149))+1, \"\"), ROW() -141 )), \"\")","v":""},{"$f":"IFERROR(INDEX(E142:E149, SMALL(IF(ISNUMBER(SEARCH(\"JV1\",F142:F149)), ROW(F142:F149)-MIN(ROW(F142:F149))+1, \"\"), ROW() -141 )), \"\")","v":""},{"$f":"IFERROR(INDEX(B142:B149, SMALL(IF(ISNUMBER(SEARCH(\"JV2\",F142:F149)), ROW(F142:F149)-MIN(ROW(F142:F149))+1, \"\"), ROW() -141 )), \"\")","v":""},{"$f":"IFERROR(INDEX(C142:C149, SMALL(IF(ISNUMBER(SEARCH(\"JV2\",F142:F149)), ROW(F142:F149)-MIN(ROW(F142:F149))+1, \"\"), ROW() -141 )), \"\")","v":""},{"$f":"IFERROR(INDEX(D142:D149, SMALL(IF(ISNUMBER(SEARCH(\"JV2\",F142:F149)), ROW(F142:F149)-MIN(ROW(F142:F149))+1, \"\"), ROW() -141 )), \"\")","v":""},{"$f":"IFERROR(INDEX(E142:E149, SMALL(IF(ISNUMBER(SEARCH(\"JV2\",F142:F149)), ROW(F142:F149)-MIN(ROW(F142:F149))+1, \"\"), ROW() -141 )), \"\")","v":""}]
[null,"Kansas Wesleyan University",null,"11-763330","Hayleigh Hale-Haggard","V",null,4430.0,null,false,{"$nulls":17},{"$f":"IFERROR(INDEX(B142:B149, SMALL(IF(\"V\"=F142:F149, ROW(F142:F149)-MIN(ROW(F142:F149))+1, \"\"), ROW() -141 )), \"\")","v":"Kansas Wesleyan University"},{"$f":"IFERROR(INDEX(C142:C149, SMALL(IF(\"V\"=F142:F149, ROW(F142:F149)-MIN(ROW(F142:F149))+1, \"\"), ROW() -141 )), \"\")","v":""},{"$f":"IFERROR(INDEX(D142:D149, SMALL(IF(\"V\"=F142:F149, ROW(F142:F149)-MIN(ROW(F142:F149))+1, \"\"), ROW() -141 )), \"\")","v":"15-101198"},{"$f":"IFERROR(INDEX(E142:E149, SMALL(IF(\"V\"=F142:F149, ROW(F142:F149)-MIN(ROW(F142:F149))+1, \"\"), ROW() -141 )), \"\")","v":"Jasmine Senechal"},{"$f":"IFERROR(INDEX(B142:B149, SMALL(IF(ISNUMBER(SEARCH(\"JV1\",F142:F149)), ROW(F142:F149)-MIN(ROW(F142:F149))+1, \"\"), ROW() -141 )), \"\")","v":""},{"$f":"IFERROR(INDEX(C142:C149, SMALL(IF(ISNUMBER(SEARCH(\"JV1\",F142:F149)), ROW(F142:F149)-MIN(ROW(F142:F149))+1, \"\"), ROW() -141 )), \"\")","v":""},{"$f":"IFERROR(INDEX(D142:D149, SMALL(IF(ISNUMBER(SEARCH(\"JV1\",F142:F149)), ROW(F142:F149)-MIN(ROW(F142:F149))+1, \"\"), ROW() -141 )), \"\")","v":""},{"$f":"IFERROR(INDEX(E142:E149, SMALL(IF(ISNUMBER(SEARCH(\"JV1\",F142:F149)), ROW(F142:F149)-MIN(ROW(F142:F149))+1, \"\"), ROW() -141 )), \"\")","v":""},{"$f":"IFERROR(INDEX(B142:B149, SMALL(IF(ISNUMBER(SEARCH(\"JV2\",F142:F149)), ROW(F142:F149)-MIN(ROW(F142:F149))+1, \"\"), ROW() -141 )), \"\")","v":""},{"$f":"IFERROR(INDEX(C142:C149, SMALL(IF(ISNUMBER(SEARCH(\"JV2\",F142:F149)), ROW(F142:F149)-MIN(ROW(F142:F149))+1, \"\"), ROW() -141 )), \"\")","v":""},{"$f":"IFERROR(INDEX(D142:D149, SMALL(IF(ISNUMBER(SEARCH(\"JV2\",F142:F149)), ROW(F142:F149)-MIN(ROW(F142:F149))+1, \"\"), ROW() -141 )), \"\")","v":""},{"$f":"IFERROR(INDEX(E142:E149, SMALL(IF(ISNUMBER(SEARCH(\"JV2\",F142:F149)), ROW(F142:F149)-MIN(ROW(F142:F149))+1, \"\"), ROW() -141 )), \"\")","v":""}]
[null,"Kansas Wesleyan University",null,"15-101198","Jasmine Senechal","V",null,4430.0,null,false,{"$nulls":17},{"$f":"IFERROR(INDEX(B142:B149, SMALL(IF(\"V\"=F142:F149, ROW(F142:F149)-MIN(ROW(F142:F149))+1, \"\"), ROW() -141 )), \"\")","v":"Kansas Wesleyan University"},{"$f":"IFERROR(INDEX(C142:C149, SMALL(IF(\"V\"=F142:F149, ROW(F142:F149)-MIN(ROW(F142:F149))+1, \"\"), ROW() -141 )), \"\")","v":""},{"$f":"IFERROR(INDEX(D142:D149, SMALL(IF(\"V\"=F142:F149, ROW(F142:F149)-MIN(ROW(F142:F149))+1, \"\"), ROW() -141 )), \"\")","v":"8174-21406"},{"$f":"IFERROR(INDEX(E142:E149, SMALL(IF(\"V\"=F142:F149, ROW(F142:F149)-MIN(ROW(F142:F149))+1, \"\"), ROW() -141 )), \"\")","v":"Kara Thompson"},{"$f":"IFERROR(INDEX(B142:B149, SMALL(IF(ISNUMBER(SEARCH(\"JV1\",F142:F149)), ROW(F142:F149)-MIN(ROW(F142:F149))+1, \"\"), ROW() -141 )), \"\")","v":""},{"$f":"IFERROR(INDEX(C142:C149, SMALL(IF(ISNUMBER(SEARCH(\"JV1\",F142:F149)), ROW(F142:F149)-MIN(ROW(F142:F149))+1, \"\"), ROW() -141 )), \"\")","v":""},{"$f":"IFERROR(INDEX(D142:D149, SMALL(IF(ISNUMBER(SEARCH(\"JV1\",F142:F149)), ROW(F142:F149)-MIN(ROW(F142:F149))+1, \"\"), ROW() -141 )), \"\")","v":""},{"$f":"IFERROR(INDEX(E142:E149, SMALL(IF(ISNUMBER(SEARCH(\"JV1\",F142:F149)), ROW(F142:F149)-MIN(ROW(F142:F149))+1, \"\"), ROW() -141 )), \"\")","v":""},{"$f":"IFERROR(INDEX(B142:B149, SMALL(IF(ISNUMBER(SEARCH(\"JV2\",F142:F149)), ROW(F142:F149)-MIN(ROW(F142:F149))+1, \"\"), ROW() -141 )), \"\")","v":""},{"$f":"IFERROR(INDEX(C142:C149, SMALL(IF(ISNUMBER(SEARCH(\"JV2\",F142:F149)), ROW(F142:F149)-MIN(ROW(F142:F149))+1, \"\"), ROW() -141 )), \"\")","v":""},{"$f":"IFERROR(INDEX(D142:D149, SMALL(IF(ISNUMBER(SEARCH(\"JV2\",F142:F149)), ROW(F142:F149)-MIN(ROW(F142:F149))+1, \"\"), ROW() -141 )), \"\")","v":""},{"$f":"IFERROR(INDEX(E142:E149, SMALL(IF(ISNUMBER(SEARCH(\"JV2\",F142:F149)), ROW(F142:F149)-MIN(ROW(F142:F149))+1, \"\"), ROW() -141 )), \"\")","v":""}]
[null,"Kansas Wesleyan University",null,"8174-21406","Kara Thompson","V",null,4430.0,null,false,{"$nulls":17},{"$f":"IFERROR(INDEX(B142:B149, SMALL(IF(\"V\"=F142:F149, ROW(F142:F149)-MIN(ROW(F142:F149))+1, \"\"), ROW() -141 )), \"\")","v":"Kansas Wesleyan University"},{"$f":"IFERROR(INDEX(C142:C149, SMALL(IF(\"V\"=F142:F149, ROW(F142:F149)-MIN(ROW(F142:F149))+1, \"\"), ROW() -141 )), \"\")","v":""},{"$f":"IFERROR(INDEX(D142:D149, SMALL(IF(\"V\"=F142:F149, ROW(F142:F149)-MIN(ROW(F142:F149))+1, \"\"), ROW() -141 )), \"\")","v":"11-662819"},{"$f":"IFERROR(INDEX(E142:E149, SMALL(IF(\"V\"=F142:F149, ROW(F142:F149)-MIN(ROW(F142:F149))+1, \"\"), ROW() -141 )), \"\")","v":"Kylee Busch"},{"$f":"IFERROR(INDEX(B142:B149, SMALL(IF(ISNUMBER(SEARCH(\"JV1\",F142:F149)), ROW(F142:F149)-MIN(ROW(F142:F149))+1, \"\"), ROW() -141 )), \"\")","v":""},{"$f":"IFERROR(INDEX(C142:C149, SMALL(IF(ISNUMBER(SEARCH(\"JV1\",F142:F149)), ROW(F142:F149)-MIN(ROW(F142:F149))+1, \"\"), ROW() -141 )), \"\")","v":""},{"$f":"IFERROR(INDEX(D142:D149, SMALL(IF(ISNUMBER(SEARCH(\"JV1\",F142:F149)), ROW(F142:F149)-MIN(ROW(F142:F149))+1, \"\"), ROW() -141 )), \"\")","v":""},{"$f":"IFERROR(INDEX(E142:E149, SMALL(IF(ISNUMBER(SEARCH(\"JV1\",F142:F149)), ROW(F142:F149)-MIN(ROW(F142:F149))+1, \"\"), ROW() -141 )), \"\")","v":""},{"$f":"IFERROR(INDEX(B142:B149, SMALL(IF(ISNUMBER(SEARCH(\"JV2\",F142:F149)), ROW(F142:F149)-MIN(ROW(F142:F149))+1, \"\"), ROW() -141 )), \"\")","v":""},{"$f":"IFERROR(INDEX(C142:C149, SMALL(IF(ISNUMBER(SEARCH(\"JV2\",F142:F149)), ROW(F142:F149)-MIN(ROW(F142:F149))+1, \"\"), ROW() -141 )), \"\")","v":""},{"$f":"IFERROR(INDEX(D142:D149, SMALL(IF(ISNUMBER(SEARCH(\"JV2\",F142:F149)), ROW(F142:F149)-MIN(ROW(F142:F149))+1, \"\"), ROW() -141 )), \"\")","v":""},{"$f":"IFERROR(INDEX(E142:E149, SMALL(IF(ISNUMBER(SEARCH(\"JV2\",F142:F149)), ROW(F142:F149)-MIN(ROW(F142:F149))+1, \"\"), ROW() -141 )), \"\")","v":""}]
[null,"Kansas Wesleyan University",null,"11-662819","Kylee Busch","V",null,4430.0,null,false,{"$nulls":17},{"$f":"IFERROR(INDEX(B142:B149, SMALL(IF(\"V\"=F142:F149, ROW(F142:F149)-MIN(ROW(F142:F149))+1, \"\"), ROW() -141 )), \"\")","v":"Kansas Wesleyan University"},{"$f":"IFERROR(INDEX(C142:C149, SMALL(IF(\"V\"=F142:F149, ROW(F142:F149)-MIN(ROW(F142:F149))+1, \"\"), ROW() -141 )), \"\")","v":""},{"$f":"IFERROR(INDEX(D142:D149, SMALL(IF(\"V\"=F142:F149, ROW(F142:F149)-MIN(ROW(F142:F149))+1, \"\"), ROW() -141 )), \"\")","v":"22-24271"},{"$f":"IFERROR(INDEX(E142:E149, SMALL(IF(\"V\"=F142:F149, ROW(F142:F149)-MIN(ROW(F142:F149))+1, \"\"), ROW() -141 )), \"\")","v":"Terah Head"},{"$f":"IFERROR(INDEX(B142:B149, SMALL(IF(ISNUMBER(SEARCH(\"JV1\",F142:F149)), ROW(F142:F149)-MIN(ROW(F142:F149))+1, \"\"), ROW() -141 )), \"\")","v":""},{"$f":"IFERROR(INDEX(C142:C149, SMALL(IF(ISNUMBER(SEARCH(\"JV1\",F142:F149)), ROW(F142:F149)-MIN(ROW(F142:F149))+1, \"\"), ROW() -141 )), \"\")","v":""},{"$f":"IFERROR(INDEX(D142:D149, SMALL(IF(ISNUMBER(SEARCH(\"JV1\",F142:F149)), ROW(F142:F149)-MIN(ROW(F142:F149))+1, \"\"), ROW() -141 )), \"\")","v":""},{"$f":"IFERROR(INDEX(E142:E149, SMALL(IF(ISNUMBER(SEARCH(\"JV1\",F142:F149)), ROW(F142:F149)-MIN(ROW(F142:F149))+1, \"\"), ROW() -141 )), \"\")","v":""},{"$f":"IFERROR(INDEX(B142:B149, SMALL(IF(ISNUMBER(SEARCH(\"JV2\",F142:F149)), ROW(F142:F149)-MIN(ROW(F142:F149))+1, \"\"), ROW() -141 )), \"\")","v":""},{"$f":"IFERROR(INDEX(C142:C149, SMALL(IF(ISNUMBER(SEARCH(\"JV2\",F142:F149)), ROW(F142:F149)-MIN(ROW(F142:F149))+1, \"\"), ROW() -141 )), \"\")","v":""},{"$f":"IFERROR(INDEX(D142:D149, SMALL(IF(ISNUMBER(SEARCH(\"JV2\",F142:F149)), ROW(F142:F149)-MIN(ROW(F142:F149))+1, \"\"), ROW() -141 )), \"\")","v":""},{"$f":"IFERROR(INDEX(E142:E149, SMALL(IF(ISNUMBER(SEARCH(\"JV2\",F142:F149)), ROW(F142:F149)-MIN(ROW(F142:F149))+1, \"\"), ROW() -141 )), \"\")","v":""}]
[null,"Kansas Wesleyan University",null,"22-24271","Terah Head","V",null,4430.0,null,false,{"$nulls":17},{"$f":"IFERROR(INDEX(B142:B149, SMALL(IF(\"V\"=F142:F149, ROW(F142:F149)-MIN(ROW(F142:F149))+1, \"\"), ROW() -141 )), \"\")","v":""},{"$f":"IFERROR(INDEX(C142:C149, SMALL(IF(\"V\"=F142:F149, ROW(F142:F149)-MIN(ROW(F142:F149))+1, \"\"), ROW() -141 )), \"\")","v":""},{"$f":"IFERROR(INDEX(D142:D149, SMALL(IF(\"V\"=F142:F149, ROW(F142:F149)-MIN(ROW(F142:F149))+1, \"\"), ROW() -141 )), \"\")","v":""},{"$f":"IFERROR(INDEX(E142:E149, SMALL(IF(\"V\"=F142:F149, ROW(F142:F149)-MIN(ROW(F142:F149))+1, \"\"), ROW() -141 )), \"\")","v":""},{"$f":"IFERROR(INDEX(B142:B149, SMALL(IF(ISNUMBER(SEARCH(\"JV1\",F142:F149)), ROW(F142:F149)-MIN(ROW(F142:F149))+1, \"\"), ROW() -141 )), \"\")","v":""},{"$f":"IFERROR(INDEX(C142:C149, SMALL(IF(ISNUMBER(SEARCH(\"JV1\",F142:F149)), ROW(F142:F149)-MIN(ROW(F142:F149))+1, \"\"), ROW() -141 )), \"\")","v":""},{"$f":"IFERROR(INDEX(D142:D149, SMALL(IF(ISNUMBER(SEARCH(\"JV1\",F142:F149)), ROW(F142:F149)-MIN(ROW(F142:F149))+1, \"\"), ROW() -141 )), \"\")","v":""},{"$f":"IFERROR(INDEX(E142:E149, SMALL(IF(ISNUMBER(SEARCH(\"JV1\",F142:F149)), ROW(F142:F149)-MIN(ROW(F142:F149))+1, \"\"), ROW() -141 )), \"\")","v":""},{"$f":"IFERROR(INDEX(B142:B149, SMALL(IF(ISNUMBER(SEARCH(\"JV2\",F142:F149)), ROW(F142:F149)-MIN(ROW(F142:F149))+1, \"\"), ROW() -141 )), \"\")","v":""},{"$f":"IFERROR(INDEX(C142:C149, SMALL(IF(ISNUMBER(SEARCH(\"JV2\",F142:F149)), ROW(F142:F149)-MIN(ROW(F142:F149))+1, \"\"), ROW() -141 )), \"\")","v":""},{"$f":"IFERROR(INDEX(D142:D149, SMALL(IF(ISNUMBER(SEARCH(\"JV2\",F142:F149)), ROW(F142:F149)-MIN(ROW(F142:F149))+1, \"\"), ROW() -141 )), \"\")","v":""},{"$f":"IFERROR(INDEX(E142:E149, SMALL(IF(ISNUMBER(SEARCH(\"JV2\",F142:F149)), ROW(F142:F149)-MIN(ROW(F142:F149))+1, \"\"), ROW() -141 )), \"\")","v":""}]
[null,"Lindenwood University",null,"18-38965","Carissa Merkle","V",null,1537.0,null,false,{"$nulls":17},{"$f":"IFERROR(INDEX(B150:B164, SMALL(IF(\"V\"=F150:F164, ROW(F150:F164)-MIN(ROW(F150:F164))+1, \"\"), ROW() -149 )), \"\")","v":"Lindenwood University"},{"$f":"IFERROR(INDEX(C150:C164, SMALL(IF(\"V\"=F150:F164, ROW(F150:F164)-MIN(ROW(F150:F164))+1, \"\"), ROW() -149 )), \"\")","v":""},{"$f":"IFERROR(INDEX(D150:D164, SMALL(IF(\"V\"=F150:F164, ROW(F150:F164)-MIN(ROW(F150:F164))+1, \"\"), ROW() -149 )), \"\")","v":"18-38965"},{"$f":"IFERROR(INDEX(E150:E164, SMALL(IF(\"V\"=F150:F164, ROW(F150:F164)-MIN(ROW(F150:F164))+1, \"\"), ROW() -149 )), \"\")","v":"Carissa Merkle"},{"$f":"IFERROR(INDEX(B150:B164, SMALL(IF(ISNUMBER(SEARCH(\"JV1\",F150:F164)), ROW(F150:F164)-MIN(ROW(F150:F164))+1, \"\"), ROW() -149 )), \"\")","v":"Lindenwood University"},{"$f":"IFERROR(INDEX(C150:C164, SMALL(IF(ISNUMBER(SEARCH(\"JV1\",F150:F164)), ROW(F150:F164)-MIN(ROW(F150:F164))+1, \"\"), ROW() -149 )), \"\")","v":""},{"$f":"IFERROR(INDEX(D150:D164, SMALL(IF(ISNUMBER(SEARCH(\"JV1\",F150:F164)), ROW(F150:F164)-MIN(ROW(F150:F164))+1, \"\"), ROW() -149 )), \"\")","v":"16-109295"},{"$f":"IFERROR(INDEX(E150:E164, SMALL(IF(ISNUMBER(SEARCH(\"JV1\",F150:F164)), ROW(F150:F164)-MIN(ROW(F150:F164))+1, \"\"), ROW() -149 )), \"\")","v":"Haley Gough"},{"$f":"IFERROR(INDEX(B150:B164, SMALL(IF(ISNUMBER(SEARCH(\"JV2\",F150:F164)), ROW(F150:F164)-MIN(ROW(F150:F164))+1, \"\"), ROW() -149 )), \"\")","v":""},{"$f":"IFERROR(INDEX(C150:C164, SMALL(IF(ISNUMBER(SEARCH(\"JV2\",F150:F164)), ROW(F150:F164)-MIN(ROW(F150:F164))+1, \"\"), ROW() -149 )), \"\")","v":""},{"$f":"IFERROR(INDEX(D150:D164, SMALL(IF(ISNUMBER(SEARCH(\"JV2\",F150:F164)), ROW(F150:F164)-MIN(ROW(F150:F164))+1, \"\"), ROW() -149 )), \"\")","v":""},{"$f":"IFERROR(INDEX(E150:E164, SMALL(IF(ISNUMBER(SEARCH(\"JV2\",F150:F164)), ROW(F150:F164)-MIN(ROW(F150:F164))+1, \"\"), ROW() -149 )), \"\")","v":""}]
[null,"Lindenwood University",null,"11-250174","Elizabeth (Lizzy) Rittenour","V",null,1537.0,null,false,{"$nulls":17},{"$f":"IFERROR(INDEX(B150:B164, SMALL(IF(\"V\"=F150:F164, ROW(F150:F164)-MIN(ROW(F150:F164))+1, \"\"), ROW() -149 )), \"\")","v":"Lindenwood University"},{"$f":"IFERROR(INDEX(C150:C164, SMALL(IF(\"V\"=F150:F164, ROW(F150:F164)-MIN(ROW(F150:F164))+1, \"\"), ROW() -149 )), \"\")","v":""},{"$f":"IFERROR(INDEX(D150:D164, SMALL(IF(\"V\"=F150:F164, ROW(F150:F164)-MIN(ROW(F150:F164))+1, \"\"), ROW() -149 )), \"\")","v":"11-250174"},{"$f":"IFERROR(INDEX(E150:E164, SMALL(IF(\"V\"=F150:F164, ROW(F150:F164)-MIN(ROW(F150:F164))+1, \"\"), ROW() -149 )), \"\")","v":"Elizabeth (Lizzy) Rittenour"},{"$f":"IFERROR(INDEX(B150:B164, SMALL(IF(ISNUMBER(SEARCH(\"JV1\",F150:F164)), ROW(F150:F164)-MIN(ROW(F150:F164))+1, \"\"), ROW() -149 )), \"\")","v":"Lindenwood University"},{"$f":"IFERROR(INDEX(C150:C164, SMALL(IF(ISNUMBER(SEARCH(\"JV1\",F150:F164)), ROW(F150:F164)-MIN(ROW(F150:F164))+1, \"\"), ROW() -149 )), \"\")","v":""},{"$f":"IFERROR(INDEX(D150:D164, SMALL(IF(ISNUMBER(SEARCH(\"JV1\",F150:F164)), ROW(F150:F164)-MIN(ROW(F150:F164))+1, \"\"), ROW() -149 )), \"\")","v":"6944-1443"},{"$f":"IFERROR(INDEX(E150:E164, SMALL(IF(ISNUMBER(SEARCH(\"JV1\",F150:F164)), ROW(F150:F164)-MIN(ROW(F150:F164))+1, \"\"), ROW() -149 )), \"\")","v":"Justice Heisler"},{"$f":"IFERROR(INDEX(B150:B164, SMALL(IF(ISNUMBER(SEARCH(\"JV2\",F150:F164)), ROW(F150:F164)-MIN(ROW(F150:F164))+1, \"\"), ROW() -149 )), \"\")","v":""},{"$f":"IFERROR(INDEX(C150:C164, SMALL(IF(ISNUMBER(SEARCH(\"JV2\",F150:F164)), ROW(F150:F164)-MIN(ROW(F150:F164))+1, \"\"), ROW() -149 )), \"\")","v":""},{"$f":"IFERROR(INDEX(D150:D164, SMALL(IF(ISNUMBER(SEARCH(\"JV2\",F150:F164)), ROW(F150:F164)-MIN(ROW(F150:F164))+1, \"\"), ROW() -149 )), \"\")","v":""},{"$f":"IFERROR(INDEX(E150:E164, SMALL(IF(ISNUMBER(SEARCH(\"JV2\",F150:F164)), ROW(F150:F164)-MIN(ROW(F150:F164))+1, \"\"), ROW() -149 )), \"\")","v":""}]
[null,"Lindenwood University",null,"11-393107","Hailey Bozych","V",null,1537.0,null,false,{"$nulls":17},{"$f":"IFERROR(INDEX(B150:B164, SMALL(IF(\"V\"=F150:F164, ROW(F150:F164)-MIN(ROW(F150:F164))+1, \"\"), ROW() -149 )), \"\")","v":"Lindenwood University"},{"$f":"IFERROR(INDEX(C150:C164, SMALL(IF(\"V\"=F150:F164, ROW(F150:F164)-MIN(ROW(F150:F164))+1, \"\"), ROW() -149 )), \"\")","v":""},{"$f":"IFERROR(INDEX(D150:D164, SMALL(IF(\"V\"=F150:F164, ROW(F150:F164)-MIN(ROW(F150:F164))+1, \"\"), ROW() -149 )), \"\")","v":"11-393107"},{"$f":"IFERROR(INDEX(E150:E164, SMALL(IF(\"V\"=F150:F164, ROW(F150:F164)-MIN(ROW(F150:F164))+1, \"\"), ROW() -149 )), \"\")","v":"Hailey Bozych"},{"$f":"IFERROR(INDEX(B150:B164, SMALL(IF(ISNUMBER(SEARCH(\"JV1\",F150:F164)), ROW(F150:F164)-MIN(ROW(F150:F164))+1, \"\"), ROW() -149 )), \"\")","v":"Lindenwood University"},{"$f":"IFERROR(INDEX(C150:C164, SMALL(IF(ISNUMBER(SEARCH(\"JV1\",F150:F164)), ROW(F150:F164)-MIN(ROW(F150:F164))+1, \"\"), ROW() -149 )), \"\")","v":""},{"$f":"IFERROR(INDEX(D150:D164, SMALL(IF(ISNUMBER(SEARCH(\"JV1\",F150:F164)), ROW(F150:F164)-MIN(ROW(F150:F164))+1, \"\"), ROW() -149 )), \"\")","v":"11-233573"},{"$f":"IFERROR(INDEX(E150:E164, SMALL(IF(ISNUMBER(SEARCH(\"JV1\",F150:F164)), ROW(F150:F164)-MIN(ROW(F150:F164))+1, \"\"), ROW() -149 )), \"\")","v":"Kylie Riggs"},{"$f":"IFERROR(INDEX(B150:B164, SMALL(IF(ISNUMBER(SEARCH(\"JV2\",F150:F164)), ROW(F150:F164)-MIN(ROW(F150:F164))+1, \"\"), ROW() -149 )), \"\")","v":""},{"$f":"IFERROR(INDEX(C150:C164, SMALL(IF(ISNUMBER(SEARCH(\"JV2\",F150:F164)), ROW(F150:F164)-MIN(ROW(F150:F164))+1, \"\"), ROW() -149 )), \"\")","v":""},{"$f":"IFERROR(INDEX(D150:D164, SMALL(IF(ISNUMBER(SEARCH(\"JV2\",F150:F164)), ROW(F150:F164)-MIN(ROW(F150:F164))+1, \"\"), ROW() -149 )), \"\")","v":""},{"$f":"IFERROR(INDEX(E150:E164, SMALL(IF(ISNUMBER(SEARCH(\"JV2\",F150:F164)), ROW(F150:F164)-MIN(ROW(F150:F164))+1, \"\"), ROW() -149 )), \"\")","v":""}]
[null,"Lindenwood University",null,"16-109295","Haley Gough","JV1",null,1537.0,null,false,{"$nulls":17},{"$f":"IFERROR(INDEX(B150:B164, SMALL(IF(\"V\"=F150:F164, ROW(F150:F164)-MIN(ROW(F150:F164))+1, \"\"), ROW() -149 )), \"\")","v":"Lindenwood University"},{"$f":"IFERROR(INDEX(C150:C164, SMALL(IF(\"V\"=F150:F164, ROW(F150:F164)-MIN(ROW(F150:F164))+1, \"\"), ROW() -149 )), \"\")","v":""},{"$f":"IFERROR(INDEX(D150:D164, SMALL(IF(\"V\"=F150:F164, ROW(F150:F164)-MIN(ROW(F150:F164))+1, \"\"), ROW() -149 )), \"\")","v":"11-101614"},{"$f":"IFERROR(INDEX(E150:E164, SMALL(IF(\"V\"=F150:F164, ROW(F150:F164)-MIN(ROW(F150:F164))+1, \"\"), ROW() -149 )), \"\")","v":"Haylie Frick"},{"$f":"IFERROR(INDEX(B150:B164, SMALL(IF(ISNUMBER(SEARCH(\"JV1\",F150:F164)), ROW(F150:F164)-MIN(ROW(F150:F164))+1, \"\"), ROW() -149 )), \"\")","v":"Lindenwood University"},{"$f":"IFERROR(INDEX(C150:C164, SMALL(IF(ISNUMBER(SEARCH(\"JV1\",F150:F164)), ROW(F150:F164)-MIN(ROW(F150:F164))+1, \"\"), ROW() -149 )), \"\")","v":""},{"$f":"IFERROR(INDEX(D150:D164, SMALL(IF(ISNUMBER(SEARCH(\"JV1\",F150:F164)), ROW(F150:F164)-MIN(ROW(F150:F164))+1, \"\"), ROW() -149 )), \"\")","v":"22-16986"},{"$f":"IFERROR(INDEX(E150:E164, SMALL(IF(ISNUMBER(SEARCH(\"JV1\",F150:F164)), ROW(F150:F164)-MIN(ROW(F150:F164))+1, \"\"), ROW() -149 )), \"\")","v":"Madeline Woelfel"},{"$f":"IFERROR(INDEX(B150:B164, SMALL(IF(ISNUMBER(SEARCH(\"JV2\",F150:F164)), ROW(F150:F164)-MIN(ROW(F150:F164))+1, \"\"), ROW() -149 )), \"\")","v":""},{"$f":"IFERROR(INDEX(C150:C164, SMALL(IF(ISNUMBER(SEARCH(\"JV2\",F150:F164)), ROW(F150:F164)-MIN(ROW(F150:F164))+1, \"\"), ROW() -149 )), \"\")","v":""},{"$f":"IFERROR(INDEX(D150:D164, SMALL(IF(ISNUMBER(SEARCH(\"JV2\",F150:F164)), ROW(F150:F164)-MIN(ROW(F150:F164))+1, \"\"), ROW() -149 )), \"\")","v":""},{"$f":"IFERROR(INDEX(E150:E164, SMALL(IF(ISNUMBER(SEARCH(\"JV2\",F150:F164)), ROW(F150:F164)-MIN(ROW(F150:F164))+1, \"\"), ROW() -149 )), \"\")","v":""}]
[null,"Lindenwood University",null,"11-101614","Haylie Frick","V",null,1537.0,null,false,{"$nulls":17},{"$f":"IFERROR(INDEX(B150:B164, SMALL(IF(\"V\"=F150:F164, ROW(F150:F164)-MIN(ROW(F150:F164))+1, \"\"), ROW() -149 )), \"\")","v":"Lindenwood University"},{"$f":"IFERROR(INDEX(C150:C164, SMALL(IF(\"V\"=F150:F164, ROW(F150:F164)-MIN(ROW(F150:F164))+1, \"\"), ROW() -149 )), \"\")","v":""},{"$f":"IFERROR(INDEX(D150:D164, SMALL(IF(\"V\"=F150:F164, ROW(F150:F164)-MIN(ROW(F150:F164))+1, \"\"), ROW() -149 )), \"\")","v":"11-449668"},{"$f":"IFERROR(INDEX(E150:E164, SMALL(IF(\"V\"=F150:F164, ROW(F150:F164)-MIN(ROW(F150:F164))+1, \"\"), ROW() -149 )), \"\")","v":"Karsyn Braasch"},{"$f":"IFERROR(INDEX(B150:B164, SMALL(IF(ISNUMBER(SEARCH(\"JV1\",F150:F164)), ROW(F150:F164)-MIN(ROW(F150:F164))+1, \"\"), ROW() -149 )), \"\")","v":"Lindenwood University"},{"$f":"IFERROR(INDEX(C150:C164, SMALL(IF(ISNUMBER(SEARCH(\"JV1\",F150:F164)), ROW(F150:F164)-MIN(ROW(F150:F164))+1, \"\"), ROW() -149 )), \"\")","v":""},{"$f":"IFERROR(INDEX(D150:D164, SMALL(IF(ISNUMBER(SEARCH(\"JV1\",F150:F164)), ROW(F150:F164)-MIN(ROW(F150:F164))+1, \"\"), ROW() -149 )), \"\")","v":"16-137026"},{"$f":"IFERROR(INDEX(E150:E164, SMALL(IF(ISNUMBER(SEARCH(\"JV1\",F150:F164)), ROW(F150:F164)-MIN(ROW(F150:F164))+1, \"\"), ROW() -149 )), \"\")","v":"Madelyn San Soucie"},{"$f":"IFERROR(INDEX(B150:B164, SMALL(IF(ISNUMBER(SEARCH(\"JV2\",F150:F164)), ROW(F150:F164)-MIN(ROW(F150:F164))+1, \"\"), ROW() -149 )), \"\")","v":""},{"$f":"IFERROR(INDEX(C150:C164, SMALL(IF(ISNUMBER(SEARCH(\"JV2\",F150:F164)), ROW(F150:F164)-MIN(ROW(F150:F164))+1, \"\"), ROW() -149 )), \"\")","v":""},{"$f":"IFERROR(INDEX(D150:D164, SMALL(IF(ISNUMBER(SEARCH(\"JV2\",F150:F164)), ROW(F150:F164)-MIN(ROW(F150:F164))+1, \"\"), ROW() -149 )), \"\")","v":""},{"$f":"IFERROR(INDEX(E150:E164, SMALL(IF(ISNUMBER(SEARCH(\"JV2\",F150:F164)), ROW(F150:F164)-MIN(ROW(F150:F164))+1, \"\"), ROW() -149 )), \"\")","v":""}]
[null,"Lindenwood University",null,"6944-1443","Justice Heisler","JV1",null,1537.0,null,false,{"$nulls":17},{"$f":"IFERROR(INDEX(B150:B164, SMALL(IF(\"V\"=F150:F164, ROW(F150:F164)-MIN(ROW(F150:F164))+1, \"\"), ROW() -149 )), \"\")","v":"Lindenwood University"},{"$f":"IFERROR(INDEX(C150:C164, SMALL(IF(\"V\"=F150:F164, ROW(F150:F164)-MIN(ROW(F150:F164))+1, \"\"), ROW() -149 )), \"\")","v":""},{"$f":"IFERROR(INDEX(D150:D164, SMALL(IF(\"V\"=F150:F164, ROW(F150:F164)-MIN(ROW(F150:F164))+1, \"\"), ROW() -149 )), \"\")","v":"11-330961"},{"$f":"IFERROR(INDEX(E150:E164, SMALL(IF(\"V\"=F150:F164, ROW(F150:F164)-MIN(ROW(F150:F164))+1, \"\"), ROW() -149 )), \"\")","v":"Lorena A Santiago Ramos"},{"$f":"IFERROR(INDEX(B150:B164, SMALL(IF(ISNUMBER(SEARCH(\"JV1\",F150:F164)), ROW(F150:F164)-MIN(ROW(F150:F164))+1, \"\"), ROW() -149 )), \"\")","v":"Lindenwood University"},{"$f":"IFERROR(INDEX(C150:C164, SMALL(IF(ISNUMBER(SEARCH(\"JV1\",F150:F164)), ROW(F150:F164)-MIN(ROW(F150:F164))+1, \"\"), ROW() -149 )), \"\")","v":""},{"$f":"IFERROR(INDEX(D150:D164, SMALL(IF(ISNUMBER(SEARCH(\"JV1\",F150:F164)), ROW(F150:F164)-MIN(ROW(F150:F164))+1, \"\"), ROW() -149 )), \"\")","v":"20-29842"},{"$f":"IFERROR(INDEX(E150:E164, SMALL(IF(ISNUMBER(SEARCH(\"JV1\",F150:F164)), ROW(F150:F164)-MIN(ROW(F150:F164))+1, \"\"), ROW() -149 )), \"\")","v":"Paige Ludington"},{"$f":"IFERROR(INDEX(B150:B164, SMALL(IF(ISNUMBER(SEARCH(\"JV2\",F150:F164)), ROW(F150:F164)-MIN(ROW(F150:F164))+1, \"\"), ROW() -149 )), \"\")","v":""},{"$f":"IFERROR(INDEX(C150:C164, SMALL(IF(ISNUMBER(SEARCH(\"JV2\",F150:F164)), ROW(F150:F164)-MIN(ROW(F150:F164))+1, \"\"), ROW() -149 )), \"\")","v":""},{"$f":"IFERROR(INDEX(D150:D164, SMALL(IF(ISNUMBER(SEARCH(\"JV2\",F150:F164)), ROW(F150:F164)-MIN(ROW(F150:F164))+1, \"\"), ROW() -149 )), \"\")","v":""},{"$f":"IFERROR(INDEX(E150:E164, SMALL(IF(ISNUMBER(SEARCH(\"JV2\",F150:F164)), ROW(F150:F164)-MIN(ROW(F150:F164))+1, \"\"), ROW() -149 )), \"\")","v":""}]
[null,"Lindenwood University",null,"11-449668","Karsyn Braasch","V",null,1537.0,null,false,{"$nulls":17},{"$f":"IFERROR(INDEX(B150:B164, SMALL(IF(\"V\"=F150:F164, ROW(F150:F164)-MIN(ROW(F150:F164))+1, \"\"), ROW() -149 )), \"\")","v":"Lindenwood University"},{"$f":"IFERROR(INDEX(C150:C164, SMALL(IF(\"V\"=F150:F164, ROW(F150:F164)-MIN(ROW(F150:F164))+1, \"\"), ROW() -149 )), \"\")","v":""},{"$f":"IFERROR(INDEX(D150:D164, SMALL(IF(\"V\"=F150:F164, ROW(F150:F164)-MIN(ROW(F150:F164))+1, \"\"), ROW() -149 )), \"\")","v":"19-18209"},{"$f":"IFERROR(INDEX(E150:E164, SMALL(IF(\"V\"=F150:F164, ROW(F150:F164)-MIN(ROW(F150:F164))+1, \"\"), ROW() -149 )), \"\")","v":"Renata Martinez"},{"$f":"IFERROR(INDEX(B150:B164, SMALL(IF(ISNUMBER(SEARCH(\"JV1\",F150:F164)), ROW(F150:F164)-MIN(ROW(F150:F164))+1, \"\"), ROW() -149 )), \"\")","v":"Lindenwood University"},{"$f":"IFERROR(INDEX(C150:C164, SMALL(IF(ISNUMBER(SEARCH(\"JV1\",F150:F164)), ROW(F150:F164)-MIN(ROW(F150:F164))+1, \"\"), ROW() -149 )), \"\")","v":""},{"$f":"IFERROR(INDEX(D150:D164, SMALL(IF(ISNUMBER(SEARCH(\"JV1\",F150:F164)), ROW(F150:F164)-MIN(ROW(F150:F164))+1, \"\"), ROW() -149 )), \"\")","v":"16-161359"},{"$f":"IFERROR(INDEX(E150:E164, SMALL(IF(ISNUMBER(SEARCH(\"JV1\",F150:F164)), ROW(F150:F164)-MIN(ROW(F150:F164))+1, \"\"), ROW() -149 )), \"\")","v":"Trinity Capps"},{"$f":"IFERROR(INDEX(B150:B164, SMALL(IF(ISNUMBER(SEARCH(\"JV2\",F150:F164)), ROW(F150:F164)-MIN(ROW(F150:F164))+1, \"\"), ROW() -149 )), \"\")","v":""},{"$f":"IFERROR(INDEX(C150:C164, SMALL(IF(ISNUMBER(SEARCH(\"JV2\",F150:F164)), ROW(F150:F164)-MIN(ROW(F150:F164))+1, \"\"), ROW() -149 )), \"\")","v":""},{"$f":"IFERROR(INDEX(D150:D164, SMALL(IF(ISNUMBER(SEARCH(\"JV2\",F150:F164)), ROW(F150:F164)-MIN(ROW(F150:F164))+1, \"\"), ROW() -149 )), \"\")","v":""},{"$f":"IFERROR(INDEX(E150:E164, SMALL(IF(ISNUMBER(SEARCH(\"JV2\",F150:F164)), ROW(F150:F164)-MIN(ROW(F150:F164))+1, \"\"), ROW() -149 )), \"\")","v":""}]
[null,"Lindenwood University",null,"11-233573","Kylie Riggs","JV1",null,1537.0,null,false,{"$nulls":17},{"$f":"IFERROR(INDEX(B150:B164, SMALL(IF(\"V\"=F150:F164, ROW(F150:F164)-MIN(ROW(F150:F164))+1, \"\"), ROW() -149 )), \"\")","v":"Lindenwood University"},{"$f":"IFERROR(INDEX(C150:C164, SMALL(IF(\"V\"=F150:F164, ROW(F150:F164)-MIN(ROW(F150:F164))+1, \"\"), ROW() -149 )), \"\")","v":""},{"$f":"IFERROR(INDEX(D150:D164, SMALL(IF(\"V\"=F150:F164, ROW(F150:F164)-MIN(ROW(F150:F164))+1, \"\"), ROW() -149 )), \"\")","v":"11-341586"},{"$f":"IFERROR(INDEX(E150:E164, SMALL(IF(\"V\"=F150:F164, ROW(F150:F164)-MIN(ROW(F150:F164))+1, \"\"), ROW() -149 )), \"\")","v":"Samantha Smith"},{"$f":"IFERROR(INDEX(B150:B164, SMALL(IF(ISNUMBER(SEARCH(\"JV1\",F150:F164)), ROW(F150:F164)-MIN(ROW(F150:F164))+1, \"\"), ROW() -149 )), \"\")","v":""},{"$f":"IFERROR(INDEX(C150:C164, SMALL(IF(ISNUMBER(SEARCH(\"JV1\",F150:F164)), ROW(F150:F164)-MIN(ROW(F150:F164))+1, \"\"), ROW() -149 )), \"\")","v":""},{"$f":"IFERROR(INDEX(D150:D164, SMALL(IF(ISNUMBER(SEARCH(\"JV1\",F150:F164)), ROW(F150:F164)-MIN(ROW(F150:F164))+1, \"\"), ROW() -149 )), \"\")","v":""},{"$f":"IFERROR(INDEX(E150:E164, SMALL(IF(ISNUMBER(SEARCH(\"JV1\",F150:F164)), ROW(F150:F164)-MIN(ROW(F150:F164))+1, \"\"), ROW() -149 )), \"\")","v":""},{"$f":"IFERROR(INDEX(B150:B164, SMALL(IF(ISNUMBER(SEARCH(\"JV2\",F150:F164)), ROW(F150:F164)-MIN(ROW(F150:F164))+1, \"\"), ROW() -149 )), \"\")","v":""},{"$f":"IFERROR(INDEX(C150:C164, SMALL(IF(ISNUMBER(SEARCH(\"JV2\",F150:F164)), ROW(F150:F164)-MIN(ROW(F150:F164))+1, \"\"), ROW() -149 )), \"\")","v":""},{"$f":"IFERROR(INDEX(D150:D164, SMALL(IF(ISNUMBER(SEARCH(\"JV2\",F150:F164)), ROW(F150:F164)-MIN(ROW(F150:F164))+1, \"\"), ROW() -149 )), \"\")","v":""},{"$f":"IFERROR(INDEX(E150:E164, SMALL(IF(ISNUMBER(SEARCH(\"JV2\",F150:F164)), ROW(F150:F164)-MIN(ROW(F150:F164))+1, \"\"), ROW() -149 )), \"\")","v":""}]
[null,"Lindenwood University",null,"11-330961","Lorena A Santiago Ramos","V",null,1537.0,null,false]
[null,"Lindenwood University",null,"22-16986","Madeline Woelfel","JV1",null,1537.0,null,false]
[null,"Lindenwood University",null,"16-137026","Madelyn San Soucie","JV1",null,1537.0,null,false]
[null,"Lindenwood University",null,"20-29842","Paige Ludington","JV1",null,1537.0,null,false]
[null,"Lindenwood University",null,"19-18209","Renata Martinez","V",null,1537.0,null,false]
[null,"Lindenwood University",null,"11-341586","Samantha Smith","V",null,1537.0,null,false]
[null,"Lindenwood University",null,"16-161359","Trinity Capps","JV1",null,1537.0,null,false]
[null,"Mount Mercy University",null,"7914-25263","Alyssa Wahnon"," ",null,3943.0,null,false,{"$nulls":17},{"$f":"IFERROR(INDEX(B165:B183, SMALL(IF(\"V\"=F165:F183, ROW(F165:F183)-MIN(ROW(F165:F183))+1, \"\"), ROW() -164 )), \"\")","v":"Mount Mercy University"},{"$f":"IFERROR(INDEX(C165:C183, SMALL(IF(\"V\"=F165:F183, ROW(F165:F183)-MIN(ROW(F165:F183))+1, \"\"), ROW() -164 )), \"\")","v":""},{"$f":"IFERROR(INDEX(D165:D183, SMALL(IF(\"V\"=F165:F183, ROW(F165:F183)-MIN(ROW(F165:F183))+1, \"\"), ROW() -164 )), \"\")","v":"11-300993"},{"$f":"IFERROR(INDEX(E165:E183, SMALL(IF(\"V\"=F165:F183, ROW(F165:F183)-MIN(ROW(F165:F183))+1, \"\"), ROW() -164 )), \"\")","v":"Brynna Madison"},{"$f":"IFERROR(INDEX(B165:B183, SMALL(IF(ISNUMBER(SEARCH(\"JV1\",F165:F183)), ROW(F165:F183)-MIN(ROW(F165:F183))+1, \"\"), ROW() -164 )), \"\")","v":""},{"$f":"IFERROR(INDEX(C165:C183, SMALL(IF(ISNUMBER(SEARCH(\"JV1\",F165:F183)), ROW(F165:F183)-MIN(ROW(F165:F183))+1, \"\"), ROW() -164 )), \"\")","v":""},{"$f":"IFERROR(INDEX(D165:D183, SMALL(IF(ISNUMBER(SEARCH(\"JV1\",F165:F183)), ROW(F165:F183)-MIN(ROW(F165:F183))+1, \"\"), ROW() -164 )), \"\")","v":""},{"$f":"IFERROR(INDEX(E165:E183, SMALL(IF(ISNUMBER(SEARCH(\"JV1\",F165:F183)), ROW(F165:F183)-MIN(ROW(F165:F183))+1, \"\"), ROW() -164 )), \"\")","v":""},{"$f":"IFERROR(INDEX(B165:B183, SMALL(IF(ISNUMBER(SEARCH(\"JV2\",F165:F183)), ROW(F165:F183)-MIN(ROW(F165:F183))+1, \"\"), ROW() -164 )), \"\")","v":""},{"$f":"IFERROR(INDEX(C165:C183, SMALL(IF(ISNUMBER(SEARCH(\"JV2\",F165:F183)), ROW(F165:F183)-MIN(ROW(F165:F183))+1, \"\"), ROW() -164 )), \"\")","v":""},{"$f":"IFERROR(INDEX(D165:D183, SMALL(IF(ISNUMBER(SEARCH(\"JV2\",F165:F183)), ROW(F165:F183)-MIN(ROW(F165:F183))+1, \"\"), ROW() -164 )), \"\")","v":""},{"$f":"IFERROR(INDEX(E165:E183, SMALL(IF(ISNUMBER(SEARCH(\"JV2\",F165:F183)), ROW(F165:F183)-MIN(ROW(F165:F183))+1, \"\"), ROW() -164 )), \"\")","v":""}]
[null,"Mount Mercy University",null,"11-300993","Brynna Madison","V",null,3943.0,null,false,{"$nulls":17},{"$f":"IFERROR(INDEX(B165:B183, SMALL(IF(\"V\"=F165:F183, ROW(F165:F183)-MIN(ROW(F165:F183))+1, \"\"), ROW() -164 )), \"\")","v":"Mount Mercy University"},{"$f":"IFERROR(INDEX(C165:C183, SMALL(IF(\"V\"=F165:F183, ROW(F165:F183)-MIN(ROW(F165:F183))+1, \"\"), ROW() -164 )), \"\")","v":""},{"$f":"IFERROR(INDEX(D165:D183, SMALL(IF(\"V\"=F165:F183, ROW(F165:F183)-MIN(ROW(F165:F183))+1, \"\"), ROW() -164 )), \"\")","v":"11-99667"},{"$f":"IFERROR(INDEX(E165:E183, SMALL(IF(\"V\"=F165:F183, ROW(F165:F183)-MIN(ROW(F165:F183))+1, \"\"), ROW() -164 )), \"\")","v":"Elena Carr"},{"$f":"IFERROR(INDEX(B165:B183, SMALL(IF(ISNUMBER(SEARCH(\"JV1\",F165:F183)), ROW(F165:F183)-MIN(ROW(F165:F183))+1, \"\"), ROW() -164 )), \"\")","v":""},{"$f":"IFERROR(INDEX(C165:C183, SMALL(IF(ISNUMBER(SEARCH(\"JV1\",F165:F183)), ROW(F165:F183)-MIN(ROW(F165:F183))+1, \"\"), ROW() -164 )), \"\")","v":""},{"$f":"IFERROR(INDEX(D165:D183, SMALL(IF(ISNUMBER(SEARCH(\"JV1\",F165:F183)), ROW(F165:F183)-MIN(ROW(F165:F183))+1, \"\"), ROW() -164 )), \"\")","v":""},{"$f":"IFERROR(INDEX(E165:E183, SMALL(IF(ISNUMBER(SEARCH(\"JV1\",F165:F183)), ROW(F165:F183)-MIN(ROW(F165:F183))+1, \"\"), ROW() -164 )), \"\")","v":""},{"$f":"IFERROR(INDEX(B165:B183, SMALL(IF(ISNUMBER(SEARCH(\"JV2\",F165:F183)), ROW(F165:F183)-MIN(ROW(F165:F183))+1, \"\"), ROW() -164 )), \"\")","v":""},{"$f":"IFERROR(INDEX(C165:C183, SMALL(IF(ISNUMBER(SEARCH(\"JV2\",F165:F183)), ROW(F165:F183)-MIN(ROW(F165:F183))+1, \"\"), ROW() -164 )), \"\")","v":""},{"$f":"IFERROR(INDEX(D165:D183, SMALL(IF(ISNUMBER(SEARCH(\"JV2\",F165:F183)), ROW(F165:F183)-MIN(ROW(F165:F183))+1, \"\"), ROW() -164 )), \"\")","v":""},{"$f":"IFERROR(INDEX(E165:E183, SMALL(IF(ISNUMBER(SEARCH(\"JV2\",F165:F183)), ROW(F165:F183)-MIN(ROW(F165:F183))+1, \"\"), ROW() -164 )), \"\")","v":""}]
[null,"Mount Mercy University",null,"16-100284","Cailee Sasano"," ",null,3943.0,null,false,{"$nulls":17},{"$f":"IFERROR(INDEX(B165:B183, SMALL(IF(\"V\"=F165:F183, ROW(F165:F183)-MIN(ROW(F165:F183))+1, \"\"), ROW() -164 )), \"\")","v":"Mount Mercy University"},{"$f":"IFERROR(INDEX(C165:C183, SMALL(IF(\"V\"=F165:F183, ROW(F165:F183)-MIN(ROW(F165:F183))+1, \"\"), ROW() -164 )), \"\")","v":""},{"$f":"IFERROR(INDEX(D165:D183, SMALL(IF(\"V\"=F165:F183, ROW(F165:F183)-MIN(ROW(F165:F183))+1, \"\"), ROW() -164 )), \"\")","v":"11-250067"},{"$f":"IFERROR(INDEX(E165:E183, SMALL(IF(\"V\"=F165:F183, ROW(F165:F183)-MIN(ROW(F165:F183))+1, \"\"), ROW() -164 )), \"\")","v":"Jaelle Hamman"},{"$f":"IFERROR(INDEX(B165:B183, SMALL(IF(ISNUMBER(SEARCH(\"JV1\",F165:F183)), ROW(F165:F183)-MIN(ROW(F165:F183))+1, \"\"), ROW() -164 )), \"\")","v":""},{"$f":"IFERROR(INDEX(C165:C183, SMALL(IF(ISNUMBER(SEARCH(\"JV1\",F165:F183)), ROW(F165:F183)-MIN(ROW(F165:F183))+1, \"\"), ROW() -164 )), \"\")","v":""},{"$f":"IFERROR(INDEX(D165:D183, SMALL(IF(ISNUMBER(SEARCH(\"JV1\",F165:F183)), ROW(F165:F183)-MIN(ROW(F165:F183))+1, \"\"), ROW() -164 )), \"\")","v":""},{"$f":"IFERROR(INDEX(E165:E183, SMALL(IF(ISNUMBER(SEARCH(\"JV1\",F165:F183)), ROW(F165:F183)-MIN(ROW(F165:F183))+1, \"\"), ROW() -164 )), \"\")","v":""},{"$f":"IFERROR(INDEX(B165:B183, SMALL(IF(ISNUMBER(SEARCH(\"JV2\",F165:F183)), ROW(F165:F183)-MIN(ROW(F165:F183))+1, \"\"), ROW() -164 )), \"\")","v":""},{"$f":"IFERROR(INDEX(C165:C183, SMALL(IF(ISNUMBER(SEARCH(\"JV2\",F165:F183)), ROW(F165:F183)-MIN(ROW(F165:F183))+1, \"\"), ROW() -164 )), \"\")","v":""},{"$f":"IFERROR(INDEX(D165:D183, SMALL(IF(ISNUMBER(SEARCH(\"JV2\",F165:F183)), ROW(F165:F183)-MIN(ROW(F165:F183))+1, \"\"), ROW() -164 )), \"\")","v":""},{"$f":"IFERROR(INDEX(E165:E183, SMALL(IF(ISNUMBER(SEARCH(\"JV2\",F165:F183)), ROW(F165:F183)-MIN(ROW(F165:F183))+1, \"\"), ROW() -164 )), \"\")","v":""}]
[null,"Mount Mercy University",null,"11-323908","Chloe Day"," ",null,3943.0,null,false,{"$nulls":17},{"$f":"IFERROR(INDEX(B165:B183, SMALL(IF(\"V\"=F165:F183, ROW(F165:F183)-MIN(ROW(F165:F183))+1, \"\"), ROW() -164 )), \"\")","v":"Mount Mercy University"},{"$f":"IFERROR(INDEX(C165:C183, SMALL(IF(\"V\"=F165:F183, ROW(F165:F183)-MIN(ROW(F165:F183))+1, \"\"), ROW() -164 )), \"\")","v":""},{"$f":"IFERROR(INDEX(D165:D183, SMALL(IF(\"V\"=F165:F183, ROW(F165:F183)-MIN(ROW(F165:F183))+1, \"\"), ROW() -164 )), \"\")","v":"7914-24176"},{"$f":"IFERROR(INDEX(E165:E183, SMALL(IF(\"V\"=F165:F183, ROW(F165:F183)-MIN(ROW(F165:F183))+1, \"\"), ROW() -164 )), \"\")","v":"Jasmine Mckeel"},{"$f":"IFERROR(INDEX(B165:B183, SMALL(IF(ISNUMBER(SEARCH(\"JV1\",F165:F183)), ROW(F165:F183)-MIN(ROW(F165:F183))+1, \"\"), ROW() -164 )), \"\")","v":""},{"$f":"IFERROR(INDEX(C165:C183, SMALL(IF(ISNUMBER(SEARCH(\"JV1\",F165:F183)), ROW(F165:F183)-MIN(ROW(F165:F183))+1, \"\"), ROW() -164 )), \"\")","v":""},{"$f":"IFERROR(INDEX(D165:D183, SMALL(IF(ISNUMBER(SEARCH(\"JV1\",F165:F183)), ROW(F165:F183)-MIN(ROW(F165:F183))+1, \"\"), ROW() -164 )), \"\")","v":""},{"$f":"IFERROR(INDEX(E165:E183, SMALL(IF(ISNUMBER(SEARCH(\"JV1\",F165:F183)), ROW(F165:F183)-MIN(ROW(F165:F183))+1, \"\"), ROW() -164 )), \"\")","v":""},{"$f":"IFERROR(INDEX(B165:B183, SMALL(IF(ISNUMBER(SEARCH(\"JV2\",F165:F183)), ROW(F165:F183)-MIN(ROW(F165:F183))+1, \"\"), ROW() -164 )), \"\")","v":""},{"$f":"IFERROR(INDEX(C165:C183, SMALL(IF(ISNUMBER(SEARCH(\"JV2\",F165:F183)), ROW(F165:F183)-MIN(ROW(F165:F183))+1, \"\"), ROW() -164 )), \"\")","v":""},{"$f":"IFERROR(INDEX(D165:D183, SMALL(IF(ISNUMBER(SEARCH(\"JV2\",F165:F183)), ROW(F165:F183)-MIN(ROW(F165:F183))+1, \"\"), ROW() -164 )), \"\")","v":""},{"$f":"IFERROR(INDEX(E165:E183, SMALL(IF(ISNUMBER(SEARCH(\"JV2\",F165:F183)), ROW(F165:F183)-MIN(ROW(F165:F183))+1, \"\"), ROW() -164 )), \"\")","v":""}]
[null,"Mount Mercy University",null,"11-99667","Elena Carr","V",null,3943.0,null,false,{"$nulls":17},{"$f":"IFERROR(INDEX(B165:B183, SMALL(IF(\"V\"=F165:F183, ROW(F165:F183)-MIN(ROW(F165:F183))+1, \"\"), ROW() -164 )), \"\")","v":"Mount Mercy University"},{"$f":"IFERROR(INDEX(C165:C183, SMALL(IF(\"V\"=F165:F183, ROW(F165:F183)-MIN(ROW(F165:F183))+1, \"\"), ROW() -164 )), \"\")","v":""},{"$f":"IFERROR(INDEX(D165:D183, SMALL(IF(\"V\"=F165:F183, ROW(F165:F183)-MIN(ROW(F165:F183))+1, \"\"), ROW() -164 )), \"\")","v":"11-60100"},{"$f":"IFERROR(INDEX(E165:E183, SMALL(IF(\"V\"=F165:F183, ROW(F165:F183)-MIN(ROW(F165:F183))+1, \"\"), ROW() -164 )), \"\")","v":"Jenna Williams"},{"$f":"IFERROR(INDEX(B165:B183, SMALL(IF(ISNUMBER(SEARCH(\"JV1\",F165:F183)), ROW(F165:F183)-MIN(ROW(F165:F183))+1, \"\"), ROW() -164 )), \"\")","v":""},{"$f":"IFERROR(INDEX(C165:C183, SMALL(IF(ISNUMBER(SEARCH(\"JV1\",F165:F183)), ROW(F165:F183)-MIN(ROW(F165:F183))+1, \"\"), ROW() -164 )), \"\")","v":""},{"$f":"IFERROR(INDEX(D165:D183, SMALL(IF(ISNUMBER(SEARCH(\"JV1\",F165:F183)), ROW(F165:F183)-MIN(ROW(F165:F183))+1, \"\"), ROW() -164 )), \"\")","v":""},{"$f":"IFERROR(INDEX(E165:E183, SMALL(IF(ISNUMBER(SEARCH(\"JV1\",F165:F183)), ROW(F165:F183)-MIN(ROW(F165:F183))+1, \"\"), ROW() -164 )), \"\")","v":""},{"$f":"IFERROR(INDEX(B165:B183, SMALL(IF(ISNUMBER(SEARCH(\"JV2\",F165:F183)), ROW(F165:F183)-MIN(ROW(F165:F183))+1, \"\"), ROW() -164 )), \"\")","v":""},{"$f":"IFERROR(INDEX(C165:C183, SMALL(IF(ISNUMBER(SEARCH(\"JV2\",F165:F183)), ROW(F165:F183)-MIN(ROW(F165:F183))+1, \"\"), ROW() -164 )), \"\")","v":""},{"$f":"IFERROR(INDEX(D165:D183, SMALL(IF(ISNUMBER(SEARCH(\"JV2\",F165:F183)), ROW(F165:F183)-MIN(ROW(F165:F183))+1, \"\"), ROW() -164 )), \"\")","v":""},{"$f":"IFERROR(INDEX(E165:E183, SMALL(IF(ISNUMBER(SEARCH(\"JV2\",F165:F183)), ROW(F165:F183)-MIN(ROW(F165:F183))+1, \"\"), ROW() -164 )), \"\")","v":""}]
[null,"Mount Mercy University",null,"11-280373","Emma Hindt"," ",null,3943.0,null,false,{"$nulls":17},{"$f":"IFERROR(INDEX(B165:B183, SMALL(IF(\"V\"=F165:F183, ROW(F165:F183)-MIN(ROW(F165:F183))+1, \"\"), ROW() -164 )), \"\")","v":"Mount Mercy University"},{"$f":"IFERROR(INDEX(C165:C183, SMALL(IF(\"V\"=F165:F183, ROW(F165:F183)-MIN(ROW(F165:F183))+1, \"\"), ROW() -164 )), \"\")","v":""},{"$f":"IFERROR(INDEX(D165:D183, SMALL(IF(\"V\"=F165:F183, ROW(F165:F183)-MIN(ROW(F165:F183))+1, \"\"), ROW() -164 )), \"\")","v":"11-507261"},{"$f":"IFERROR(INDEX(E165:E183, SMALL(IF(\"V\"=F165:F183, ROW(F165:F183)-MIN(ROW(F165:F183))+1, \"\"), ROW() -164 )), \"\")","v":"Katrina McCarthy"},{"$f":"IFERROR(INDEX(B165:B183, SMALL(IF(ISNUMBER(SEARCH(\"JV1\",F165:F183)), ROW(F165:F183)-MIN(ROW(F165:F183))+1, \"\"), ROW() -164 )), \"\")","v":""},{"$f":"IFERROR(INDEX(C165:C183, SMALL(IF(ISNUMBER(SEARCH(\"JV1\",F165:F183)), ROW(F165:F183)-MIN(ROW(F165:F183))+1, \"\"), ROW() -164 )), \"\")","v":""},{"$f":"IFERROR(INDEX(D165:D183, SMALL(IF(ISNUMBER(SEARCH(\"JV1\",F165:F183)), ROW(F165:F183)-MIN(ROW(F165:F183))+1, \"\"), ROW() -164 )), \"\")","v":""},{"$f":"IFERROR(INDEX(E165:E183, SMALL(IF(ISNUMBER(SEARCH(\"JV1\",F165:F183)), ROW(F165:F183)-MIN(ROW(F165:F183))+1, \"\"), ROW() -164 )), \"\")","v":""},{"$f":"IFERROR(INDEX(B165:B183, SMALL(IF(ISNUMBER(SEARCH(\"JV2\",F165:F183)), ROW(F165:F183)-MIN(ROW(F165:F183))+1, \"\"), ROW() -164 )), \"\")","v":""},{"$f":"IFERROR(INDEX(C165:C183, SMALL(IF(ISNUMBER(SEARCH(\"JV2\",F165:F183)), ROW(F165:F183)-MIN(ROW(F165:F183))+1, \"\"), ROW() -164 )), \"\")","v":""},{"$f":"IFERROR(INDEX(D165:D183, SMALL(IF(ISNUMBER(SEARCH(\"JV2\",F165:F183)), ROW(F165:F183)-MIN(ROW(F165:F183))+1, \"\"), ROW() -164 )), \"\")","v":""},{"$f":"IFERROR(INDEX(E165:E183, SMALL(IF(ISNUMBER(SEARCH(\"JV2\",F165:F183)), ROW(F165:F183)-MIN(ROW(F165:F183))+1, \"\"), ROW() -164 )), \"\")","v":""}]
[null,"Mount Mercy University",null,"11-668592","Emma Punter"," ",null,3943.0,null,false,{"$nulls":17},{"$f":"IFERROR(INDEX(B165:B183, SMALL(IF(\"V\"=F165:F183, ROW(F165:F183)-MIN(ROW(F165:F183))+1, \"\"), ROW() -164 )), \"\")","v":"Mount Mercy University"},{"$f":"IFERROR(INDEX(C165:C183, SMALL(IF(\"V\"=F165:F183, ROW(F165:F183)-MIN(ROW(F165:F183))+1, \"\"), ROW() -164 )), \"\")","v":""},{"$f":"IFERROR(INDEX(D165:D183, SMALL(IF(\"V\"=F165:F183, ROW(F165:F183)-MIN(ROW(F165:F183))+1, \"\"), ROW() -164 )), \"\")","v":"5686-2091"},{"$f":"IFERROR(INDEX(E165:E183, SMALL(IF(\"V\"=F165:F183, ROW(F165:F183)-MIN(ROW(F165:F183))+1, \"\"), ROW() -164 )), \"\")","v":"Mackenzie Ullian"},{"$f":"IFERROR(INDEX(B165:B183, SMALL(IF(ISNUMBER(SEARCH(\"JV1\",F165:F183)), ROW(F165:F183)-MIN(ROW(F165:F183))+1, \"\"), ROW() -164 )), \"\")","v":""},{"$f":"IFERROR(INDEX(C165:C183, SMALL(IF(ISNUMBER(SEARCH(\"JV1\",F165:F183)), ROW(F165:F183)-MIN(ROW(F165:F183))+1, \"\"), ROW() -164 )), \"\")","v":""},{"$f":"IFERROR(INDEX(D165:D183, SMALL(IF(ISNUMBER(SEARCH(\"JV1\",F165:F183)), ROW(F165:F183)-MIN(ROW(F165:F183))+1, \"\"), ROW() -164 )), \"\")","v":""},{"$f":"IFERROR(INDEX(E165:E183, SMALL(IF(ISNUMBER(SEARCH(\"JV1\",F165:F183)), ROW(F165:F183)-MIN(ROW(F165:F183))+1, \"\"), ROW() -164 )), \"\")","v":""},{"$f":"IFERROR(INDEX(B165:B183, SMALL(IF(ISNUMBER(SEARCH(\"JV2\",F165:F183)), ROW(F165:F183)-MIN(ROW(F165:F183))+1, \"\"), ROW() -164 )), \"\")","v":""},{"$f":"IFERROR(INDEX(C165:C183, SMALL(IF(ISNUMBER(SEARCH(\"JV2\",F165:F183)), ROW(F165:F183)-MIN(ROW(F165:F183))+1, \"\"), ROW() -164 )), \"\")","v":""},{"$f":"IFERROR(INDEX(D165:D183, SMALL(IF(ISNUMBER(SEARCH(\"JV2\",F165:F183)), ROW(F165:F183)-MIN(ROW(F165:F183))+1, \"\"), ROW() -164 )), \"\")","v":""},{"$f":"IFERROR(INDEX(E165:E183, SMALL(IF(ISNUMBER(SEARCH(\"JV2\",F165:F183)), ROW(F165:F183)-MIN(ROW(F165:F183))+1, \"\"), ROW() -164 )), \"\")","v":""}]
[null,"Mount Mercy University",null,"16-163832","Erin Ott"," ",null,3943.0,null,false,{"$nulls":17},{"$f":"IFERROR(INDEX(B165:B183, SMALL(IF(\"V\"=F165:F183, ROW(F165:F183)-MIN(ROW(F165:F183))+1, \"\"), ROW() -164 )), \"\")","v":"Mount Mercy University"},{"$f":"IFERROR(INDEX(C165:C183, SMALL(IF(\"V\"=F165:F183, ROW(F165:F183)-MIN(ROW(F165:F183))+1, \"\"), ROW() -164 )), \"\")","v":""},{"$f":"IFERROR(INDEX(D165:D183, SMALL(IF(\"V\"=F165:F183, ROW(F165:F183)-MIN(ROW(F165:F183))+1, \"\"), ROW() -164 )), \"\")","v":"5730-32265"},{"$f":"IFERROR(INDEX(E165:E183, SMALL(IF(\"V\"=F165:F183, ROW(F165:F183)-MIN(ROW(F165:F183))+1, \"\"), ROW() -164 )), \"\")","v":"Megan Kolberg"},{"$f":"IFERROR(INDEX(B165:B183, SMALL(IF(ISNUMBER(SEARCH(\"JV1\",F165:F183)), ROW(F165:F183)-MIN(ROW(F165:F183))+1, \"\"), ROW() -164 )), \"\")","v":""},{"$f":"IFERROR(INDEX(C165:C183, SMALL(IF(ISNUMBER(SEARCH(\"JV1\",F165:F183)), ROW(F165:F183)-MIN(ROW(F165:F183))+1, \"\"), ROW() -164 )), \"\")","v":""},{"$f":"IFERROR(INDEX(D165:D183, SMALL(IF(ISNUMBER(SEARCH(\"JV1\",F165:F183)), ROW(F165:F183)-MIN(ROW(F165:F183))+1, \"\"), ROW() -164 )), \"\")","v":""},{"$f":"IFERROR(INDEX(E165:E183, SMALL(IF(ISNUMBER(SEARCH(\"JV1\",F165:F183)), ROW(F165:F183)-MIN(ROW(F165:F183))+1, \"\"), ROW() -164 )), \"\")","v":""},{"$f":"IFERROR(INDEX(B165:B183, SMALL(IF(ISNUMBER(SEARCH(\"JV2\",F165:F183)), ROW(F165:F183)-MIN(ROW(F165:F183))+1, \"\"), ROW() -164 )), \"\")","v":""},{"$f":"IFERROR(INDEX(C165:C183, SMALL(IF(ISNUMBER(SEARCH(\"JV2\",F165:F183)), ROW(F165:F183)-MIN(ROW(F165:F183))+1, \"\"), ROW() -164 )), \"\")","v":""},{"$f":"IFERROR(INDEX(D165:D183, SMALL(IF(ISNUMBER(SEARCH(\"JV2\",F165:F183)), ROW(F165:F183)-MIN(ROW(F165:F183))+1, \"\"), ROW() -164 )), \"\")","v":""},{"$f":"IFERROR(INDEX(E165:E183, SMALL(IF(ISNUMBER(SEARCH(\"JV2\",F165:F183)), ROW(F165:F183)-MIN(ROW(F165:F183))+1, \"\"), ROW() -164 )), \"\")","v":""}]
[null,"Mount Mercy University",null,"11-650988","Isabella Weber"," ",null,3943.0,null,false]
[null,"Mount Mercy University",null,"11-250067","Jaelle Hamman","V",null,3943.0,null,false]
[null,"Mount Mercy University",null,"7914-24176","Jasmine Mckeel","V",null,3943.0,null,false]
[null,"Mount Mercy University",null,"11-60100","Jenna Williams","V",null,3943.0,null,false]
[null,"Mount Mercy University",null,"11-507261","Katrina McCarthy","V",null,3943.0,null,false]
[null,"Mount Mercy University",null,"5686-2091","Mackenzie Ullian","V",null,3943.0,null,false]
[null,"Mount Mercy University",null,"11-527036","McKenzie Skelton"," ",null,3943.0,null,false]
[null,"Mount Mercy University",null,"11-667472","Megan Jacobson"," ",null,3943.0,null,false]
[null,"Mount Mercy University",null,"5816-1206","Megan Kitzmiller"," ",null,3943.0,null,false]
[null,"Mount Mercy University",null,"5730-32265","Megan Kolberg","V",null,3943.0,null,false]
[null,"Mount Mercy University",null,"21-3478","Sofia Martinez"," ",null,3943.0,null,false]
[null,"Newman University",null,"5900-25075","Addyson Schiffelbein","V",null,2524.0,null,false,{"$nulls":17},{"$f":"IFERROR(INDEX(B184:B196, SMALL(IF(\"V\"=F184:F196, ROW(F184:F196)-MIN(ROW(F184:F196))+1, \"\"), ROW() -183 )), \"\")","v":"Newman University"},{"$f":"IFERROR(INDEX(C184:C196, SMALL(IF(\"V\"=F184:F196, ROW(F184:F196)-MIN(ROW(F184:F196))+1, \"\"), ROW() -183 )), \"\")","v":""},{"$f":"IFERROR(INDEX(D184:D196, SMALL(IF(\"V\"=F184:F196, ROW(F184:F196)-MIN(ROW(F184:F196))+1, \"\"), ROW() -183 )), \"\")","v":"5900-25075"},{"$f":"IFERROR(INDEX(E184:E196, SMALL(IF(\"V\"=F184:F196, ROW(F184:F196)-MIN(ROW(F184:F196))+1, \"\"), ROW() -183 )), \"\")","v":"Addyson Schiffelbein"},{"$f":"IFERROR(INDEX(B184:B196, SMALL(IF(ISNUMBER(SEARCH(\"JV1\",F184:F196)), ROW(F184:F196)-MIN(ROW(F184:F196))+1, \"\"), ROW() -183 )), \"\")","v":"Newman University"},{"$f":"IFERROR(INDEX(C184:C196, SMALL(IF(ISNUMBER(SEARCH(\"JV1\",F184:F196)), ROW(F184:F196)-MIN(ROW(F184:F196))+1, \"\"), ROW() -183 )), \"\")","v":""},{"$f":"IFERROR(INDEX(D184:D196, SMALL(IF(ISNUMBER(SEARCH(\"JV1\",F184:F196)), ROW(F184:F196)-MIN(ROW(F184:F196))+1, \"\"), ROW() -183 )), \"\")","v":"19-5159"},{"$f":"IFERROR(INDEX(E184:E196, SMALL(IF(ISNUMBER(SEARCH(\"JV1\",F184:F196)), ROW(F184:F196)-MIN(ROW(F184:F196))+1, \"\"), ROW() -183 )), \"\")","v":"Adrienne Pamatmat"},{"$f":"IFERROR(INDEX(B184:B196, SMALL(IF(ISNUMBER(SEARCH(\"JV2\",F184:F196)), ROW(F184:F196)-MIN(ROW(F184:F196))+1, \"\"), ROW() -183 )), \"\")","v":""},{"$f":"IFERROR(INDEX(C184:C196, SMALL(IF(ISNUMBER(SEARCH(\"JV2\",F184:F196)), ROW(F184:F196)-MIN(ROW(F184:F196))+1, \"\"), ROW() -183 )), \"\")","v":""},{"$f":"IFERROR(INDEX(D184:D196, SMALL(IF(ISNUMBER(SEARCH(\"JV2\",F184:F196)), ROW(F184:F196)-MIN(ROW(F184:F196))+1, \"\"), ROW() -183 )), \"\")","v":""},{"$f":"IFERROR(INDEX(E184:E196, SMALL(IF(ISNUMBER(SEARCH(\"JV2\",F184:F196)), ROW(F184:F196)-MIN(ROW(F184:F196))+1, \"\"), ROW() -183 )), \"\")","v":""}]
[null,"Newman University",null,"19-5159","Adrienne Pamatmat","JV1",null,2524.0,null,false,{"$nulls":17},{"$f":"IFERROR(INDEX(B184:B196, SMALL(IF(\"V\"=F184:F196, ROW(F184:F196)-MIN(ROW(F184:F196))+1, \"\"), ROW() -183 )), \"\")","v":"Newman University"},{"$f":"IFERROR(INDEX(C184:C196, SMALL(IF(\"V\"=F184:F196, ROW(F184:F196)-MIN(ROW(F184:F196))+1, \"\"), ROW() -183 )), \"\")","v":""},{"$f":"IFERROR(INDEX(D184:D196, SMALL(IF(\"V\"=F184:F196, ROW(F184:F196)-MIN(ROW(F184:F196))+1, \"\"), ROW() -183 )), \"\")","v":"11-618792"},{"$f":"IFERROR(INDEX(E184:E196, SMALL(IF(\"V\"=F184:F196, ROW(F184:F196)-MIN(ROW(F184:F196))+1, \"\"), ROW() -183 )), \"\")","v":"Allison Szewczyk"},{"$f":"IFERROR(INDEX(B184:B196, SMALL(IF(ISNUMBER(SEARCH(\"JV1\",F184:F196)), ROW(F184:F196)-MIN(ROW(F184:F196))+1, \"\"), ROW() -183 )), \"\")","v":"Newman University"},{"$f":"IFERROR(INDEX(C184:C196, SMALL(IF(ISNUMBER(SEARCH(\"JV1\",F184:F196)), ROW(F184:F196)-MIN(ROW(F184:F196))+1, \"\"), ROW() -183 )), \"\")","v":""},{"$f":"IFERROR(INDEX(D184:D196, SMALL(IF(ISNUMBER(SEARCH(\"JV1\",F184:F196)), ROW(F184:F196)-MIN(ROW(F184:F196))+1, \"\"), ROW() -183 )), \"\")","v":"18-80545"},{"$f":"IFERROR(INDEX(E184:E196, SMALL(IF(ISNUMBER(SEARCH(\"JV1\",F184:F196)), ROW(F184:F196)-MIN(ROW(F184:F196))+1, \"\"), ROW() -183 )), \"\")","v":"Breanna Warren"},{"$f":"IFERROR(INDEX(B184:B196, SMALL(IF(ISNUMBER(SEARCH(\"JV2\",F184:F196)), ROW(F184:F196)-MIN(ROW(F184:F196))+1, \"\"), ROW() -183 )), \"\")","v":""},{"$f":"IFERROR(INDEX(C184:C196, SMALL(IF(ISNUMBER(SEARCH(\"JV2\",F184:F196)), ROW(F184:F196)-MIN(ROW(F184:F196))+1, \"\"), ROW() -183 )), \"\")","v":""},{"$f":"IFERROR(INDEX(D184:D196, SMALL(IF(ISNUMBER(SEARCH(\"JV2\",F184:F196)), ROW(F184:F196)-MIN(ROW(F184:F196))+1, \"\"), ROW() -183 )), \"\")","v":""},{"$f":"IFERROR(INDEX(E184:E196, SMALL(IF(ISNUMBER(SEARCH(\"JV2\",F184:F196)), ROW(F184:F196)-MIN(ROW(F184:F196))+1, \"\"), ROW() -183 )), \"\")","v":""}]
[null,"Newman University",null,"11-618792","Allison Szewczyk","V",null,2524.0,null,false,{"$nulls":17},{"$f":"IFERROR(INDEX(B184:B196, SMALL(IF(\"V\"=F184:F196, ROW(F184:F196)-MIN(ROW(F184:F196))+1, \"\"), ROW() -183 )), \"\")","v":"Newman University"},{"$f":"IFERROR(INDEX(C184:C196, SMALL(IF(\"V\"=F184:F196, ROW(F184:F196)-MIN(ROW(F184:F196))+1, \"\"), ROW() -183 )), \"\")","v":""},{"$f":"IFERROR(INDEX(D184:D196, SMALL(IF(\"V\"=F184:F196, ROW(F184:F196)-MIN(ROW(F184:F196))+1, \"\"), ROW() -183 )), \"\")","v":"11-53831"},{"$f":"IFERROR(INDEX(E184:E196, SMALL(IF(\"V\"=F184:F196, ROW(F184:F196)-MIN(ROW(F184:F196))+1, \"\"), ROW() -183 )), \"\")","v":"Brylee Prockish"},{"$f":"IFERROR(INDEX(B184:B196, SMALL(IF(ISNUMBER(SEARCH(\"JV1\",F184:F196)), ROW(F184:F196)-MIN(ROW(F184:F196))+1, \"\"), ROW() -183 )), \"\")","v":"Newman University"},{"$f":"IFERROR(INDEX(C184:C196, SMALL(IF(ISNUMBER(SEARCH(\"JV1\",F184:F196)), ROW(F184:F196)-MIN(ROW(F184:F196))+1, \"\"), ROW() -183 )), \"\")","v":""},{"$f":"IFERROR(INDEX(D184:D196, SMALL(IF(ISNUMBER(SEARCH(\"JV1\",F184:F196)), ROW(F184:F196)-MIN(ROW(F184:F196))+1, \"\"), ROW() -183 )), \"\")","v":"16-37397"},{"$f":"IFERROR(INDEX(E184:E196, SMALL(IF(ISNUMBER(SEARCH(\"JV1\",F184:F196)), ROW(F184:F196)-MIN(ROW(F184:F196))+1, \"\"), ROW() -183 )), \"\")","v":"Carianne Takeuchi"},{"$f":"IFERROR(INDEX(B184:B196, SMALL(IF(ISNUMBER(SEARCH(\"JV2\",F184:F196)), ROW(F184:F196)-MIN(ROW(F184:F196))+1, \"\"), ROW() -183 )), \"\")","v":""},{"$f":"IFERROR(INDEX(C184:C196, SMALL(IF(ISNUMBER(SEARCH(\"JV2\",F184:F196)), ROW(F184:F196)-MIN(ROW(F184:F196))+1, \"\"), ROW() -183 )), \"\")","v":""},{"$f":"IFERROR(INDEX(D184:D196, SMALL(IF(ISNUMBER(SEARCH(\"JV2\",F184:F196)), ROW(F184:F196)-MIN(ROW(F184:F196))+1, \"\"), ROW() -183 )), \"\")","v":""},{"$f":"IFERROR(INDEX(E184:E196, SMALL(IF(ISNUMBER(SEARCH(\"JV2\",F184:F196)), ROW(F184:F196)-MIN(ROW(F184:F196))+1, \"\"), ROW() -183 )), \"\")","v":""}]
[null,"Newman University",null,"18-80545","Breanna Warren","JV1",null,2524.0,null,false,{"$nulls":17},{"$f":"IFERROR(INDEX(B184:B196, SMALL(IF(\"V\"=F184:F196, ROW(F184:F196)-MIN(ROW(F184:F196))+1, \"\"), ROW() -183 )), \"\")","v":"Newman University"},{"$f":"IFERROR(INDEX(C184:C196, SMALL(IF(\"V\"=F184:F196, ROW(F184:F196)-MIN(ROW(F184:F196))+1, \"\"), ROW() -183 )), \"\")","v":""},{"$f":"IFERROR(INDEX(D184:D196, SMALL(IF(\"V\"=F184:F196, ROW(F184:F196)-MIN(ROW(F184:F196))+1, \"\"), ROW() -183 )), \"\")","v":"11-220191"},{"$f":"IFERROR(INDEX(E184:E196, SMALL(IF(\"V\"=F184:F196, ROW(F184:F196)-MIN(ROW(F184:F196))+1, \"\"), ROW() -183 )), \"\")","v":"Dakota Lennen"},{"$f":"IFERROR(INDEX(B184:B196, SMALL(IF(ISNUMBER(SEARCH(\"JV1\",F184:F196)), ROW(F184:F196)-MIN(ROW(F184:F196))+1, \"\"), ROW() -183 )), \"\")","v":"Newman University"},{"$f":"IFERROR(INDEX(C184:C196, SMALL(IF(ISNUMBER(SEARCH(\"JV1\",F184:F196)), ROW(F184:F196)-MIN(ROW(F184:F196))+1, \"\"), ROW() -183 )), \"\")","v":""},{"$f":"IFERROR(INDEX(D184:D196, SMALL(IF(ISNUMBER(SEARCH(\"JV1\",F184:F196)), ROW(F184:F196)-MIN(ROW(F184:F196))+1, \"\"), ROW() -183 )), \"\")","v":"11-408051"},{"$f":"IFERROR(INDEX(E184:E196, SMALL(IF(ISNUMBER(SEARCH(\"JV1\",F184:F196)), ROW(F184:F196)-MIN(ROW(F184:F196))+1, \"\"), ROW() -183 )), \"\")","v":"Jaden Schaefer"},{"$f":"IFERROR(INDEX(B184:B196, SMALL(IF(ISNUMBER(SEARCH(\"JV2\",F184:F196)), ROW(F184:F196)-MIN(ROW(F184:F196))+1, \"\"), ROW() -183 )), \"\")","v":""},{"$f":"IFERROR(INDEX(C184:C196, SMALL(IF(ISNUMBER(SEARCH(\"JV2\",F184:F196)), ROW(F184:F196)-MIN(ROW(F184:F196))+1, \"\"), ROW() -183 )), \"\")","v":""},{"$f":"IFERROR(INDEX(D184:D196, SMALL(IF(ISNUMBER(SEARCH(\"JV2\",F184:F196)), ROW(F184:F196)-MIN(ROW(F184:F196))+1, \"\"), ROW() -183 )), \"\")","v":""},{"$f":"IFERROR(INDEX(E184:E196, SMALL(IF(ISNUMBER(SEARCH(\"JV2\",F184:F196)), ROW(F184:F196)-MIN(ROW(F184:F196))+1, \"\"), ROW() -183 )), \"\")","v":""}]
[null,"Newman University",null,"11-53831","Brylee Prockish","V",null,2524.0,null,false,{"$nulls":17},{"$f":"IFERROR(INDEX(B184:B196, SMALL(IF(\"V\"=F184:F196, ROW(F184:F196)-MIN(ROW(F184:F196))+1, \"\"), ROW() -183 )), \"\")","v":"Newman University"},{"$f":"IFERROR(INDEX(C184:C196, SMALL(IF(\"V\"=F184:F196, ROW(F184:F196)-MIN(ROW(F184:F196))+1, \"\"), ROW() -183 )), \"\")","v":""},{"$f":"IFERROR(INDEX(D184:D196, SMALL(IF(\"V\"=F184:F196, ROW(F184:F196)-MIN(ROW(F184:F196))+1, \"\"), ROW() -183 )), \"\")","v":"11-379639"},{"$f":"IFERROR(INDEX(E184:E196, SMALL(IF(\"V\"=F184:F196, ROW(F184:F196)-MIN(ROW(F184:F196))+1, \"\"), ROW() -183 )), \"\")","v":"Kassidy Miller"},{"$f":"IFERROR(INDEX(B184:B196, SMALL(IF(ISNUMBER(SEARCH(\"JV1\",F184:F196)), ROW(F184:F196)-MIN(ROW(F184:F196))+1, \"\"), ROW() -183 )), \"\")","v":"Newman University"},{"$f":"IFERROR(INDEX(C184:C196, SMALL(IF(ISNUMBER(SEARCH(\"JV1\",F184:F196)), ROW(F184:F196)-MIN(ROW(F184:F196))+1, \"\"), ROW() -183 )), \"\")","v":""},{"$f":"IFERROR(INDEX(D184:D196, SMALL(IF(ISNUMBER(SEARCH(\"JV1\",F184:F196)), ROW(F184:F196)-MIN(ROW(F184:F196))+1, \"\"), ROW() -183 )), \"\")","v":"11-484624"},{"$f":"IFERROR(INDEX(E184:E196, SMALL(IF(ISNUMBER(SEARCH(\"JV1\",F184:F196)), ROW(F184:F196)-MIN(ROW(F184:F196))+1, \"\"), ROW() -183 )), \"\")","v":"Jasmine Banks"},{"$f":"IFERROR(INDEX(B184:B196, SMALL(IF(ISNUMBER(SEARCH(\"JV2\",F184:F196)), ROW(F184:F196)-MIN(ROW(F184:F196))+1, \"\"), ROW() -183 )), \"\")","v":""},{"$f":"IFERROR(INDEX(C184:C196, SMALL(IF(ISNUMBER(SEARCH(\"JV2\",F184:F196)), ROW(F184:F196)-MIN(ROW(F184:F196))+1, \"\"), ROW() -183 )), \"\")","v":""},{"$f":"IFERROR(INDEX(D184:D196, SMALL(IF(ISNUMBER(SEARCH(\"JV2\",F184:F196)), ROW(F184:F196)-MIN(ROW(F184:F196))+1, \"\"), ROW() -183 )), \"\")","v":""},{"$f":"IFERROR(INDEX(E184:E196, SMALL(IF(ISNUMBER(SEARCH(\"JV2\",F184:F196)), ROW(F184:F196)-MIN(ROW(F184:F196))+1, \"\"), ROW() -183 )), \"\")","v":""}]
[null,"Newman University",null,"16-37397","Carianne Takeuchi","JV1",null,2524.0,null,false,{"$nulls":17},{"$f":"IFERROR(INDEX(B184:B196, SMALL(IF(\"V\"=F184:F196, ROW(F184:F196)-MIN(ROW(F184:F196))+1, \"\"), ROW() -183 )), \"\")","v":"Newman University"},{"$f":"IFERROR(INDEX(C184:C196, SMALL(IF(\"V\"=F184:F196, ROW(F184:F196)-MIN(ROW(F184:F196))+1, \"\"), ROW() -183 )), \"\")","v":""},{"$f":"IFERROR(INDEX(D184:D196, SMALL(IF(\"V\"=F184:F196, ROW(F184:F196)-MIN(ROW(F184:F196))+1, \"\"), ROW() -183 )), \"\")","v":"11-598856"},{"$f":"IFERROR(INDEX(E184:E196, SMALL(IF(\"V\"=F184:F196, ROW(F184:F196)-MIN(ROW(F184:F196))+1, \"\"), ROW() -183 )), \"\")","v":"Kensley Morris"},{"$f":"IFERROR(INDEX(B184:B196, SMALL(IF(ISNUMBER(SEARCH(\"JV1\",F184:F196)), ROW(F184:F196)-MIN(ROW(F184:F196))+1, \"\"), ROW() -183 )), \"\")","v":"Newman University"},{"$f":"IFERROR(INDEX(C184:C196, SMALL(IF(ISNUMBER(SEARCH(\"JV1\",F184:F196)), ROW(F184:F196)-MIN(ROW(F184:F196))+1, \"\"), ROW() -183 )), \"\")","v":""},{"$f":"IFERROR(INDEX(D184:D196, SMALL(IF(ISNUMBER(SEARCH(\"JV1\",F184:F196)), ROW(F184:F196)-MIN(ROW(F184:F196))+1, \"\"), ROW() -183 )), \"\")","v":"11-547593"},{"$f":"IFERROR(INDEX(E184:E196, SMALL(IF(ISNUMBER(SEARCH(\"JV1\",F184:F196)), ROW(F184:F196)-MIN(ROW(F184:F196))+1, \"\"), ROW() -183 )), \"\")","v":"Kenzie Womack"},{"$f":"IFERROR(INDEX(B184:B196, SMALL(IF(ISNUMBER(SEARCH(\"JV2\",F184:F196)), ROW(F184:F196)-MIN(ROW(F184:F196))+1, \"\"), ROW() -183 )), \"\")","v":""},{"$f":"IFERROR(INDEX(C184:C196, SMALL(IF(ISNUMBER(SEARCH(\"JV2\",F184:F196)), ROW(F184:F196)-MIN(ROW(F184:F196))+1, \"\"), ROW() -183 )), \"\")","v":""},{"$f":"IFERROR(INDEX(D184:D196, SMALL(IF(ISNUMBER(SEARCH(\"JV2\",F184:F196)), ROW(F184:F196)-MIN(ROW(F184:F196))+1, \"\"), ROW() -183 )), \"\")","v":""},{"$f":"IFERROR(INDEX(E184:E196, SMALL(IF(ISNUMBER(SEARCH(\"JV2\",F184:F196)), ROW(F184:F196)-MIN(ROW(F184:F196))+1, \"\"), ROW() -183 )), \"\")","v":""}]
[null,"Newman University",null,"11-220191","Dakota Lennen","V",null,2524.0,null,false,{"$nulls":17},{"$f":"IFERROR(INDEX(B184:B196, SMALL(IF(\"V\"=F184:F196, ROW(F184:F196)-MIN(ROW(F184:F196))+1, \"\"), ROW() -183 )), \"\")","v":"Newman University"},{"$f":"IFERROR(INDEX(C184:C196, SMALL(IF(\"V\"=F184:F196, ROW(F184:F196)-MIN(ROW(F184:F196))+1, \"\"), ROW() -183 )), \"\")","v":""},{"$f":"IFERROR(INDEX(D184:D196, SMALL(IF(\"V\"=F184:F196, ROW(F184:F196)-MIN(ROW(F184:F196))+1, \"\"), ROW() -183 )), \"\")","v":"6825-6151"},{"$f":"IFERROR(INDEX(E184:E196, SMALL(IF(\"V\"=F184:F196, ROW(F184:F196)-MIN(ROW(F184:F196))+1, \"\"), ROW() -183 )), \"\")","v":"Morgan Cooper"},{"$f":"IFERROR(INDEX(B184:B196, SMALL(IF(ISNUMBER(SEARCH(\"JV1\",F184:F196)), ROW(F184:F196)-MIN(ROW(F184:F196))+1, \"\"), ROW() -183 )), \"\")","v":""},{"$f":"IFERROR(INDEX(C184:C196, SMALL(IF(ISNUMBER(SEARCH(\"JV1\",F184:F196)), ROW(F184:F196)-MIN(ROW(F184:F196))+1, \"\"), ROW() -183 )), \"\")","v":""},{"$f":"IFERROR(INDEX(D184:D196, SMALL(IF(ISNUMBER(SEARCH(\"JV1\",F184:F196)), ROW(F184:F196)-MIN(ROW(F184:F196))+1, \"\"), ROW() -183 )), \"\")","v":""},{"$f":"IFERROR(INDEX(E184:E196, SMALL(IF(ISNUMBER(SEARCH(\"JV1\",F184:F196)), ROW(F184:F196)-MIN(ROW(F184:F196))+1, \"\"), ROW() -183 )), \"\")","v":""},{"$f":"IFERROR(INDEX(B184:B196, SMALL(IF(ISNUMBER(SEARCH(\"JV2\",F184:F196)), ROW(F184:F196)-MIN(ROW(F184:F196))+1, \"\"), ROW() -183 )), \"\")","v":""},{"$f":"IFERROR(INDEX(C184:C196, SMALL(IF(ISNUMBER(SEARCH(\"JV2\",F184:F196)), ROW(F184:F196)-MIN(ROW(F184:F196))+1, \"\"), ROW() -183 )), \"\")","v":""},{"$f":"IFERROR(INDEX(D184:D196, SMALL(IF(ISNUMBER(SEARCH(\"JV2\",F184:F196)), ROW(F184:F196)-MIN(ROW(F184:F196))+1, \"\"), ROW() -183 )), \"\")","v":""},{"$f":"IFERROR(INDEX(E184:E196, SMALL(IF(ISNUMBER(SEARCH(\"JV2\",F184:F196)), ROW(F184:F196)-MIN(ROW(F184:F196))+1, \"\"), ROW() -183 )), \"\")","v":""}]
[null,"Newman University",null,"11-408051","Jaden Schaefer","JV1",null,2524.0,null,false,{"$nulls":17},{"$f":"IFERROR(INDEX(B184:B196, SMALL(IF(\"V\"=F184:F196, ROW(F184:F196)-MIN(ROW(F184:F196))+1, \"\"), ROW() -183 )), \"\")","v":""},{"$f":"IFERROR(INDEX(C184:C196, SMALL(IF(\"V\"=F184:F196, ROW(F184:F196)-MIN(ROW(F184:F196))+1, \"\"), ROW() -183 )), \"\")","v":""},{"$f":"IFERROR(INDEX(D184:D196, SMALL(IF(\"V\"=F184:F196, ROW(F184:F196)-MIN(ROW(F184:F196))+1, \"\"), ROW() -183 )), \"\")","v":""},{"$f":"IFERROR(INDEX(E184:E196, SMALL(IF(\"V\"=F184:F196, ROW(F184:F196)-MIN(ROW(F184:F196))+1, \"\"), ROW() -183 )), \"\")","v":""},{"$f":"IFERROR(INDEX(B184:B196, SMALL(IF(ISNUMBER(SEARCH(\"JV1\",F184:F196)), ROW(F184:F196)-MIN(ROW(F184:F196))+1, \"\"), ROW() -183 )), \"\")","v":""},{"$f":"IFERROR(INDEX(C184:C196, SMALL(IF(ISNUMBER(SEARCH(\"JV1\",F184:F196)), ROW(F184:F196)-MIN(ROW(F184:F196))+1, \"\"), ROW() -183 )), \"\")","v":""},{"$f":"IFERROR(INDEX(D184:D196, SMALL(IF(ISNUMBER(SEARCH(\"JV1\",F184:F196)), ROW(F184:F196)-MIN(ROW(F184:F196))+1, \"\"), ROW() -183 )), \"\")","v":""},{"$f":"IFERROR(INDEX(E184:E196, SMALL(IF(ISNUMBER(SEARCH(\"JV1\",F184:F196)), ROW(F184:F196)-MIN(ROW(F184:F196))+1, \"\"), ROW() -183 )), \"\")","v":""},{"$f":"IFERROR(INDEX(B184:B196, SMALL(IF(ISNUMBER(SEARCH(\"JV2\",F184:F196)), ROW(F184:F196)-MIN(ROW(F184:F196))+1, \"\"), ROW() -183 )), \"\")","v":""},{"$f":"IFERROR(INDEX(C184:C196, SMALL(IF(ISNUMBER(SEARCH(\"JV2\",F184:F196)), ROW(F184:F196)-MIN(ROW(F184:F196))+1, \"\"), ROW() -183 )), \"\")","v":""},{"$f":"IFERROR(INDEX(D184:D196, SMALL(IF(ISNUMBER(SEARCH(\"JV2\",F184:F196)), ROW(F184:F196)-MIN(ROW(F184:F196))+1, \"\"), ROW() -183 )), \"\")","v":""},{"$f":"IFERROR(INDEX(E184:E196, SMALL(IF(ISNUMBER(SEARCH(\"JV2\",F184:F196)), ROW(F184:F196)-MIN(ROW(F184:F196))+1, \"\"), ROW() -183 )), \"\")","v":""}]
[null,"Newman University",null,"11-484624","Jasmine Banks","JV1",null,2524.0,null,false]
[null,"Newman University",null,"11-379639","Kassidy Miller","V",null,2524.0,null,false]
[null,"Newman University",null,"11-598856","Kensley Morris","V",null,2524.0,null,false]
[null,"Newman University",null,"11-547593","Kenzie Womack","JV1",null,2524.0,null,false]
[null,"Newman University",null,"6825-6151","Morgan Cooper","V",null,2524.0,null,false]
[null,"Oklahoma Christian University",null,"11-429993","Angelina Lenz"," ",null,4467.0,null,false,{"$nulls":17},{"$f":"IFERROR(INDEX(B197:B212, SMALL(IF(\"V\"=F197:F212, ROW(F197:F212)-MIN(ROW(F197:F212))+1, \"\"), ROW() -196 )), \"\")","v":"Oklahoma Christian University"},{"$f":"IFERROR(INDEX(C197:C212, SMALL(IF(\"V\"=F197:F212, ROW(F197:F212)-MIN(ROW(F197:F212))+1, \"\"), ROW() -196 )), \"\")","v":""},{"$f":"IFERROR(INDEX(D197:D212, SMALL(IF(\"V\"=F197:F212, ROW(F197:F212)-MIN(ROW(F197:F212))+1, \"\"), ROW() -196 )), \"\")","v":"5730-33667"},{"$f":"IFERROR(INDEX(E197:E212, SMALL(IF(\"V\"=F197:F212, ROW(F197:F212)-MIN(ROW(F197:F212))+1, \"\"), ROW() -196 )), \"\")","v":"Claire McDermott"},{"$f":"IFERROR(INDEX(B197:B212, SMALL(IF(ISNUMBER(SEARCH(\"JV1\",F197:F212)), ROW(F197:F212)-MIN(ROW(F197:F212))+1, \"\"), ROW() -196 )), \"\")","v":"Oklahoma Christian University"},{"$f":"IFERROR(INDEX(C197:C212, SMALL(IF(ISNUMBER(SEARCH(\"JV1\",F197:F212)), ROW(F197:F212)-MIN(ROW(F197:F212))+1, \"\"), ROW() -196 )), \"\")","v":""},{"$f":"IFERROR(INDEX(D197:D212, SMALL(IF(ISNUMBER(SEARCH(\"JV1\",F197:F212)), ROW(F197:F212)-MIN(ROW(F197:F212))+1, \"\"), ROW() -196 )), \"\")","v":"15-134480"},{"$f":"IFERROR(INDEX(E197:E212, SMALL(IF(ISNUMBER(SEARCH(\"JV1\",F197:F212)), ROW(F197:F212)-MIN(ROW(F197:F212))+1, \"\"), ROW() -196 )), \"\")","v":"Athena Walker"},{"$f":"IFERROR(INDEX(B197:B212, SMALL(IF(ISNUMBER(SEARCH(\"JV2\",F197:F212)), ROW(F197:F212)-MIN(ROW(F197:F212))+1, \"\"), ROW() -196 )), \"\")","v":""},{"$f":"IFERROR(INDEX(C197:C212, SMALL(IF(ISNUMBER(SEARCH(\"JV2\",F197:F212)), ROW(F197:F212)-MIN(ROW(F197:F212))+1, \"\"), ROW() -196 )), \"\")","v":""},{"$f":"IFERROR(INDEX(D197:D212, SMALL(IF(ISNUMBER(SEARCH(\"JV2\",F197:F212)), ROW(F197:F212)-MIN(ROW(F197:F212))+1, \"\"), ROW() -196 )), \"\")","v":""},{"$f":"IFERROR(INDEX(E197:E212, SMALL(IF(ISNUMBER(SEARCH(\"JV2\",F197:F212)), ROW(F197:F212)-MIN(ROW(F197:F212))+1, \"\"), ROW() -196 )), \"\")","v":""}]
[null,"Oklahoma Christian University",null,"15-134480","Athena Walker","JV1",null,4467.0,null,false,{"$nulls":17},{"$f":"IFERROR(INDEX(B197:B212, SMALL(IF(\"V\"=F197:F212, ROW(F197:F212)-MIN(ROW(F197:F212))+1, \"\"), ROW() -196 )), \"\")","v":"Oklahoma Christian University"},{"$f":"IFERROR(INDEX(C197:C212, SMALL(IF(\"V\"=F197:F212, ROW(F197:F212)-MIN(ROW(F197:F212))+1, \"\"), ROW() -196 )), \"\")","v":""},{"$f":"IFERROR(INDEX(D197:D212, SMALL(IF(\"V\"=F197:F212, ROW(F197:F212)-MIN(ROW(F197:F212))+1, \"\"), ROW() -196 )), \"\")","v":"11-398429"},{"$f":"IFERROR(INDEX(E197:E212, SMALL(IF(\"V\"=F197:F212, ROW(F197:F212)-MIN(ROW(F197:F212))+1, \"\"), ROW() -196 )), \"\")","v":"Jaymie Burrow"},{"$f":"IFERROR(INDEX(B197:B212, SMALL(IF(ISNUMBER(SEARCH(\"JV1\",F197:F212)), ROW(F197:F212)-MIN(ROW(F197:F212))+1, \"\"), ROW() -196 )), \"\")","v":"Oklahoma Christian University"},{"$f":"IFERROR(INDEX(C197:C212, SMALL(IF(ISNUMBER(SEARCH(\"JV1\",F197:F212)), ROW(F197:F212)-MIN(ROW(F197:F212))+1, \"\"), ROW() -196 )), \"\")","v":""},{"$f":"IFERROR(INDEX(D197:D212, SMALL(IF(ISNUMBER(SEARCH(\"JV1\",F197:F212)), ROW(F197:F212)-MIN(ROW(F197:F212))+1, \"\"), ROW() -196 )), \"\")","v":"16-127272"},{"$f":"IFERROR(INDEX(E197:E212, SMALL(IF(ISNUMBER(SEARCH(\"JV1\",F197:F212)), ROW(F197:F212)-MIN(ROW(F197:F212))+1, \"\"), ROW() -196 )), \"\")","v":"Jennifer Jackson"},{"$f":"IFERROR(INDEX(B197:B212, SMALL(IF(ISNUMBER(SEARCH(\"JV2\",F197:F212)), ROW(F197:F212)-MIN(ROW(F197:F212))+1, \"\"), ROW() -196 )), \"\")","v":""},{"$f":"IFERROR(INDEX(C197:C212, SMALL(IF(ISNUMBER(SEARCH(\"JV2\",F197:F212)), ROW(F197:F212)-MIN(ROW(F197:F212))+1, \"\"), ROW() -196 )), \"\")","v":""},{"$f":"IFERROR(INDEX(D197:D212, SMALL(IF(ISNUMBER(SEARCH(\"JV2\",F197:F212)), ROW(F197:F212)-MIN(ROW(F197:F212))+1, \"\"), ROW() -196 )), \"\")","v":""},{"$f":"IFERROR(INDEX(E197:E212, SMALL(IF(ISNUMBER(SEARCH(\"JV2\",F197:F212)), ROW(F197:F212)-MIN(ROW(F197:F212))+1, \"\"), ROW() -196 )), \"\")","v":""}]
[null,"Oklahoma Christian University",null,"5730-33667","Claire McDermott","V",null,4467.0,null,false,{"$nulls":17},{"$f":"IFERROR(INDEX(B197:B212, SMALL(IF(\"V\"=F197:F212, ROW(F197:F212)-MIN(ROW(F197:F212))+1, \"\"), ROW() -196 )), \"\")","v":"Oklahoma Christian University"},{"$f":"IFERROR(INDEX(C197:C212, SMALL(IF(\"V\"=F197:F212, ROW(F197:F212)-MIN(ROW(F197:F212))+1, \"\"), ROW() -196 )), \"\")","v":""},{"$f":"IFERROR(INDEX(D197:D212, SMALL(IF(\"V\"=F197:F212, ROW(F197:F212)-MIN(ROW(F197:F212))+1, \"\"), ROW() -196 )), \"\")","v":"11-28817"},{"$f":"IFERROR(INDEX(E197:E212, SMALL(IF(\"V\"=F197:F212, ROW(F197:F212)-MIN(ROW(F197:F212))+1, \"\"), ROW() -196 )), \"\")","v":"Jordan Corbett"},{"$f":"IFERROR(INDEX(B197:B212, SMALL(IF(ISNUMBER(SEARCH(\"JV1\",F197:F212)), ROW(F197:F212)-MIN(ROW(F197:F212))+1, \"\"), ROW() -196 )), \"\")","v":"Oklahoma Christian University"},{"$f":"IFERROR(INDEX(C197:C212, SMALL(IF(ISNUMBER(SEARCH(\"JV1\",F197:F212)), ROW(F197:F212)-MIN(ROW(F197:F212))+1, \"\"), ROW() -196 )), \"\")","v":""},{"$f":"IFERROR(INDEX(D197:D212, SMALL(IF(ISNUMBER(SEARCH(\"JV1\",F197:F212)), ROW(F197:F212)-MIN(ROW(F197:F212))+1, \"\"), ROW() -196 )), \"\")","v":"11-176313"},{"$f":"IFERROR(INDEX(E197:E212, SMALL(IF(ISNUMBER(SEARCH(\"JV1\",F197:F212)), ROW(F197:F212)-MIN(ROW(F197:F212))+1, \"\"), ROW() -196 )), \"\")","v":"Kaylee McCleery"},{"$f":"IFERROR(INDEX(B197:B212, SMALL(IF(ISNUMBER(SEARCH(\"JV2\",F197:F212)), ROW(F197:F212)-MIN(ROW(F197:F212))+1, \"\"), ROW() -196 )), \"\")","v":""},{"$f":"IFERROR(INDEX(C197:C212, SMALL(IF(ISNUMBER(SEARCH(\"JV2\",F197:F212)), ROW(F197:F212)-MIN(ROW(F197:F212))+1, \"\"), ROW() -196 )), \"\")","v":""},{"$f":"IFERROR(INDEX(D197:D212, SMALL(IF(ISNUMBER(SEARCH(\"JV2\",F197:F212)), ROW(F197:F212)-MIN(ROW(F197:F212))+1, \"\"), ROW() -196 )), \"\")","v":""},{"$f":"IFERROR(INDEX(E197:E212, SMALL(IF(ISNUMBER(SEARCH(\"JV2\",F197:F212)), ROW(F197:F212)-MIN(ROW(F197:F212))+1, \"\"), ROW() -196 )), \"\")","v":""}]
[null,"Oklahoma Christian University",null,"11-398429","Jaymie Burrow","V",null,4467.0,null,false,{"$nulls":17},{"$f":"IFERROR(INDEX(B197:B212, SMALL(IF(\"V\"=F197:F212, ROW(F197:F212)-MIN(ROW(F197:F212))+1, \"\"), ROW() -196 )), \"\")","v":"Oklahoma Christian University"},{"$f":"IFERROR(INDEX(C197:C212, SMALL(IF(\"V\"=F197:F212, ROW(F197:F212)-MIN(ROW(F197:F212))+1, \"\"), ROW() -196 )), \"\")","v":""},{"$f":"IFERROR(INDEX(D197:D212, SMALL(IF(\"V\"=F197:F212, ROW(F197:F212)-MIN(ROW(F197:F212))+1, \"\"), ROW() -196 )), \"\")","v":"11-43023"},{"$f":"IFERROR(INDEX(E197:E212, SMALL(IF(\"V\"=F197:F212, ROW(F197:F212)-MIN(ROW(F197:F212))+1, \"\"), ROW() -196 )), \"\")","v":"Kaylee Back"},{"$f":"IFERROR(INDEX(B197:B212, SMALL(IF(ISNUMBER(SEARCH(\"JV1\",F197:F212)), ROW(F197:F212)-MIN(ROW(F197:F212))+1, \"\"), ROW() -196 )), \"\")","v":"Oklahoma Christian University"},{"$f":"IFERROR(INDEX(C197:C212, SMALL(IF(ISNUMBER(SEARCH(\"JV1\",F197:F212)), ROW(F197:F212)-MIN(ROW(F197:F212))+1, \"\"), ROW() -196 )), \"\")","v":""},{"$f":"IFERROR(INDEX(D197:D212, SMALL(IF(ISNUMBER(SEARCH(\"JV1\",F197:F212)), ROW(F197:F212)-MIN(ROW(F197:F212))+1, \"\"), ROW() -196 )), \"\")","v":"20-1541"},{"$f":"IFERROR(INDEX(E197:E212, SMALL(IF(ISNUMBER(SEARCH(\"JV1\",F197:F212)), ROW(F197:F212)-MIN(ROW(F197:F212))+1, \"\"), ROW() -196 )), \"\")","v":"Kirsten Morgan"},{"$f":"IFERROR(INDEX(B197:B212, SMALL(IF(ISNUMBER(SEARCH(\"JV2\",F197:F212)), ROW(F197:F212)-MIN(ROW(F197:F212))+1, \"\"), ROW() -196 )), \"\")","v":""},{"$f":"IFERROR(INDEX(C197:C212, SMALL(IF(ISNUMBER(SEARCH(\"JV2\",F197:F212)), ROW(F197:F212)-MIN(ROW(F197:F212))+1, \"\"), ROW() -196 )), \"\")","v":""},{"$f":"IFERROR(INDEX(D197:D212, SMALL(IF(ISNUMBER(SEARCH(\"JV2\",F197:F212)), ROW(F197:F212)-MIN(ROW(F197:F212))+1, \"\"), ROW() -196 )), \"\")","v":""},{"$f":"IFERROR(INDEX(E197:E212, SMALL(IF(ISNUMBER(SEARCH(\"JV2\",F197:F212)), ROW(F197:F212)-MIN(ROW(F197:F212))+1, \"\"), ROW() -196 )), \"\")","v":""}]
[null,"Oklahoma Christian University",null,"16-127272","Jennifer Jackson","JV1",null,4467.0,null,false,{"$nulls":17},{"$f":"IFERROR(INDEX(B197:B212, SMALL(IF(\"V\"=F197:F212, ROW(F197:F212)-MIN(ROW(F197:F212))+1, \"\"), ROW() -196 )), \"\")","v":"Oklahoma Christian University"},{"$f":"IFERROR(INDEX(C197:C212, SMALL(IF(\"V\"=F197:F212, ROW(F197:F212)-MIN(ROW(F197:F212))+1, \"\"), ROW() -196 )), \"\")","v":""},{"$f":"IFERROR(INDEX(D197:D212, SMALL(IF(\"V\"=F197:F212, ROW(F197:F212)-MIN(ROW(F197:F212))+1, \"\"), ROW() -196 )), \"\")","v":"15-103226"},{"$f":"IFERROR(INDEX(E197:E212, SMALL(IF(\"V\"=F197:F212, ROW(F197:F212)-MIN(ROW(F197:F212))+1, \"\"), ROW() -196 )), \"\")","v":"Morgan Pelkie"},{"$f":"IFERROR(INDEX(B197:B212, SMALL(IF(ISNUMBER(SEARCH(\"JV1\",F197:F212)), ROW(F197:F212)-MIN(ROW(F197:F212))+1, \"\"), ROW() -196 )), \"\")","v":"Oklahoma Christian University"},{"$f":"IFERROR(INDEX(C197:C212, SMALL(IF(ISNUMBER(SEARCH(\"JV1\",F197:F212)), ROW(F197:F212)-MIN(ROW(F197:F212))+1, \"\"), ROW() -196 )), \"\")","v":""},{"$f":"IFERROR(INDEX(D197:D212, SMALL(IF(ISNUMBER(SEARCH(\"JV1\",F197:F212)), ROW(F197:F212)-MIN(ROW(F197:F212))+1, \"\"), ROW() -196 )), \"\")","v":"11-381111"},{"$f":"IFERROR(INDEX(E197:E212, SMALL(IF(ISNUMBER(SEARCH(\"JV1\",F197:F212)), ROW(F197:F212)-MIN(ROW(F197:F212))+1, \"\"), ROW() -196 )), \"\")","v":"Liberty Pierce"},{"$f":"IFERROR(INDEX(B197:B212, SMALL(IF(ISNUMBER(SEARCH(\"JV2\",F197:F212)), ROW(F197:F212)-MIN(ROW(F197:F212))+1, \"\"), ROW() -196 )), \"\")","v":""},{"$f":"IFERROR(INDEX(C197:C212, SMALL(IF(ISNUMBER(SEARCH(\"JV2\",F197:F212)), ROW(F197:F212)-MIN(ROW(F197:F212))+1, \"\"), ROW() -196 )), \"\")","v":""},{"$f":"IFERROR(INDEX(D197:D212, SMALL(IF(ISNUMBER(SEARCH(\"JV2\",F197:F212)), ROW(F197:F212)-MIN(ROW(F197:F212))+1, \"\"), ROW() -196 )), \"\")","v":""},{"$f":"IFERROR(INDEX(E197:E212, SMALL(IF(ISNUMBER(SEARCH(\"JV2\",F197:F212)), ROW(F197:F212)-MIN(ROW(F197:F212))+1, \"\"), ROW() -196 )), \"\")","v":""}]
[null,"Oklahoma Christian University",null,"8644-4068","Jessie Flanagan"," ",null,4467.0,null,false,{"$nulls":17},{"$f":"IFERROR(INDEX(B197:B212, SMALL(IF(\"V\"=F197:F212, ROW(F197:F212)-MIN(ROW(F197:F212))+1, \"\"), ROW() -196 )), \"\")","v":"Oklahoma Christian University"},{"$f":"IFERROR(INDEX(C197:C212, SMALL(IF(\"V\"=F197:F212, ROW(F197:F212)-MIN(ROW(F197:F212))+1, \"\"), ROW() -196 )), \"\")","v":""},{"$f":"IFERROR(INDEX(D197:D212, SMALL(IF(\"V\"=F197:F212, ROW(F197:F212)-MIN(ROW(F197:F212))+1, \"\"), ROW() -196 )), \"\")","v":"11-46016"},{"$f":"IFERROR(INDEX(E197:E212, SMALL(IF(\"V\"=F197:F212, ROW(F197:F212)-MIN(ROW(F197:F212))+1, \"\"), ROW() -196 )), \"\")","v":"Shelby Davis"},{"$f":"IFERROR(INDEX(B197:B212, SMALL(IF(ISNUMBER(SEARCH(\"JV1\",F197:F212)), ROW(F197:F212)-MIN(ROW(F197:F212))+1, \"\"), ROW() -196 )), \"\")","v":"Oklahoma Christian University"},{"$f":"IFERROR(INDEX(C197:C212, SMALL(IF(ISNUMBER(SEARCH(\"JV1\",F197:F212)), ROW(F197:F212)-MIN(ROW(F197:F212))+1, \"\"), ROW() -196 )), \"\")","v":""},{"$f":"IFERROR(INDEX(D197:D212, SMALL(IF(ISNUMBER(SEARCH(\"JV1\",F197:F212)), ROW(F197:F212)-MIN(ROW(F197:F212))+1, \"\"), ROW() -196 )), \"\")","v":"18-78917"},{"$f":"IFERROR(INDEX(E197:E212, SMALL(IF(ISNUMBER(SEARCH(\"JV1\",F197:F212)), ROW(F197:F212)-MIN(ROW(F197:F212))+1, \"\"), ROW() -196 )), \"\")","v":"Maddie Reynolds"},{"$f":"IFERROR(INDEX(B197:B212, SMALL(IF(ISNUMBER(SEARCH(\"JV2\",F197:F212)), ROW(F197:F212)-MIN(ROW(F197:F212))+1, \"\"), ROW() -196 )), \"\")","v":""},{"$f":"IFERROR(INDEX(C197:C212, SMALL(IF(ISNUMBER(SEARCH(\"JV2\",F197:F212)), ROW(F197:F212)-MIN(ROW(F197:F212))+1, \"\"), ROW() -196 )), \"\")","v":""},{"$f":"IFERROR(INDEX(D197:D212, SMALL(IF(ISNUMBER(SEARCH(\"JV2\",F197:F212)), ROW(F197:F212)-MIN(ROW(F197:F212))+1, \"\"), ROW() -196 )), \"\")","v":""},{"$f":"IFERROR(INDEX(E197:E212, SMALL(IF(ISNUMBER(SEARCH(\"JV2\",F197:F212)), ROW(F197:F212)-MIN(ROW(F197:F212))+1, \"\"), ROW() -196 )), \"\")","v":""}]
[null,"Oklahoma Christian University",null,"11-28817","Jordan Corbett","V",null,4467.0,null,false,{"$nulls":17},{"$f":"IFERROR(INDEX(B197:B212, SMALL(IF(\"V\"=F197:F212, ROW(F197:F212)-MIN(ROW(F197:F212))+1, \"\"), ROW() -196 )), \"\")","v":"Oklahoma Christian University"},{"$f":"IFERROR(INDEX(C197:C212, SMALL(IF(\"V\"=F197:F212, ROW(F197:F212)-MIN(ROW(F197:F212))+1, \"\"), ROW() -196 )), \"\")","v":""},{"$f":"IFERROR(INDEX(D197:D212, SMALL(IF(\"V\"=F197:F212, ROW(F197:F212)-MIN(ROW(F197:F212))+1, \"\"), ROW() -196 )), \"\")","v":"11-317463"},{"$f":"IFERROR(INDEX(E197:E212, SMALL(IF(\"V\"=F197:F212, ROW(F197:F212)-MIN(ROW(F197:F212))+1, \"\"), ROW() -196 )), \"\")","v":"Tori Justice"},{"$f":"IFERROR(INDEX(B197:B212, SMALL(IF(ISNUMBER(SEARCH(\"JV1\",F197:F212)), ROW(F197:F212)-MIN(ROW(F197:F212))+1, \"\"), ROW() -196 )), \"\")","v":""},{"$f":"IFERROR(INDEX(C197:C212, SMALL(IF(ISNUMBER(SEARCH(\"JV1\",F197:F212)), ROW(F197:F212)-MIN(ROW(F197:F212))+1, \"\"), ROW() -196 )), \"\")","v":""},{"$f":"IFERROR(INDEX(D197:D212, SMALL(IF(ISNUMBER(SEARCH(\"JV1\",F197:F212)), ROW(F197:F212)-MIN(ROW(F197:F212))+1, \"\"), ROW() -196 )), \"\")","v":""},{"$f":"IFERROR(INDEX(E197:E212, SMALL(IF(ISNUMBER(SEARCH(\"JV1\",F197:F212)), ROW(F197:F212)-MIN(ROW(F197:F212))+1, \"\"), ROW() -196 )), \"\")","v":""},{"$f":"IFERROR(INDEX(B197:B212, SMALL(IF(ISNUMBER(SEARCH(\"JV2\",F197:F212)), ROW(F197:F212)-MIN(ROW(F197:F212))+1, \"\"), ROW() -196 )), \"\")","v":""},{"$f":"IFERROR(INDEX(C197:C212, SMALL(IF(ISNUMBER(SEARCH(\"JV2\",F197:F212)), ROW(F197:F212)-MIN(ROW(F197:F212))+1, \"\"), ROW() -196 )), \"\")","v":""},{"$f":"IFERROR(INDEX(D197:D212, SMALL(IF(ISNUMBER(SEARCH(\"JV2\",F197:F212)), ROW(F197:F212)-MIN(ROW(F197:F212))+1, \"\"), ROW() -196 )), \"\")","v":""},{"$f":"IFERROR(INDEX(E197:E212, SMALL(IF(ISNUMBER(SEARCH(\"JV2\",F197:F212)), ROW(F197:F212)-MIN(ROW(F197:F212))+1, \"\"), ROW() -196 )), \"\")","v":""}]
[null,"Oklahoma Christian University",null,"11-43023","Kaylee Back","V",null,4467.0,null,false,{"$nulls":17},{"$f":"IFERROR(INDEX(B197:B212, SMALL(IF(\"V\"=F197:F212, ROW(F197:F212)-MIN(ROW(F197:F212))+1, \"\"), ROW() -196 )), \"\")","v":""},{"$f":"IFERROR(INDEX(C197:C212, SMALL(IF(\"V\"=F197:F212, ROW(F197:F212)-MIN(ROW(F197:F212))+1, \"\"), ROW() -196 )), \"\")","v":""},{"$f":"IFERROR(INDEX(D197:D212, SMALL(IF(\"V\"=F197:F212, ROW(F197:F212)-MIN(ROW(F197:F212))+1, \"\"), ROW() -196 )), \"\")","v":""},{"$f":"IFERROR(INDEX(E197:E212, SMALL(IF(\"V\"=F197:F212, ROW(F197:F212)-MIN(ROW(F197:F212))+1, \"\"), ROW() -196 )), \"\")","v":""},{"$f":"IFERROR(INDEX(B197:B212, SMALL(IF(ISNUMBER(SEARCH(\"JV1\",F197:F212)), ROW(F197:F212)-MIN(ROW(F197:F212))+1, \"\"), ROW() -196 )), \"\")","v":""},{"$f":"IFERROR(INDEX(C197:C212, SMALL(IF(ISNUMBER(SEARCH(\"JV1\",F197:F212)), ROW(F197:F212)-MIN(ROW(F197:F212))+1, \"\"), ROW() -196 )), \"\")","v":""},{"$f":"IFERROR(INDEX(D197:D212, SMALL(IF(ISNUMBER(SEARCH(\"JV1\",F197:F212)), ROW(F197:F212)-MIN(ROW(F197:F212))+1, \"\"), ROW() -196 )), \"\")","v":""},{"$f":"IFERROR(INDEX(E197:E212, SMALL(IF(ISNUMBER(SEARCH(\"JV1\",F197:F212)), ROW(F197:F212)-MIN(ROW(F197:F212))+1, \"\"), ROW() -196 )), \"\")","v":""},{"$f":"IFERROR(INDEX(B197:B212, SMALL(IF(ISNUMBER(SEARCH(\"JV2\",F197:F212)), ROW(F197:F212)-MIN(ROW(F197:F212))+1, \"\"), ROW() -196 )), \"\")","v":""},{"$f":"IFERROR(INDEX(C197:C212, SMALL(IF(ISNUMBER(SEARCH(\"JV2\",F197:F212)), ROW(F197:F212)-MIN(ROW(F197:F212))+1, \"\"), ROW() -196 )), \"\")","v":""},{"$f":"IFERROR(INDEX(D197:D212, SMALL(IF(ISNUMBER(SEARCH(\"JV2\",F197:F212)), ROW(F197:F212)-MIN(ROW(F197:F212))+1, \"\"), ROW() -196 )), \"\")","v":""},{"$f":"IFERROR(INDEX(E197:E212, SMALL(IF(ISNUMBER(SEARCH(\"JV2\",F197:F212)), ROW(F197:F212)-MIN(ROW(F197:F212))+1, \"\"), ROW() -196 )), \"\")","v":""}]
[null,"Oklahoma Christian University",null,"11-176313","Kaylee McCleery","JV1",null,4467.0,null,false]
[null,"Oklahoma Christian University",null,"20-1541","Kirsten Morgan","JV1",null,4467.0,null,false]
[null,"Oklahoma Christian University",null,"11-381111","Liberty Pierce","JV1",null,4467.0,null,false]
[null,"Oklahoma Christian University",null,"18-78917","Maddie Reynolds","JV1",null,4467.0,null,false]
[null,"Oklahoma Christian University",null,"15-103226","Morgan Pelkie","V",null,4467.0,null,false]
[null,"Oklahoma Christian University",null,"7914-6835","Mya Gonzalez"," ",null,4467.0,null,false]
[null,"Oklahoma Christian University",null,"11-46016","Shelby Davis","V",null,4467.0,null,false]
[null,"Oklahoma Christian University",null,"11-317463","Tori Justice","V",null,4467.0,null,false]
[null,"Ottawa University (KS)",null,"8599-50647","Alaina Burris","V",null,4459.0,null,false,{"$nulls":17},{"$f":"IFERROR(INDEX(B213:B226, SMALL(IF(\"V\"=F213:F226, ROW(F213:F226)-MIN(ROW(F213:F226))+1, \"\"), ROW() -212 )), \"\")","v":"Ottawa University (KS)"},{"$f":"IFERROR(INDEX(C213:C226, SMALL(IF(\"V\"=F213:F226, ROW(F213:F226)-MIN(ROW(F213:F226))+1, \"\"), ROW() -212 )), \"\")","v":""},{"$f":"IFERROR(INDEX(D213:D226, SMALL(IF(\"V\"=F213:F226, ROW(F213:F226)-MIN(ROW(F213:F226))+1, \"\"), ROW() -212 )), \"\")","v":"8599-50647"},{"$f":"IFERROR(INDEX(E213:E226, SMALL(IF(\"V\"=F213:F226, ROW(F213:F226)-MIN(ROW(F213:F226))+1, \"\"), ROW() -212 )), \"\")","v":"Alaina Burris"},{"$f":"IFERROR(INDEX(B213:B226, SMALL(IF(ISNUMBER(SEARCH(\"JV1\",F213:F226)), ROW(F213:F226)-MIN(ROW(F213:F226))+1, \"\"), ROW() -212 )), \"\")","v":"Ottawa University (KS)"},{"$f":"IFERROR(INDEX(C213:C226, SMALL(IF(ISNUMBER(SEARCH(\"JV1\",F213:F226)), ROW(F213:F226)-MIN(ROW(F213:F226))+1, \"\"), ROW() -212 )), \"\")","v":""},{"$f":"IFERROR(INDEX(D213:D226, SMALL(IF(ISNUMBER(SEARCH(\"JV1\",F213:F226)), ROW(F213:F226)-MIN(ROW(F213:F226))+1, \"\"), ROW() -212 )), \"\")","v":"11-529617"},{"$f":"IFERROR(INDEX(E213:E226, SMALL(IF(ISNUMBER(SEARCH(\"JV1\",F213:F226)), ROW(F213:F226)-MIN(ROW(F213:F226))+1, \"\"), ROW() -212 )), \"\")","v":"Allie Williams"},{"$f":"IFERROR(INDEX(B213:B226, SMALL(IF(ISNUMBER(SEARCH(\"JV2\",F213:F226)), ROW(F213:F226)-MIN(ROW(F213:F226))+1, \"\"), ROW() -212 )), \"\")","v":""},{"$f":"IFERROR(INDEX(C213:C226, SMALL(IF(ISNUMBER(SEARCH(\"JV2\",F213:F226)), ROW(F213:F226)-MIN(ROW(F213:F226))+1, \"\"), ROW() -212 )), \"\")","v":""},{"$f":"IFERROR(INDEX(D213:D226, SMALL(IF(ISNUMBER(SEARCH(\"JV2\",F213:F226)), ROW(F213:F226)-MIN(ROW(F213:F226))+1, \"\"), ROW() -212 )), \"\")","v":""},{"$f":"IFERROR(INDEX(E213:E226, SMALL(IF(ISNUMBER(SEARCH(\"JV2\",F213:F226)), ROW(F213:F226)-MIN(ROW(F213:F226))+1, \"\"), ROW() -212 )), \"\")","v":""}]
[null,"Ottawa University (KS)",null,"11-529617","Allie Williams","JV1",null,4459.0,null,false,{"$nulls":17},{"$f":"IFERROR(INDEX(B213:B226, SMALL(IF(\"V\"=F213:F226, ROW(F213:F226)-MIN(ROW(F213:F226))+1, \"\"), ROW() -212 )), \"\")","v":"Ottawa University (KS)"},{"$f":"IFERROR(INDEX(C213:C226, SMALL(IF(\"V\"=F213:F226, ROW(F213:F226)-MIN(ROW(F213:F226))+1, \"\"), ROW() -212 )), \"\")","v":""},{"$f":"IFERROR(INDEX(D213:D226, SMALL(IF(\"V\"=F213:F226, ROW(F213:F226)-MIN(ROW(F213:F226))+1, \"\"), ROW() -212 )), \"\")","v":"6445-89"},{"$f":"IFERROR(INDEX(E213:E226, SMALL(IF(\"V\"=F213:F226, ROW(F213:F226)-MIN(ROW(F213:F226))+1, \"\"), ROW() -212 )), \"\")","v":"Danika Hickey"},{"$f":"IFERROR(INDEX(B213:B226, SMALL(IF(ISNUMBER(SEARCH(\"JV1\",F213:F226)), ROW(F213:F226)-MIN(ROW(F213:F226))+1, \"\"), ROW() -212 )), \"\")","v":"Ottawa University (KS)"},{"$f":"IFERROR(INDEX(C213:C226, SMALL(IF(ISNUMBER(SEARCH(\"JV1\",F213:F226)), ROW(F213:F226)-MIN(ROW(F213:F226))+1, \"\"), ROW() -212 )), \"\")","v":""},{"$f":"IFERROR(INDEX(D213:D226, SMALL(IF(ISNUMBER(SEARCH(\"JV1\",F213:F226)), ROW(F213:F226)-MIN(ROW(F213:F226))+1, \"\"), ROW() -212 )), \"\")","v":"11-691826"},{"$f":"IFERROR(INDEX(E213:E226, SMALL(IF(ISNUMBER(SEARCH(\"JV1\",F213:F226)), ROW(F213:F226)-MIN(ROW(F213:F226))+1, \"\"), ROW() -212 )), \"\")","v":"Ashlynn Senecal"},{"$f":"IFERROR(INDEX(B213:B226, SMALL(IF(ISNUMBER(SEARCH(\"JV2\",F213:F226)), ROW(F213:F226)-MIN(ROW(F213:F226))+1, \"\"), ROW() -212 )), \"\")","v":""},{"$f":"IFERROR(INDEX(C213:C226, SMALL(IF(ISNUMBER(SEARCH(\"JV2\",F213:F226)), ROW(F213:F226)-MIN(ROW(F213:F226))+1, \"\"), ROW() -212 )), \"\")","v":""},{"$f":"IFERROR(INDEX(D213:D226, SMALL(IF(ISNUMBER(SEARCH(\"JV2\",F213:F226)), ROW(F213:F226)-MIN(ROW(F213:F226))+1, \"\"), ROW() -212 )), \"\")","v":""},{"$f":"IFERROR(INDEX(E213:E226, SMALL(IF(ISNUMBER(SEARCH(\"JV2\",F213:F226)), ROW(F213:F226)-MIN(ROW(F213:F226))+1, \"\"), ROW() -212 )), \"\")","v":""}]
[null,"Ottawa University (KS)",null,"22-1612","Ashlyn Mohr"," ",null,4459.0,null,false,{"$nulls":17},{"$f":"IFERROR(INDEX(B213:B226, SMALL(IF(\"V\"=F213:F226, ROW(F213:F226)-MIN(ROW(F213:F226))+1, \"\"), ROW() -212 )), \"\")","v":"Ottawa University (KS)"},{"$f":"IFERROR(INDEX(C213:C226, SMALL(IF(\"V\"=F213:F226, ROW(F213:F226)-MIN(ROW(F213:F226))+1, \"\"), ROW() -212 )), \"\")","v":""},{"$f":"IFERROR(INDEX(D213:D226, SMALL(IF(\"V\"=F213:F226, ROW(F213:F226)-MIN(ROW(F213:F226))+1, \"\"), ROW() -212 )), \"\")","v":"11-241897"},{"$f":"IFERROR(INDEX(E213:E226, SMALL(IF(\"V\"=F213:F226, ROW(F213:F226)-MIN(ROW(F213:F226))+1, \"\"), ROW() -212 )), \"\")","v":"Gabriella Hernandez"},{"$f":"IFERROR(INDEX(B213:B226, SMALL(IF(ISNUMBER(SEARCH(\"JV1\",F213:F226)), ROW(F213:F226)-MIN(ROW(F213:F226))+1, \"\"), ROW() -212 )), \"\")","v":"Ottawa University (KS)"},{"$f":"IFERROR(INDEX(C213:C226, SMALL(IF(ISNUMBER(SEARCH(\"JV1\",F213:F226)), ROW(F213:F226)-MIN(ROW(F213:F226))+1, \"\"), ROW() -212 )), \"\")","v":""},{"$f":"IFERROR(INDEX(D213:D226, SMALL(IF(ISNUMBER(SEARCH(\"JV1\",F213:F226)), ROW(F213:F226)-MIN(ROW(F213:F226))+1, \"\"), ROW() -212 )), \"\")","v":"11-59170"},{"$f":"IFERROR(INDEX(E213:E226, SMALL(IF(ISNUMBER(SEARCH(\"JV1\",F213:F226)), ROW(F213:F226)-MIN(ROW(F213:F226))+1, \"\"), ROW() -212 )), \"\")","v":"Caitlyn Carlile"},{"$f":"IFERROR(INDEX(B213:B226, SMALL(IF(ISNUMBER(SEARCH(\"JV2\",F213:F226)), ROW(F213:F226)-MIN(ROW(F213:F226))+1, \"\"), ROW() -212 )), \"\")","v":""},{"$f":"IFERROR(INDEX(C213:C226, SMALL(IF(ISNUMBER(SEARCH(\"JV2\",F213:F226)), ROW(F213:F226)-MIN(ROW(F213:F226))+1, \"\"), ROW() -212 )), \"\")","v":""},{"$f":"IFERROR(INDEX(D213:D226, SMALL(IF(ISNUMBER(SEARCH(\"JV2\",F213:F226)), ROW(F213:F226)-MIN(ROW(F213:F226))+1, \"\"), ROW() -212 )), \"\")","v":""},{"$f":"IFERROR(INDEX(E213:E226, SMALL(IF(ISNUMBER(SEARCH(\"JV2\",F213:F226)), ROW(F213:F226)-MIN(ROW(F213:F226))+1, \"\"), ROW() -212 )), \"\")","v":""}]
[null,"Ottawa University (KS)",null,"11-691826","Ashlynn Senecal","JV1",null,4459.0,null,false,{"$nulls":17},{"$f":"IFERROR(INDEX(B213:B226, SMALL(IF(\"V\"=F213:F226, ROW(F213:F226)-MIN(ROW(F213:F226))+1, \"\"), ROW() -212 )), \"\")","v":"Ottawa University (KS)"},{"$f":"IFERROR(INDEX(C213:C226, SMALL(IF(\"V\"=F213:F226, ROW(F213:F226)-MIN(ROW(F213:F226))+1, \"\"), ROW() -212 )), \"\")","v":""},{"$f":"IFERROR(INDEX(D213:D226, SMALL(IF(\"V\"=F213:F226, ROW(F213:F226)-MIN(ROW(F213:F226))+1, \"\"), ROW() -212 )), \"\")","v":"11-188358"},{"$f":"IFERROR(INDEX(E213:E226, SMALL(IF(\"V\"=F213:F226, ROW(F213:F226)-MIN(ROW(F213:F226))+1, \"\"), ROW() -212 )), \"\")","v":"Holly Bridges"},{"$f":"IFERROR(INDEX(B213:B226, SMALL(IF(ISNUMBER(SEARCH(\"JV1\",F213:F226)), ROW(F213:F226)-MIN(ROW(F213:F226))+1, \"\"), ROW() -212 )), \"\")","v":"Ottawa University (KS)"},{"$f":"IFERROR(INDEX(C213:C226, SMALL(IF(ISNUMBER(SEARCH(\"JV1\",F213:F226)), ROW(F213:F226)-MIN(ROW(F213:F226))+1, \"\"), ROW() -212 )), \"\")","v":""},{"$f":"IFERROR(INDEX(D213:D226, SMALL(IF(ISNUMBER(SEARCH(\"JV1\",F213:F226)), ROW(F213:F226)-MIN(ROW(F213:F226))+1, \"\"), ROW() -212 )), \"\")","v":"15-181294"},{"$f":"IFERROR(INDEX(E213:E226, SMALL(IF(ISNUMBER(SEARCH(\"JV1\",F213:F226)), ROW(F213:F226)-MIN(ROW(F213:F226))+1, \"\"), ROW() -212 )), \"\")","v":"Kourtney Cole"},{"$f":"IFERROR(INDEX(B213:B226, SMALL(IF(ISNUMBER(SEARCH(\"JV2\",F213:F226)), ROW(F213:F226)-MIN(ROW(F213:F226))+1, \"\"), ROW() -212 )), \"\")","v":""},{"$f":"IFERROR(INDEX(C213:C226, SMALL(IF(ISNUMBER(SEARCH(\"JV2\",F213:F226)), ROW(F213:F226)-MIN(ROW(F213:F226))+1, \"\"), ROW() -212 )), \"\")","v":""},{"$f":"IFERROR(INDEX(D213:D226, SMALL(IF(ISNUMBER(SEARCH(\"JV2\",F213:F226)), ROW(F213:F226)-MIN(ROW(F213:F226))+1, \"\"), ROW() -212 )), \"\")","v":""},{"$f":"IFERROR(INDEX(E213:E226, SMALL(IF(ISNUMBER(SEARCH(\"JV2\",F213:F226)), ROW(F213:F226)-MIN(ROW(F213:F226))+1, \"\"), ROW() -212 )), \"\")","v":""}]
[null,"Ottawa University (KS)",null,"11-59170","Caitlyn Carlile","JV1",null,4459.0,null,false,{"$nulls":17},{"$f":"IFERROR(INDEX(B213:B226, SMALL(IF(\"V\"=F213:F226, ROW(F213:F226)-MIN(ROW(F213:F226))+1, \"\"), ROW() -212 )), \"\")","v":"Ottawa University (KS)"},{"$f":"IFERROR(INDEX(C213:C226, SMALL(IF(\"V\"=F213:F226, ROW(F213:F226)-MIN(ROW(F213:F226))+1, \"\"), ROW() -212 )), \"\")","v":""},{"$f":"IFERROR(INDEX(D213:D226, SMALL(IF(\"V\"=F213:F226, ROW(F213:F226)-MIN(ROW(F213:F226))+1, \"\"), ROW() -212 )), \"\")","v":"5900-26985"},{"$f":"IFERROR(INDEX(E213:E226, SMALL(IF(\"V\"=F213:F226, ROW(F213:F226)-MIN(ROW(F213:F226))+1, \"\"), ROW() -212 )), \"\")","v":"Jadyn Barr"},{"$f":"IFERROR(INDEX(B213:B226, SMALL(IF(ISNUMBER(SEARCH(\"JV1\",F213:F226)), ROW(F213:F226)-MIN(ROW(F213:F226))+1, \"\"), ROW() -212 )), \"\")","v":"Ottawa University (KS)"},{"$f":"IFERROR(INDEX(C213:C226, SMALL(IF(ISNUMBER(SEARCH(\"JV1\",F213:F226)), ROW(F213:F226)-MIN(ROW(F213:F226))+1, \"\"), ROW() -212 )), \"\")","v":""},{"$f":"IFERROR(INDEX(D213:D226, SMALL(IF(ISNUMBER(SEARCH(\"JV1\",F213:F226)), ROW(F213:F226)-MIN(ROW(F213:F226))+1, \"\"), ROW() -212 )), \"\")","v":"17-76001"},{"$f":"IFERROR(INDEX(E213:E226, SMALL(IF(ISNUMBER(SEARCH(\"JV1\",F213:F226)), ROW(F213:F226)-MIN(ROW(F213:F226))+1, \"\"), ROW() -212 )), \"\")","v":"Madolyn Honn"},{"$f":"IFERROR(INDEX(B213:B226, SMALL(IF(ISNUMBER(SEARCH(\"JV2\",F213:F226)), ROW(F213:F226)-MIN(ROW(F213:F226))+1, \"\"), ROW() -212 )), \"\")","v":""},{"$f":"IFERROR(INDEX(C213:C226, SMALL(IF(ISNUMBER(SEARCH(\"JV2\",F213:F226)), ROW(F213:F226)-MIN(ROW(F213:F226))+1, \"\"), ROW() -212 )), \"\")","v":""},{"$f":"IFERROR(INDEX(D213:D226, SMALL(IF(ISNUMBER(SEARCH(\"JV2\",F213:F226)), ROW(F213:F226)-MIN(ROW(F213:F226))+1, \"\"), ROW() -212 )), \"\")","v":""},{"$f":"IFERROR(INDEX(E213:E226, SMALL(IF(ISNUMBER(SEARCH(\"JV2\",F213:F226)), ROW(F213:F226)-MIN(ROW(F213:F226))+1, \"\"), ROW() -212 )), \"\")","v":""}]
[null,"Ottawa University (KS)",null,"6445-89","Danika Hickey","V",null,4459.0,null,false,{"$nulls":17},{"$f":"IFERROR(INDEX(B213:B226, SMALL(IF(\"V\"=F213:F226, ROW(F213:F226)-MIN(ROW(F213:F226))+1, \"\"), ROW() -212 )), \"\")","v":"Ottawa University (KS)"},{"$f":"IFERROR(INDEX(C213:C226, SMALL(IF(\"V\"=F213:F226, ROW(F213:F226)-MIN(ROW(F213:F226))+1, \"\"), ROW() -212 )), \"\")","v":""},{"$f":"IFERROR(INDEX(D213:D226, SMALL(IF(\"V\"=F213:F226, ROW(F213:F226)-MIN(ROW(F213:F226))+1, \"\"), ROW() -212 )), \"\")","v":"6739-5352"},{"$f":"IFERROR(INDEX(E213:E226, SMALL(IF(\"V\"=F213:F226, ROW(F213:F226)-MIN(ROW(F213:F226))+1, \"\"), ROW() -212 )), \"\")","v":"Kaitlyn George"},{"$f":"IFERROR(INDEX(B213:B226, SMALL(IF(ISNUMBER(SEARCH(\"JV1\",F213:F226)), ROW(F213:F226)-MIN(ROW(F213:F226))+1, \"\"), ROW() -212 )), \"\")","v":"Ottawa University (KS)"},{"$f":"IFERROR(INDEX(C213:C226, SMALL(IF(ISNUMBER(SEARCH(\"JV1\",F213:F226)), ROW(F213:F226)-MIN(ROW(F213:F226))+1, \"\"), ROW() -212 )), \"\")","v":""},{"$f":"IFERROR(INDEX(D213:D226, SMALL(IF(ISNUMBER(SEARCH(\"JV1\",F213:F226)), ROW(F213:F226)-MIN(ROW(F213:F226))+1, \"\"), ROW() -212 )), \"\")","v":"11-133260"},{"$f":"IFERROR(INDEX(E213:E226, SMALL(IF(ISNUMBER(SEARCH(\"JV1\",F213:F226)), ROW(F213:F226)-MIN(ROW(F213:F226))+1, \"\"), ROW() -212 )), \"\")","v":"Megan Emerson"},{"$f":"IFERROR(INDEX(B213:B226, SMALL(IF(ISNUMBER(SEARCH(\"JV2\",F213:F226)), ROW(F213:F226)-MIN(ROW(F213:F226))+1, \"\"), ROW() -212 )), \"\")","v":""},{"$f":"IFERROR(INDEX(C213:C226, SMALL(IF(ISNUMBER(SEARCH(\"JV2\",F213:F226)), ROW(F213:F226)-MIN(ROW(F213:F226))+1, \"\"), ROW() -212 )), \"\")","v":""},{"$f":"IFERROR(INDEX(D213:D226, SMALL(IF(ISNUMBER(SEARCH(\"JV2\",F213:F226)), ROW(F213:F226)-MIN(ROW(F213:F226))+1, \"\"), ROW() -212 )), \"\")","v":""},{"$f":"IFERROR(INDEX(E213:E226, SMALL(IF(ISNUMBER(SEARCH(\"JV2\",F213:F226)), ROW(F213:F226)-MIN(ROW(F213:F226))+1, \"\"), ROW() -212 )), \"\")","v":""}]
[null,"Ottawa University (KS)",null,"11-241897","Gabriella Hernandez","V",null,4459.0,null,false,{"$nulls":17},{"$f":"IFERROR(INDEX(B213:B226, SMALL(IF(\"V\"=F213:F226, ROW(F213:F226)-MIN(ROW(F213:F226))+1, \"\"), ROW() -212 )), \"\")","v":"Ottawa University (KS)"},{"$f":"IFERROR(INDEX(C213:C226, SMALL(IF(\"V\"=F213:F226, ROW(F213:F226)-MIN(ROW(F213:F226))+1, \"\"), ROW() -212 )), \"\")","v":""},{"$f":"IFERROR(INDEX(D213:D226, SMALL(IF(\"V\"=F213:F226, ROW(F213:F226)-MIN(ROW(F213:F226))+1, \"\"), ROW() -212 )), \"\")","v":"11-706801"},{"$f":"IFERROR(INDEX(E213:E226, SMALL(IF(\"V\"=F213:F226, ROW(F213:F226)-MIN(ROW(F213:F226))+1, \"\"), ROW() -212 )), \"\")","v":"Rebekah Loker"},{"$f":"IFERROR(INDEX(B213:B226, SMALL(IF(ISNUMBER(SEARCH(\"JV1\",F213:F226)), ROW(F213:F226)-MIN(ROW(F213:F226))+1, \"\"), ROW() -212 )), \"\")","v":""},{"$f":"IFERROR(INDEX(C213:C226, SMALL(IF(ISNUMBER(SEARCH(\"JV1\",F213:F226)), ROW(F213:F226)-MIN(ROW(F213:F226))+1, \"\"), ROW() -212 )), \"\")","v":""},{"$f":"IFERROR(INDEX(D213:D226, SMALL(IF(ISNUMBER(SEARCH(\"JV1\",F213:F226)), ROW(F213:F226)-MIN(ROW(F213:F226))+1, \"\"), ROW() -212 )), \"\")","v":""},{"$f":"IFERROR(INDEX(E213:E226, SMALL(IF(ISNUMBER(SEARCH(\"JV1\",F213:F226)), ROW(F213:F226)-MIN(ROW(F213:F226))+1, \"\"), ROW() -212 )), \"\")","v":""},{"$f":"IFERROR(INDEX(B213:B226, SMALL(IF(ISNUMBER(SEARCH(\"JV2\",F213:F226)), ROW(F213:F226)-MIN(ROW(F213:F226))+1, \"\"), ROW() -212 )), \"\")","v":""},{"$f":"IFERROR(INDEX(C213:C226, SMALL(IF(ISNUMBER(SEARCH(\"JV2\",F213:F226)), ROW(F213:F226)-MIN(ROW(F213:F226))+1, \"\"), ROW() -212 )), \"\")","v":""},{"$f":"IFERROR(INDEX(D213:D226, SMALL(IF(ISNUMBER(SEARCH(\"JV2\",F213:F226)), ROW(F213:F226)-MIN(ROW(F213:F226))+1, \"\"), ROW() -212 )), \"\")","v":""},{"$f":"IFERROR(INDEX(E213:E226, SMALL(IF(ISNUMBER(SEARCH(\"JV2\",F213:F226)), ROW(F213:F226)-MIN(ROW(F213:F226))+1, \"\"), ROW() -212 )), \"\")","v":""}]
[null,"Ottawa University (KS)",null,"11-188358","Holly Bridges","V",null,4459.0,null,false,{"$nulls":17},{"$f":"IFERROR(INDEX(B213:B226, SMALL(IF(\"V\"=F213:F226, ROW(F213:F226)-MIN(ROW(F213:F226))+1, \"\"), ROW() -212 )), \"\")","v":""},{"$f":"IFERROR(INDEX(C213:C226, SMALL(IF(\"V\"=F213:F226, ROW(F213:F226)-MIN(ROW(F213:F226))+1, \"\"), ROW() -212 )), \"\")","v":""},{"$f":"IFERROR(INDEX(D213:D226, SMALL(IF(\"V\"=F213:F226, ROW(F213:F226)-MIN(ROW(F213:F226))+1, \"\"), ROW() -212 )), \"\")","v":""},{"$f":"IFERROR(INDEX(E213:E226, SMALL(IF(\"V\"=F213:F226, ROW(F213:F226)-MIN(ROW(F213:F226))+1, \"\"), ROW() -212 )), \"\")","v":""},{"$f":"IFERROR(INDEX(B213:B226, SMALL(IF(ISNUMBER(SEARCH(\"JV1\",F213:F226)), ROW(F213:F226)-MIN(ROW(F213:F226))+1, \"\"), ROW() -212 )), \"\")","v":""},{"$f":"IFERROR(INDEX(C213:C226, SMALL(IF(ISNUMBER(SEARCH(\"JV1\",F213:F226)), ROW(F213:F226)-MIN(ROW(F213:F226))+1, \"\"), ROW() -212 )), \"\")","v":""},{"$f":"IFERROR(INDEX(D213:D226, SMALL(IF(ISNUMBER(SEARCH(\"JV1\",F213:F226)), ROW(F213:F226)-MIN(ROW(F213:F226))+1, \"\"), ROW() -212 )), \"\")","v":""},{"$f":"IFERROR(INDEX(E213:E226, SMALL(IF(ISNUMBER(SEARCH(\"JV1\",F213:F226)), ROW(F213:F226)-MIN(ROW(F213:F226))+1, \"\"), ROW() -212 )), \"\")","v":""},{"$f":"IFERROR(INDEX(B213:B226, SMALL(IF(ISNUMBER(SEARCH(\"JV2\",F213:F226)), ROW(F213:F226)-MIN(ROW(F213:F226))+1, \"\"), ROW() -212 )), \"\")","v":""},{"$f":"IFERROR(INDEX(C213:C226, SMALL(IF(ISNUMBER(SEARCH(\"JV2\",F213:F226)), ROW(F213:F226)-MIN(ROW(F213:F226))+1, \"\"), ROW() -212 )), \"\")","v":""},{"$f":"IFERROR(INDEX(D213:D226, SMALL(IF(ISNUMBER(SEARCH(\"JV2\",F213:F226)), ROW(F213:F226)-MIN(ROW(F213:F226))+1, \"\"), ROW() -212 )), \"\")","v":""},{"$f":"IFERROR(INDEX(E213:E226, SMALL(IF(ISNUMBER(SEARCH(\"JV2\",F213:F226)), ROW(F213:F226)-MIN(ROW(F213:F226))+1, \"\"), ROW() -212 )), \"\")","v":""}]
[null,"Ottawa University (KS)",null,"5900-26985","Jadyn Barr","V",null,4459.0,null,false]
[null,"Ottawa University (KS)",null,"6739-5352","Kaitlyn George","V",null,4459.0,null,false]
[null,"Ottawa University (KS)",null,"15-181294","Kourtney Cole","JV1",null,4459.0,null,false]
[null,"Ottawa University (KS)",null,"17-76001","Madolyn Honn","JV1",null,4459.0,null,false]
[null,"Ottawa University (KS)",null,"11-133260","Megan Emerson","JV1",null,4459.0,null,false]
[null,"Ottawa University (KS)",null,"11-706801","Rebekah Loker","V",null,4459.0,null,false]
[null,"Peru State College",null,"21-60669","Abigail May"," ",null,4491.0,null,false,{"$nulls":17},{"$f":"IFERROR(INDEX(B227:B241, SMALL(IF(\"V\"=F227:F241, ROW(F227:F241)-MIN(ROW(F227:F241))+1, \"\"), ROW() -226 )), \"\")","v":"Peru State College"},{"$f":"IFERROR(INDEX(C227:C241, SMALL(IF(\"V\"=F227:F241, ROW(F227:F241)-MIN(ROW(F227:F241))+1, \"\"), ROW() -226 )), \"\")","v":""},{"$f":"IFERROR(INDEX(D227:D241, SMALL(IF(\"V\"=F227:F241, ROW(F227:F241)-MIN(ROW(F227:F241))+1, \"\"), ROW() -226 )), \"\")","v":"11-378089"},{"$f":"IFERROR(INDEX(E227:E241, SMALL(IF(\"V\"=F227:F241, ROW(F227:F241)-MIN(ROW(F227:F241))+1, \"\"), ROW() -226 )), \"\")","v":"Aleia Crandall"},{"$f":"IFERROR(INDEX(B227:B241, SMALL(IF(ISNUMBER(SEARCH(\"JV1\",F227:F241)), ROW(F227:F241)-MIN(ROW(F227:F241))+1, \"\"), ROW() -226 )), \"\")","v":"Peru State College"},{"$f":"IFERROR(INDEX(C227:C241, SMALL(IF(ISNUMBER(SEARCH(\"JV1\",F227:F241)), ROW(F227:F241)-MIN(ROW(F227:F241))+1, \"\"), ROW() -226 )), \"\")","v":""},{"$f":"IFERROR(INDEX(D227:D241, SMALL(IF(ISNUMBER(SEARCH(\"JV1\",F227:F241)), ROW(F227:F241)-MIN(ROW(F227:F241))+1, \"\"), ROW() -226 )), \"\")","v":"15-184489"},{"$f":"IFERROR(INDEX(E227:E241, SMALL(IF(ISNUMBER(SEARCH(\"JV1\",F227:F241)), ROW(F227:F241)-MIN(ROW(F227:F241))+1, \"\"), ROW() -226 )), \"\")","v":"Adria Huiett"},{"$f":"IFERROR(INDEX(B227:B241, SMALL(IF(ISNUMBER(SEARCH(\"JV2\",F227:F241)), ROW(F227:F241)-MIN(ROW(F227:F241))+1, \"\"), ROW() -226 )), \"\")","v":""},{"$f":"IFERROR(INDEX(C227:C241, SMALL(IF(ISNUMBER(SEARCH(\"JV2\",F227:F241)), ROW(F227:F241)-MIN(ROW(F227:F241))+1, \"\"), ROW() -226 )), \"\")","v":""},{"$f":"IFERROR(INDEX(D227:D241, SMALL(IF(ISNUMBER(SEARCH(\"JV2\",F227:F241)), ROW(F227:F241)-MIN(ROW(F227:F241))+1, \"\"), ROW() -226 )), \"\")","v":""},{"$f":"IFERROR(INDEX(E227:E241, SMALL(IF(ISNUMBER(SEARCH(\"JV2\",F227:F241)), ROW(F227:F241)-MIN(ROW(F227:F241))+1, \"\"), ROW() -226 )), \"\")","v":""}]
[null,"Peru State College",null,"15-184489","Adria Huiett","JV1",null,4491.0,null,false,{"$nulls":17},{"$f":"IFERROR(INDEX(B227:B241, SMALL(IF(\"V\"=F227:F241, ROW(F227:F241)-MIN(ROW(F227:F241))+1, \"\"), ROW() -226 )), \"\")","v":"Peru State College"},{"$f":"IFERROR(INDEX(C227:C241, SMALL(IF(\"V\"=F227:F241, ROW(F227:F241)-MIN(ROW(F227:F241))+1, \"\"), ROW() -226 )), \"\")","v":""},{"$f":"IFERROR(INDEX(D227:D241, SMALL(IF(\"V\"=F227:F241, ROW(F227:F241)-MIN(ROW(F227:F241))+1, \"\"), ROW() -226 )), \"\")","v":"5900-25720"},{"$f":"IFERROR(INDEX(E227:E241, SMALL(IF(\"V\"=F227:F241, ROW(F227:F241)-MIN(ROW(F227:F241))+1, \"\"), ROW() -226 )), \"\")","v":"Casey Feast"},{"$f":"IFERROR(INDEX(B227:B241, SMALL(IF(ISNUMBER(SEARCH(\"JV1\",F227:F241)), ROW(F227:F241)-MIN(ROW(F227:F241))+1, \"\"), ROW() -226 )), \"\")","v":"Peru State College"},{"$f":"IFERROR(INDEX(C227:C241, SMALL(IF(ISNUMBER(SEARCH(\"JV1\",F227:F241)), ROW(F227:F241)-MIN(ROW(F227:F241))+1, \"\"), ROW() -226 )), \"\")","v":""},{"$f":"IFERROR(INDEX(D227:D241, SMALL(IF(ISNUMBER(SEARCH(\"JV1\",F227:F241)), ROW(F227:F241)-MIN(ROW(F227:F241))+1, \"\"), ROW() -226 )), \"\")","v":"20-57206"},{"$f":"IFERROR(INDEX(E227:E241, SMALL(IF(ISNUMBER(SEARCH(\"JV1\",F227:F241)), ROW(F227:F241)-MIN(ROW(F227:F241))+1, \"\"), ROW() -226 )), \"\")","v":"Caitlynn Gronenthal"},{"$f":"IFERROR(INDEX(B227:B241, SMALL(IF(ISNUMBER(SEARCH(\"JV2\",F227:F241)), ROW(F227:F241)-MIN(ROW(F227:F241))+1, \"\"), ROW() -226 )), \"\")","v":""},{"$f":"IFERROR(INDEX(C227:C241, SMALL(IF(ISNUMBER(SEARCH(\"JV2\",F227:F241)), ROW(F227:F241)-MIN(ROW(F227:F241))+1, \"\"), ROW() -226 )), \"\")","v":""},{"$f":"IFERROR(INDEX(D227:D241, SMALL(IF(ISNUMBER(SEARCH(\"JV2\",F227:F241)), ROW(F227:F241)-MIN(ROW(F227:F241))+1, \"\"), ROW() -226 )), \"\")","v":""},{"$f":"IFERROR(INDEX(E227:E241, SMALL(IF(ISNUMBER(SEARCH(\"JV2\",F227:F241)), ROW(F227:F241)-MIN(ROW(F227:F241))+1, \"\"), ROW() -226 )), \"\")","v":""}]
[null,"Peru State College",null,"11-378089","Aleia Crandall","V",null,4491.0,null,false,{"$nulls":17},{"$f":"IFERROR(INDEX(B227:B241, SMALL(IF(\"V\"=F227:F241, ROW(F227:F241)-MIN(ROW(F227:F241))+1, \"\"), ROW() -226 )), \"\")","v":"Peru State College"},{"$f":"IFERROR(INDEX(C227:C241, SMALL(IF(\"V\"=F227:F241, ROW(F227:F241)-MIN(ROW(F227:F241))+1, \"\"), ROW() -226 )), \"\")","v":""},{"$f":"IFERROR(INDEX(D227:D241, SMALL(IF(\"V\"=F227:F241, ROW(F227:F241)-MIN(ROW(F227:F241))+1, \"\"), ROW() -226 )), \"\")","v":"18-15133"},{"$f":"IFERROR(INDEX(E227:E241, SMALL(IF(\"V\"=F227:F241, ROW(F227:F241)-MIN(ROW(F227:F241))+1, \"\"), ROW() -226 )), \"\")","v":"Kaitlyn Doyal"},{"$f":"IFERROR(INDEX(B227:B241, SMALL(IF(ISNUMBER(SEARCH(\"JV1\",F227:F241)), ROW(F227:F241)-MIN(ROW(F227:F241))+1, \"\"), ROW() -226 )), \"\")","v":"Peru State College"},{"$f":"IFERROR(INDEX(C227:C241, SMALL(IF(ISNUMBER(SEARCH(\"JV1\",F227:F241)), ROW(F227:F241)-MIN(ROW(F227:F241))+1, \"\"), ROW() -226 )), \"\")","v":""},{"$f":"IFERROR(INDEX(D227:D241, SMALL(IF(ISNUMBER(SEARCH(\"JV1\",F227:F241)), ROW(F227:F241)-MIN(ROW(F227:F241))+1, \"\"), ROW() -226 )), \"\")","v":"20-36373"},{"$f":"IFERROR(INDEX(E227:E241, SMALL(IF(ISNUMBER(SEARCH(\"JV1\",F227:F241)), ROW(F227:F241)-MIN(ROW(F227:F241))+1, \"\"), ROW() -226 )), \"\")","v":"Emily Meyer"},{"$f":"IFERROR(INDEX(B227:B241, SMALL(IF(ISNUMBER(SEARCH(\"JV2\",F227:F241)), ROW(F227:F241)-MIN(ROW(F227:F241))+1, \"\"), ROW() -226 )), \"\")","v":""},{"$f":"IFERROR(INDEX(C227:C241, SMALL(IF(ISNUMBER(SEARCH(\"JV2\",F227:F241)), ROW(F227:F241)-MIN(ROW(F227:F241))+1, \"\"), ROW() -226 )), \"\")","v":""},{"$f":"IFERROR(INDEX(D227:D241, SMALL(IF(ISNUMBER(SEARCH(\"JV2\",F227:F241)), ROW(F227:F241)-MIN(ROW(F227:F241))+1, \"\"), ROW() -226 )), \"\")","v":""},{"$f":"IFERROR(INDEX(E227:E241, SMALL(IF(ISNUMBER(SEARCH(\"JV2\",F227:F241)), ROW(F227:F241)-MIN(ROW(F227:F241))+1, \"\"), ROW() -226 )), \"\")","v":""}]
[null,"Peru State College",null,"11-693260","Alexandria Holdsworth"," ",null,4491.0,null,false,{"$nulls":17},{"$f":"IFERROR(INDEX(B227:B241, SMALL(IF(\"V\"=F227:F241, ROW(F227:F241)-MIN(ROW(F227:F241))+1, \"\"), ROW() -226 )), \"\")","v":"Peru State College"},{"$f":"IFERROR(INDEX(C227:C241, SMALL(IF(\"V\"=F227:F241, ROW(F227:F241)-MIN(ROW(F227:F241))+1, \"\"), ROW() -226 )), \"\")","v":""},{"$f":"IFERROR(INDEX(D227:D241, SMALL(IF(\"V\"=F227:F241, ROW(F227:F241)-MIN(ROW(F227:F241))+1, \"\"), ROW() -226 )), \"\")","v":"11-383207"},{"$f":"IFERROR(INDEX(E227:E241, SMALL(IF(\"V\"=F227:F241, ROW(F227:F241)-MIN(ROW(F227:F241))+1, \"\"), ROW() -226 )), \"\")","v":"Kassidy Haberman"},{"$f":"IFERROR(INDEX(B227:B241, SMALL(IF(ISNUMBER(SEARCH(\"JV1\",F227:F241)), ROW(F227:F241)-MIN(ROW(F227:F241))+1, \"\"), ROW() -226 )), \"\")","v":"Peru State College"},{"$f":"IFERROR(INDEX(C227:C241, SMALL(IF(ISNUMBER(SEARCH(\"JV1\",F227:F241)), ROW(F227:F241)-MIN(ROW(F227:F241))+1, \"\"), ROW() -226 )), \"\")","v":""},{"$f":"IFERROR(INDEX(D227:D241, SMALL(IF(ISNUMBER(SEARCH(\"JV1\",F227:F241)), ROW(F227:F241)-MIN(ROW(F227:F241))+1, \"\"), ROW() -226 )), \"\")","v":"11-93281"},{"$f":"IFERROR(INDEX(E227:E241, SMALL(IF(ISNUMBER(SEARCH(\"JV1\",F227:F241)), ROW(F227:F241)-MIN(ROW(F227:F241))+1, \"\"), ROW() -226 )), \"\")","v":"Mindy Bartels"},{"$f":"IFERROR(INDEX(B227:B241, SMALL(IF(ISNUMBER(SEARCH(\"JV2\",F227:F241)), ROW(F227:F241)-MIN(ROW(F227:F241))+1, \"\"), ROW() -226 )), \"\")","v":""},{"$f":"IFERROR(INDEX(C227:C241, SMALL(IF(ISNUMBER(SEARCH(\"JV2\",F227:F241)), ROW(F227:F241)-MIN(ROW(F227:F241))+1, \"\"), ROW() -226 )), \"\")","v":""},{"$f":"IFERROR(INDEX(D227:D241, SMALL(IF(ISNUMBER(SEARCH(\"JV2\",F227:F241)), ROW(F227:F241)-MIN(ROW(F227:F241))+1, \"\"), ROW() -226 )), \"\")","v":""},{"$f":"IFERROR(INDEX(E227:E241, SMALL(IF(ISNUMBER(SEARCH(\"JV2\",F227:F241)), ROW(F227:F241)-MIN(ROW(F227:F241))+1, \"\"), ROW() -226 )), \"\")","v":""}]
[null,"Peru State College",null,"20-57206","Caitlynn Gronenthal","JV1",null,4491.0,null,false,{"$nulls":17},{"$f":"IFERROR(INDEX(B227:B241, SMALL(IF(\"V\"=F227:F241, ROW(F227:F241)-MIN(ROW(F227:F241))+1, \"\"), ROW() -226 )), \"\")","v":"Peru State College"},{"$f":"IFERROR(INDEX(C227:C241, SMALL(IF(\"V\"=F227:F241, ROW(F227:F241)-MIN(ROW(F227:F241))+1, \"\"), ROW() -226 )), \"\")","v":""},{"$f":"IFERROR(INDEX(D227:D241, SMALL(IF(\"V\"=F227:F241, ROW(F227:F241)-MIN(ROW(F227:F241))+1, \"\"), ROW() -226 )), \"\")","v":"5900-27999"},{"$f":"IFERROR(INDEX(E227:E241, SMALL(IF(\"V\"=F227:F241, ROW(F227:F241)-MIN(ROW(F227:F241))+1, \"\"), ROW() -226 )), \"\")","v":"McKinley Cross"},{"$f":"IFERROR(INDEX(B227:B241, SMALL(IF(ISNUMBER(SEARCH(\"JV1\",F227:F241)), ROW(F227:F241)-MIN(ROW(F227:F241))+1, \"\"), ROW() -226 )), \"\")","v":"Peru State College"},{"$f":"IFERROR(INDEX(C227:C241, SMALL(IF(ISNUMBER(SEARCH(\"JV1\",F227:F241)), ROW(F227:F241)-MIN(ROW(F227:F241))+1, \"\"), ROW() -226 )), \"\")","v":""},{"$f":"IFERROR(INDEX(D227:D241, SMALL(IF(ISNUMBER(SEARCH(\"JV1\",F227:F241)), ROW(F227:F241)-MIN(ROW(F227:F241))+1, \"\"), ROW() -226 )), \"\")","v":"18-6620"},{"$f":"IFERROR(INDEX(E227:E241, SMALL(IF(ISNUMBER(SEARCH(\"JV1\",F227:F241)), ROW(F227:F241)-MIN(ROW(F227:F241))+1, \"\"), ROW() -226 )), \"\")","v":"Raelynn Sugden"},{"$f":"IFERROR(INDEX(B227:B241, SMALL(IF(ISNUMBER(SEARCH(\"JV2\",F227:F241)), ROW(F227:F241)-MIN(ROW(F227:F241))+1, \"\"), ROW() -226 )), \"\")","v":""},{"$f":"IFERROR(INDEX(C227:C241, SMALL(IF(ISNUMBER(SEARCH(\"JV2\",F227:F241)), ROW(F227:F241)-MIN(ROW(F227:F241))+1, \"\"), ROW() -226 )), \"\")","v":""},{"$f":"IFERROR(INDEX(D227:D241, SMALL(IF(ISNUMBER(SEARCH(\"JV2\",F227:F241)), ROW(F227:F241)-MIN(ROW(F227:F241))+1, \"\"), ROW() -226 )), \"\")","v":""},{"$f":"IFERROR(INDEX(E227:E241, SMALL(IF(ISNUMBER(SEARCH(\"JV2\",F227:F241)), ROW(F227:F241)-MIN(ROW(F227:F241))+1, \"\"), ROW() -226 )), \"\")","v":""}]
[null,"Peru State College",null,"5900-25720","Casey Feast","V",null,4491.0,null,false,{"$nulls":17},{"$f":"IFERROR(INDEX(B227:B241, SMALL(IF(\"V\"=F227:F241, ROW(F227:F241)-MIN(ROW(F227:F241))+1, \"\"), ROW() -226 )), \"\")","v":""},{"$f":"IFERROR(INDEX(C227:C241, SMALL(IF(\"V\"=F227:F241, ROW(F227:F241)-MIN(ROW(F227:F241))+1, \"\"), ROW() -226 )), \"\")","v":""},{"$f":"IFERROR(INDEX(D227:D241, SMALL(IF(\"V\"=F227:F241, ROW(F227:F241)-MIN(ROW(F227:F241))+1, \"\"), ROW() -226 )), \"\")","v":""},{"$f":"IFERROR(INDEX(E227:E241, SMALL(IF(\"V\"=F227:F241, ROW(F227:F241)-MIN(ROW(F227:F241))+1, \"\"), ROW() -226 )), \"\")","v":""},{"$f":"IFERROR(INDEX(B227:B241, SMALL(IF(ISNUMBER(SEARCH(\"JV1\",F227:F241)), ROW(F227:F241)-MIN(ROW(F227:F241))+1, \"\"), ROW() -226 )), \"\")","v":"Peru State College"},{"$f":"IFERROR(INDEX(C227:C241, SMALL(IF(ISNUMBER(SEARCH(\"JV1\",F227:F241)), ROW(F227:F241)-MIN(ROW(F227:F241))+1, \"\"), ROW() -226 )), \"\")","v":""},{"$f":"IFERROR(INDEX(D227:D241, SMALL(IF(ISNUMBER(SEARCH(\"JV1\",F227:F241)), ROW(F227:F241)-MIN(ROW(F227:F241))+1, \"\"), ROW() -226 )), \"\")","v":"11-497037"},{"$f":"IFERROR(INDEX(E227:E241, SMALL(IF(ISNUMBER(SEARCH(\"JV1\",F227:F241)), ROW(F227:F241)-MIN(ROW(F227:F241))+1, \"\"), ROW() -226 )), \"\")","v":"Renee Gausman"},{"$f":"IFERROR(INDEX(B227:B241, SMALL(IF(ISNUMBER(SEARCH(\"JV2\",F227:F241)), ROW(F227:F241)-MIN(ROW(F227:F241))+1, \"\"), ROW() -226 )), \"\")","v":""},{"$f":"IFERROR(INDEX(C227:C241, SMALL(IF(ISNUMBER(SEARCH(\"JV2\",F227:F241)), ROW(F227:F241)-MIN(ROW(F227:F241))+1, \"\"), ROW() -226 )), \"\")","v":""},{"$f":"IFERROR(INDEX(D227:D241, SMALL(IF(ISNUMBER(SEARCH(\"JV2\",F227:F241)), ROW(F227:F241)-MIN(ROW(F227:F241))+1, \"\"), ROW() -226 )), \"\")","v":""},{"$f":"IFERROR(INDEX(E227:E241, SMALL(IF(ISNUMBER(SEARCH(\"JV2\",F227:F241)), ROW(F227:F241)-MIN(ROW(F227:F241))+1, \"\"), ROW() -226 )), \"\")","v":""}]
[null,"Peru State College",null,"20-36373","Emily Meyer","JV1",null,4491.0,null,false,{"$nulls":17},{"$f":"IFERROR(INDEX(B227:B241, SMALL(IF(\"V\"=F227:F241, ROW(F227:F241)-MIN(ROW(F227:F241))+1, \"\"), ROW() -226 )), \"\")","v":""},{"$f":"IFERROR(INDEX(C227:C241, SMALL(IF(\"V\"=F227:F241, ROW(F227:F241)-MIN(ROW(F227:F241))+1, \"\"), ROW() -226 )), \"\")","v":""},{"$f":"IFERROR(INDEX(D227:D241, SMALL(IF(\"V\"=F227:F241, ROW(F227:F241)-MIN(ROW(F227:F241))+1, \"\"), ROW() -226 )), \"\")","v":""},{"$f":"IFERROR(INDEX(E227:E241, SMALL(IF(\"V\"=F227:F241, ROW(F227:F241)-MIN(ROW(F227:F241))+1, \"\"), ROW() -226 )), \"\")","v":""},{"$f":"IFERROR(INDEX(B227:B241, SMALL(IF(ISNUMBER(SEARCH(\"JV1\",F227:F241)), ROW(F227:F241)-MIN(ROW(F227:F241))+1, \"\"), ROW() -226 )), \"\")","v":""},{"$f":"IFERROR(INDEX(C227:C241, SMALL(IF(ISNUMBER(SEARCH(\"JV1\",F227:F241)), ROW(F227:F241)-MIN(ROW(F227:F241))+1, \"\"), ROW() -226 )), \"\")","v":""},{"$f":"IFERROR(INDEX(D227:D241, SMALL(IF(ISNUMBER(SEARCH(\"JV1\",F227:F241)), ROW(F227:F241)-MIN(ROW(F227:F241))+1, \"\"), ROW() -226 )), \"\")","v":""},{"$f":"IFERROR(INDEX(E227:E241, SMALL(IF(ISNUMBER(SEARCH(\"JV1\",F227:F241)), ROW(F227:F241)-MIN(ROW(F227:F241))+1, \"\"), ROW() -226 )), \"\")","v":""},{"$f":"IFERROR(INDEX(B227:B241, SMALL(IF(ISNUMBER(SEARCH(\"JV2\",F227:F241)), ROW(F227:F241)-MIN(ROW(F227:F241))+1, \"\"), ROW() -226 )), \"\")","v":""},{"$f":"IFERROR(INDEX(C227:C241, SMALL(IF(ISNUMBER(SEARCH(\"JV2\",F227:F241)), ROW(F227:F241)-MIN(ROW(F227:F241))+1, \"\"), ROW() -226 )), \"\")","v":""},{"$f":"IFERROR(INDEX(D227:D241, SMALL(IF(ISNUMBER(SEARCH(\"JV2\",F227:F241)), ROW(F227:F241)-MIN(ROW(F227:F241))+1, \"\"), ROW() -226 )), \"\")","v":""},{"$f":"IFERROR(INDEX(E227:E241, SMALL(IF(ISNUMBER(SEARCH(\"JV2\",F227:F241)), ROW(F227:F241)-MIN(ROW(F227:F241))+1, \"\"), ROW() -226 )), \"\")","v":""}]
[null,"Peru State College",null,"18-15133","Kaitlyn Doyal","V",null,4491.0,null,false,{"$nulls":17},{"$f":"IFERROR(INDEX(B227:B241, SMALL(IF(\"V\"=F227:F241, ROW(F227:F241)-MIN(ROW(F227:F241))+1, \"\"), ROW() -226 )), \"\")","v":""},{"$f":"IFERROR(INDEX(C227:C241, SMALL(IF(\"V\"=F227:F241, ROW(F227:F241)-MIN(ROW(F227:F241))+1, \"\"), ROW() -226 )), \"\")","v":""},{"$f":"IFERROR(INDEX(D227:D241, SMALL(IF(\"V\"=F227:F241, ROW(F227:F241)-MIN(ROW(F227:F241))+1, \"\"), ROW() -226 )), \"\")","v":""},{"$f":"IFERROR(INDEX(E227:E241, SMALL(IF(\"V\"=F227:F241, ROW(F227:F241)-MIN(ROW(F227:F241))+1, \"\"), ROW() -226 )), \"\")","v":""},{"$f":"IFERROR(INDEX(B227:B241, SMALL(IF(ISNUMBER(SEARCH(\"JV1\",F227:F241)), ROW(F227:F241)-MIN(ROW(F227:F241))+1, \"\"), ROW() -226 )), \"\")","v":""},{"$f":"IFERROR(INDEX(C227:C241, SMALL(IF(ISNUMBER(SEARCH(\"JV1\",F227:F241)), ROW(F227:F241)-MIN(ROW(F227:F241))+1, \"\"), ROW() -226 )), \"\")","v":""},{"$f":"IFERROR(INDEX(D227:D241, SMALL(IF(ISNUMBER(SEARCH(\"JV1\",F227:F241)), ROW(F227:F241)-MIN(ROW(F227:F241))+1, \"\"), ROW() -226 )), \"\")","v":""},{"$f":"IFERROR(INDEX(E227:E241, SMALL(IF(ISNUMBER(SEARCH(\"JV1\",F227:F241)), ROW(F227:F241)-MIN(ROW(F227:F241))+1, \"\"), ROW() -226 )), \"\")","v":""},{"$f":"IFERROR(INDEX(B227:B241, SMALL(IF(ISNUMBER(SEARCH(\"JV2\",F227:F241)), ROW(F227:F241)-MIN(ROW(F227:F241))+1, \"\"), ROW() -226 )), \"\")","v":""},{"$f":"IFERROR(INDEX(C227:C241, SMALL(IF(ISNUMBER(SEARCH(\"JV2\",F227:F241)), ROW(F227:F241)-MIN(ROW(F227:F241))+1, \"\"), ROW() -226 )), \"\")","v":""},{"$f":"IFERROR(INDEX(D227:D241, SMALL(IF(ISNUMBER(SEARCH(\"JV2\",F227:F241)), ROW(F227:F241)-MIN(ROW(F227:F241))+1, \"\"), ROW() -226 )), \"\")","v":""},{"$f":"IFERROR(INDEX(E227:E241, SMALL(IF(ISNUMBER(SEARCH(\"JV2\",F227:F241)), ROW(F227:F241)-MIN(ROW(F227:F241))+1, \"\"), ROW() -226 )), \"\")","v":""}]
[null,"Peru State College",null,"11-383207","Kassidy Haberman","V",null,4491.0,null,false]
[null,"Peru State College",null,"18-59468","Kathryn Frazer"," ",null,4491.0,null,false]
[null,"Peru State College",null,"11-66625","Makenzie Millard"," ",null,4491.0,null,false]
[null,"Peru State College",null,"5900-27999","McKinley Cross","V",null,4491.0,null,false]
[null,"Peru State College",null,"11-93281","Mindy Bartels","JV1",null,4491.0,null,false]
[null,"Peru State College",null,"18-6620","Raelynn Sugden","JV1",null,4491.0,null,false]
[null,"Peru State College",null,"11-497037","Renee Gausman","JV1",null,4491.0,null,false]
[null,"St. Ambrose University",null,"11-262998","Amanda Bohn","V",null,3447.0,null,false,{"$nulls":17},{"$f":"IFERROR(INDEX(B242:B261, SMALL(IF(\"V\"=F242:F261, ROW(F242:F261)-MIN(ROW(F242:F261))+1, \"\"), ROW() -241 )), \"\")","v":"St. Ambrose University"},{"$f":"IFERROR(INDEX(C242:C261, SMALL(IF(\"V\"=F242:F261, ROW(F242:F261)-MIN(ROW(F242:F261))+1, \"\"), ROW() -241 )), \"\")","v":""},{"$f":"IFERROR(INDEX(D242:D261, SMALL(IF(\"V\"=F242:F261, ROW(F242:F261)-MIN(ROW(F242:F261))+1, \"\"), ROW() -241 )), \"\")","v":"11-262998"},{"$f":"IFERROR(INDEX(E242:E261, SMALL(IF(\"V\"=F242:F261, ROW(F242:F261)-MIN(ROW(F242:F261))+1, \"\"), ROW() -241 )), \"\")","v":"Amanda Bohn"},{"$f":"IFERROR(INDEX(B242:B261, SMALL(IF(ISNUMBER(SEARCH(\"JV1\",F242:F261)), ROW(F242:F261)-MIN(ROW(F242:F261))+1, \"\"), ROW() -241 )), \"\")","v":""},{"$f":"IFERROR(INDEX(C242:C261, SMALL(IF(ISNUMBER(SEARCH(\"JV1\",F242:F261)), ROW(F242:F261)-MIN(ROW(F242:F261))+1, \"\"), ROW() -241 )), \"\")","v":""},{"$f":"IFERROR(INDEX(D242:D261, SMALL(IF(ISNUMBER(SEARCH(\"JV1\",F242:F261)), ROW(F242:F261)-MIN(ROW(F242:F261))+1, \"\"), ROW() -241 )), \"\")","v":""},{"$f":"IFERROR(INDEX(E242:E261, SMALL(IF(ISNUMBER(SEARCH(\"JV1\",F242:F261)), ROW(F242:F261)-MIN(ROW(F242:F261))+1, \"\"), ROW() -241 )), \"\")","v":""},{"$f":"IFERROR(INDEX(B242:B261, SMALL(IF(ISNUMBER(SEARCH(\"JV2\",F242:F261)), ROW(F242:F261)-MIN(ROW(F242:F261))+1, \"\"), ROW() -241 )), \"\")","v":""},{"$f":"IFERROR(INDEX(C242:C261, SMALL(IF(ISNUMBER(SEARCH(\"JV2\",F242:F261)), ROW(F242:F261)-MIN(ROW(F242:F261))+1, \"\"), ROW() -241 )), \"\")","v":""},{"$f":"IFERROR(INDEX(D242:D261, SMALL(IF(ISNUMBER(SEARCH(\"JV2\",F242:F261)), ROW(F242:F261)-MIN(ROW(F242:F261))+1, \"\"), ROW() -241 )), \"\")","v":""},{"$f":"IFERROR(INDEX(E242:E261, SMALL(IF(ISNUMBER(SEARCH(\"JV2\",F242:F261)), ROW(F242:F261)-MIN(ROW(F242:F261))+1, \"\"), ROW() -241 )), \"\")","v":""}]
[null,"St. Ambrose University",null,"5712-1060","Bailey Tripilas","V",null,3447.0,null,false,{"$nulls":17},{"$f":"IFERROR(INDEX(B242:B261, SMALL(IF(\"V\"=F242:F261, ROW(F242:F261)-MIN(ROW(F242:F261))+1, \"\"), ROW() -241 )), \"\")","v":"St. Ambrose University"},{"$f":"IFERROR(INDEX(C242:C261, SMALL(IF(\"V\"=F242:F261, ROW(F242:F261)-MIN(ROW(F242:F261))+1, \"\"), ROW() -241 )), \"\")","v":""},{"$f":"IFERROR(INDEX(D242:D261, SMALL(IF(\"V\"=F242:F261, ROW(F242:F261)-MIN(ROW(F242:F261))+1, \"\"), ROW() -241 )), \"\")","v":"5712-1060"},{"$f":"IFERROR(INDEX(E242:E261, SMALL(IF(\"V\"=F242:F261, ROW(F242:F261)-MIN(ROW(F242:F261))+1, \"\"), ROW() -241 )), \"\")","v":"Bailey Tripilas"},{"$f":"IFERROR(INDEX(B242:B261, SMALL(IF(ISNUMBER(SEARCH(\"JV1\",F242:F261)), ROW(F242:F261)-MIN(ROW(F242:F261))+1, \"\"), ROW() -241 )), \"\")","v":""},{"$f":"IFERROR(INDEX(C242:C261, SMALL(IF(ISNUMBER(SEARCH(\"JV1\",F242:F261)), ROW(F242:F261)-MIN(ROW(F242:F261))+1, \"\"), ROW() -241 )), \"\")","v":""},{"$f":"IFERROR(INDEX(D242:D261, SMALL(IF(ISNUMBER(SEARCH(\"JV1\",F242:F261)), ROW(F242:F261)-MIN(ROW(F242:F261))+1, \"\"), ROW() -241 )), \"\")","v":""},{"$f":"IFERROR(INDEX(E242:E261, SMALL(IF(ISNUMBER(SEARCH(\"JV1\",F242:F261)), ROW(F242:F261)-MIN(ROW(F242:F261))+1, \"\"), ROW() -241 )), \"\")","v":""},{"$f":"IFERROR(INDEX(B242:B261, SMALL(IF(ISNUMBER(SEARCH(\"JV2\",F242:F261)), ROW(F242:F261)-MIN(ROW(F242:F261))+1, \"\"), ROW() -241 )), \"\")","v":""},{"$f":"IFERROR(INDEX(C242:C261, SMALL(IF(ISNUMBER(SEARCH(\"JV2\",F242:F261)), ROW(F242:F261)-MIN(ROW(F242:F261))+1, \"\"), ROW() -241 )), \"\")","v":""},{"$f":"IFERROR(INDEX(D242:D261, SMALL(IF(ISNUMBER(SEARCH(\"JV2\",F242:F261)), ROW(F242:F261)-MIN(ROW(F242:F261))+1, \"\"), ROW() -241 )), \"\")","v":""},{"$f":"IFERROR(INDEX(E242:E261, SMALL(IF(ISNUMBER(SEARCH(\"JV2\",F242:F261)), ROW(F242:F261)-MIN(ROW(F242:F261))+1, \"\"), ROW() -241 )), \"\")","v":""}]
[null,"St. Ambrose University",null,"11-60946","Emily Barth"," ",null,3447.0,null,false,{"$nulls":17},{"$f":"IFERROR(INDEX(B242:B261, SMALL(IF(\"V\"=F242:F261, ROW(F242:F261)-MIN(ROW(F242:F261))+1, \"\"), ROW() -241 )), \"\")","v":"St. Ambrose University"},{"$f":"IFERROR(INDEX(C242:C261, SMALL(IF(\"V\"=F242:F261, ROW(F242:F261)-MIN(ROW(F242:F261))+1, \"\"), ROW() -241 )), \"\")","v":""},{"$f":"IFERROR(INDEX(D242:D261, SMALL(IF(\"V\"=F242:F261, ROW(F242:F261)-MIN(ROW(F242:F261))+1, \"\"), ROW() -241 )), \"\")","v":"11-55640"},{"$f":"IFERROR(INDEX(E242:E261, SMALL(IF(\"V\"=F242:F261, ROW(F242:F261)-MIN(ROW(F242:F261))+1, \"\"), ROW() -241 )), \"\")","v":"Erin Williams"},{"$f":"IFERROR(INDEX(B242:B261, SMALL(IF(ISNUMBER(SEARCH(\"JV1\",F242:F261)), ROW(F242:F261)-MIN(ROW(F242:F261))+1, \"\"), ROW() -241 )), \"\")","v":""},{"$f":"IFERROR(INDEX(C242:C261, SMALL(IF(ISNUMBER(SEARCH(\"JV1\",F242:F261)), ROW(F242:F261)-MIN(ROW(F242:F261))+1, \"\"), ROW() -241 )), \"\")","v":""},{"$f":"IFERROR(INDEX(D242:D261, SMALL(IF(ISNUMBER(SEARCH(\"JV1\",F242:F261)), ROW(F242:F261)-MIN(ROW(F242:F261))+1, \"\"), ROW() -241 )), \"\")","v":""},{"$f":"IFERROR(INDEX(E242:E261, SMALL(IF(ISNUMBER(SEARCH(\"JV1\",F242:F261)), ROW(F242:F261)-MIN(ROW(F242:F261))+1, \"\"), ROW() -241 )), \"\")","v":""},{"$f":"IFERROR(INDEX(B242:B261, SMALL(IF(ISNUMBER(SEARCH(\"JV2\",F242:F261)), ROW(F242:F261)-MIN(ROW(F242:F261))+1, \"\"), ROW() -241 )), \"\")","v":""},{"$f":"IFERROR(INDEX(C242:C261, SMALL(IF(ISNUMBER(SEARCH(\"JV2\",F242:F261)), ROW(F242:F261)-MIN(ROW(F242:F261))+1, \"\"), ROW() -241 )), \"\")","v":""},{"$f":"IFERROR(INDEX(D242:D261, SMALL(IF(ISNUMBER(SEARCH(\"JV2\",F242:F261)), ROW(F242:F261)-MIN(ROW(F242:F261))+1, \"\"), ROW() -241 )), \"\")","v":""},{"$f":"IFERROR(INDEX(E242:E261, SMALL(IF(ISNUMBER(SEARCH(\"JV2\",F242:F261)), ROW(F242:F261)-MIN(ROW(F242:F261))+1, \"\"), ROW() -241 )), \"\")","v":""}]
[null,"St. Ambrose University",null,"11-55640","Erin Williams","V",null,3447.0,null,false,{"$nulls":17},{"$f":"IFERROR(INDEX(B242:B261, SMALL(IF(\"V\"=F242:F261, ROW(F242:F261)-MIN(ROW(F242:F261))+1, \"\"), ROW() -241 )), \"\")","v":"St. Ambrose University"},{"$f":"IFERROR(INDEX(C242:C261, SMALL(IF(\"V\"=F242:F261, ROW(F242:F261)-MIN(ROW(F242:F261))+1, \"\"), ROW() -241 )), \"\")","v":""},{"$f":"IFERROR(INDEX(D242:D261, SMALL(IF(\"V\"=F242:F261, ROW(F242:F261)-MIN(ROW(F242:F261))+1, \"\"), ROW() -241 )), \"\")","v":"11-421693"},{"$f":"IFERROR(INDEX(E242:E261, SMALL(IF(\"V\"=F242:F261, ROW(F242:F261)-MIN(ROW(F242:F261))+1, \"\"), ROW() -241 )), \"\")","v":"Kayla Devine"},{"$f":"IFERROR(INDEX(B242:B261, SMALL(IF(ISNUMBER(SEARCH(\"JV1\",F242:F261)), ROW(F242:F261)-MIN(ROW(F242:F261))+1, \"\"), ROW() -241 )), \"\")","v":""},{"$f":"IFERROR(INDEX(C242:C261, SMALL(IF(ISNUMBER(SEARCH(\"JV1\",F242:F261)), ROW(F242:F261)-MIN(ROW(F242:F261))+1, \"\"), ROW() -241 )), \"\")","v":""},{"$f":"IFERROR(INDEX(D242:D261, SMALL(IF(ISNUMBER(SEARCH(\"JV1\",F242:F261)), ROW(F242:F261)-MIN(ROW(F242:F261))+1, \"\"), ROW() -241 )), \"\")","v":""},{"$f":"IFERROR(INDEX(E242:E261, SMALL(IF(ISNUMBER(SEARCH(\"JV1\",F242:F261)), ROW(F242:F261)-MIN(ROW(F242:F261))+1, \"\"), ROW() -241 )), \"\")","v":""},{"$f":"IFERROR(INDEX(B242:B261, SMALL(IF(ISNUMBER(SEARCH(\"JV2\",F242:F261)), ROW(F242:F261)-MIN(ROW(F242:F261))+1, \"\"), ROW() -241 )), \"\")","v":""},{"$f":"IFERROR(INDEX(C242:C261, SMALL(IF(ISNUMBER(SEARCH(\"JV2\",F242:F261)), ROW(F242:F261)-MIN(ROW(F242:F261))+1, \"\"), ROW() -241 )), \"\")","v":""},{"$f":"IFERROR(INDEX(D242:D261, SMALL(IF(ISNUMBER(SEARCH(\"JV2\",F242:F261)), ROW(F242:F261)-MIN(ROW(F242:F261))+1, \"\"), ROW() -241 )), \"\")","v":""},{"$f":"IFERROR(INDEX(E242:E261, SMALL(IF(ISNUMBER(SEARCH(\"JV2\",F242:F261)), ROW(F242:F261)-MIN(ROW(F242:F261))+1, \"\"), ROW() -241 )), \"\")","v":""}]
[null,"St. Ambrose University",null,"11-338196","Hailee Hospodar"," ",null,3447.0,null,false,{"$nulls":17},{"$f":"IFERROR(INDEX(B242:B261, SMALL(IF(\"V\"=F242:F261, ROW(F242:F261)-MIN(ROW(F242:F261))+1, \"\"), ROW() -241 )), \"\")","v":"St. Ambrose University"},{"$f":"IFERROR(INDEX(C242:C261, SMALL(IF(\"V\"=F242:F261, ROW(F242:F261)-MIN(ROW(F242:F261))+1, \"\"), ROW() -241 )), \"\")","v":""},{"$f":"IFERROR(INDEX(D242:D261, SMALL(IF(\"V\"=F242:F261, ROW(F242:F261)-MIN(ROW(F242:F261))+1, \"\"), ROW() -241 )), \"\")","v":"11-265628"},{"$f":"IFERROR(INDEX(E242:E261, SMALL(IF(\"V\"=F242:F261, ROW(F242:F261)-MIN(ROW(F242:F261))+1, \"\"), ROW() -241 )), \"\")","v":"Marissa Bills"},{"$f":"IFERROR(INDEX(B242:B261, SMALL(IF(ISNUMBER(SEARCH(\"JV1\",F242:F261)), ROW(F242:F261)-MIN(ROW(F242:F261))+1, \"\"), ROW() -241 )), \"\")","v":""},{"$f":"IFERROR(INDEX(C242:C261, SMALL(IF(ISNUMBER(SEARCH(\"JV1\",F242:F261)), ROW(F242:F261)-MIN(ROW(F242:F261))+1, \"\"), ROW() -241 )), \"\")","v":""},{"$f":"IFERROR(INDEX(D242:D261, SMALL(IF(ISNUMBER(SEARCH(\"JV1\",F242:F261)), ROW(F242:F261)-MIN(ROW(F242:F261))+1, \"\"), ROW() -241 )), \"\")","v":""},{"$f":"IFERROR(INDEX(E242:E261, SMALL(IF(ISNUMBER(SEARCH(\"JV1\",F242:F261)), ROW(F242:F261)-MIN(ROW(F242:F261))+1, \"\"), ROW() -241 )), \"\")","v":""},{"$f":"IFERROR(INDEX(B242:B261, SMALL(IF(ISNUMBER(SEARCH(\"JV2\",F242:F261)), ROW(F242:F261)-MIN(ROW(F242:F261))+1, \"\"), ROW() -241 )), \"\")","v":""},{"$f":"IFERROR(INDEX(C242:C261, SMALL(IF(ISNUMBER(SEARCH(\"JV2\",F242:F261)), ROW(F242:F261)-MIN(ROW(F242:F261))+1, \"\"), ROW() -241 )), \"\")","v":""},{"$f":"IFERROR(INDEX(D242:D261, SMALL(IF(ISNUMBER(SEARCH(\"JV2\",F242:F261)), ROW(F242:F261)-MIN(ROW(F242:F261))+1, \"\"), ROW() -241 )), \"\")","v":""},{"$f":"IFERROR(INDEX(E242:E261, SMALL(IF(ISNUMBER(SEARCH(\"JV2\",F242:F261)), ROW(F242:F261)-MIN(ROW(F242:F261))+1, \"\"), ROW() -241 )), \"\")","v":""}]
[null,"St. Ambrose University",null,"5712-1037","Heather Motley"," ",null,3447.0,null,false,{"$nulls":17},{"$f":"IFERROR(INDEX(B242:B261, SMALL(IF(\"V\"=F242:F261, ROW(F242:F261)-MIN(ROW(F242:F261))+1, \"\"), ROW() -241 )), \"\")","v":"St. Ambrose University"},{"$f":"IFERROR(INDEX(C242:C261, SMALL(IF(\"V\"=F242:F261, ROW(F242:F261)-MIN(ROW(F242:F261))+1, \"\"), ROW() -241 )), \"\")","v":""},{"$f":"IFERROR(INDEX(D242:D261, SMALL(IF(\"V\"=F242:F261, ROW(F242:F261)-MIN(ROW(F242:F261))+1, \"\"), ROW() -241 )), \"\")","v":"6011-215"},{"$f":"IFERROR(INDEX(E242:E261, SMALL(IF(\"V\"=F242:F261, ROW(F242:F261)-MIN(ROW(F242:F261))+1, \"\"), ROW() -241 )), \"\")","v":"Noelle Phillips"},{"$f":"IFERROR(INDEX(B242:B261, SMALL(IF(ISNUMBER(SEARCH(\"JV1\",F242:F261)), ROW(F242:F261)-MIN(ROW(F242:F261))+1, \"\"), ROW() -241 )), \"\")","v":""},{"$f":"IFERROR(INDEX(C242:C261, SMALL(IF(ISNUMBER(SEARCH(\"JV1\",F242:F261)), ROW(F242:F261)-MIN(ROW(F242:F261))+1, \"\"), ROW() -241 )), \"\")","v":""},{"$f":"IFERROR(INDEX(D242:D261, SMALL(IF(ISNUMBER(SEARCH(\"JV1\",F242:F261)), ROW(F242:F261)-MIN(ROW(F242:F261))+1, \"\"), ROW() -241 )), \"\")","v":""},{"$f":"IFERROR(INDEX(E242:E261, SMALL(IF(ISNUMBER(SEARCH(\"JV1\",F242:F261)), ROW(F242:F261)-MIN(ROW(F242:F261))+1, \"\"), ROW() -241 )), \"\")","v":""},{"$f":"IFERROR(INDEX(B242:B261, SMALL(IF(ISNUMBER(SEARCH(\"JV2\",F242:F261)), ROW(F242:F261)-MIN(ROW(F242:F261))+1, \"\"), ROW() -241 )), \"\")","v":""},{"$f":"IFERROR(INDEX(C242:C261, SMALL(IF(ISNUMBER(SEARCH(\"JV2\",F242:F261)), ROW(F242:F261)-MIN(ROW(F242:F261))+1, \"\"), ROW() -241 )), \"\")","v":""},{"$f":"IFERROR(INDEX(D242:D261, SMALL(IF(ISNUMBER(SEARCH(\"JV2\",F242:F261)), ROW(F242:F261)-MIN(ROW(F242:F261))+1, \"\"), ROW() -241 )), \"\")","v":""},{"$f":"IFERROR(INDEX(E242:E261, SMALL(IF(ISNUMBER(SEARCH(\"JV2\",F242:F261)), ROW(F242:F261)-MIN(ROW(F242:F261))+1, \"\"), ROW() -241 )), \"\")","v":""}]
[null,"St. Ambrose University",null,"11-228693","Jacqueline Juett"," ",null,3447.0,null,false,{"$nulls":17},{"$f":"IFERROR(INDEX(B242:B261, SMALL(IF(\"V\"=F242:F261, ROW(F242:F261)-MIN(ROW(F242:F261))+1, \"\"), ROW() -241 )), \"\")","v":"St. Ambrose University"},{"$f":"IFERROR(INDEX(C242:C261, SMALL(IF(\"V\"=F242:F261, ROW(F242:F261)-MIN(ROW(F242:F261))+1, \"\"), ROW() -241 )), \"\")","v":""},{"$f":"IFERROR(INDEX(D242:D261, SMALL(IF(\"V\"=F242:F261, ROW(F242:F261)-MIN(ROW(F242:F261))+1, \"\"), ROW() -241 )), \"\")","v":"17-5653"},{"$f":"IFERROR(INDEX(E242:E261, SMALL(IF(\"V\"=F242:F261, ROW(F242:F261)-MIN(ROW(F242:F261))+1, \"\"), ROW() -241 )), \"\")","v":"Patricia Alvarado"},{"$f":"IFERROR(INDEX(B242:B261, SMALL(IF(ISNUMBER(SEARCH(\"JV1\",F242:F261)), ROW(F242:F261)-MIN(ROW(F242:F261))+1, \"\"), ROW() -241 )), \"\")","v":""},{"$f":"IFERROR(INDEX(C242:C261, SMALL(IF(ISNUMBER(SEARCH(\"JV1\",F242:F261)), ROW(F242:F261)-MIN(ROW(F242:F261))+1, \"\"), ROW() -241 )), \"\")","v":""},{"$f":"IFERROR(INDEX(D242:D261, SMALL(IF(ISNUMBER(SEARCH(\"JV1\",F242:F261)), ROW(F242:F261)-MIN(ROW(F242:F261))+1, \"\"), ROW() -241 )), \"\")","v":""},{"$f":"IFERROR(INDEX(E242:E261, SMALL(IF(ISNUMBER(SEARCH(\"JV1\",F242:F261)), ROW(F242:F261)-MIN(ROW(F242:F261))+1, \"\"), ROW() -241 )), \"\")","v":""},{"$f":"IFERROR(INDEX(B242:B261, SMALL(IF(ISNUMBER(SEARCH(\"JV2\",F242:F261)), ROW(F242:F261)-MIN(ROW(F242:F261))+1, \"\"), ROW() -241 )), \"\")","v":""},{"$f":"IFERROR(INDEX(C242:C261, SMALL(IF(ISNUMBER(SEARCH(\"JV2\",F242:F261)), ROW(F242:F261)-MIN(ROW(F242:F261))+1, \"\"), ROW() -241 )), \"\")","v":""},{"$f":"IFERROR(INDEX(D242:D261, SMALL(IF(ISNUMBER(SEARCH(\"JV2\",F242:F261)), ROW(F242:F261)-MIN(ROW(F242:F261))+1, \"\"), ROW() -241 )), \"\")","v":""},{"$f":"IFERROR(INDEX(E242:E261, SMALL(IF(ISNUMBER(SEARCH(\"JV2\",F242:F261)), ROW(F242:F261)-MIN(ROW(F242:F261))+1, \"\"), ROW() -241 )), \"\")","v":""}]
[null,"St. Ambrose University",null,"11-421693","Kayla Devine","V",null,3447.0,null,false,{"$nulls":17},{"$f":"IFERROR(INDEX(B242:B261, SMALL(IF(\"V\"=F242:F261, ROW(F242:F261)-MIN(ROW(F242:F261))+1, \"\"), ROW() -241 )), \"\")","v":"St. Ambrose University"},{"$f":"IFERROR(INDEX(C242:C261, SMALL(IF(\"V\"=F242:F261, ROW(F242:F261)-MIN(ROW(F242:F261))+1, \"\"), ROW() -241 )), \"\")","v":""},{"$f":"IFERROR(INDEX(D242:D261, SMALL(IF(\"V\"=F242:F261, ROW(F242:F261)-MIN(ROW(F242:F261))+1, \"\"), ROW() -241 )), \"\")","v":"8611-9243"},{"$f":"IFERROR(INDEX(E242:E261, SMALL(IF(\"V\"=F242:F261, ROW(F242:F261)-MIN(ROW(F242:F261))+1, \"\"), ROW() -241 )), \"\")","v":"Samantha (Sammy) Upham"},{"$f":"IFERROR(INDEX(B242:B261, SMALL(IF(ISNUMBER(SEARCH(\"JV1\",F242:F261)), ROW(F242:F261)-MIN(ROW(F242:F261))+1, \"\"), ROW() -241 )), \"\")","v":""},{"$f":"IFERROR(INDEX(C242:C261, SMALL(IF(ISNUMBER(SEARCH(\"JV1\",F242:F261)), ROW(F242:F261)-MIN(ROW(F242:F261))+1, \"\"), ROW() -241 )), \"\")","v":""},{"$f":"IFERROR(INDEX(D242:D261, SMALL(IF(ISNUMBER(SEARCH(\"JV1\",F242:F261)), ROW(F242:F261)-MIN(ROW(F242:F261))+1, \"\"), ROW() -241 )), \"\")","v":""},{"$f":"IFERROR(INDEX(E242:E261, SMALL(IF(ISNUMBER(SEARCH(\"JV1\",F242:F261)), ROW(F242:F261)-MIN(ROW(F242:F261))+1, \"\"), ROW() -241 )), \"\")","v":""},{"$f":"IFERROR(INDEX(B242:B261, SMALL(IF(ISNUMBER(SEARCH(\"JV2\",F242:F261)), ROW(F242:F261)-MIN(ROW(F242:F261))+1, \"\"), ROW() -241 )), \"\")","v":""},{"$f":"IFERROR(INDEX(C242:C261, SMALL(IF(ISNUMBER(SEARCH(\"JV2\",F242:F261)), ROW(F242:F261)-MIN(ROW(F242:F261))+1, \"\"), ROW() -241 )), \"\")","v":""},{"$f":"IFERROR(INDEX(D242:D261, SMALL(IF(ISNUMBER(SEARCH(\"JV2\",F242:F261)), ROW(F242:F261)-MIN(ROW(F242:F261))+1, \"\"), ROW() -241 )), \"\")","v":""},{"$f":"IFERROR(INDEX(E242:E261, SMALL(IF(ISNUMBER(SEARCH(\"JV2\",F242:F261)), ROW(F242:F261)-MIN(ROW(F242:F261))+1, \"\"), ROW() -241 )), \"\")","v":""}]
[null,"St. Ambrose University",null,"11-48212","Kayla Lampe"," ",null,3447.0,null,false]
[null,"St. Ambrose University",null,"11-197631","Lindsey Voss"," ",null,3447.0,null,false]
[null,"St. Ambrose University",null,"17-72899","Madeline Ksobiech"," ",null,3447.0,null,false]
[null,"St. Ambrose University",null,"11-377517","Madison Olevoet"," ",null,3447.0,null,false]
[null,"St. Ambrose University",null,"18-99708","Madison Smith"," ",null,3447.0,null,false]
[null,"St. Ambrose University",null,"11-645580","Makenna Verdon"," ",null,3447.0,null,false]
[null,"St. Ambrose University",null,"11-265628","Marissa Bills","V",null,3447.0,null,false]
[null,"St. Ambrose University",null,"6011-215","Noelle Phillips","V",null,3447.0,null,false]
[null,"St. Ambrose University",null,"17-5653","Patricia Alvarado","V",null,3447.0,null,false]
[null,"St. Ambrose University",null,"8611-9243","Samantha (Sammy) Upham","V",null,3447.0,null,false]
[null,"St. Ambrose University",null,"11-763553","Samantha Rodenbostel"," ",null,3447.0,null,false]
[null,"St. Ambrose University",null,"15-6810","Sarah Fox"," ",null,3447.0,null,false]
[null,"University Of Saint Mary",null,"21-473","Alexia Cuadras"," ",null,4598.0,null,false,{"$nulls":17},{"$f":"IFERROR(INDEX(B262:B271, SMALL(IF(\"V\"=F262:F271, ROW(F262:F271)-MIN(ROW(F262:F271))+1, \"\"), ROW() -261 )), \"\")","v":"University Of Saint Mary"},{"$f":"IFERROR(INDEX(C262:C271, SMALL(IF(\"V\"=F262:F271, ROW(F262:F271)-MIN(ROW(F262:F271))+1, \"\"), ROW() -261 )), \"\")","v":""},{"$f":"IFERROR(INDEX(D262:D271, SMALL(IF(\"V\"=F262:F271, ROW(F262:F271)-MIN(ROW(F262:F271))+1, \"\"), ROW() -261 )), \"\")","v":"11-444580"},{"$f":"IFERROR(INDEX(E262:E271, SMALL(IF(\"V\"=F262:F271, ROW(F262:F271)-MIN(ROW(F262:F271))+1, \"\"), ROW() -261 )), \"\")","v":"Angel Cordero"},{"$f":"IFERROR(INDEX(B262:B271, SMALL(IF(ISNUMBER(SEARCH(\"JV1\",F262:F271)), ROW(F262:F271)-MIN(ROW(F262:F271))+1, \"\"), ROW() -261 )), \"\")","v":""},{"$f":"IFERROR(INDEX(C262:C271, SMALL(IF(ISNUMBER(SEARCH(\"JV1\",F262:F271)), ROW(F262:F271)-MIN(ROW(F262:F271))+1, \"\"), ROW() -261 )), \"\")","v":""},{"$f":"IFERROR(INDEX(D262:D271, SMALL(IF(ISNUMBER(SEARCH(\"JV1\",F262:F271)), ROW(F262:F271)-MIN(ROW(F262:F271))+1, \"\"), ROW() -261 )), \"\")","v":""},{"$f":"IFERROR(INDEX(E262:E271, SMALL(IF(ISNUMBER(SEARCH(\"JV1\",F262:F271)), ROW(F262:F271)-MIN(ROW(F262:F271))+1, \"\"), ROW() -261 )), \"\")","v":""},{"$f":"IFERROR(INDEX(B262:B271, SMALL(IF(ISNUMBER(SEARCH(\"JV2\",F262:F271)), ROW(F262:F271)-MIN(ROW(F262:F271))+1, \"\"), ROW() -261 )), \"\")","v":""},{"$f":"IFERROR(INDEX(C262:C271, SMALL(IF(ISNUMBER(SEARCH(\"JV2\",F262:F271)), ROW(F262:F271)-MIN(ROW(F262:F271))+1, \"\"), ROW() -261 )), \"\")","v":""},{"$f":"IFERROR(INDEX(D262:D271, SMALL(IF(ISNUMBER(SEARCH(\"JV2\",F262:F271)), ROW(F262:F271)-MIN(ROW(F262:F271))+1, \"\"), ROW() -261 )), \"\")","v":""},{"$f":"IFERROR(INDEX(E262:E271, SMALL(IF(ISNUMBER(SEARCH(\"JV2\",F262:F271)), ROW(F262:F271)-MIN(ROW(F262:F271))+1, \"\"), ROW() -261 )), \"\")","v":""}]
[null,"University Of Saint Mary",null,"22-3475","Amber Mullins"," ",null,4598.0,null,false,{"$nulls":17},{"$f":"IFERROR(INDEX(B262:B271, SMALL(IF(\"V\"=F262:F271, ROW(F262:F271)-MIN(ROW(F262:F271))+1, \"\"), ROW() -261 )), \"\")","v":"University Of Saint Mary"},{"$f":"IFERROR(INDEX(C262:C271, SMALL(IF(\"V\"=F262:F271, ROW(F262:F271)-MIN(ROW(F262:F271))+1, \"\"), ROW() -261 )), \"\")","v":""},{"$f":"IFERROR(INDEX(D262:D271, SMALL(IF(\"V\"=F262:F271, ROW(F262:F271)-MIN(ROW(F262:F271))+1, \"\"), ROW() -261 )), \"\")","v":"11-623384"},{"$f":"IFERROR(INDEX(E262:E271, SMALL(IF(\"V\"=F262:F271, ROW(F262:F271)-MIN(ROW(F262:F271))+1, \"\"), ROW() -261 )), \"\")","v":"Brianna Hubenett"},{"$f":"IFERROR(INDEX(B262:B271, SMALL(IF(ISNUMBER(SEARCH(\"JV1\",F262:F271)), ROW(F262:F271)-MIN(ROW(F262:F271))+1, \"\"), ROW() -261 )), \"\")","v":""},{"$f":"IFERROR(INDEX(C262:C271, SMALL(IF(ISNUMBER(SEARCH(\"JV1\",F262:F271)), ROW(F262:F271)-MIN(ROW(F262:F271))+1, \"\"), ROW() -261 )), \"\")","v":""},{"$f":"IFERROR(INDEX(D262:D271, SMALL(IF(ISNUMBER(SEARCH(\"JV1\",F262:F271)), ROW(F262:F271)-MIN(ROW(F262:F271))+1, \"\"), ROW() -261 )), \"\")","v":""},{"$f":"IFERROR(INDEX(E262:E271, SMALL(IF(ISNUMBER(SEARCH(\"JV1\",F262:F271)), ROW(F262:F271)-MIN(ROW(F262:F271))+1, \"\"), ROW() -261 )), \"\")","v":""},{"$f":"IFERROR(INDEX(B262:B271, SMALL(IF(ISNUMBER(SEARCH(\"JV2\",F262:F271)), ROW(F262:F271)-MIN(ROW(F262:F271))+1, \"\"), ROW() -261 )), \"\")","v":""},{"$f":"IFERROR(INDEX(C262:C271, SMALL(IF(ISNUMBER(SEARCH(\"JV2\",F262:F271)), ROW(F262:F271)-MIN(ROW(F262:F271))+1, \"\"), ROW() -261 )), \"\")","v":""},{"$f":"IFERROR(INDEX(D262:D271, SMALL(IF(ISNUMBER(SEARCH(\"JV2\",F262:F271)), ROW(F262:F271)-MIN(ROW(F262:F271))+1, \"\"), ROW() -261 )), \"\")","v":""},{"$f":"IFERROR(INDEX(E262:E271, SMALL(IF(ISNUMBER(SEARCH(\"JV2\",F262:F271)), ROW(F262:F271)-MIN(ROW(F262:F271))+1, \"\"), ROW() -261 )), \"\")","v":""}]
[null,"University Of Saint Mary",null,"11-444580","Angel Cordero","V",null,4598.0,null,false,{"$nulls":17},{"$f":"IFERROR(INDEX(B262:B271, SMALL(IF(\"V\"=F262:F271, ROW(F262:F271)-MIN(ROW(F262:F271))+1, \"\"), ROW() -261 )), \"\")","v":"University Of Saint Mary"},{"$f":"IFERROR(INDEX(C262:C271, SMALL(IF(\"V\"=F262:F271, ROW(F262:F271)-MIN(ROW(F262:F271))+1, \"\"), ROW() -261 )), \"\")","v":""},{"$f":"IFERROR(INDEX(D262:D271, SMALL(IF(\"V\"=F262:F271, ROW(F262:F271)-MIN(ROW(F262:F271))+1, \"\"), ROW() -261 )), \"\")","v":"17-57411"},{"$f":"IFERROR(INDEX(E262:E271, SMALL(IF(\"V\"=F262:F271, ROW(F262:F271)-MIN(ROW(F262:F271))+1, \"\"), ROW() -261 )), \"\")","v":"Carmen Silva"},{"$f":"IFERROR(INDEX(B262:B271, SMALL(IF(ISNUMBER(SEARCH(\"JV1\",F262:F271)), ROW(F262:F271)-MIN(ROW(F262:F271))+1, \"\"), ROW() -261 )), \"\")","v":""},{"$f":"IFERROR(INDEX(C262:C271, SMALL(IF(ISNUMBER(SEARCH(\"JV1\",F262:F271)), ROW(F262:F271)-MIN(ROW(F262:F271))+1, \"\"), ROW() -261 )), \"\")","v":""},{"$f":"IFERROR(INDEX(D262:D271, SMALL(IF(ISNUMBER(SEARCH(\"JV1\",F262:F271)), ROW(F262:F271)-MIN(ROW(F262:F271))+1, \"\"), ROW() -261 )), \"\")","v":""},{"$f":"IFERROR(INDEX(E262:E271, SMALL(IF(ISNUMBER(SEARCH(\"JV1\",F262:F271)), ROW(F262:F271)-MIN(ROW(F262:F271))+1, \"\"), ROW() -261 )), \"\")","v":""},{"$f":"IFERROR(INDEX(B262:B271, SMALL(IF(ISNUMBER(SEARCH(\"JV2\",F262:F271)), ROW(F262:F271)-MIN(ROW(F262:F271))+1, \"\"), ROW() -261 )), \"\")","v":""},{"$f":"IFERROR(INDEX(C262:C271, SMALL(IF(ISNUMBER(SEARCH(\"JV2\",F262:F271)), ROW(F262:F271)-MIN(ROW(F262:F271))+1, \"\"), ROW() -261 )), \"\")","v":""},{"$f":"IFERROR(INDEX(D262:D271, SMALL(IF(ISNUMBER(SEARCH(\"JV2\",F262:F271)), ROW(F262:F271)-MIN(ROW(F262:F271))+1, \"\"), ROW() -261 )), \"\")","v":""},{"$f":"IFERROR(INDEX(E262:E271, SMALL(IF(ISNUMBER(SEARCH(\"JV2\",F262:F271)), ROW(F262:F271)-MIN(ROW(F262:F271))+1, \"\"), ROW() -261 )), \"\")","v":""}]
[null,"University Of Saint Mary",null,"11-623384","Brianna Hubenett","V",null,4598.0,null,false,{"$nulls":17},{"$f":"IFERROR(INDEX(B262:B271, SMALL(IF(\"V\"=F262:F271, ROW(F262:F271)-MIN(ROW(F262:F271))+1, \"\"), ROW() -261 )), \"\")","v":"University Of Saint Mary"},{"$f":"IFERROR(INDEX(C262:C271, SMALL(IF(\"V\"=F262:F271, ROW(F262:F271)-MIN(ROW(F262:F271))+1, \"\"), ROW() -261 )), \"\")","v":""},{"$f":"IFERROR(INDEX(D262:D271, SMALL(IF(\"V\"=F262:F271, ROW(F262:F271)-MIN(ROW(F262:F271))+1, \"\"), ROW() -261 )), \"\")","v":"11-193245"},{"$f":"IFERROR(INDEX(E262:E271, SMALL(IF(\"V\"=F262:F271, ROW(F262:F271)-MIN(ROW(F262:F271))+1, \"\"), ROW() -261 )), \"\")","v":"Jordan Reynolds"},{"$f":"IFERROR(INDEX(B262:B271, SMALL(IF(ISNUMBER(SEARCH(\"JV1\",F262:F271)), ROW(F262:F271)-MIN(ROW(F262:F271))+1, \"\"), ROW() -261 )), \"\")","v":""},{"$f":"IFERROR(INDEX(C262:C271, SMALL(IF(ISNUMBER(SEARCH(\"JV1\",F262:F271)), ROW(F262:F271)-MIN(ROW(F262:F271))+1, \"\"), ROW() -261 )), \"\")","v":""},{"$f":"IFERROR(INDEX(D262:D271, SMALL(IF(ISNUMBER(SEARCH(\"JV1\",F262:F271)), ROW(F262:F271)-MIN(ROW(F262:F271))+1, \"\"), ROW() -261 )), \"\")","v":""},{"$f":"IFERROR(INDEX(E262:E271, SMALL(IF(ISNUMBER(SEARCH(\"JV1\",F262:F271)), ROW(F262:F271)-MIN(ROW(F262:F271))+1, \"\"), ROW() -261 )), \"\")","v":""},{"$f":"IFERROR(INDEX(B262:B271, SMALL(IF(ISNUMBER(SEARCH(\"JV2\",F262:F271)), ROW(F262:F271)-MIN(ROW(F262:F271))+1, \"\"), ROW() -261 )), \"\")","v":""},{"$f":"IFERROR(INDEX(C262:C271, SMALL(IF(ISNUMBER(SEARCH(\"JV2\",F262:F271)), ROW(F262:F271)-MIN(ROW(F262:F271))+1, \"\"), ROW() -261 )), \"\")","v":""},{"$f":"IFERROR(INDEX(D262:D271, SMALL(IF(ISNUMBER(SEARCH(\"JV2\",F262:F271)), ROW(F262:F271)-MIN(ROW(F262:F271))+1, \"\"), ROW() -261 )), \"\")","v":""},{"$f":"IFERROR(INDEX(E262:E271, SMALL(IF(ISNUMBER(SEARCH(\"JV2\",F262:F271)), ROW(F262:F271)-MIN(ROW(F262:F271))+1, \"\"), ROW() -261 )), \"\")","v":""}]
[null,"University Of Saint Mary",null,"17-57411","Carmen Silva","V",null,4598.0,null,false,{"$nulls":17},{"$f":"IFERROR(INDEX(B262:B271, SMALL(IF(\"V\"=F262:F271, ROW(F262:F271)-MIN(ROW(F262:F271))+1, \"\"), ROW() -261 )), \"\")","v":"University Of Saint Mary"},{"$f":"IFERROR(INDEX(C262:C271, SMALL(IF(\"V\"=F262:F271, ROW(F262:F271)-MIN(ROW(F262:F271))+1, \"\"), ROW() -261 )), \"\")","v":""},{"$f":"IFERROR(INDEX(D262:D271, SMALL(IF(\"V\"=F262:F271, ROW(F262:F271)-MIN(ROW(F262:F271))+1, \"\"), ROW() -261 )), \"\")","v":"21-79472"},{"$f":"IFERROR(INDEX(E262:E271, SMALL(IF(\"V\"=F262:F271, ROW(F262:F271)-MIN(ROW(F262:F271))+1, \"\"), ROW() -261 )), \"\")","v":"Lola Moore"},{"$f":"IFERROR(INDEX(B262:B271, SMALL(IF(ISNUMBER(SEARCH(\"JV1\",F262:F271)), ROW(F262:F271)-MIN(ROW(F262:F271))+1, \"\"), ROW() -261 )), \"\")","v":""},{"$f":"IFERROR(INDEX(C262:C271, SMALL(IF(ISNUMBER(SEARCH(\"JV1\",F262:F271)), ROW(F262:F271)-MIN(ROW(F262:F271))+1, \"\"), ROW() -261 )), \"\")","v":""},{"$f":"IFERROR(INDEX(D262:D271, SMALL(IF(ISNUMBER(SEARCH(\"JV1\",F262:F271)), ROW(F262:F271)-MIN(ROW(F262:F271))+1, \"\"), ROW() -261 )), \"\")","v":""},{"$f":"IFERROR(INDEX(E262:E271, SMALL(IF(ISNUMBER(SEARCH(\"JV1\",F262:F271)), ROW(F262:F271)-MIN(ROW(F262:F271))+1, \"\"), ROW() -261 )), \"\")","v":""},{"$f":"IFERROR(INDEX(B262:B271, SMALL(IF(ISNUMBER(SEARCH(\"JV2\",F262:F271)), ROW(F262:F271)-MIN(ROW(F262:F271))+1, \"\"), ROW() -261 )), \"\")","v":""},{"$f":"IFERROR(INDEX(C262:C271, SMALL(IF(ISNUMBER(SEARCH(\"JV2\",F262:F271)), ROW(F262:F271)-MIN(ROW(F262:F271))+1, \"\"), ROW() -261 )), \"\")","v":""},{"$f":"IFERROR(INDEX(D262:D271, SMALL(IF(ISNUMBER(SEARCH(\"JV2\",F262:F271)), ROW(F262:F271)-MIN(ROW(F262:F271))+1, \"\"), ROW() -261 )), \"\")","v":""},{"$f":"IFERROR(INDEX(E262:E271, SMALL(IF(ISNUMBER(SEARCH(\"JV2\",F262:F271)), ROW(F262:F271)-MIN(ROW(F262:F271))+1, \"\"), ROW() -261 )), \"\")","v":""}]
[null,"University Of Saint Mary",null,"11-193245","Jordan Reynolds","V",null,4598.0,null,false,{"$nulls":17},{"$f":"IFERROR(INDEX(B262:B271, SMALL(IF(\"V\"=F262:F271, ROW(F262:F271)-MIN(ROW(F262:F271))+1, \"\"), ROW() -261 )), \"\")","v":"University Of Saint Mary"},{"$f":"IFERROR(INDEX(C262:C271, SMALL(IF(\"V\"=F262:F271, ROW(F262:F271)-MIN(ROW(F262:F271))+1, \"\"), ROW() -261 )), \"\")","v":""},{"$f":"IFERROR(INDEX(D262:D271, SMALL(IF(\"V\"=F262:F271, ROW(F262:F271)-MIN(ROW(F262:F271))+1, \"\"), ROW() -261 )), \"\")","v":"18-98767"},{"$f":"IFERROR(INDEX(E262:E271, SMALL(IF(\"V\"=F262:F271, ROW(F262:F271)-MIN(ROW(F262:F271))+1, \"\"), ROW() -261 )), \"\")","v":"Natalie Koehler"},{"$f":"IFERROR(INDEX(B262:B271, SMALL(IF(ISNUMBER(SEARCH(\"JV1\",F262:F271)), ROW(F262:F271)-MIN(ROW(F262:F271))+1, \"\"), ROW() -261 )), \"\")","v":""},{"$f":"IFERROR(INDEX(C262:C271, SMALL(IF(ISNUMBER(SEARCH(\"JV1\",F262:F271)), ROW(F262:F271)-MIN(ROW(F262:F271))+1, \"\"), ROW() -261 )), \"\")","v":""},{"$f":"IFERROR(INDEX(D262:D271, SMALL(IF(ISNUMBER(SEARCH(\"JV1\",F262:F271)), ROW(F262:F271)-MIN(ROW(F262:F271))+1, \"\"), ROW() -261 )), \"\")","v":""},{"$f":"IFERROR(INDEX(E262:E271, SMALL(IF(ISNUMBER(SEARCH(\"JV1\",F262:F271)), ROW(F262:F271)-MIN(ROW(F262:F271))+1, \"\"), ROW() -261 )), \"\")","v":""},{"$f":"IFERROR(INDEX(B262:B271, SMALL(IF(ISNUMBER(SEARCH(\"JV2\",F262:F271)), ROW(F262:F271)-MIN(ROW(F262:F271))+1, \"\"), ROW() -261 )), \"\")","v":""},{"$f":"IFERROR(INDEX(C262:C271, SMALL(IF(ISNUMBER(SEARCH(\"JV2\",F262:F271)), ROW(F262:F271)-MIN(ROW(F262:F271))+1, \"\"), ROW() -261 )), \"\")","v":""},{"$f":"IFERROR(INDEX(D262:D271, SMALL(IF(ISNUMBER(SEARCH(\"JV2\",F262:F271)), ROW(F262:F271)-MIN(ROW(F262:F271))+1, \"\"), ROW() -261 )), \"\")","v":""},{"$f":"IFERROR(INDEX(E262:E271, SMALL(IF(ISNUMBER(SEARCH(\"JV2\",F262:F271)), ROW(F262:F271)-MIN(ROW(F262:F271))+1, \"\"), ROW() -261 )), \"\")","v":""}]
[null,"University Of Saint Mary",null,"21-79472","Lola Moore","V",null,4598.0,null,false,{"$nulls":17},{"$f":"IFERROR(INDEX(B262:B271, SMALL(IF(\"V\"=F262:F271, ROW(F262:F271)-MIN(ROW(F262:F271))+1, \"\"), ROW() -261 )), \"\")","v":"University Of Saint Mary"},{"$f":"IFERROR(INDEX(C262:C271, SMALL(IF(\"V\"=F262:F271, ROW(F262:F271)-MIN(ROW(F262:F271))+1, \"\"), ROW() -261 )), \"\")","v":""},{"$f":"IFERROR(INDEX(D262:D271, SMALL(IF(\"V\"=F262:F271, ROW(F262:F271)-MIN(ROW(F262:F271))+1, \"\"), ROW() -261 )), \"\")","v":"21-472"},{"$f":"IFERROR(INDEX(E262:E271, SMALL(IF(\"V\"=F262:F271, ROW(F262:F271)-MIN(ROW(F262:F271))+1, \"\"), ROW() -261 )), \"\")","v":"Oliva Helten"},{"$f":"IFERROR(INDEX(B262:B271, SMALL(IF(ISNUMBER(SEARCH(\"JV1\",F262:F271)), ROW(F262:F271)-MIN(ROW(F262:F271))+1, \"\"), ROW() -261 )), \"\")","v":""},{"$f":"IFERROR(INDEX(C262:C271, SMALL(IF(ISNUMBER(SEARCH(\"JV1\",F262:F271)), ROW(F262:F271)-MIN(ROW(F262:F271))+1, \"\"), ROW() -261 )), \"\")","v":""},{"$f":"IFERROR(INDEX(D262:D271, SMALL(IF(ISNUMBER(SEARCH(\"JV1\",F262:F271)), ROW(F262:F271)-MIN(ROW(F262:F271))+1, \"\"), ROW() -261 )), \"\")","v":""},{"$f":"IFERROR(INDEX(E262:E271, SMALL(IF(ISNUMBER(SEARCH(\"JV1\",F262:F271)), ROW(F262:F271)-MIN(ROW(F262:F271))+1, \"\"), ROW() -261 )), \"\")","v":""},{"$f":"IFERROR(INDEX(B262:B271, SMALL(IF(ISNUMBER(SEARCH(\"JV2\",F262:F271)), ROW(F262:F271)-MIN(ROW(F262:F271))+1, \"\"), ROW() -261 )), \"\")","v":""},{"$f":"IFERROR(INDEX(C262:C271, SMALL(IF(ISNUMBER(SEARCH(\"JV2\",F262:F271)), ROW(F262:F271)-MIN(ROW(F262:F271))+1, \"\"), ROW() -261 )), \"\")","v":""},{"$f":"IFERROR(INDEX(D262:D271, SMALL(IF(ISNUMBER(SEARCH(\"JV2\",F262:F271)), ROW(F262:F271)-MIN(ROW(F262:F271))+1, \"\"), ROW() -261 )), \"\")","v":""},{"$f":"IFERROR(INDEX(E262:E271, SMALL(IF(ISNUMBER(SEARCH(\"JV2\",F262:F271)), ROW(F262:F271)-MIN(ROW(F262:F271))+1, \"\"), ROW() -261 )), \"\")","v":""}]
[null,"University Of Saint Mary",null,"22-4232","Madison Burke"," ",null,4598.0,null,false,{"$nulls":17},{"$f":"IFERROR(INDEX(B262:B271, SMALL(IF(\"V\"=F262:F271, ROW(F262:F271)-MIN(ROW(F262:F271))+1, \"\"), ROW() -261 )), \"\")","v":""},{"$f":"IFERROR(INDEX(C262:C271, SMALL(IF(\"V\"=F262:F271, ROW(F262:F271)-MIN(ROW(F262:F271))+1, \"\"), ROW() -261 )), \"\")","v":""},{"$f":"IFERROR(INDEX(D262:D271, SMALL(IF(\"V\"=F262:F271, ROW(F262:F271)-MIN(ROW(F262:F271))+1, \"\"), ROW() -261 )), \"\")","v":""},{"$f":"IFERROR(INDEX(E262:E271, SMALL(IF(\"V\"=F262:F271, ROW(F262:F271)-MIN(ROW(F262:F271))+1, \"\"), ROW() -261 )), \"\")","v":""},{"$f":"IFERROR(INDEX(B262:B271, SMALL(IF(ISNUMBER(SEARCH(\"JV1\",F262:F271)), ROW(F262:F271)-MIN(ROW(F262:F271))+1, \"\"), ROW() -261 )), \"\")","v":""},{"$f":"IFERROR(INDEX(C262:C271, SMALL(IF(ISNUMBER(SEARCH(\"JV1\",F262:F271)), ROW(F262:F271)-MIN(ROW(F262:F271))+1, \"\"), ROW() -261 )), \"\")","v":""},{"$f":"IFERROR(INDEX(D262:D271, SMALL(IF(ISNUMBER(SEARCH(\"JV1\",F262:F271)), ROW(F262:F271)-MIN(ROW(F262:F271))+1, \"\"), ROW() -261 )), \"\")","v":""},{"$f":"IFERROR(INDEX(E262:E271, SMALL(IF(ISNUMBER(SEARCH(\"JV1\",F262:F271)), ROW(F262:F271)-MIN(ROW(F262:F271))+1, \"\"), ROW() -261 )), \"\")","v":""},{"$f":"IFERROR(INDEX(B262:B271, SMALL(IF(ISNUMBER(SEARCH(\"JV2\",F262:F271)), ROW(F262:F271)-MIN(ROW(F262:F271))+1, \"\"), ROW() -261 )), \"\")","v":""},{"$f":"IFERROR(INDEX(C262:C271, SMALL(IF(ISNUMBER(SEARCH(\"JV2\",F262:F271)), ROW(F262:F271)-MIN(ROW(F262:F271))+1, \"\"), ROW() -261 )), \"\")","v":""},{"$f":"IFERROR(INDEX(D262:D271, SMALL(IF(ISNUMBER(SEARCH(\"JV2\",F262:F271)), ROW(F262:F271)-MIN(ROW(F262:F271))+1, \"\"), ROW() -261 )), \"\")","v":""},{"$f":"IFERROR(INDEX(E262:E271, SMALL(IF(ISNUMBER(SEARCH(\"JV2\",F262:F271)), ROW(F262:F271)-MIN(ROW(F262:F271))+1, \"\"), ROW() -261 )), \"\")","v":""}]
[null,"University Of Saint Mary",null,"18-98767","Natalie Koehler","V",null,4598.0,null,false]
[null,"University Of Saint Mary",null,"21-472","Oliva Helten","V",null,4598.0,null,false]
[null,"Waldorf University",null,"7914-15599","Adrianna Albert","V",null,3670.0,null,false,{"$nulls":17},{"$f":"IFERROR(INDEX(B272:B281, SMALL(IF(\"V\"=F272:F281, ROW(F272:F281)-MIN(ROW(F272:F281))+1, \"\"), ROW() -271 )), \"\")","v":"Waldorf University"},{"$f":"IFERROR(INDEX(C272:C281, SMALL(IF(\"V\"=F272:F281, ROW(F272:F281)-MIN(ROW(F272:F281))+1, \"\"), ROW() -271 )), \"\")","v":""},{"$f":"IFERROR(INDEX(D272:D281, SMALL(IF(\"V\"=F272:F281, ROW(F272:F281)-MIN(ROW(F272:F281))+1, \"\"), ROW() -271 )), \"\")","v":"7914-15599"},{"$f":"IFERROR(INDEX(E272:E281, SMALL(IF(\"V\"=F272:F281, ROW(F272:F281)-MIN(ROW(F272:F281))+1, \"\"), ROW() -271 )), \"\")","v":"Adrianna Albert"},{"$f":"IFERROR(INDEX(B272:B281, SMALL(IF(ISNUMBER(SEARCH(\"JV1\",F272:F281)), ROW(F272:F281)-MIN(ROW(F272:F281))+1, \"\"), ROW() -271 )), \"\")","v":""},{"$f":"IFERROR(INDEX(C272:C281, SMALL(IF(ISNUMBER(SEARCH(\"JV1\",F272:F281)), ROW(F272:F281)-MIN(ROW(F272:F281))+1, \"\"), ROW() -271 )), \"\")","v":""},{"$f":"IFERROR(INDEX(D272:D281, SMALL(IF(ISNUMBER(SEARCH(\"JV1\",F272:F281)), ROW(F272:F281)-MIN(ROW(F272:F281))+1, \"\"), ROW() -271 )), \"\")","v":""},{"$f":"IFERROR(INDEX(E272:E281, SMALL(IF(ISNUMBER(SEARCH(\"JV1\",F272:F281)), ROW(F272:F281)-MIN(ROW(F272:F281))+1, \"\"), ROW() -271 )), \"\")","v":""},{"$f":"IFERROR(INDEX(B272:B281, SMALL(IF(ISNUMBER(SEARCH(\"JV2\",F272:F281)), ROW(F272:F281)-MIN(ROW(F272:F281))+1, \"\"), ROW() -271 )), \"\")","v":""},{"$f":"IFERROR(INDEX(C272:C281, SMALL(IF(ISNUMBER(SEARCH(\"JV2\",F272:F281)), ROW(F272:F281)-MIN(ROW(F272:F281))+1, \"\"), ROW() -271 )), \"\")","v":""},{"$f":"IFERROR(INDEX(D272:D281, SMALL(IF(ISNUMBER(SEARCH(\"JV2\",F272:F281)), ROW(F272:F281)-MIN(ROW(F272:F281))+1, \"\"), ROW() -271 )), \"\")","v":""},{"$f":"IFERROR(INDEX(E272:E281, SMALL(IF(ISNUMBER(SEARCH(\"JV2\",F272:F281)), ROW(F272:F281)-MIN(ROW(F272:F281))+1, \"\"), ROW() -271 )), \"\")","v":""}]
[null,"Waldorf University",null,"5734-1480","Camryn Hickey"," ",null,3670.0,null,false,{"$nulls":17},{"$f":"IFERROR(INDEX(B272:B281, SMALL(IF(\"V\"=F272:F281, ROW(F272:F281)-MIN(ROW(F272:F281))+1, \"\"), ROW() -271 )), \"\")","v":"Waldorf University"},{"$f":"IFERROR(INDEX(C272:C281, SMALL(IF(\"V\"=F272:F281, ROW(F272:F281)-MIN(ROW(F272:F281))+1, \"\"), ROW() -271 )), \"\")","v":""},{"$f":"IFERROR(INDEX(D272:D281, SMALL(IF(\"V\"=F272:F281, ROW(F272:F281)-MIN(ROW(F272:F281))+1, \"\"), ROW() -271 )), \"\")","v":"21-5187"},{"$f":"IFERROR(INDEX(E272:E281, SMALL(IF(\"V\"=F272:F281, ROW(F272:F281)-MIN(ROW(F272:F281))+1, \"\"), ROW() -271 )), \"\")","v":"Heather Viers"},{"$f":"IFERROR(INDEX(B272:B281, SMALL(IF(ISNUMBER(SEARCH(\"JV1\",F272:F281)), ROW(F272:F281)-MIN(ROW(F272:F281))+1, \"\"), ROW() -271 )), \"\")","v":""},{"$f":"IFERROR(INDEX(C272:C281, SMALL(IF(ISNUMBER(SEARCH(\"JV1\",F272:F281)), ROW(F272:F281)-MIN(ROW(F272:F281))+1, \"\"), ROW() -271 )), \"\")","v":""},{"$f":"IFERROR(INDEX(D272:D281, SMALL(IF(ISNUMBER(SEARCH(\"JV1\",F272:F281)), ROW(F272:F281)-MIN(ROW(F272:F281))+1, \"\"), ROW() -271 )), \"\")","v":""},{"$f":"IFERROR(INDEX(E272:E281, SMALL(IF(ISNUMBER(SEARCH(\"JV1\",F272:F281)), ROW(F272:F281)-MIN(ROW(F272:F281))+1, \"\"), ROW() -271 )), \"\")","v":""},{"$f":"IFERROR(INDEX(B272:B281, SMALL(IF(ISNUMBER(SEARCH(\"JV2\",F272:F281)), ROW(F272:F281)-MIN(ROW(F272:F281))+1, \"\"), ROW() -271 )), \"\")","v":""},{"$f":"IFERROR(INDEX(C272:C281, SMALL(IF(ISNUMBER(SEARCH(\"JV2\",F272:F281)), ROW(F272:F281)-MIN(ROW(F272:F281))+1, \"\"), ROW() -271 )), \"\")","v":""},{"$f":"IFERROR(INDEX(D272:D281, SMALL(IF(ISNUMBER(SEARCH(\"JV2\",F272:F281)), ROW(F272:F281)-MIN(ROW(F272:F281))+1, \"\"), ROW() -271 )), \"\")","v":""},{"$f":"IFERROR(INDEX(E272:E281, SMALL(IF(ISNUMBER(SEARCH(\"JV2\",F272:F281)), ROW(F272:F281)-MIN(ROW(F272:F281))+1, \"\"), ROW() -271 )), \"\")","v":""}]
[null,"Waldorf University",null,"7914-1052","Elisabeth Webb"," ",null,3670.0,null,false,{"$nulls":17},{"$f":"IFERROR(INDEX(B272:B281, SMALL(IF(\"V\"=F272:F281, ROW(F272:F281)-MIN(ROW(F272:F281))+1, \"\"), ROW() -271 )), \"\")","v":"Waldorf University"},{"$f":"IFERROR(INDEX(C272:C281, SMALL(IF(\"V\"=F272:F281, ROW(F272:F281)-MIN(ROW(F272:F281))+1, \"\"), ROW() -271 )), \"\")","v":""},{"$f":"IFERROR(INDEX(D272:D281, SMALL(IF(\"V\"=F272:F281, ROW(F272:F281)-MIN(ROW(F272:F281))+1, \"\"), ROW() -271 )), \"\")","v":"11-682764"},{"$f":"IFERROR(INDEX(E272:E281, SMALL(IF(\"V\"=F272:F281, ROW(F272:F281)-MIN(ROW(F272:F281))+1, \"\"), ROW() -271 )), \"\")","v":"Madison Nowak"},{"$f":"IFERROR(INDEX(B272:B281, SMALL(IF(ISNUMBER(SEARCH(\"JV1\",F272:F281)), ROW(F272:F281)-MIN(ROW(F272:F281))+1, \"\"), ROW() -271 )), \"\")","v":""},{"$f":"IFERROR(INDEX(C272:C281, SMALL(IF(ISNUMBER(SEARCH(\"JV1\",F272:F281)), ROW(F272:F281)-MIN(ROW(F272:F281))+1, \"\"), ROW() -271 )), \"\")","v":""},{"$f":"IFERROR(INDEX(D272:D281, SMALL(IF(ISNUMBER(SEARCH(\"JV1\",F272:F281)), ROW(F272:F281)-MIN(ROW(F272:F281))+1, \"\"), ROW() -271 )), \"\")","v":""},{"$f":"IFERROR(INDEX(E272:E281, SMALL(IF(ISNUMBER(SEARCH(\"JV1\",F272:F281)), ROW(F272:F281)-MIN(ROW(F272:F281))+1, \"\"), ROW() -271 )), \"\")","v":""},{"$f":"IFERROR(INDEX(B272:B281, SMALL(IF(ISNUMBER(SEARCH(\"JV2\",F272:F281)), ROW(F272:F281)-MIN(ROW(F272:F281))+1, \"\"), ROW() -271 )), \"\")","v":""},{"$f":"IFERROR(INDEX(C272:C281, SMALL(IF(ISNUMBER(SEARCH(\"JV2\",F272:F281)), ROW(F272:F281)-MIN(ROW(F272:F281))+1, \"\"), ROW() -271 )), \"\")","v":""},{"$f":"IFERROR(INDEX(D272:D281, SMALL(IF(ISNUMBER(SEARCH(\"JV2\",F272:F281)), ROW(F272:F281)-MIN(ROW(F272:F281))+1, \"\"), ROW() -271 )), \"\")","v":""},{"$f":"IFERROR(INDEX(E272:E281, SMALL(IF(ISNUMBER(SEARCH(\"JV2\",F272:F281)), ROW(F272:F281)-MIN(ROW(F272:F281))+1, \"\"), ROW() -271 )), \"\")","v":""}]
[null,"Waldorf University",null,"21-5187","Heather Viers","V",null,3670.0,null,false,{"$nulls":17},{"$f":"IFERROR(INDEX(B272:B281, SMALL(IF(\"V\"=F272:F281, ROW(F272:F281)-MIN(ROW(F272:F281))+1, \"\"), ROW() -271 )), \"\")","v":"Waldorf University"},{"$f":"IFERROR(INDEX(C272:C281, SMALL(IF(\"V\"=F272:F281, ROW(F272:F281)-MIN(ROW(F272:F281))+1, \"\"), ROW() -271 )), \"\")","v":""},{"$f":"IFERROR(INDEX(D272:D281, SMALL(IF(\"V\"=F272:F281, ROW(F272:F281)-MIN(ROW(F272:F281))+1, \"\"), ROW() -271 )), \"\")","v":"8731-2803"},{"$f":"IFERROR(INDEX(E272:E281, SMALL(IF(\"V\"=F272:F281, ROW(F272:F281)-MIN(ROW(F272:F281))+1, \"\"), ROW() -271 )), \"\")","v":"Madison Singleton"},{"$f":"IFERROR(INDEX(B272:B281, SMALL(IF(ISNUMBER(SEARCH(\"JV1\",F272:F281)), ROW(F272:F281)-MIN(ROW(F272:F281))+1, \"\"), ROW() -271 )), \"\")","v":""},{"$f":"IFERROR(INDEX(C272:C281, SMALL(IF(ISNUMBER(SEARCH(\"JV1\",F272:F281)), ROW(F272:F281)-MIN(ROW(F272:F281))+1, \"\"), ROW() -271 )), \"\")","v":""},{"$f":"IFERROR(INDEX(D272:D281, SMALL(IF(ISNUMBER(SEARCH(\"JV1\",F272:F281)), ROW(F272:F281)-MIN(ROW(F272:F281))+1, \"\"), ROW() -271 )), \"\")","v":""},{"$f":"IFERROR(INDEX(E272:E281, SMALL(IF(ISNUMBER(SEARCH(\"JV1\",F272:F281)), ROW(F272:F281)-MIN(ROW(F272:F281))+1, \"\"), ROW() -271 )), \"\")","v":""},{"$f":"IFERROR(INDEX(B272:B281, SMALL(IF(ISNUMBER(SEARCH(\"JV2\",F272:F281)), ROW(F272:F281)-MIN(ROW(F272:F281))+1, \"\"), ROW() -271 )), \"\")","v":""},{"$f":"IFERROR(INDEX(C272:C281, SMALL(IF(ISNUMBER(SEARCH(\"JV2\",F272:F281)), ROW(F272:F281)-MIN(ROW(F272:F281))+1, \"\"), ROW() -271 )), \"\")","v":""},{"$f":"IFERROR(INDEX(D272:D281, SMALL(IF(ISNUMBER(SEARCH(\"JV2\",F272:F281)), ROW(F272:F281)-MIN(ROW(F272:F281))+1, \"\"), ROW() -271 )), \"\")","v":""},{"$f":"IFERROR(INDEX(E272:E281, SMALL(IF(ISNUMBER(SEARCH(\"JV2\",F272:F281)), ROW(F272:F281)-MIN(ROW(F272:F281))+1, \"\"), ROW() -271 )), \"\")","v":""}]
[null,"Waldorf University",null,"11-682764","Madison Nowak","V",null,3670.0,null,false,{"$nulls":17},{"$f":"IFERROR(INDEX(B272:B281, SMALL(IF(\"V\"=F272:F281, ROW(F272:F281)-MIN(ROW(F272:F281))+1, \"\"), ROW() -271 )), \"\")","v":"Waldorf University"},{"$f":"IFERROR(INDEX(C272:C281, SMALL(IF(\"V\"=F272:F281, ROW(F272:F281)-MIN(ROW(F272:F281))+1, \"\"), ROW() -271 )), \"\")","v":""},{"$f":"IFERROR(INDEX(D272:D281, SMALL(IF(\"V\"=F272:F281, ROW(F272:F281)-MIN(ROW(F272:F281))+1, \"\"), ROW() -271 )), \"\")","v":"11-436543"},{"$f":"IFERROR(INDEX(E272:E281, SMALL(IF(\"V\"=F272:F281, ROW(F272:F281)-MIN(ROW(F272:F281))+1, \"\"), ROW() -271 )), \"\")","v":"Mara Schmitz"},{"$f":"IFERROR(INDEX(B272:B281, SMALL(IF(ISNUMBER(SEARCH(\"JV1\",F272:F281)), ROW(F272:F281)-MIN(ROW(F272:F281))+1, \"\"), ROW() -271 )), \"\")","v":""},{"$f":"IFERROR(INDEX(C272:C281, SMALL(IF(ISNUMBER(SEARCH(\"JV1\",F272:F281)), ROW(F272:F281)-MIN(ROW(F272:F281))+1, \"\"), ROW() -271 )), \"\")","v":""},{"$f":"IFERROR(INDEX(D272:D281, SMALL(IF(ISNUMBER(SEARCH(\"JV1\",F272:F281)), ROW(F272:F281)-MIN(ROW(F272:F281))+1, \"\"), ROW() -271 )), \"\")","v":""},{"$f":"IFERROR(INDEX(E272:E281, SMALL(IF(ISNUMBER(SEARCH(\"JV1\",F272:F281)), ROW(F272:F281)-MIN(ROW(F272:F281))+1, \"\"), ROW() -271 )), \"\")","v":""},{"$f":"IFERROR(INDEX(B272:B281, SMALL(IF(ISNUMBER(SEARCH(\"JV2\",F272:F281)), ROW(F272:F281)-MIN(ROW(F272:F281))+1, \"\"), ROW() -271 )), \"\")","v":""},{"$f":"IFERROR(INDEX(C272:C281, SMALL(IF(ISNUMBER(SEARCH(\"JV2\",F272:F281)), ROW(F272:F281)-MIN(ROW(F272:F281))+1, \"\"), ROW() -271 )), \"\")","v":""},{"$f":"IFERROR(INDEX(D272:D281, SMALL(IF(ISNUMBER(SEARCH(\"JV2\",F272:F281)), ROW(F272:F281)-MIN(ROW(F272:F281))+1, \"\"), ROW() -271 )), \"\")","v":""},{"$f":"IFERROR(INDEX(E272:E281, SMALL(IF(ISNUMBER(SEARCH(\"JV2\",F272:F281)), ROW(F272:F281)-MIN(ROW(F272:F281))+1, \"\"), ROW() -271 )), \"\")","v":""}]
[null,"Waldorf University",null,"8731-2803","Madison Singleton","V",null,3670.0,null,false,{"$nulls":17},{"$f":"IFERROR(INDEX(B272:B281, SMALL(IF(\"V\"=F272:F281, ROW(F272:F281)-MIN(ROW(F272:F281))+1, \"\"), ROW() -271 )), \"\")","v":"Waldorf University"},{"$f":"IFERROR(INDEX(C272:C281, SMALL(IF(\"V\"=F272:F281, ROW(F272:F281)-MIN(ROW(F272:F281))+1, \"\"), ROW() -271 )), \"\")","v":""},{"$f":"IFERROR(INDEX(D272:D281, SMALL(IF(\"V\"=F272:F281, ROW(F272:F281)-MIN(ROW(F272:F281))+1, \"\"), ROW() -271 )), \"\")","v":"7914-13667"},{"$f":"IFERROR(INDEX(E272:E281, SMALL(IF(\"V\"=F272:F281, ROW(F272:F281)-MIN(ROW(F272:F281))+1, \"\"), ROW() -271 )), \"\")","v":"Paige Harns"},{"$f":"IFERROR(INDEX(B272:B281, SMALL(IF(ISNUMBER(SEARCH(\"JV1\",F272:F281)), ROW(F272:F281)-MIN(ROW(F272:F281))+1, \"\"), ROW() -271 )), \"\")","v":""},{"$f":"IFERROR(INDEX(C272:C281, SMALL(IF(ISNUMBER(SEARCH(\"JV1\",F272:F281)), ROW(F272:F281)-MIN(ROW(F272:F281))+1, \"\"), ROW() -271 )), \"\")","v":""},{"$f":"IFERROR(INDEX(D272:D281, SMALL(IF(ISNUMBER(SEARCH(\"JV1\",F272:F281)), ROW(F272:F281)-MIN(ROW(F272:F281))+1, \"\"), ROW() -271 )), \"\")","v":""},{"$f":"IFERROR(INDEX(E272:E281, SMALL(IF(ISNUMBER(SEARCH(\"JV1\",F272:F281)), ROW(F272:F281)-MIN(ROW(F272:F281))+1, \"\"), ROW() -271 )), \"\")","v":""},{"$f":"IFERROR(INDEX(B272:B281, SMALL(IF(ISNUMBER(SEARCH(\"JV2\",F272:F281)), ROW(F272:F281)-MIN(ROW(F272:F281))+1, \"\"), ROW() -271 )), \"\")","v":""},{"$f":"IFERROR(INDEX(C272:C281, SMALL(IF(ISNUMBER(SEARCH(\"JV2\",F272:F281)), ROW(F272:F281)-MIN(ROW(F272:F281))+1, \"\"), ROW() -271 )), \"\")","v":""},{"$f":"IFERROR(INDEX(D272:D281, SMALL(IF(ISNUMBER(SEARCH(\"JV2\",F272:F281)), ROW(F272:F281)-MIN(ROW(F272:F281))+1, \"\"), ROW() -271 )), \"\")","v":""},{"$f":"IFERROR(INDEX(E272:E281, SMALL(IF(ISNUMBER(SEARCH(\"JV2\",F272:F281)), ROW(F272:F281)-MIN(ROW(F272:F281))+1, \"\"), ROW() -271 )), \"\")","v":""}]
[null,"Waldorf University",null,"11-436543","Mara Schmitz","V",null,3670.0,null,false,{"$nulls":17},{"$f":"IFERROR(INDEX(B272:B281, SMALL(IF(\"V\"=F272:F281, ROW(F272:F281)-MIN(ROW(F272:F281))+1, \"\"), ROW() -271 )), \"\")","v":"Waldorf University"},{"$f":"IFERROR(INDEX(C272:C281, SMALL(IF(\"V\"=F272:F281, ROW(F272:F281)-MIN(ROW(F272:F281))+1, \"\"), ROW() -271 )), \"\")","v":""},{"$f":"IFERROR(INDEX(D272:D281, SMALL(IF(\"V\"=F272:F281, ROW(F272:F281)-MIN(ROW(F272:F281))+1, \"\"), ROW() -271 )), \"\")","v":"22-1356"},{"$f":"IFERROR(INDEX(E272:E281, SMALL(IF(\"V\"=F272:F281, ROW(F272:F281)-MIN(ROW(F272:F281))+1, \"\"), ROW() -271 )), \"\")","v":"Paige Rands"},{"$f":"IFERROR(INDEX(B272:B281, SMALL(IF(ISNUMBER(SEARCH(\"JV1\",F272:F281)), ROW(F272:F281)-MIN(ROW(F272:F281))+1, \"\"), ROW() -271 )), \"\")","v":""},{"$f":"IFERROR(INDEX(C272:C281, SMALL(IF(ISNUMBER(SEARCH(\"JV1\",F272:F281)), ROW(F272:F281)-MIN(ROW(F272:F281))+1, \"\"), ROW() -271 )), \"\")","v":""},{"$f":"IFERROR(INDEX(D272:D281, SMALL(IF(ISNUMBER(SEARCH(\"JV1\",F272:F281)), ROW(F272:F281)-MIN(ROW(F272:F281))+1, \"\"), ROW() -271 )), \"\")","v":""},{"$f":"IFERROR(INDEX(E272:E281, SMALL(IF(ISNUMBER(SEARCH(\"JV1\",F272:F281)), ROW(F272:F281)-MIN(ROW(F272:F281))+1, \"\"), ROW() -271 )), \"\")","v":""},{"$f":"IFERROR(INDEX(B272:B281, SMALL(IF(ISNUMBER(SEARCH(\"JV2\",F272:F281)), ROW(F272:F281)-MIN(ROW(F272:F281))+1, \"\"), ROW() -271 )), \"\")","v":""},{"$f":"IFERROR(INDEX(C272:C281, SMALL(IF(ISNUMBER(SEARCH(\"JV2\",F272:F281)), ROW(F272:F281)-MIN(ROW(F272:F281))+1, \"\"), ROW() -271 )), \"\")","v":""},{"$f":"IFERROR(INDEX(D272:D281, SMALL(IF(ISNUMBER(SEARCH(\"JV2\",F272:F281)), ROW(F272:F281)-MIN(ROW(F272:F281))+1, \"\"), ROW() -271 )), \"\")","v":""},{"$f":"IFERROR(INDEX(E272:E281, SMALL(IF(ISNUMBER(SEARCH(\"JV2\",F272:F281)), ROW(F272:F281)-MIN(ROW(F272:F281))+1, \"\"), ROW() -271 )), \"\")","v":""}]
[null,"Waldorf University",null,"7914-13667","Paige Harns","V",null,3670.0,null,false,{"$nulls":17},{"$f":"IFERROR(INDEX(B272:B281, SMALL(IF(\"V\"=F272:F281, ROW(F272:F281)-MIN(ROW(F272:F281))+1, \"\"), ROW() -271 )), \"\")","v":"Waldorf University"},{"$f":"IFERROR(INDEX(C272:C281, SMALL(IF(\"V\"=F272:F281, ROW(F272:F281)-MIN(ROW(F272:F281))+1, \"\"), ROW() -271 )), \"\")","v":""},{"$f":"IFERROR(INDEX(D272:D281, SMALL(IF(\"V\"=F272:F281, ROW(F272:F281)-MIN(ROW(F272:F281))+1, \"\"), ROW() -271 )), \"\")","v":"11-148783"},{"$f":"IFERROR(INDEX(E272:E281, SMALL(IF(\"V\"=F272:F281, ROW(F272:F281)-MIN(ROW(F272:F281))+1, \"\"), ROW() -271 )), \"\")","v":"Zoe Czapiewski"},{"$f":"IFERROR(INDEX(B272:B281, SMALL(IF(ISNUMBER(SEARCH(\"JV1\",F272:F281)), ROW(F272:F281)-MIN(ROW(F272:F281))+1, \"\"), ROW() -271 )), \"\")","v":""},{"$f":"IFERROR(INDEX(C272:C281, SMALL(IF(ISNUMBER(SEARCH(\"JV1\",F272:F281)), ROW(F272:F281)-MIN(ROW(F272:F281))+1, \"\"), ROW() -271 )), \"\")","v":""},{"$f":"IFERROR(INDEX(D272:D281, SMALL(IF(ISNUMBER(SEARCH(\"JV1\",F272:F281)), ROW(F272:F281)-MIN(ROW(F272:F281))+1, \"\"), ROW() -271 )), \"\")","v":""},{"$f":"IFERROR(INDEX(E272:E281, SMALL(IF(ISNUMBER(SEARCH(\"JV1\",F272:F281)), ROW(F272:F281)-MIN(ROW(F272:F281))+1, \"\"), ROW() -271 )), \"\")","v":""},{"$f":"IFERROR(INDEX(B272:B281, SMALL(IF(ISNUMBER(SEARCH(\"JV2\",F272:F281)), ROW(F272:F281)-MIN(ROW(F272:F281))+1, \"\"), ROW() -271 )), \"\")","v":""},{"$f":"IFERROR(INDEX(C272:C281, SMALL(IF(ISNUMBER(SEARCH(\"JV2\",F272:F281)), ROW(F272:F281)-MIN(ROW(F272:F281))+1, \"\"), ROW() -271 )), \"\")","v":""},{"$f":"IFERROR(INDEX(D272:D281, SMALL(IF(ISNUMBER(SEARCH(\"JV2\",F272:F281)), ROW(F272:F281)-MIN(ROW(F272:F281))+1, \"\"), ROW() -271 )), \"\")","v":""},{"$f":"IFERROR(INDEX(E272:E281, SMALL(IF(ISNUMBER(SEARCH(\"JV2\",F272:F281)), ROW(F272:F281)-MIN(ROW(F272:F281))+1, \"\"), ROW() -271 )), \"\")","v":""}]
[null,"Waldorf University",null,"22-1356","Paige Rands","V",null,3670.0,null,false]
[null,"Waldorf University",null,"11-148783","Zoe Czapiewski","V",null,3670.0,null,false]
[null,"Wichita State University",null,"11-236116","Brooklyn Gagnon","V",null,1.0,null,false,{"$nulls":17},{"$f":"IFERROR(INDEX(B282:B296, SMALL(IF(\"V\"=F282:F296, ROW(F282:F296)-MIN(ROW(F282:F296))+1, \"\"), ROW() -281 )), \"\")","v":"Wichita State University"},{"$f":"IFERROR(INDEX(C282:C296, SMALL(IF(\"V\"=F282:F296, ROW(F282:F296)-MIN(ROW(F282:F296))+1, \"\"), ROW() -281 )), \"\")","v":""},{"$f":"IFERROR(INDEX(D282:D296, SMALL(IF(\"V\"=F282:F296, ROW(F282:F296)-MIN(ROW(F282:F296))+1, \"\"), ROW() -281 )), \"\")","v":"11-236116"},{"$f":"IFERROR(INDEX(E282:E296, SMALL(IF(\"V\"=F282:F296, ROW(F282:F296)-MIN(ROW(F282:F296))+1, \"\"), ROW() -281 )), \"\")","v":"Brooklyn Gagnon"},{"$f":"IFERROR(INDEX(B282:B296, SMALL(IF(ISNUMBER(SEARCH(\"JV1\",F282:F296)), ROW(F282:F296)-MIN(ROW(F282:F296))+1, \"\"), ROW() -281 )), \"\")","v":"Wichita State University"},{"$f":"IFERROR(INDEX(C282:C296, SMALL(IF(ISNUMBER(SEARCH(\"JV1\",F282:F296)), ROW(F282:F296)-MIN(ROW(F282:F296))+1, \"\"), ROW() -281 )), \"\")","v":""},{"$f":"IFERROR(INDEX(D282:D296, SMALL(IF(ISNUMBER(SEARCH(\"JV1\",F282:F296)), ROW(F282:F296)-MIN(ROW(F282:F296))+1, \"\"), ROW() -281 )), \"\")","v":"11-671680"},{"$f":"IFERROR(INDEX(E282:E296, SMALL(IF(ISNUMBER(SEARCH(\"JV1\",F282:F296)), ROW(F282:F296)-MIN(ROW(F282:F296))+1, \"\"), ROW() -281 )), \"\")","v":"Caroline Ruden"},{"$f":"IFERROR(INDEX(B282:B296, SMALL(IF(ISNUMBER(SEARCH(\"JV2\",F282:F296)), ROW(F282:F296)-MIN(ROW(F282:F296))+1, \"\"), ROW() -281 )), \"\")","v":""},{"$f":"IFERROR(INDEX(C282:C296, SMALL(IF(ISNUMBER(SEARCH(\"JV2\",F282:F296)), ROW(F282:F296)-MIN(ROW(F282:F296))+1, \"\"), ROW() -281 )), \"\")","v":""},{"$f":"IFERROR(INDEX(D282:D296, SMALL(IF(ISNUMBER(SEARCH(\"JV2\",F282:F296)), ROW(F282:F296)-MIN(ROW(F282:F296))+1, \"\"), ROW() -281 )), \"\")","v":""},{"$f":"IFERROR(INDEX(E282:E296, SMALL(IF(ISNUMBER(SEARCH(\"JV2\",F282:F296)), ROW(F282:F296)-MIN(ROW(F282:F296))+1, \"\"), ROW() -281 )), \"\")","v":""}]
[null,"Wichita State University",null,"11-671680","Caroline Ruden","JV1",null,1.0,null,false,{"$nulls":17},{"$f":"IFERROR(INDEX(B282:B296, SMALL(IF(\"V\"=F282:F296, ROW(F282:F296)-MIN(ROW(F282:F296))+1, \"\"), ROW() -281 )), \"\")","v":"Wichita State University"},{"$f":"IFERROR(INDEX(C282:C296, SMALL(IF(\"V\"=F282:F296, ROW(F282:F296)-MIN(ROW(F282:F296))+1, \"\"), ROW() -281 )), \"\")","v":""},{"$f":"IFERROR(INDEX(D282:D296, SMALL(IF(\"V\"=F282:F296, ROW(F282:F296)-MIN(ROW(F282:F296))+1, \"\"), ROW() -281 )), \"\")","v":"11-264440"},{"$f":"IFERROR(INDEX(E282:E296, SMALL(IF(\"V\"=F282:F296, ROW(F282:F296)-MIN(ROW(F282:F296))+1, \"\"), ROW() -281 )), \"\")","v":"Grace Ogle"},{"$f":"IFERROR(INDEX(B282:B296, SMALL(IF(ISNUMBER(SEARCH(\"JV1\",F282:F296)), ROW(F282:F296)-MIN(ROW(F282:F296))+1, \"\"), ROW() -281 )), \"\")","v":"Wichita State University"},{"$f":"IFERROR(INDEX(C282:C296, SMALL(IF(ISNUMBER(SEARCH(\"JV1\",F282:F296)), ROW(F282:F296)-MIN(ROW(F282:F296))+1, \"\"), ROW() -281 )), \"\")","v":""},{"$f":"IFERROR(INDEX(D282:D296, SMALL(IF(ISNUMBER(SEARCH(\"JV1\",F282:F296)), ROW(F282:F296)-MIN(ROW(F282:F296))+1, \"\"), ROW() -281 )), \"\")","v":"17-56083"},{"$f":"IFERROR(INDEX(E282:E296, SMALL(IF(ISNUMBER(SEARCH(\"JV1\",F282:F296)), ROW(F282:F296)-MIN(ROW(F282:F296))+1, \"\"), ROW() -281 )), \"\")","v":"Chloe Ciecko"},{"$f":"IFERROR(INDEX(B282:B296, SMALL(IF(ISNUMBER(SEARCH(\"JV2\",F282:F296)), ROW(F282:F296)-MIN(ROW(F282:F296))+1, \"\"), ROW() -281 )), \"\")","v":""},{"$f":"IFERROR(INDEX(C282:C296, SMALL(IF(ISNUMBER(SEARCH(\"JV2\",F282:F296)), ROW(F282:F296)-MIN(ROW(F282:F296))+1, \"\"), ROW() -281 )), \"\")","v":""},{"$f":"IFERROR(INDEX(D282:D296, SMALL(IF(ISNUMBER(SEARCH(\"JV2\",F282:F296)), ROW(F282:F296)-MIN(ROW(F282:F296))+1, \"\"), ROW() -281 )), \"\")","v":""},{"$f":"IFERROR(INDEX(E282:E296, SMALL(IF(ISNUMBER(SEARCH(\"JV2\",F282:F296)), ROW(F282:F296)-MIN(ROW(F282:F296))+1, \"\"), ROW() -281 )), \"\")","v":""}]
[null,"Wichita State University",null,"17-56083","Chloe Ciecko","JV1",null,1.0,null,false,{"$nulls":17},{"$f":"IFERROR(INDEX(B282:B296, SMALL(IF(\"V\"=F282:F296, ROW(F282:F296)-MIN(ROW(F282:F296))+1, \"\"), ROW() -281 )), \"\")","v":"Wichita State University"},{"$f":"IFERROR(INDEX(C282:C296, SMALL(IF(\"V\"=F282:F296, ROW(F282:F296)-MIN(ROW(F282:F296))+1, \"\"), ROW() -281 )), \"\")","v":""},{"$f":"IFERROR(INDEX(D282:D296, SMALL(IF(\"V\"=F282:F296, ROW(F282:F296)-MIN(ROW(F282:F296))+1, \"\"), ROW() -281 )), \"\")","v":"21-636"},{"$f":"IFERROR(INDEX(E282:E296, SMALL(IF(\"V\"=F282:F296, ROW(F282:F296)-MIN(ROW(F282:F296))+1, \"\"), ROW() -281 )), \"\")","v":"Juliana Botero"},{"$f":"IFERROR(INDEX(B282:B296, SMALL(IF(ISNUMBER(SEARCH(\"JV1\",F282:F296)), ROW(F282:F296)-MIN(ROW(F282:F296))+1, \"\"), ROW() -281 )), \"\")","v":"Wichita State University"},{"$f":"IFERROR(INDEX(C282:C296, SMALL(IF(ISNUMBER(SEARCH(\"JV1\",F282:F296)), ROW(F282:F296)-MIN(ROW(F282:F296))+1, \"\"), ROW() -281 )), \"\")","v":""},{"$f":"IFERROR(INDEX(D282:D296, SMALL(IF(ISNUMBER(SEARCH(\"JV1\",F282:F296)), ROW(F282:F296)-MIN(ROW(F282:F296))+1, \"\"), ROW() -281 )), \"\")","v":"20-21972"},{"$f":"IFERROR(INDEX(E282:E296, SMALL(IF(ISNUMBER(SEARCH(\"JV1\",F282:F296)), ROW(F282:F296)-MIN(ROW(F282:F296))+1, \"\"), ROW() -281 )), \"\")","v":"Dahna'adel Duffy"},{"$f":"IFERROR(INDEX(B282:B296, SMALL(IF(ISNUMBER(SEARCH(\"JV2\",F282:F296)), ROW(F282:F296)-MIN(ROW(F282:F296))+1, \"\"), ROW() -281 )), \"\")","v":""},{"$f":"IFERROR(INDEX(C282:C296, SMALL(IF(ISNUMBER(SEARCH(\"JV2\",F282:F296)), ROW(F282:F296)-MIN(ROW(F282:F296))+1, \"\"), ROW() -281 )), \"\")","v":""},{"$f":"IFERROR(INDEX(D282:D296, SMALL(IF(ISNUMBER(SEARCH(\"JV2\",F282:F296)), ROW(F282:F296)-MIN(ROW(F282:F296))+1, \"\"), ROW() -281 )), \"\")","v":""},{"$f":"IFERROR(INDEX(E282:E296, SMALL(IF(ISNUMBER(SEARCH(\"JV2\",F282:F296)), ROW(F282:F296)-MIN(ROW(F282:F296))+1, \"\"), ROW() -281 )), \"\")","v":""}]
[null,"Wichita State University",null,"20-21972","Dahna'adel Duffy","JV1",null,1.0,null,false,{"$nulls":17},{"$f":"IFERROR(INDEX(B282:B296, SMALL(IF(\"V\"=F282:F296, ROW(F282:F296)-MIN(ROW(F282:F296))+1, \"\"), ROW() -281 )), \"\")","v":"Wichita State University"},{"$f":"IFERROR(INDEX(C282:C296, SMALL(IF(\"V\"=F282:F296, ROW(F282:F296)-MIN(ROW(F282:F296))+1, \"\"), ROW() -281 )), \"\")","v":""},{"$f":"IFERROR(INDEX(D282:D296, SMALL(IF(\"V\"=F282:F296, ROW(F282:F296)-MIN(ROW(F282:F296))+1, \"\"), ROW() -281 )), \"\")","v":"8649-30214"},{"$f":"IFERROR(INDEX(E282:E296, SMALL(IF(\"V\"=F282:F296, ROW(F282:F296)-MIN(ROW(F282:F296))+1, \"\"), ROW() -281 )), \"\")","v":"Madison Janack"},{"$f":"IFERROR(INDEX(B282:B296, SMALL(IF(ISNUMBER(SEARCH(\"JV1\",F282:F296)), ROW(F282:F296)-MIN(ROW(F282:F296))+1, \"\"), ROW() -281 )), \"\")","v":"Wichita State University"},{"$f":"IFERROR(INDEX(C282:C296, SMALL(IF(ISNUMBER(SEARCH(\"JV1\",F282:F296)), ROW(F282:F296)-MIN(ROW(F282:F296))+1, \"\"), ROW() -281 )), \"\")","v":""},{"$f":"IFERROR(INDEX(D282:D296, SMALL(IF(ISNUMBER(SEARCH(\"JV1\",F282:F296)), ROW(F282:F296)-MIN(ROW(F282:F296))+1, \"\"), ROW() -281 )), \"\")","v":"11-139695"},{"$f":"IFERROR(INDEX(E282:E296, SMALL(IF(ISNUMBER(SEARCH(\"JV1\",F282:F296)), ROW(F282:F296)-MIN(ROW(F282:F296))+1, \"\"), ROW() -281 )), \"\")","v":"Kristy Mace"},{"$f":"IFERROR(INDEX(B282:B296, SMALL(IF(ISNUMBER(SEARCH(\"JV2\",F282:F296)), ROW(F282:F296)-MIN(ROW(F282:F296))+1, \"\"), ROW() -281 )), \"\")","v":""},{"$f":"IFERROR(INDEX(C282:C296, SMALL(IF(ISNUMBER(SEARCH(\"JV2\",F282:F296)), ROW(F282:F296)-MIN(ROW(F282:F296))+1, \"\"), ROW() -281 )), \"\")","v":""},{"$f":"IFERROR(INDEX(D282:D296, SMALL(IF(ISNUMBER(SEARCH(\"JV2\",F282:F296)), ROW(F282:F296)-MIN(ROW(F282:F296))+1, \"\"), ROW() -281 )), \"\")","v":""},{"$f":"IFERROR(INDEX(E282:E296, SMALL(IF(ISNUMBER(SEARCH(\"JV2\",F282:F296)), ROW(F282:F296)-MIN(ROW(F282:F296))+1, \"\"), ROW() -281 )), \"\")","v":""}]
[null,"Wichita State University",null,"11-264440","Grace Ogle","V",null,1.0,null,false,{"$nulls":17},{"$f":"IFERROR(INDEX(B282:B296, SMALL(IF(\"V\"=F282:F296, ROW(F282:F296)-MIN(ROW(F282:F296))+1, \"\"), ROW() -281 )), \"\")","v":"Wichita State University"},{"$f":"IFERROR(INDEX(C282:C296, SMALL(IF(\"V\"=F282:F296, ROW(F282:F296)-MIN(ROW(F282:F296))+1, \"\"), ROW() -281 )), \"\")","v":""},{"$f":"IFERROR(INDEX(D282:D296, SMALL(IF(\"V\"=F282:F296, ROW(F282:F296)-MIN(ROW(F282:F296))+1, \"\"), ROW() -281 )), \"\")","v":"11-33225"},{"$f":"IFERROR(INDEX(E282:E296, SMALL(IF(\"V\"=F282:F296, ROW(F282:F296)-MIN(ROW(F282:F296))+1, \"\"), ROW() -281 )), \"\")","v":"Mary Orf"},{"$f":"IFERROR(INDEX(B282:B296, SMALL(IF(ISNUMBER(SEARCH(\"JV1\",F282:F296)), ROW(F282:F296)-MIN(ROW(F282:F296))+1, \"\"), ROW() -281 )), \"\")","v":"Wichita State University"},{"$f":"IFERROR(INDEX(C282:C296, SMALL(IF(ISNUMBER(SEARCH(\"JV1\",F282:F296)), ROW(F282:F296)-MIN(ROW(F282:F296))+1, \"\"), ROW() -281 )), \"\")","v":""},{"$f":"IFERROR(INDEX(D282:D296, SMALL(IF(ISNUMBER(SEARCH(\"JV1\",F282:F296)), ROW(F282:F296)-MIN(ROW(F282:F296))+1, \"\"), ROW() -281 )), \"\")","v":"17-20321"},{"$f":"IFERROR(INDEX(E282:E296, SMALL(IF(ISNUMBER(SEARCH(\"JV1\",F282:F296)), ROW(F282:F296)-MIN(ROW(F282:F296))+1, \"\"), ROW() -281 )), \"\")","v":"Mariah Bell"},{"$f":"IFERROR(INDEX(B282:B296, SMALL(IF(ISNUMBER(SEARCH(\"JV2\",F282:F296)), ROW(F282:F296)-MIN(ROW(F282:F296))+1, \"\"), ROW() -281 )), \"\")","v":""},{"$f":"IFERROR(INDEX(C282:C296, SMALL(IF(ISNUMBER(SEARCH(\"JV2\",F282:F296)), ROW(F282:F296)-MIN(ROW(F282:F296))+1, \"\"), ROW() -281 )), \"\")","v":""},{"$f":"IFERROR(INDEX(D282:D296, SMALL(IF(ISNUMBER(SEARCH(\"JV2\",F282:F296)), ROW(F282:F296)-MIN(ROW(F282:F296))+1, \"\"), ROW() -281 )), \"\")","v":""},{"$f":"IFERROR(INDEX(E282:E296, SMALL(IF(ISNUMBER(SEARCH(\"JV2\",F282:F296)), ROW(F282:F296)-MIN(ROW(F282:F296))+1, \"\"), ROW() -281 )), \"\")","v":""}]
[null,"Wichita State University",null,"21-636","Juliana Botero","V",null,1.0,null,false,{"$nulls":17},{"$f":"IFERROR(INDEX(B282:B296, SMALL(IF(\"V\"=F282:F296, ROW(F282:F296)-MIN(ROW(F282:F296))+1, \"\"), ROW() -281 )), \"\")","v":"Wichita State University"},{"$f":"IFERROR(INDEX(C282:C296, SMALL(IF(\"V\"=F282:F296, ROW(F282:F296)-MIN(ROW(F282:F296))+1, \"\"), ROW() -281 )), \"\")","v":""},{"$f":"IFERROR(INDEX(D282:D296, SMALL(IF(\"V\"=F282:F296, ROW(F282:F296)-MIN(ROW(F282:F296))+1, \"\"), ROW() -281 )), \"\")","v":"11-113227"},{"$f":"IFERROR(INDEX(E282:E296, SMALL(IF(\"V\"=F282:F296, ROW(F282:F296)-MIN(ROW(F282:F296))+1, \"\"), ROW() -281 )), \"\")","v":"Molly Marshall"},{"$f":"IFERROR(INDEX(B282:B296, SMALL(IF(ISNUMBER(SEARCH(\"JV1\",F282:F296)), ROW(F282:F296)-MIN(ROW(F282:F296))+1, \"\"), ROW() -281 )), \"\")","v":"Wichita State University"},{"$f":"IFERROR(INDEX(C282:C296, SMALL(IF(ISNUMBER(SEARCH(\"JV1\",F282:F296)), ROW(F282:F296)-MIN(ROW(F282:F296))+1, \"\"), ROW() -281 )), \"\")","v":""},{"$f":"IFERROR(INDEX(D282:D296, SMALL(IF(ISNUMBER(SEARCH(\"JV1\",F282:F296)), ROW(F282:F296)-MIN(ROW(F282:F296))+1, \"\"), ROW() -281 )), \"\")","v":"11-97263"},{"$f":"IFERROR(INDEX(E282:E296, SMALL(IF(ISNUMBER(SEARCH(\"JV1\",F282:F296)), ROW(F282:F296)-MIN(ROW(F282:F296))+1, \"\"), ROW() -281 )), \"\")","v":"Paige Wagner"},{"$f":"IFERROR(INDEX(B282:B296, SMALL(IF(ISNUMBER(SEARCH(\"JV2\",F282:F296)), ROW(F282:F296)-MIN(ROW(F282:F296))+1, \"\"), ROW() -281 )), \"\")","v":""},{"$f":"IFERROR(INDEX(C282:C296, SMALL(IF(ISNUMBER(SEARCH(\"JV2\",F282:F296)), ROW(F282:F296)-MIN(ROW(F282:F296))+1, \"\"), ROW() -281 )), \"\")","v":""},{"$f":"IFERROR(INDEX(D282:D296, SMALL(IF(ISNUMBER(SEARCH(\"JV2\",F282:F296)), ROW(F282:F296)-MIN(ROW(F282:F296))+1, \"\"), ROW() -281 )), \"\")","v":""},{"$f":"IFERROR(INDEX(E282:E296, SMALL(IF(ISNUMBER(SEARCH(\"JV2\",F282:F296)), ROW(F282:F296)-MIN(ROW(F282:F296))+1, \"\"), ROW() -281 )), \"\")","v":""}]
[null,"Wichita State University",null,"11-139695","Kristy Mace","JV1",null,1.0,null,false,{"$nulls":17},{"$f":"IFERROR(INDEX(B282:B296, SMALL(IF(\"V\"=F282:F296, ROW(F282:F296)-MIN(ROW(F282:F296))+1, \"\"), ROW() -281 )), \"\")","v":"Wichita State University"},{"$f":"IFERROR(INDEX(C282:C296, SMALL(IF(\"V\"=F282:F296, ROW(F282:F296)-MIN(ROW(F282:F296))+1, \"\"), ROW() -281 )), \"\")","v":""},{"$f":"IFERROR(INDEX(D282:D296, SMALL(IF(\"V\"=F282:F296, ROW(F282:F296)-MIN(ROW(F282:F296))+1, \"\"), ROW() -281 )), \"\")","v":"6944-1256"},{"$f":"IFERROR(INDEX(E282:E296, SMALL(IF(\"V\"=F282:F296, ROW(F282:F296)-MIN(ROW(F282:F296))+1, \"\"), ROW() -281 )), \"\")","v":"Olivia Komorowski"},{"$f":"IFERROR(INDEX(B282:B296, SMALL(IF(ISNUMBER(SEARCH(\"JV1\",F282:F296)), ROW(F282:F296)-MIN(ROW(F282:F296))+1, \"\"), ROW() -281 )), \"\")","v":"Wichita State University"},{"$f":"IFERROR(INDEX(C282:C296, SMALL(IF(ISNUMBER(SEARCH(\"JV1\",F282:F296)), ROW(F282:F296)-MIN(ROW(F282:F296))+1, \"\"), ROW() -281 )), \"\")","v":""},{"$f":"IFERROR(INDEX(D282:D296, SMALL(IF(ISNUMBER(SEARCH(\"JV1\",F282:F296)), ROW(F282:F296)-MIN(ROW(F282:F296))+1, \"\"), ROW() -281 )), \"\")","v":"11-679604"},{"$f":"IFERROR(INDEX(E282:E296, SMALL(IF(ISNUMBER(SEARCH(\"JV1\",F282:F296)), ROW(F282:F296)-MIN(ROW(F282:F296))+1, \"\"), ROW() -281 )), \"\")","v":"Paris Smith"},{"$f":"IFERROR(INDEX(B282:B296, SMALL(IF(ISNUMBER(SEARCH(\"JV2\",F282:F296)), ROW(F282:F296)-MIN(ROW(F282:F296))+1, \"\"), ROW() -281 )), \"\")","v":""},{"$f":"IFERROR(INDEX(C282:C296, SMALL(IF(ISNUMBER(SEARCH(\"JV2\",F282:F296)), ROW(F282:F296)-MIN(ROW(F282:F296))+1, \"\"), ROW() -281 )), \"\")","v":""},{"$f":"IFERROR(INDEX(D282:D296, SMALL(IF(ISNUMBER(SEARCH(\"JV2\",F282:F296)), ROW(F282:F296)-MIN(ROW(F282:F296))+1, \"\"), ROW() -281 )), \"\")","v":""},{"$f":"IFERROR(INDEX(E282:E296, SMALL(IF(ISNUMBER(SEARCH(\"JV2\",F282:F296)), ROW(F282:F296)-MIN(ROW(F282:F296))+1, \"\"), ROW() -281 )), \"\")","v":""}]
[null,"Wichita State University",null,"8649-30214","Madison Janack","V",null,1.0,null,false,{"$nulls":17},{"$f":"IFERROR(INDEX(B282:B296, SMALL(IF(\"V\"=F282:F296, ROW(F282:F296)-MIN(ROW(F282:F296))+1, \"\"), ROW() -281 )), \"\")","v":"Wichita State University"},{"$f":"IFERROR(INDEX(C282:C296, SMALL(IF(\"V\"=F282:F296, ROW(F282:F296)-MIN(ROW(F282:F296))+1, \"\"), ROW() -281 )), \"\")","v":""},{"$f":"IFERROR(INDEX(D282:D296, SMALL(IF(\"V\"=F282:F296, ROW(F282:F296)-MIN(ROW(F282:F296))+1, \"\"), ROW() -281 )), \"\")","v":"5900-26992"},{"$f":"IFERROR(INDEX(E282:E296, SMALL(IF(\"V\"=F282:F296, ROW(F282:F296)-MIN(ROW(F282:F296))+1, \"\"), ROW() -281 )), \"\")","v":"Piper Reams"},{"$f":"IFERROR(INDEX(B282:B296, SMALL(IF(ISNUMBER(SEARCH(\"JV1\",F282:F296)), ROW(F282:F296)-MIN(ROW(F282:F296))+1, \"\"), ROW() -281 )), \"\")","v":""},{"$f":"IFERROR(INDEX(C282:C296, SMALL(IF(ISNUMBER(SEARCH(\"JV1\",F282:F296)), ROW(F282:F296)-MIN(ROW(F282:F296))+1, \"\"), ROW() -281 )), \"\")","v":""},{"$f":"IFERROR(INDEX(D282:D296, SMALL(IF(ISNUMBER(SEARCH(\"JV1\",F282:F296)), ROW(F282:F296)-MIN(ROW(F282:F296))+1, \"\"), ROW() -281 )), \"\")","v":""},{"$f":"IFERROR(INDEX(E282:E296, SMALL(IF(ISNUMBER(SEARCH(\"JV1\",F282:F296)), ROW(F282:F296)-MIN(ROW(F282:F296))+1, \"\"), ROW() -281 )), \"\")","v":""},{"$f":"IFERROR(INDEX(B282:B296, SMALL(IF(ISNUMBER(SEARCH(\"JV2\",F282:F296)), ROW(F282:F296)-MIN(ROW(F282:F296))+1, \"\"), ROW() -281 )), \"\")","v":""},{"$f":"IFERROR(INDEX(C282:C296, SMALL(IF(ISNUMBER(SEARCH(\"JV2\",F282:F296)), ROW(F282:F296)-MIN(ROW(F282:F296))+1, \"\"), ROW() -281 )), \"\")","v":""},{"$f":"IFERROR(INDEX(D282:D296, SMALL(IF(ISNUMBER(SEARCH(\"JV2\",F282:F296)), ROW(F282:F296)-MIN(ROW(F282:F296))+1, \"\"), ROW() -281 )), \"\")","v":""},{"$f":"IFERROR(INDEX(E282:E296, SMALL(IF(ISNUMBER(SEARCH(\"JV2\",F282:F296)), ROW(F282:F296)-MIN(ROW(F282:F296))+1, \"\"), ROW() -281 )), \"\")","v":""}]
[null,"Wichita State University",null,"17-20321","Mariah Bell","JV1",null,1.0,null,false]
[null,"Wichita State University",null,"11-33225","Mary Orf","V",null,1.0,null,false]
[null,"Wichita State University",null,"11-113227","Molly Marshall","V",null,1.0,null,false]
[null,"Wichita State University",null,"6944-1256","Olivia Komorowski","V",null,1.0,null,false]
[null,"Wichita State University",null,"11-97263","Paige Wagner","JV1",null,1.0,null,false]
[null,"Wichita State University",null,"11-679604","Paris Smith","JV1",null,1.0,null,false]
[null,"Wichita State University",null,"5900-26992","Piper Reams","V",null,1.0,null,false]
[null,"William Penn University",null,"7914-8979","Alexis Lake","V",null,3431.0,null,false,{"$nulls":17},{"$f":"IFERROR(INDEX(B297:B312, SMALL(IF(\"V\"=F297:F312, ROW(F297:F312)-MIN(ROW(F297:F312))+1, \"\"), ROW() -296 )), \"\")","v":"William Penn University"},{"$f":"IFERROR(INDEX(C297:C312, SMALL(IF(\"V\"=F297:F312, ROW(F297:F312)-MIN(ROW(F297:F312))+1, \"\"), ROW() -296 )), \"\")","v":""},{"$f":"IFERROR(INDEX(D297:D312, SMALL(IF(\"V\"=F297:F312, ROW(F297:F312)-MIN(ROW(F297:F312))+1, \"\"), ROW() -296 )), \"\")","v":"7914-8979"},{"$f":"IFERROR(INDEX(E297:E312, SMALL(IF(\"V\"=F297:F312, ROW(F297:F312)-MIN(ROW(F297:F312))+1, \"\"), ROW() -296 )), \"\")","v":"Alexis Lake"},{"$f":"IFERROR(INDEX(B297:B312, SMALL(IF(ISNUMBER(SEARCH(\"JV1\",F297:F312)), ROW(F297:F312)-MIN(ROW(F297:F312))+1, \"\"), ROW() -296 )), \"\")","v":""},{"$f":"IFERROR(INDEX(C297:C312, SMALL(IF(ISNUMBER(SEARCH(\"JV1\",F297:F312)), ROW(F297:F312)-MIN(ROW(F297:F312))+1, \"\"), ROW() -296 )), \"\")","v":""},{"$f":"IFERROR(INDEX(D297:D312, SMALL(IF(ISNUMBER(SEARCH(\"JV1\",F297:F312)), ROW(F297:F312)-MIN(ROW(F297:F312))+1, \"\"), ROW() -296 )), \"\")","v":""},{"$f":"IFERROR(INDEX(E297:E312, SMALL(IF(ISNUMBER(SEARCH(\"JV1\",F297:F312)), ROW(F297:F312)-MIN(ROW(F297:F312))+1, \"\"), ROW() -296 )), \"\")","v":""},{"$f":"IFERROR(INDEX(B297:B312, SMALL(IF(ISNUMBER(SEARCH(\"JV2\",F297:F312)), ROW(F297:F312)-MIN(ROW(F297:F312))+1, \"\"), ROW() -296 )), \"\")","v":""},{"$f":"IFERROR(INDEX(C297:C312, SMALL(IF(ISNUMBER(SEARCH(\"JV2\",F297:F312)), ROW(F297:F312)-MIN(ROW(F297:F312))+1, \"\"), ROW() -296 )), \"\")","v":""},{"$f":"IFERROR(INDEX(D297:D312, SMALL(IF(ISNUMBER(SEARCH(\"JV2\",F297:F312)), ROW(F297:F312)-MIN(ROW(F297:F312))+1, \"\"), ROW() -296 )), \"\")","v":""},{"$f":"IFERROR(INDEX(E297:E312, SMALL(IF(ISNUMBER(SEARCH(\"JV2\",F297:F312)), ROW(F297:F312)-MIN(ROW(F297:F312))+1, \"\"), ROW() -296 )), \"\")","v":""}]
[null,"William Penn University",null,"11-33690","Caitlin Radliff","V",null,3431.0,null,false,{"$nulls":17},{"$f":"IFERROR(INDEX(B297:B312, SMALL(IF(\"V\"=F297:F312, ROW(F297:F312)-MIN(ROW(F297:F312))+1, \"\"), ROW() -296 )), \"\")","v":"William Penn University"},{"$f":"IFERROR(INDEX(C297:C312, SMALL(IF(\"V\"=F297:F312, ROW(F297:F312)-MIN(ROW(F297:F312))+1, \"\"), ROW() -296 )), \"\")","v":""},{"$f":"IFERROR(INDEX(D297:D312, SMALL(IF(\"V\"=F297:F312, ROW(F297:F312)-MIN(ROW(F297:F312))+1, \"\"), ROW() -296 )), \"\")","v":"11-33690"},{"$f":"IFERROR(INDEX(E297:E312, SMALL(IF(\"V\"=F297:F312, ROW(F297:F312)-MIN(ROW(F297:F312))+1, \"\"), ROW() -296 )), \"\")","v":"Caitlin Radliff"},{"$f":"IFERROR(INDEX(B297:B312, SMALL(IF(ISNUMBER(SEARCH(\"JV1\",F297:F312)), ROW(F297:F312)-MIN(ROW(F297:F312))+1, \"\"), ROW() -296 )), \"\")","v":""},{"$f":"IFERROR(INDEX(C297:C312, SMALL(IF(ISNUMBER(SEARCH(\"JV1\",F297:F312)), ROW(F297:F312)-MIN(ROW(F297:F312))+1, \"\"), ROW() -296 )), \"\")","v":""},{"$f":"IFERROR(INDEX(D297:D312, SMALL(IF(ISNUMBER(SEARCH(\"JV1\",F297:F312)), ROW(F297:F312)-MIN(ROW(F297:F312))+1, \"\"), ROW() -296 )), \"\")","v":""},{"$f":"IFERROR(INDEX(E297:E312, SMALL(IF(ISNUMBER(SEARCH(\"JV1\",F297:F312)), ROW(F297:F312)-MIN(ROW(F297:F312))+1, \"\"), ROW() -296 )), \"\")","v":""},{"$f":"IFERROR(INDEX(B297:B312, SMALL(IF(ISNUMBER(SEARCH(\"JV2\",F297:F312)), ROW(F297:F312)-MIN(ROW(F297:F312))+1, \"\"), ROW() -296 )), \"\")","v":""},{"$f":"IFERROR(INDEX(C297:C312, SMALL(IF(ISNUMBER(SEARCH(\"JV2\",F297:F312)), ROW(F297:F312)-MIN(ROW(F297:F312))+1, \"\"), ROW() -296 )), \"\")","v":""},{"$f":"IFERROR(INDEX(D297:D312, SMALL(IF(ISNUMBER(SEARCH(\"JV2\",F297:F312)), ROW(F297:F312)-MIN(ROW(F297:F312))+1, \"\"), ROW() -296 )), \"\")","v":""},{"$f":"IFERROR(INDEX(E297:E312, SMALL(IF(ISNUMBER(SEARCH(\"JV2\",F297:F312)), ROW(F297:F312)-MIN(ROW(F297:F312))+1, \"\"), ROW() -296 )), \"\")","v":""}]
[null,"William Penn University",null,"6928-5185","Christy Mottier"," ",null,3431.0,null,false,{"$nulls":17},{"$f":"IFERROR(INDEX(B297:B312, SMALL(IF(\"V\"=F297:F312, ROW(F297:F312)-MIN(ROW(F297:F312))+1, \"\"), ROW() -296 )), \"\")","v":"William Penn University"},{"$f":"IFERROR(INDEX(C297:C312, SMALL(IF(\"V\"=F297:F312, ROW(F297:F312)-MIN(ROW(F297:F312))+1, \"\"), ROW() -296 )), \"\")","v":""},{"$f":"IFERROR(INDEX(D297:D312, SMALL(IF(\"V\"=F297:F312, ROW(F297:F312)-MIN(ROW(F297:F312))+1, \"\"), ROW() -296 )), \"\")","v":"15-170867"},{"$f":"IFERROR(INDEX(E297:E312, SMALL(IF(\"V\"=F297:F312, ROW(F297:F312)-MIN(ROW(F297:F312))+1, \"\"), ROW() -296 )), \"\")","v":"Cydnee Whiteleather"},{"$f":"IFERROR(INDEX(B297:B312, SMALL(IF(ISNUMBER(SEARCH(\"JV1\",F297:F312)), ROW(F297:F312)-MIN(ROW(F297:F312))+1, \"\"), ROW() -296 )), \"\")","v":""},{"$f":"IFERROR(INDEX(C297:C312, SMALL(IF(ISNUMBER(SEARCH(\"JV1\",F297:F312)), ROW(F297:F312)-MIN(ROW(F297:F312))+1, \"\"), ROW() -296 )), \"\")","v":""},{"$f":"IFERROR(INDEX(D297:D312, SMALL(IF(ISNUMBER(SEARCH(\"JV1\",F297:F312)), ROW(F297:F312)-MIN(ROW(F297:F312))+1, \"\"), ROW() -296 )), \"\")","v":""},{"$f":"IFERROR(INDEX(E297:E312, SMALL(IF(ISNUMBER(SEARCH(\"JV1\",F297:F312)), ROW(F297:F312)-MIN(ROW(F297:F312))+1, \"\"), ROW() -296 )), \"\")","v":""},{"$f":"IFERROR(INDEX(B297:B312, SMALL(IF(ISNUMBER(SEARCH(\"JV2\",F297:F312)), ROW(F297:F312)-MIN(ROW(F297:F312))+1, \"\"), ROW() -296 )), \"\")","v":""},{"$f":"IFERROR(INDEX(C297:C312, SMALL(IF(ISNUMBER(SEARCH(\"JV2\",F297:F312)), ROW(F297:F312)-MIN(ROW(F297:F312))+1, \"\"), ROW() -296 )), \"\")","v":""},{"$f":"IFERROR(INDEX(D297:D312, SMALL(IF(ISNUMBER(SEARCH(\"JV2\",F297:F312)), ROW(F297:F312)-MIN(ROW(F297:F312))+1, \"\"), ROW() -296 )), \"\")","v":""},{"$f":"IFERROR(INDEX(E297:E312, SMALL(IF(ISNUMBER(SEARCH(\"JV2\",F297:F312)), ROW(F297:F312)-MIN(ROW(F297:F312))+1, \"\"), ROW() -296 )), \"\")","v":""}]
[null,"William Penn University",null,"15-170867","Cydnee Whiteleather","V",null,3431.0,null,false,{"$nulls":17},{"$f":"IFERROR(INDEX(B297:B312, SMALL(IF(\"V\"=F297:F312, ROW(F297:F312)-MIN(ROW(F297:F312))+1, \"\"), ROW() -296 )), \"\")","v":"William Penn University"},{"$f":"IFERROR(INDEX(C297:C312, SMALL(IF(\"V\"=F297:F312, ROW(F297:F312)-MIN(ROW(F297:F312))+1, \"\"), ROW() -296 )), \"\")","v":""},{"$f":"IFERROR(INDEX(D297:D312, SMALL(IF(\"V\"=F297:F312, ROW(F297:F312)-MIN(ROW(F297:F312))+1, \"\"), ROW() -296 )), \"\")","v":"11-35370"},{"$f":"IFERROR(INDEX(E297:E312, SMALL(IF(\"V\"=F297:F312, ROW(F297:F312)-MIN(ROW(F297:F312))+1, \"\"), ROW() -296 )), \"\")","v":"Gabriella Evans"},{"$f":"IFERROR(INDEX(B297:B312, SMALL(IF(ISNUMBER(SEARCH(\"JV1\",F297:F312)), ROW(F297:F312)-MIN(ROW(F297:F312))+1, \"\"), ROW() -296 )), \"\")","v":""},{"$f":"IFERROR(INDEX(C297:C312, SMALL(IF(ISNUMBER(SEARCH(\"JV1\",F297:F312)), ROW(F297:F312)-MIN(ROW(F297:F312))+1, \"\"), ROW() -296 )), \"\")","v":""},{"$f":"IFERROR(INDEX(D297:D312, SMALL(IF(ISNUMBER(SEARCH(\"JV1\",F297:F312)), ROW(F297:F312)-MIN(ROW(F297:F312))+1, \"\"), ROW() -296 )), \"\")","v":""},{"$f":"IFERROR(INDEX(E297:E312, SMALL(IF(ISNUMBER(SEARCH(\"JV1\",F297:F312)), ROW(F297:F312)-MIN(ROW(F297:F312))+1, \"\"), ROW() -296 )), \"\")","v":""},{"$f":"IFERROR(INDEX(B297:B312, SMALL(IF(ISNUMBER(SEARCH(\"JV2\",F297:F312)), ROW(F297:F312)-MIN(ROW(F297:F312))+1, \"\"), ROW() -296 )), \"\")","v":""},{"$f":"IFERROR(INDEX(C297:C312, SMALL(IF(ISNUMBER(SEARCH(\"JV2\",F297:F312)), ROW(F297:F312)-MIN(ROW(F297:F312))+1, \"\"), ROW() -296 )), \"\")","v":""},{"$f":"IFERROR(INDEX(D297:D312, SMALL(IF(ISNUMBER(SEARCH(\"JV2\",F297:F312)), ROW(F297:F312)-MIN(ROW(F297:F312))+1, \"\"), ROW() -296 )), \"\")","v":""},{"$f":"IFERROR(INDEX(E297:E312, SMALL(IF(ISNUMBER(SEARCH(\"JV2\",F297:F312)), ROW(F297:F312)-MIN(ROW(F297:F312))+1, \"\"), ROW() -296 )), \"\")","v":""}]
[null,"William Penn University",null,"11-40996","Emily Eikenberry"," ",null,3431.0,null,false,{"$nulls":17},{"$f":"IFERROR(INDEX(B297:B312, SMALL(IF(\"V\"=F297:F312, ROW(F297:F312)-MIN(ROW(F297:F312))+1, \"\"), ROW() -296 )), \"\")","v":"William Penn University"},{"$f":"IFERROR(INDEX(C297:C312, SMALL(IF(\"V\"=F297:F312, ROW(F297:F312)-MIN(ROW(F297:F312))+1, \"\"), ROW() -296 )), \"\")","v":""},{"$f":"IFERROR(INDEX(D297:D312, SMALL(IF(\"V\"=F297:F312, ROW(F297:F312)-MIN(ROW(F297:F312))+1, \"\"), ROW() -296 )), \"\")","v":"11-239533"},{"$f":"IFERROR(INDEX(E297:E312, SMALL(IF(\"V\"=F297:F312, ROW(F297:F312)-MIN(ROW(F297:F312))+1, \"\"), ROW() -296 )), \"\")","v":"Isabel Diaz"},{"$f":"IFERROR(INDEX(B297:B312, SMALL(IF(ISNUMBER(SEARCH(\"JV1\",F297:F312)), ROW(F297:F312)-MIN(ROW(F297:F312))+1, \"\"), ROW() -296 )), \"\")","v":""},{"$f":"IFERROR(INDEX(C297:C312, SMALL(IF(ISNUMBER(SEARCH(\"JV1\",F297:F312)), ROW(F297:F312)-MIN(ROW(F297:F312))+1, \"\"), ROW() -296 )), \"\")","v":""},{"$f":"IFERROR(INDEX(D297:D312, SMALL(IF(ISNUMBER(SEARCH(\"JV1\",F297:F312)), ROW(F297:F312)-MIN(ROW(F297:F312))+1, \"\"), ROW() -296 )), \"\")","v":""},{"$f":"IFERROR(INDEX(E297:E312, SMALL(IF(ISNUMBER(SEARCH(\"JV1\",F297:F312)), ROW(F297:F312)-MIN(ROW(F297:F312))+1, \"\"), ROW() -296 )), \"\")","v":""},{"$f":"IFERROR(INDEX(B297:B312, SMALL(IF(ISNUMBER(SEARCH(\"JV2\",F297:F312)), ROW(F297:F312)-MIN(ROW(F297:F312))+1, \"\"), ROW() -296 )), \"\")","v":""},{"$f":"IFERROR(INDEX(C297:C312, SMALL(IF(ISNUMBER(SEARCH(\"JV2\",F297:F312)), ROW(F297:F312)-MIN(ROW(F297:F312))+1, \"\"), ROW() -296 )), \"\")","v":""},{"$f":"IFERROR(INDEX(D297:D312, SMALL(IF(ISNUMBER(SEARCH(\"JV2\",F297:F312)), ROW(F297:F312)-MIN(ROW(F297:F312))+1, \"\"), ROW() -296 )), \"\")","v":""},{"$f":"IFERROR(INDEX(E297:E312, SMALL(IF(ISNUMBER(SEARCH(\"JV2\",F297:F312)), ROW(F297:F312)-MIN(ROW(F297:F312))+1, \"\"), ROW() -296 )), \"\")","v":""}]
[null,"William Penn University",null,"11-35370","Gabriella Evans","V",null,3431.0,null,false,{"$nulls":17},{"$f":"IFERROR(INDEX(B297:B312, SMALL(IF(\"V\"=F297:F312, ROW(F297:F312)-MIN(ROW(F297:F312))+1, \"\"), ROW() -296 )), \"\")","v":"William Penn University"},{"$f":"IFERROR(INDEX(C297:C312, SMALL(IF(\"V\"=F297:F312, ROW(F297:F312)-MIN(ROW(F297:F312))+1, \"\"), ROW() -296 )), \"\")","v":""},{"$f":"IFERROR(INDEX(D297:D312, SMALL(IF(\"V\"=F297:F312, ROW(F297:F312)-MIN(ROW(F297:F312))+1, \"\"), ROW() -296 )), \"\")","v":"19-78537"},{"$f":"IFERROR(INDEX(E297:E312, SMALL(IF(\"V\"=F297:F312, ROW(F297:F312)-MIN(ROW(F297:F312))+1, \"\"), ROW() -296 )), \"\")","v":"Kelcey Aczon-Kawamura"},{"$f":"IFERROR(INDEX(B297:B312, SMALL(IF(ISNUMBER(SEARCH(\"JV1\",F297:F312)), ROW(F297:F312)-MIN(ROW(F297:F312))+1, \"\"), ROW() -296 )), \"\")","v":""},{"$f":"IFERROR(INDEX(C297:C312, SMALL(IF(ISNUMBER(SEARCH(\"JV1\",F297:F312)), ROW(F297:F312)-MIN(ROW(F297:F312))+1, \"\"), ROW() -296 )), \"\")","v":""},{"$f":"IFERROR(INDEX(D297:D312, SMALL(IF(ISNUMBER(SEARCH(\"JV1\",F297:F312)), ROW(F297:F312)-MIN(ROW(F297:F312))+1, \"\"), ROW() -296 )), \"\")","v":""},{"$f":"IFERROR(INDEX(E297:E312, SMALL(IF(ISNUMBER(SEARCH(\"JV1\",F297:F312)), ROW(F297:F312)-MIN(ROW(F297:F312))+1, \"\"), ROW() -296 )), \"\")","v":""},{"$f":"IFERROR(INDEX(B297:B312, SMALL(IF(ISNUMBER(SEARCH(\"JV2\",F297:F312)), ROW(F297:F312)-MIN(ROW(F297:F312))+1, \"\"), ROW() -296 )), \"\")","v":""},{"$f":"IFERROR(INDEX(C297:C312, SMALL(IF(ISNUMBER(SEARCH(\"JV2\",F297:F312)), ROW(F297:F312)-MIN(ROW(F297:F312))+1, \"\"), ROW() -296 )), \"\")","v":""},{"$f":"IFERROR(INDEX(D297:D312, SMALL(IF(ISNUMBER(SEARCH(\"JV2\",F297:F312)), ROW(F297:F312)-MIN(ROW(F297:F312))+1, \"\"), ROW() -296 )), \"\")","v":""},{"$f":"IFERROR(INDEX(E297:E312, SMALL(IF(ISNUMBER(SEARCH(\"JV2\",F297:F312)), ROW(F297:F312)-MIN(ROW(F297:F312))+1, \"\"), ROW() -296 )), \"\")","v":""}]
[null,"William Penn University",null,"6891-286","Haylee Schwark"," ",null,3431.0,null,false,{"$nulls":17},{"$f":"IFERROR(INDEX(B297:B312, SMALL(IF(\"V\"=F297:F312, ROW(F297:F312)-MIN(ROW(F297:F312))+1, \"\"), ROW() -296 )), \"\")","v":"William Penn University"},{"$f":"IFERROR(INDEX(C297:C312, SMALL(IF(\"V\"=F297:F312, ROW(F297:F312)-MIN(ROW(F297:F312))+1, \"\"), ROW() -296 )), \"\")","v":""},{"$f":"IFERROR(INDEX(D297:D312, SMALL(IF(\"V\"=F297:F312, ROW(F297:F312)-MIN(ROW(F297:F312))+1, \"\"), ROW() -296 )), \"\")","v":"11-261138"},{"$f":"IFERROR(INDEX(E297:E312, SMALL(IF(\"V\"=F297:F312, ROW(F297:F312)-MIN(ROW(F297:F312))+1, \"\"), ROW() -296 )), \"\")","v":"Olivia Pilcher"},{"$f":"IFERROR(INDEX(B297:B312, SMALL(IF(ISNUMBER(SEARCH(\"JV1\",F297:F312)), ROW(F297:F312)-MIN(ROW(F297:F312))+1, \"\"), ROW() -296 )), \"\")","v":""},{"$f":"IFERROR(INDEX(C297:C312, SMALL(IF(ISNUMBER(SEARCH(\"JV1\",F297:F312)), ROW(F297:F312)-MIN(ROW(F297:F312))+1, \"\"), ROW() -296 )), \"\")","v":""},{"$f":"IFERROR(INDEX(D297:D312, SMALL(IF(ISNUMBER(SEARCH(\"JV1\",F297:F312)), ROW(F297:F312)-MIN(ROW(F297:F312))+1, \"\"), ROW() -296 )), \"\")","v":""},{"$f":"IFERROR(INDEX(E297:E312, SMALL(IF(ISNUMBER(SEARCH(\"JV1\",F297:F312)), ROW(F297:F312)-MIN(ROW(F297:F312))+1, \"\"), ROW() -296 )), \"\")","v":""},{"$f":"IFERROR(INDEX(B297:B312, SMALL(IF(ISNUMBER(SEARCH(\"JV2\",F297:F312)), ROW(F297:F312)-MIN(ROW(F297:F312))+1, \"\"), ROW() -296 )), \"\")","v":""},{"$f":"IFERROR(INDEX(C297:C312, SMALL(IF(ISNUMBER(SEARCH(\"JV2\",F297:F312)), ROW(F297:F312)-MIN(ROW(F297:F312))+1, \"\"), ROW() -296 )), \"\")","v":""},{"$f":"IFERROR(INDEX(D297:D312, SMALL(IF(ISNUMBER(SEARCH(\"JV2\",F297:F312)), ROW(F297:F312)-MIN(ROW(F297:F312))+1, \"\"), ROW() -296 )), \"\")","v":""},{"$f":"IFERROR(INDEX(E297:E312, SMALL(IF(ISNUMBER(SEARCH(\"JV2\",F297:F312)), ROW(F297:F312)-MIN(ROW(F297:F312))+1, \"\"), ROW() -296 )), \"\")","v":""}]
[null,"William Penn University",null,"11-239533","Isabel Diaz","V",null,3431.0,null,false,{"$nulls":17},{"$f":"IFERROR(INDEX(B297:B312, SMALL(IF(\"V\"=F297:F312, ROW(F297:F312)-MIN(ROW(F297:F312))+1, \"\"), ROW() -296 )), \"\")","v":"William Penn University"},{"$f":"IFERROR(INDEX(C297:C312, SMALL(IF(\"V\"=F297:F312, ROW(F297:F312)-MIN(ROW(F297:F312))+1, \"\"), ROW() -296 )), \"\")","v":""},{"$f":"IFERROR(INDEX(D297:D312, SMALL(IF(\"V\"=F297:F312, ROW(F297:F312)-MIN(ROW(F297:F312))+1, \"\"), ROW() -296 )), \"\")","v":"11-506021"},{"$f":"IFERROR(INDEX(E297:E312, SMALL(IF(\"V\"=F297:F312, ROW(F297:F312)-MIN(ROW(F297:F312))+1, \"\"), ROW() -296 )), \"\")","v":"Shadyn Bishop"},{"$f":"IFERROR(INDEX(B297:B312, SMALL(IF(ISNUMBER(SEARCH(\"JV1\",F297:F312)), ROW(F297:F312)-MIN(ROW(F297:F312))+1, \"\"), ROW() -296 )), \"\")","v":""},{"$f":"IFERROR(INDEX(C297:C312, SMALL(IF(ISNUMBER(SEARCH(\"JV1\",F297:F312)), ROW(F297:F312)-MIN(ROW(F297:F312))+1, \"\"), ROW() -296 )), \"\")","v":""},{"$f":"IFERROR(INDEX(D297:D312, SMALL(IF(ISNUMBER(SEARCH(\"JV1\",F297:F312)), ROW(F297:F312)-MIN(ROW(F297:F312))+1, \"\"), ROW() -296 )), \"\")","v":""},{"$f":"IFERROR(INDEX(E297:E312, SMALL(IF(ISNUMBER(SEARCH(\"JV1\",F297:F312)), ROW(F297:F312)-MIN(ROW(F297:F312))+1, \"\"), ROW() -296 )), \"\")","v":""},{"$f":"IFERROR(INDEX(B297:B312, SMALL(IF(ISNUMBER(SEARCH(\"JV2\",F297:F312)), ROW(F297:F312)-MIN(ROW(F297:F312))+1, \"\"), ROW() -296 )), \"\")","v":""},{"$f":"IFERROR(INDEX(C297:C312, SMALL(IF(ISNUMBER(SEARCH(\"JV2\",F297:F312)), ROW(F297:F312)-MIN(ROW(F297:F312))+1, \"\"), ROW() -296 )), \"\")","v":""},{"$f":"IFERROR(INDEX(D297:D312, SMALL(IF(ISNUMBER(SEARCH(\"JV2\",F297:F312)), ROW(F297:F312)-MIN(ROW(F297:F312))+1, \"\"), ROW() -296 )), \"\")","v":""},{"$f":"IFERROR(INDEX(E297:E312, SMALL(IF(ISNUMBER(SEARCH(\"JV2\",F297:F312)), ROW(F297:F312)-MIN(ROW(F297:F312))+1, \"\"), ROW() -296 )), \"\")","v":""}]
[null,"William Penn University",null,"19-78537","Kelcey Aczon-Kawamura","V",null,3431.0,null,false]
[null,"William Penn University",null,"11-294013","Madison Ross"," ",null,3431.0,null,false]
[null,"William Penn University",null,"8017-1181","Nikki Parlet"," ",null,3431.0,null,false]
[null,"William Penn University",null,"11-390462","Olivia Nolte"," ",null,3431.0,null,false]
[null,"William Penn University",null,"11-261138","Olivia Pilcher","V",null,3431.0,null,false]
[null,"William Penn University",null,"11-706020","Payton Vogel"," ",null,3431.0,null,false]
[null,"William Penn University",null,"11-506021","Shadyn Bishop","V",null,3431.0,null,false]
[null,"William Penn University",null,"8756-13178","Toni Hansen"," ",null,3431.0,null,false]
[null,"William Woods University",null,"22-28583","Aubrie Weredyk","V",null,4611.0,null,false,{"$nulls":17},{"$f":"IFERROR(INDEX(B313:B320, SMALL(IF(\"V\"=F313:F320, ROW(F313:F320)-MIN(ROW(F313:F320))+1, \"\"), ROW() -312 )), \"\")","v":"William Woods University"},{"$f":"IFERROR(INDEX(C313:C320, SMALL(IF(\"V\"=F313:F320, ROW(F313:F320)-MIN(ROW(F313:F320))+1, \"\"), ROW() -312 )), \"\")","v":""},{"$f":"IFERROR(INDEX(D313:D320, SMALL(IF(\"V\"=F313:F320, ROW(F313:F320)-MIN(ROW(F313:F320))+1, \"\"), ROW() -312 )), \"\")","v":"22-28583"},{"$f":"IFERROR(INDEX(E313:E320, SMALL(IF(\"V\"=F313:F320, ROW(F313:F320)-MIN(ROW(F313:F320))+1, \"\"), ROW() -312 )), \"\")","v":"Aubrie Weredyk"},{"$f":"IFERROR(INDEX(B313:B320, SMALL(IF(ISNUMBER(SEARCH(\"JV1\",F313:F320)), ROW(F313:F320)-MIN(ROW(F313:F320))+1, \"\"), ROW() -312 )), \"\")","v":""},{"$f":"IFERROR(INDEX(C313:C320, SMALL(IF(ISNUMBER(SEARCH(\"JV1\",F313:F320)), ROW(F313:F320)-MIN(ROW(F313:F320))+1, \"\"), ROW() -312 )), \"\")","v":""},{"$f":"IFERROR(INDEX(D313:D320, SMALL(IF(ISNUMBER(SEARCH(\"JV1\",F313:F320)), ROW(F313:F320)-MIN(ROW(F313:F320))+1, \"\"), ROW() -312 )), \"\")","v":""},{"$f":"IFERROR(INDEX(E313:E320, SMALL(IF(ISNUMBER(SEARCH(\"JV1\",F313:F320)), ROW(F313:F320)-MIN(ROW(F313:F320))+1, \"\"), ROW() -312 )), \"\")","v":""},{"$f":"IFERROR(INDEX(B313:B320, SMALL(IF(ISNUMBER(SEARCH(\"JV2\",F313:F320)), ROW(F313:F320)-MIN(ROW(F313:F320))+1, \"\"), ROW() -312 )), \"\")","v":""},{"$f":"IFERROR(INDEX(C313:C320, SMALL(IF(ISNUMBER(SEARCH(\"JV2\",F313:F320)), ROW(F313:F320)-MIN(ROW(F313:F320))+1, \"\"), ROW() -312 )), \"\")","v":""},{"$f":"IFERROR(INDEX(D313:D320, SMALL(IF(ISNUMBER(SEARCH(\"JV2\",F313:F320)), ROW(F313:F320)-MIN(ROW(F313:F320))+1, \"\"), ROW() -312 )), \"\")","v":""},{"$f":"IFERROR(INDEX(E313:E320, SMALL(IF(ISNUMBER(SEARCH(\"JV2\",F313:F320)), ROW(F313:F320)-MIN(ROW(F313:F320))+1, \"\"), ROW() -312 )), \"\")","v":""}]
[null,"William Woods University",null,"18-17170","Caitlyn Rawson","V",null,4611.0,null,false,{"$nulls":17},{"$f":"IFERROR(INDEX(B313:B320, SMALL(IF(\"V\"=F313:F320, ROW(F313:F320)-MIN(ROW(F313:F320))+1, \"\"), ROW() -312 )), \"\")","v":"William Woods University"},{"$f":"IFERROR(INDEX(C313:C320, SMALL(IF(\"V\"=F313:F320, ROW(F313:F320)-MIN(ROW(F313:F320))+1, \"\"), ROW() -312 )), \"\")","v":""},{"$f":"IFERROR(INDEX(D313:D320, SMALL(IF(\"V\"=F313:F320, ROW(F313:F320)-MIN(ROW(F313:F320))+1, \"\"), ROW() -312 )), \"\")","v":"18-17170"},{"$f":"IFERROR(INDEX(E313:E320, SMALL(IF(\"V\"=F313:F320, ROW(F313:F320)-MIN(ROW(F313:F320))+1, \"\"), ROW() -312 )), \"\")","v":"Caitlyn Rawson"},{"$f":"IFERROR(INDEX(B313:B320, SMALL(IF(ISNUMBER(SEARCH(\"JV1\",F313:F320)), ROW(F313:F320)-MIN(ROW(F313:F320))+1, \"\"), ROW() -312 )), \"\")","v":""},{"$f":"IFERROR(INDEX(C313:C320, SMALL(IF(ISNUMBER(SEARCH(\"JV1\",F313:F320)), ROW(F313:F320)-MIN(ROW(F313:F320))+1, \"\"), ROW() -312 )), \"\")","v":""},{"$f":"IFERROR(INDEX(D313:D320, SMALL(IF(ISNUMBER(SEARCH(\"JV1\",F313:F320)), ROW(F313:F320)-MIN(ROW(F313:F320))+1, \"\"), ROW() -312 )), \"\")","v":""},{"$f":"IFERROR(INDEX(E313:E320, SMALL(IF(ISNUMBER(SEARCH(\"JV1\",F313:F320)), ROW(F313:F320)-MIN(ROW(F313:F320))+1, \"\"), ROW() -312 )), \"\")","v":""},{"$f":"IFERROR(INDEX(B313:B320, SMALL(IF(ISNUMBER(SEARCH(\"JV2\",F313:F320)), ROW(F313:F320)-MIN(ROW(F313:F320))+1, \"\"), ROW() -312 )), \"\")","v":""},{"$f":"IFERROR(INDEX(C313:C320, SMALL(IF(ISNUMBER(SEARCH(\"JV2\",F313:F320)), ROW(F313:F320)-MIN(ROW(F313:F320))+1, \"\"), ROW() -312 )), \"\")","v":""},{"$f":"IFERROR(INDEX(D313:D320, SMALL(IF(ISNUMBER(SEARCH(\"JV2\",F313:F320)), ROW(F313:F320)-MIN(ROW(F313:F320))+1, \"\"), ROW() -312 )), \"\")","v":""},{"$f":"IFERROR(INDEX(E313:E320, SMALL(IF(ISNUMBER(SEARCH(\"JV2\",F313:F320)), ROW(F313:F320)-MIN(ROW(F313:F320))+1, \"\"), ROW() -312 )), \"\")","v":""}]
[null,"William Woods University",null,"15-46752","Haylie Denney","V",null,4611.0,null,false,{"$nulls":17},{"$f":"IFERROR(INDEX(B313:B320, SMALL(IF(\"V\"=F313:F320, ROW(F313:F320)-MIN(ROW(F313:F320))+1, \"\"), ROW() -312 )), \"\")","v":"William Woods University"},{"$f":"IFERROR(INDEX(C313:C320, SMALL(IF(\"V\"=F313:F320, ROW(F313:F320)-MIN(ROW(F313:F320))+1, \"\"), ROW() -312 )), \"\")","v":""},{"$f":"IFERROR(INDEX(D313:D320, SMALL(IF(\"V\"=F313:F320, ROW(F313:F320)-MIN(ROW(F313:F320))+1, \"\"), ROW() -312 )), \"\")","v":"15-46752"},{"$f":"IFERROR(INDEX(E313:E320, SMALL(IF(\"V\"=F313:F320, ROW(F313:F320)-MIN(ROW(F313:F320))+1, \"\"), ROW() -312 )), \"\")","v":"Haylie Denney"},{"$f":"IFERROR(INDEX(B313:B320, SMALL(IF(ISNUMBER(SEARCH(\"JV1\",F313:F320)), ROW(F313:F320)-MIN(ROW(F313:F320))+1, \"\"), ROW() -312 )), \"\")","v":""},{"$f":"IFERROR(INDEX(C313:C320, SMALL(IF(ISNUMBER(SEARCH(\"JV1\",F313:F320)), ROW(F313:F320)-MIN(ROW(F313:F320))+1, \"\"), ROW() -312 )), \"\")","v":""},{"$f":"IFERROR(INDEX(D313:D320, SMALL(IF(ISNUMBER(SEARCH(\"JV1\",F313:F320)), ROW(F313:F320)-MIN(ROW(F313:F320))+1, \"\"), ROW() -312 )), \"\")","v":""},{"$f":"IFERROR(INDEX(E313:E320, SMALL(IF(ISNUMBER(SEARCH(\"JV1\",F313:F320)), ROW(F313:F320)-MIN(ROW(F313:F320))+1, \"\"), ROW() -312 )), \"\")","v":""},{"$f":"IFERROR(INDEX(B313:B320, SMALL(IF(ISNUMBER(SEARCH(\"JV2\",F313:F320)), ROW(F313:F320)-MIN(ROW(F313:F320))+1, \"\"), ROW() -312 )), \"\")","v":""},{"$f":"IFERROR(INDEX(C313:C320, SMALL(IF(ISNUMBER(SEARCH(\"JV2\",F313:F320)), ROW(F313:F320)-MIN(ROW(F313:F320))+1, \"\"), ROW() -312 )), \"\")","v":""},{"$f":"IFERROR(INDEX(D313:D320, SMALL(IF(ISNUMBER(SEARCH(\"JV2\",F313:F320)), ROW(F313:F320)-MIN(ROW(F313:F320))+1, \"\"), ROW() -312 )), \"\")","v":""},{"$f":"IFERROR(INDEX(E313:E320, SMALL(IF(ISNUMBER(SEARCH(\"JV2\",F313:F320)), ROW(F313:F320)-MIN(ROW(F313:F320))+1, \"\"), ROW() -312 )), \"\")","v":""}]
[null,"William Woods University",null,"11-743648","Hope Minett","V",null,4611.0,null,false,{"$nulls":17},{"$f":"IFERROR(INDEX(B313:B320, SMALL(IF(\"V\"=F313:F320, ROW(F313:F320)-MIN(ROW(F313:F320))+1, \"\"), ROW() -312 )), \"\")","v":"William Woods University"},{"$f":"IFERROR(INDEX(C313:C320, SMALL(IF(\"V\"=F313:F320, ROW(F313:F320)-MIN(ROW(F313:F320))+1, \"\"), ROW() -312 )), \"\")","v":""},{"$f":"IFERROR(INDEX(D313:D320, SMALL(IF(\"V\"=F313:F320, ROW(F313:F320)-MIN(ROW(F313:F320))+1, \"\"), ROW() -312 )), \"\")","v":"11-743648"},{"$f":"IFERROR(INDEX(E313:E320, SMALL(IF(\"V\"=F313:F320, ROW(F313:F320)-MIN(ROW(F313:F320))+1, \"\"), ROW() -312 )), \"\")","v":"Hope Minett"},{"$f":"IFERROR(INDEX(B313:B320, SMALL(IF(ISNUMBER(SEARCH(\"JV1\",F313:F320)), ROW(F313:F320)-MIN(ROW(F313:F320))+1, \"\"), ROW() -312 )), \"\")","v":""},{"$f":"IFERROR(INDEX(C313:C320, SMALL(IF(ISNUMBER(SEARCH(\"JV1\",F313:F320)), ROW(F313:F320)-MIN(ROW(F313:F320))+1, \"\"), ROW() -312 )), \"\")","v":""},{"$f":"IFERROR(INDEX(D313:D320, SMALL(IF(ISNUMBER(SEARCH(\"JV1\",F313:F320)), ROW(F313:F320)-MIN(ROW(F313:F320))+1, \"\"), ROW() -312 )), \"\")","v":""},{"$f":"IFERROR(INDEX(E313:E320, SMALL(IF(ISNUMBER(SEARCH(\"JV1\",F313:F320)), ROW(F313:F320)-MIN(ROW(F313:F320))+1, \"\"), ROW() -312 )), \"\")","v":""},{"$f":"IFERROR(INDEX(B313:B320, SMALL(IF(ISNUMBER(SEARCH(\"JV2\",F313:F320)), ROW(F313:F320)-MIN(ROW(F313:F320))+1, \"\"), ROW() -312 )), \"\")","v":""},{"$f":"IFERROR(INDEX(C313:C320, SMALL(IF(ISNUMBER(SEARCH(\"JV2\",F313:F320)), ROW(F313:F320)-MIN(ROW(F313:F320))+1, \"\"), ROW() -312 )), \"\")","v":""},{"$f":"IFERROR(INDEX(D313:D320, SMALL(IF(ISNUMBER(SEARCH(\"JV2\",F313:F320)), ROW(F313:F320)-MIN(ROW(F313:F320))+1, \"\"), ROW() -312 )), \"\")","v":""},{"$f":"IFERROR(INDEX(E313:E320, SMALL(IF(ISNUMBER(SEARCH(\"JV2\",F313:F320)), ROW(F313:F320)-MIN(ROW(F313:F320))+1, \"\"), ROW() -312 )), \"\")","v":""}]
[null,"William Woods University",null,"22-1676","Izzy Fletcher"," ",null,4611.0,null,false,{"$nulls":17},{"$f":"IFERROR(INDEX(B313:B320, SMALL(IF(\"V\"=F313:F320, ROW(F313:F320)-MIN(ROW(F313:F320))+1, \"\"), ROW() -312 )), \"\")","v":"William Woods University"},{"$f":"IFERROR(INDEX(C313:C320, SMALL(IF(\"V\"=F313:F320, ROW(F313:F320)-MIN(ROW(F313:F320))+1, \"\"), ROW() -312 )), \"\")","v":""},{"$f":"IFERROR(INDEX(D313:D320, SMALL(IF(\"V\"=F313:F320, ROW(F313:F320)-MIN(ROW(F313:F320))+1, \"\"), ROW() -312 )), \"\")","v":"21-91965"},{"$f":"IFERROR(INDEX(E313:E320, SMALL(IF(\"V\"=F313:F320, ROW(F313:F320)-MIN(ROW(F313:F320))+1, \"\"), ROW() -312 )), \"\")","v":"Madison Jensen"},{"$f":"IFERROR(INDEX(B313:B320, SMALL(IF(ISNUMBER(SEARCH(\"JV1\",F313:F320)), ROW(F313:F320)-MIN(ROW(F313:F320))+1, \"\"), ROW() -312 )), \"\")","v":""},{"$f":"IFERROR(INDEX(C313:C320, SMALL(IF(ISNUMBER(SEARCH(\"JV1\",F313:F320)), ROW(F313:F320)-MIN(ROW(F313:F320))+1, \"\"), ROW() -312 )), \"\")","v":""},{"$f":"IFERROR(INDEX(D313:D320, SMALL(IF(ISNUMBER(SEARCH(\"JV1\",F313:F320)), ROW(F313:F320)-MIN(ROW(F313:F320))+1, \"\"), ROW() -312 )), \"\")","v":""},{"$f":"IFERROR(INDEX(E313:E320, SMALL(IF(ISNUMBER(SEARCH(\"JV1\",F313:F320)), ROW(F313:F320)-MIN(ROW(F313:F320))+1, \"\"), ROW() -312 )), \"\")","v":""},{"$f":"IFERROR(INDEX(B313:B320, SMALL(IF(ISNUMBER(SEARCH(\"JV2\",F313:F320)), ROW(F313:F320)-MIN(ROW(F313:F320))+1, \"\"), ROW() -312 )), \"\")","v":""},{"$f":"IFERROR(INDEX(C313:C320, SMALL(IF(ISNUMBER(SEARCH(\"JV2\",F313:F320)), ROW(F313:F320)-MIN(ROW(F313:F320))+1, \"\"), ROW() -312 )), \"\")","v":""},{"$f":"IFERROR(INDEX(D313:D320, SMALL(IF(ISNUMBER(SEARCH(\"JV2\",F313:F320)), ROW(F313:F320)-MIN(ROW(F313:F320))+1, \"\"), ROW() -312 )), \"\")","v":""},{"$f":"IFERROR(INDEX(E313:E320, SMALL(IF(ISNUMBER(SEARCH(\"JV2\",F313:F320)), ROW(F313:F320)-MIN(ROW(F313:F320))+1, \"\"), ROW() -312 )), \"\")","v":""}]
[null,"William Woods University",null,"21-91965","Madison Jensen","V",null,4611.0,null,false,{"$nulls":17},{"$f":"IFERROR(INDEX(B313:B320, SMALL(IF(\"V\"=F313:F320, ROW(F313:F320)-MIN(ROW(F313:F320))+1, \"\"), ROW() -312 )), \"\")","v":"William Woods University"},{"$f":"IFERROR(INDEX(C313:C320, SMALL(IF(\"V\"=F313:F320, ROW(F313:F320)-MIN(ROW(F313:F320))+1, \"\"), ROW() -312 )), \"\")","v":""},{"$f":"IFERROR(INDEX(D313:D320, SMALL(IF(\"V\"=F313:F320, ROW(F313:F320)-MIN(ROW(F313:F320))+1, \"\"), ROW() -312 )), \"\")","v":"22-1674"},{"$f":"IFERROR(INDEX(E313:E320, SMALL(IF(\"V\"=F313:F320, ROW(F313:F320)-MIN(ROW(F313:F320))+1, \"\"), ROW() -312 )), \"\")","v":"Savanna Terry"},{"$f":"IFERROR(INDEX(B313:B320, SMALL(IF(ISNUMBER(SEARCH(\"JV1\",F313:F320)), ROW(F313:F320)-MIN(ROW(F313:F320))+1, \"\"), ROW() -312 )), \"\")","v":""},{"$f":"IFERROR(INDEX(C313:C320, SMALL(IF(ISNUMBER(SEARCH(\"JV1\",F313:F320)), ROW(F313:F320)-MIN(ROW(F313:F320))+1, \"\"), ROW() -312 )), \"\")","v":""},{"$f":"IFERROR(INDEX(D313:D320, SMALL(IF(ISNUMBER(SEARCH(\"JV1\",F313:F320)), ROW(F313:F320)-MIN(ROW(F313:F320))+1, \"\"), ROW() -312 )), \"\")","v":""},{"$f":"IFERROR(INDEX(E313:E320, SMALL(IF(ISNUMBER(SEARCH(\"JV1\",F313:F320)), ROW(F313:F320)-MIN(ROW(F313:F320))+1, \"\"), ROW() -312 )), \"\")","v":""},{"$f":"IFERROR(INDEX(B313:B320, SMALL(IF(ISNUMBER(SEARCH(\"JV2\",F313:F320)), ROW(F313:F320)-MIN(ROW(F313:F320))+1, \"\"), ROW() -312 )), \"\")","v":""},{"$f":"IFERROR(INDEX(C313:C320, SMALL(IF(ISNUMBER(SEARCH(\"JV2\",F313:F320)), ROW(F313:F320)-MIN(ROW(F313:F320))+1, \"\"), ROW() -312 )), \"\")","v":""},{"$f":"IFERROR(INDEX(D313:D320, SMALL(IF(ISNUMBER(SEARCH(\"JV2\",F313:F320)), ROW(F313:F320)-MIN(ROW(F313:F320))+1, \"\"), ROW() -312 )), \"\")","v":""},{"$f":"IFERROR(INDEX(E313:E320, SMALL(IF(ISNUMBER(SEARCH(\"JV2\",F313:F320)), ROW(F313:F320)-MIN(ROW(F313:F320))+1, \"\"), ROW() -312 )), \"\")","v":""}]
[null,"William Woods University",null,"11-279390","Samantha Andrews"," ",null,4611.0,null,false,{"$nulls":17},{"$f":"IFERROR(INDEX(B313:B320, SMALL(IF(\"V\"=F313:F320, ROW(F313:F320)-MIN(ROW(F313:F320))+1, \"\"), ROW() -312 )), \"\")","v":""},{"$f":"IFERROR(INDEX(C313:C320, SMALL(IF(\"V\"=F313:F320, ROW(F313:F320)-MIN(ROW(F313:F320))+1, \"\"), ROW() -312 )), \"\")","v":""},{"$f":"IFERROR(INDEX(D313:D320, SMALL(IF(\"V\"=F313:F320, ROW(F313:F320)-MIN(ROW(F313:F320))+1, \"\"), ROW() -312 )), \"\")","v":""},{"$f":"IFERROR(INDEX(E313:E320, SMALL(IF(\"V\"=F313:F320, ROW(F313:F320)-MIN(ROW(F313:F320))+1, \"\"), ROW() -312 )), \"\")","v":""},{"$f":"IFERROR(INDEX(B313:B320, SMALL(IF(ISNUMBER(SEARCH(\"JV1\",F313:F320)), ROW(F313:F320)-MIN(ROW(F313:F320))+1, \"\"), ROW() -312 )), \"\")","v":""},{"$f":"IFERROR(INDEX(C313:C320, SMALL(IF(ISNUMBER(SEARCH(\"JV1\",F313:F320)), ROW(F313:F320)-MIN(ROW(F313:F320))+1, \"\"), ROW() -312 )), \"\")","v":""},{"$f":"IFERROR(INDEX(D313:D320, SMALL(IF(ISNUMBER(SEARCH(\"JV1\",F313:F320)), ROW(F313:F320)-MIN(ROW(F313:F320))+1, \"\"), ROW() -312 )), \"\")","v":""},{"$f":"IFERROR(INDEX(E313:E320, SMALL(IF(ISNUMBER(SEARCH(\"JV1\",F313:F320)), ROW(F313:F320)-MIN(ROW(F313:F320))+1, \"\"), ROW() -312 )), \"\")","v":""},{"$f":"IFERROR(INDEX(B313:B320, SMALL(IF(ISNUMBER(SEARCH(\"JV2\",F313:F320)), ROW(F313:F320)-MIN(ROW(F313:F320))+1, \"\"), ROW() -312 )), \"\")","v":""},{"$f":"IFERROR(INDEX(C313:C320, SMALL(IF(ISNUMBER(SEARCH(\"JV2\",F313:F320)), ROW(F313:F320)-MIN(ROW(F313:F320))+1, \"\"), ROW() -312 )), \"\")","v":""},{"$f":"IFERROR(INDEX(D313:D320, SMALL(IF(ISNUMBER(SEARCH(\"JV2\",F313:F320)), ROW(F313:F320)-MIN(ROW(F313:F320))+1, \"\"), ROW() -312 )), \"\")","v":""},{"$f":"IFERROR(INDEX(E313:E320, SMALL(IF(ISNUMBER(SEARCH(\"JV2\",F313:F320)), ROW(F313:F320)-MIN(ROW(F313:F320))+1, \"\"), ROW() -312 )), \"\")","v":""}]
[null,"William Woods University",null,"22-1674","Savanna Terry","V",null,4611.0,null,false,{"$nulls":17},{"$f":"IFERROR(INDEX(B313:B320, SMALL(IF(\"V\"=F313:F320, ROW(F313:F320)-MIN(ROW(F313:F320))+1, \"\"), ROW() -312 )), \"\")","v":""},{"$f":"IFERROR(INDEX(C313:C320, SMALL(IF(\"V\"=F313:F320, ROW(F313:F320)-MIN(ROW(F313:F320))+1, \"\"), ROW() -312 )), \"\")","v":""},{"$f":"IFERROR(INDEX(D313:D320, SMALL(IF(\"V\"=F313:F320, ROW(F313:F320)-MIN(ROW(F313:F320))+1, \"\"), ROW() -312 )), \"\")","v":""},{"$f":"IFERROR(INDEX(E313:E320, SMALL(IF(\"V\"=F313:F320, ROW(F313:F320)-MIN(ROW(F313:F320))+1, \"\"), ROW() -312 )), \"\")","v":""},{"$f":"IFERROR(INDEX(B313:B320, SMALL(IF(ISNUMBER(SEARCH(\"JV1\",F313:F320)), ROW(F313:F320)-MIN(ROW(F313:F320))+1, \"\"), ROW() -312 )), \"\")","v":""},{"$f":"IFERROR(INDEX(C313:C320, SMALL(IF(ISNUMBER(SEARCH(\"JV1\",F313:F320)), ROW(F313:F320)-MIN(ROW(F313:F320))+1, \"\"), ROW() -312 )), \"\")","v":""},{"$f":"IFERROR(INDEX(D313:D320, SMALL(IF(ISNUMBER(SEARCH(\"JV1\",F313:F320)), ROW(F313:F320)-MIN(ROW(F313:F320))+1, \"\"), ROW() -312 )), \"\")","v":""},{"$f":"IFERROR(INDEX(E313:E320, SMALL(IF(ISNUMBER(SEARCH(\"JV1\",F313:F320)), ROW(F313:F320)-MIN(ROW(F313:F320))+1, \"\"), ROW() -312 )), \"\")","v":""},{"$f":"IFERROR(INDEX(B313:B320, SMALL(IF(ISNUMBER(SEARCH(\"JV2\",F313:F320)), ROW(F313:F320)-MIN(ROW(F313:F320))+1, \"\"), ROW() -312 )), \"\")","v":""},{"$f":"IFERROR(INDEX(C313:C320, SMALL(IF(ISNUMBER(SEARCH(\"JV2\",F313:F320)), ROW(F313:F320)-MIN(ROW(F313:F320))+1, \"\"), ROW() -312 )), \"\")","v":""},{"$f":"IFERROR(INDEX(D313:D320, SMALL(IF(ISNUMBER(SEARCH(\"JV2\",F313:F320)), ROW(F313:F320)-MIN(ROW(F313:F320))+1, \"\"), ROW() -312 )), \"\")","v":""},{"$f":"IFERROR(INDEX(E313:E320, SMALL(IF(ISNUMBER(SEARCH(\"JV2\",F313:F320)), ROW(F313:F320)-MIN(ROW(F313:F320))+1, \"\"), ROW() -312 )), \"\")","v":""}]

{"sheet":"Individual_Scores_Women_Var","index":1,"n_rows":341,"n_cols":54,"rows_kept":341,"cut":false,"hidden":false,"merged":[[0,0,0,13]]}
["Individual Scores and Team Games"]
[{"$nulls":51},"Yes"]
[null,"Mid States Championships (Tier I Women)",{"$nulls":49},"No"]
[null,"Tier 1","USBC",{"$nulls":12},"1202","6","20","5","2.6","2.6",null,null,"7",{"$nulls":29},"IBCYouth"]
[null,"<<Dates>>","<<Event#>>","10/15/2022 - 10/16/2022"]
[null,"<<Location>>",null,"Wichita, KS"]
[]
[null,"Women's Division",null,"Cert No:","05700"]
[null,"Division"]
[{"$nulls":6},"Game","Game","Game","Game","Game","Game",null,"Games","Tourn."]
[null,"Team","Bowler ID","Bowler","Bowled","Bowled Baker",1.0,2.0,3.0,4.0,5.0,6.0,"Total","Bowled","Ave."]
[null,{"$f":"Roster_Selection_Women!AB11&\" \" & \"V \"","v":"Avila University V "},{"$f":"Roster_Selection_Women!AD11","v":"16-4955"},{"$f":"Roster_Selection_Women!AE11","v":"Bailey Stephan"},null,{"$f":"IF(ISERROR(Baker_Scores_Women_Var!E12), \" \", IF(Baker_Scores_Women_Var!E12 = \"Yes\", \"Yes\", \"  \"))","v":"  "},106.0,147.0,135.0,150.0,165.0,126.0,{"$f":"SUM(G12:L12)","v":829},{"$f":"COUNTIF(G12:L12, \">0\" )","v":6},{"$f":"IF(N12=0,0,M12/N12)","v":138.1666667}]
[null,{"$f":"Roster_Selection_Women!AB12&\" \" & \"V \"","v":"Avila University V "},{"$f":"Roster_Selection_Women!AD12","v":"11-103558"},{"$f":"Roster_Selection_Women!AE12","v":"Claire Busch"},null,{"$f":"IF(ISERROR(Baker_Scores_Women_Var!E13), \" \", IF(Baker_Scores_Women_Var!E13 = \"Yes\", \"Yes\", \"  \"))","v":"  "},158.0,152.0,202.0,160.0,169.0,157.0,998,6,166.3333333]
[null,{"$f":"Roster_Selection_Women!AB13&\" \" & \"V \"","v":"Avila University V "},{"$f":"Roster_Selection_Women!AD13","v":"11-432748"},{"$f":"Roster_Selection_Women!AE13","v":"Devyn Coleman"},null,{"$f":"IF(ISERROR(Baker_Scores_Women_Var!E14), \" \", IF(Baker_Scores_Women_Var!E14 = \"Yes\", \"Yes\", \"  \"))","v":"  "},190.0,142.0,171.0,190.0,243.0,182.0,1118,6,186.3333333]
[null,{"$f":"Roster_Selection_Women!AB14&\" \" & \"V \"","v":"Avila University V "},{"$f":"Roster_Selection_Women!AD14","v":"11-587498"},{"$f":"Roster_Selection_Women!AE14","v":"Joanne Alibayan"},null,{"$f":"IF(ISERROR(Baker_Scores_Women_Var!E15), \" \", IF(Baker_Scores_Women_Var!E15 = \"Yes\", \"Yes\", \"  \"))","v":"  "},148.0,172.0,181.0,160.0,183.0,159.0,1003,6,167.1666667]
[null,{"$f":"Roster_Selection_Women!AB15&\" \" & \"V \"","v":"Avila University V "},{"$f":"Roster_Selection_Women!AD15","v":"17-84443"},{"$f":"Roster_Selection_Women!AE15","v":"Kirsten Zirjacks"},null,{"$f":"IF(ISERROR(Baker_Scores_Women_Var!E16), \" \", IF(Baker_Scores_Women_Var!E16 = \"Yes\", \"Yes\", \"  \"))","v":"  "},145.0,134.0,152.0,0.0,168.0,173.0,772,5,154.4]
[null,{"$f":"Roster_Selection_Women!AB16&\" \" & \"V \"","v":"Avila University V "},{"$f":"Roster_Selection_Women!AD16","v":"22-1548"},{"$f":"Roster_Selection_Women!AE16","v":"Victoria Bestor"},null,{"$f":"IF(ISERROR(Baker_Scores_Women_Var!E17), \" \", IF(Baker_Scores_Women_Var!E17 = \"Yes\", \"Yes\", \"  \"))","v":"  "},0.0,0.0,0.0,107.0,0.0,0.0,107,1,107]
[null,{"$f":"Roster_Selection_Women!AB17&\" \" & \"V \"","v":" V "},{"$f":"Roster_Selection_Women!AD17","v":""},{"$f":"Roster_Selection_Women!AE17","v":""},null,{"$f":"IF(ISERROR(Baker_Scores_Women_Var!E18), \" \", IF(Baker_Scores_Women_Var!E18 = \"Yes\", \"Yes\", \"  \"))","v":"  "},{"$nulls":6},0,0,0]
[null,{"$f":"Roster_Selection_Women!AB18&\" \" & \"V \"","v":" V "},{"$f":"Roster_Selection_Women!AD18","v":""},{"$f":"Roster_Selection_Women!AE18","v":""},null,{"$f":"IF(ISERROR(Baker_Scores_Women_Var!E19), \" \", IF(Baker_Scores_Women_Var!E19 = \"Yes\", \"Yes\", \"  \"))","v":"  "},{"$nulls":6},0,0,0]
[null,"Avila University V","","",{"$nulls":8},0,0,0]
[null,"Avila University V","","",{"$nulls":8},0,0,0]
[null,"Avila University V","","",{"$nulls":8},0,0,0]
[{"$nulls":6},{"$f":"SUM(G12:G22)","v":747},747,841,767,928,797,4827,30]
[]
[null,{"$f":"Roster_Selection_Women!AB19&\" \" & \"V \"","v":"Baker University V "},{"$f":"Roster_Selection_Women!AD19","v":"11-193244"},{"$f":"Roster_Selection_Women!AE19","v":"Audrey Valdez"},null,{"$f":"IF(ISERROR(Baker_Scores_Women_Var!E25), \" \", IF(Baker_Scores_Women_Var!E25 = \"Yes\", \"Yes\", \"  \"))","v":"  "},182.0,153.0,0.0,0.0,0.0,0.0,{"$f":"SUM(G25:L25)","v":335},{"$f":"COUNTIF(G25:L25, \">0\" )","v":2},{"$f":"IF(N25=0,0,M25/N25)","v":167.5}]
[null,{"$f":"Roster_Selection_Women!AB20&\" \" & \"V \"","v":"Baker University V "},{"$f":"Roster_Selection_Women!AD20","v":"7914-53224"},{"$f":"Roster_Selection_Women!AE20","v":"Emily Stamper"},null,{"$f":"IF(ISERROR(Baker_Scores_Women_Var!E26), \" \", IF(Baker_Scores_Women_Var!E26 = \"Yes\", \"Yes\", \"  \"))","v":"  "},146.0,196.0,165.0,145.0,206.0,180.0,1038,6,173]
[null,{"$f":"Roster_Selection_Women!AB21&\" \" & \"V \"","v":"Baker University V "},{"$f":"Roster_Selection_Women!AD21","v":"11-513141"},{"$f":"Roster_Selection_Women!AE21","v":"Hailee McCormick"},null,{"$f":"IF(ISERROR(Baker_Scores_Women_Var!E27), \" \", IF(Baker_Scores_Women_Var!E27 = \"Yes\", \"Yes\", \"  \"))","v":"  "},0.0,0.0,0.0,0.0,142.0,0.0,142,1,142]
[null,{"$f":"Roster_Selection_Women!AB22&\" \" & \"V \"","v":"Baker University V "},{"$f":"Roster_Selection_Women!AD22","v":"5900-25170"},{"$f":"Roster_Selection_Women!AE22","v":"Kinsey Miller"},null,{"$f":"IF(ISERROR(Baker_Scores_Women_Var!E28), \" \", IF(Baker_Scores_Women_Var!E28 = \"Yes\", \"Yes\", \"  \"))","v":"  "},183.0,185.0,201.0,156.0,185.0,186.0,1096,6,182.6666667]
[null,{"$f":"Roster_Selection_Women!AB23&\" \" & \"V \"","v":"Baker University V "},{"$f":"Roster_Selection_Women!AD23","v":"11-246284"},{"$f":"Roster_Selection_Women!AE23","v":"Kristina Harris"},null,{"$f":"IF(ISERROR(Baker_Scores_Women_Var!E29), \" \", IF(Baker_Scores_Women_Var!E29 = \"Yes\", \"Yes\", \"  \"))","v":"  "},160.0,173.0,191.0,204.0,194.0,153.0,1075,6,179.1666667]
[null,{"$f":"Roster_Selection_Women!AB24&\" \" & \"V \"","v":"Baker University V "},{"$f":"Roster_Selection_Women!AD24","v":"5900-26804"},{"$f":"Roster_Selection_Women!AE24","v":"Majayla Boyd"},null,{"$f":"IF(ISERROR(Baker_Scores_Women_Var!E30), \" \", IF(Baker_Scores_Women_Var!E30 = \"Yes\", \"Yes\", \"  \"))","v":"  "},216.0,159.0,172.0,148.0,191.0,164.0,1050,6,175]
[null,{"$f":"Roster_Selection_Women!AB25&\" \" & \"V \"","v":"Baker University V "},{"$f":"Roster_Selection_Women!AD25","v":"5900-26536"},{"$f":"Roster_Selection_Women!AE25","v":"Skylar Valdez"},null,{"$f":"IF(ISERROR(Baker_Scores_Women_Var!E31), \" \", IF(Baker_Scores_Women_Var!E31 = \"Yes\", \"Yes\", \"  \"))","v":"  "},0.0,0.0,232.0,145.0,0.0,154.0,531,3,177]
[null,{"$f":"Roster_Selection_Women!AB26&\" \" & \"V \"","v":" V "},{"$f":"Roster_Selection_Women!AD26","v":""},{"$f":"Roster_Selection_Women!AE26","v":""},null,{"$f":"IF(ISERROR(Baker_Scores_Women_Var!E32), \" \", IF(Baker_Scores_Women_Var!E32 = \"Yes\", \"Yes\", \"  \"))","v":"  "},{"$nulls":6},0,0,0]
[null,"Baker University V","","",{"$nulls":8},0,0,0]
[null,"Baker University V","","",{"$nulls":8},0,0,0]
[null,"Baker University V","","",{"$nulls":8},0,0,0]
[{"$nulls":6},{"$f":"SUM(G25:G35)","v":887},866,961,798,918,837,5267,30]
[]
[null,{"$f":"Roster_Selection_Women!AB34&\" \" & \"V \"","v":"Barton Community College V "},{"$f":"Roster_Selection_Women!AD34","v":"11-204481"},{"$f":"Roster_Selection_Women!AE34","v":"Ana Stanton"},null,{"$f":"IF(ISERROR(Baker_Scores_Women_Var!E38), \" \", IF(Baker_Scores_Women_Var!E38 = \"Yes\", \"Yes\", \"  \"))","v":"  "},141.0,159.0,171.0,136.0,0.0,187.0,{"$f":"SUM(G38:L38)","v":794},{"$f":"COUNTIF(G38:L38, \">0\" )","v":5},{"$f":"IF(N38=0,0,M38/N38)","v":158.8}]
[null,{"$f":"Roster_Selection_Women!AB35&\" \" & \"V \"","v":"Barton Community College V "},{"$f":"Roster_Selection_Women!AD35","v":"11-344613"},{"$f":"Roster_Selection_Women!AE35","v":"Angelina Leeper"},null,{"$f":"IF(ISERROR(Baker_Scores_Women_Var!E39), \" \", IF(Baker_Scores_Women_Var!E39 = \"Yes\", \"Yes\", \"  \"))","v":"  "},185.0,168.0,125.0,0.0,172.0,134.0,784,5,156.8]
[null,{"$f":"Roster_Selection_Women!AB36&\" \" & \"V \"","v":"Barton Community College V "},{"$f":"Roster_Selection_Women!AD36","v":"18-97007"},{"$f":"Roster_Selection_Women!AE36","v":"Courtney Kitchen"},null,{"$f":"IF(ISERROR(Baker_Scores_Women_Var!E40), \" \", IF(Baker_Scores_Women_Var!E40 = \"Yes\", \"Yes\", \"  \"))","v":"  "},157.0,135.0,0.0,129.0,176.0,184.0,781,5,156.2]
[null,{"$f":"Roster_Selection_Women!AB37&\" \" & \"V \"","v":"Barton Community College V "},{"$f":"Roster_Selection_Women!AD37","v":"11-465480"},{"$f":"Roster_Selection_Women!AE37","v":"Ella Adkins"},null,{"$f":"IF(ISERROR(Baker_Scores_Women_Var!E41), \" \", IF(Baker_Scores_Women_Var!E41 = \"Yes\", \"Yes\", \"  \"))","v":"  "},123.0,0.0,153.0,186.0,182.0,138.0,782,5,156.4]
[null,{"$f":"Roster_Selection_Women!AB38&\" \" & \"V \"","v":"Barton Community College V "},{"$f":"Roster_Selection_Women!AD38","v":"16-4404"},{"$f":"Roster_Selection_Women!AE38","v":"Jasmine Bridges"},null,{"$f":"IF(ISERROR(Baker_Scores_Women_Var!E42), \" \", IF(Baker_Scores_Women_Var!E42 = \"Yes\", \"Yes\", \"  \"))","v":"  "},199.0,173.0,137.0,147.0,121.0,0.0,777,5,155.4]
[null,{"$f":"Roster_Selection_Women!AB39&\" \" & \"V \"","v":"Barton Community College V "},{"$f":"Roster_Selection_Women!AD39","v":"11-188599"},{"$f":"Roster_Selection_Women!AE39","v":"Mallory Cross"},null,{"$f":"IF(ISERROR(Baker_Scores_Women_Var!E43), \" \", IF(Baker_Scores_Women_Var!E43 = \"Yes\", \"Yes\", \"  \"))","v":"  "},0.0,186.0,158.0,155.0,146.0,163.0,808,5,161.6]
[null,{"$f":"Roster_Selection_Women!AB40&\" \" & \"V \"","v":" V "},{"$f":"Roster_Selection_Women!AD40","v":""},{"$f":"Roster_Selection_Women!AE40","v":""},null,{"$f":"IF(ISERROR(Baker_Scores_Women_Var!E44), \" \", IF(Baker_Scores_Women_Var!E44 = \"Yes\", \"Yes\", \"  \"))","v":"  "},{"$nulls":6},0,0,0]
[null,{"$f":"Roster_Selection_Women!AB41&\" \" & \"V \"","v":" V "},{"$f":"Roster_Selection_Women!AD41","v":""},{"$f":"Roster_Selection_Women!AE41","v":""},null,{"$f":"IF(ISERROR(Baker_Scores_Women_Var!E45), \" \", IF(Baker_Scores_Women_Var!E45 = \"Yes\", \"Yes\", \"  \"))","v":"  "},{"$nulls":6},0,0,0]
[null,"Barton Community College V","","",{"$nulls":8},0,0,0]
[null,"Barton Community College V","","",{"$nulls":8},0,0,0]
[null,"Barton Community College V","","",{"$nulls":8},0,0,0]
[{"$nulls":6},{"$f":"SUM(G38:G48)","v":805},821,744,753,797,806,4726,30]
[]
[null,{"$f":"Roster_Selection_Women!AB45&\" \" & \"V \"","v":"Coe College V "},{"$f":"Roster_Selection_Women!AD45","v":"11-314483"},{"$f":"Roster_Selection_Women!AE45","v":"Autumn Grzenia"},null,{"$f":"IF(ISERROR(Baker_Scores_Women_Var!E51), \" \", IF(Baker_Scores_Women_Var!E51 = \"Yes\", \"Yes\", \"  \"))","v":"  "},0.0,0.0,0.0,0.0,0.0,0.0,{"$f":"SUM(G51:L51)","v":0},{"$f":"COUNTIF(G51:L51, \">0\" )","v":0},{"$f":"IF(N51=0,0,M51/N51)","v":0}]
[null,{"$f":"Roster_Selection_Women!AB46&\" \" & \"V \"","v":"Coe College V "},{"$f":"Roster_Selection_Women!AD46","v":"15-29134"},{"$f":"Roster_Selection_Women!AE46","v":"Kaitelin Konz"},null,{"$f":"IF(ISERROR(Baker_Scores_Women_Var!E52), \" \", IF(Baker_Scores_Women_Var!E52 = \"Yes\", \"Yes\", \"  \"))","v":"  "},192.0,125.0,172.0,186.0,0.0,0.0,675,4,168.75]
[null,{"$f":"Roster_Selection_Women!AB47&\" \" & \"V \"","v":"Coe College V "},{"$f":"Roster_Selection_Women!AD47","v":"19-80002"},{"$f":"Roster_Selection_Women!AE47","v":"Kaliah Griffin"},null,{"$f":"IF(ISERROR(Baker_Scores_Women_Var!E53), \" \", IF(Baker_Scores_Women_Var!E53 = \"Yes\", \"Yes\", \"  \"))","v":"  "},0.0,0.0,164.0,0.0,160.0,116.0,440,3,146.6666667]
[null,{"$f":"Roster_Selection_Women!AB48&\" \" & \"V \"","v":"Coe College V "},{"$f":"Roster_Selection_Women!AD48","v":"16-124494"},{"$f":"Roster_Selection_Women!AE48","v":"Katrina Kendle"},null,{"$f":"IF(ISERROR(Baker_Scores_Women_Var!E54), \" \", IF(Baker_Scores_Women_Var!E54 = \"Yes\", \"Yes\", \"  \"))","v":"  "},0.0,0.0,0.0,0.0,0.0,0.0,0,0,0]
[null,{"$f":"Roster_Selection_Women!AB49&\" \" & \"V \"","v":"Coe College V "},{"$f":"Roster_Selection_Women!AD49","v":"11-381940"},{"$f":"Roster_Selection_Women!AE49","v":"Lauren Bodman"},null,{"$f":"IF(ISERROR(Baker_Scores_Women_Var!E55), \" \", IF(Baker_Scores_Women_Var!E55 = \"Yes\", \"Yes\", \"  \"))","v":"  "},234.0,219.0,154.0,172.0,182.0,160.0,1121,6,186.8333333]
[null,{"$f":"Roster_Selection_Women!AB50&\" \" & \"V \"","v":"Coe College V "},{"$f":"Roster_Selection_Women!AD50","v":"11-477923"},{"$f":"Roster_Selection_Women!AE50","v":"Michaela Beckmann"},null,{"$f":"IF(ISERROR(Baker_Scores_Women_Var!E56), \" \", IF(Baker_Scores_Women_Var!E56 = \"Yes\", \"Yes\", \"  \"))","v":"  "},224.0,223.0,178.0,169.0,195.0,238.0,1227,6,204.5]
[null,{"$f":"Roster_Selection_Women!AB51&\" \" & \"V \"","v":"Coe College V "},{"$f":"Roster_Selection_Women!AD51","v":"11-341614"},{"$f":"Roster_Selection_Women!AE51","v":"Shelby Logston"},null,{"$f":"IF(ISERROR(Baker_Scores_Women_Var!E57), \" \", IF(Baker_Scores_Women_Var!E57 = \"Yes\", \"Yes\", \"  \"))","v":"  "},155.0,143.0,0.0,176.0,203.0,147.0,824,5,164.8]
[null,{"$f":"Roster_Selection_Women!AB52&\" \" & \"V \"","v":"Coe College V "},{"$f":"Roster_Selection_Women!AD52","v":"11-35371"},{"$f":"Roster_Selection_Women!AE52","v":"Whittney Morse"},null,{"$f":"IF(ISERROR(Baker_Scores_Women_Var!E58), \" \", IF(Baker_Scores_Women_Var!E58 = \"Yes\", \"Yes\", \"  \"))","v":"  "},185.0,137.0,0.0,144.0,184.0,168.0,818,5,163.6]
[null,"Coe College V","","",{"$nulls":8},0,0,0]
[null,"Coe College V","","",{"$nulls":8},0,0,0]
[null,"Coe College V","","",{"$nulls":8},0,0,0]
[{"$nulls":6},{"$f":"SUM(G51:G61)","v":990},847,668,847,924,829,5105,29]
[]
[null,{"$f":"Roster_Selection_Women!AB63&\" \" & \"V \"","v":"College Of Saint Mary V "},{"$f":"Roster_Selection_Women!AD63","v":"11-180799"},{"$f":"Roster_Selection_Women!AE63","v":"Alexius Brass"},null,{"$f":"IF(ISERROR(Baker_Scores_Women_Var!E64), \" \", IF(Baker_Scores_Women_Var!E64 = \"Yes\", \"Yes\", \"  \"))","v":"  "},187.0,169.0,145.0,158.0,173.0,153.0,{"$f":"SUM(G64:L64)","v":985},{"$f":"COUNTIF(G64:L64, \">0\" )","v":6},{"$f":"IF(N64=0,0,M64/N64)","v":164.1666667}]
[null,{"$f":"Roster_Selection_Women!AB64&\" \" & \"V \"","v":"College Of Saint Mary V "},{"$f":"Roster_Selection_Women!AD64","v":"7914-679"},{"$f":"Roster_Selection_Women!AE64","v":"Cassidy Bradley"},null,{"$f":"IF(ISERROR(Baker_Scores_Women_Var!E65), \" \", IF(Baker_Scores_Women_Var!E65 = \"Yes\", \"Yes\", \"  \"))","v":"  "},161.0,151.0,182.0,133.0,154.0,154.0,935,6,155.8333333]
[null,{"$f":"Roster_Selection_Women!AB65&\" \" & \"V \"","v":"College Of Saint Mary V "},{"$f":"Roster_Selection_Women!AD65","v":"15-118872"},{"$f":"Roster_Selection_Women!AE65","v":"Janica Soar"},null,{"$f":"IF(ISERROR(Baker_Scores_Women_Var!E66), \" \", IF(Baker_Scores_Women_Var!E66 = \"Yes\", \"Yes\", \"  \"))","v":"  "},166.0,129.0,115.0,0.0,153.0,122.0,685,5,137]
[null,{"$f":"Roster_Selection_Women!AB66&\" \" & \"V \"","v":"College Of Saint Mary V "},{"$f":"Roster_Selection_Women!AD66","v":"17-33555"},{"$f":"Roster_Selection_Women!AE66","v":"Kaitlyn Dickmeyer"},null,{"$f":"IF(ISERROR(Baker_Scores_Women_Var!E67), \" \", IF(Baker_Scores_Women_Var!E67 = \"Yes\", \"Yes\", \"  \"))","v":"  "},189.0,173.0,140.0,168.0,186.0,193.0,1049,6,174.8333333]
[null,{"$f":"Roster_Selection_Women!AB67&\" \" & \"V \"","v":"College Of Saint Mary V "},{"$f":"Roster_Selection_Women!AD67","v":"11-103569"},{"$f":"Roster_Selection_Women!AE67","v":"Lexie Busch"},null,{"$f":"IF(ISERROR(Baker_Scores_Women_Var!E68), \" \", IF(Baker_Scores_Women_Var!E68 = \"Yes\", \"Yes\", \"  \"))","v":"  "},145.0,170.0,211.0,194.0,140.0,193.0,1053,6,175.5]
[null,{"$f":"Roster_Selection_Women!AB68&\" \" & \"V \"","v":"College Of Saint Mary V "},{"$f":"Roster_Selection_Women!AD68","v":"22-12243"},{"$f":"Roster_Selection_Women!AE68","v":"Marissa Byrd"},null,{"$f":"IF(ISERROR(Baker_Scores_Women_Var!E69), \" \", IF(Baker_Scores_Women_Var!E69 = \"Yes\", \"Yes\", \"  \"))","v":"  "},0.0,0.0,0.0,104.0,0.0,0.0,104,1,104]
[null,{"$f":"Roster_Selection_Women!AB69&\" \" & \"V \"","v":" V "},{"$f":"Roster_Selection_Women!AD69","v":""},{"$f":"Roster_Selection_Women!AE69","v":""},null,{"$f":"IF(ISERROR(Baker_Scores_Women_Var!E70), \" \", IF(Baker_Scores_Women_Var!E70 = \"Yes\", \"Yes\", \"  \"))","v":"  "},{"$nulls":6},0,0,0]
[null,{"$f":"Roster_Selection_Women!AB70&\" \" & \"V \"","v":" V "},{"$f":"Roster_Selection_Women!AD70","v":""},{"$f":"Roster_Selection_Women!AE70","v":""},null,{"$f":"IF(ISERROR(Baker_Scores_Women_Var!E71), \" \", IF(Baker_Scores_Women_Var!E71 = \"Yes\", \"Yes\", \"  \"))","v":"  "},{"$nulls":6},0,0,0]
[null,"College Of Saint Mary V","","",{"$nulls":8},0,0,0]
[null,"College Of Saint Mary V","","",{"$nulls":8},0,0,0]
[null,"College Of Saint Mary V","","",{"$nulls":8},0,0,0]
[{"$nulls":6},{"$f":"SUM(G64:G74)","v":848},792,793,757,806,815,4811,30]
[]
[null,{"$f":"Roster_Selection_Women!AB71&\" \" & \"V \"","v":"Culver-Stockton College V "},{"$f":"Roster_Selection_Women!AD71","v":"7914-30106"},{"$f":"Roster_Selection_Women!AE71","v":"Alexie Little"},null,{"$f":"IF(ISERROR(Baker_Scores_Women_Var!E77), \" \", IF(Baker_Scores_Women_Var!E77 = \"Yes\", \"Yes\", \"  \"))","v":"  "},0.0,0.0,167.0,156.0,152.0,190.0,{"$f":"SUM(G77:L77)","v":665},{"$f":"COUNTIF(G77:L77, \">0\" )","v":4},{"$f":"IF(N77=0,0,M77/N77)","v":166.25}]
[null,{"$f":"Roster_Selection_Women!AB72&\" \" & \"V \"","v":"Culver-Stockton College V "},{"$f":"Roster_Selection_Women!AD72","v":"16-77588"},{"$f":"Roster_Selection_Women!AE72","v":"Allisyn Pohl"},null,{"$f":"IF(ISERROR(Baker_Scores_Women_Var!E78), \" \", IF(Baker_Scores_Women_Var!E78 = \"Yes\", \"Yes\", \"  \"))","v":"  "},200.0,158.0,151.0,174.0,182.0,146.0,1011,6,168.5]
[null,{"$f":"Roster_Selection_Women!AB73&\" \" & \"V \"","v":"Culver-Stockton College V "},{"$f":"Roster_Selection_Women!AD73","v":"11-450352"},{"$f":"Roster_Selection_Women!AE73","v":"Bailey Orsette"},null,{"$f":"IF(ISERROR(Baker_Scores_Women_Var!E79), \" \", IF(Baker_Scores_Women_Var!E79 = \"Yes\", \"Yes\", \"  \"))","v":"  "},211.0,183.0,248.0,138.0,158.0,0.0,938,5,187.6]
[null,{"$f":"Roster_Selection_Women!AB74&\" \" & \"V \"","v":"Culver-Stockton College V "},{"$f":"Roster_Selection_Women!AD74","v":"6589-15546"},{"$f":"Roster_Selection_Women!AE74","v":"Carlee Hummel"},null,{"$f":"IF(ISERROR(Baker_Scores_Women_Var!E80), \" \", IF(Baker_Scores_Women_Var!E80 = \"Yes\", \"Yes\", \"  \"))","v":"  "},153.0,234.0,234.0,213.0,192.0,202.0,1228,6,204.6666667]
[null,{"$f":"Roster_Selection_Women!AB75&\" \" & \"V \"","v":"Culver-Stockton College V "},{"$f":"Roster_Selection_Women!AD75","v":"17-45685"},{"$f":"Roster_Selection_Women!AE75","v":"Jasmine Saunders"},null,{"$f":"IF(ISERROR(Baker_Scores_Women_Var!E81), \" \", IF(Baker_Scores_Women_Var!E81 = \"Yes\", \"Yes\", \"  \"))","v":"  "},177.0,179.0,203.0,201.0,142.0,191.0,1093,6,182.1666667]
[null,{"$f":"Roster_Selection_Women!AB76&\" \" & \"V \"","v":"Culver-Stockton College V "},{"$f":"Roster_Selection_Women!AD76","v":"5711-323"},{"$f":"Roster_Selection_Women!AE76","v":"Jessica Mock"},null,{"$f":"IF(ISERROR(Baker_Scores_Women_Var!E82), \" \", IF(Baker_Scores_Women_Var!E82 = \"Yes\", \"Yes\", \"  \"))","v":"  "},0.0,0.0,0.0,0.0,0.0,0.0,0,0,0]
[null,{"$f":"Roster_Selection_Women!AB77&\" \" & \"V \"","v":"Culver-Stockton College V "},{"$f":"Roster_Selection_Women!AD77","v":"11-475016"},{"$f":"Roster_Selection_Women!AE77","v":"Kassidy Young"},null,{"$f":"IF(ISERROR(Baker_Scores_Women_Var!E83), \" \", IF(Baker_Scores_Women_Var!E83 = \"Yes\", \"Yes\", \"  \"))","v":"  "},137.0,146.0,0.0,0.0,0.0,168.0,451,3,150.3333333]
[null,{"$f":"Roster_Selection_Women!AB78&\" \" & \"V \"","v":"Culver-Stockton College V "},{"$f":"Roster_Selection_Women!AD78","v":"18-88340"},{"$f":"Roster_Selection_Women!AE78","v":"Lily Fischer"},null,{"$f":"IF(ISERROR(Baker_Scores_Women_Var!E84), \" \", IF(Baker_Scores_Women_Var!E84 = \"Yes\", \"Yes\", \"  \"))","v":"  "},0.0,0.0,0.0,0.0,0.0,0.0,0,0,0]
[null,"Culver-Stockton College V","","",{"$nulls":8},0,0,0]
[null,"Culver-Stockton College V","","",{"$nulls":8},0,0,0]
[null,"Culver-Stockton College V","","",{"$nulls":8},0,0,0]
[{"$nulls":6},{"$f":"SUM(G77:G87)","v":878},900,1003,882,826,897,5386,30]
[]
[null,{"$f":"Roster_Selection_Women!AB81&\" \" & \"V \"","v":"Grand View University V "},{"$f":"Roster_Selection_Women!AD81","v":"7914-27984"},{"$f":"Roster_Selection_Women!AE81","v":"Emilee Hall"},null,{"$f":"IF(ISERROR(Baker_Scores_Women_Var!E90), \" \", IF(Baker_Scores_Women_Var!E90 = \"Yes\", \"Yes\", \"  \"))","v":"  "},181.0,162.0,186.0,167.0,165.0,156.0,{"$f":"SUM(G90:L90)","v":1017},{"$f":"COUNTIF(G90:L90, \">0\" )","v":6},{"$f":"IF(N90=0,0,M90/N90)","v":169.5}]
[null,{"$f":"Roster_Selection_Women!AB82&\" \" & \"V \"","v":"Grand View University V "},{"$f":"Roster_Selection_Women!AD82","v":"11-232057"},{"$f":"Roster_Selection_Women!AE82","v":"Isabel Tetmeyer"},null,{"$f":"IF(ISERROR(Baker_Scores_Women_Var!E91), \" \", IF(Baker_Scores_Women_Var!E91 = \"Yes\", \"Yes\", \"  \"))","v":"  "},186.0,162.0,177.0,178.0,147.0,168.0,1018,6,169.6666667]
[null,{"$f":"Roster_Selection_Women!AB83&\" \" & \"V \"","v":"Grand View University V "},{"$f":"Roster_Selection_Women!AD83","v":"7914-7770"},{"$f":"Roster_Selection_Women!AE83","v":"Kaytlyn Andrews"},null,{"$f":"IF(ISERROR(Baker_Scores_Women_Var!E92), \" \", IF(Baker_Scores_Women_Var!E92 = \"Yes\", \"Yes\", \"  \"))","v":"  "},175.0,224.0,169.0,221.0,170.0,175.0,1134,6,189]
[null,{"$f":"Roster_Selection_Women!AB84&\" \" & \"V \"","v":"Grand View University V "},{"$f":"Roster_Selection_Women!AD84","v":"18-34841"},{"$f":"Roster_Selection_Women!AE84","v":"Kylie Arai"},null,{"$f":"IF(ISERROR(Baker_Scores_Women_Var!E93), \" \", IF(Baker_Scores_Women_Var!E93 = \"Yes\", \"Yes\", \"  \"))","v":"  "},0.0,0.0,0.0,0.0,0.0,178.0,178,1,178]
[null,{"$f":"Roster_Selection_Women!AB85&\" \" & \"V \"","v":"Grand View University V "},{"$f":"Roster_Selection_Women!AD85","v":"11-667364"},{"$f":"Roster_Selection_Women!AE85","v":"Leah Sanck"},null,{"$f":"IF(ISERROR(Baker_Scores_Women_Var!E94), \" \", IF(Baker_Scores_Women_Var!E94 = \"Yes\", \"Yes\", \"  \"))","v":"  "},159.0,149.0,132.0,0.0,0.0,0.0,440,3,146.6666667]
[null,{"$f":"Roster_Selection_Women!AB86&\" \" & \"V \"","v":"Grand View University V "},{"$f":"Roster_Selection_Women!AD86","v":"11-307190"},{"$f":"Roster_Selection_Women!AE86","v":"Michelle Stewart"},null,{"$f":"IF(ISERROR(Baker_Scores_Women_Var!E95), \" \", IF(Baker_Scores_Women_Var!E95 = \"Yes\", \"Yes\", \"  \"))","v":"  "},0.0,0.0,0.0,151.0,151.0,0.0,302,2,151]
[null,{"$f":"Roster_Selection_Women!AB87&\" \" & \"V \"","v":"Grand View University V "},{"$f":"Roster_Selection_Women!AD87","v":"8828-32679"},{"$f":"Roster_Selection_Women!AE87","v":"Sabrina Bennett"},null,{"$f":"IF(ISERROR(Baker_Scores_Women_Var!E96), \" \", IF(Baker_Scores_Women_Var!E96 = \"Yes\", \"Yes\", \"  \"))","v":"  "},159.0,232.0,155.0,139.0,201.0,169.0,1055,6,175.8333333]
[null,{"$f":"Roster_Selection_Women!AB88&\" \" & \"V \"","v":" V "},{"$f":"Roster_Selection_Women!AD88","v":""},{"$f":"Roster_Selection_Women!AE88","v":""},null,{"$f":"IF(ISERROR(Baker_Scores_Women_Var!E97), \" \", IF(Baker_Scores_Women_Var!E97 = \"Yes\", \"Yes\", \"  \"))","v":"  "},{"$nulls":6},0,0,0]
[null,"Grand View University V","","",{"$nulls":8},0,0,0]
[null,"Grand View University V","","",{"$nulls":8},0,0,0]
[null,"Grand View University V","","",{"$nulls":8},0,0,0]
[{"$nulls":6},{"$f":"SUM(G90:G100)","v":860},929,819,856,834,846,5144,30]
[]
[null,{"$f":"Roster_Selection_Women!AB96&\" \" & \"V \"","v":"Hastings College V "},{"$f":"Roster_Selection_Women!AD96","v":"11-87836"},{"$f":"Roster_Selection_Women!AE96","v":"Abby Dallegge"},null,{"$f":"IF(ISERROR(Baker_Scores_Women_Var!E103), \" \", IF(Baker_Scores_Women_Var!E103 = \"Yes\", \"Yes\", \"  \"))","v":"  "},0.0,137.0,0.0,0.0,0.0,0.0,{"$f":"SUM(G103:L103)","v":137},{"$f":"COUNTIF(G103:L103, \">0\" )","v":1},{"$f":"IF(N103=0,0,M103/N103)","v":137}]
[null,{"$f":"Roster_Selection_Women!AB97&\" \" & \"V \"","v":"Hastings College V "},{"$f":"Roster_Selection_Women!AD97","v":"5507-587"},{"$f":"Roster_Selection_Women!AE97","v":"Aislynn Davis"},null,{"$f":"IF(ISERROR(Baker_Scores_Women_Var!E104), \" \", IF(Baker_Scores_Women_Var!E104 = \"Yes\", \"Yes\", \"  \"))","v":"  "},104.0,0.0,157.0,0.0,126.0,0.0,387,3,129]
[null,{"$f":"Roster_Selection_Women!AB98&\" \" & \"V \"","v":"Hastings College V "},{"$f":"Roster_Selection_Women!AD98","v":"11-264092"},{"$f":"Roster_Selection_Women!AE98","v":"Amanda Peterson"},null,{"$f":"IF(ISERROR(Baker_Scores_Women_Var!E105), \" \", IF(Baker_Scores_Women_Var!E105 = \"Yes\", \"Yes\", \"  \"))","v":"  "},177.0,164.0,155.0,160.0,120.0,168.0,944,6,157.3333333]
[null,{"$f":"Roster_Selection_Women!AB99&\" \" & \"V \"","v":"Hastings College V "},{"$f":"Roster_Selection_Women!AD99","v":"8966-4192"},{"$f":"Roster_Selection_Women!AE99","v":"Britiney Baker"},null,{"$f":"IF(ISERROR(Baker_Scores_Women_Var!E106), \" \", IF(Baker_Scores_Women_Var!E106 = \"Yes\", \"Yes\", \"  \"))","v":"  "},0.0,0.0,170.0,170.0,150.0,179.0,669,4,167.25]
[null,{"$f":"Roster_Selection_Women!AB100&\" \" & \"V \"","v":"Hastings College V "},{"$f":"Roster_Selection_Women!AD100","v":"11-427709"},{"$f":"Roster_Selection_Women!AE100","v":"Emmeline Herman"},null,{"$f":"IF(ISERROR(Baker_Scores_Women_Var!E107), \" \", IF(Baker_Scores_Women_Var!E107 = \"Yes\", \"Yes\", \"  \"))","v":"  "},147.0,142.0,0.0,148.0,163.0,158.0,758,5,151.6]
[null,{"$f":"Roster_Selection_Women!AB101&\" \" & \"V \"","v":"Hastings College V "},{"$f":"Roster_Selection_Women!AD101","v":"11-455997"},{"$f":"Roster_Selection_Women!AE101","v":"Madison Henderson"},null,{"$f":"IF(ISERROR(Baker_Scores_Women_Var!E108), \" \", IF(Baker_Scores_Women_Var!E108 = \"Yes\", \"Yes\", \"  \"))","v":"  "},135.0,155.0,160.0,132.0,0.0,185.0,767,5,153.4]
[null,{"$f":"Roster_Selection_Women!AB102&\" \" & \"V \"","v":"Hastings College V "},{"$f":"Roster_Selection_Women!AD102","v":"18-71705"},{"$f":"Roster_Selection_Women!AE102","v":"Marissa Ruiz"},null,{"$f":"IF(ISERROR(Baker_Scores_Women_Var!E109), \" \", IF(Baker_Scores_Women_Var!E109 = \"Yes\", \"Yes\", \"  \"))","v":"  "},170.0,175.0,178.0,181.0,170.0,169.0,1043,6,173.8333333]
[null,{"$f":"Roster_Selection_Women!AB103&\" \" & \"V \"","v":"Hastings College V "},{"$f":"Roster_Selection_Women!AD103","v":"7914-2571"},{"$f":"Roster_Selection_Women!AE103","v":"Skylee Obenschain"},null,{"$f":"IF(ISERROR(Baker_Scores_Women_Var!E110), \" \", IF(Baker_Scores_Women_Var!E110 = \"Yes\", \"Yes\", \"  \"))","v":"  "},0.0,0.0,0.0,0.0,0.0,0.0,0,0,0]
[null,"Hastings College V","","",{"$nulls":8},0,0,0]
[null,"Hastings College V","","",{"$nulls":8},0,0,0]
[null,"Hastings College V","","",{"$nulls":8},0,0,0]
[{"$nulls":6},{"$f":"SUM(G103:G113)","v":733},773,820,791,729,859,4705,30]
[]
[null,{"$f":"Roster_Selection_Women!AB106&\" \" & \"V \"","v":"Iowa Central Community College V "},{"$f":"Roster_Selection_Women!AD106","v":"11-107840"},{"$f":"Roster_Selection_Women!AE106","v":"Abigail (Abby) Price"},null,{"$f":"IF(ISERROR(Baker_Scores_Women_Var!E116), \" \", IF(Baker_Scores_Women_Var!E116 = \"Yes\", \"Yes\", \"  \"))","v":"  "},142.0,0.0,231.0,148.0,0.0,213.0,{"$f":"SUM(G116:L116)","v":734},{"$f":"COUNTIF(G116:L116, \">0\" )","v":4},{"$f":"IF(N116=0,0,M116/N116)","v":183.5}]
[null,{"$f":"Roster_Selection_Women!AB107&\" \" & \"V \"","v":"Iowa Central Community College V "},{"$f":"Roster_Selection_Women!AD107","v":"11-234952"},{"$f":"Roster_Selection_Women!AE107","v":"Alexis Hanson"},null,{"$f":"IF(ISERROR(Baker_Scores_Women_Var!E117), \" \", IF(Baker_Scores_Women_Var!E117 = \"Yes\", \"Yes\", \"  \"))","v":"  "},0.0,119.0,0.0,0.0,171.0,218.0,508,3,169.3333333]
[null,{"$f":"Roster_Selection_Women!AB108&\" \" & \"V \"","v":"Iowa Central Community College V "},{"$f":"Roster_Selection_Women!AD108","v":"22-1523"},{"$f":"Roster_Selection_Women!AE108","v":"Ann Alsup"},null,{"$f":"IF(ISERROR(Baker_Scores_Women_Var!E118), \" \", IF(Baker_Scores_Women_Var!E118 = \"Yes\", \"Yes\", \"  \"))","v":"  "},0.0,0.0,149.0,0.0,0.0,0.0,149,1,149]
[null,{"$f":"Roster_Selection_Women!AB109&\" \" & \"V \"","v":"Iowa Central Community College V "},{"$f":"Roster_Selection_Women!AD109","v":"18-63585"},{"$f":"Roster_Selection_Women!AE109","v":"Ashley Lacey"},null,{"$f":"IF(ISERROR(Baker_Scores_Women_Var!E119), \" \", IF(Baker_Scores_Women_Var!E119 = \"Yes\", \"Yes\", \"  \"))","v":"  "},0.0,175.0,125.0,0.0,0.0,0.0,300,2,150]
[null,{"$f":"Roster_Selection_Women!AB110&\" \" & \"V \"","v":"Iowa Central Community College V "},{"$f":"Roster_Selection_Women!AD110","v":"19-22703"},{"$f":"Roster_Selection_Women!AE110","v":"Brynne Mickelson"},null,{"$f":"IF(ISERROR(Baker_Scores_Women_Var!E120), \" \", IF(Baker_Scores_Women_Var!E120 = \"Yes\", \"Yes\", \"  \"))","v":"  "},122.0,0.0,0.0,196.0,149.0,0.0,467,3,155.6666667]
[null,{"$f":"Roster_Selection_Women!AB111&\" \" & \"V \"","v":"Iowa Central Community College V "},{"$f":"Roster_Selection_Women!AD111","v":"18-68396"},{"$f":"Roster_Selection_Women!AE111","v":"Cassie Lee"},null,{"$f":"IF(ISERROR(Baker_Scores_Women_Var!E121), \" \", IF(Baker_Scores_Women_Var!E121 = \"Yes\", \"Yes\", \"  \"))","v":"  "},176.0,202.0,152.0,152.0,173.0,224.0,1079,6,179.8333333]
[null,{"$f":"Roster_Selection_Women!AB112&\" \" & \"V \"","v":"Iowa Central Community College V "},{"$f":"Roster_Selection_Women!AD112","v":"11-381947"},{"$f":"Roster_Selection_Women!AE112","v":"Madisyn Gerdts"},null,{"$f":"IF(ISERROR(Baker_Scores_Women_Var!E122), \" \", IF(Baker_Scores_Women_Var!E122 = \"Yes\", \"Yes\", \"  \"))","v":"  "},201.0,127.0,0.0,172.0,158.0,166.0,824,5,164.8]
[null,{"$f":"Roster_Selection_Women!AB113&\" \" & \"V \"","v":"Iowa Central Community College V "},{"$f":"Roster_Selection_Women!AD113","v":"11-446110"},{"$f":"Roster_Selection_Women!AE113","v":"Victoria Potter"},null,{"$f":"IF(ISERROR(Baker_Scores_Women_Var!E123), \" \", IF(Baker_Scores_Women_Var!E123 = \"Yes\", \"Yes\", \"  \"))","v":"  "},179.0,191.0,157.0,201.0,193.0,137.0,1058,6,176.3333333]
[null,"Iowa Central Community College V","","",{"$nulls":8},0,0,0]
[null,"Iowa Central Community College V","","",{"$nulls":8},0,0,0]
[null,"Iowa Central Community College V","","",{"$nulls":8},0,0,0]
[{"$nulls":6},{"$f":"SUM(G116:G126)","v":820},814,814,869,844,958,5119,30]
[]
[null,{"$f":"Roster_Selection_Women!AB117&\" \" & \"V \"","v":"Iowa Western Community College V "},{"$f":"Roster_Selection_Women!AD117","v":"22-2842"},{"$f":"Roster_Selection_Women!AE117","v":"Dylan Freeman"},null,{"$f":"IF(ISERROR(Baker_Scores_Women_Var!E129), \" \", IF(Baker_Scores_Women_Var!E129 = \"Yes\", \"Yes\", \"  \"))","v":"  "},0.0,0.0,0.0,0.0,0.0,0.0,{"$f":"SUM(G129:L129)","v":0},{"$f":"COUNTIF(G129:L129, \">0\" )","v":0},{"$f":"IF(N129=0,0,M129/N129)","v":0}]
[null,{"$f":"Roster_Selection_Women!AB118&\" \" & \"V \"","v":"Iowa Western Community College V "},{"$f":"Roster_Selection_Women!AD118","v":"19-86489"},{"$f":"Roster_Selection_Women!AE118","v":"Gabbi McCarthy"},null,{"$f":"IF(ISERROR(Baker_Scores_Women_Var!E130), \" \", IF(Baker_Scores_Women_Var!E130 = \"Yes\", \"Yes\", \"  \"))","v":"  "},138.0,146.0,165.0,147.0,130.0,120.0,846,6,141]
[null,{"$f":"Roster_Selection_Women!AB119&\" \" & \"V \"","v":"Iowa Western Community College V "},{"$f":"Roster_Selection_Women!AD119","v":"11-666402"},{"$f":"Roster_Selection_Women!AE119","v":"Kasey Pleas"},null,{"$f":"IF(ISERROR(Baker_Scores_Women_Var!E131), \" \", IF(Baker_Scores_Women_Var!E131 = \"Yes\", \"Yes\", \"  \"))","v":"  "},135.0,178.0,158.0,157.0,168.0,140.0,936,6,156]
[null,{"$f":"Roster_Selection_Women!AB120&\" \" & \"V \"","v":"Iowa Western Community College V "},{"$f":"Roster_Selection_Women!AD120","v":"18-27388"},{"$f":"Roster_Selection_Women!AE120","v":"Kaylynn Oliver"},null,{"$f":"IF(ISERROR(Baker_Scores_Women_Var!E132), \" \", IF(Baker_Scores_Women_Var!E132 = \"Yes\", \"Yes\", \"  \"))","v":"  "},172.0,136.0,153.0,195.0,167.0,159.0,982,6,163.6666667]
[null,{"$f":"Roster_Selection_Women!AB121&\" \" & \"V \"","v":"Iowa Western Community College V "},{"$f":"Roster_Selection_Women!AD121","v":"9130-1913"},{"$f":"Roster_Selection_Women!AE121","v":"Kerry Crossman"},null,{"$f":"IF(ISERROR(Baker_Scores_Women_Var!E133), \" \", IF(Baker_Scores_Women_Var!E133 = \"Yes\", \"Yes\", \"  \"))","v":"  "},0.0,0.0,0.0,0.0,0.0,0.0,0,0,0]
[null,{"$f":"Roster_Selection_Women!AB122&\" \" & \"V \"","v":"Iowa Western Community College V "},{"$f":"Roster_Selection_Women!AD122","v":"11-765361"},{"$f":"Roster_Selection_Women!AE122","v":"Maddy Addleman"},null,{"$f":"IF(ISERROR(Baker_Scores_Women_Var!E134), \" \", IF(Baker_Scores_Women_Var!E134 = \"Yes\", \"Yes\", \"  \"))","v":"  "},157.0,146.0,163.0,153.0,138.0,135.0,892,6,148.6666667]
[null,{"$f":"Roster_Selection_Women!AB123&\" \" & \"V \"","v":"Iowa Western Community College V "},{"$f":"Roster_Selection_Women!AD123","v":"7914-26375"},{"$f":"Roster_Selection_Women!AE123","v":"Natalie Arnold"},null,{"$f":"IF(ISERROR(Baker_Scores_Women_Var!E135), \" \", IF(Baker_Scores_Women_Var!E135 = \"Yes\", \"Yes\", \"  \"))","v":"  "},202.0,181.0,182.0,211.0,127.0,163.0,1066,6,177.6666667]
[null,{"$f":"Roster_Selection_Women!AB124&\" \" & \"V \"","v":" V "},{"$f":"Roster_Selection_Women!AD124","v":""},{"$f":"Roster_Selection_Women!AE124","v":""},null,{"$f":"IF(ISERROR(Baker_Scores_Women_Var!E136), \" \", IF(Baker_Scores_Women_Var!E136 = \"Yes\", \"Yes\", \"  \"))","v":"  "},{"$nulls":6},0,0,0]
[null,"Iowa Western Community College V","","",{"$nulls":8},0,0,0]
[null,"Iowa Western Community College V","","",{"$nulls":8},0,0,0]
[null,"Iowa Western Community College V","","",{"$nulls":8},0,0,0]
[{"$nulls":6},{"$f":"SUM(G129:G139)","v":804},787,821,863,730,717,4722,30]
[]
[null,{"$f":"Roster_Selection_Women!AB125&\" \" & \"V \"","v":"Kansas ,University Of V "},{"$f":"Roster_Selection_Women!AD125","v":"5900-28007"},{"$f":"Roster_Selection_Women!AE125","v":"Annabelle Bitner"},null,{"$f":"IF(ISERROR(Baker_Scores_Women_Var!E142), \" \", IF(Baker_Scores_Women_Var!E142 = \"Yes\", \"Yes\", \"  \"))","v":"  "},139.0,111.0,130.0,159.0,142.0,174.0,{"$f":"SUM(G142:L142)","v":855},{"$f":"COUNTIF(G142:L142, \">0\" )","v":6},{"$f":"IF(N142=0,0,M142/N142)","v":142.5}]
[null,{"$f":"Roster_Selection_Women!AB126&\" \" & \"V \"","v":"Kansas ,University Of V "},{"$f":"Roster_Selection_Women!AD126","v":"21-52280"},{"$f":"Roster_Selection_Women!AE126","v":"Grace Dorst"},null,{"$f":"IF(ISERROR(Baker_Scores_Women_Var!E143), \" \", IF(Baker_Scores_Women_Var!E143 = \"Yes\", \"Yes\", \"  \"))","v":"  "},0.0,108.0,129.0,105.0,101.0,0.0,443,4,110.75]
[null,{"$f":"Roster_Selection_Women!AB127&\" \" & \"V \"","v":"Kansas ,University Of V "},{"$f":"Roster_Selection_Women!AD127","v":"22-20256"},{"$f":"Roster_Selection_Women!AE127","v":"Hilary Liermann"},null,{"$f":"IF(ISERROR(Baker_Scores_Women_Var!E144), \" \", IF(Baker_Scores_Women_Var!E144 = \"Yes\", \"Yes\", \"  \"))","v":"  "},0.0,98.0,0.0,78.0,0.0,83.0,259,3,86.33333333]
[null,{"$f":"Roster_Selection_Women!AB128&\" \" & \"V \"","v":"Kansas ,University Of V "},{"$f":"Roster_Selection_Women!AD128","v":"18-3937"},{"$f":"Roster_Selection_Women!AE128","v":"Jessenia Hernandez"},null,{"$f":"IF(ISERROR(Baker_Scores_Women_Var!E145), \" \", IF(Baker_Scores_Women_Var!E145 = \"Yes\", \"Yes\", \"  \"))","v":"  "},144.0,148.0,166.0,167.0,168.0,140.0,933,6,155.5]
[null,{"$f":"Roster_Selection_Women!AB129&\" \" & \"V \"","v":"Kansas ,University Of V "},{"$f":"Roster_Selection_Women!AD129","v":"20-40945"},{"$f":"Roster_Selection_Women!AE129","v":"Payton Nies"},null,{"$f":"IF(ISERROR(Baker_Scores_Women_Var!E146), \" \", IF(Baker_Scores_Women_Var!E146 = \"Yes\", \"Yes\", \"  \"))","v":"  "},97.0,0.0,0.0,99.0,0.0,83.0,279,3,93]
[null,{"$f":"Roster_Selection_Women!AB130&\" \" & \"V \"","v":"Kansas ,University Of V "},{"$f":"Roster_Selection_Women!AD130","v":"17-89547"},{"$f":"Roster_Selection_Women!AE130","v":"Remy Asta"},null,{"$f":"IF(ISERROR(Baker_Scores_Women_Var!E147), \" \", IF(Baker_Scores_Women_Var!E147 = \"Yes\", \"Yes\", \"  \"))","v":"  "},148.0,138.0,129.0,0.0,161.0,0.0,576,4,144]
[null,{"$f":"Roster_Selection_Women!AB131&\" \" & \"V \"","v":"Kansas ,University Of V "},{"$f":"Roster_Selection_Women!AD131","v":"21-32743"},{"$f":"Roster_Selection_Women!AE131","v":"Sydney Chandler"},null,{"$f":"IF(ISERROR(Baker_Scores_Women_Var!E148), \" \", IF(Baker_Scores_Women_Var!E148 = \"Yes\", \"Yes\", \"  \"))","v":"  "},99.0,0.0,108.0,0.0,85.0,116.0,408,4,102]
[null,{"$f":"Roster_Selection_Women!AB132&\" \" & \"V \"","v":" V "},{"$f":"Roster_Selection_Women!AD132","v":""},{"$f":"Roster_Selection_Women!AE132","v":""},null,{"$f":"IF(ISERROR(Baker_Scores_Women_Var!E149), \" \", IF(Baker_Scores_Women_Var!E149 = \"Yes\", \"Yes\", \"  \"))","v":"  "},{"$nulls":6},0,0,0]
[null,"Kansas ,University Of V","","",{"$nulls":8},0,0,0]
[null,"Kansas ,University Of V","","",{"$nulls":8},0,0,0]
[null,"Kansas ,University Of V","","",{"$nulls":8},0,0,0]
[{"$nulls":6},{"$f":"SUM(G142:G152)","v":627},603,662,608,657,596,3753,30]
[]
[null,{"$f":"Roster_Selection_Women!AB133&\" \" & \"V \"","v":"Kansas State University V "},{"$f":"Roster_Selection_Women!AD133","v":"22-16667"},{"$f":"Roster_Selection_Women!AE133","v":"Gabriela Ramirez"},null,{"$f":"IF(ISERROR(Baker_Scores_Women_Var!E155), \" \", IF(Baker_Scores_Women_Var!E155 = \"Yes\", \"Yes\", \"  \"))","v":"  "},130.0,105.0,0.0,118.0,0.0,88.0,{"$f":"SUM(G155:L155)","v":441},{"$f":"COUNTIF(G155:L155, \">0\" )","v":4},{"$f":"IF(N155=0,0,M155/N155)","v":110.25}]
[null,{"$f":"Roster_Selection_Women!AB134&\" \" & \"V \"","v":"Kansas State University V "},{"$f":"Roster_Selection_Women!AD134","v":"22-16669"},{"$f":"Roster_Selection_Women!AE134","v":"Kennedy Jones"},null,{"$f":"IF(ISERROR(Baker_Scores_Women_Var!E156), \" \", IF(Baker_Scores_Women_Var!E156 = \"Yes\", \"Yes\", \"  \"))","v":"  "},114.0,111.0,147.0,140.0,115.0,113.0,740,6,123.3333333]
[null,{"$f":"Roster_Selection_Women!AB135&\" \" & \"V \"","v":"Kansas State University V "},{"$f":"Roster_Selection_Women!AD135","v":"21-15727"},{"$f":"Roster_Selection_Women!AE135","v":"Kinley Nielsen"},null,{"$f":"IF(ISERROR(Baker_Scores_Women_Var!E157), \" \", IF(Baker_Scores_Women_Var!E157 = \"Yes\", \"Yes\", \"  \"))","v":"  "},161.0,156.0,130.0,161.0,211.0,134.0,953,6,158.8333333]
[null,{"$f":"Roster_Selection_Women!AB136&\" \" & \"V \"","v":"Kansas State University V "},{"$f":"Roster_Selection_Women!AD136","v":"22-16673"},{"$f":"Roster_Selection_Women!AE136","v":"Lillie Harper"},null,{"$f":"IF(ISERROR(Baker_Scores_Women_Var!E158), \" \", IF(Baker_Scores_Women_Var!E158 = \"Yes\", \"Yes\", \"  \"))","v":"  "},0.0,119.0,114.0,0.0,86.0,0.0,319,3,106.3333333]
[null,{"$f":"Roster_Selection_Women!AB137&\" \" & \"V \"","v":"Kansas State University V "},{"$f":"Roster_Selection_Women!AD137","v":"5900-25978"},{"$f":"Roster_Selection_Women!AE137","v":"Mary Beth Stankiewicz"},null,{"$f":"IF(ISERROR(Baker_Scores_Women_Var!E159), \" \", IF(Baker_Scores_Women_Var!E159 = \"Yes\", \"Yes\", \"  \"))","v":"  "},107.0,0.0,135.0,142.0,109.0,117.0,610,5,122]
[null,{"$f":"Roster_Selection_Women!AB138&\" \" & \"V \"","v":"Kansas State University V "},{"$f":"Roster_Selection_Women!AD138","v":"931-89481"},{"$f":"Roster_Selection_Women!AE138","v":"Naomi Harrison"},null,{"$f":"IF(ISERROR(Baker_Scores_Women_Var!E160), \" \", IF(Baker_Scores_Women_Var!E160 = \"Yes\", \"Yes\", \"  \"))","v":"  "},133.0,165.0,148.0,93.0,136.0,159.0,834,6,139]
[null,{"$f":"Roster_Selection_Women!AB139&\" \" & \"V \"","v":" V "},{"$f":"Roster_Selection_Women!AD139","v":""},{"$f":"Roster_Selection_Women!AE139","v":""},null,{"$f":"IF(ISERROR(Baker_Scores_Women_Var!E161), \" \", IF(Baker_Scores_Women_Var!E161 = \"Yes\", \"Yes\", \"  \"))","v":"  "},{"$nulls":6},0,0,0]
[null,{"$f":"Roster_Selection_Women!AB140&\" \" & \"V \"","v":" V "},{"$f":"Roster_Selection_Women!AD140","v":""},{"$f":"Roster_Selection_Women!AE140","v":""},null,{"$f":"IF(ISERROR(Baker_Scores_Women_Var!E162), \" \", IF(Baker_Scores_Women_Var!E162 = \"Yes\", \"Yes\", \"  \"))","v":"  "},{"$nulls":6},0,0,0]
[null,"Kansas State University V","","",{"$nulls":8},0,0,0]
[null,"Kansas State University V","","",{"$nulls":8},0,0,0]
[null,"Kansas State University V","","",{"$nulls":8},0,0,0]
[{"$nulls":6},{"$f":"SUM(G155:G165)","v":645},656,674,654,657,611,3897,30]
[]
[null,{"$f":"Roster_Selection_Women!AB142&\" \" & \"V \"","v":"Kansas Wesleyan University V "},{"$f":"Roster_Selection_Women!AD142","v":"5900-23214"},{"$f":"Roster_Selection_Women!AE142","v":"Chloe Lovell"},null,{"$f":"IF(ISERROR(Baker_Scores_Women_Var!E168), \" \", IF(Baker_Scores_Women_Var!E168 = \"Yes\", \"Yes\", \"  \"))","v":"  "},154.0,154.0,159.0,197.0,145.0,213.0,{"$f":"SUM(G168:L168)","v":1022},{"$f":"COUNTIF(G168:L168, \">0\" )","v":6},{"$f":"IF(N168=0,0,M168/N168)","v":170.3333333}]
[null,{"$f":"Roster_Selection_Women!AB143&\" \" & \"V \"","v":"Kansas Wesleyan University V "},{"$f":"Roster_Selection_Women!AD143","v":"11-662816"},{"$f":"Roster_Selection_Women!AE143","v":"Haylee Busch"},null,{"$f":"IF(ISERROR(Baker_Scores_Women_Var!E169), \" \", IF(Baker_Scores_Women_Var!E169 = \"Yes\", \"Yes\", \"  \"))","v":"  "},0.0,0.0,0.0,0.0,0.0,0.0,0,0,0]
[null,{"$f":"Roster_Selection_Women!AB144&\" \" & \"V \"","v":"Kansas Wesleyan University V "},{"$f":"Roster_Selection_Women!AD144","v":"11-763330"},{"$f":"Roster_Selection_Women!AE144","v":"Hayleigh Hale-Haggard"},null,{"$f":"IF(ISERROR(Baker_Scores_Women_Var!E170), \" \", IF(Baker_Scores_Women_Var!E170 = \"Yes\", \"Yes\", \"  \"))","v":"  "},157.0,188.0,157.0,179.0,141.0,167.0,989,6,164.8333333]
[null,{"$f":"Roster_Selection_Women!AB145&\" \" & \"V \"","v":"Kansas Wesleyan University V "},{"$f":"Roster_Selection_Women!AD145","v":"15-101198"},{"$f":"Roster_Selection_Women!AE145","v":"Jasmine Senechal"},null,{"$f":"IF(ISERROR(Baker_Scores_Women_Var!E171), \" \", IF(Baker_Scores_Women_Var!E171 = \"Yes\", \"Yes\", \"  \"))","v":"  "},103.0,0.0,136.0,157.0,120.0,0.0,516,4,129]
[null,{"$f":"Roster_Selection_Women!AB146&\" \" & \"V \"","v":"Kansas Wesleyan University V "},{"$f":"Roster_Selection_Women!AD146","v":"8174-21406"},{"$f":"Roster_Selection_Women!AE146","v":"Kara Thompson"},null,{"$f":"IF(ISERROR(Baker_Scores_Women_Var!E172), \" \", IF(Baker_Scores_Women_Var!E172 = \"Yes\", \"Yes\", \"  \"))","v":"  "},164.0,221.0,202.0,234.0,180.0,167.0,1168,6,194.6666667]
[null,{"$f":"Roster_Selection_Women!AB147&\" \" & \"V \"","v":"Kansas Wesleyan University V "},{"$f":"Roster_Selection_Women!AD147","v":"11-662819"},{"$f":"Roster_Selection_Women!AE147","v":"Kylee Busch"},null,{"$f":"IF(ISERROR(Baker_Scores_Women_Var!E173), \" \", IF(Baker_Scores_Women_Var!E173 = \"Yes\", \"Yes\", \"  \"))","v":"  "},0.0,145.0,0.0,134.0,0.0,130.0,409,3,136.3333333]
[null,{"$f":"Roster_Selection_Women!AB148&\" \" & \"V \"","v":"Kansas Wesleyan University V "},{"$f":"Roster_Selection_Women!AD148","v":"22-24271"},{"$f":"Roster_Selection_Women!AE148","v":"Terah Head"},null,{"$f":"IF(ISERROR(Baker_Scores_Women_Var!E174), \" \", IF(Baker_Scores_Women_Var!E174 = \"Yes\", \"Yes\", \"  \"))","v":"  "},127.0,157.0,105.0,0.0,131.0,133.0,653,5,130.6]
[null,{"$f":"Roster_Selection_Women!AB149&\" \" & \"V \"","v":" V "},{"$f":"Roster_Selection_Women!AD149","v":""},{"$f":"Roster_Selection_Women!AE149","v":""},null,{"$f":"IF(ISERROR(Baker_Scores_Women_Var!E175), \" \", IF(Baker_Scores_Women_Var!E175 = \"Yes\", \"Yes\", \"  \"))","v":"  "},{"$nulls":6},0,0,0]
[null,"Kansas Wesleyan University V","","",{"$nulls":8},0,0,0]
[null,"Kansas Wesleyan University V","","",{"$nulls":8},0,0,0]
[null,"Kansas Wesleyan University V","","",{"$nulls":8},0,0,0]
[{"$nulls":6},{"$f":"SUM(G168:G178)","v":705},865,759,901,717,810,4757,30]
[]
[null,{"$f":"Roster_Selection_Women!AB150&\" \" & \"V \"","v":"Lindenwood University V "},{"$f":"Roster_Selection_Women!AD150","v":"18-38965"},{"$f":"Roster_Selection_Women!AE150","v":"Carissa Merkle"},null,{"$f":"IF(ISERROR(Baker_Scores_Women_Var!E181), \" \", IF(Baker_Scores_Women_Var!E181 = \"Yes\", \"Yes\", \"  \"))","v":"  "},0.0,0.0,0.0,163.0,168.0,174.0,{"$f":"SUM(G181:L181)","v":505},{"$f":"COUNTIF(G181:L181, \">0\" )","v":3},{"$f":"IF(N181=0,0,M181/N181)","v":168.3333333}]
[null,{"$f":"Roster_Selection_Women!AB151&\" \" & \"V \"","v":"Lindenwood University V "},{"$f":"Roster_Selection_Women!AD151","v":"11-250174"},{"$f":"Roster_Selection_Women!AE151","v":"Elizabeth (Lizzy) Rittenour"},null,{"$f":"IF(ISERROR(Baker_Scores_Women_Var!E182), \" \", IF(Baker_Scores_Women_Var!E182 = \"Yes\", \"Yes\", \"  \"))","v":"  "},169.0,222.0,159.0,197.0,162.0,0.0,909,5,181.8]
[null,{"$f":"Roster_Selection_Women!AB152&\" \" & \"V \"","v":"Lindenwood University V "},{"$f":"Roster_Selection_Women!AD152","v":"11-393107"},{"$f":"Roster_Selection_Women!AE152","v":"Hailey Bozych"},null,{"$f":"IF(ISERROR(Baker_Scores_Women_Var!E183), \" \", IF(Baker_Scores_Women_Var!E183 = \"Yes\", \"Yes\", \"  \"))","v":"  "},200.0,211.0,192.0,184.0,213.0,199.0,1199,6,199.8333333]
[null,{"$f":"Roster_Selection_Women!AB153&\" \" & \"V \"","v":"Lindenwood University V "},{"$f":"Roster_Selection_Women!AD153","v":"11-101614"},{"$f":"Roster_Selection_Women!AE153","v":"Haylie Frick"},null,{"$f":"IF(ISERROR(Baker_Scores_Women_Var!E184), \" \", IF(Baker_Scores_Women_Var!E184 = \"Yes\", \"Yes\", \"  \"))","v":"  "},165.0,177.0,171.0,194.0,243.0,180.0,1130,6,188.3333333]
[null,{"$f":"Roster_Selection_Women!AB154&\" \" & \"V \"","v":"Lindenwood University V "},{"$f":"Roster_Selection_Women!AD154","v":"11-449668"},{"$f":"Roster_Selection_Women!AE154","v":"Karsyn Braasch"},"Yes",{"$f":"IF(ISERROR(Baker_Scores_Women_Var!E185), \" \", IF(Baker_Scores_Women_Var!E185 = \"Yes\", \"Yes\", \"  \"))","v":"  "},0.0,0.0,0.0,0.0,0.0,157.0,157,1,157]
[null,{"$f":"Roster_Selection_Women!AB155&\" \" & \"V \"","v":"Lindenwood University V "},{"$f":"Roster_Selection_Women!AD155","v":"11-330961"},{"$f":"Roster_Selection_Women!AE155","v":"Lorena A Santiago Ramos"},null,{"$f":"IF(ISERROR(Baker_Scores_Women_Var!E186), \" \", IF(Baker_Scores_Women_Var!E186 = \"Yes\", \"Yes\", \"  \"))","v":"  "},0.0,0.0,0.0,0.0,0.0,0.0,0,0,0]
[null,{"$f":"Roster_Selection_Women!AB156&\" \" & \"V \"","v":"Lindenwood University V "},{"$f":"Roster_Selection_Women!AD156","v":"19-18209"},{"$f":"Roster_Selection_Women!AE156","v":"Renata Martinez"},null,{"$f":"IF(ISERROR(Baker_Scores_Women_Var!E187), \" \", IF(Baker_Scores_Women_Var!E187 = \"Yes\", \"Yes\", \"  \"))","v":"  "},170.0,167.0,151.0,0.0,0.0,0.0,488,3,162.6666667]
[null,{"$f":"Roster_Selection_Women!AB157&\" \" & \"V \"","v":"Lindenwood University V "},{"$f":"Roster_Selection_Women!AD157","v":"11-341586"},{"$f":"Roster_Selection_Women!AE157","v":"Samantha Smith"},null,{"$f":"IF(ISERROR(Baker_Scores_Women_Var!E188), \" \", IF(Baker_Scores_Women_Var!E188 = \"Yes\", \"Yes\", \"  \"))","v":"  "},209.0,147.0,171.0,183.0,200.0,162.0,1072,6,178.6666667]
[null,"Lindenwood University V","","",{"$nulls":8},0,0,0]
[null,"Lindenwood University V","","",{"$nulls":8},0,0,0]
[null,"Lindenwood University V","","",{"$nulls":8},0,0,0]
[{"$nulls":6},{"$f":"SUM(G181:G191)","v":913},924,844,921,986,872,5460,30]
[]
[null,{"$f":"Roster_Selection_Women!AB165&\" \" & \"V \"","v":"Mount Mercy University V "},{"$f":"Roster_Selection_Women!AD165","v":"11-300993"},{"$f":"Roster_Selection_Women!AE165","v":"Brynna Madison"},null,{"$f":"IF(ISERROR(Baker_Scores_Women_Var!E194), \" \", IF(Baker_Scores_Women_Var!E194 = \"Yes\", \"Yes\", \"  \"))","v":"  "},0.0,0.0,187.0,222.0,147.0,0.0,{"$f":"SUM(G194:L194)","v":556},{"$f":"COUNTIF(G194:L194, \">0\" )","v":3},{"$f":"IF(N194=0,0,M194/N194)","v":185.3333333}]
[null,{"$f":"Roster_Selection_Women!AB166&\" \" & \"V \"","v":"Mount Mercy University V "},{"$f":"Roster_Selection_Women!AD166","v":"11-99667"},{"$f":"Roster_Selection_Women!AE166","v":"Elena Carr"},null,{"$f":"IF(ISERROR(Baker_Scores_Women_Var!E195), \" \", IF(Baker_Scores_Women_Var!E195 = \"Yes\", \"Yes\", \"  \"))","v":"  "},196.0,168.0,0.0,0.0,0.0,0.0,364,2,182]
[null,{"$f":"Roster_Selection_Women!AB167&\" \" & \"V \"","v":"Mount Mercy University V "},{"$f":"Roster_Selection_Women!AD167","v":"11-250067"},{"$f":"Roster_Selection_Women!AE167","v":"Jaelle Hamman"},null,{"$f":"IF(ISERROR(Baker_Scores_Women_Var!E196), \" \", IF(Baker_Scores_Women_Var!E196 = \"Yes\", \"Yes\", \"  \"))","v":"  "},187.0,184.0,192.0,174.0,189.0,204.0,1130,6,188.3333333]
[null,{"$f":"Roster_Selection_Women!AB168&\" \" & \"V \"","v":"Mount Mercy University V "},{"$f":"Roster_Selection_Women!AD168","v":"7914-24176"},{"$f":"Roster_Selection_Women!AE168","v":"Jasmine Mckeel"},"Yes",{"$f":"IF(ISERROR(Baker_Scores_Women_Var!E197), \" \", IF(Baker_Scores_Women_Var!E197 = \"Yes\", \"Yes\", \"  \"))","v":"  "},0.0,0.0,0.0,0.0,0.0,169.0,169,1,169]
[null,{"$f":"Roster_Selection_Women!AB169&\" \" & \"V \"","v":"Mount Mercy University V "},{"$f":"Roster_Selection_Women!AD169","v":"11-60100"},{"$f":"Roster_Selection_Women!AE169","v":"Jenna Williams"},null,{"$f":"IF(ISERROR(Baker_Scores_Women_Var!E198), \" \", IF(Baker_Scores_Women_Var!E198 = \"Yes\", \"Yes\", \"  \"))","v":"  "},246.0,169.0,246.0,195.0,180.0,197.0,1233,6,205.5]
[null,{"$f":"Roster_Selection_Women!AB170&\" \" & \"V \"","v":"Mount Mercy University V "},{"$f":"Roster_Selection_Women!AD170","v":"11-507261"},{"$f":"Roster_Selection_Women!AE170","v":"Katrina McCarthy"},"Yes",{"$f":"IF(ISERROR(Baker_Scores_Women_Var!E199), \" \", IF(Baker_Scores_Women_Var!E199 = \"Yes\", \"Yes\", \"  \"))","v":"  "},0.0,0.0,0.0,0.0,0.0,0.0,0,0,0]
[null,{"$f":"Roster_Selection_Women!AB171&\" \" & \"V \"","v":"Mount Mercy University V "},{"$f":"Roster_Selection_Women!AD171","v":"5686-2091"},{"$f":"Roster_Selection_Women!AE171","v":"Mackenzie Ullian"},null,{"$f":"IF(ISERROR(Baker_Scores_Women_Var!E200), \" \", IF(Baker_Scores_Women_Var!E200 = \"Yes\", \"Yes\", \"  \"))","v":"  "},165.0,190.0,159.0,215.0,158.0,202.0,1089,6,181.5]
[null,{"$f":"Roster_Selection_Women!AB172&\" \" & \"V \"","v":"Mount Mercy University V "},{"$f":"Roster_Selection_Women!AD172","v":"5730-32265"},{"$f":"Roster_Selection_Women!AE172","v":"Megan Kolberg"},null,{"$f":"IF(ISERROR(Baker_Scores_Women_Var!E201), \" \", IF(Baker_Scores_Women_Var!E201 = \"Yes\", \"Yes\", \"  \"))","v":"  "},180.0,194.0,163.0,172.0,198.0,160.0,1067,6,177.8333333]
[null,"Mount Mercy University V","","",{"$nulls":8},0,0,0]
[null,"Mount Mercy University V","","",{"$nulls":8},0,0,0]
[null,"Mount Mercy University V","","",{"$nulls":8},0,0,0]
[{"$nulls":6},{"$f":"SUM(G194:G204)","v":974},905,947,978,872,932,5608,30]
[]
[null,{"$f":"Roster_Selection_Women!AB184&\" \" & \"V \"","v":"Newman University V "},{"$f":"Roster_Selection_Women!AD184","v":"5900-25075"},{"$f":"Roster_Selection_Women!AE184","v":"Addyson Schiffelbein"},null,{"$f":"IF(ISERROR(Baker_Scores_Women_Var!E207), \" \", IF(Baker_Scores_Women_Var!E207 = \"Yes\", \"Yes\", \"  \"))","v":"  "},132.0,0.0,0.0,160.0,0.0,172.0,{"$f":"SUM(G207:L207)","v":464},{"$f":"COUNTIF(G207:L207, \">0\" )","v":3},{"$f":"IF(N207=0,0,M207/N207)","v":154.6666667}]
[null,{"$f":"Roster_Selection_Women!AB185&\" \" & \"V \"","v":"Newman University V "},{"$f":"Roster_Selection_Women!AD185","v":"11-618792"},{"$f":"Roster_Selection_Women!AE185","v":"Allison Szewczyk"},null,{"$f":"IF(ISERROR(Baker_Scores_Women_Var!E208), \" \", IF(Baker_Scores_Women_Var!E208 = \"Yes\", \"Yes\", \"  \"))","v":"  "},164.0,147.0,0.0,188.0,159.0,191.0,849,5,169.8]
[null,{"$f":"Roster_Selection_Women!AB186&\" \" & \"V \"","v":"Newman University V "},{"$f":"Roster_Selection_Women!AD186","v":"11-53831"},{"$f":"Roster_Selection_Women!AE186","v":"Brylee Prockish"},null,{"$f":"IF(ISERROR(Baker_Scores_Women_Var!E209), \" \", IF(Baker_Scores_Women_Var!E209 = \"Yes\", \"Yes\", \"  \"))","v":"  "},0.0,178.0,149.0,0.0,174.0,165.0,666,4,166.5]
[null,{"$f":"Roster_Selection_Women!AB187&\" \" & \"V \"","v":"Newman University V "},{"$f":"Roster_Selection_Women!AD187","v":"11-220191"},{"$f":"Roster_Selection_Women!AE187","v":"Dakota Lennen"},null,{"$f":"IF(ISERROR(Baker_Scores_Women_Var!E210), \" \", IF(Baker_Scores_Women_Var!E210 = \"Yes\", \"Yes\", \"  \"))","v":"  "},198.0,198.0,187.0,165.0,190.0,191.0,1129,6,188.1666667]
[null,{"$f":"Roster_Selection_Women!AB188&\" \" & \"V \"","v":"Newman University V "},{"$f":"Roster_Selection_Women!AD188","v":"11-379639"},{"$f":"Roster_Selection_Women!AE188","v":"Kassidy Miller"},null,{"$f":"IF(ISERROR(Baker_Scores_Women_Var!E211), \" \", IF(Baker_Scores_Women_Var!E211 = \"Yes\", \"Yes\", \"  \"))","v":"  "},215.0,211.0,188.0,157.0,176.0,0.0,947,5,189.4]
[null,{"$f":"Roster_Selection_Women!AB189&\" \" & \"V \"","v":"Newman University V "},{"$f":"Roster_Selection_Women!AD189","v":"11-598856"},{"$f":"Roster_Selection_Women!AE189","v":"Kensley Morris"},null,{"$f":"IF(ISERROR(Baker_Scores_Women_Var!E212), \" \", IF(Baker_Scores_Women_Var!E212 = \"Yes\", \"Yes\", \"  \"))","v":"  "},0.0,0.0,205.0,154.0,0.0,0.0,359,2,179.5]
[null,{"$f":"Roster_Selection_Women!AB190&\" \" & \"V \"","v":"Newman University V "},{"$f":"Roster_Selection_Women!AD190","v":"6825-6151"},{"$f":"Roster_Selection_Women!AE190","v":"Morgan Cooper"},null,{"$f":"IF(ISERROR(Baker_Scores_Women_Var!E213), \" \", IF(Baker_Scores_Women_Var!E213 = \"Yes\", \"Yes\", \"  \"))","v":"  "},167.0,214.0,140.0,0.0,211.0,166.0,898,5,179.6]
[null,{"$f":"Roster_Selection_Women!AB191&\" \" & \"V \"","v":" V "},{"$f":"Roster_Selection_Women!AD191","v":""},{"$f":"Roster_Selection_Women!AE191","v":""},null,{"$f":"IF(ISERROR(Baker_Scores_Women_Var!E214), \" \", IF(Baker_Scores_Women_Var!E214 = \"Yes\", \"Yes\", \"  \"))","v":"  "},{"$nulls":6},0,0,0]
[null,"Newman University V","","",{"$nulls":8},0,0,0]
[null,"Newman University V","","",{"$nulls":8},0,0,0]
[null,"Newman University V","","",{"$nulls":8},0,0,0]
[{"$nulls":6},{"$f":"SUM(G207:G217)","v":876},948,869,824,910,885,5312,30]
[]
[null,{"$f":"Roster_Selection_Women!AB197&\" \" & \"V \"","v":"Oklahoma Christian University V "},{"$f":"Roster_Selection_Women!AD197","v":"5730-33667"},{"$f":"Roster_Selection_Women!AE197","v":"Claire McDermott"},null,{"$f":"IF(ISERROR(Baker_Scores_Women_Var!E220), \" \", IF(Baker_Scores_Women_Var!E220 = \"Yes\", \"Yes\", \"  \"))","v":"  "},175.0,194.0,243.0,216.0,189.0,179.0,{"$f":"SUM(G220:L220)","v":1196},{"$f":"COUNTIF(G220:L220, \">0\" )","v":6},{"$f":"IF(N220=0,0,M220/N220)","v":199.3333333}]
[null,{"$f":"Roster_Selection_Women!AB198&\" \" & \"V \"","v":"Oklahoma Christian University V "},{"$f":"Roster_Selection_Women!AD198","v":"11-398429"},{"$f":"Roster_Selection_Women!AE198","v":"Jaymie Burrow"},null,{"$f":"IF(ISERROR(Baker_Scores_Women_Var!E221), \" \", IF(Baker_Scores_Women_Var!E221 = \"Yes\", \"Yes\", \"  \"))","v":"  "},0.0,0.0,0.0,171.0,0.0,212.0,383,2,191.5]
[null,{"$f":"Roster_Selection_Women!AB199&\" \" & \"V \"","v":"Oklahoma Christian University V "},{"$f":"Roster_Selection_Women!AD199","v":"11-28817"},{"$f":"Roster_Selection_Women!AE199","v":"Jordan Corbett"},null,{"$f":"IF(ISERROR(Baker_Scores_Women_Var!E222), \" \", IF(Baker_Scores_Women_Var!E222 = \"Yes\", \"Yes\", \"  \"))","v":"  "},193.0,166.0,175.0,181.0,155.0,191.0,1061,6,176.8333333]
[null,{"$f":"Roster_Selection_Women!AB200&\" \" & \"V \"","v":"Oklahoma Christian University V "},{"$f":"Roster_Selection_Women!AD200","v":"11-43023"},{"$f":"Roster_Selection_Women!AE200","v":"Kaylee Back"},null,{"$f":"IF(ISERROR(Baker_Scores_Women_Var!E223), \" \", IF(Baker_Scores_Women_Var!E223 = \"Yes\", \"Yes\", \"  \"))","v":"  "},147.0,176.0,199.0,190.0,176.0,206.0,1094,6,182.3333333]
[null,{"$f":"Roster_Selection_Women!AB201&\" \" & \"V \"","v":"Oklahoma Christian University V "},{"$f":"Roster_Selection_Women!AD201","v":"15-103226"},{"$f":"Roster_Selection_Women!AE201","v":"Morgan Pelkie"},null,{"$f":"IF(ISERROR(Baker_Scores_Women_Var!E224), \" \", IF(Baker_Scores_Women_Var!E224 = \"Yes\", \"Yes\", \"  \"))","v":"  "},0.0,0.0,135.0,0.0,182.0,156.0,473,3,157.6666667]
[null,{"$f":"Roster_Selection_Women!AB202&\" \" & \"V \"","v":"Oklahoma Christian University V "},{"$f":"Roster_Selection_Women!AD202","v":"11-46016"},{"$f":"Roster_Selection_Women!AE202","v":"Shelby Davis"},null,{"$f":"IF(ISERROR(Baker_Scores_Women_Var!E225), \" \", IF(Baker_Scores_Women_Var!E225 = \"Yes\", \"Yes\", \"  \"))","v":"  "},206.0,198.0,169.0,144.0,0.0,0.0,717,4,179.25]
[null,{"$f":"Roster_Selection_Women!AB203&\" \" & \"V \"","v":"Oklahoma Christian University V "},{"$f":"Roster_Selection_Women!AD203","v":"11-317463"},{"$f":"Roster_Selection_Women!AE203","v":"Tori Justice"},null,{"$f":"IF(ISERROR(Baker_Scores_Women_Var!E226), \" \", IF(Baker_Scores_Women_Var!E226 = \"Yes\", \"Yes\", \"  \"))","v":"  "},180.0,169.0,0.0,0.0,129.0,0.0,478,3,159.3333333]
[null,{"$f":"Roster_Selection_Women!AB204&\" \" & \"V \"","v":" V "},{"$f":"Roster_Selection_Women!AD204","v":""},{"$f":"Roster_Selection_Women!AE204","v":""},null,{"$f":"IF(ISERROR(Baker_Scores_Women_Var!E227), \" \", IF(Baker_Scores_Women_Var!E227 = \"Yes\", \"Yes\", \"  \"))","v":"  "},{"$nulls":6},0,0,0]
[null,"Oklahoma Christian University V","","",{"$nulls":8},0,0,0]
[null,"Oklahoma Christian University V","","",{"$nulls":8},0,0,0]
[null,"Oklahoma Christian University V","","",{"$nulls":8},0,0,0]
[{"$nulls":6},{"$f":"SUM(G220:G230)","v":901},903,921,902,831,944,5402,30]
[]
[null,{"$f":"Roster_Selection_Women!AB213&\" \" & \"V \"","v":"Ottawa University (KS) V "},{"$f":"Roster_Selection_Women!AD213","v":"8599-50647"},{"$f":"Roster_Selection_Women!AE213","v":"Alaina Burris"},null,{"$f":"IF(ISERROR(Baker_Scores_Women_Var!E233), \" \", IF(Baker_Scores_Women_Var!E233 = \"Yes\", \"Yes\", \"  \"))","v":"  "},177.0,169.0,171.0,185.0,182.0,172.0,{"$f":"SUM(G233:L233)","v":1056},{"$f":"COUNTIF(G233:L233, \">0\" )","v":6},{"$f":"IF(N233=0,0,M233/N233)","v":176}]
[null,{"$f":"Roster_Selection_Women!AB214&\" \" & \"V \"","v":"Ottawa University (KS) V "},{"$f":"Roster_Selection_Women!AD214","v":"6445-89"},{"$f":"Roster_Selection_Women!AE214","v":"Danika Hickey"},null,{"$f":"IF(ISERROR(Baker_Scores_Women_Var!E234), \" \", IF(Baker_Scores_Women_Var!E234 = \"Yes\", \"Yes\", \"  \"))","v":"  "},0.0,154.0,185.0,168.0,0.0,0.0,507,3,169]
[null,{"$f":"Roster_Selection_Women!AB215&\" \" & \"V \"","v":"Ottawa University (KS) V "},{"$f":"Roster_Selection_Women!AD215","v":"11-241897"},{"$f":"Roster_Selection_Women!AE215","v":"Gabriella Hernandez"},null,{"$f":"IF(ISERROR(Baker_Scores_Women_Var!E235), \" \", IF(Baker_Scores_Women_Var!E235 = \"Yes\", \"Yes\", \"  \"))","v":"  "},0.0,0.0,0.0,226.0,198.0,179.0,603,3,201]
[null,{"$f":"Roster_Selection_Women!AB216&\" \" & \"V \"","v":"Ottawa University (KS) V "},{"$f":"Roster_Selection_Women!AD216","v":"11-188358"},{"$f":"Roster_Selection_Women!AE216","v":"Holly Bridges"},null,{"$f":"IF(ISERROR(Baker_Scores_Women_Var!E236), \" \", IF(Baker_Scores_Women_Var!E236 = \"Yes\", \"Yes\", \"  \"))","v":"  "},141.0,173.0,170.0,205.0,169.0,197.0,1055,6,175.8333333]
[null,{"$f":"Roster_Selection_Women!AB217&\" \" & \"V \"","v":"Ottawa University (KS) V "},{"$f":"Roster_Selection_Women!AD217","v":"5900-26985"},{"$f":"Roster_Selection_Women!AE217","v":"Jadyn Barr"},null,{"$f":"IF(ISERROR(Baker_Scores_Women_Var!E237), \" \", IF(Baker_Scores_Women_Var!E237 = \"Yes\", \"Yes\", \"  \"))","v":"  "},131.0,0.0,0.0,0.0,213.0,198.0,542,3,180.6666667]
[null,{"$f":"Roster_Selection_Women!AB218&\" \" & \"V \"","v":"Ottawa University (KS) V "},{"$f":"Roster_Selection_Women!AD218","v":"6739-5352"},{"$f":"Roster_Selection_Women!AE218","v":"Kaitlyn George"},null,{"$f":"IF(ISERROR(Baker_Scores_Women_Var!E238), \" \", IF(Baker_Scores_Women_Var!E238 = \"Yes\", \"Yes\", \"  \"))","v":"  "},174.0,155.0,159.0,0.0,0.0,0.0,488,3,162.6666667]
[null,{"$f":"Roster_Selection_Women!AB219&\" \" & \"V \"","v":"Ottawa University (KS) V "},{"$f":"Roster_Selection_Women!AD219","v":"11-706801"},{"$f":"Roster_Selection_Women!AE219","v":"Rebekah Loker"},null,{"$f":"IF(ISERROR(Baker_Scores_Women_Var!E239), \" \", IF(Baker_Scores_Women_Var!E239 = \"Yes\", \"Yes\", \"  \"))","v":"  "},161.0,186.0,202.0,191.0,176.0,220.0,1136,6,189.3333333]
[null,{"$f":"Roster_Selection_Women!AB220&\" \" & \"V \"","v":" V "},{"$f":"Roster_Selection_Women!AD220","v":""},{"$f":"Roster_Selection_Women!AE220","v":""},null,{"$f":"IF(ISERROR(Baker_Scores_Women_Var!E240), \" \", IF(Baker_Scores_Women_Var!E240 = \"Yes\", \"Yes\", \"  \"))","v":"  "},{"$nulls":6},0,0,0]
[null,"Ottawa University (KS) V","","",{"$nulls":8},0,0,0]
[null,"Ottawa University (KS) V","","",{"$nulls":8},0,0,0]
[null,"Ottawa University (KS) V","","",{"$nulls":8},0,0,0]
[{"$nulls":6},{"$f":"SUM(G233:G243)","v":784},837,887,975,938,966,5387,30]
[]
[null,{"$f":"Roster_Selection_Women!AB227&\" \" & \"V \"","v":"Peru State College V "},{"$f":"Roster_Selection_Women!AD227","v":"11-378089"},{"$f":"Roster_Selection_Women!AE227","v":"Aleia Crandall"},null,{"$f":"IF(ISERROR(Baker_Scores_Women_Var!E246), \" \", IF(Baker_Scores_Women_Var!E246 = \"Yes\", \"Yes\", \"  \"))","v":"  "},133.0,162.0,154.0,118.0,130.0,151.0,{"$f":"SUM(G246:L246)","v":848},{"$f":"COUNTIF(G246:L246, \">0\" )","v":6},{"$f":"IF(N246=0,0,M246/N246)","v":141.3333333}]
[null,{"$f":"Roster_Selection_Women!AB228&\" \" & \"V \"","v":"Peru State College V "},{"$f":"Roster_Selection_Women!AD228","v":"5900-25720"},{"$f":"Roster_Selection_Women!AE228","v":"Casey Feast"},null,{"$f":"IF(ISERROR(Baker_Scores_Women_Var!E247), \" \", IF(Baker_Scores_Women_Var!E247 = \"Yes\", \"Yes\", \"  \"))","v":"  "},162.0,153.0,172.0,141.0,164.0,202.0,994,6,165.6666667]
[null,{"$f":"Roster_Selection_Women!AB229&\" \" & \"V \"","v":"Peru State College V "},{"$f":"Roster_Selection_Women!AD229","v":"18-15133"},{"$f":"Roster_Selection_Women!AE229","v":"Kaitlyn Doyal"},null,{"$f":"IF(ISERROR(Baker_Scores_Women_Var!E248), \" \", IF(Baker_Scores_Women_Var!E248 = \"Yes\", \"Yes\", \"  \"))","v":"  "},182.0,144.0,170.0,179.0,191.0,222.0,1088,6,181.3333333]
[null,{"$f":"Roster_Selection_Women!AB230&\" \" & \"V \"","v":"Peru State College V "},{"$f":"Roster_Selection_Women!AD230","v":"11-383207"},{"$f":"Roster_Selection_Women!AE230","v":"Kassidy Haberman"},null,{"$f":"IF(ISERROR(Baker_Scores_Women_Var!E249), \" \", IF(Baker_Scores_Women_Var!E249 = \"Yes\", \"Yes\", \"  \"))","v":"  "},145.0,140.0,164.0,122.0,136.0,149.0,856,6,142.6666667]
[null,{"$f":"Roster_Selection_Women!AB231&\" \" & \"V \"","v":"Peru State College V "},{"$f":"Roster_Selection_Women!AD231","v":"5900-27999"},{"$f":"Roster_Selection_Women!AE231","v":"McKinley Cross"},null,{"$f":"IF(ISERROR(Baker_Scores_Women_Var!E250), \" \", IF(Baker_Scores_Women_Var!E250 = \"Yes\", \"Yes\", \"  \"))","v":"  "},110.0,181.0,141.0,131.0,122.0,171.0,856,6,142.6666667]
[null,{"$f":"Roster_Selection_Women!AB232&\" \" & \"V \"","v":" V "},{"$f":"Roster_Selection_Women!AD232","v":""},{"$f":"Roster_Selection_Women!AE232","v":""},null,{"$f":"IF(ISERROR(Baker_Scores_Women_Var!E251), \" \", IF(Baker_Scores_Women_Var!E251 = \"Yes\", \"Yes\", \"  \"))","v":"  "},{"$nulls":6},0,0,0]
[null,{"$f":"Roster_Selection_Women!AB233&\" \" & \"V \"","v":" V "},{"$f":"Roster_Selection_Women!AD233","v":""},{"$f":"Roster_Selection_Women!AE233","v":""},null,{"$f":"IF(ISERROR(Baker_Scores_Women_Var!E252), \" \", IF(Baker_Scores_Women_Var!E252 = \"Yes\", \"Yes\", \"  \"))","v":"  "},{"$nulls":6},0,0,0]
[null,{"$f":"Roster_Selection_Women!AB234&\" \" & \"V \"","v":" V "},{"$f":"Roster_Selection_Women!AD234","v":""},{"$f":"Roster_Selection_Women!AE234","v":""},null,{"$f":"IF(ISERROR(Baker_Scores_Women_Var!E253), \" \", IF(Baker_Scores_Women_Var!E253 = \"Yes\", \"Yes\", \"  \"))","v":"  "},{"$nulls":6},0,0,0]
[null,"Peru State College V","","",{"$nulls":8},0,0,0]
[null,"Peru State College V","","",{"$nulls":8},0,0,0]
[null,"Peru State College V","","",{"$nulls":8},0,0,0]
[{"$nulls":6},{"$f":"SUM(G246:G256)","v":732},780,801,691,743,895,4642,30]
[]
[null,{"$f":"Roster_Selection_Women!AB242&\" \" & \"V \"","v":"St. Ambrose University V "},{"$f":"Roster_Selection_Women!AD242","v":"11-262998"},{"$f":"Roster_Selection_Women!AE242","v":"Amanda Bohn"},null,{"$f":"IF(ISERROR(Baker_Scores_Women_Var!E259), \" \", IF(Baker_Scores_Women_Var!E259 = \"Yes\", \"Yes\", \"  \"))","v":"  "},0.0,0.0,0.0,191.0,144.0,0.0,{"$f":"SUM(G259:L259)","v":335},{"$f":"COUNTIF(G259:L259, \">0\" )","v":2},{"$f":"IF(N259=0,0,M259/N259)","v":167.5}]
[null,{"$f":"Roster_Selection_Women!AB243&\" \" & \"V \"","v":"St. Ambrose University V "},{"$f":"Roster_Selection_Women!AD243","v":"5712-1060"},{"$f":"Roster_Selection_Women!AE243","v":"Bailey Tripilas"},null,{"$f":"IF(ISERROR(Baker_Scores_Women_Var!E260), \" \", IF(Baker_Scores_Women_Var!E260 = \"Yes\", \"Yes\", \"  \"))","v":"  "},189.0,161.0,142.0,0.0,0.0,0.0,492,3,164]
[null,{"$f":"Roster_Selection_Women!AB244&\" \" & \"V \"","v":"St. Ambrose University V "},{"$f":"Roster_Selection_Women!AD244","v":"11-55640"},{"$f":"Roster_Selection_Women!AE244","v":"Erin Williams"},null,{"$f":"IF(ISERROR(Baker_Scores_Women_Var!E261), \" \", IF(Baker_Scores_Women_Var!E261 = \"Yes\", \"Yes\", \"  \"))","v":"  "},194.0,169.0,203.0,192.0,169.0,191.0,1118,6,186.3333333]
[null,{"$f":"Roster_Selection_Women!AB245&\" \" & \"V \"","v":"St. Ambrose University V "},{"$f":"Roster_Selection_Women!AD245","v":"11-421693"},{"$f":"Roster_Selection_Women!AE245","v":"Kayla Devine"},null,{"$f":"IF(ISERROR(Baker_Scores_Women_Var!E262), \" \", IF(Baker_Scores_Women_Var!E262 = \"Yes\", \"Yes\", \"  \"))","v":"  "},167.0,132.0,0.0,185.0,156.0,193.0,833,5,166.6]
[null,{"$f":"Roster_Selection_Women!AB246&\" \" & \"V \"","v":"St. Ambrose University V "},{"$f":"Roster_Selection_Women!AD246","v":"11-265628"},{"$f":"Roster_Selection_Women!AE246","v":"Marissa Bills"},null,{"$f":"IF(ISERROR(Baker_Scores_Women_Var!E263), \" \", IF(Baker_Scores_Women_Var!E263 = \"Yes\", \"Yes\", \"  \"))","v":"  "},178.0,154.0,186.0,199.0,165.0,180.0,1062,6,177]
[null,{"$f":"Roster_Selection_Women!AB247&\" \" & \"V \"","v":"St. Ambrose University V "},{"$f":"Roster_Selection_Women!AD247","v":"6011-215"},{"$f":"Roster_Selection_Women!AE247","v":"Noelle Phillips"},null,{"$f":"IF(ISERROR(Baker_Scores_Women_Var!E264), \" \", IF(Baker_Scores_Women_Var!E264 = \"Yes\", \"Yes\", \"  \"))","v":"  "},0.0,0.0,159.0,0.0,0.0,0.0,159,1,159]
[null,{"$f":"Roster_Selection_Women!AB248&\" \" & \"V \"","v":"St. Ambrose University V "},{"$f":"Roster_Selection_Women!AD248","v":"17-5653"},{"$f":"Roster_Selection_Women!AE248","v":"Patricia Alvarado"},null,{"$f":"IF(ISERROR(Baker_Scores_Women_Var!E265), \" \", IF(Baker_Scores_Women_Var!E265 = \"Yes\", \"Yes\", \"  \"))","v":"  "},155.0,0.0,0.0,0.0,0.0,177.0,332,2,166]
[null,{"$f":"Roster_Selection_Women!AB249&\" \" & \"V \"","v":"St. Ambrose University V "},{"$f":"Roster_Selection_Women!AD249","v":"8611-9243"},{"$f":"Roster_Selection_Women!AE249","v":"Samantha (Sammy) Upham"},null,{"$f":"IF(ISERROR(Baker_Scores_Women_Var!E266), \" \", IF(Baker_Scores_Women_Var!E266 = \"Yes\", \"Yes\", \"  \"))","v":"  "},0.0,202.0,219.0,176.0,162.0,216.0,975,5,195]
[null,"St. Ambrose University V","","",{"$nulls":8},0,0,0]
[null,"St. Ambrose University V","","",{"$nulls":8},0,0,0]
[null,"St. Ambrose University V","","",{"$nulls":8},0,0,0]
[{"$nulls":6},{"$f":"SUM(G259:G269)","v":883},818,909,943,796,957,5306,30]
[]
[null,{"$f":"Roster_Selection_Women!AB262&\" \" & \"V \"","v":"University Of Saint Mary V "},{"$f":"Roster_Selection_Women!AD262","v":"11-444580"},{"$f":"Roster_Selection_Women!AE262","v":"Angel Cordero"},null,{"$f":"IF(ISERROR(Baker_Scores_Women_Var!E272), \" \", IF(Baker_Scores_Women_Var!E272 = \"Yes\", \"Yes\", \"  \"))","v":"  "},170.0,131.0,132.0,184.0,143.0,135.0,{"$f":"SUM(G272:L272)","v":895},{"$f":"COUNTIF(G272:L272, \">0\" )","v":6},{"$f":"IF(N272=0,0,M272/N272)","v":149.1666667}]
[null,{"$f":"Roster_Selection_Women!AB263&\" \" & \"V \"","v":"University Of Saint Mary V "},{"$f":"Roster_Selection_Women!AD263","v":"11-623384"},{"$f":"Roster_Selection_Women!AE263","v":"Brianna Hubenett"},null,{"$f":"IF(ISERROR(Baker_Scores_Women_Var!E273), \" \", IF(Baker_Scores_Women_Var!E273 = \"Yes\", \"Yes\", \"  \"))","v":"  "},118.0,131.0,0.0,139.0,139.0,138.0,665,5,133]
[null,{"$f":"Roster_Selection_Women!AB264&\" \" & \"V \"","v":"University Of Saint Mary V "},{"$f":"Roster_Selection_Women!AD264","v":"17-57411"},{"$f":"Roster_Selection_Women!AE264","v":"Carmen Silva"},null,{"$f":"IF(ISERROR(Baker_Scores_Women_Var!E274), \" \", IF(Baker_Scores_Women_Var!E274 = \"Yes\", \"Yes\", \"  \"))","v":"  "},167.0,211.0,142.0,138.0,0.0,0.0,658,4,164.5]
[null,{"$f":"Roster_Selection_Women!AB265&\" \" & \"V \"","v":"University Of Saint Mary V "},{"$f":"Roster_Selection_Women!AD265","v":"11-193245"},{"$f":"Roster_Selection_Women!AE265","v":"Jordan Reynolds"},null,{"$f":"IF(ISERROR(Baker_Scores_Women_Var!E275), \" \", IF(Baker_Scores_Women_Var!E275 = \"Yes\", \"Yes\", \"  \"))","v":"  "},139.0,169.0,169.0,188.0,177.0,156.0,998,6,166.3333333]
[null,{"$f":"Roster_Selection_Women!AB266&\" \" & \"V \"","v":"University Of Saint Mary V "},{"$f":"Roster_Selection_Women!AD266","v":"21-79472"},{"$f":"Roster_Selection_Women!AE266","v":"Lola Moore"},null,{"$f":"IF(ISERROR(Baker_Scores_Women_Var!E276), \" \", IF(Baker_Scores_Women_Var!E276 = \"Yes\", \"Yes\", \"  \"))","v":"  "},0.0,0.0,122.0,0.0,145.0,0.0,267,2,133.5]
[null,{"$f":"Roster_Selection_Women!AB267&\" \" & \"V \"","v":"University Of Saint Mary V "},{"$f":"Roster_Selection_Women!AD267","v":"18-98767"},{"$f":"Roster_Selection_Women!AE267","v":"Natalie Koehler"},null,{"$f":"IF(ISERROR(Baker_Scores_Women_Var!E277), \" \", IF(Baker_Scores_Women_Var!E277 = \"Yes\", \"Yes\", \"  \"))","v":"  "},0.0,0.0,0.0,0.0,144.0,156.0,300,2,150]
[null,{"$f":"Roster_Selection_Women!AB268&\" \" & \"V \"","v":"University Of Saint Mary V "},{"$f":"Roster_Selection_Women!AD268","v":"21-472"},{"$f":"Roster_Selection_Women!AE268","v":"Oliva Helten"},null,{"$f":"IF(ISERROR(Baker_Scores_Women_Var!E278), \" \", IF(Baker_Scores_Women_Var!E278 = \"Yes\", \"Yes\", \"  \"))","v":"  "},147.0,131.0,131.0,116.0,0.0,139.0,664,5,132.8]
[null,{"$f":"Roster_Selection_Women!AB269&\" \" & \"V \"","v":" V "},{"$f":"Roster_Selection_Women!AD269","v":""},{"$f":"Roster_Selection_Women!AE269","v":""},null,{"$f":"IF(ISERROR(Baker_Scores_Women_Var!E279), \" \", IF(Baker_Scores_Women_Var!E279 = \"Yes\", \"Yes\", \"  \"))","v":"  "},{"$nulls":6},0,0,0]
[null,"University Of Saint Mary V","","",{"$nulls":8},0,0,0]
[null,"University Of Saint Mary V","","",{"$nulls":8},0,0,0]
[null,"University Of Saint Mary V","","",{"$nulls":8},0,0,0]
[{"$nulls":6},{"$f":"SUM(G272:G282)","v":741},773,696,765,748,724,4447,30]
[]
[null,{"$f":"Roster_Selection_Women!AB272&\" \" & \"V \"","v":"Waldorf University V "},{"$f":"Roster_Selection_Women!AD272","v":"7914-15599"},{"$f":"Roster_Selection_Women!AE272","v":"Adrianna Albert"},null,{"$f":"IF(ISERROR(Baker_Scores_Women_Var!E285), \" \", IF(Baker_Scores_Women_Var!E285 = \"Yes\", \"Yes\", \"  \"))","v":"  "},136.0,131.0,179.0,161.0,216.0,148.0,{"$f":"SUM(G285:L285)","v":971},{"$f":"COUNTIF(G285:L285, \">0\" )","v":6},{"$f":"IF(N285=0,0,M285/N285)","v":161.8333333}]
[null,{"$f":"Roster_Selection_Women!AB273&\" \" & \"V \"","v":"Waldorf University V "},{"$f":"Roster_Selection_Women!AD273","v":"21-5187"},{"$f":"Roster_Selection_Women!AE273","v":"Heather Viers"},null,{"$f":"IF(ISERROR(Baker_Scores_Women_Var!E286), \" \", IF(Baker_Scores_Women_Var!E286 = \"Yes\", \"Yes\", \"  \"))","v":"  "},189.0,157.0,173.0,127.0,0.0,151.0,797,5,159.4]
[null,{"$f":"Roster_Selection_Women!AB274&\" \" & \"V \"","v":"Waldorf University V "},{"$f":"Roster_Selection_Women!AD274","v":"11-682764"},{"$f":"Roster_Selection_Women!AE274","v":"Madison Nowak"},null,{"$f":"IF(ISERROR(Baker_Scores_Women_Var!E287), \" \", IF(Baker_Scores_Women_Var!E287 = \"Yes\", \"Yes\", \"  \"))","v":"  "},0.0,0.0,152.0,154.0,172.0,140.0,618,4,154.5]
[null,{"$f":"Roster_Selection_Women!AB275&\" \" & \"V \"","v":"Waldorf University V "},{"$f":"Roster_Selection_Women!AD275","v":"8731-2803"},{"$f":"Roster_Selection_Women!AE275","v":"Madison Singleton"},null,{"$f":"IF(ISERROR(Baker_Scores_Women_Var!E288), \" \", IF(Baker_Scores_Women_Var!E288 = \"Yes\", \"Yes\", \"  \"))","v":"  "},155.0,183.0,177.0,162.0,133.0,0.0,810,5,162]
[null,{"$f":"Roster_Selection_Women!AB276&\" \" & \"V \"","v":"Waldorf University V "},{"$f":"Roster_Selection_Women!AD276","v":"11-436543"},{"$f":"Roster_Selection_Women!AE276","v":"Mara Schmitz"},null,{"$f":"IF(ISERROR(Baker_Scores_Women_Var!E289), \" \", IF(Baker_Scores_Women_Var!E289 = \"Yes\", \"Yes\", \"  \"))","v":"  "},165.0,139.0,0.0,0.0,189.0,137.0,630,4,157.5]
[null,{"$f":"Roster_Selection_Women!AB277&\" \" & \"V \"","v":"Waldorf University V "},{"$f":"Roster_Selection_Women!AD277","v":"7914-13667"},{"$f":"Roster_Selection_Women!AE277","v":"Paige Harns"},null,{"$f":"IF(ISERROR(Baker_Scores_Women_Var!E290), \" \", IF(Baker_Scores_Women_Var!E290 = \"Yes\", \"Yes\", \"  \"))","v":"  "},127.0,0.0,198.0,162.0,173.0,158.0,818,5,163.6]
[null,{"$f":"Roster_Selection_Women!AB278&\" \" & \"V \"","v":"Waldorf University V "},{"$f":"Roster_Selection_Women!AD278","v":"22-1356"},{"$f":"Roster_Selection_Women!AE278","v":"Paige Rands"},null,{"$f":"IF(ISERROR(Baker_Scores_Women_Var!E291), \" \", IF(Baker_Scores_Women_Var!E291 = \"Yes\", \"Yes\", \"  \"))","v":"  "},0.0,0.0,0.0,0.0,0.0,0.0,0,0,0]
[null,{"$f":"Roster_Selection_Women!AB279&\" \" & \"V \"","v":"Waldorf University V "},{"$f":"Roster_Selection_Women!AD279","v":"11-148783"},{"$f":"Roster_Selection_Women!AE279","v":"Zoe Czapiewski"},null,{"$f":"IF(ISERROR(Baker_Scores_Women_Var!E292), \" \", IF(Baker_Scores_Women_Var!E292 = \"Yes\", \"Yes\", \"  \"))","v":"  "},0.0,0.0,0.0,0.0,0.0,0.0,0,0,0]
[null,"Waldorf University V","","",{"$nulls":8},0,0,0]
[null,"Waldorf University V","","",{"$nulls":8},0,0,0]
[null,"Waldorf University V","","",{"$nulls":8},0,0,0]
[{"$nulls":6},{"$f":"SUM(G285:G295)","v":772},610,879,766,883,734,4644,29]
[]
[null,{"$f":"Roster_Selection_Women!AB282&\" \" & \"V \"","v":"Wichita State University V "},{"$f":"Roster_Selection_Women!AD282","v":"11-236116"},{"$f":"Roster_Selection_Women!AE282","v":"Brooklyn Gagnon"},null,{"$f":"IF(ISERROR(Baker_Scores_Women_Var!E298), \" \", IF(Baker_Scores_Women_Var!E298 = \"Yes\", \"Yes\", \"  \"))","v":"  "},192.0,188.0,205.0,153.0,0.0,0.0,{"$f":"SUM(G298:L298)","v":738},{"$f":"COUNTIF(G298:L298, \">0\" )","v":4},{"$f":"IF(N298=0,0,M298/N298)","v":184.5}]
[null,{"$f":"Roster_Selection_Women!AB283&\" \" & \"V \"","v":"Wichita State University V "},{"$f":"Roster_Selection_Women!AD283","v":"11-264440"},{"$f":"Roster_Selection_Women!AE283","v":"Grace Ogle"},"Yes",{"$f":"IF(ISERROR(Baker_Scores_Women_Var!E299), \" \", IF(Baker_Scores_Women_Var!E299 = \"Yes\", \"Yes\", \"  \"))","v":"  "},0.0,0.0,0.0,0.0,0.0,0.0,0,0,0]
[null,{"$f":"Roster_Selection_Women!AB284&\" \" & \"V \"","v":"Wichita State University V "},{"$f":"Roster_Selection_Women!AD284","v":"21-636"},{"$f":"Roster_Selection_Women!AE284","v":"Juliana Botero"},null,{"$f":"IF(ISERROR(Baker_Scores_Women_Var!E300), \" \", IF(Baker_Scores_Women_Var!E300 = \"Yes\", \"Yes\", \"  \"))","v":"  "},207.0,217.0,163.0,189.0,279.0,182.0,1237,6,206.1666667]
[null,{"$f":"Roster_Selection_Women!AB285&\" \" & \"V \"","v":"Wichita State University V "},{"$f":"Roster_Selection_Women!AD285","v":"8649-30214"},{"$f":"Roster_Selection_Women!AE285","v":"Madison Janack"},null,{"$f":"IF(ISERROR(Baker_Scores_Women_Var!E301), \" \", IF(Baker_Scores_Women_Var!E301 = \"Yes\", \"Yes\", \"  \"))","v":"  "},168.0,177.0,193.0,203.0,222.0,170.0,1133,6,188.8333333]
[null,{"$f":"Roster_Selection_Women!AB286&\" \" & \"V \"","v":"Wichita State University V "},{"$f":"Roster_Selection_Women!AD286","v":"11-33225"},{"$f":"Roster_Selection_Women!AE286","v":"Mary Orf"},null,{"$f":"IF(ISERROR(Baker_Scores_Women_Var!E302), \" \", IF(Baker_Scores_Women_Var!E302 = \"Yes\", \"Yes\", \"  \"))","v":"  "},161.0,167.0,219.0,224.0,168.0,160.0,1099,6,183.1666667]
[null,{"$f":"Roster_Selection_Women!AB287&\" \" & \"V \"","v":"Wichita State University V "},{"$f":"Roster_Selection_Women!AD287","v":"11-113227"},{"$f":"Roster_Selection_Women!AE287","v":"Molly Marshall"},"Yes",{"$f":"IF(ISERROR(Baker_Scores_Women_Var!E303), \" \", IF(Baker_Scores_Women_Var!E303 = \"Yes\", \"Yes\", \"  \"))","v":"  "},0.0,0.0,0.0,0.0,193.0,169.0,362,2,181]
[null,{"$f":"Roster_Selection_Women!AB288&\" \" & \"V \"","v":"Wichita State University V "},{"$f":"Roster_Selection_Women!AD288","v":"6944-1256"},{"$f":"Roster_Selection_Women!AE288","v":"Olivia Komorowski"},null,{"$f":"IF(ISERROR(Baker_Scores_Women_Var!E304), \" \", IF(Baker_Scores_Women_Var!E304 = \"Yes\", \"Yes\", \"  \"))","v":"  "},211.0,150.0,199.0,168.0,160.0,212.0,1100,6,183.3333333]
[null,{"$f":"Roster_Selection_Women!AB289&\" \" & \"V \"","v":"Wichita State University V "},{"$f":"Roster_Selection_Women!AD289","v":"5900-26992"},{"$f":"Roster_Selection_Women!AE289","v":"Piper Reams"},"Yes",{"$f":"IF(ISERROR(Baker_Scores_Women_Var!E305), \" \", IF(Baker_Scores_Women_Var!E305 = \"Yes\", \"Yes\", \"  \"))","v":"  "},0.0,0.0,0.0,0.0,0.0,0.0,0,0,0]
[null,"Wichita State University V","","",{"$nulls":8},0,0,0]
[null,"Wichita State University V","","",{"$nulls":8},0,0,0]
[null,"Wichita State University V","","",{"$nulls":8},0,0,0]
[{"$nulls":6},{"$f":"SUM(G298:G308)","v":939},899,979,937,1022,893,5669,30]
[]
[null,{"$f":"Roster_Selection_Women!AB297&\" \" & \"V \"","v":"William Penn University V "},{"$f":"Roster_Selection_Women!AD297","v":"7914-8979"},{"$f":"Roster_Selection_Women!AE297","v":"Alexis Lake"},null,{"$f":"IF(ISERROR(Baker_Scores_Women_Var!E311), \" \", IF(Baker_Scores_Women_Var!E311 = \"Yes\", \"Yes\", \"  \"))","v":"  "},149.0,0.0,0.0,0.0,223.0,155.0,{"$f":"SUM(G311:L311)","v":527},{"$f":"COUNTIF(G311:L311, \">0\" )","v":3},{"$f":"IF(N311=0,0,M311/N311)","v":175.6666667}]
[null,{"$f":"Roster_Selection_Women!AB298&\" \" & \"V \"","v":"William Penn University V "},{"$f":"Roster_Selection_Women!AD298","v":"11-33690"},{"$f":"Roster_Selection_Women!AE298","v":"Caitlin Radliff"},null,{"$f":"IF(ISERROR(Baker_Scores_Women_Var!E312), \" \", IF(Baker_Scores_Women_Var!E312 = \"Yes\", \"Yes\", \"  \"))","v":"  "},158.0,0.0,168.0,161.0,0.0,0.0,487,3,162.3333333]
[null,{"$f":"Roster_Selection_Women!AB299&\" \" & \"V \"","v":"William Penn University V "},{"$f":"Roster_Selection_Women!AD299","v":"15-170867"},{"$f":"Roster_Selection_Women!AE299","v":"Cydnee Whiteleather"},null,{"$f":"IF(ISERROR(Baker_Scores_Women_Var!E313), \" \", IF(Baker_Scores_Women_Var!E313 = \"Yes\", \"Yes\", \"  \"))","v":"  "},0.0,143.0,0.0,0.0,158.0,187.0,488,3,162.6666667]
[null,{"$f":"Roster_Selection_Women!AB300&\" \" & \"V \"","v":"William Penn University V "},{"$f":"Roster_Selection_Women!AD300","v":"11-35370"},{"$f":"Roster_Selection_Women!AE300","v":"Gabriella Evans"},null,{"$f":"IF(ISERROR(Baker_Scores_Women_Var!E314), \" \", IF(Baker_Scores_Women_Var!E314 = \"Yes\", \"Yes\", \"  \"))","v":"  "},147.0,165.0,168.0,160.0,0.0,0.0,640,4,160]
[null,{"$f":"Roster_Selection_Women!AB301&\" \" & \"V \"","v":"William Penn University V "},{"$f":"Roster_Selection_Women!AD301","v":"11-239533"},{"$f":"Roster_Selection_Women!AE301","v":"Isabel Diaz"},null,{"$f":"IF(ISERROR(Baker_Scores_Women_Var!E315), \" \", IF(Baker_Scores_Women_Var!E315 = \"Yes\", \"Yes\", \"  \"))","v":"  "},0.0,147.0,212.0,201.0,210.0,171.0,941,5,188.2]
[null,{"$f":"Roster_Selection_Women!AB302&\" \" & \"V \"","v":"William Penn University V "},{"$f":"Roster_Selection_Women!AD302","v":"19-78537"},{"$f":"Roster_Selection_Women!AE302","v":"Kelcey Aczon-Kawamura"},null,{"$f":"IF(ISERROR(Baker_Scores_Women_Var!E316), \" \", IF(Baker_Scores_Women_Var!E316 = \"Yes\", \"Yes\", \"  \"))","v":"  "},151.0,0.0,0.0,0.0,157.0,148.0,456,3,152]
[null,{"$f":"Roster_Selection_Women!AB303&\" \" & \"V \"","v":"William Penn University V "},{"$f":"Roster_Selection_Women!AD303","v":"11-261138"},{"$f":"Roster_Selection_Women!AE303","v":"Olivia Pilcher"},null,{"$f":"IF(ISERROR(Baker_Scores_Women_Var!E317), \" \", IF(Baker_Scores_Women_Var!E317 = \"Yes\", \"Yes\", \"  \"))","v":"  "},177.0,159.0,211.0,188.0,160.0,190.0,1085,6,180.8333333]
[null,{"$f":"Roster_Selection_Women!AB304&\" \" & \"V \"","v":"William Penn University V "},{"$f":"Roster_Selection_Women!AD304","v":"11-506021"},{"$f":"Roster_Selection_Women!AE304","v":"Shadyn Bishop"},null,{"$f":"IF(ISERROR(Baker_Scores_Women_Var!E318), \" \", IF(Baker_Scores_Women_Var!E318 = \"Yes\", \"Yes\", \"  \"))","v":"  "},0.0,212.0,196.0,133.0,0.0,0.0,541,3,180.3333333]
[null,"William Penn University V","","",{"$nulls":8},0,0,0]
[null,"William Penn University V","","",{"$nulls":8},0,0,0]
[null,"William Penn University V","","",{"$nulls":8},0,0,0]
[{"$nulls":6},{"$f":"SUM(G311:G321)","v":782},826,955,843,908,851,5165,30]
[]
[null,{"$f":"Roster_Selection_Women!AB313&\" \" & \"V \"","v":"William Woods University V "},{"$f":"Roster_Selection_Women!AD313","v":"22-28583"},{"$f":"Roster_Selection_Women!AE313","v":"Aubrie Weredyk"},null,{"$f":"IF(ISERROR(Baker_Scores_Women_Var!E324), \" \", IF(Baker_Scores_Women_Var!E324 = \"Yes\", \"Yes\", \"  \"))","v":"  "},0.0,0.0,0.0,0.0,0.0,0.0,{"$f":"SUM(G324:L324)","v":0},{"$f":"COUNTIF(G324:L324, \">0\" )","v":0},{"$f":"IF(N324=0,0,M324/N324)","v":0}]
[null,{"$f":"Roster_Selection_Women!AB314&\" \" & \"V \"","v":"William Woods University V "},{"$f":"Roster_Selection_Women!AD314","v":"18-17170"},{"$f":"Roster_Selection_Women!AE314","v":"Caitlyn Rawson"},null,{"$f":"IF(ISERROR(Baker_Scores_Women_Var!E325), \" \", IF(Baker_Scores_Women_Var!E325 = \"Yes\", \"Yes\", \"  \"))","v":"  "},176.0,139.0,241.0,152.0,143.0,130.0,981,6,163.5]
[null,{"$f":"Roster_Selection_Women!AB315&\" \" & \"V \"","v":"William Woods University V "},{"$f":"Roster_Selection_Women!AD315","v":"15-46752"},{"$f":"Roster_Selection_Women!AE315","v":"Haylie Denney"},null,{"$f":"IF(ISERROR(Baker_Scores_Women_Var!E326), \" \", IF(Baker_Scores_Women_Var!E326 = \"Yes\", \"Yes\", \"  \"))","v":"  "},130.0,172.0,156.0,131.0,154.0,148.0,891,6,148.5]
[null,{"$f":"Roster_Selection_Women!AB316&\" \" & \"V \"","v":"William Woods University V "},{"$f":"Roster_Selection_Women!AD316","v":"11-743648"},{"$f":"Roster_Selection_Women!AE316","v":"Hope Minett"},null,{"$f":"IF(ISERROR(Baker_Scores_Women_Var!E327), \" \", IF(Baker_Scores_Women_Var!E327 = \"Yes\", \"Yes\", \"  \"))","v":"  "},175.0,144.0,201.0,137.0,123.0,212.0,992,6,165.3333333]
[null,{"$f":"Roster_Selection_Women!AB317&\" \" & \"V \"","v":"William Woods University V "},{"$f":"Roster_Selection_Women!AD317","v":"21-91965"},{"$f":"Roster_Selection_Women!AE317","v":"Madison Jensen"},null,{"$f":"IF(ISERROR(Baker_Scores_Women_Var!E328), \" \", IF(Baker_Scores_Women_Var!E328 = \"Yes\", \"Yes\", \"  \"))","v":"  "},79.0,109.0,109.0,98.0,88.0,81.0,564,6,94]
[null,{"$f":"Roster_Selection_Women!AB318&\" \" & \"V \"","v":"William Woods University V "},{"$f":"Roster_Selection_Women!AD318","v":"22-1674"},{"$f":"Roster_Selection_Women!AE318","v":"Savanna Terry"},null,{"$f":"IF(ISERROR(Baker_Scores_Women_Var!E329), \" \", IF(Baker_Scores_Women_Var!E329 = \"Yes\", \"Yes\", \"  \"))","v":"  "},0.0,0.0,0.0,0.0,0.0,0.0,0,0,0]
[null,{"$f":"Roster_Selection_Women!AB319&\" \" & \"V \"","v":" V "},{"$f":"Roster_Selection_Women!AD319","v":""},{"$f":"Roster_Selection_Women!AE319","v":""},null,{"$f":"IF(ISERROR(Baker_Scores_Women_Var!E330), \" \", IF(Baker_Scores_Women_Var!E330 = \"Yes\", \"Yes\", \"  \"))","v":"  "},{"$nulls":6},0,0,0]
[null,{"$f":"Roster_Selection_Women!AB320&\" \" & \"V \"","v":" V "},{"$f":"Roster_Selection_Women!AD320","v":""},{"$f":"Roster_Selection_Women!AE320","v":""},null,{"$f":"IF(ISERROR(Baker_Scores_Women_Var!E331), \" \", IF(Baker_Scores_Women_Var!E331 = \"Yes\", \"Yes\", \"  \"))","v":"  "},{"$nulls":6},0,0,0]
[null,"William Woods University V","","",{"$nulls":8},0,0,0]
[null,"William Woods University V","","",{"$nulls":8},0,0,0]
[null,"William Woods University V","","",{"$nulls":8},0,0,0]
[{"$nulls":6},{"$f":"SUM(G324:G334)","v":560},564,707,518,508,571,3428,24]
[]
[]
[]
[]
[{"$nulls":4},"Team Totals",null,{"$f":"SUM(G23,G36,G49,G62,G75,G88,G101,G114,G127,G140,G153,G166,G179,G192,G205,G218,G231,G244,G257,G270,G283,G296,G309,G322,G335)","v":20206},20187,20773,20409,20512,20602,122689,742,{"$nulls":37},"*"]
[{"$nulls":4},"Team Game Average",null,{"$f":"SUM(G340/(25))","v":808.24},807.48,830.92,816.36,820.48,824.08]

{"sheet":"Individual_Scores_Women_JV","index":2,"n_rows":107,"n_cols":54,"rows_kept":107,"cut":false,"hidden":false,"merged":[[0,0,0,13]]}
["Individual Scores and Team Games"]
[{"$nulls":51},"Yes"]
[null,"Mid States Championships (Tier I Women)",{"$nulls":49},"No"]
[null,"Tier 1","USBC",{"$nulls":12},"1202","6","20","5","2.6","2.6",null,null,"7",{"$nulls":29},"IBCYouth"]
[null,"<<Dates>>","<<Event#>>","10/15/2022 - 10/16/2022"]
[null,"<<Location>>",null,"Wichita, KS"]
[]
[null,"Women's Division",null,"Cert No:","05700"]
[null,"Division"]
[{"$nulls":6},"Game","Game","Game","Game","Game","Game",null,"Games","Tourn."]
[null,"Team","Bowler ID","Bowler","Bowled","Bowled Baker",1.0,2.0,3.0,4.0,5.0,6.0,"Total","Bowled","Ave."]
[null,{"$f":"Roster_Selection_Women!AF34&\" \" & \"JV1 \"","v":"Barton Community College JV1 "},{"$f":"Roster_Selection_Women!AH34","v":"11-393848"},{"$f":"Roster_Selection_Women!AI34","v":"Allyson Heidenreich"},null,{"$f":"IF(ISERROR(Baker_Scores_Women_JV!E12), \" \", IF(Baker_Scores_Women_JV!E12 = \"Yes\", \"Yes\", \"  \"))","v":"  "},156.0,147.0,137.0,127.0,156.0,191.0,{"$f":"SUM(G12:L12)","v":914},{"$f":"COUNTIF(G12:L12, \">0\" )","v":6},{"$f":"IF(N12=0,0,M12/N12)","v":152.3333333}]
[null,{"$f":"Roster_Selection_Women!AF35&\" \" & \"JV1 \"","v":"Barton Community College JV1 "},{"$f":"Roster_Selection_Women!AH35","v":"15-199348"},{"$f":"Roster_Selection_Women!AI35","v":"Cassidy Goans"},null,{"$f":"IF(ISERROR(Baker_Scores_Women_JV!E13), \" \", IF(Baker_Scores_Women_JV!E13 = \"Yes\", \"Yes\", \"  \"))","v":"  "},120.0,125.0,130.0,152.0,135.0,131.0,793,6,132.1666667]
[null,{"$f":"Roster_Selection_Women!AF36&\" \" & \"JV1 \"","v":"Barton Community College JV1 "},{"$f":"Roster_Selection_Women!AH36","v":"17-36756"},{"$f":"Roster_Selection_Women!AI36","v":"Kristy Wittig"},null,{"$f":"IF(ISERROR(Baker_Scores_Women_JV!E14), \" \", IF(Baker_Scores_Women_JV!E14 = \"Yes\", \"Yes\", \"  \"))","v":"  "},146.0,104.0,137.0,122.0,171.0,130.0,810,6,135]
[null,{"$f":"Roster_Selection_Women!AF37&\" \" & \"JV1 \"","v":"Barton Community College JV1 "},{"$f":"Roster_Selection_Women!AH37","v":"22-25836"},{"$f":"Roster_Selection_Women!AI37","v":"Leah Reid"},null,{"$f":"IF(ISERROR(Baker_Scores_Women_JV!E15), \" \", IF(Baker_Scores_Women_JV!E15 = \"Yes\", \"Yes\", \"  \"))","v":"  "},93.0,82.0,131.0,122.0,131.0,107.0,666,6,111]
[null,{"$f":"Roster_Selection_Women!AF38&\" \" & \"JV1 \"","v":"Barton Community College JV1 "},{"$f":"Roster_Selection_Women!AH38","v":"11-393971"},{"$f":"Roster_Selection_Women!AI38","v":"Olivia Oliver"},null,{"$f":"IF(ISERROR(Baker_Scores_Women_JV!E16), \" \", IF(Baker_Scores_Women_JV!E16 = \"Yes\", \"Yes\", \"  \"))","v":"  "},158.0,138.0,147.0,114.0,135.0,110.0,802,6,133.6666667]
[null,{"$f":"Roster_Selection_Women!AF39&\" \" & \"JV1 \"","v":" JV1 "},{"$f":"Roster_Selection_Women!AH39","v":""},{"$f":"Roster_Selection_Women!AI39","v":""},null,{"$f":"IF(ISERROR(Baker_Scores_Women_JV!E17), \" \", IF(Baker_Scores_Women_JV!E17 = \"Yes\", \"Yes\", \"  \"))","v":"  "},{"$nulls":6},0,0,0]
[null,{"$f":"Roster_Selection_Women!AF40&\" \" & \"JV1 \"","v":" JV1 "},{"$f":"Roster_Selection_Women!AH40","v":""},{"$f":"Roster_Selection_Women!AI40","v":""},null,{"$f":"IF(ISERROR(Baker_Scores_Women_JV!E18), \" \", IF(Baker_Scores_Women_JV!E18 = \"Yes\", \"Yes\", \"  \"))","v":"  "},{"$nulls":6},0,0,0]
[null,{"$f":"Roster_Selection_Women!AF41&\" \" & \"JV1 \"","v":" JV1 "},{"$f":"Roster_Selection_Women!AH41","v":""},{"$f":"Roster_Selection_Women!AI41","v":""},null,{"$f":"IF(ISERROR(Baker_Scores_Women_JV!E19), \" \", IF(Baker_Scores_Women_JV!E19 = \"Yes\", \"Yes\", \"  \"))","v":"  "},{"$nulls":6},0,0,0]
[null,"Barton Community College JV1","","",{"$nulls":8},0,0,0]
[null,"Barton Community College JV1","","",{"$nulls":8},0,0,0]
[null,"Barton Community College JV1","","",{"$nulls":8},0,0,0]
[{"$nulls":6},{"$f":"SUM(G12:G22)","v":673},596,682,637,728,669,3985,30]
[]
[null,{"$f":"Roster_Selection_Women!AF150&\" \" & \"JV1 \"","v":"Lindenwood University JV1 "},{"$f":"Roster_Selection_Women!AH150","v":"16-109295"},{"$f":"Roster_Selection_Women!AI150","v":"Haley Gough"},null,{"$f":"IF(ISERROR(Baker_Scores_Women_JV!E25), \" \", IF(Baker_Scores_Women_JV!E25 = \"Yes\", \"Yes\", \"  \"))","v":"  "},147.0,188.0,147.0,145.0,202.0,162.0,{"$f":"SUM(G25:L25)","v":991},{"$f":"COUNTIF(G25:L25, \">0\" )","v":6},{"$f":"IF(N25=0,0,M25/N25)","v":165.1666667}]
[null,{"$f":"Roster_Selection_Women!AF151&\" \" & \"JV1 \"","v":"Lindenwood University JV1 "},{"$f":"Roster_Selection_Women!AH151","v":"6944-1443"},{"$f":"Roster_Selection_Women!AI151","v":"Justice Heisler"},null,{"$f":"IF(ISERROR(Baker_Scores_Women_JV!E26), \" \", IF(Baker_Scores_Women_JV!E26 = \"Yes\", \"Yes\", \"  \"))","v":"  "},182.0,159.0,172.0,162.0,199.0,182.0,1056,6,176]
[null,{"$f":"Roster_Selection_Women!AF152&\" \" & \"JV1 \"","v":"Lindenwood University JV1 "},{"$f":"Roster_Selection_Women!AH152","v":"11-233573"},{"$f":"Roster_Selection_Women!AI152","v":"Kylie Riggs"},null,{"$f":"IF(ISERROR(Baker_Scores_Women_JV!E27), \" \", IF(Baker_Scores_Women_JV!E27 = \"Yes\", \"Yes\", \"  \"))","v":"  "},153.0,162.0,155.0,137.0,0.0,0.0,607,4,151.75]
[null,{"$f":"Roster_Selection_Women!AF153&\" \" & \"JV1 \"","v":"Lindenwood University JV1 "},{"$f":"Roster_Selection_Women!AH153","v":"22-16986"},{"$f":"Roster_Selection_Women!AI153","v":"Madeline Woelfel"},null,{"$f":"IF(ISERROR(Baker_Scores_Women_JV!E28), \" \", IF(Baker_Scores_Women_JV!E28 = \"Yes\", \"Yes\", \"  \"))","v":"  "},0.0,0.0,154.0,127.0,160.0,155.0,596,4,149]
[null,{"$f":"Roster_Selection_Women!AF154&\" \" & \"JV1 \"","v":"Lindenwood University JV1 "},{"$f":"Roster_Selection_Women!AH154","v":"16-137026"},{"$f":"Roster_Selection_Women!AI154","v":"Madelyn San Soucie"},null,{"$f":"IF(ISERROR(Baker_Scores_Women_JV!E29), \" \", IF(Baker_Scores_Women_JV!E29 = \"Yes\", \"Yes\", \"  \"))","v":"  "},0.0,0.0,0.0,0.0,0.0,0.0,0,0,0]
[null,{"$f":"Roster_Selection_Women!AF155&\" \" & \"JV1 \"","v":"Lindenwood University JV1 "},{"$f":"Roster_Selection_Women!AH155","v":"20-29842"},{"$f":"Roster_Selection_Women!AI155","v":"Paige Ludington"},null,{"$f":"IF(ISERROR(Baker_Scores_Women_JV!E30), \" \", IF(Baker_Scores_Women_JV!E30 = \"Yes\", \"Yes\", \"  \"))","v":"  "},144.0,121.0,95.0,0.0,117.0,178.0,655,5,131]
[null,{"$f":"Roster_Selection_Women!AF156&\" \" & \"JV1 \"","v":"Lindenwood University JV1 "},{"$f":"Roster_Selection_Women!AH156","v":"16-161359"},{"$f":"Roster_Selection_Women!AI156","v":"Trinity Capps"},null,{"$f":"IF(ISERROR(Baker_Scores_Women_JV!E31), \" \", IF(Baker_Scores_Women_JV!E31 = \"Yes\", \"Yes\", \"  \"))","v":"  "},116.0,102.0,0.0,118.0,124.0,138.0,598,5,119.6]
[null,{"$f":"Roster_Selection_Women!AF157&\" \" & \"JV1 \"","v":" JV1 "},{"$f":"Roster_Selection_Women!AH157","v":""},{"$f":"Roster_Selection_Women!AI157","v":""},null,{"$f":"IF(ISERROR(Baker_Scores_Women_JV!E32), \" \", IF(Baker_Scores_Women_JV!E32 = \"Yes\", \"Yes\", \"  \"))","v":"  "},{"$nulls":6},0,0,0]
[null,"Lindenwood University JV1","","",{"$nulls":8},0,0,0]
[null,"Lindenwood University JV1","","",{"$nulls":8},0,0,0]
[null,"Lindenwood University JV1","","",{"$nulls":8},0,0,0]
[{"$nulls":6},{"$f":"SUM(G25:G35)","v":742},732,723,689,802,815,4503,30]
[]
[null,{"$f":"Roster_Selection_Women!AF184&\" \" & \"JV1 \"","v":"Newman University JV1 "},{"$f":"Roster_Selection_Women!AH184","v":"19-5159"},{"$f":"Roster_Selection_Women!AI184","v":"Adrienne Pamatmat"},null,{"$f":"IF(ISERROR(Baker_Scores_Women_JV!E38), \" \", IF(Baker_Scores_Women_JV!E38 = \"Yes\", \"Yes\", \"  \"))","v":"  "},198.0,199.0,127.0,143.0,179.0,182.0,{"$f":"SUM(G38:L38)","v":1028},{"$f":"COUNTIF(G38:L38, \">0\" )","v":6},{"$f":"IF(N38=0,0,M38/N38)","v":171.3333333}]
[null,{"$f":"Roster_Selection_Women!AF185&\" \" & \"JV1 \"","v":"Newman University JV1 "},{"$f":"Roster_Selection_Women!AH185","v":"18-80545"},{"$f":"Roster_Selection_Women!AI185","v":"Breanna Warren"},null,{"$f":"IF(ISERROR(Baker_Scores_Women_JV!E39), \" \", IF(Baker_Scores_Women_JV!E39 = \"Yes\", \"Yes\", \"  \"))","v":"  "},170.0,174.0,142.0,134.0,0.0,0.0,620,4,155]
[null,{"$f":"Roster_Selection_Women!AF186&\" \" & \"JV1 \"","v":"Newman University JV1 "},{"$f":"Roster_Selection_Women!AH186","v":"16-37397"},{"$f":"Roster_Selection_Women!AI186","v":"Carianne Takeuchi"},null,{"$f":"IF(ISERROR(Baker_Scores_Women_JV!E40), \" \", IF(Baker_Scores_Women_JV!E40 = \"Yes\", \"Yes\", \"  \"))","v":"  "},205.0,175.0,199.0,190.0,125.0,182.0,1076,6,179.3333333]
[null,{"$f":"Roster_Selection_Women!AF187&\" \" & \"JV1 \"","v":"Newman University JV1 "},{"$f":"Roster_Selection_Women!AH187","v":"11-408051"},{"$f":"Roster_Selection_Women!AI187","v":"Jaden Schaefer"},null,{"$f":"IF(ISERROR(Baker_Scores_Women_JV!E41), \" \", IF(Baker_Scores_Women_JV!E41 = \"Yes\", \"Yes\", \"  \"))","v":"  "},140.0,0.0,139.0,0.0,180.0,145.0,604,4,151]
[null,{"$f":"Roster_Selection_Women!AF188&\" \" & \"JV1 \"","v":"Newman University JV1 "},{"$f":"Roster_Selection_Women!AH188","v":"11-484624"},{"$f":"Roster_Selection_Women!AI188","v":"Jasmine Banks"},null,{"$f":"IF(ISERROR(Baker_Scores_Women_JV!E42), \" \", IF(Baker_Scores_Women_JV!E42 = \"Yes\", \"Yes\", \"  \"))","v":"  "},200.0,170.0,160.0,162.0,152.0,197.0,1041,6,173.5]
[null,{"$f":"Roster_Selection_Women!AF189&\" \" & \"JV1 \"","v":"Newman University JV1 "},{"$f":"Roster_Selection_Women!AH189","v":"11-547593"},{"$f":"Roster_Selection_Women!AI189","v":"Kenzie Womack"},null,{"$f":"IF(ISERROR(Baker_Scores_Women_JV!E43), \" \", IF(Baker_Scores_Women_JV!E43 = \"Yes\", \"Yes\", \"  \"))","v":"  "},0.0,156.0,0.0,214.0,192.0,183.0,745,4,186.25]
[null,{"$f":"Roster_Selection_Women!AF190&\" \" & \"JV1 \"","v":" JV1 "},{"$f":"Roster_Selection_Women!AH190","v":""},{"$f":"Roster_Selection_Women!AI190","v":""},null,{"$f":"IF(ISERROR(Baker_Scores_Women_JV!E44), \" \", IF(Baker_Scores_Women_JV!E44 = \"Yes\", \"Yes\", \"  \"))","v":"  "},{"$nulls":6},0,0,0]
[null,{"$f":"Roster_Selection_Women!AF191&\" \" & \"JV1 \"","v":" JV1 "},{"$f":"Roster_Selection_Women!AH191","v":""},{"$f":"Roster_Selection_Women!AI191","v":""},null,{"$f":"IF(ISERROR(Baker_Scores_Women_JV!E45), \" \", IF(Baker_Scores_Women_JV!E45 = \"Yes\", \"Yes\", \"  \"))","v":"  "},{"$nulls":6},0,0,0]
[null,"Newman University JV1","","",{"$nulls":8},0,0,0]
[null,"Newman University JV1","","",{"$nulls":8},0,0,0]
[null,"Newman University JV1","","",{"$nulls":8},0,0,0]
[{"$nulls":6},{"$f":"SUM(G38:G48)","v":913},874,767,843,828,889,5114,30]
[]
[null,{"$f":"Roster_Selection_Women!AF197&\" \" & \"JV1 \"","v":"Oklahoma Christian University JV1 "},{"$f":"Roster_Selection_Women!AH197","v":"15-134480"},{"$f":"Roster_Selection_Women!AI197","v":"Athena Walker"},null,{"$f":"IF(ISERROR(Baker_Scores_Women_JV!E51), \" \", IF(Baker_Scores_Women_JV!E51 = \"Yes\", \"Yes\", \"  \"))","v":"  "},0.0,200.0,180.0,171.0,185.0,188.0,{"$f":"SUM(G51:L51)","v":924},{"$f":"COUNTIF(G51:L51, \">0\" )","v":5},{"$f":"IF(N51=0,0,M51/N51)","v":184.8}]
[null,{"$f":"Roster_Selection_Women!AF198&\" \" & \"JV1 \"","v":"Oklahoma Christian University JV1 "},{"$f":"Roster_Selection_Women!AH198","v":"16-127272"},{"$f":"Roster_Selection_Women!AI198","v":"Jennifer Jackson"},null,{"$f":"IF(ISERROR(Baker_Scores_Women_JV!E52), \" \", IF(Baker_Scores_Women_JV!E52 = \"Yes\", \"Yes\", \"  \"))","v":"  "},157.0,167.0,126.0,0.0,145.0,127.0,722,5,144.4]
[null,{"$f":"Roster_Selection_Women!AF199&\" \" & \"JV1 \"","v":"Oklahoma Christian University JV1 "},{"$f":"Roster_Selection_Women!AH199","v":"11-176313"},{"$f":"Roster_Selection_Women!AI199","v":"Kaylee McCleery"},null,{"$f":"IF(ISERROR(Baker_Scores_Women_JV!E53), \" \", IF(Baker_Scores_Women_JV!E53 = \"Yes\", \"Yes\", \"  \"))","v":"  "},209.0,171.0,168.0,159.0,223.0,141.0,1071,6,178.5]
[null,{"$f":"Roster_Selection_Women!AF200&\" \" & \"JV1 \"","v":"Oklahoma Christian University JV1 "},{"$f":"Roster_Selection_Women!AH200","v":"20-1541"},{"$f":"Roster_Selection_Women!AI200","v":"Kirsten Morgan"},null,{"$f":"IF(ISERROR(Baker_Scores_Women_JV!E54), \" \", IF(Baker_Scores_Women_JV!E54 = \"Yes\", \"Yes\", \"  \"))","v":"  "},193.0,141.0,170.0,195.0,127.0,0.0,826,5,165.2]
[null,{"$f":"Roster_Selection_Women!AF201&\" \" & \"JV1 \"","v":"Oklahoma Christian University JV1 "},{"$f":"Roster_Selection_Women!AH201","v":"11-381111"},{"$f":"Roster_Selection_Women!AI201","v":"Liberty Pierce"},null,{"$f":"IF(ISERROR(Baker_Scores_Women_JV!E55), \" \", IF(Baker_Scores_Women_JV!E55 = \"Yes\", \"Yes\", \"  \"))","v":"  "},187.0,137.0,0.0,177.0,206.0,170.0,877,5,175.4]
[null,{"$f":"Roster_Selection_Women!AF202&\" \" & \"JV1 \"","v":"Oklahoma Christian University JV1 "},{"$f":"Roster_Selection_Women!AH202","v":"18-78917"},{"$f":"Roster_Selection_Women!AI202","v":"Maddie Reynolds"},null,{"$f":"IF(ISERROR(Baker_Scores_Women_JV!E56), \" \", IF(Baker_Scores_Women_JV!E56 = \"Yes\", \"Yes\", \"  \"))","v":"  "},152.0,0.0,164.0,157.0,0.0,160.0,633,4,158.25]
[null,{"$f":"Roster_Selection_Women!AF203&\" \" & \"JV1 \"","v":" JV1 "},{"$f":"Roster_Selection_Women!AH203","v":""},{"$f":"Roster_Selection_Women!AI203","v":""},null,{"$f":"IF(ISERROR(Baker_Scores_Women_JV!E57), \" \", IF(Baker_Scores_Women_JV!E57 = \"Yes\", \"Yes\", \"  \"))","v":"  "},{"$nulls":6},0,0,0]
[null,{"$f":"Roster_Selection_Women!AF204&\" \" & \"JV1 \"","v":" JV1 "},{"$f":"Roster_Selection_Women!AH204","v":""},{"$f":"Roster_Selection_Women!AI204","v":""},null,{"$f":"IF(ISERROR(Baker_Scores_Women_JV!E58), \" \", IF(Baker_Scores_Women_JV!E58 = \"Yes\", \"Yes\", \"  \"))","v":"  "},{"$nulls":6},0,0,0]
[null,"Oklahoma Christian University JV1","","",{"$nulls":8},0,0,0]
[null,"Oklahoma Christian University JV1","","",{"$nulls":8},0,0,0]
[null,"Oklahoma Christian University JV1","","",{"$nulls":8},0,0,0]
[{"$nulls":6},{"$f":"SUM(G51:G61)","v":898},816,808,859,886,786,5053,30]
[]
[null,{"$f":"Roster_Selection_Women!AF213&\" \" & \"JV1 \"","v":"Ottawa University (KS) JV1 "},{"$f":"Roster_Selection_Women!AH213","v":"11-529617"},{"$f":"Roster_Selection_Women!AI213","v":"Allie Williams"},null,{"$f":"IF(ISERROR(Baker_Scores_Women_JV!E64), \" \", IF(Baker_Scores_Women_JV!E64 = \"Yes\", \"Yes\", \"  \"))","v":"  "},185.0,202.0,147.0,178.0,167.0,189.0,{"$f":"SUM(G64:L64)","v":1068},{"$f":"COUNTIF(G64:L64, \">0\" )","v":6},{"$f":"IF(N64=0,0,M64/N64)","v":178}]
[null,{"$f":"Roster_Selection_Women!AF214&\" \" & \"JV1 \"","v":"Ottawa University (KS) JV1 "},{"$f":"Roster_Selection_Women!AH214","v":"11-691826"},{"$f":"Roster_Selection_Women!AI214","v":"Ashlynn Senecal"},null,{"$f":"IF(ISERROR(Baker_Scores_Women_JV!E65), \" \", IF(Baker_Scores_Women_JV!E65 = \"Yes\", \"Yes\", \"  \"))","v":"  "},149.0,157.0,131.0,138.0,144.0,117.0,836,6,139.3333333]
[null,{"$f":"Roster_Selection_Women!AF215&\" \" & \"JV1 \"","v":"Ottawa University (KS) JV1 "},{"$f":"Roster_Selection_Women!AH215","v":"11-59170"},{"$f":"Roster_Selection_Women!AI215","v":"Caitlyn Carlile"},null,{"$f":"IF(ISERROR(Baker_Scores_Women_JV!E66), \" \", IF(Baker_Scores_Women_JV!E66 = \"Yes\", \"Yes\", \"  \"))","v":"  "},120.0,146.0,0.0,193.0,133.0,155.0,747,5,149.4]
[null,{"$f":"Roster_Selection_Women!AF216&\" \" & \"JV1 \"","v":"Ottawa University (KS) JV1 "},{"$f":"Roster_Selection_Women!AH216","v":"15-181294"},{"$f":"Roster_Selection_Women!AI216","v":"Kourtney Cole"},null,{"$f":"IF(ISERROR(Baker_Scores_Women_JV!E67), \" \", IF(Baker_Scores_Women_JV!E67 = \"Yes\", \"Yes\", \"  \"))","v":"  "},167.0,0.0,139.0,101.0,0.0,114.0,521,4,130.25]
[null,{"$f":"Roster_Selection_Women!AF217&\" \" & \"JV1 \"","v":"Ottawa University (KS) JV1 "},{"$f":"Roster_Selection_Women!AH217","v":"17-76001"},{"$f":"Roster_Selection_Women!AI217","v":"Madolyn Honn"},null,{"$f":"IF(ISERROR(Baker_Scores_Women_JV!E68), \" \", IF(Baker_Scores_Women_JV!E68 = \"Yes\", \"Yes\", \"  \"))","v":"  "},141.0,160.0,139.0,0.0,146.0,157.0,743,5,148.6]
[null,{"$f":"Roster_Selection_Women!AF218&\" \" & \"JV1 \"","v":"Ottawa University (KS) JV1 "},{"$f":"Roster_Selection_Women!AH218","v":"11-133260"},{"$f":"Roster_Selection_Women!AI218","v":"Megan Emerson"},null,{"$f":"IF(ISERROR(Baker_Scores_Women_JV!E69), \" \", IF(Baker_Scores_Women_JV!E69 = \"Yes\", \"Yes\", \"  \"))","v":"  "},0.0,177.0,154.0,155.0,126.0,0.0,612,4,153]
[null,{"$f":"Roster_Selection_Women!AF219&\" \" & \"JV1 \"","v":" JV1 "},{"$f":"Roster_Selection_Women!AH219","v":""},{"$f":"Roster_Selection_Women!AI219","v":""},null,{"$f":"IF(ISERROR(Baker_Scores_Women_JV!E70), \" \", IF(Baker_Scores_Women_JV!E70 = \"Yes\", \"Yes\", \"  \"))","v":"  "},{"$nulls":6},0,0,0]
[null,{"$f":"Roster_Selection_Women!AF220&\" \" & \"JV1 \"","v":" JV1 "},{"$f":"Roster_Selection_Women!AH220","v":""},{"$f":"Roster_Selection_Women!AI220","v":""},null,{"$f":"IF(ISERROR(Baker_Scores_Women_JV!E71), \" \", IF(Baker_Scores_Women_JV!E71 = \"Yes\", \"Yes\", \"  \"))","v":"  "},{"$nulls":6},0,0,0]
[null,"Ottawa University (KS) JV1","","",{"$nulls":8},0,0,0]
[null,"Ottawa University (KS) JV1","","",{"$nulls":8},0,0,0]
[null,"Ottawa University (KS) JV1","","",{"$nulls":8},0,0,0]
[{"$nulls":6},{"$f":"SUM(G64:G74)","v":762},842,710,765,716,732,4527,30]
[]
[null,{"$f":"Roster_Selection_Women!AF227&\" \" & \"JV1 \"","v":"Peru State College JV1 "},{"$f":"Roster_Selection_Women!AH227","v":"15-184489"},{"$f":"Roster_Selection_Women!AI227","v":"Adria Huiett"},null,{"$f":"IF(ISERROR(Baker_Scores_Women_JV!E77), \" \", IF(Baker_Scores_Women_JV!E77 = \"Yes\", \"Yes\", \"  \"))","v":"  "},193.0,132.0,155.0,120.0,100.0,134.0,{"$f":"SUM(G77:L77)","v":834},{"$f":"COUNTIF(G77:L77, \">0\" )","v":6},{"$f":"IF(N77=0,0,M77/N77)","v":139}]
[null,{"$f":"Roster_Selection_Women!AF228&\" \" & \"JV1 \"","v":"Peru State College JV1 "},{"$f":"Roster_Selection_Women!AH228","v":"20-57206"},{"$f":"Roster_Selection_Women!AI228","v":"Caitlynn Gronenthal"},null,{"$f":"IF(ISERROR(Baker_Scores_Women_JV!E78), \" \", IF(Baker_Scores_Women_JV!E78 = \"Yes\", \"Yes\", \"  \"))","v":"  "},135.0,133.0,0.0,159.0,154.0,152.0,733,5,146.6]
[null,{"$f":"Roster_Selection_Women!AF229&\" \" & \"JV1 \"","v":"Peru State College JV1 "},{"$f":"Roster_Selection_Women!AH229","v":"20-36373"},{"$f":"Roster_Selection_Women!AI229","v":"Emily Meyer"},null,{"$f":"IF(ISERROR(Baker_Scores_Women_JV!E79), \" \", IF(Baker_Scores_Women_JV!E79 = \"Yes\", \"Yes\", \"  \"))","v":"  "},0.0,0.0,115.0,0.0,0.0,0.0,115,1,115]
[null,{"$f":"Roster_Selection_Women!AF230&\" \" & \"JV1 \"","v":"Peru State College JV1 "},{"$f":"Roster_Selection_Women!AH230","v":"11-93281"},{"$f":"Roster_Selection_Women!AI230","v":"Mindy Bartels"},null,{"$f":"IF(ISERROR(Baker_Scores_Women_JV!E80), \" \", IF(Baker_Scores_Women_JV!E80 = \"Yes\", \"Yes\", \"  \"))","v":"  "},181.0,135.0,159.0,185.0,126.0,192.0,978,6,163]
[null,{"$f":"Roster_Selection_Women!AF231&\" \" & \"JV1 \"","v":"Peru State College JV1 "},{"$f":"Roster_Selection_Women!AH231","v":"18-6620"},{"$f":"Roster_Selection_Women!AI231","v":"Raelynn Sugden"},null,{"$f":"IF(ISERROR(Baker_Scores_Women_JV!E81), \" \", IF(Baker_Scores_Women_JV!E81 = \"Yes\", \"Yes\", \"  \"))","v":"  "},137.0,172.0,146.0,153.0,119.0,143.0,870,6,145]
[null,{"$f":"Roster_Selection_Women!AF232&\" \" & \"JV1 \"","v":"Peru State College JV1 "},{"$f":"Roster_Selection_Women!AH232","v":"11-497037"},{"$f":"Roster_Selection_Women!AI232","v":"Renee Gausman"},null,{"$f":"IF(ISERROR(Baker_Scores_Women_JV!E82), \" \", IF(Baker_Scores_Women_JV!E82 = \"Yes\", \"Yes\", \"  \"))","v":"  "},168.0,180.0,170.0,115.0,134.0,122.0,889,6,148.1666667]
[null,{"$f":"Roster_Selection_Women!AF233&\" \" & \"JV1 \"","v":" JV1 "},{"$f":"Roster_Selection_Women!AH233","v":""},{"$f":"Roster_Selection_Women!AI233","v":""},null,{"$f":"IF(ISERROR(Baker_Scores_Women_JV!E83), \" \", IF(Baker_Scores_Women_JV!E83 = \"Yes\", \"Yes\", \"  \"))","v":"  "},{"$nulls":6},0,0,0]
[null,{"$f":"Roster_Selection_Women!AF234&\" \" & \"JV1 \"","v":" JV1 "},{"$f":"Roster_Selection_Women!AH234","v":""},{"$f":"Roster_Selection_Women!AI234","v":""},null,{"$f":"IF(ISERROR(Baker_Scores_Women_JV!E84), \" \", IF(Baker_Scores_Women_JV!E84 = \"Yes\", \"Yes\", \"  \"))","v":"  "},{"$nulls":6},0,0,0]
[null,"Peru State College JV1","","",{"$nulls":8},0,0,0]
[null,"Peru State College JV1","","",{"$nulls":8},0,0,0]
[null,"Peru State College JV1","","",{"$nulls":8},0,0,0]
[{"$nulls":6},{"$f":"SUM(G77:G87)","v":814},752,745,732,633,743,4419,30]
[]
[null,{"$f":"Roster_Selection_Women!AF282&\" \" & \"JV1 \"","v":"Wichita State University JV1 "},{"$f":"Roster_Selection_Women!AH282","v":"11-671680"},{"$f":"Roster_Selection_Women!AI282","v":"Caroline Ruden"},null,{"$f":"IF(ISERROR(Baker_Scores_Women_JV!E90), \" \", IF(Baker_Scores_Women_JV!E90 = \"Yes\", \"Yes\", \"  \"))","v":"  "},210.0,162.0,200.0,145.0,173.0,202.0,{"$f":"SUM(G90:L90)","v":1092},{"$f":"COUNTIF(G90:L90, \">0\" )","v":6},{"$f":"IF(N90=0,0,M90/N90)","v":182}]
[null,{"$f":"Roster_Selection_Women!AF283&\" \" & \"JV1 \"","v":"Wichita State University JV1 "},{"$f":"Roster_Selection_Women!AH283","v":"17-56083"},{"$f":"Roster_Selection_Women!AI283","v":"Chloe Ciecko"},null,{"$f":"IF(ISERROR(Baker_Scores_Women_JV!E91), \" \", IF(Baker_Scores_Women_JV!E91 = \"Yes\", \"Yes\", \"  \"))","v":"  "},146.0,182.0,150.0,133.0,0.0,164.0,775,5,155]
[null,{"$f":"Roster_Selection_Women!AF284&\" \" & \"JV1 \"","v":"Wichita State University JV1 "},{"$f":"Roster_Selection_Women!AH284","v":"20-21972"},{"$f":"Roster_Selection_Women!AI284","v":"Dahna'adel Duffy"},null,{"$f":"IF(ISERROR(Baker_Scores_Women_JV!E92), \" \", IF(Baker_Scores_Women_JV!E92 = \"Yes\", \"Yes\", \"  \"))","v":"  "},0.0,0.0,0.0,0.0,170.0,188.0,358,2,179]
[null,{"$f":"Roster_Selection_Women!AF285&\" \" & \"JV1 \"","v":"Wichita State University JV1 "},{"$f":"Roster_Selection_Women!AH285","v":"11-139695"},{"$f":"Roster_Selection_Women!AI285","v":"Kristy Mace"},null,{"$f":"IF(ISERROR(Baker_Scores_Women_JV!E93), \" \", IF(Baker_Scores_Women_JV!E93 = \"Yes\", \"Yes\", \"  \"))","v":"  "},176.0,144.0,178.0,159.0,159.0,196.0,1012,6,168.6666667]
[null,{"$f":"Roster_Selection_Women!AF286&\" \" & \"JV1 \"","v":"Wichita State University JV1 "},{"$f":"Roster_Selection_Women!AH286","v":"17-20321"},{"$f":"Roster_Selection_Women!AI286","v":"Mariah Bell"},null,{"$f":"IF(ISERROR(Baker_Scores_Women_JV!E94), \" \", IF(Baker_Scores_Women_JV!E94 = \"Yes\", \"Yes\", \"  \"))","v":"  "},169.0,159.0,0.0,0.0,0.0,128.0,456,3,152]
[null,{"$f":"Roster_Selection_Women!AF287&\" \" & \"JV1 \"","v":"Wichita State University JV1 "},{"$f":"Roster_Selection_Women!AH287","v":"11-97263"},{"$f":"Roster_Selection_Women!AI287","v":"Paige Wagner"},null,{"$f":"IF(ISERROR(Baker_Scores_Women_JV!E95), \" \", IF(Baker_Scores_Women_JV!E95 = \"Yes\", \"Yes\", \"  \"))","v":"  "},212.0,208.0,181.0,173.0,158.0,0.0,932,5,186.4]
[null,{"$f":"Roster_Selection_Women!AF288&\" \" & \"JV1 \"","v":"Wichita State University JV1 "},{"$f":"Roster_Selection_Women!AH288","v":"11-679604"},{"$f":"Roster_Selection_Women!AI288","v":"Paris Smith"},null,{"$f":"IF(ISERROR(Baker_Scores_Women_JV!E96), \" \", IF(Baker_Scores_Women_JV!E96 = \"Yes\", \"Yes\", \"  \"))","v":"  "},0.0,0.0,201.0,180.0,142.0,0.0,523,3,174.3333333]
[null,{"$f":"Roster_Selection_Women!AF289&\" \" & \"JV1 \"","v":" JV1 "},{"$f":"Roster_Selection_Women!AH289","v":""},{"$f":"Roster_Selection_Women!AI289","v":""},null,{"$f":"IF(ISERROR(Baker_Scores_Women_JV!E97), \" \", IF(Baker_Scores_Women_JV!E97 = \"Yes\", \"Yes\", \"  \"))","v":"  "},{"$nulls":6},0,0,0]
[null,"Wichita State University JV1","","",{"$nulls":8},0,0,0]
[null,"Wichita State University JV1","","",{"$nulls":8},0,0,0]
[null,"Wichita State University JV1","","",{"$nulls":8},0,0,0]
[{"$nulls":6},{"$f":"SUM(G90:G100)","v":913},855,910,790,802,878,5148,30]
[]
[]
[]
[]
[{"$nulls":4},"Team Totals",null,{"$f":"SUM(G23,G36,G49,G62,G75,G88,G101)","v":5715},5467,5345,5315,5395,5512,32749,210,{"$nulls":37},"*"]
[{"$nulls":4},"Team Game Average",null,{"$f":"SUM(G106/(7))","v":816.4285714},781,763.5714286,759.2857143,770.7142857,787.4285714]

{"sheet":"Baker_Scores_Women_Var","index":3,"n_rows":1492,"n_cols":107,"rows_kept":1492,"cut":false,"hidden":false,"merged":[[0,1,0,14]]}
[null,"Baker Team Scores"]
[{"$nulls":51},"Yes"]
[null,"Mid States Championships (Tier I Women)",{"$nulls":49},"No"]
[null,"Tier 1","USBC",{"$nulls":12},"1202","6","20","5","2.6","2.6",null,null,"7",{"$nulls":29},"IBCYouth"]
[null,"<<Dates>>","<<Event#>>","10/15/2022 - 10/16/2022"]
[null,"<<Location>>",null,"Wichita, KS"]
[]
[null,"Women's Division",null,"Cert No:","05700"]
[null,"Division"]
[{"$nulls":7},"Game","Game","Game","Game","Game","Game","Game","Game","Game","Game","Game","Game","Game","Game","Game","Game","Game","Game","Game","Game"," ","Games","Tourn."," "," "," "," "," "," "," "," "," "," "," "," "," "," "," "," "," "," "," "," "," "," "," "," "," "," "," "," "," "," "," "," "," "," "," "," "," "," "," "," "," "," "," "," "," "," "," "," "," "," "," "," "," "," "," "," "," "," "," "," "," "," "," "," "," "," "," "," "," "," "," "," "," "," "," "," "," "]
[null,"Team","Bowler ID","Bowler","Bowled","Bowled Traditional",null,1.0,2.0,3.0,4.0,5.0,6.0,7.0,8.0,9.0,10.0,11.0,12.0,13.0,14.0,15.0,16.0,17.0,18.0,19.0,20.0,"Total","Bowled","Ave."]
[null,{"$f":"Roster_Selection_Women!AB11&\" \" & \"V \"","v":"Avila University V "},{"$f":"Roster_Selection_Women!AD11","v":"16-4955"},{"$f":"Roster_Selection_Women!AE11","v":"Bailey Stephan"},null,{"$f":"IF(ISERROR(Individual_Scores_Women_Var!E12), \" \", IF(Individual_Scores_Women_Var!E12 = \"Yes\", \"Yes\", \"  \"))","v":"  "},"Games",157.0,146.0,167.0,140.0,140.0,151.0,136.0,125.0,155.0,165.0,168.0,171.0,136.0,173.0,182.0,210.0,145.0,181.0,141.0,159.0,{"$f":"SUM(H12:AA12)","v":3148},{"$f":"COUNTIF(H12:AA12, \">0\" )","v":20},{"$f":"AB12/AC12","v":157.4}," "," "," "," "," "," "," "," "," "," "," "," "," "," "," "," "," "," "," "," "," "," "," "," "," "," "," "," "," "," "," "," "," "," "," "," "," "," "," "," "," "," "," "," "," "," "," "," "," "," "]
[null,{"$f":"Roster_Selection_Women!AB12&\" \" & \"V \"","v":"Avila University V "},{"$f":"Roster_Selection_Women!AD12","v":"11-103558"},{"$f":"Roster_Selection_Women!AE12","v":"Claire Busch"},null,{"$f":"IF(ISERROR(Individual_Scores_Women_Var!E13), \" \", IF(Individual_Scores_Women_Var!E13 = \"Yes\", \"Yes\", \"  \"))","v":"  "}," "," "," "," "," "," "," "," "," "," "," "," "," "," "," "," "," "," "," "," "," "," "," "," "," "," "," "," "," "," "," "," "," "," "," "," "," "," "," "," "," "," "," "," "," "," "," "," "," "," "," "," "," "," "," "," "," "," "," "," "," "," "," "," "," "," "," "," "," "," "," "," "," "," "]
[null,{"$f":"Roster_Selection_Women!AB13&\" \" & \"V \"","v":"Avila University V "},{"$f":"Roster_Selection_Women!AD13","v":"11-432748"},{"$f":"Roster_Selection_Women!AE13","v":"Devyn Coleman"},null,{"$f":"IF(ISERROR(Individual_Scores_Women_Var!E14), \" \", IF(Individual_Scores_Women_Var!E14 = \"Yes\", \"Yes\", \"  \"))","v":"  "}," "," "," "," "," "," "," "," "," "," "," "," "," "," "," "," "," "," "," "," "," "," "," "," "," "," "," "," "," "," "," "," "," "," "," "," "," "," "," "," "," "," "," "," "," "," "," "," "," "," "," "," "," "," "," "," "," "," "," "," "," "," "," "," "," "," "," "," "," "," "," "," "," "," "]
[null,{"$f":"Roster_Selection_Women!AB14&\" \" & \"V \"","v":"Avila University V "},{"$f":"Roster_Selection_Women!AD14","v":"11-587498"},{"$f":"Roster_Selection_Women!AE14","v":"Joanne Alibayan"},null,{"$f":"IF(ISERROR(Individual_Scores_Women_Var!E15), \" \", IF(Individual_Scores_Women_Var!E15 = \"Yes\", \"Yes\", \"  \"))","v":"  "}," "," "," "," "," "," "," "," "," "," "," "," "," "," "," "," "," "," "," "," "," "," "," "," "," "," "," "," "," "," "," "," "," "," "," "," "," "," "," "," "," "," "," "," "," "," "," "," "," "," "," "," "," "," "," "," "," "," "," "," "," "," "," "," "," "," "," "," "," "," "," "," "," "," "]
[null,{"$f":"Roster_Selection_Women!AB15&\" \" & \"V \"","v":"Avila University V "},{"$f":"Roster_Selection_Women!AD15","v":"17-84443"},{"$f":"Roster_Selection_Women!AE15","v":"Kirsten Zirjacks"},null,{"$f":"IF(ISERROR(Individual_Scores_Women_Var!E16), \" \", IF(Individual_Scores_Women_Var!E16 = \"Yes\", \"Yes\", \"  \"))","v":"  "}," "," "," "," "," "," "," "," "," "," "," "," "," "," "," "," "," "," "," "," "," "," "," "," "," "," "," "," "," "," "," "," "," "," "," "," "," "," "," "," "," "," "," "," "," "," "," "," "," "," "," "," "," "," "," "," "," "," "," "," "," "," "," "," "," "," "," "," "," "," "," "," "," "," "]
[null,{"$f":"Roster_Selection_Women!AB16&\" \" & \"V \"","v":"Avila University V "},{"$f":"Roster_Selection_Women!AD16","v":"22-1548"},{"$f":"Roster_Selection_Women!AE16","v":"Victoria Bestor"},null,{"$f":"IF(ISERROR(Individual_Scores_Women_Var!E17), \" \", IF(Individual_Scores_Women_Var!E17 = \"Yes\", \"Yes\", \"  \"))","v":"  "}," "," "," "," "," "," "," "," "," "," "," "," "," "," "," "," "," "," "," "," "," "," "," "," "," "," "," "," "," "," "," "," "," "," "," "," "," "," "," "," "," "," "," "," "," "," "," "," "," "," "," "," "," "," "," "," "," "," "," "," "," "," "," "," "," "," "," "," "," "," "," "," "," "," "]
[null,{"$f":"Roster_Selection_Women!AB17&\" \" & \"V \"","v":" V "},{"$f":"Roster_Selection_Women!AD17","v":""},{"$f":"Roster_Selection_Women!AE17","v":""},null,{"$f":"IF(ISERROR(Individual_Scores_Women_Var!E18), \" \", IF(Individual_Scores_Women_Var!E18 = \"Yes\", \"Yes\", \"  \"))","v":"  "}," "," "," "," "," "," "," "," "," "," "," "," "," "," "," "," "," "," "," "," "," "," "," "," "," "," "," "," "," "," "," "," "," "," "," "," "," "," "," "," "," "," "," "," "," "," "," "," "," "," "," "," "," "," "," "," "," "," "," "," "," "," "," "," "," "," "," "," "," "," "," "," "," "," "]
[null,{"$f":"Roster_Selection_Women!AB18&\" \" & \"V \"","v":" V "},{"$f":"Roster_Selection_Women!AD18","v":""},{"$f":"Roster_Selection_Women!AE18","v":""},null,{"$f":"IF(ISERROR(Individual_Scores_Women_Var!E19), \" \", IF(Individual_Scores_Women_Var!E19 = \"Yes\", \"Yes\", \"  \"))","v":"  "}," "," "," "," "," "," "," "," "," "," "," "," "," "," "," "," "," "," "," "," "," "," "," "," "," "," "," "," "," "," "," "," "," "," "," "," "," "," "," "," "," "," "," "," "," "," "," "," "," "," "," "," "," "," "," "," "," "," "," "," "," "," "," "," "," "," "," "," "," "," "," "," "," "," "]
[null,"Avila University V",{"$f":"Individual_Scores_Women_Var!C20","v":""},{"$f":"Individual_Scores_Women_Var!D20","v":""},null,null," "," "," "," "," "," "," "," "," "," "," "," "," "," "," "," "," "," "," "," "," "," "," "," "," "," "," "," "," "," "," "," "," "," "," "," "," "," "," "," "," "," "," "," "," "," "," "," "," "," "," "," "," "," "," "," "," "," "," "," "," "," "," "," "," "," "," "," "," "," "," "," "," "," "]
[null,"Avila University V",{"$f":"Individual_Scores_Women_Var!C21","v":""},{"$f":"Individual_Scores_Women_Var!D21","v":""},null,null," "," "," "," "," "," "," "," "," "," "," "," "," "," "," "," "," "," "," "," "," "," "," "," "," "," "," "," "," "," "," "," "," "," "," "," "," "," "," "," "," "," "," "," "," "," "," "," "," "," "," "," "," "," "," "," "," "," "," "," "," "," "," "," "," "," "," "," "," "," "," "," "," "," "]
[null,"Avila University V",{"$f":"Individual_Scores_Women_Var!C22","v":""},{"$f":"Individual_Scores_Women_Var!D22","v":""},null,null," "," "," "," "," "," "," "," "," "," "," "," "," "," "," "," "," "," "," "," "," "," "," "," "," "," "," "," "," "," "," "," "," "," "," "," "," "," "," "," "," "," "," "," "," "," "," "," "," "," "," "," "," "," "," "," "," "," "," "," "," "," "," "," "," "," "," "," "," "," "," "," "," "," "]
[null," "," "," ",null,null," "," "," "," "," "," "," "," "," "," "," "," "," "," "," "," "," "," "," "," "," "," "," "," "," "," "," "," "," "," "," "," "," "," "," "," "," "," "," "," "," "," "," "," "," "," "," "," "," "," "," "," "," "," "," "," "," "," "," "," "," "," "," "," "," "," "," "," "," "," "," "," "," "," "]
[null," "," "," ",null,null," "," "," "," "," "," "," "," "," "," "," "," "," "," "," "," "," "," "," "," "," "," "," "," "," "," "," "," "," "," "," "," "," "," "," "," "," "," "," "," "," "," "," "," "," "," "," "," "," "," "," "," "," "," "," "," "," "," "," "," "," "," "," "," "," "," "," "," "," "," "," "," "," "," "]
[null,{"$f":"Roster_Selection_Women!AB19&\" \" & \"V \"","v":"Baker University V "},{"$f":"Roster_Selection_Women!AD19","v":"11-193244"},{"$f":"Roster_Selection_Women!AE19","v":"Audrey Valdez"},null,{"$f":"IF(ISERROR(Individual_Scores_Women_Var!E25), \" \", IF(Individual_Scores_Women_Var!E25 = \"Yes\", \"Yes\", \"  \"))","v":"  "},"Games",201.0,196.0,181.0,169.0,190.0,149.0,173.0,181.0,177.0,153.0,157.0,161.0,160.0,203.0,213.0,164.0,164.0,166.0,159.0,152.0,{"$f":"SUM(H25:AA25)","v":3469},{"$f":"COUNTIF(H25:AA25, \">0\" )","v":20},{"$f":"AB25/AC25","v":173.45}," "," "," "," "," "," "," "," "," "," "," "," "," "," "," "," "," "," "," "," "," "," "," "," "," "," "," "," "," "," "," "," "," "," "," "," "," "," "," "," "," "," "," "," "," "," "," "," "," "," "]
[null,{"$f":"Roster_Selection_Women!AB20&\" \" & \"V \"","v":"Baker University V "},{"$f":"Roster_Selection_Women!AD20","v":"7914-53224"},{"$f":"Roster_Selection_Women!AE20","v":"Emily Stamper"},null,{"$f":"IF(ISERROR(Individual_Scores_Women_Var!E26), \" \", IF(Individual_Scores_Women_Var!E26 = \"Yes\", \"Yes\", \"  \"))","v":"  "}," "," "," "," "," "," "," "," "," "," "," "," "," "," "," "," "," "," "," "," "," "," "," "," "," "," "," "," "," "," "," "," "," "," "," "," "," "," "," "," "," "," "," "," "," "," "," "," "," "," "," "," "," "," "," "," "," "," "," "," "," "," "," "," "," "," "," "," "," "," "," "," "," "," "]
[null,{"$f":"Roster_Selection_Women!AB21&\" \" & \"V \"","v":"Baker University V "},{"$f":"Roster_Selection_Women!AD21","v":"11-513141"},{"$f":"Roster_Selection_Women!AE21","v":"Hailee McCormick"},null,{"$f":"IF(ISERROR(Individual_Scores_Women_Var!E27), \" \", IF(Individual_Scores_Women_Var!E27 = \"Yes\", \"Yes\", \"  \"))","v":"  "}," "," "," "," "," "," "," "," "," "," "," "," "," "," "," "," "," "," "," "," "," "," "," "," "," "," "," "," "," "," "," "," "," "," "," "," "," "," "," "," "," "," "," "," "," "," "," "," "," "," "," "," "," "," "," "," "," "," "," "," "," "," "," "," "," "," "," "," "," "," "," "," "," "," "]
[null,{"$f":"Roster_Selection_Women!AB22&\" \" & \"V \"","v":"Baker University V "},{"$f":"Roster_Selection_Women!AD22","v":"5900-25170"},{"$f":"Roster_Selection_Women!AE22","v":"Kinsey Miller"},null,{"$f":"IF(ISERROR(Individual_Scores_Women_Var!E28), \" \", IF(Individual_Scores_Women_Var!E28 = \"Yes\", \"Yes\", \"  \"))","v":"  "}," "," "," "," "," "," "," "," "," "," "," "," "," "," "," "," "," "," "," "," "," "," "," "," "," "," "," "," "," "," "," "," "," "," "," "," "," "," "," "," "," "," "," "," "," "," "," "," "," "," "," "," "," "," "," "," "," "," "," "," "," "," "," "," "," "," "," "," "," "," "," "," "," "," "]
[null,{"$f":"Roster_Selection_Women!AB23&\" \" & \"V \"","v":"Baker University V "},{"$f":"Roster_Selection_Women!AD23","v":"11-246284"},{"$f":"Roster_Selection_Women!AE23","v":"Kristina Harris"},null,{"$f":"IF(ISERROR(Individual_Scores_Women_Var!E29), \" \", IF(Individual_Scores_Women_Var!E29 = \"Yes\", \"Yes\", \"  \"))","v":"  "}," "," "," "," "," "," "," "," "," "," "," "," "," "," "," "," "," "," "," "," "," "," "," "," "," "," "," "," "," "," "," "," "," "," "," "," "," "," "," "," "," "," "," "," "," "," "," "," "," "," "," "," "," "," "," "," "," "," "," "," "," "," "," "," "," "," "," "," "," "," "," "," "," "," "]
[null,{"$f":"Roster_Selection_Women!AB24&\" \" & \"V \"","v":"Baker University V "},{"$f":"Roster_Selection_Women!AD24","v":"5900-26804"},{"$f":"Roster_Selection_Women!AE24","v":"Majayla Boyd"},null,{"$f":"IF(ISERROR(Individual_Scores_Women_Var!E30), \" \", IF(Individual_Scores_Women_Var!E30 = \"Yes\", \"Yes\", \"  \"))","v":"  "}," "," "," "," "," "," "," "," "," "," "," "," "," "," "," "," "," "," "," "," "," "," "," "," "," "," "," "," "," "," "," "," "," "," "," "," "," "," "," "," "," "," "," "," "," "," "," "," "," "," "," "," "," "," "," "," "," "," "," "," "," "," "," "," "," "," "," "," "," "," "," "," "," "," "]
[null,{"$f":"Roster_Selection_Women!AB25&\" \" & \"V \"","v":"Baker University V "},{"$f":"Roster_Selection_Women!AD25","v":"5900-26536"},{"$f":"Roster_Selection_Women!AE25","v":"Skylar Valdez"},null,{"$f":"IF(ISERROR(Individual_Scores_Women_Var!E31), \" \", IF(Individual_Scores_Women_Var!E31 = \"Yes\", \"Yes\", \"  \"))","v":"  "}," "," "," "," "," "," "," "," "," "," "," "," "," "," "," "," "," "," "," "," "," "," "," "," "," "," "," "," "," "," "," "," "," "," "," "," "," "," "," "," "," "," "," "," "," "," "," "," "," "," "," "," "," "," "," "," "," "," "," "," "," "," "," "," "," "," "," "," "," "," "," "," "," "," "]
[null,{"$f":"Roster_Selection_Women!AB26&\" \" & \"V \"","v":" V "},{"$f":"Roster_Selection_Women!AD26","v":""},{"$f":"Roster_Selection_Women!AE26","v":""},null,{"$f":"IF(ISERROR(Individual_Scores_Women_Var!E32), \" \", IF(Individual_Scores_Women_Var!E32 = \"Yes\", \"Yes\", \"  \"))","v":"  "}," "," "," "," "," "," "," "," "," "," "," "," "," "," "," "," "," "," "," "," "," "," "," "," "," "," "," "," "," "," "," "," "," "," "," "," "," "," "," "," "," "," "," "," "," "," "," "," "," "," "," "," "," "," "," "," "," "," "," "," "," "," "," "," "," "," "," "," "," "," "," "," "," "," "]
[null,"Baker University V",{"$f":"Individual_Scores_Women_Var!C33","v":""},{"$f":"Individual_Scores_Women_Var!D33","v":""},null,null," "," "," "," "," "," "," "," "," "," "," "," "," "," "," "," "," "," "," "," "," "," "," "," "," "," "," "," "," "," "," "," "," "," "," "," "," "," "," "," "," "," "," "," "," "," "," "," "," "," "," "," "," "," "," "," "," "," "," "," "," "," "," "," "," "," "," "," "," "," "," "," "," "," "]
[null,"Baker University V",{"$f":"Individual_Scores_Women_Var!C34","v":""},{"$f":"Individual_Scores_Women_Var!D34","v":""},null,null," "," "," "," "," "," "," "," "," "," "," "," "," "," "," "," "," "," "," "," "," "," "," "," "," "," "," "," "," "," "," "," "," "," "," "," "," "," "," "," "," "," "," "," "," "," "," "," "," "," "," "," "," "," "," "," "," "," "," "," "," "," "," "," "," "," "," "," "," "," "," "," "," "," "]
[null,"Baker University V",{"$f":"Individual_Scores_Women_Var!C35","v":""},{"$f":"Individual_Scores_Women_Var!D35","v":""},null,null," "," "," "," "," "," "," "," "," "," "," "," "," "," "," "," "," "," "," "," "," "," "," "," "," "," "," "," "," "," "," "," "," "," "," "," "," "," "," "," "," "," "," "," "," "," "," "," "," "," "," "," "," "," "," "," "," "," "," "," "," "," "," "," "," "," "," "," "," "," "," "," "," "," "]
[null," "," "," ",null,null," "," "," "," "," "," "," "," "," "," "," "," "," "," "," "," "," "," "," "," "," "," "," "," "," "," "," "," "," "," "," "," "," "," "," "," "," "," "," "," "," "," "," "," "," "," "," "," "," "," "," "," "," "," "," "," "," "," "," "," "," "," "," "," "," "," "," "," "," "," "," "," "," "," "]
[null," "," "," ",null,null," "," "," "," "," "," "," "," "," "," "," "," "," "," "," "," "," "," "," "," "," "," "," "," "," "," "," "," "," "," "," "," "," "," "," "," "," "," "," "," "," "," "," "," "," "," "," "," "," "," "," "," "," "," "," "," "," "," "," "," "," "," "," "," "," "," "," "," "," "," "," "," "," "," "]
[null,{"$f":"Roster_Selection_Women!AB34&\" \" & \"V \"","v":"Barton Community College V "},{"$f":"Roster_Selection_Women!AD34","v":"11-204481"},{"$f":"Roster_Selection_Women!AE34","v":"Ana Stanton"},null,{"$f":"IF(ISERROR(Individual_Scores_Women_Var!E38), \" \", IF(Individual_Scores_Women_Var!E38 = \"Yes\", \"Yes\", \"  \"))","v":"  "},"Games",121.0,148.0,192.0,147.0,166.0,174.0,149.0,164.0,128.0,159.0,148.0,212.0,160.0,176.0,151.0,177.0,138.0,141.0,194.0,185.0,{"$f":"SUM(H38:AA38)","v":3230},{"$f":"COUNTIF(H38:AA38, \">0\" )","v":20},{"$f":"AB38/AC38","v":161.5}," "," "," "," "," "," "," "," "," "," "," "," "," "," "," "," "," "," "," "," "," "," "," "," "," "," "," "," "," "," "," "," "," "," "," "," "," "," "," "," "," "," "," "," "," "," "," "," "," "," "]
[null,{"$f":"Roster_Selection_Women!AB35&\" \" & \"V \"","v":"Barton Community College V "},{"$f":"Roster_Selection_Women!AD35","v":"11-344613"},{"$f":"Roster_Selection_Women!AE35","v":"Angelina Leeper"},null,{"$f":"IF(ISERROR(Individual_Scores_Women_Var!E39), \" \", IF(Individual_Scores_Women_Var!E39 = \"Yes\", \"Yes\", \"  \"))","v":"  "}," "," "," "," "," "," "," "," "," "," "," "," "," "," "," "," "," "," "," "," "," "," "," "," "," "," "," "," "," "," "," "," "," "," "," "," "," "," "," "," "," "," "," "," "," "," "," "," "," "," "," "," "," "," "," "," "," "," "," "," "," "," "," "," "," "," "," "," "," "," "," "," "," "," "]
[null,{"$f":"Roster_Selection_Women!AB36&\" \" & \"V \"","v":"Barton Community College V "},{"$f":"Roster_Selection_Women!AD36","v":"18-97007"},{"$f":"Roster_Selection_Women!AE36","v":"Courtney Kitchen"},null,{"$f":"IF(ISERROR(Individual_Scores_Women_Var!E40), \" \", IF(Individual_Scores_Women_Var!E40 = \"Yes\", \"Yes\", \"  \"))","v":"  "}," "," "," "," "," "," "," "," "," "," "," "," "," "," "," "," "," "," "," "," "," "," "," "," "," "," "," "," "," "," "," "," "," "," "," "," "," "," "," "," "," "," "," "," "," "," "," "," "," "," "," "," "," "," "," "," "," "," "," "," "," "," "," "," "," "," "," "," "," "," "," "," "," "," "]
[null,{"$f":"Roster_Selection_Women!AB37&\" \" & \"V \"","v":"Barton Community College V "},{"$f":"Roster_Selection_Women!AD37","v":"11-465480"},{"$f":"Roster_Selection_Women!AE37","v":"Ella Adkins"},null,{"$f":"IF(ISERROR(Individual_Scores_Women_Var!E41), \" \", IF(Individual_Scores_Women_Var!E41 = \"Yes\", \"Yes\", \"  \"))","v":"  "}," "," "," "," "," "," "," "," "," "," "," "," "," "," "," "," "," "," "," "," "," "," "," "," "," "," "," "," "," "," "," "," "," "," "," "," "," "," "," "," "," "," "," "," "," "," "," "," "," "," "," "," "," "," "," "," "," "," "," "," "," "," "," "," "," "," "," "," "," "," "," "," "," "," "]
[null,{"$f":"Roster_Selection_Women!AB38&\" \" & \"V \"","v":"Barton Community College V "},{"$f":"Roster_Selection_Women!AD38","v":"16-4404"},{"$f":"Roster_Selection_Women!AE38","v":"Jasmine Bridges"},null,{"$f":"IF(ISERROR(Individual_Scores_Women_Var!E42), \" \", IF(Individual_Scores_Women_Var!E42 = \"Yes\", \"Yes\", \"  \"))","v":"  "}," "," "," "," "," "," "," "," "," "," "," "," "," "," "," "," "," "," "," "," "," "," "," "," "," "," "," "," "," "," "," "," "," "," "," "," "," "," "," "," "," "," "," "," "," "," "," "," "," "," "," "," "," "," "," "," "," "," "," "," "," "," "," "," "," "," "," "," "," "," "," "," "," "," "]
[null,{"$f":"Roster_Selection_Women!AB39&\" \" & \"V \"","v":"Barton Community College V "},{"$f":"Roster_Selection_Women!AD39","v":"11-188599"},{"$f":"Roster_Selection_Women!AE39","v":"Mallory Cross"},null,{"$f":"IF(ISERROR(Individual_Scores_Women_Var!E43), \" \", IF(Individual_Scores_Women_Var!E43 = \"Yes\", \"Yes\", \"  \"))","v":"  "}," "," "," "," "," "," "," "," "," "," "," "," "," "," "," "," "," "," "," "," "," "," "," "," "," "," "," "," "," "," "," "," "," "," "," "," "," "," "," "," "," "," "," "," "," "," "," "," "," "," "," "," "," "," "," "," "," "," "," "," "," "," "," "," "," "," "," "," "," "," "," "," "," "," "]
[null,{"$f":"Roster_Selection_Women!AB40&\" \" & \"V \"","v":" V "},{"$f":"Roster_Selection_Women!AD40","v":""},{"$f":"Roster_Selection_Women!AE40","v":""},null,{"$f":"IF(ISERROR(Individual_Scores_Women_Var!E44), \" \", IF(Individual_Scores_Women_Var!E44 = \"Yes\", \"Yes\", \"  \"))","v":"  "}," "," "," "," "," "," "," "," "," "," "," "," "," "," "," "," "," "," "," "," "," "," "," "," "," "," "," "," "," "," "," "," "," "," "," "," "," "," "," "," "," "," "," "," "," "," "," "," "," "," "," "," "," "," "," "," "," "," "," "," "," "," "," "," "," "," "," "," "," "," "," "," "," "," "]
[null,{"$f":"Roster_Selection_Women!AB41&\" \" & \"V \"","v":" V "},{"$f":"Roster_Selection_Women!AD41","v":""},{"$f":"Roster_Selection_Women!AE41","v":""},null,{"$f":"IF(ISERROR(Individual_Scores_Women_Var!E45), \" \", IF(Individual_Scores_Women_Var!E45 = \"Yes\", \"Yes\", \"  \"))","v":"  "}," "," "," "," "," "," "," "," "," "," "," "," "," "," "," "," "," "," "," "," "," "," "," "," "," "," "," "," "," "," "," "," "," "," "," "," "," "," "," "," "," "," "," "," "," "," "," "," "," "," "," "," "," "," "," "," "," "," "," "," "," "," "," "," "," "," "," "," "," "," "," "," "," "," "]
[null,"Barton Community College V",{"$f":"Individual_Scores_Women_Var!C46","v":""},{"$f":"Individual_Scores_Women_Var!D46","v":""},null,null," "," "," "," "," "," "," "," "," "," "," "," "," "," "," "," "," "," "," "," "," "," "," "," "," "," "," "," "," "," "," "," "," "," "," "," "," "," "," "," "," "," "," "," "," "," "," "," "," "," "," "," "," "," "," "," "," "," "," "," "," "," "," "," "," "," "," "," "," "," "," "," "," "," "]
[null,"Barton Community College V",{"$f":"Individual_Scores_Women_Var!C47","v":""},{"$f":"Individual_Scores_Women_Var!D47","v":""},null,null," "," "," "," "," "," "," "," "," "," "," "," "," "," "," "," "," "," "," "," "," "," "," "," "," "," "," "," "," "," "," "," "," "," "," "," "," "," "," "," "," "," "," "," "," "," "," "," "," "," "," "," "," "," "," "," "," "," "," "," "," "," "," "," "," "," "," "," "," "," "," "," "," "," "]
[null,"Barton Community College V",{"$f":"Individual_Scores_Women_Var!C48","v":""},{"$f":"Individual_Scores_Women_Var!D48","v":""},null,null," "," "," "," "," "," "," "," "," "," "," "," "," "," "," "," "," "," "," "," "," "," "," "," "," "," "," "," "," "," "," "," "," "," "," "," "," "," "," "," "," "," "," "," "," "," "," "," "," "," "," "," "," "," "," "," "," "," "," "," "," "," "," "," "," "," "," "," "," "," "," "," "," "," "]
[null," "," "," ",null,null," "," "," "," "," "," "," "," "," "," "," "," "," "," "," "," "," "," "," "," "," "," "," "," "," "," "," "," "," "," "," "," "," "," "," "," "," "," "," "," "," "," "," "," "," "," "," "," "," "," "," "," "," "," "," "," "," "," "," "," "," "," "," "," "," "," "," "," "," "," "," "," "," "," "]
[null," "," "," ",null,null," "," "," "," "," "," "," "," "," "," "," "," "," "," "," "," "," "," "," "," "," "," "," "," "," "," "," "," "," "," "," "," "," "," "," "," "," "," "," "," "," "," "," "," "," "," "," "," "," "," "," "," "," "," "," "," "," "," "," "," "," "," "," "," "," "," "," "," "," "," "," "," "," "," "]
[null,{"$f":"Roster_Selection_Women!AB45&\" \" & \"V \"","v":"Coe College V "},{"$f":"Roster_Selection_Women!AD45","v":"11-314483"},{"$f":"Roster_Selection_Women!AE45","v":"Autumn Grzenia"},null,{"$f":"IF(ISERROR(Individual_Scores_Women_Var!E51), \" \", IF(Individual_Scores_Women_Var!E51 = \"Yes\", \"Yes\", \"  \"))","v":"  "},"Games",154.0,165.0,186.0,113.0,145.0,153.0,178.0,169.0,191.0,144.0,144.0,176.0,169.0,184.0,149.0,162.0,173.0,124.0,192.0,143.0,{"$f":"SUM(H51:AA51)","v":3214},{"$f":"COUNTIF(H51:AA51, \">0\" )","v":20},{"$f":"AB51/AC51","v":160.7}," "," "," "," "," "," "," "," "," "," "," "," "," "," "," "," "," "," "," "," "," "," "," "," "," "," "," "," "," "," "," "," "," "," "," "," "," "," "," "," "," "," "," "," "," "," "," "," "," "," "]
[null,{"$f":"Roster_Selection_Women!AB46&\" \" & \"V \"","v":"Coe College V "},{"$f":"Roster_Selection_Women!AD46","v":"15-29134"},{"$f":"Roster_Selection_Women!AE46","v":"Kaitelin Konz"},null,{"$f":"IF(ISERROR(Individual_Scores_Women_Var!E52), \" \", IF(Individual_Scores_Women_Var!E52 = \"Yes\", \"Yes\", \"  \"))","v":"  "}," "," "," "," "," "," "," "," "," "," "," "," "," "," "," "," "," "," "," "," "," "," "," "," "," "," "," "," "," "," "," "," "," "," "," "," "," "," "," "," "," "," "," "," "," "," "," "," "," "," "," "," "," "," "," "," "," "," "," "," "," "," "," "," "," "," "," "," "," "," "," "," "," "," "]
[null,{"$f":"Roster_Selection_Women!AB47&\" \" & \"V \"","v":"Coe College V "},{"$f":"Roster_Selection_Women!AD47","v":"19-80002"},{"$f":"Roster_Selection_Women!AE47","v":"Kaliah Griffin"},null,{"$f":"IF(ISERROR(Individual_Scores_Women_Var!E53), \" \", IF(Individual_Scores_Women_Var!E53 = \"Yes\", \"Yes\", \"  \"))","v":"  "}," "," "," "," "," "," "," "," "," "," "," "," "," "," "," "," "," "," "," "," "," "," "," "," "," "," "," "," "," "," "," "," "," "," "," "," "," "," "," "," "," "," "," "," "," "," "," "," "," "," "," "," "," "," "," "," "," "," "," "," "," "," "," "," "," "," "," "," "," "," "," "," "," "," "]
[null,{"$f":"Roster_Selection_Women!AB48&\" \" & \"V \"","v":"Coe College V "},{"$f":"Roster_Selection_Women!AD48","v":"16-124494"},{"$f":"Roster_Selection_Women!AE48","v":"Katrina Kendle"},null,{"$f":"IF(ISERROR(Individual_Scores_Women_Var!E54), \" \", IF(Individual_Scores_Women_Var!E54 = \"Yes\", \"Yes\", \"  \"))","v":"  "}," "," "," "," "," "," "," "," "," "," "," "," "," "," "," "," "," "," "," "," "," "," "," "," "," "," "," "," "," "," "," "," "," "," "," "," "," "," "," "," "," "," "," "," "," "," "," "," "," "," "," "," "," "," "," "," "," "," "," "," "," "," "," "," "," "," "," "," "," "," "," "," "," "," "]
[null,{"$f":"Roster_Selection_Women!AB49&\" \" & \"V \"","v":"Coe College V "},{"$f":"Roster_Selection_Women!AD49","v":"11-381940"},{"$f":"Roster_Selection_Women!AE49","v":"Lauren Bodman"},null,{"$f":"IF(ISERROR(Individual_Scores_Women_Var!E55), \" \", IF(Individual_Scores_Women_Var!E55 = \"Yes\", \"Yes\", \"  \"))","v":"  "}," "," "," "," "," "," "," "," "," "," "," "," "," "," "," "," "," "," "," "," "," "," "," "," "," "," "," "," "," "," "," "," "," "," "," "," "," "," "," "," "," "," "," "," "," "," "," "," "," "," "," "," "," "," "," "," "," "," "," "," "," "," "," "," "," "," "," "," "," "," "," "," "," "," "]
[null,{"$f":"Roster_Selection_Women!AB50&\" \" & \"V \"","v":"Coe College V "},{"$f":"Roster_Selection_Women!AD50","v":"11-477923"},{"$f":"Roster_Selection_Women!AE50","v":"Michaela Beckmann"},null,{"$f":"IF(ISERROR(Individual_Scores_Women_Var!E56), \" \", IF(Individual_Scores_Women_Var!E56 = \"Yes\", \"Yes\", \"  \"))","v":"  "}," "," "," "," "," "," "," "," "," "," "," "," "," "," "," "," "," "," "," "," "," "," "," "," "," "," "," "," "," "," "," "," "," "," "," "," "," "," "," "," "," "," "," "," "," "," "," "," "," "," "," "," "," "," "," "," "," "," "," "," "," "," "," "," "," "," "," "," "," "," "," "," "," "," "]
[null,{"$f":"Roster_Selection_Women!AB51&\" \" & \"V \"","v":"Coe College V "},{"$f":"Roster_Selection_Women!AD51","v":"11-341614"},{"$f":"Roster_Selection_Women!AE51","v":"Shelby Logston"},null,{"$f":"IF(ISERROR(Individual_Scores_Women_Var!E57), \" \", IF(Individual_Scores_Women_Var!E57 = \"Yes\", \"Yes\", \"  \"))","v":"  "}," "," "," "," "," "," "," "," "," "," "," "," "," "," "," "," "," "," "," "," "," "," "," "," "," "," "," "," "," "," "," "," "," "," "," "," "," "," "," "," "," "," "," "," "," "," "," "," "," "," "," "," "," "," "," "," "," "," "," "," "," "," "," "," "," "," "," "," "," "," "," "," "," "," "]
[null,{"$f":"Roster_Selection_Women!AB52&\" \" & \"V \"","v":"Coe College V "},{"$f":"Roster_Selection_Women!AD52","v":"11-35371"},{"$f":"Roster_Selection_Women!AE52","v":"Whittney Morse"},null,{"$f":"IF(ISERROR(Individual_Scores_Women_Var!E58), \" \", IF(Individual_Scores_Women_Var!E58 = \"Yes\", \"Yes\", \"  \"))","v":"  "}," "," "," "," "," "," "," "," "," "," "," "," "," "," "," "," "," "," "," "," "," "," "," "," "," "," "," "," "," "," "," "," "," "," "," "," "," "," "," "," "," "," "," "," "," "," "," "," "," "," "," "," "," "," "," "," "," "," "," "," "," "," "," "," "," "," "," "," "," "," "," "," "," "," "]
[null,"Coe College V",{"$f":"Individual_Scores_Women_Var!C59","v":""},{"$f":"Individual_Scores_Women_Var!D59","v":""},null,null," "," "," "," "," "," "," "," "," "," "," "," "," "," "," "," "," "," "," "," "," "," "," "," "," "," "," "," "," "," "," "," "," "," "," "," "," "," "," "," "," "," "," "," "," "," "," "," "," "," "," "," "," "," "," "," "," "," "," "," "," "," "," "," "," "," "," "," "," "," "," "," "," "," "]
[null,"Coe College V",{"$f":"Individual_Scores_Women_Var!C60","v":""},{"$f":"Individual_Scores_Women_Var!D60","v":""},null,null," "," "," "," "," "," "," "," "," "," "," "," "," "," "," "," "," "," "," "," "," "," "," "," "," "," "," "," "," "," "," "," "," "," "," "," "," "," "," "," "," "," "," "," "," "," "," "," "," "," "," "," "," "," "," "," "," "," "," "," "," "," "," "," "," "," "," "," "," "," "," "," "," "," "]
[null,"Coe College V",{"$f":"Individual_Scores_Women_Var!C61","v":""},{"$f":"Individual_Scores_Women_Var!D61","v":""},null,null," "," "," "," "," "," "," "," "," "," "," "," "," "," "," "," "," "," "," "," "," "," "," "," "," "," "," "," "," "," "," "," "," "," "," "," "," "," "," "," "," "," "," "," "," "," "," "," "," "," "," "," "," "," "," "," "," "," "," "," "," "," "," "," "," "," "," "," "," "," "," "," "," "," "]
[null," "," "," ",null,null," "," "," "," "," "," "," "," "," "," "," "," "," "," "," "," "," "," "," "," "," "," "," "," "," "," "," "," "," "," "," "," "," "," "," "," "," "," "," "," "," "," "," "," "," "," "," "," "," "," "," "," "," "," "," "," "," "," "," "," "," "," "," "," "," "," "," "," "," "," "," "," "," "," "]
[null," "," "," ",null,null," "," "," "," "," "," "," "," "," "," "," "," "," "," "," "," "," "," "," "," "," "," "," "," "," "," "," "," "," "," "," "," "," "," "," "," "," "," "," "," "," "," "," "," "," "," "," "," "," "," "," "," "," "," "," "," "," "," "," "," "," "," "," "," "," "," "," "," "," "," "," "," "," "," "]
[null,{"$f":"Roster_Selection_Women!AB63&\" \" & \"V \"","v":"College Of Saint Mary V "},{"$f":"Roster_Selection_Women!AD63","v":"11-180799"},{"$f":"Roster_Selection_Women!AE63","v":"Alexius Brass"},null,{"$f":"IF(ISERROR(Individual_Scores_Women_Var!E64), \" \", IF(Individual_Scores_Women_Var!E64 = \"Yes\", \"Yes\", \"  \"))","v":"  "},"Games",179.0,137.0,136.0,183.0,142.0,184.0,152.0,197.0,174.0,170.0,153.0,139.0,154.0,157.0,129.0,145.0,164.0,154.0,141.0,180.0,{"$f":"SUM(H64:AA64)","v":3170},{"$f":"COUNTIF(H64:AA64, \">0\" )","v":20},{"$f":"AB64/AC64","v":158.5}," "," "," "," "," "," "," "," "," "," "," "," "," "," "," "," "," "," "," "," "," "," "," "," "," "," "," "," "," "," "," "," "," "," "," "," "," "," "," "," "," "," "," "," "," "," "," "," "," "," "]
[null,{"$f":"Roster_Selection_Women!AB64&\" \" & \"V \"","v":"College Of Saint Mary V "},{"$f":"Roster_Selection_Women!AD64","v":"7914-679"},{"$f":"Roster_Selection_Women!AE64","v":"Cassidy Bradley"},null,{"$f":"IF(ISERROR(Individual_Scores_Women_Var!E65), \" \", IF(Individual_Scores_Women_Var!E65 = \"Yes\", \"Yes\", \"  \"))","v":"  "}," "," "," "," "," "," "," "," "," "," "," "," "," "," "," "," "," "," "," "," "," "," "," "," "," "," "," "," "," "," "," "," "," "," "," "," "," "," "," "," "," "," "," "," "," "," "," "," "," "," "," "," "," "," "," "," "," "," "," "," "," "," "," "," "," "," "," "," "," "," "," "," "," "," "]
[null,{"$f":"Roster_Selection_Women!AB65&\" \" & \"V \"","v":"College Of Saint Mary V "},{"$f":"Roster_Selection_Women!AD65","v":"15-118872"},{"$f":"Roster_Selection_Women!AE65","v":"Janica Soar"},null,{"$f":"IF(ISERROR(Individual_Scores_Women_Var!E66), \" \", IF(Individual_Scores_Women_Var!E66 = \"Yes\", \"Yes\", \"  \"))","v":"  "}," "," "," "," "," "," "," "," "," "," "," "," "," "," "," "," "," "," "," "," "," "," "," "," "," "," "," "," "," "," "," "," "," "," "," "," "," "," "," "," "," "," "," "," "," "," "," "," "," "," "," "," "," "," "," "," "," "," "," "," "," "," "," "," "," "," "," "," "," "," "," "," "," "," "]
[null,{"$f":"Roster_Selection_Women!AB66&\" \" & \"V \"","v":"College Of Saint Mary V "},{"$f":"Roster_Selection_Women!AD66","v":"17-33555"},{"$f":"Roster_Selection_Women!AE66","v":"Kaitlyn Dickmeyer"},null,{"$f":"IF(ISERROR(Individual_Scores_Women_Var!E67), \" \", IF(Individual_Scores_Women_Var!E67 = \"Yes\", \"Yes\", \"  \"))","v":"  "}," "," "," "," "," "," "," "," "," "," "," "," "," "," "," "," "," "," "," "," "," "," "," "," "," "," "," "," "," "," "," "," "," "," "," "," "," "," "," "," "," "," "," "," "," "," "," "," "," "," "," "," "," "," "," "," "," "," "," "," "," "," "," "," "," "," "," "," "," "," "," "," "," "," "]
[null,{"$f":"Roster_Selection_Women!AB67&\" \" & \"V \"","v":"College Of Saint Mary V "},{"$f":"Roster_Selection_Women!AD67","v":"11-103569"},{"$f":"Roster_Selection_Women!AE67","v":"Lexie Busch"},null,{"$f":"IF(ISERROR(Individual_Scores_Women_Var!E68), \" \", IF(Individual_Scores_Women_Var!E68 = \"Yes\", \"Yes\", \"  \"))","v":"  "}," "," "," "," "," "," "," "," "," "," "," "," "," "," "," "," "," "," "," "," "," "," "," "," "," "," "," "," "," "," "," "," "," "," "," "," "," "," "," "," "," "," "," "," "," "," "," "," "," "," "," "," "," "," "," "," "," "," "," "," "," "," "," "," "," "," "," "," "," "," "," "," "," "," "]
[null,{"$f":"Roster_Selection_Women!AB68&\" \" & \"V \"","v":"College Of Saint Mary V "},{"$f":"Roster_Selection_Women!AD68","v":"22-12243"},{"$f":"Roster_Selection_Women!AE68","v":"Marissa Byrd"},null,{"$f":"IF(ISERROR(Individual_Scores_Women_Var!E69), \" \", IF(Individual_Scores_Women_Var!E69 = \"Yes\", \"Yes\", \"  \"))","v":"  "}," "," "," "," "," "," "," "," "," "," "," "," "," "," "," "," "," "," "," "," "," "," "," "," "," "," "," "," "," "," "," "," "," "," "," "," "," "," "," "," "," "," "," "," "," "," "," "," "," "," "," "," "," "," "," "," "," "," "," "," "," "," "," "," "," "," "," "," "," "," "," "," "," "," "]
[null,{"$f":"Roster_Selection_Women!AB69&\" \" & \"V \"","v":" V "},{"$f":"Roster_Selection_Women!AD69","v":""},{"$f":"Roster_Selection_Women!AE69","v":""},null,{"$f":"IF(ISERROR(Individual_Scores_Women_Var!E70), \" \", IF(Individual_Scores_Women_Var!E70 = \"Yes\", \"Yes\", \"  \"))","v":"  "}," "," "," "," "," "," "," "," "," "," "," "," "," "," "," "," "," "," "," "," "," "," "," "," "," "," "," "," "," "," "," "," "," "," "," "," "," "," "," "," "," "," "," "," "," "," "," "," "," "," "," "," "," "," "," "," "," "," "," "," "," "," "," "," "," "," "," "," "," "," "," "," "," "," "]
[null,{"$f":"Roster_Selection_Women!AB70&\" \" & \"V \"","v":" V "},{"$f":"Roster_Selection_Women!AD70","v":""},{"$f":"Roster_Selection_Women!AE70","v":""},null,{"$f":"IF(ISERROR(Individual_Scores_Women_Var!E71), \" \", IF(Individual_Scores_Women_Var!E71 = \"Yes\", \"Yes\", \"  \"))","v":"  "}," "," "," "," "," "," "," "," "," "," "," "," "," "," "," "," "," "," "," "," "," "," "," "," "," "," "," "," "," "," "," "," "," "," "," "," "," "," "," "," "," "," "," "," "," "," "," "," "," "," "," "," "," "," "," "," "," "," "," "," "," "," "," "," "," "," "," "," "," "," "," "," "," "," "]
[null,"College Of Saint Mary V",{"$f":"Individual_Scores_Women_Var!C72","v":""},{"$f":"Individual_Scores_Women_Var!D72","v":""},null,null," "," "," "," "," "," "," "," "," "," "," "," "," "," "," "," "," "," "," "," "," "," "," "," "," "," "," "," "," "," "," "," "," "," "," "," "," "," "," "," "," "," "," "," "," "," "," "," "," "," "," "," "," "," "," "," "," "," "," "," "," "," "," "," "," "," "," "," "," "," "," "," "," "," "]
[null,"College Of Saint Mary V",{"$f":"Individual_Scores_Women_Var!C73","v":""},{"$f":"Individual_Scores_Women_Var!D73","v":""},null,null," "," "," "," "," "," "," "," "," "," "," "," "," "," "," "," "," "," "," "," "," "," "," "," "," "," "," "," "," "," "," "," "," "," "," "," "," "," "," "," "," "," "," "," "," "," "," "," "," "," "," "," "," "," "," "," "," "," "," "," "," "," "," "," "," "," "," "," "," "," "," "," "," "," "]
[null,"College Of Saint Mary V",{"$f":"Individual_Scores_Women_Var!C74","v":""},{"$f":"Individual_Scores_Women_Var!D74","v":""},null,null," "," "," "," "," "," "," "," "," "," "," "," "," "," "," "," "," "," "," "," "," "," "," "," "," "," "," "," "," "," "," "," "," "," "," "," "," "," "," "," "," "," "," "," "," "," "," "," "," "," "," "," "," "," "," "," "," "," "," "," "," "," "," "," "," "," "," "," "," "," "," "," "," "," "]
[null," "," "," ",null,null," "," "," "," "," "," "," "," "," "," "," "," "," "," "," "," "," "," "," "," "," "," "," "," "," "," "," "," "," "," "," "," "," "," "," "," "," "," "," "," "," "," "," "," "," "," "," "," "," "," "," "," "," "," "," "," "," "," "," "," "," "," "," "," "," "," "," "," "," "," "," "," "," "," "]
[null," "," "," ",null,null," "," "," "," "," "," "," "," "," "," "," "," "," "," "," "," "," "," "," "," "," "," "," "," "," "," "," "," "," "," "," "," "," "," "," "," "," "," "," "," "," "," "," "," "," "," "," "," "," "," "," "," "," "," "," "," "," "," "," "," "," "," "," "," "," "," "," "," "," "," "," "," "," "," "]
[null,{"$f":"Roster_Selection_Women!AB71&\" \" & \"V \"","v":"Culver-Stockton College V "},{"$f":"Roster_Selection_Women!AD71","v":"7914-30106"},{"$f":"Roster_Selection_Women!AE71","v":"Alexie Little"},null,{"$f":"IF(ISERROR(Individual_Scores_Women_Var!E77), \" \", IF(Individual_Scores_Women_Var!E77 = \"Yes\", \"Yes\", \"  \"))","v":"  "},"Games",125.0,189.0,228.0,139.0,138.0,205.0,173.0,181.0,168.0,179.0,157.0,182.0,140.0,189.0,158.0,184.0,147.0,176.0,159.0,169.0,{"$f":"SUM(H77:AA77)","v":3386},{"$f":"COUNTIF(H77:AA77, \">0\" )","v":20},{"$f":"AB77/AC77","v":169.3}," "," "," "," "," "," "," "," "," "," "," "," "," "," "," "," "," "," "," "," "," "," "," "," "," "," "," "," "," "," "," "," "," "," "," "," "," "," "," "," "," "," "," "," "," "," "," "," "," "," "]
[null,{"$f":"Roster_Selection_Women!AB72&\" \" & \"V \"","v":"Culver-Stockton College V "},{"$f":"Roster_Selection_Women!AD72","v":"16-77588"},{"$f":"Roster_Selection_Women!AE72","v":"Allisyn Pohl"},null,{"$f":"IF(ISERROR(Individual_Scores_Women_Var!E78), \" \", IF(Individual_Scores_Women_Var!E78 = \"Yes\", \"Yes\", \"  \"))","v":"  "}," "," "," "," "," "," "," "," "," "," "," "," "," "," "," "," "," "," "," "," "," "," "," "," "," "," "," "," "," "," "," "," "," "," "," "," "," "," "," "," "," "," "," "," "," "," "," "," "," "," "," "," "," "," "," "," "," "," "," "," "," "," "," "," "," "," "," "," "," "," "," "," "," "," "]
[null,{"$f":"Roster_Selection_Women!AB73&\" \" & \"V \"","v":"Culver-Stockton College V "},{"$f":"Roster_Selection_Women!AD73","v":"11-450352"},{"$f":"Roster_Selection_Women!AE73","v":"Bailey Orsette"},null,{"$f":"IF(ISERROR(Individual_Scores_Women_Var!E79), \" \", IF(Individual_Scores_Women_Var!E79 = \"Yes\", \"Yes\", \"  \"))","v":"  "}," "," "," "," "," "," "," "," "," "," "," "," "," "," "," "," "," "," "," "," "," "," "," "," "," "," "," "," "," "," "," "," "," "," "," "," "," "," "," "," "," "," "," "," "," "," "," "," "," "," "," "," "," "," "," "," "," "," "," "," "," "," "," "," "," "," "," "," "," "," "," "," "," "," "]
[null,{"$f":"Roster_Selection_Women!AB74&\" \" & \"V \"","v":"Culver-Stockton College V "},{"$f":"Roster_Selection_Women!AD74","v":"6589-15546"},{"$f":"Roster_Selection_Women!AE74","v":"Carlee Hummel"},null,{"$f":"IF(ISERROR(Individual_Scores_Women_Var!E80), \" \", IF(Individual_Scores_Women_Var!E80 = \"Yes\", \"Yes\", \"  \"))","v":"  "}," "," "," "," "," "," "," "," "," "," "," "," "," "," "," "," "," "," "," "," "," "," "," "," "," "," "," "," "," "," "," "," "," "," "," "," "," "," "," "," "," "," "," "," "," "," "," "," "," "," "," "," "," "," "," "," "," "," "," "," "," "," "," "," "," "," "," "," "," "," "," "," "," "," "]
[null,{"$f":"Roster_Selection_Women!AB75&\" \" & \"V \"","v":"Culver-Stockton College V "},{"$f":"Roster_Selection_Women!AD75","v":"17-45685"},{"$f":"Roster_Selection_Women!AE75","v":"Jasmine Saunders"},null,{"$f":"IF(ISERROR(Individual_Scores_Women_Var!E81), \" \", IF(Individual_Scores_Women_Var!E81 = \"Yes\", \"Yes\", \"  \"))","v":"  "}," "," "," "," "," "," "," "," "," "," "," "," "," "," "," "," "," "," "," "," "," "," "," "," "," "," "," "," "," "," "," "," "," "," "," "," "," "," "," "," "," "," "," "," "," "," "," "," "," "," "," "," "," "," "," "," "," "," "," "," "," "," "," "," "," "," "," "," "," "," "," "," "," "," "]
[null,{"$f":"Roster_Selection_Women!AB76&\" \" & \"V \"","v":"Culver-Stockton College V "},{"$f":"Roster_Selection_Women!AD76","v":"5711-323"},{"$f":"Roster_Selection_Women!AE76","v":"Jessica Mock"},null,{"$f":"IF(ISERROR(Individual_Scores_Women_Var!E82), \" \", IF(Individual_Scores_Women_Var!E82 = \"Yes\", \"Yes\", \"  \"))","v":"  "}," "," "," "," "," "," "," "," "," "," "," "," "," "," "," "," "," "," "," "," "," "," "," "," "," "," "," "," "," "," "," "," "," "," "," "," "," "," "," "," "," "," "," "," "," "," "," "," "," "," "," "," "," "," "," "," "," "," "," "," "," "," "," "," "," "," "," "," "," "," "," "," "," "," "]
[null,{"$f":"Roster_Selection_Women!AB77&\" \" & \"V \"","v":"Culver-Stockton College V "},{"$f":"Roster_Selection_Women!AD77","v":"11-475016"},{"$f":"Roster_Selection_Women!AE77","v":"Kassidy Young"},null,{"$f":"IF(ISERROR(Individual_Scores_Women_Var!E83), \" \", IF(Individual_Scores_Women_Var!E83 = \"Yes\", \"Yes\", \"  \"))","v":"  "}," "," "," "," "," "," "," "," "," "," "," "," "," "," "," "," "," "," "," "," "," "," "," "," "," "," "," "," "," "," "," "," "," "," "," "," "," "," "," "," "," "," "," "," "," "," "," "," "," "," "," "," "," "," "," "," "," "," "," "," "," "," "," "," "," "," "," "," "," "," "," "," "," "," "]
[null,{"$f":"Roster_Selection_Women!AB78&\" \" & \"V \"","v":"Culver-Stockton College V "},{"$f":"Roster_Selection_Women!AD78","v":"18-88340"},{"$f":"Roster_Selection_Women!AE78","v":"Lily Fischer"},null,{"$f":"IF(ISERROR(Individual_Scores_Women_Var!E84), \" \", IF(Individual_Scores_Women_Var!E84 = \"Yes\", \"Yes\", \"  \"))","v":"  "}," "," "," "," "," "," "," "," "," "," "," "," "," "," "," "," "," "," "," "," "," "," "," "," "," "," "," "," "," "," "," "," "," "," "," "," "," "," "," "," "," "," "," "," "," "," "," "," "," "," "," "," "," "," "," "," "," "," "," "," "," "," "," "," "," "," "," "," "," "," "," "," "," "," "]
[null,"Culver-Stockton College V",{"$f":"Individual_Scores_Women_Var!C85","v":""},{"$f":"Individual_Scores_Women_Var!D85","v":""},null,null," "," "," "," "," "," "," "," "," "," "," "," "," "," "," "," "," "," "," "," "," "," "," "," "," "," "," "," "," "," "," "," "," "," "," "," "," "," "," "," "," "," "," "," "," "," "," "," "," "," "," "," "," "," "," "," "," "," "," "," "," "," "," "," "," "," "," "," "," "," "," "," "," "," "]
[null,"Culver-Stockton College V",{"$f":"Individual_Scores_Women_Var!C86","v":""},{"$f":"Individual_Scores_Women_Var!D86","v":""},null,null," "," "," "," "," "," "," "," "," "," "," "," "," "," "," "," "," "," "," "," "," "," "," "," "," "," "," "," "," "," "," "," "," "," "," "," "," "," "," "," "," "," "," "," "," "," "," "," "," "," "," "," "," "," "," "," "," "," "," "," "," "," "," "," "," "," "," "," "," "," "," "," "," "," "]
[null,"Culver-Stockton College V",{"$f":"Individual_Scores_Women_Var!C87","v":""},{"$f":"Individual_Scores_Women_Var!D87","v":""},null,null," "," "," "," "," "," "," "," "," "," "," "," "," "," "," "," "," "," "," "," "," "," "," "," "," "," "," "," "," "," "," "," "," "," "," "," "," "," "," "," "," "," "," "," "," "," "," "," "," "," "," "," "," "," "," "," "," "," "," "," "," "," "," "," "," "," "," "," "," "," "," "," "," "," "]
[null," "," "," ",null,null," "," "," "," "," "," "," "," "," "," "," "," "," "," "," "," "," "," "," "," "," "," "," "," "," "," "," "," "," "," "," "," "," "," "," "," "," "," "," "," "," "," "," "," "," "," "," "," "," "," "," "," "," "," "," "," "," "," "," "," "," "," "," "," "," "," "," "," "," "," "," "," "," "," "]
[null," "," "," ",null,null," "," "," "," "," "," "," "," "," "," "," "," "," "," "," "," "," "," "," "," "," "," "," "," "," "," "," "," "," "," "," "," "," "," "," "," "," "," "," "," "," "," "," "," "," "," "," "," "," "," "," "," "," "," "," "," "," "," "," "," "," "," "," "," "," "," "," "," "," "," "," "," "," "," "]
[null,{"$f":"Roster_Selection_Women!AB81&\" \" & \"V \"","v":"Grand View University V "},{"$f":"Roster_Selection_Women!AD81","v":"7914-27984"},{"$f":"Roster_Selection_Women!AE81","v":"Emilee Hall"},null,{"$f":"IF(ISERROR(Individual_Scores_Women_Var!E90), \" \", IF(Individual_Scores_Women_Var!E90 = \"Yes\", \"Yes\", \"  \"))","v":"  "},"Games",182.0,219.0,147.0,156.0,172.0,157.0,190.0,203.0,152.0,125.0,135.0,170.0,137.0,171.0,226.0,179.0,146.0,188.0,170.0,142.0,{"$f":"SUM(H90:AA90)","v":3367},{"$f":"COUNTIF(H90:AA90, \">0\" )","v":20},{"$f":"AB90/AC90","v":168.35}," "," "," "," "," "," "," "," "," "," "," "," "," "," "," "," "," "," "," "," "," "," "," "," "," "," "," "," "," "," "," "," "," "," "," "," "," "," "," "," "," "," "," "," "," "," "," "," "," "," "]
[null,{"$f":"Roster_Selection_Women!AB82&\" \" & \"V \"","v":"Grand View University V "},{"$f":"Roster_Selection_Women!AD82","v":"11-232057"},{"$f":"Roster_Selection_Women!AE82","v":"Isabel Tetmeyer"},null,{"$f":"IF(ISERROR(Individual_Scores_Women_Var!E91), \" \", IF(Individual_Scores_Women_Var!E91 = \"Yes\", \"Yes\", \"  \"))","v":"  "}," "," "," "," "," "," "," "," "," "," "," "," "," "," "," "," "," "," "," "," "," "," "," "," "," "," "," "," "," "," "," "," "," "," "," "," "," "," "," "," "," "," "," "," "," "," "," "," "," "," "," "," "," "," "," "," "," "," "," "," "," "," "," "," "," "," "," "," "," "," "," "," "," "," "]
[null,{"$f":"Roster_Selection_Women!AB83&\" \" & \"V \"","v":"Grand View University V "},{"$f":"Roster_Selection_Women!AD83","v":"7914-7770"},{"$f":"Roster_Selection_Women!AE83","v":"Kaytlyn Andrews"},null,{"$f":"IF(ISERROR(Individual_Scores_Women_Var!E92), \" \", IF(Individual_Scores_Women_Var!E92 = \"Yes\", \"Yes\", \"  \"))","v":"  "}," "," "," "," "," "," "," "," "," "," "," "," "," "," "," "," "," "," "," "," "," "," "," "," "," "," "," "," "," "," "," "," "," "," "," "," "," "," "," "," "," "," "," "," "," "," "," "," "," "," "," "," "," "," "," "," "," "," "," "," "," "," "," "," "," "," "," "," "," "," "," "," "," "," "]
[null,{"$f":"Roster_Selection_Women!AB84&\" \" & \"V \"","v":"Grand View University V "},{"$f":"Roster_Selection_Women!AD84","v":"18-34841"},{"$f":"Roster_Selection_Women!AE84","v":"Kylie Arai"},null,{"$f":"IF(ISERROR(Individual_Scores_Women_Var!E93), \" \", IF(Individual_Scores_Women_Var!E93 = \"Yes\", \"Yes\", \"  \"))","v":"  "}," "," "," "," "," "," "," "," "," "," "," "," "," "," "," "," "," "," "," "," "," "," "," "," "," "," "," "," "," "," "," "," "," "," "," "," "," "," "," "," "," "," "," "," "," "," "," "," "," "," "," "," "," "," "," "," "," "," "," "," "," "," "," "," "," "," "," "," "," "," "," "," "," "," "]
[null,{"$f":"Roster_Selection_Women!AB85&\" \" & \"V \"","v":"Grand View University V "},{"$f":"Roster_Selection_Women!AD85","v":"11-667364"},{"$f":"Roster_Selection_Women!AE85","v":"Leah Sanck"},null,{"$f":"IF(ISERROR(Individual_Scores_Women_Var!E94), \" \", IF(Individual_Scores_Women_Var!E94 = \"Yes\", \"Yes\", \"  \"))","v":"  "}," "," "," "," "," "," "," "," "," "," "," "," "," "," "," "," "," "," "," "," "," "," "," "," "," "," "," "," "," "," "," "," "," "," "," "," "," "," "," "," "," "," "," "," "," "," "," "," "," "," "," "," "," "," "," "," "," "," "," "," "," "," "," "," "," "," "," "," "," "," "," "," "," "," "]
[null,{"$f":"Roster_Selection_Women!AB86&\" \" & \"V \"","v":"Grand View University V "},{"$f":"Roster_Selection_Women!AD86","v":"11-307190"},{"$f":"Roster_Selection_Women!AE86","v":"Michelle Stewart"},null,{"$f":"IF(ISERROR(Individual_Scores_Women_Var!E95), \" \", IF(Individual_Scores_Women_Var!E95 = \"Yes\", \"Yes\", \"  \"))","v":"  "}," "," "," "," "," "," "," "," "," "," "," "," "," "," "," "," "," "," "," "," "," "," "," "," "," "," "," "," "," "," "," "," "," "," "," "," "," "," "," "," "," "," "," "," "," "," "," "," "," "," "," "," "," "," "," "," "," "," "," "," "," "," "," "," "," "," "," "," "," "," "," "," "," "," "]
[null,{"$f":"Roster_Selection_Women!AB87&\" \" & \"V \"","v":"Grand View University V "},{"$f":"Roster_Selection_Women!AD87","v":"8828-32679"},{"$f":"Roster_Selection_Women!AE87","v":"Sabrina Bennett"},null,{"$f":"IF(ISERROR(Individual_Scores_Women_Var!E96), \" \", IF(Individual_Scores_Women_Var!E96 = \"Yes\", \"Yes\", \"  \"))","v":"  "}," "," "," "," "," "," "," "," "," "," "," "," "," "," "," "," "," "," "," "," "," "," "," "," "," "," "," "," "," "," "," "," "," "," "," "," "," "," "," "," "," "," "," "," "," "," "," "," "," "," "," "," "," "," "," "," "," "," "," "," "," "," "," "," "," "," "," "," "," "," "," "," "," "," "]
[null,{"$f":"Roster_Selection_Women!AB88&\" \" & \"V \"","v":" V "},{"$f":"Roster_Selection_Women!AD88","v":""},{"$f":"Roster_Selection_Women!AE88","v":""},null,{"$f":"IF(ISERROR(Individual_Scores_Women_Var!E97), \" \", IF(Individual_Scores_Women_Var!E97 = \"Yes\", \"Yes\", \"  \"))","v":"  "}," "," "," "," "," "," "," "," "," "," "," "," "," "," "," "," "," "," "," "," "," "," "," "," "," "," "," "," "," "," "," "," "," "," "," "," "," "," "," "," "," "," "," "," "," "," "," "," "," "," "," "," "," "," "," "," "," "," "," "," "," "," "," "," "," "," "," "," "," "," "," "," "," "," "]
[null,"Grand View University V",{"$f":"Individual_Scores_Women_Var!C98","v":""},{"$f":"Individual_Scores_Women_Var!D98","v":""},null,null," "," "," "," "," "," "," "," "," "," "," "," "," "," "," "," "," "," "," "," "," "," "," "," "," "," "," "," "," "," "," "," "," "," "," "," "," "," "," "," "," "," "," "," "," "," "," "," "," "," "," "," "," "," "," "," "," "," "," "," "," "," "," "," "," "," "," "," "," "," "," "," "," "," "]
[null,"Grand View University V",{"$f":"Individual_Scores_Women_Var!C99","v":""},{"$f":"Individual_Scores_Women_Var!D99","v":""},null,null," "," "," "," "," "," "," "," "," "," "," "," "," "," "," "," "," "," "," "," "," "," "," "," "," "," "," "," "," "," "," "," "," "," "," "," "," "," "," "," "," "," "," "," "," "," "," "," "," "," "," "," "," "," "," "," "," "," "," "," "," "," "," "," "," "," "," "," "," "," "," "," "," "," "]
[null,"Grand View University V",{"$f":"Individual_Scores_Women_Var!C100","v":""},{"$f":"Individual_Scores_Women_Var!D100","v":""},null,null," "," "," "," "," "," "," "," "," "," "," "," "," "," "," "," "," "," "," "," "," "," "," "," "," "," "," "," "," "," "," "," "," "," "," "," "," "," "," "," "," "," "," "," "," "," "," "," "," "," "," "," "," "," "," "," "," "," "," "," "," "," "," "," "," "," "," "," "," "," "," "," "," "," "]
[null," "," "," ",null,null," "," "," "," "," "," "," "," "," "," "," "," "," "," "," "," "," "," "," "," "," "," "," "," "," "," "," "," "," "," "," "," "," "," "," "," "," "," "," "," "," "," "," "," "," "," "," "," "," "," "," "," "," "," "," "," "," "," "," "," "," "," "," "," "," "," "," "," "," "," "," "," "," "," "]
[null," "," "," ",null,null," "," "," "," "," "," "," "," "," "," "," "," "," "," "," "," "," "," "," "," "," "," "," "," "," "," "," "," "," "," "," "," "," "," "," "," "," "," "," "," "," "," "," "," "," "," "," "," "," "," "," "," "," "," "," "," "," "," "," "," "," "," "," "," "," "," "," "," "," "," "," "," "," "," "]
[null,{"$f":"Roster_Selection_Women!AB96&\" \" & \"V \"","v":"Hastings College V "},{"$f":"Roster_Selection_Women!AD96","v":"11-87836"},{"$f":"Roster_Selection_Women!AE96","v":"Abby Dallegge"},null,{"$f":"IF(ISERROR(Individual_Scores_Women_Var!E103), \" \", IF(Individual_Scores_Women_Var!E103 = \"Yes\", \"Yes\", \"  \"))","v":"  "},"Games",168.0,153.0,169.0,146.0,144.0,181.0,147.0,188.0,196.0,157.0,138.0,176.0,115.0,149.0,155.0,163.0,161.0,186.0,137.0,169.0,{"$f":"SUM(H103:AA103)","v":3198},{"$f":"COUNTIF(H103:AA103, \">0\" )","v":20},{"$f":"AB103/AC103","v":159.9}," "," "," "," "," "," "," "," "," "," "," "," "," "," "," "," "," "," "," "," "," "," "," "," "," "," "," "," "," "," "," "," "," "," "," "," "," "," "," "," "," "," "," "," "," "," "," "," "," "," "]
[null,{"$f":"Roster_Selection_Women!AB97&\" \" & \"V \"","v":"Hastings College V "},{"$f":"Roster_Selection_Women!AD97","v":"5507-587"},{"$f":"Roster_Selection_Women!AE97","v":"Aislynn Davis"},null,{"$f":"IF(ISERROR(Individual_Scores_Women_Var!E104), \" \", IF(Individual_Scores_Women_Var!E104 = \"Yes\", \"Yes\", \"  \"))","v":"  "}," "," "," "," "," "," "," "," "," "," "," "," "," "," "," "," "," "," "," "," "," "," "," "," "," "," "," "," "," "," "," "," "," "," "," "," "," "," "," "," "," "," "," "," "," "," "," "," "," "," "," "," "," "," "," "," "," "," "," "," "," "," "," "," "," "," "," "," "," "," "," "," "," "," "]
[null,{"$f":"Roster_Selection_Women!AB98&\" \" & \"V \"","v":"Hastings College V "},{"$f":"Roster_Selection_Women!AD98","v":"11-264092"},{"$f":"Roster_Selection_Women!AE98","v":"Amanda Peterson"},null,{"$f":"IF(ISERROR(Individual_Scores_Women_Var!E105), \" \", IF(Individual_Scores_Women_Var!E105 = \"Yes\", \"Yes\", \"  \"))","v":"  "}," "," "," "," "," "," "," "," "," "," "," "," "," "," "," "," "," "," "," "," "," "," "," "," "," "," "," "," "," "," "," "," "," "," "," "," "," "," "," "," "," "," "," "," "," "," "," "," "," "," "," "," "," "," "," "," "," "," "," "," "," "," "," "," "," "," "," "," "," "," "," "," "," "," "]
[null,{"$f":"Roster_Selection_Women!AB99&\" \" & \"V \"","v":"Hastings College V "},{"$f":"Roster_Selection_Women!AD99","v":"8966-4192"},{"$f":"Roster_Selection_Women!AE99","v":"Britiney Baker"},null,{"$f":"IF(ISERROR(Individual_Scores_Women_Var!E106), \" \", IF(Individual_Scores_Women_Var!E106 = \"Yes\", \"Yes\", \"  \"))","v":"  "}," "," "," "," "," "," "," "," "," "," "," "," "," "," "," "," "," "," "," "," "," "," "," "," "," "," "," "," "," "," "," "," "," "," "," "," "," "," "," "," "," "," "," "," "," "," "," "," "," "," "," "," "," "," "," "," "," "," "," "," "," "," "," "," "," "," "," "," "," "," "," "," "," "," "]
[null,{"$f":"Roster_Selection_Women!AB100&\" \" & \"V \"","v":"Hastings College V "},{"$f":"Roster_Selection_Women!AD100","v":"11-427709"},{"$f":"Roster_Selection_Women!AE100","v":"Emmeline Herman"},null,{"$f":"IF(ISERROR(Individual_Scores_Women_Var!E107), \" \", IF(Individual_Scores_Women_Var!E107 = \"Yes\", \"Yes\", \"  \"))","v":"  "}," "," "," "," "," "," "," "," "," "," "," "," "," "," "," "," "," "," "," "," "," "," "," "," "," "," "," "," "," "," "," "," "," "," "," "," "," "," "," "," "," "," "," "," "," "," "," "," "," "," "," "," "," "," "," "," "," "," "," "," "," "," "," "," "," "," "," "," "," "," "," "," "," "," "]
[null,{"$f":"Roster_Selection_Women!AB101&\" \" & \"V \"","v":"Hastings College V "},{"$f":"Roster_Selection_Women!AD101","v":"11-455997"},{"$f":"Roster_Selection_Women!AE101","v":"Madison Henderson"},null,{"$f":"IF(ISERROR(Individual_Scores_Women_Var!E108), \" \", IF(Individual_Scores_Women_Var!E108 = \"Yes\", \"Yes\", \"  \"))","v":"  "}," "," "," "," "," "," "," "," "," "," "," "," "," "," "," "," "," "," "," "," "," "," "," "," "," "," "," "," "," "," "," "," "," "," "," "," "," "," "," "," "," "," "," "," "," "," "," "," "," "," "," "," "," "," "," "," "," "," "," "," "," "," "," "," "," "," "," "," "," "," "," "," "," "," "]
[null,{"$f":"Roster_Selection_Women!AB102&\" \" & \"V \"","v":"Hastings College V "},{"$f":"Roster_Selection_Women!AD102","v":"18-71705"},{"$f":"Roster_Selection_Women!AE102","v":"Marissa Ruiz"},null,{"$f":"IF(ISERROR(Individual_Scores_Women_Var!E109), \" \", IF(Individual_Scores_Women_Var!E109 = \"Yes\", \"Yes\", \"  \"))","v":"  "}," "," "," "," "," "," "," "," "," "," "," "," "," "," "," "," "," "," "," "," "," "," "," "," "," "," "," "," "," "," "," "," "," "," "," "," "," "," "," "," "," "," "," "," "," "," "," "," "," "," "," "," "," "," "," "," "," "," "," "," "," "," "," "," "," "," "," "," "," "," "," "," "," "," "]
[null,{"$f":"Roster_Selection_Women!AB103&\" \" & \"V \"","v":"Hastings College V "},{"$f":"Roster_Selection_Women!AD103","v":"7914-2571"},{"$f":"Roster_Selection_Women!AE103","v":"Skylee Obenschain"},null,{"$f":"IF(ISERROR(Individual_Scores_Women_Var!E110), \" \", IF(Individual_Scores_Women_Var!E110 = \"Yes\", \"Yes\", \"  \"))","v":"  "}," "," "," "," "," "," "," "," "," "," "," "," "," "," "," "," "," "," "," "," "," "," "," "," "," "," "," "," "," "," "," "," "," "," "," "," "," "," "," "," "," "," "," "," "," "," "," "," "," "," "," "," "," "," "," "," "," "," "," "," "," "," "," "," "," "," "," "," "," "," "," "," "," "," "]
[null,"Hastings College V",{"$f":"Individual_Scores_Women_Var!C111","v":""},{"$f":"Individual_Scores_Women_Var!D111","v":""},null,null," "," "," "," "," "," "," "," "," "," "," "," "," "," "," "," "," "," "," "," "," "," "," "," "," "," "," "," "," "," "," "," "," "," "," "," "," "," "," "," "," "," "," "," "," "," "," "," "," "," "," "," "," "," "," "," "," "," "," "," "," "," "," "," "," "," "," "," "," "," "," "," "," "," "]
[null,"Hastings College V",{"$f":"Individual_Scores_Women_Var!C112","v":""},{"$f":"Individual_Scores_Women_Var!D112","v":""},null,null," "," "," "," "," "," "," "," "," "," "," "," "," "," "," "," "," "," "," "," "," "," "," "," "," "," "," "," "," "," "," "," "," "," "," "," "," "," "," "," "," "," "," "," "," "," "," "," "," "," "," "," "," "," "," "," "," "," "," "," "," "," "," "," "," "," "," "," "," "," "," "," "," "," "]
[null,"Hastings College V",{"$f":"Individual_Scores_Women_Var!C113","v":""},{"$f":"Individual_Scores_Women_Var!D113","v":""},null,null," "," "," "," "," "," "," "," "," "," "," "," "," "," "," "," "," "," "," "," "," "," "," "," "," "," "," "," "," "," "," "," "," "," "," "," "," "," "," "," "," "," "," "," "," "," "," "," "," "," "," "," "," "," "," "," "," "," "," "," "," "," "," "," "," "," "," "," "," "," "," "," "," "," "]
[null," "," "," ",null,null," "," "," "," "," "," "," "," "," "," "," "," "," "," "," "," "," "," "," "," "," "," "," "," "," "," "," "," "," "," "," "," "," "," "," "," "," "," "," "," "," "," "," "," "," "," "," "," "," "," "," "," "," "," "," "," "," "," "," "," "," "," "," "," "," "," "," "," "," "," "," "," "," "," "]
[null," "," "," ",null,null," "," "," "," "," "," "," "," "," "," "," "," "," "," "," "," "," "," "," "," "," "," "," "," "," "," "," "," "," "," "," "," "," "," "," "," "," "," "," "," "," "," "," "," "," "," "," "," "," "," "," "," "," "," "," "," "," "," "," "," "," "," "," "," "," "," "," "," "," "," "," "," "," "," "]
[null,{"$f":"Roster_Selection_Women!AB106&\" \" & \"V \"","v":"Iowa Central Community College V "},{"$f":"Roster_Selection_Women!AD106","v":"11-107840"},{"$f":"Roster_Selection_Women!AE106","v":"Abigail (Abby) Price"},null,{"$f":"IF(ISERROR(Individual_Scores_Women_Var!E116), \" \", IF(Individual_Scores_Women_Var!E116 = \"Yes\", \"Yes\", \"  \"))","v":"  "},"Games",168.0,179.0,133.0,167.0,158.0,174.0,149.0,152.0,188.0,156.0,158.0,185.0,169.0,177.0,184.0,158.0,162.0,143.0,206.0,153.0,{"$f":"SUM(H116:AA116)","v":3319},{"$f":"COUNTIF(H116:AA116, \">0\" )","v":20},{"$f":"AB116/AC116","v":165.95}," "," "," "," "," "," "," "," "," "," "," "," "," "," "," "," "," "," "," "," "," "," "," "," "," "," "," "," "," "," "," "," "," "," "," "," "," "," "," "," "," "," "," "," "," "," "," "," "," "," "]
[null,{"$f":"Roster_Selection_Women!AB107&\" \" & \"V \"","v":"Iowa Central Community College V "},{"$f":"Roster_Selection_Women!AD107","v":"11-234952"},{"$f":"Roster_Selection_Women!AE107","v":"Alexis Hanson"},null,{"$f":"IF(ISERROR(Individual_Scores_Women_Var!E117), \" \", IF(Individual_Scores_Women_Var!E117 = \"Yes\", \"Yes\", \"  \"))","v":"  "}," "," "," "," "," "," "," "," "," "," "," "," "," "," "," "," "," "," "," "," "," "," "," "," "," "," "," "," "," "," "," "," "," "," "," "," "," "," "," "," "," "," "," "," "," "," "," "," "," "," "," "," "," "," "," "," "," "," "," "," "," "," "," "," "," "," "," "," "," "," "," "," "," "," "]
[null,{"$f":"Roster_Selection_Women!AB108&\" \" & \"V \"","v":"Iowa Central Community College V "},{"$f":"Roster_Selection_Women!AD108","v":"22-1523"},{"$f":"Roster_Selection_Women!AE108","v":"Ann Alsup"},null,{"$f":"IF(ISERROR(Individual_Scores_Women_Var!E118), \" \", IF(Individual_Scores_Women_Var!E118 = \"Yes\", \"Yes\", \"  \"))","v":"  "}," "," "," "," "," "," "," "," "," "," "," "," "," "," "," "," "," "," "," "," "," "," "," "," "," "," "," "," "," "," "," "," "," "," "," "," "," "," "," "," "," "," "," "," "," "," "," "," "," "," "," "," "," "," "," "," "," "," "," "," "," "," "," "," "," "," "," "," "," "," "," "," "," "," "]
[null,{"$f":"Roster_Selection_Women!AB109&\" \" & \"V \"","v":"Iowa Central Community College V "},{"$f":"Roster_Selection_Women!AD109","v":"18-63585"},{"$f":"Roster_Selection_Women!AE109","v":"Ashley Lacey"},null,{"$f":"IF(ISERROR(Individual_Scores_Women_Var!E119), \" \", IF(Individual_Scores_Women_Var!E119 = \"Yes\", \"Yes\", \"  \"))","v":"  "}," "," "," "," "," "," "," "," "," "," "," "," "," "," "," "," "," "," "," "," "," "," "," "," "," "," "," "," "," "," "," "," "," "," "," "," "," "," "," "," "," "," "," "," "," "," "," "," "," "," "," "," "," "," "," "," "," "," "," "," "," "," "," "," "," "," "," "," "," "," "," "," "," "," "]
[null,{"$f":"Roster_Selection_Women!AB110&\" \" & \"V \"","v":"Iowa Central Community College V "},{"$f":"Roster_Selection_Women!AD110","v":"19-22703"},{"$f":"Roster_Selection_Women!AE110","v":"Brynne Mickelson"},null,{"$f":"IF(ISERROR(Individual_Scores_Women_Var!E120), \" \", IF(Individual_Scores_Women_Var!E120 = \"Yes\", \"Yes\", \"  \"))","v":"  "}," "," "," "," "," "," "," "," "," "," "," "," "," "," "," "," "," "," "," "," "," "," "," "," "," "," "," "," "," "," "," "," "," "," "," "," "," "," "," "," "," "," "," "," "," "," "," "," "," "," "," "," "," "," "," "," "," "," "," "," "," "," "," "," "," "," "," "," "," "," "," "," "," "," "]
[null,{"$f":"Roster_Selection_Women!AB111&\" \" & \"V \"","v":"Iowa Central Community College V "},{"$f":"Roster_Selection_Women!AD111","v":"18-68396"},{"$f":"Roster_Selection_Women!AE111","v":"Cassie Lee"},null,{"$f":"IF(ISERROR(Individual_Scores_Women_Var!E121), \" \", IF(Individual_Scores_Women_Var!E121 = \"Yes\", \"Yes\", \"  \"))","v":"  "}," "," "," "," "," "," "," "," "," "," "," "," "," "," "," "," "," "," "," "," "," "," "," "," "," "," "," "," "," "," "," "," "," "," "," "," "," "," "," "," "," "," "," "," "," "," "," "," "," "," "," "," "," "," "," "," "," "," "," "," "," "," "," "," "," "," "," "," "," "," "," "," "," "," "]
[null,{"$f":"Roster_Selection_Women!AB112&\" \" & \"V \"","v":"Iowa Central Community College V "},{"$f":"Roster_Selection_Women!AD112","v":"11-381947"},{"$f":"Roster_Selection_Women!AE112","v":"Madisyn Gerdts"},null,{"$f":"IF(ISERROR(Individual_Scores_Women_Var!E122), \" \", IF(Individual_Scores_Women_Var!E122 = \"Yes\", \"Yes\", \"  \"))","v":"  "}," "," "," "," "," "," "," "," "," "," "," "," "," "," "," "," "," "," "," "," "," "," "," "," "," "," "," "," "," "," "," "," "," "," "," "," "," "," "," "," "," "," "," "," "," "," "," "," "," "," "," "," "," "," "," "," "," "," "," "," "," "," "," "," "," "," "," "," "," "," "," "," "," "," "]
[null,{"$f":"Roster_Selection_Women!AB113&\" \" & \"V \"","v":"Iowa Central Community College V "},{"$f":"Roster_Selection_Women!AD113","v":"11-446110"},{"$f":"Roster_Selection_Women!AE113","v":"Victoria Potter"},null,{"$f":"IF(ISERROR(Individual_Scores_Women_Var!E123), \" \", IF(Individual_Scores_Women_Var!E123 = \"Yes\", \"Yes\", \"  \"))","v":"  "}," "," "," "," "," "," "," "," "," "," "," "," "," "," "," "," "," "," "," "," "," "," "," "," "," "," "," "," "," "," "," "," "," "," "," "," "," "," "," "," "," "," "," "," "," "," "," "," "," "," "," "," "," "," "," "," "," "," "," "," "," "," "," "," "," "," "," "," "," "," "," "," "," "," "]
[null,"Iowa Central Community College V",{"$f":"Individual_Scores_Women_Var!C124","v":""},{"$f":"Individual_Scores_Women_Var!D124","v":""},null,null," "," "," "," "," "," "," "," "," "," "," "," "," "," "," "," "," "," "," "," "," "," "," "," "," "," "," "," "," "," "," "," "," "," "," "," "," "," "," "," "," "," "," "," "," "," "," "," "," "," "," "," "," "," "," "," "," "," "," "," "," "," "," "," "," "," "," "," "," "," "," "," "," "," "]
[null,"Iowa Central Community College V",{"$f":"Individual_Scores_Women_Var!C125","v":""},{"$f":"Individual_Scores_Women_Var!D125","v":""},null,null," "," "," "," "," "," "," "," "," "," "," "," "," "," "," "," "," "," "," "," "," "," "," "," "," "," "," "," "," "," "," "," "," "," "," "," "," "," "," "," "," "," "," "," "," "," "," "," "," "," "," "," "," "," "," "," "," "," "," "," "," "," "," "," "," "," "," "," "," "," "," "," "," "," "]
[null,"Iowa Central Community College V",{"$f":"Individual_Scores_Women_Var!C126","v":""},{"$f":"Individual_Scores_Women_Var!D126","v":""},null,null," "," "," "," "," "," "," "," "," "," "," "," "," "," "," "," "," "," "," "," "," "," "," "," "," "," "," "," "," "," "," "," "," "," "," "," "," "," "," "," "," "," "," "," "," "," "," "," "," "," "," "," "," "," "," "," "," "," "," "," "," "," "," "," "," "," "," "," "," "," "," "," "," "," "]
[null," "," "," ",null,null," "," "," "," "," "," "," "," "," "," "," "," "," "," "," "," "," "," "," "," "," "," "," "," "," "," "," "," "," "," "," "," "," "," "," "," "," "," "," "," "," "," "," "," "," "," "," "," "," "," "," "," "," "," "," "," "," "," "," "," "," "," "," "," "," "," "," "," "," "," "," "," "," "," "]
[null," "," "," ",null,null," "," "," "," "," "," "," "," "," "," "," "," "," "," "," "," "," "," "," "," "," "," "," "," "," "," "," "," "," "," "," "," "," "," "," "," "," "," "," "," "," "," "," "," "," "," "," "," "," "," "," "," "," "," "," "," "," "," "," "," "," "," "," "," "," "," "," "," "," "," "," "," "," "," "]
[null,{"$f":"Roster_Selection_Women!AB117&\" \" & \"V \"","v":"Iowa Western Community College V "},{"$f":"Roster_Selection_Women!AD117","v":"22-2842"},{"$f":"Roster_Selection_Women!AE117","v":"Dylan Freeman"},null,{"$f":"IF(ISERROR(Individual_Scores_Women_Var!E129), \" \", IF(Individual_Scores_Women_Var!E129 = \"Yes\", \"Yes\", \"  \"))","v":"  "},"Games",153.0,148.0,157.0,144.0,152.0,157.0,162.0,156.0,174.0,164.0,137.0,199.0,173.0,160.0,166.0,160.0,137.0,169.0,174.0,140.0,{"$f":"SUM(H129:AA129)","v":3182},{"$f":"COUNTIF(H129:AA129, \">0\" )","v":20},{"$f":"AB129/AC129","v":159.1}," "," "," "," "," "," "," "," "," "," "," "," "," "," "," "," "," "," "," "," "," "," "," "," "," "," "," "," "," "," "," "," "," "," "," "," "," "," "," "," "," "," "," "," "," "," "," "," "," "," "]
[null,{"$f":"Roster_Selection_Women!AB118&\" \" & \"V \"","v":"Iowa Western Community College V "},{"$f":"Roster_Selection_Women!AD118","v":"19-86489"},{"$f":"Roster_Selection_Women!AE118","v":"Gabbi McCarthy"},null,{"$f":"IF(ISERROR(Individual_Scores_Women_Var!E130), \" \", IF(Individual_Scores_Women_Var!E130 = \"Yes\", \"Yes\", \"  \"))","v":"  "}," "," "," "," "," "," "," "," "," "," "," "," "," "," "," "," "," "," "," "," "," "," "," "," "," "," "," "," "," "," "," "," "," "," "," "," "," "," "," "," "," "," "," "," "," "," "," "," "," "," "," "," "," "," "," "," "," "," "," "," "," "," "," "," "," "," "," "," "," "," "," "," "," "," "]
[null,{"$f":"Roster_Selection_Women!AB119&\" \" & \"V \"","v":"Iowa Western Community College V "},{"$f":"Roster_Selection_Women!AD119","v":"11-666402"},{"$f":"Roster_Selection_Women!AE119","v":"Kasey Pleas"},null,{"$f":"IF(ISERROR(Individual_Scores_Women_Var!E131), \" \", IF(Individual_Scores_Women_Var!E131 = \"Yes\", \"Yes\", \"  \"))","v":"  "}," "," "," "," "," "," "," "," "," "," "," "," "," "," "," "," "," "," "," "," "," "," "," "," "," "," "," "," "," "," "," "," "," "," "," "," "," "," "," "," "," "," "," "," "," "," "," "," "," "," "," "," "," "," "," "," "," "," "," "," "," "," "," "," "," "," "," "," "," "," "," "," "," "," "]
[null,{"$f":"Roster_Selection_Women!AB120&\" \" & \"V \"","v":"Iowa Western Community College V "},{"$f":"Roster_Selection_Women!AD120","v":"18-27388"},{"$f":"Roster_Selection_Women!AE120","v":"Kaylynn Oliver"},null,{"$f":"IF(ISERROR(Individual_Scores_Women_Var!E132), \" \", IF(Individual_Scores_Women_Var!E132 = \"Yes\", \"Yes\", \"  \"))","v":"  "}," "," "," "," "," "," "," "," "," "," "," "," "," "," "," "," "," "," "," "," "," "," "," "," "," "," "," "," "," "," "," "," "," "," "," "," "," "," "," "," "," "," "," "," "," "," "," "," "," "," "," "," "," "," "," "," "," "," "," "," "," "," "," "," "," "," "," "," "," "," "," "," "," "," "]
[null,{"$f":"Roster_Selection_Women!AB121&\" \" & \"V \"","v":"Iowa Western Community College V "},{"$f":"Roster_Selection_Women!AD121","v":"9130-1913"},{"$f":"Roster_Selection_Women!AE121","v":"Kerry Crossman"},null,{"$f":"IF(ISERROR(Individual_Scores_Women_Var!E133), \" \", IF(Individual_Scores_Women_Var!E133 = \"Yes\", \"Yes\", \"  \"))","v":"  "}," "," "," "," "," "," "," "," "," "," "," "," "," "," "," "," "," "," "," "," "," "," "," "," "," "," "," "," "," "," "," "," "," "," "," "," "," "," "," "," "," "," "," "," "," "," "," "," "," "," "," "," "," "," "," "," "," "," "," "," "," "," "," "," "," "," "," "," "," "," "," "," "," "," "]
[null,{"$f":"Roster_Selection_Women!AB122&\" \" & \"V \"","v":"Iowa Western Community College V "},{"$f":"Roster_Selection_Women!AD122","v":"11-765361"},{"$f":"Roster_Selection_Women!AE122","v":"Maddy Addleman"},null,{"$f":"IF(ISERROR(Individual_Scores_Women_Var!E134), \" \", IF(Individual_Scores_Women_Var!E134 = \"Yes\", \"Yes\", \"  \"))","v":"  "}," "," "," "," "," "," "," "," "," "," "," "," "," "," "," "," "," "," "," "," "," "," "," "," "," "," "," "," "," "," "," "," "," "," "," "," "," "," "," "," "," "," "," "," "," "," "," "," "," "," "," "," "," "," "," "," "," "," "," "," "," "," "," "," "," "," "," "," "," "," "," "," "," "," "]
[null,{"$f":"Roster_Selection_Women!AB123&\" \" & \"V \"","v":"Iowa Western Community College V "},{"$f":"Roster_Selection_Women!AD123","v":"7914-26375"},{"$f":"Roster_Selection_Women!AE123","v":"Natalie Arnold"},null,{"$f":"IF(ISERROR(Individual_Scores_Women_Var!E135), \" \", IF(Individual_Scores_Women_Var!E135 = \"Yes\", \"Yes\", \"  \"))","v":"  "}," "," "," "," "," "," "," "," "," "," "," "," "," "," "," "," "," "," "," "," "," "," "," "," "," "," "," "," "," "," "," "," "," "," "," "," "," "," "," "," "," "," "," "," "," "," "," "," "," "," "," "," "," "," "," "," "," "," "," "," "," "," "," "," "," "," "," "," "," "," "," "," "," "," "]
[null,{"$f":"Roster_Selection_Women!AB124&\" \" & \"V \"","v":" V "},{"$f":"Roster_Selection_Women!AD124","v":""},{"$f":"Roster_Selection_Women!AE124","v":""},null,{"$f":"IF(ISERROR(Individual_Scores_Women_Var!E136), \" \", IF(Individual_Scores_Women_Var!E136 = \"Yes\", \"Yes\", \"  \"))","v":"  "}," "," "," "," "," "," "," "," "," "," "," "," "," "," "," "," "," "," "," "," "," "," "," "," "," "," "," "," "," "," "," "," "," "," "," "," "," "," "," "," "," "," "," "," "," "," "," "," "," "," "," "," "," "," "," "," "," "," "," "," "," "," "," "," "," "," "," "," "," "," "," "," "," "," "]
[null,"Iowa Western Community College V",{"$f":"Individual_Scores_Women_Var!C137","v":""},{"$f":"Individual_Scores_Women_Var!D137","v":""},null,null," "," "," "," "," "," "," "," "," "," "," "," "," "," "," "," "," "," "," "," "," "," "," "," "," "," "," "," "," "," "," "," "," "," "," "," "," "," "," "," "," "," "," "," "," "," "," "," "," "," "," "," "," "," "," "," "," "," "," "," "," "," "," "," "," "," "," "," "," "," "," "," "," "," "]
[null,"Iowa Western Community College V",{"$f":"Individual_Scores_Women_Var!C138","v":""},{"$f":"Individual_Scores_Women_Var!D138","v":""},null,null," "," "," "," "," "," "," "," "," "," "," "," "," "," "," "," "," "," "," "," "," "," "," "," "," "," "," "," "," "," "," "," "," "," "," "," "," "," "," "," "," "," "," "," "," "," "," "," "," "," "," "," "," "," "," "," "," "," "," "," "," "," "," "," "," "," "," "," "," "," "," "," "," "," "]
[null,"Iowa Western Community College V",{"$f":"Individual_Scores_Women_Var!C139","v":""},{"$f":"Individual_Scores_Women_Var!D139","v":""},null,null," "," "," "," "," "," "," "," "," "," "," "," "," "," "," "," "," "," "," "," "," "," "," "," "," "," "," "," "," "," "," "," "," "," "," "," "," "," "," "," "," "," "," "," "," "," "," "," "," "," "," "," "," "," "," "," "," "," "," "," "," "," "," "," "," "," "," "," "," "," "," "," "," "," "]
[null," "," "," ",null,null," "," "," "," "," "," "," "," "," "," "," "," "," "," "," "," "," "," "," "," "," "," "," "," "," "," "," "," "," "," "," "," "," "," "," "," "," "," "," "," "," "," "," "," "," "," "," "," "," "," "," "," "," "," "," "," "," "," "," "," "," "," "," "," "," "," "," "," "," "," "," "," "," "," "]
[null," "," "," ",null,null," "," "," "," "," "," "," "," "," "," "," "," "," "," "," "," "," "," "," "," "," "," "," "," "," "," "," "," "," "," "," "," "," "," "," "," "," "," "," "," "," "," "," "," "," "," "," "," "," "," "," "," "," "," "," "," "," "," "," "," "," "," "," "," "," "," "," "," "," "," "," "," "," "," "]
[null,{"$f":"Roster_Selection_Women!AB125&\" \" & \"V \"","v":"Kansas ,University Of V "},{"$f":"Roster_Selection_Women!AD125","v":"5900-28007"},{"$f":"Roster_Selection_Women!AE125","v":"Annabelle Bitner"},null,{"$f":"IF(ISERROR(Individual_Scores_Women_Var!E142), \" \", IF(Individual_Scores_Women_Var!E142 = \"Yes\", \"Yes\", \"  \"))","v":"  "},"Games",104.0,173.0,118.0,118.0,136.0,153.0,115.0,98.0,125.0,133.0,143.0,168.0,139.0,98.0,135.0,105.0,132.0,139.0,145.0,122.0,{"$f":"SUM(H142:AA142)","v":2599},{"$f":"COUNTIF(H142:AA142, \">0\" )","v":20},{"$f":"AB142/AC142","v":129.95}," "," "," "," "," "," "," "," "," "," "," "," "," "," "," "," "," "," "," "," "," "," "," "," "," "," "," "," "," "," "," "," "," "," "," "," "," "," "," "," "," "," "," "," "," "," "," "," "," "," "]
[null,{"$f":"Roster_Selection_Women!AB126&\" \" & \"V \"","v":"Kansas ,University Of V "},{"$f":"Roster_Selection_Women!AD126","v":"21-52280"},{"$f":"Roster_Selection_Women!AE126","v":"Grace Dorst"},null,{"$f":"IF(ISERROR(Individual_Scores_Women_Var!E143), \" \", IF(Individual_Scores_Women_Var!E143 = \"Yes\", \"Yes\", \"  \"))","v":"  "}," "," "," "," "," "," "," "," "," "," "," "," "," "," "," "," "," "," "," "," "," "," "," "," "," "," "," "," "," "," "," "," "," "," "," "," "," "," "," "," "," "," "," "," "," "," "," "," "," "," "," "," "," "," "," "," "," "," "," "," "," "," "," "," "," "," "," "," "," "," "," "," "," "," "]
[null,{"$f":"Roster_Selection_Women!AB127&\" \" & \"V \"","v":"Kansas ,University Of V "},{"$f":"Roster_Selection_Women!AD127","v":"22-20256"},{"$f":"Roster_Selection_Women!AE127","v":"Hilary Liermann"},null,{"$f":"IF(ISERROR(Individual_Scores_Women_Var!E144), \" \", IF(Individual_Scores_Women_Var!E144 = \"Yes\", \"Yes\", \"  \"))","v":"  "}," "," "," "," "," "," "," "," "," "," "," "," "," "," "," "," "," "," "," "," "," "," "," "," "," "," "," "," "," "," "," "," "," "," "," "," "," "," "," "," "," "," "," "," "," "," "," "," "," "," "," "," "," "," "," "," "," "," "," "," "," "," "," "," "," "," "," "," "," "," "," "," "," "," "]
[null,{"$f":"Roster_Selection_Women!AB128&\" \" & \"V \"","v":"Kansas ,University Of V "},{"$f":"Roster_Selection_Women!AD128","v":"18-3937"},{"$f":"Roster_Selection_Women!AE128","v":"Jessenia Hernandez"},null,{"$f":"IF(ISERROR(Individual_Scores_Women_Var!E145), \" \", IF(Individual_Scores_Women_Var!E145 = \"Yes\", \"Yes\", \"  \"))","v":"  "}," "," "," "," "," "," "," "," "," "," "," "," "," "," "," "," "," "," "," "," "," "," "," "," "," "," "," "," "," "," "," "," "," "," "," "," "," "," "," "," "," "," "," "," "," "," "," "," "," "," "," "," "," "," "," "," "," "," "," "," "," "," "," "," "," "," "," "," "," "," "," "," "," "," "]
[null,{"$f":"Roster_Selection_Women!AB129&\" \" & \"V \"","v":"Kansas ,University Of V "},{"$f":"Roster_Selection_Women!AD129","v":"20-40945"},{"$f":"Roster_Selection_Women!AE129","v":"Payton Nies"},null,{"$f":"IF(ISERROR(Individual_Scores_Women_Var!E146), \" \", IF(Individual_Scores_Women_Var!E146 = \"Yes\", \"Yes\", \"  \"))","v":"  "}," "," "," "," "," "," "," "," "," "," "," "," "," "," "," "," "," "," "," "," "," "," "," "," "," "," "," "," "," "," "," "," "," "," "," "," "," "," "," "," "," "," "," "," "," "," "," "," "," "," "," "," "," "," "," "," "," "," "," "," "," "," "," "," "," "," "," "," "," "," "," "," "," "," "]
[null,{"$f":"Roster_Selection_Women!AB130&\" \" & \"V \"","v":"Kansas ,University Of V "},{"$f":"Roster_Selection_Women!AD130","v":"17-89547"},{"$f":"Roster_Selection_Women!AE130","v":"Remy Asta"},null,{"$f":"IF(ISERROR(Individual_Scores_Women_Var!E147), \" \", IF(Individual_Scores_Women_Var!E147 = \"Yes\", \"Yes\", \"  \"))","v":"  "}," "," "," "," "," "," "," "," "," "," "," "," "," "," "," "," "," "," "," "," "," "," "," "," "," "," "," "," "," "," "," "," "," "," "," "," "," "," "," "," "," "," "," "," "," "," "," "," "," "," "," "," "," "," "," "," "," "," "," "," "," "," "," "," "," "," "," "," "," "," "," "," "," "," "]
[null,{"$f":"Roster_Selection_Women!AB131&\" \" & \"V \"","v":"Kansas ,University Of V "},{"$f":"Roster_Selection_Women!AD131","v":"21-32743"},{"$f":"Roster_Selection_Women!AE131","v":"Sydney Chandler"},null,{"$f":"IF(ISERROR(Individual_Scores_Women_Var!E148), \" \", IF(Individual_Scores_Women_Var!E148 = \"Yes\", \"Yes\", \"  \"))","v":"  "}," "," "," "," "," "," "," "," "," "," "," "," "," "," "," "," "," "," "," "," "," "," "," "," "," "," "," "," "," "," "," "," "," "," "," "," "," "," "," "," "," "," "," "," "," "," "," "," "," "," "," "," "," "," "," "," "," "," "," "," "," "," "," "," "," "," "," "," "," "," "," "," "," "," "]
[null,{"$f":"Roster_Selection_Women!AB132&\" \" & \"V \"","v":" V "},{"$f":"Roster_Selection_Women!AD132","v":""},{"$f":"Roster_Selection_Women!AE132","v":""},null,{"$f":"IF(ISERROR(Individual_Scores_Women_Var!E149), \" \", IF(Individual_Scores_Women_Var!E149 = \"Yes\", \"Yes\", \"  \"))","v":"  "}," "," "," "," "," "," "," "," "," "," "," "," "," "," "," "," "," "," "," "," "," "," "," "," "," "," "," "," "," "," "," "," "," "," "," "," "," "," "," "," "," "," "," "," "," "," "," "," "," "," "," "," "," "," "," "," "," "," "," "," "," "," "," "," "," "," "," "," "," "," "," "," "," "," "]
[null,"Kansas ,University Of V",{"$f":"Individual_Scores_Women_Var!C150","v":""},{"$f":"Individual_Scores_Women_Var!D150","v":""},null,null," "," "," "," "," "," "," "," "," "," "," "," "," "," "," "," "," "," "," "," "," "," "," "," "," "," "," "," "," "," "," "," "," "," "," "," "," "," "," "," "," "," "," "," "," "," "," "," "," "," "," "," "," "," "," "," "," "," "," "," "," "," "," "," "," "," "," "," "," "," "," "," "," "," "]
[null,"Kansas ,University Of V",{"$f":"Individual_Scores_Women_Var!C151","v":""},{"$f":"Individual_Scores_Women_Var!D151","v":""},null,null," "," "," "," "," "," "," "," "," "," "," "," "," "," "," "," "," "," "," "," "," "," "," "," "," "," "," "," "," "," "," "," "," "," "," "," "," "," "," "," "," "," "," "," "," "," "," "," "," "," "," "," "," "," "," "," "," "," "," "," "," "," "," "," "," "," "," "," "," "," "," "," "," "," "]
[null,"Kansas ,University Of V",{"$f":"Individual_Scores_Women_Var!C152","v":""},{"$f":"Individual_Scores_Women_Var!D152","v":""},null,null," "," "," "," "," "," "," "," "," "," "," "," "," "," "," "," "," "," "," "," "," "," "," "," "," "," "," "," "," "," "," "," "," "," "," "," "," "," "," "," "," "," "," "," "," "," "," "," "," "," "," "," "," "," "," "," "," "," "," "," "," "," "," "," "," "," "," "," "," "," "," "," "," "," "]
[null," "," "," ",null,null," "," "," "," "," "," "," "," "," "," "," "," "," "," "," "," "," "," "," "," "," "," "," "," "," "," "," "," "," "," "," "," "," "," "," "," "," "," "," "," "," "," "," "," "," "," "," "," "," "," "," "," "," "," "," "," "," "," "," "," "," "," "," "," "," "," "," "," "," "," "," "," "," "," "]
[null," "," "," ",null,null," "," "," "," "," "," "," "," "," "," "," "," "," "," "," "," "," "," "," "," "," "," "," "," "," "," "," "," "," "," "," "," "," "," "," "," "," "," "," "," "," "," "," "," "," "," "," "," "," "," "," "," "," "," "," "," "," "," "," "," "," "," "," "," "," "," "," "," "," "," "," "," "," "," "]
[null,{"$f":"Roster_Selection_Women!AB133&\" \" & \"V \"","v":"Kansas State University V "},{"$f":"Roster_Selection_Women!AD133","v":"22-16667"},{"$f":"Roster_Selection_Women!AE133","v":"Gabriela Ramirez"},null,{"$f":"IF(ISERROR(Individual_Scores_Women_Var!E155), \" \", IF(Individual_Scores_Women_Var!E155 = \"Yes\", \"Yes\", \"  \"))","v":"  "},"Games",164.0,106.0,112.0,134.0,138.0,176.0,118.0,120.0,139.0,145.0,142.0,144.0,129.0,160.0,104.0,121.0,134.0,137.0,142.0,137.0,{"$f":"SUM(H155:AA155)","v":2702},{"$f":"COUNTIF(H155:AA155, \">0\" )","v":20},{"$f":"AB155/AC155","v":135.1}," "," "," "," "," "," "," "," "," "," "," "," "," "," "," "," "," "," "," "," "," "," "," "," "," "," "," "," "," "," "," "," "," "," "," "," "," "," "," "," "," "," "," "," "," "," "," "," "," "," "]
[null,{"$f":"Roster_Selection_Women!AB134&\" \" & \"V \"","v":"Kansas State University V "},{"$f":"Roster_Selection_Women!AD134","v":"22-16669"},{"$f":"Roster_Selection_Women!AE134","v":"Kennedy Jones"},null,{"$f":"IF(ISERROR(Individual_Scores_Women_Var!E156), \" \", IF(Individual_Scores_Women_Var!E156 = \"Yes\", \"Yes\", \"  \"))","v":"  "}," "," "," "," "," "," "," "," "," "," "," "," "," "," "," "," "," "," "," "," "," "," "," "," "," "," "," "," "," "," "," "," "," "," "," "," "," "," "," "," "," "," "," "," "," "," "," "," "," "," "," "," "," "," "," "," "," "," "," "," "," "," "," "," "," "," "," "," "," "," "," "," "," "," "]
[null,{"$f":"Roster_Selection_Women!AB135&\" \" & \"V \"","v":"Kansas State University V "},{"$f":"Roster_Selection_Women!AD135","v":"21-15727"},{"$f":"Roster_Selection_Women!AE135","v":"Kinley Nielsen"},null,{"$f":"IF(ISERROR(Individual_Scores_Women_Var!E157), \" \", IF(Individual_Scores_Women_Var!E157 = \"Yes\", \"Yes\", \"  \"))","v":"  "}," "," "," "," "," "," "," "," "," "," "," "," "," "," "," "," "," "," "," "," "," "," "," "," "," "," "," "," "," "," "," "," "," "," "," "," "," "," "," "," "," "," "," "," "," "," "," "," "," "," "," "," "," "," "," "," "," "," "," "," "," "," "," "," "," "," "," "," "," "," "," "," "," "," "]
[null,{"$f":"Roster_Selection_Women!AB136&\" \" & \"V \"","v":"Kansas State University V "},{"$f":"Roster_Selection_Women!AD136","v":"22-16673"},{"$f":"Roster_Selection_Women!AE136","v":"Lillie Harper"},null,{"$f":"IF(ISERROR(Individual_Scores_Women_Var!E158), \" \", IF(Individual_Scores_Women_Var!E158 = \"Yes\", \"Yes\", \"  \"))","v":"  "}," "," "," "," "," "," "," "," "," "," "," "," "," "," "," "," "," "," "," "," "," "," "," "," "," "," "," "," "," "," "," "," "," "," "," "," "," "," "," "," "," "," "," "," "," "," "," "," "," "," "," "," "," "," "," "," "," "," "," "," "," "," "," "," "," "," "," "," "," "," "," "," "," "," "]
[null,{"$f":"Roster_Selection_Women!AB137&\" \" & \"V \"","v":"Kansas State University V "},{"$f":"Roster_Selection_Women!AD137","v":"5900-25978"},{"$f":"Roster_Selection_Women!AE137","v":"Mary Beth Stankiewicz"},null,{"$f":"IF(ISERROR(Individual_Scores_Women_Var!E159), \" \", IF(Individual_Scores_Women_Var!E159 = \"Yes\", \"Yes\", \"  \"))","v":"  "}," "," "," "," "," "," "," "," "," "," "," "," "," "," "," "," "," "," "," "," "," "," "," "," "," "," "," "," "," "," "," "," "," "," "," "," "," "," "," "," "," "," "," "," "," "," "," "," "," "," "," "," "," "," "," "," "," "," "," "," "," "," "," "," "," "," "," "," "," "," "," "," "," "," "]
[null,{"$f":"Roster_Selection_Women!AB138&\" \" & \"V \"","v":"Kansas State University V "},{"$f":"Roster_Selection_Women!AD138","v":"931-89481"},{"$f":"Roster_Selection_Women!AE138","v":"Naomi Harrison"},null,{"$f":"IF(ISERROR(Individual_Scores_Women_Var!E160), \" \", IF(Individual_Scores_Women_Var!E160 = \"Yes\", \"Yes\", \"  \"))","v":"  "}," "," "," "," "," "," "," "," "," "," "," "," "," "," "," "," "," "," "," "," "," "," "," "," "," "," "," "," "," "," "," "," "," "," "," "," "," "," "," "," "," "," "," "," "," "," "," "," "," "," "," "," "," "," "," "," "," "," "," "," "," "," "," "," "," "," "," "," "," "," "," "," "," "," "]
[null,{"$f":"Roster_Selection_Women!AB139&\" \" & \"V \"","v":" V "},{"$f":"Roster_Selection_Women!AD139","v":""},{"$f":"Roster_Selection_Women!AE139","v":""},null,{"$f":"IF(ISERROR(Individual_Scores_Women_Var!E161), \" \", IF(Individual_Scores_Women_Var!E161 = \"Yes\", \"Yes\", \"  \"))","v":"  "}," "," "," "," "," "," "," "," "," "," "," "," "," "," "," "," "," "," "," "," "," "," "," "," "," "," "," "," "," "," "," "," "," "," "," "," "," "," "," "," "," "," "," "," "," "," "," "," "," "," "," "," "," "," "," "," "," "," "," "," "," "," "," "," "," "," "," "," "," "," "," "," "," "," "]
[null,{"$f":"Roster_Selection_Women!AB140&\" \" & \"V \"","v":" V "},{"$f":"Roster_Selection_Women!AD140","v":""},{"$f":"Roster_Selection_Women!AE140","v":""},null,{"$f":"IF(ISERROR(Individual_Scores_Women_Var!E162), \" \", IF(Individual_Scores_Women_Var!E162 = \"Yes\", \"Yes\", \"  \"))","v":"  "}," "," "," "," "," "," "," "," "," "," "," "," "," "," "," "," "," "," "," "," "," "," "," "," "," "," "," "," "," "," "," "," "," "," "," "," "," "," "," "," "," "," "," "," "," "," "," "," "," "," "," "," "," "," "," "," "," "," "," "," "," "," "," "," "," "," "," "," "," "," "," "," "," "," "]
[null,"Kansas State University V",{"$f":"Individual_Scores_Women_Var!C163","v":""},{"$f":"Individual_Scores_Women_Var!D163","v":""},null,null," "," "," "," "," "," "," "," "," "," "," "," "," "," "," "," "," "," "," "," "," "," "," "," "," "," "," "," "," "," "," "," "," "," "," "," "," "," "," "," "," "," "," "," "," "," "," "," "," "," "," "," "," "," "," "," "," "," "," "," "," "," "," "," "," "," "," "," "," "," "," "," "," "," "]
[null,"Kansas State University V",{"$f":"Individual_Scores_Women_Var!C164","v":""},{"$f":"Individual_Scores_Women_Var!D164","v":""},null,null," "," "," "," "," "," "," "," "," "," "," "," "," "," "," "," "," "," "," "," "," "," "," "," "," "," "," "," "," "," "," "," "," "," "," "," "," "," "," "," "," "," "," "," "," "," "," "," "," "," "," "," "," "," "," "," "," "," "," "," "," "," "," "," "," "," "," "," "," "," "," "," "," "," "]
[null,"Kansas State University V",{"$f":"Individual_Scores_Women_Var!C165","v":""},{"$f":"Individual_Scores_Women_Var!D165","v":""},null,null," "," "," "," "," "," "," "," "," "," "," "," "," "," "," "," "," "," "," "," "," "," "," "," "," "," "," "," "," "," "," "," "," "," "," "," "," "," "," "," "," "," "," "," "," "," "," "," "," "," "," "," "," "," "," "," "," "," "," "," "," "," "," "," "," "," "," "," "," "," "," "," "," "," "]
[null," "," "," ",null,null," "," "," "," "," "," "," "," "," "," "," "," "," "," "," "," "," "," "," "," "," "," "," "," "," "," "," "," "," "," "," "," "," "," "," "," "," "," "," "," "," "," "," "," "," "," "," "," "," "," "," "," "," "," "," "," "," "," "," "," "," "," "," "," "," "," "," "," "," "," "," "," "," "," "]
[null," "," "," ",null,null," "," "," "," "," "," "," "," "," "," "," "," "," "," "," "," "," "," "," "," "," "," "," "," "," "," "," "," "," "," "," "," "," "," "," "," "," "," "," "," "," "," "," "," "," "," "," "," "," "," "," "," "," "," "," "," "," "," "," "," "," "," "," "," "," "," "," "," "," "," "," "," "," "," "]
[null,{"$f":"Roster_Selection_Women!AB142&\" \" & \"V \"","v":"Kansas Wesleyan University V "},{"$f":"Roster_Selection_Women!AD142","v":"5900-23214"},{"$f":"Roster_Selection_Women!AE142","v":"Chloe Lovell"},null,{"$f":"IF(ISERROR(Individual_Scores_Women_Var!E168), \" \", IF(Individual_Scores_Women_Var!E168 = \"Yes\", \"Yes\", \"  \"))","v":"  "},"Games",145.0,143.0,199.0,140.0,174.0,176.0,195.0,170.0,189.0,158.0,192.0,202.0,161.0,157.0,144.0,167.0,206.0,137.0,177.0,188.0,{"$f":"SUM(H168:AA168)","v":3420},{"$f":"COUNTIF(H168:AA168, \">0\" )","v":20},{"$f":"AB168/AC168","v":171}," "," "," "," "," "," "," "," "," "," "," "," "," "," "," "," "," "," "," "," "," "," "," "," "," "," "," "," "," "," "," "," "," "," "," "," "," "," "," "," "," "," "," "," "," "," "," "," "," "," "]
[null,{"$f":"Roster_Selection_Women!AB143&\" \" & \"V \"","v":"Kansas Wesleyan University V "},{"$f":"Roster_Selection_Women!AD143","v":"11-662816"},{"$f":"Roster_Selection_Women!AE143","v":"Haylee Busch"},null,{"$f":"IF(ISERROR(Individual_Scores_Women_Var!E169), \" \", IF(Individual_Scores_Women_Var!E169 = \"Yes\", \"Yes\", \"  \"))","v":"  "}," "," "," "," "," "," "," "," "," "," "," "," "," "," "," "," "," "," "," "," "," "," "," "," "," "," "," "," "," "," "," "," "," "," "," "," "," "," "," "," "," "," "," "," "," "," "," "," "," "," "," "," "," "," "," "," "," "," "," "," "," "," "," "," "," "," "," "," "," "," "," "," "," "," "]
[null,{"$f":"Roster_Selection_Women!AB144&\" \" & \"V \"","v":"Kansas Wesleyan University V "},{"$f":"Roster_Selection_Women!AD144","v":"11-763330"},{"$f":"Roster_Selection_Women!AE144","v":"Hayleigh Hale-Haggard"},null,{"$f":"IF(ISERROR(Individual_Scores_Women_Var!E170), \" \", IF(Individual_Scores_Women_Var!E170 = \"Yes\", \"Yes\", \"  \"))","v":"  "}," "," "," "," "," "," "," "," "," "," "," "," "," "," "," "," "," "," "," "," "," "," "," "," "," "," "," "," "," "," "," "," "," "," "," "," "," "," "," "," "," "," "," "," "," "," "," "," "," "," "," "," "," "," "," "," "," "," "," "," "," "," "," "," "," "," "," "," "," "," "," "," "," "," "]
[null,{"$f":"Roster_Selection_Women!AB145&\" \" & \"V \"","v":"Kansas Wesleyan University V "},{"$f":"Roster_Selection_Women!AD145","v":"15-101198"},{"$f":"Roster_Selection_Women!AE145","v":"Jasmine Senechal"},null,{"$f":"IF(ISERROR(Individual_Scores_Women_Var!E171), \" \", IF(Individual_Scores_Women_Var!E171 = \"Yes\", \"Yes\", \"  \"))","v":"  "}," "," "," "," "," "," "," "," "," "," "," "," "," "," "," "," "," "," "," "," "," "," "," "," "," "," "," "," "," "," "," "," "," "," "," "," "," "," "," "," "," "," "," "," "," "," "," "," "," "," "," "," "," "," "," "," "," "," "," "," "," "," "," "," "," "," "," "," "," "," "," "," "," "," "]
[null,{"$f":"Roster_Selection_Women!AB146&\" \" & \"V \"","v":"Kansas Wesleyan University V "},{"$f":"Roster_Selection_Women!AD146","v":"8174-21406"},{"$f":"Roster_Selection_Women!AE146","v":"Kara Thompson"},null,{"$f":"IF(ISERROR(Individual_Scores_Women_Var!E172), \" \", IF(Individual_Scores_Women_Var!E172 = \"Yes\", \"Yes\", \"  \"))","v":"  "}," "," "," "," "," "," "," "," "," "," "," "," "," "," "," "," "," "," "," "," "," "," "," "," "," "," "," "," "," "," "," "," "," "," "," "," "," "," "," "," "," "," "," "," "," "," "," "," "," "," "," "," "," "," "," "," "," "," "," "," "," "," "," "," "," "," "," "," "," "," "," "," "," "," "]
[null,{"$f":"Roster_Selection_Women!AB147&\" \" & \"V \"","v":"Kansas Wesleyan University V "},{"$f":"Roster_Selection_Women!AD147","v":"11-662819"},{"$f":"Roster_Selection_Women!AE147","v":"Kylee Busch"},null,{"$f":"IF(ISERROR(Individual_Scores_Women_Var!E173), \" \", IF(Individual_Scores_Women_Var!E173 = \"Yes\", \"Yes\", \"  \"))","v":"  "}," "," "," "," "," "," "," "," "," "," "," "," "," "," "," "," "," "," "," "," "," "," "," "," "," "," "," "," "," "," "," "," "," "," "," "," "," "," "," "," "," "," "," "," "," "," "," "," "," "," "," "," "," "," "," "," "," "," "," "," "," "," "," "," "," "," "," "," "," "," "," "," "," "," "]
[null,{"$f":"Roster_Selection_Women!AB148&\" \" & \"V \"","v":"Kansas Wesleyan University V "},{"$f":"Roster_Selection_Women!AD148","v":"22-24271"},{"$f":"Roster_Selection_Women!AE148","v":"Terah Head"},null,{"$f":"IF(ISERROR(Individual_Scores_Women_Var!E174), \" \", IF(Individual_Scores_Women_Var!E174 = \"Yes\", \"Yes\", \"  \"))","v":"  "}," "," "," "," "," "," "," "," "," "," "," "," "," "," "," "," "," "," "," "," "," "," "," "," "," "," "," "," "," "," "," "," "," "," "," "," "," "," "," "," "," "," "," "," "," "," "," "," "," "," "," "," "," "," "," "," "," "," "," "," "," "," "," "," "," "," "," "," "," "," "," "," "," "," "]
[null,{"$f":"Roster_Selection_Women!AB149&\" \" & \"V \"","v":" V "},{"$f":"Roster_Selection_Women!AD149","v":""},{"$f":"Roster_Selection_Women!AE149","v":""},null,{"$f":"IF(ISERROR(Individual_Scores_Women_Var!E175), \" \", IF(Individual_Scores_Women_Var!E175 = \"Yes\", \"Yes\", \"  \"))","v":"  "}," "," "," "," "," "," "," "," "," "," "," "," "," "," "," "," "," "," "," "," "," "," "," "," "," "," "," "," "," "," "," "," "," "," "," "," "," "," "," "," "," "," "," "," "," "," "," "," "," "," "," "," "," "," "," "," "," "," "," "," "," "," "," "," "," "," "," "," "," "," "," "," "," "," "]
[null,"Kansas Wesleyan University V",{"$f":"Individual_Scores_Women_Var!C176","v":""},{"$f":"Individual_Scores_Women_Var!D176","v":""},null,null," "," "," "," "," "," "," "," "," "," "," "," "," "," "," "," "," "," "," "," "," "," "," "," "," "," "," "," "," "," "," "," "," "," "," "," "," "," "," "," "," "," "," "," "," "," "," "," "," "," "," "," "," "," "," "," "," "," "," "," "," "," "," "," "," "," "," "," "," "," "," "," "," "," "]
[null,"Kansas Wesleyan University V",{"$f":"Individual_Scores_Women_Var!C177","v":""},{"$f":"Individual_Scores_Women_Var!D177","v":""},null,null," "," "," "," "," "," "," "," "," "," "," "," "," "," "," "," "," "," "," "," "," "," "," "," "," "," "," "," "," "," "," "," "," "," "," "," "," "," "," "," "," "," "," "," "," "," "," "," "," "," "," "," "," "," "," "," "," "," "," "," "," "," "," "," "," "," "," "," "," "," "," "," "," "," "]
[null,"Kansas Wesleyan University V",{"$f":"Individual_Scores_Women_Var!C178","v":""},{"$f":"Individual_Scores_Women_Var!D178","v":""},null,null," "," "," "," "," "," "," "," "," "," "," "," "," "," "," "," "," "," "," "," "," "," "," "," "," "," "," "," "," "," "," "," "," "," "," "," "," "," "," "," "," "," "," "," "," "," "," "," "," "," "," "," "," "," "," "," "," "," "," "," "," "," "," "," "," "," "," "," "," "," "," "," "," "," "]
[null," "," "," ",null,null," "," "," "," "," "," "," "," "," "," "," "," "," "," "," "," "," "," "," "," "," "," "," "," "," "," "," "," "," "," "," "," "," "," "," "," "," "," "," "," "," "," "," "," "," "," "," "," "," "," "," "," "," "," "," "," "," "," "," "," "," "," "," "," "," "," "," "," "," "," "," "," "," "," "]
[null," "," "," ",null,null," "," "," "," "," "," "," "," "," "," "," "," "," "," "," "," "," "," "," "," "," "," "," "," "," "," "," "," "," "," "," "," "," "," "," "," "," "," "," "," "," "," "," "," "," "," "," "," "," "," "," "," "," "," "," "," "," "," "," "," "," "," "," "," "," "," "," "," "," "," "," "," "," "," "]
[null,{"$f":"Roster_Selection_Women!AB150&\" \" & \"V \"","v":"Lindenwood University V "},{"$f":"Roster_Selection_Women!AD150","v":"18-38965"},{"$f":"Roster_Selection_Women!AE150","v":"Carissa Merkle"},null,{"$f":"IF(ISERROR(Individual_Scores_Women_Var!E181), \" \", IF(Individual_Scores_Women_Var!E181 = \"Yes\", \"Yes\", \"  \"))","v":"  "},"Games",176.0,161.0,166.0,191.0,167.0,190.0,183.0,170.0,200.0,195.0,213.0,188.0,152.0,183.0,150.0,191.0,119.0,182.0,233.0,123.0,{"$f":"SUM(H181:AA181)","v":3533},{"$f":"COUNTIF(H181:AA181, \">0\" )","v":20},{"$f":"AB181/AC181","v":176.65}," "," "," "," "," "," "," "," "," "," "," "," "," "," "," "," "," "," "," "," "," "," "," "," "," "," "," "," "," "," "," "," "," "," "," "," "," "," "," "," "," "," "," "," "," "," "," "," "," "," "]
[null,{"$f":"Roster_Selection_Women!AB151&\" \" & \"V \"","v":"Lindenwood University V "},{"$f":"Roster_Selection_Women!AD151","v":"11-250174"},{"$f":"Roster_Selection_Women!AE151","v":"Elizabeth (Lizzy) Rittenour"},null,{"$f":"IF(ISERROR(Individual_Scores_Women_Var!E182), \" \", IF(Individual_Scores_Women_Var!E182 = \"Yes\", \"Yes\", \"  \"))","v":"  "}," "," "," "," "," "," "," "," "," "," "," "," "," "," "," "," "," "," "," "," "," "," "," "," "," "," "," "," "," "," "," "," "," "," "," "," "," "," "," "," "," "," "," "," "," "," "," "," "," "," "," "," "," "," "," "," "," "," "," "," "," "," "," "," "," "," "," "," "," "," "," "," "," "," "]
[null,{"$f":"Roster_Selection_Women!AB152&\" \" & \"V \"","v":"Lindenwood University V "},{"$f":"Roster_Selection_Women!AD152","v":"11-393107"},{"$f":"Roster_Selection_Women!AE152","v":"Hailey Bozych"},null,{"$f":"IF(ISERROR(Individual_Scores_Women_Var!E183), \" \", IF(Individual_Scores_Women_Var!E183 = \"Yes\", \"Yes\", \"  \"))","v":"  "}," "," "," "," "," "," "," "," "," "," "," "," "," "," "," "," "," "," "," "," "," "," "," "," "," "," "," "," "," "," "," "," "," "," "," "," "," "," "," "," "," "," "," "," "," "," "," "," "," "," "," "," "," "," "," "," "," "," "," "," "," "," "," "," "," "," "," "," "," "," "," "," "," "," "]
[null,{"$f":"Roster_Selection_Women!AB153&\" \" & \"V \"","v":"Lindenwood University V "},{"$f":"Roster_Selection_Women!AD153","v":"11-101614"},{"$f":"Roster_Selection_Women!AE153","v":"Haylie Frick"},null,{"$f":"IF(ISERROR(Individual_Scores_Women_Var!E184), \" \", IF(Individual_Scores_Women_Var!E184 = \"Yes\", \"Yes\", \"  \"))","v":"  "}," "," "," "," "," "," "," "," "," "," "," "," "," "," "," "," "," "," "," "," "," "," "," "," "," "," "," "," "," "," "," "," "," "," "," "," "," "," "," "," "," "," "," "," "," "," "," "," "," "," "," "," "," "," "," "," "," "," "," "," "," "," "," "," "," "," "," "," "," "," "," "," "," "," "]
[null,{"$f":"Roster_Selection_Women!AB154&\" \" & \"V \"","v":"Lindenwood University V "},{"$f":"Roster_Selection_Women!AD154","v":"11-449668"},{"$f":"Roster_Selection_Women!AE154","v":"Karsyn Braasch"},null,{"$f":"IF(ISERROR(Individual_Scores_Women_Var!E185), \" \", IF(Individual_Scores_Women_Var!E185 = \"Yes\", \"Yes\", \"  \"))","v":"Yes"}," "," "," "," "," "," "," "," "," "," "," "," "," "," "," "," "," "," "," "," "," "," "," "," "," "," "," "," "," "," "," "," "," "," "," "," "," "," "," "," "," "," "," "," "," "," "," "," "," "," "," "," "," "," "," "," "," "," "," "," "," "," "," "," "," "," "," "," "," "," "," "," "," "," "]
[null,{"$f":"Roster_Selection_Women!AB155&\" \" & \"V \"","v":"Lindenwood University V "},{"$f":"Roster_Selection_Women!AD155","v":"11-330961"},{"$f":"Roster_Selection_Women!AE155","v":"Lorena A Santiago Ramos"},null,{"$f":"IF(ISERROR(Individual_Scores_Women_Var!E186), \" \", IF(Individual_Scores_Women_Var!E186 = \"Yes\", \"Yes\", \"  \"))","v":"  "}," "," "," "," "," "," "," "," "," "," "," "," "," "," "," "," "," "," "," "," "," "," "," "," "," "," "," "," "," "," "," "," "," "," "," "," "," "," "," "," "," "," "," "," "," "," "," "," "," "," "," "," "," "," "," "," "," "," "," "," "," "," "," "," "," "," "," "," "," "," "," "," "," "," "]
[null,{"$f":"Roster_Selection_Women!AB156&\" \" & \"V \"","v":"Lindenwood University V "},{"$f":"Roster_Selection_Women!AD156","v":"19-18209"},{"$f":"Roster_Selection_Women!AE156","v":"Renata Martinez"},null,{"$f":"IF(ISERROR(Individual_Scores_Women_Var!E187), \" \", IF(Individual_Scores_Women_Var!E187 = \"Yes\", \"Yes\", \"  \"))","v":"  "}," "," "," "," "," "," "," "," "," "," "," "," "," "," "," "," "," "," "," "," "," "," "," "," "," "," "," "," "," "," "," "," "," "," "," "," "," "," "," "," "," "," "," "," "," "," "," "," "," "," "," "," "," "," "," "," "," "," "," "," "," "," "," "," "," "," "," "," "," "," "," "," "," "," "]
[null,{"$f":"Roster_Selection_Women!AB157&\" \" & \"V \"","v":"Lindenwood University V "},{"$f":"Roster_Selection_Women!AD157","v":"11-341586"},{"$f":"Roster_Selection_Women!AE157","v":"Samantha Smith"},null,{"$f":"IF(ISERROR(Individual_Scores_Women_Var!E188), \" \", IF(Individual_Scores_Women_Var!E188 = \"Yes\", \"Yes\", \"  \"))","v":"  "}," "," "," "," "," "," "," "," "," "," "," "," "," "," "," "," "," "," "," "," "," "," "," "," "," "," "," "," "," "," "," "," "," "," "," "," "," "," "," "," "," "," "," "," "," "," "," "," "," "," "," "," "," "," "," "," "," "," "," "," "," "," "," "," "," "," "," "," "," "," "," "," "," "," "]
[null,"Lindenwood University V",{"$f":"Individual_Scores_Women_Var!C189","v":""},{"$f":"Individual_Scores_Women_Var!D189","v":""},null,null," "," "," "," "," "," "," "," "," "," "," "," "," "," "," "," "," "," "," "," "," "," "," "," "," "," "," "," "," "," "," "," "," "," "," "," "," "," "," "," "," "," "," "," "," "," "," "," "," "," "," "," "," "," "," "," "," "," "," "," "," "," "," "," "," "," "," "," "," "," "," "," "," "," "]
[null,"Lindenwood University V",{"$f":"Individual_Scores_Women_Var!C190","v":""},{"$f":"Individual_Scores_Women_Var!D190","v":""},null,null," "," "," "," "," "," "," "," "," "," "," "," "," "," "," "," "," "," "," "," "," "," "," "," "," "," "," "," "," "," "," "," "," "," "," "," "," "," "," "," "," "," "," "," "," "," "," "," "," "," "," "," "," "," "," "," "," "," "," "," "," "," "," "," "," "," "," "," "," "," "," "," "," "," "]
[null,"Lindenwood University V",{"$f":"Individual_Scores_Women_Var!C191","v":""},{"$f":"Individual_Scores_Women_Var!D191","v":""},null,null," "," "," "," "," "," "," "," "," "," "," "," "," "," "," "," "," "," "," "," "," "," "," "," "," "," "," "," "," "," "," "," "," "," "," "," "," "," "," "," "," "," "," "," "," "," "," "," "," "," "," "," "," "," "," "," "," "," "," "," "," "," "," "," "," "," "," "," "," "," "," "," "," "," "]
[null," "," "," ",null,null," "," "," "," "," "," "," "," "," "," "," "," "," "," "," "," "," "," "," "," "," "," "," "," "," "," "," "," "," "," "," "," "," "," "," "," "," "," "," "," "," "," "," "," "," "," "," "," "," "," "," "," "," "," "," "," "," "," "," "," "," "," "," "," "," "," "," "," "," "," "," "," "," "," "]
[null," "," "," ",null,null," "," "," "," "," "," "," "," "," "," "," "," "," "," "," "," "," "," "," "," "," "," "," "," "," "," "," "," "," "," "," "," "," "," "," "," "," "," "," "," "," "," "," "," "," "," "," "," "," "," "," "," "," "," "," "," "," "," "," "," "," "," "," "," "," "," "," "," "," "," "," "," "," "," "]
[null,{"$f":"Roster_Selection_Women!AB165&\" \" & \"V \"","v":"Mount Mercy University V "},{"$f":"Roster_Selection_Women!AD165","v":"11-300993"},{"$f":"Roster_Selection_Women!AE165","v":"Brynna Madison"},null,{"$f":"IF(ISERROR(Individual_Scores_Women_Var!E194), \" \", IF(Individual_Scores_Women_Var!E194 = \"Yes\", \"Yes\", \"  \"))","v":"  "},"Games",189.0,220.0,183.0,190.0,190.0,163.0,172.0,164.0,158.0,174.0,181.0,181.0,150.0,184.0,177.0,202.0,193.0,178.0,226.0,217.0,{"$f":"SUM(H194:AA194)","v":3692},{"$f":"COUNTIF(H194:AA194, \">0\" )","v":20},{"$f":"AB194/AC194","v":184.6}," "," "," "," "," "," "," "," "," "," "," "," "," "," "," "," "," "," "," "," "," "," "," "," "," "," "," "," "," "," "," "," "," "," "," "," "," "," "," "," "," "," "," "," "," "," "," "," "," "," "]
[null,{"$f":"Roster_Selection_Women!AB166&\" \" & \"V \"","v":"Mount Mercy University V "},{"$f":"Roster_Selection_Women!AD166","v":"11-99667"},{"$f":"Roster_Selection_Women!AE166","v":"Elena Carr"},null,{"$f":"IF(ISERROR(Individual_Scores_Women_Var!E195), \" \", IF(Individual_Scores_Women_Var!E195 = \"Yes\", \"Yes\", \"  \"))","v":"  "}," "," "," "," "," "," "," "," "," "," "," "," "," "," "," "," "," "," "," "," "," "," "," "," "," "," "," "," "," "," "," "," "," "," "," "," "," "," "," "," "," "," "," "," "," "," "," "," "," "," "," "," "," "," "," "," "," "," "," "," "," "," "," "," "," "," "," "," "," "," "," "," "," "," "]
[null,{"$f":"Roster_Selection_Women!AB167&\" \" & \"V \"","v":"Mount Mercy University V "},{"$f":"Roster_Selection_Women!AD167","v":"11-250067"},{"$f":"Roster_Selection_Women!AE167","v":"Jaelle Hamman"},null,{"$f":"IF(ISERROR(Individual_Scores_Women_Var!E196), \" \", IF(Individual_Scores_Women_Var!E196 = \"Yes\", \"Yes\", \"  \"))","v":"  "}," "," "," "," "," "," "," "," "," "," "," "," "," "," "," "," "," "," "," "," "," "," "," "," "," "," "," "," "," "," "," "," "," "," "," "," "," "," "," "," "," "," "," "," "," "," "," "," "," "," "," "," "," "," "," "," "," "," "," "," "," "," "," "," "," "," "," "," "," "," "," "," "," "," "]
[null,{"$f":"Roster_Selection_Women!AB168&\" \" & \"V \"","v":"Mount Mercy University V "},{"$f":"Roster_Selection_Women!AD168","v":"7914-24176"},{"$f":"Roster_Selection_Women!AE168","v":"Jasmine Mckeel"},null,{"$f":"IF(ISERROR(Individual_Scores_Women_Var!E197), \" \", IF(Individual_Scores_Women_Var!E197 = \"Yes\", \"Yes\", \"  \"))","v":"Yes"}," "," "," "," "," "," "," "," "," "," "," "," "," "," "," "," "," "," "," "," "," "," "," "," "," "," "," "," "," "," "," "," "," "," "," "," "," "," "," "," "," "," "," "," "," "," "," "," "," "," "," "," "," "," "," "," "," "," "," "," "," "," "," "," "," "," "," "," "," "," "," "," "," "," "]
[null,{"$f":"Roster_Selection_Women!AB169&\" \" & \"V \"","v":"Mount Mercy University V "},{"$f":"Roster_Selection_Women!AD169","v":"11-60100"},{"$f":"Roster_Selection_Women!AE169","v":"Jenna Williams"},null,{"$f":"IF(ISERROR(Individual_Scores_Women_Var!E198), \" \", IF(Individual_Scores_Women_Var!E198 = \"Yes\", \"Yes\", \"  \"))","v":"  "}," "," "," "," "," "," "," "," "," "," "," "," "," "," "," "," "," "," "," "," "," "," "," "," "," "," "," "," "," "," "," "," "," "," "," "," "," "," "," "," "," "," "," "," "," "," "," "," "," "," "," "," "," "," "," "," "," "," "," "," "," "," "," "," "," "," "," "," "," "," "," "," "," "," "]
[null,{"$f":"Roster_Selection_Women!AB170&\" \" & \"V \"","v":"Mount Mercy University V "},{"$f":"Roster_Selection_Women!AD170","v":"11-507261"},{"$f":"Roster_Selection_Women!AE170","v":"Katrina McCarthy"},null,{"$f":"IF(ISERROR(Individual_Scores_Women_Var!E199), \" \", IF(Individual_Scores_Women_Var!E199 = \"Yes\", \"Yes\", \"  \"))","v":"Yes"}," "," "," "," "," "," "," "," "," "," "," "," "," "," "," "," "," "," "," "," "," "," "," "," "," "," "," "," "," "," "," "," "," "," "," "," "," "," "," "," "," "," "," "," "," "," "," "," "," "," "," "," "," "," "," "," "," "," "," "," "," "," "," "," "," "," "," "," "," "," "," "," "," "," "]
[null,{"$f":"Roster_Selection_Women!AB171&\" \" & \"V \"","v":"Mount Mercy University V "},{"$f":"Roster_Selection_Women!AD171","v":"5686-2091"},{"$f":"Roster_Selection_Women!AE171","v":"Mackenzie Ullian"},null,{"$f":"IF(ISERROR(Individual_Scores_Women_Var!E200), \" \", IF(Individual_Scores_Women_Var!E200 = \"Yes\", \"Yes\", \"  \"))","v":"  "}," "," "," "," "," "," "," "," "," "," "," "," "," "," "," "," "," "," "," "," "," "," "," "," "," "," "," "," "," "," "," "," "," "," "," "," "," "," "," "," "," "," "," "," "," "," "," "," "," "," "," "," "," "," "," "," "," "," "," "," "," "," "," "," "," "," "," "," "," "," "," "," "," "," "]
[null,{"$f":"Roster_Selection_Women!AB172&\" \" & \"V \"","v":"Mount Mercy University V "},{"$f":"Roster_Selection_Women!AD172","v":"5730-32265"},{"$f":"Roster_Selection_Women!AE172","v":"Megan Kolberg"},null,{"$f":"IF(ISERROR(Individual_Scores_Women_Var!E201), \" \", IF(Individual_Scores_Women_Var!E201 = \"Yes\", \"Yes\", \"  \"))","v":"  "}," "," "," "," "," "," "," "," "," "," "," "," "," "," "," "," "," "," "," "," "," "," "," "," "," "," "," "," "," "," "," "," "," "," "," "," "," "," "," "," "," "," "," "," "," "," "," "," "," "," "," "," "," "," "," "," "," "," "," "," "," "," "," "," "," "," "," "," "," "," "," "," "," "," "]
[null,"Mount Mercy University V",{"$f":"Individual_Scores_Women_Var!C202","v":""},{"$f":"Individual_Scores_Women_Var!D202","v":""},null,null," "," "," "," "," "," "," "," "," "," "," "," "," "," "," "," "," "," "," "," "," "," "," "," "," "," "," "," "," "," "," "," "," "," "," "," "," "," "," "," "," "," "," "," "," "," "," "," "," "," "," "," "," "," "," "," "," "," "," "," "," "," "," "," "," "," "," "," "," "," "," "," "," "," "]
[null,"Mount Mercy University V",{"$f":"Individual_Scores_Women_Var!C203","v":""},{"$f":"Individual_Scores_Women_Var!D203","v":""},null,null," "," "," "," "," "," "," "," "," "," "," "," "," "," "," "," "," "," "," "," "," "," "," "," "," "," "," "," "," "," "," "," "," "," "," "," "," "," "," "," "," "," "," "," "," "," "," "," "," "," "," "," "," "," "," "," "," "," "," "," "," "," "," "," "," "," "," "," "," "," "," "," "," "," "]
[null,"Mount Mercy University V",{"$f":"Individual_Scores_Women_Var!C204","v":""},{"$f":"Individual_Scores_Women_Var!D204","v":""},null,null," "," "," "," "," "," "," "," "," "," "," "," "," "," "," "," "," "," "," "," "," "," "," "," "," "," "," "," "," "," "," "," "," "," "," "," "," "," "," "," "," "," "," "," "," "," "," "," "," "," "," "," "," "," "," "," "," "," "," "," "," "," "," "," "," "," "," "," "," "," "," "," "," "," "]
[null," "," "," ",null,null," "," "," "," "," "," "," "," "," "," "," "," "," "," "," "," "," "," "," "," "," "," "," "," "," "," "," "," "," "," "," "," "," "," "," "," "," "," "," "," "," "," "," "," "," "," "," "," "," "," "," "," "," "," "," "," "," "," "," "," "," "," "," "," "," "," "," "," "," "," "," "," "," "," "]
[null," "," "," ",null,null," "," "," "," "," "," "," "," "," "," "," "," "," "," "," "," "," "," "," "," "," "," "," "," "," "," "," "," "," "," "," "," "," "," "," "," "," "," "," "," "," "," "," "," "," "," "," "," "," "," "," "," "," "," "," "," "," "," "," "," "," "," "," "," "," "," "," "," "," "," "," "," "," "," "]
[null,{"$f":"Roster_Selection_Women!AB184&\" \" & \"V \"","v":"Newman University V "},{"$f":"Roster_Selection_Women!AD184","v":"5900-25075"},{"$f":"Roster_Selection_Women!AE184","v":"Addyson Schiffelbein"},null,{"$f":"IF(ISERROR(Individual_Scores_Women_Var!E207), \" \", IF(Individual_Scores_Women_Var!E207 = \"Yes\", \"Yes\", \"  \"))","v":"  "},"Games",199.0,162.0,187.0,168.0,173.0,166.0,203.0,157.0,157.0,188.0,222.0,164.0,167.0,223.0,188.0,209.0,160.0,207.0,189.0,169.0,{"$f":"SUM(H207:AA207)","v":3658},{"$f":"COUNTIF(H207:AA207, \">0\" )","v":20},{"$f":"AB207/AC207","v":182.9}," "," "," "," "," "," "," "," "," "," "," "," "," "," "," "," "," "," "," "," "," "," "," "," "," "," "," "," "," "," "," "," "," "," "," "," "," "," "," "," "," "," "," "," "," "," "," "," "," "," "]
[null,{"$f":"Roster_Selection_Women!AB185&\" \" & \"V \"","v":"Newman University V "},{"$f":"Roster_Selection_Women!AD185","v":"11-618792"},{"$f":"Roster_Selection_Women!AE185","v":"Allison Szewczyk"},null,{"$f":"IF(ISERROR(Individual_Scores_Women_Var!E208), \" \", IF(Individual_Scores_Women_Var!E208 = \"Yes\", \"Yes\", \"  \"))","v":"  "}," "," "," "," "," "," "," "," "," "," "," "," "," "," "," "," "," "," "," "," "," "," "," "," "," "," "," "," "," "," "," "," "," "," "," "," "," "," "," "," "," "," "," "," "," "," "," "," "," "," "," "," "," "," "," "," "," "," "," "," "," "," "," "," "," "," "," "," "," "," "," "," "," "," "]
[null,{"$f":"Roster_Selection_Women!AB186&\" \" & \"V \"","v":"Newman University V "},{"$f":"Roster_Selection_Women!AD186","v":"11-53831"},{"$f":"Roster_Selection_Women!AE186","v":"Brylee Prockish"},null,{"$f":"IF(ISERROR(Individual_Scores_Women_Var!E209), \" \", IF(Individual_Scores_Women_Var!E209 = \"Yes\", \"Yes\", \"  \"))","v":"  "}," "," "," "," "," "," "," "," "," "," "," "," "," "," "," "," "," "," "," "," "," "," "," "," "," "," "," "," "," "," "," "," "," "," "," "," "," "," "," "," "," "," "," "," "," "," "," "," "," "," "," "," "," "," "," "," "," "," "," "," "," "," "," "," "," "," "," "," "," "," "," "," "," "," "]
[null,{"$f":"Roster_Selection_Women!AB187&\" \" & \"V \"","v":"Newman University V "},{"$f":"Roster_Selection_Women!AD187","v":"11-220191"},{"$f":"Roster_Selection_Women!AE187","v":"Dakota Lennen"},null,{"$f":"IF(ISERROR(Individual_Scores_Women_Var!E210), \" \", IF(Individual_Scores_Women_Var!E210 = \"Yes\", \"Yes\", \"  \"))","v":"  "}," "," "," "," "," "," "," "," "," "," "," "," "," "," "," "," "," "," "," "," "," "," "," "," "," "," "," "," "," "," "," "," "," "," "," "," "," "," "," "," "," "," "," "," "," "," "," "," "," "," "," "," "," "," "," "," "," "," "," "," "," "," "," "," "," "," "," "," "," "," "," "," "," "," "]
[null,{"$f":"Roster_Selection_Women!AB188&\" \" & \"V \"","v":"Newman University V "},{"$f":"Roster_Selection_Women!AD188","v":"11-379639"},{"$f":"Roster_Selection_Women!AE188","v":"Kassidy Miller"},null,{"$f":"IF(ISERROR(Individual_Scores_Women_Var!E211), \" \", IF(Individual_Scores_Women_Var!E211 = \"Yes\", \"Yes\", \"  \"))","v":"  "}," "," "," "," "," "," "," "," "," "," "," "," "," "," "," "," "," "," "," "," "," "," "," "," "," "," "," "," "," "," "," "," "," "," "," "," "," "," "," "," "," "," "," "," "," "," "," "," "," "," "," "," "," "," "," "," "," "," "," "," "," "," "," "," "," "," "," "," "," "," "," "," "," "," "]
[null,{"$f":"Roster_Selection_Women!AB189&\" \" & \"V \"","v":"Newman University V "},{"$f":"Roster_Selection_Women!AD189","v":"11-598856"},{"$f":"Roster_Selection_Women!AE189","v":"Kensley Morris"},null,{"$f":"IF(ISERROR(Individual_Scores_Women_Var!E212), \" \", IF(Individual_Scores_Women_Var!E212 = \"Yes\", \"Yes\", \"  \"))","v":"  "}," "," "," "," "," "," "," "," "," "," "," "," "," "," "," "," "," "," "," "," "," "," "," "," "," "," "," "," "," "," "," "," "," "," "," "," "," "," "," "," "," "," "," "," "," "," "," "," "," "," "," "," "," "," "," "," "," "," "," "," "," "," "," "," "," "," "," "," "," "," "," "," "," "," "]
[null,{"$f":"Roster_Selection_Women!AB190&\" \" & \"V \"","v":"Newman University V "},{"$f":"Roster_Selection_Women!AD190","v":"6825-6151"},{"$f":"Roster_Selection_Women!AE190","v":"Morgan Cooper"},null,{"$f":"IF(ISERROR(Individual_Scores_Women_Var!E213), \" \", IF(Individual_Scores_Women_Var!E213 = \"Yes\", \"Yes\", \"  \"))","v":"  "}," "," "," "," "," "," "," "," "," "," "," "," "," "," "," "," "," "," "," "," "," "," "," "," "," "," "," "," "," "," "," "," "," "," "," "," "," "," "," "," "," "," "," "," "," "," "," "," "," "," "," "," "," "," "," "," "," "," "," "," "," "," "," "," "," "," "," "," "," "," "," "," "," "," "]
[null,{"$f":"Roster_Selection_Women!AB191&\" \" & \"V \"","v":" V "},{"$f":"Roster_Selection_Women!AD191","v":""},{"$f":"Roster_Selection_Women!AE191","v":""},null,{"$f":"IF(ISERROR(Individual_Scores_Women_Var!E214), \" \", IF(Individual_Scores_Women_Var!E214 = \"Yes\", \"Yes\", \"  \"))","v":"  "}," "," "," "," "," "," "," "," "," "," "," "," "," "," "," "," "," "," "," "," "," "," "," "," "," "," "," "," "," "," "," "," "," "," "," "," "," "," "," "," "," "," "," "," "," "," "," "," "," "," "," "," "," "," "," "," "," "," "," "," "," "," "," "," "," "," "," "," "," "," "," "," "," "," "]
[null,"Newman University V",{"$f":"Individual_Scores_Women_Var!C215","v":""},{"$f":"Individual_Scores_Women_Var!D215","v":""},null,null," "," "," "," "," "," "," "," "," "," "," "," "," "," "," "," "," "," "," "," "," "," "," "," "," "," "," "," "," "," "," "," "," "," "," "," "," "," "," "," "," "," "," "," "," "," "," "," "," "," "," "," "," "," "," "," "," "," "," "," "," "," "," "," "," "," "," "," "," "," "," "," "," "," "]
[null,"Newman University V",{"$f":"Individual_Scores_Women_Var!C216","v":""},{"$f":"Individual_Scores_Women_Var!D216","v":""},null,null," "," "," "," "," "," "," "," "," "," "," "," "," "," "," "," "," "," "," "," "," "," "," "," "," "," "," "," "," "," "," "," "," "," "," "," "," "," "," "," "," "," "," "," "," "," "," "," "," "," "," "," "," "," "," "," "," "," "," "," "," "," "," "," "," "," "," "," "," "," "," "," "," "," "]
[null,"Newman University V",{"$f":"Individual_Scores_Women_Var!C217","v":""},{"$f":"Individual_Scores_Women_Var!D217","v":""},null,null," "," "," "," "," "," "," "," "," "," "," "," "," "," "," "," "," "," "," "," "," "," "," "," "," "," "," "," "," "," "," "," "," "," "," "," "," "," "," "," "," "," "," "," "," "," "," "," "," "," "," "," "," "," "," "," "," "," "," "," "," "," "," "," "," "," "," "," "," "," "," "," "," "," "]
[null," "," "," ",null,null," "," "," "," "," "," "," "," "," "," "," "," "," "," "," "," "," "," "," "," "," "," "," "," "," "," "," "," "," "," "," "," "," "," "," "," "," "," "," "," "," "," "," "," "," "," "," "," "," "," "," "," "," "," "," "," "," "," "," "," "," "," "," "," "," "," "," "," "," "," "," "," "," "," "]
[null," "," "," ",null,null," "," "," "," "," "," "," "," "," "," "," "," "," "," "," "," "," "," "," "," "," "," "," "," "," "," "," "," "," "," "," "," "," "," "," "," "," "," "," "," "," "," "," "," "," "," "," "," "," "," "," "," "," "," "," "," "," "," "," "," "," "," "," "," "," "," "," "," "," "," "," "," "," "," "]
[null,{"$f":"Roster_Selection_Women!AB197&\" \" & \"V \"","v":"Oklahoma Christian University V "},{"$f":"Roster_Selection_Women!AD197","v":"5730-33667"},{"$f":"Roster_Selection_Women!AE197","v":"Claire McDermott"},null,{"$f":"IF(ISERROR(Individual_Scores_Women_Var!E220), \" \", IF(Individual_Scores_Women_Var!E220 = \"Yes\", \"Yes\", \"  \"))","v":"  "},"Games",191.0,168.0,179.0,172.0,144.0,176.0,177.0,198.0,178.0,175.0,223.0,171.0,158.0,243.0,175.0,200.0,187.0,180.0,191.0,199.0,{"$f":"SUM(H220:AA220)","v":3685},{"$f":"COUNTIF(H220:AA220, \">0\" )","v":20},{"$f":"AB220/AC220","v":184.25}," "," "," "," "," "," "," "," "," "," "," "," "," "," "," "," "," "," "," "," "," "," "," "," "," "," "," "," "," "," "," "," "," "," "," "," "," "," "," "," "," "," "," "," "," "," "," "," "," "," "]
[null,{"$f":"Roster_Selection_Women!AB198&\" \" & \"V \"","v":"Oklahoma Christian University V "},{"$f":"Roster_Selection_Women!AD198","v":"11-398429"},{"$f":"Roster_Selection_Women!AE198","v":"Jaymie Burrow"},null,{"$f":"IF(ISERROR(Individual_Scores_Women_Var!E221), \" \", IF(Individual_Scores_Women_Var!E221 = \"Yes\", \"Yes\", \"  \"))","v":"  "}," "," "," "," "," "," "," "," "," "," "," "," "," "," "," "," "," "," "," "," "," "," "," "," "," "," "," "," "," "," "," "," "," "," "," "," "," "," "," "," "," "," "," "," "," "," "," "," "," "," "," "," "," "," "," "," "," "," "," "," "," "," "," "," "," "," "," "," "," "," "," "," "," "," "]
[null,{"$f":"Roster_Selection_Women!AB199&\" \" & \"V \"","v":"Oklahoma Christian University V "},{"$f":"Roster_Selection_Women!AD199","v":"11-28817"},{"$f":"Roster_Selection_Women!AE199","v":"Jordan Corbett"},null,{"$f":"IF(ISERROR(Individual_Scores_Women_Var!E222), \" \", IF(Individual_Scores_Women_Var!E222 = \"Yes\", \"Yes\", \"  \"))","v":"  "}," "," "," "," "," "," "," "," "," "," "," "," "," "," "," "," "," "," "," "," "," "," "," "," "," "," "," "," "," "," "," "," "," "," "," "," "," "," "," "," "," "," "," "," "," "," "," "," "," "," "," "," "," "," "," "," "," "," "," "," "," "," "," "," "," "," "," "," "," "," "," "," "," "," "]
[null,{"$f":"Roster_Selection_Women!AB200&\" \" & \"V \"","v":"Oklahoma Christian University V "},{"$f":"Roster_Selection_Women!AD200","v":"11-43023"},{"$f":"Roster_Selection_Women!AE200","v":"Kaylee Back"},null,{"$f":"IF(ISERROR(Individual_Scores_Women_Var!E223), \" \", IF(Individual_Scores_Women_Var!E223 = \"Yes\", \"Yes\", \"  \"))","v":"  "}," "," "," "," "," "," "," "," "," "," "," "," "," "," "," "," "," "," "," "," "," "," "," "," "," "," "," "," "," "," "," "," "," "," "," "," "," "," "," "," "," "," "," "," "," "," "," "," "," "," "," "," "," "," "," "," "," "," "," "," "," "," "," "," "," "," "," "," "," "," "," "," "," "," "]
[null,{"$f":"Roster_Selection_Women!AB201&\" \" & \"V \"","v":"Oklahoma Christian University V "},{"$f":"Roster_Selection_Women!AD201","v":"15-103226"},{"$f":"Roster_Selection_Women!AE201","v":"Morgan Pelkie"},null,{"$f":"IF(ISERROR(Individual_Scores_Women_Var!E224), \" \", IF(Individual_Scores_Women_Var!E224 = \"Yes\", \"Yes\", \"  \"))","v":"  "}," "," "," "," "," "," "," "," "," "," "," "," "," "," "," "," "," "," "," "," "," "," "," "," "," "," "," "," "," "," "," "," "," "," "," "," "," "," "," "," "," "," "," "," "," "," "," "," "," "," "," "," "," "," "," "," "," "," "," "," "," "," "," "," "," "," "," "," "," "," "," "," "," "," "]
[null,{"$f":"Roster_Selection_Women!AB202&\" \" & \"V \"","v":"Oklahoma Christian University V "},{"$f":"Roster_Selection_Women!AD202","v":"11-46016"},{"$f":"Roster_Selection_Women!AE202","v":"Shelby Davis"},null,{"$f":"IF(ISERROR(Individual_Scores_Women_Var!E225), \" \", IF(Individual_Scores_Women_Var!E225 = \"Yes\", \"Yes\", \"  \"))","v":"  "}," "," "," "," "," "," "," "," "," "," "," "," "," "," "," "," "," "," "," "," "," "," "," "," "," "," "," "," "," "," "," "," "," "," "," "," "," "," "," "," "," "," "," "," "," "," "," "," "," "," "," "," "," "," "," "," "," "," "," "," "," "," "," "," "," "," "," "," "," "," "," "," "," "," "]
[null,{"$f":"Roster_Selection_Women!AB203&\" \" & \"V \"","v":"Oklahoma Christian University V "},{"$f":"Roster_Selection_Women!AD203","v":"11-317463"},{"$f":"Roster_Selection_Women!AE203","v":"Tori Justice"},null,{"$f":"IF(ISERROR(Individual_Scores_Women_Var!E226), \" \", IF(Individual_Scores_Women_Var!E226 = \"Yes\", \"Yes\", \"  \"))","v":"  "}," "," "," "," "," "," "," "," "," "," "," "," "," "," "," "," "," "," "," "," "," "," "," "," "," "," "," "," "," "," "," "," "," "," "," "," "," "," "," "," "," "," "," "," "," "," "," "," "," "," "," "," "," "," "," "," "," "," "," "," "," "," "," "," "," "," "," "," "," "," "," "," "," "," "]
[null,{"$f":"Roster_Selection_Women!AB204&\" \" & \"V \"","v":" V "},{"$f":"Roster_Selection_Women!AD204","v":""},{"$f":"Roster_Selection_Women!AE204","v":""},null,{"$f":"IF(ISERROR(Individual_Scores_Women_Var!E227), \" \", IF(Individual_Scores_Women_Var!E227 = \"Yes\", \"Yes\", \"  \"))","v":"  "}," "," "," "," "," "," "," "," "," "," "," "," "," "," "," "," "," "," "," "," "," "," "," "," "," "," "," "," "," "," "," "," "," "," "," "," "," "," "," "," "," "," "," "," "," "," "," "," "," "," "," "," "," "," "," "," "," "," "," "," "," "," "," "," "," "," "," "," "," "," "," "," "," "," "]
[null,"Oklahoma Christian University V",{"$f":"Individual_Scores_Women_Var!C228","v":""},{"$f":"Individual_Scores_Women_Var!D228","v":""},null,null," "," "," "," "," "," "," "," "," "," "," "," "," "," "," "," "," "," "," "," "," "," "," "," "," "," "," "," "," "," "," "," "," "," "," "," "," "," "," "," "," "," "," "," "," "," "," "," "," "," "," "," "," "," "," "," "," "," "," "," "," "," "," "," "," "," "," "," "," "," "," "," "," "," "]
[null,"Oklahoma Christian University V",{"$f":"Individual_Scores_Women_Var!C229","v":""},{"$f":"Individual_Scores_Women_Var!D229","v":""},null,null," "," "," "," "," "," "," "," "," "," "," "," "," "," "," "," "," "," "," "," "," "," "," "," "," "," "," "," "," "," "," "," "," "," "," "," "," "," "," "," "," "," "," "," "," "," "," "," "," "," "," "," "," "," "," "," "," "," "," "," "," "," "," "," "," "," "," "," "," "," "," "," "," "," "]
[null,"Oklahoma Christian University V",{"$f":"Individual_Scores_Women_Var!C230","v":""},{"$f":"Individual_Scores_Women_Var!D230","v":""},null,null," "," "," "," "," "," "," "," "," "," "," "," "," "," "," "," "," "," "," "," "," "," "," "," "," "," "," "," "," "," "," "," "," "," "," "," "," "," "," "," "," "," "," "," "," "," "," "," "," "," "," "," "," "," "," "," "," "," "," "," "," "," "," "," "," "," "," "," "," "," "," "," "," "," "]
[null," "," "," ",null,null," "," "," "," "," "," "," "," "," "," "," "," "," "," "," "," "," "," "," "," "," "," "," "," "," "," "," "," "," "," "," "," "," "," "," "," "," "," "," "," "," "," "," "," "," "," "," "," "," "," "," "," "," "," "," "," "," "," "," "," "," "," "," "," "," "," "," "," "," "," "," "," "," "," "]
[null," "," "," ",null,null," "," "," "," "," "," "," "," "," "," "," "," "," "," "," "," "," "," "," "," "," "," "," "," "," "," "," "," "," "," "," "," "," "," "," "," "," "," "," "," "," "," "," "," "," "," "," "," "," "," "," "," "," "," "," "," "," "," "," "," "," "," "," "," "," "," "," "," "," "," "," "," "," "," "]
[null,{"$f":"Roster_Selection_Women!AB213&\" \" & \"V \"","v":"Ottawa University (KS) V "},{"$f":"Roster_Selection_Women!AD213","v":"8599-50647"},{"$f":"Roster_Selection_Women!AE213","v":"Alaina Burris"},null,{"$f":"IF(ISERROR(Individual_Scores_Women_Var!E233), \" \", IF(Individual_Scores_Women_Var!E233 = \"Yes\", \"Yes\", \"  \"))","v":"  "},"Games",147.0,168.0,188.0,163.0,201.0,169.0,172.0,167.0,155.0,177.0,185.0,218.0,193.0,209.0,148.0,174.0,138.0,179.0,175.0,176.0,{"$f":"SUM(H233:AA233)","v":3502},{"$f":"COUNTIF(H233:AA233, \">0\" )","v":20},{"$f":"AB233/AC233","v":175.1}," "," "," "," "," "," "," "," "," "," "," "," "," "," "," "," "," "," "," "," "," "," "," "," "," "," "," "," "," "," "," "," "," "," "," "," "," "," "," "," "," "," "," "," "," "," "," "," "," "," "]
[null,{"$f":"Roster_Selection_Women!AB214&\" \" & \"V \"","v":"Ottawa University (KS) V "},{"$f":"Roster_Selection_Women!AD214","v":"6445-89"},{"$f":"Roster_Selection_Women!AE214","v":"Danika Hickey"},null,{"$f":"IF(ISERROR(Individual_Scores_Women_Var!E234), \" \", IF(Individual_Scores_Women_Var!E234 = \"Yes\", \"Yes\", \"  \"))","v":"  "}," "," "," "," "," "," "," "," "," "," "," "," "," "," "," "," "," "," "," "," "," "," "," "," "," "," "," "," "," "," "," "," "," "," "," "," "," "," "," "," "," "," "," "," "," "," "," "," "," "," "," "," "," "," "," "," "," "," "," "," "," "," "," "," "," "," "," "," "," "," "," "," "," "," "]
[null,{"$f":"Roster_Selection_Women!AB215&\" \" & \"V \"","v":"Ottawa University (KS) V "},{"$f":"Roster_Selection_Women!AD215","v":"11-241897"},{"$f":"Roster_Selection_Women!AE215","v":"Gabriella Hernandez"},null,{"$f":"IF(ISERROR(Individual_Scores_Women_Var!E235), \" \", IF(Individual_Scores_Women_Var!E235 = \"Yes\", \"Yes\", \"  \"))","v":"  "}," "," "," "," "," "," "," "," "," "," "," "," "," "," "," "," "," "," "," "," "," "," "," "," "," "," "," "," "," "," "," "," "," "," "," "," "," "," "," "," "," "," "," "," "," "," "," "," "," "," "," "," "," "," "," "," "," "," "," "," "," "," "," "," "," "," "," "," "," "," "," "," "," "," "]
[null,{"$f":"Roster_Selection_Women!AB216&\" \" & \"V \"","v":"Ottawa University (KS) V "},{"$f":"Roster_Selection_Women!AD216","v":"11-188358"},{"$f":"Roster_Selection_Women!AE216","v":"Holly Bridges"},null,{"$f":"IF(ISERROR(Individual_Scores_Women_Var!E236), \" \", IF(Individual_Scores_Women_Var!E236 = \"Yes\", \"Yes\", \"  \"))","v":"  "}," "," "," "," "," "," "," "," "," "," "," "," "," "," "," "," "," "," "," "," "," "," "," "," "," "," "," "," "," "," "," "," "," "," "," "," "," "," "," "," "," "," "," "," "," "," "," "," "," "," "," "," "," "," "," "," "," "," "," "," "," "," "," "," "," "," "," "," "," "," "," "," "," "," "]
[null,{"$f":"Roster_Selection_Women!AB217&\" \" & \"V \"","v":"Ottawa University (KS) V "},{"$f":"Roster_Selection_Women!AD217","v":"5900-26985"},{"$f":"Roster_Selection_Women!AE217","v":"Jadyn Barr"},null,{"$f":"IF(ISERROR(Individual_Scores_Women_Var!E237), \" \", IF(Individual_Scores_Women_Var!E237 = \"Yes\", \"Yes\", \"  \"))","v":"  "}," "," "," "," "," "," "," "," "," "," "," "," "," "," "," "," "," "," "," "," "," "," "," "," "," "," "," "," "," "," "," "," "," "," "," "," "," "," "," "," "," "," "," "," "," "," "," "," "," "," "," "," "," "," "," "," "," "," "," "," "," "," "," "," "," "," "," "," "," "," "," "," "," "," "]
[null,{"$f":"Roster_Selection_Women!AB218&\" \" & \"V \"","v":"Ottawa University (KS) V "},{"$f":"Roster_Selection_Women!AD218","v":"6739-5352"},{"$f":"Roster_Selection_Women!AE218","v":"Kaitlyn George"},null,{"$f":"IF(ISERROR(Individual_Scores_Women_Var!E238), \" \", IF(Individual_Scores_Women_Var!E238 = \"Yes\", \"Yes\", \"  \"))","v":"  "}," "," "," "," "," "," "," "," "," "," "," "," "," "," "," "," "," "," "," "," "," "," "," "," "," "," "," "," "," "," "," "," "," "," "," "," "," "," "," "," "," "," "," "," "," "," "," "," "," "," "," "," "," "," "," "," "," "," "," "," "," "," "," "," "," "," "," "," "," "," "," "," "," "," "]
[null,{"$f":"Roster_Selection_Women!AB219&\" \" & \"V \"","v":"Ottawa University (KS) V "},{"$f":"Roster_Selection_Women!AD219","v":"11-706801"},{"$f":"Roster_Selection_Women!AE219","v":"Rebekah Loker"},null,{"$f":"IF(ISERROR(Individual_Scores_Women_Var!E239), \" \", IF(Individual_Scores_Women_Var!E239 = \"Yes\", \"Yes\", \"  \"))","v":"  "}," "," "," "," "," "," "," "," "," "," "," "," "," "," "," "," "," "," "," "," "," "," "," "," "," "," "," "," "," "," "," "," "," "," "," "," "," "," "," "," "," "," "," "," "," "," "," "," "," "," "," "," "," "," "," "," "," "," "," "," "," "," "," "," "," "," "," "," "," "," "," "," "," "," "]
[null,{"$f":"Roster_Selection_Women!AB220&\" \" & \"V \"","v":" V "},{"$f":"Roster_Selection_Women!AD220","v":""},{"$f":"Roster_Selection_Women!AE220","v":""},null,{"$f":"IF(ISERROR(Individual_Scores_Women_Var!E240), \" \", IF(Individual_Scores_Women_Var!E240 = \"Yes\", \"Yes\", \"  \"))","v":"  "}," "," "," "," "," "," "," "," "," "," "," "," "," "," "," "," "," "," "," "," "," "," "," "," "," "," "," "," "," "," "," "," "," "," "," "," "," "," "," "," "," "," "," "," "," "," "," "," "," "," "," "," "," "," "," "," "," "," "," "," "," "," "," "," "," "," "," "," "," "," "," "," "," "," "]
[null,"Ottawa University (KS) V",{"$f":"Individual_Scores_Women_Var!C241","v":""},{"$f":"Individual_Scores_Women_Var!D241","v":""},null,null," "," "," "," "," "," "," "," "," "," "," "," "," "," "," "," "," "," "," "," "," "," "," "," "," "," "," "," "," "," "," "," "," "," "," "," "," "," "," "," "," "," "," "," "," "," "," "," "," "," "," "," "," "," "," "," "," "," "," "," "," "," "," "," "," "," "," "," "," "," "," "," "," "," "]
[null,"Ottawa University (KS) V",{"$f":"Individual_Scores_Women_Var!C242","v":""},{"$f":"Individual_Scores_Women_Var!D242","v":""},null,null," "," "," "," "," "," "," "," "," "," "," "," "," "," "," "," "," "," "," "," "," "," "," "," "," "," "," "," "," "," "," "," "," "," "," "," "," "," "," "," "," "," "," "," "," "," "," "," "," "," "," "," "," "," "," "," "," "," "," "," "," "," "," "," "," "," "," "," "," "," "," "," "," "," "]
[null,"Ottawa University (KS) V",{"$f":"Individual_Scores_Women_Var!C243","v":""},{"$f":"Individual_Scores_Women_Var!D243","v":""},null,null," "," "," "," "," "," "," "," "," "," "," "," "," "," "," "," "," "," "," "," "," "," "," "," "," "," "," "," "," "," "," "," "," "," "," "," "," "," "," "," "," "," "," "," "," "," "," "," "," "," "," "," "," "," "," "," "," "," "," "," "," "," "," "," "," "," "," "," "," "," "," "," "," "," "]
[null," "," "," ",null,null," "," "," "," "," "," "," "," "," "," "," "," "," "," "," "," "," "," "," "," "," "," "," "," "," "," "," "," "," "," "," "," "," "," "," "," "," "," "," "," "," "," "," "," "," "," "," "," "," "," "," "," "," "," "," "," "," "," "," "," "," "," "," "," "," "," "," "," "," "," "," "," "," "," "]
[null," "," "," ",null,null," "," "," "," "," "," "," "," "," "," "," "," "," "," "," "," "," "," "," "," "," "," "," "," "," "," "," "," "," "," "," "," "," "," "," "," "," "," "," "," "," "," "," "," "," "," "," "," "," "," "," "," "," "," "," "," "," "," "," "," "," "," "," "," "," "," "," "," "," "," "," "," "," "," "]
[null,{"$f":"Roster_Selection_Women!AB227&\" \" & \"V \"","v":"Peru State College V "},{"$f":"Roster_Selection_Women!AD227","v":"11-378089"},{"$f":"Roster_Selection_Women!AE227","v":"Aleia Crandall"},null,{"$f":"IF(ISERROR(Individual_Scores_Women_Var!E246), \" \", IF(Individual_Scores_Women_Var!E246 = \"Yes\", \"Yes\", \"  \"))","v":"  "},"Games",136.0,150.0,162.0,143.0,117.0,153.0,212.0,160.0,179.0,144.0,156.0,151.0,156.0,155.0,167.0,178.0,160.0,181.0,189.0,134.0,{"$f":"SUM(H246:AA246)","v":3183},{"$f":"COUNTIF(H246:AA246, \">0\" )","v":20},{"$f":"AB246/AC246","v":159.15}," "," "," "," "," "," "," "," "," "," "," "," "," "," "," "," "," "," "," "," "," "," "," "," "," "," "," "," "," "," "," "," "," "," "," "," "," "," "," "," "," "," "," "," "," "," "," "," "," "," "]
[null,{"$f":"Roster_Selection_Women!AB228&\" \" & \"V \"","v":"Peru State College V "},{"$f":"Roster_Selection_Women!AD228","v":"5900-25720"},{"$f":"Roster_Selection_Women!AE228","v":"Casey Feast"},null,{"$f":"IF(ISERROR(Individual_Scores_Women_Var!E247), \" \", IF(Individual_Scores_Women_Var!E247 = \"Yes\", \"Yes\", \"  \"))","v":"  "}," "," "," "," "," "," "," "," "," "," "," "," "," "," "," "," "," "," "," "," "," "," "," "," "," "," "," "," "," "," "," "," "," "," "," "," "," "," "," "," "," "," "," "," "," "," "," "," "," "," "," "," "," "," "," "," "," "," "," "," "," "," "," "," "," "," "," "," "," "," "," "," "," "," "]
[null,{"$f":"Roster_Selection_Women!AB229&\" \" & \"V \"","v":"Peru State College V "},{"$f":"Roster_Selection_Women!AD229","v":"18-15133"},{"$f":"Roster_Selection_Women!AE229","v":"Kaitlyn Doyal"},null,{"$f":"IF(ISERROR(Individual_Scores_Women_Var!E248), \" \", IF(Individual_Scores_Women_Var!E248 = \"Yes\", \"Yes\", \"  \"))","v":"  "}," "," "," "," "," "," "," "," "," "," "," "," "," "," "," "," "," "," "," "," "," "," "," "," "," "," "," "," "," "," "," "," "," "," "," "," "," "," "," "," "," "," "," "," "," "," "," "," "," "," "," "," "," "," "," "," "," "," "," "," "," "," "," "," "," "," "," "," "," "," "," "," "," "," "]
[null,{"$f":"Roster_Selection_Women!AB230&\" \" & \"V \"","v":"Peru State College V "},{"$f":"Roster_Selection_Women!AD230","v":"11-383207"},{"$f":"Roster_Selection_Women!AE230","v":"Kassidy Haberman"},null,{"$f":"IF(ISERROR(Individual_Scores_Women_Var!E249), \" \", IF(Individual_Scores_Women_Var!E249 = \"Yes\", \"Yes\", \"  \"))","v":"  "}," "," "," "," "," "," "," "," "," "," "," "," "," "," "," "," "," "," "," "," "," "," "," "," "," "," "," "," "," "," "," "," "," "," "," "," "," "," "," "," "," "," "," "," "," "," "," "," "," "," "," "," "," "," "," "," "," "," "," "," "," "," "," "," "," "," "," "," "," "," "," "," "," "," "]
[null,{"$f":"Roster_Selection_Women!AB231&\" \" & \"V \"","v":"Peru State College V "},{"$f":"Roster_Selection_Women!AD231","v":"5900-27999"},{"$f":"Roster_Selection_Women!AE231","v":"McKinley Cross"},null,{"$f":"IF(ISERROR(Individual_Scores_Women_Var!E250), \" \", IF(Individual_Scores_Women_Var!E250 = \"Yes\", \"Yes\", \"  \"))","v":"  "}," "," "," "," "," "," "," "," "," "," "," "," "," "," "," "," "," "," "," "," "," "," "," "," "," "," "," "," "," "," "," "," "," "," "," "," "," "," "," "," "," "," "," "," "," "," "," "," "," "," "," "," "," "," "," "," "," "," "," "," "," "," "," "," "," "," "," "," "," "," "," "," "," "," "]
[null,{"$f":"Roster_Selection_Women!AB232&\" \" & \"V \"","v":" V "},{"$f":"Roster_Selection_Women!AD232","v":""},{"$f":"Roster_Selection_Women!AE232","v":""},null,{"$f":"IF(ISERROR(Individual_Scores_Women_Var!E251), \" \", IF(Individual_Scores_Women_Var!E251 = \"Yes\", \"Yes\", \"  \"))","v":"  "}," "," "," "," "," "," "," "," "," "," "," "," "," "," "," "," "," "," "," "," "," "," "," "," "," "," "," "," "," "," "," "," "," "," "," "," "," "," "," "," "," "," "," "," "," "," "," "," "," "," "," "," "," "," "," "," "," "," "," "," "," "," "," "," "," "," "," "," "," "," "," "," "," "," "]
[null,{"$f":"Roster_Selection_Women!AB233&\" \" & \"V \"","v":" V "},{"$f":"Roster_Selection_Women!AD233","v":""},{"$f":"Roster_Selection_Women!AE233","v":""},null,{"$f":"IF(ISERROR(Individual_Scores_Women_Var!E252), \" \", IF(Individual_Scores_Women_Var!E252 = \"Yes\", \"Yes\", \"  \"))","v":"  "}," "," "," "," "," "," "," "," "," "," "," "," "," "," "," "," "," "," "," "," "," "," "," "," "," "," "," "," "," "," "," "," "," "," "," "," "," "," "," "," "," "," "," "," "," "," "," "," "," "," "," "," "," "," "," "," "," "," "," "," "," "," "," "," "," "," "," "," "," "," "," "," "," "," "]
[null,{"$f":"Roster_Selection_Women!AB234&\" \" & \"V \"","v":" V "},{"$f":"Roster_Selection_Women!AD234","v":""},{"$f":"Roster_Selection_Women!AE234","v":""},null,{"$f":"IF(ISERROR(Individual_Scores_Women_Var!E253), \" \", IF(Individual_Scores_Women_Var!E253 = \"Yes\", \"Yes\", \"  \"))","v":"  "}," "," "," "," "," "," "," "," "," "," "," "," "," "," "," "," "," "," "," "," "," "," "," "," "," "," "," "," "," "," "," "," "," "," "," "," "," "," "," "," "," "," "," "," "," "," "," "," "," "," "," "," "," "," "," "," "," "," "," "," "," "," "," "," "," "," "," "," "," "," "," "," "," "," "]
[null,"Peru State College V",{"$f":"Individual_Scores_Women_Var!C254","v":""},{"$f":"Individual_Scores_Women_Var!D254","v":""},null,null," "," "," "," "," "," "," "," "," "," "," "," "," "," "," "," "," "," "," "," "," "," "," "," "," "," "," "," "," "," "," "," "," "," "," "," "," "," "," "," "," "," "," "," "," "," "," "," "," "," "," "," "," "," "," "," "," "," "," "," "," "," "," "," "," "," "," "," "," "," "," "," "," "," "]
[null,"Peru State College V",{"$f":"Individual_Scores_Women_Var!C255","v":""},{"$f":"Individual_Scores_Women_Var!D255","v":""},null,null," "," "," "," "," "," "," "," "," "," "," "," "," "," "," "," "," "," "," "," "," "," "," "," "," "," "," "," "," "," "," "," "," "," "," "," "," "," "," "," "," "," "," "," "," "," "," "," "," "," "," "," "," "," "," "," "," "," "," "," "," "," "," "," "," "," "," "," "," "," "," "," "," "," "]
[null,"Peru State College V",{"$f":"Individual_Scores_Women_Var!C256","v":""},{"$f":"Individual_Scores_Women_Var!D256","v":""},null,null," "," "," "," "," "," "," "," "," "," "," "," "," "," "," "," "," "," "," "," "," "," "," "," "," "," "," "," "," "," "," "," "," "," "," "," "," "," "," "," "," "," "," "," "," "," "," "," "," "," "," "," "," "," "," "," "," "," "," "," "," "," "," "," "," "," "," "," "," "," "," "," "," "," "]
[null," "," "," ",null,null," "," "," "," "," "," "," "," "," "," "," "," "," "," "," "," "," "," "," "," "," "," "," "," "," "," "," "," "," "," "," "," "," "," "," "," "," "," "," "," "," "," "," "," "," "," "," "," "," "," "," "," "," "," "," "," "," "," "," "," "," "," "," "," "," "," "," "," "," "," "," "," "," "," "]
[null," "," "," ",null,null," "," "," "," "," "," "," "," "," "," "," "," "," "," "," "," "," "," "," "," "," "," "," "," "," "," "," "," "," "," "," "," "," "," "," "," "," "," "," "," "," "," "," "," "," "," "," "," "," "," "," "," "," "," "," "," "," "," "," "," "," "," "," "," "," "," "," "," "," "," "," "," "," "," "]
[null,{"$f":"Roster_Selection_Women!AB242&\" \" & \"V \"","v":"St. Ambrose University V "},{"$f":"Roster_Selection_Women!AD242","v":"11-262998"},{"$f":"Roster_Selection_Women!AE242","v":"Amanda Bohn"},null,{"$f":"IF(ISERROR(Individual_Scores_Women_Var!E259), \" \", IF(Individual_Scores_Women_Var!E259 = \"Yes\", \"Yes\", \"  \"))","v":"  "},"Games",220.0,185.0,195.0,152.0,153.0,176.0,224.0,206.0,135.0,186.0,186.0,171.0,228.0,199.0,211.0,160.0,157.0,211.0,174.0,225.0,{"$f":"SUM(H259:AA259)","v":3754},{"$f":"COUNTIF(H259:AA259, \">0\" )","v":20},{"$f":"AB259/AC259","v":187.7}," "," "," "," "," "," "," "," "," "," "," "," "," "," "," "," "," "," "," "," "," "," "," "," "," "," "," "," "," "," "," "," "," "," "," "," "," "," "," "," "," "," "," "," "," "," "," "," "," "," "]
[null,{"$f":"Roster_Selection_Women!AB243&\" \" & \"V \"","v":"St. Ambrose University V "},{"$f":"Roster_Selection_Women!AD243","v":"5712-1060"},{"$f":"Roster_Selection_Women!AE243","v":"Bailey Tripilas"},null,{"$f":"IF(ISERROR(Individual_Scores_Women_Var!E260), \" \", IF(Individual_Scores_Women_Var!E260 = \"Yes\", \"Yes\", \"  \"))","v":"  "}," "," "," "," "," "," "," "," "," "," "," "," "," "," "," "," "," "," "," "," "," "," "," "," "," "," "," "," "," "," "," "," "," "," "," "," "," "," "," "," "," "," "," "," "," "," "," "," "," "," "," "," "," "," "," "," "," "," "," "," "," "," "," "," "," "," "," "," "," "," "," "," "," "," "]
[null,{"$f":"Roster_Selection_Women!AB244&\" \" & \"V \"","v":"St. Ambrose University V "},{"$f":"Roster_Selection_Women!AD244","v":"11-55640"},{"$f":"Roster_Selection_Women!AE244","v":"Erin Williams"},null,{"$f":"IF(ISERROR(Individual_Scores_Women_Var!E261), \" \", IF(Individual_Scores_Women_Var!E261 = \"Yes\", \"Yes\", \"  \"))","v":"  "}," "," "," "," "," "," "," "," "," "," "," "," "," "," "," "," "," "," "," "," "," "," "," "," "," "," "," "," "," "," "," "," "," "," "," "," "," "," "," "," "," "," "," "," "," "," "," "," "," "," "," "," "," "," "," "," "," "," "," "," "," "," "," "," "," "," "," "," "," "," "," "," "," "," "]
[null,{"$f":"Roster_Selection_Women!AB245&\" \" & \"V \"","v":"St. Ambrose University V "},{"$f":"Roster_Selection_Women!AD245","v":"11-421693"},{"$f":"Roster_Selection_Women!AE245","v":"Kayla Devine"},null,{"$f":"IF(ISERROR(Individual_Scores_Women_Var!E262), \" \", IF(Individual_Scores_Women_Var!E262 = \"Yes\", \"Yes\", \"  \"))","v":"  "}," "," "," "," "," "," "," "," "," "," "," "," "," "," "," "," "," "," "," "," "," "," "," "," "," "," "," "," "," "," "," "," "," "," "," "," "," "," "," "," "," "," "," "," "," "," "," "," "," "," "," "," "," "," "," "," "," "," "," "," "," "," "," "," "," "," "," "," "," "," "," "," "," "," "]
[null,{"$f":"Roster_Selection_Women!AB246&\" \" & \"V \"","v":"St. Ambrose University V "},{"$f":"Roster_Selection_Women!AD246","v":"11-265628"},{"$f":"Roster_Selection_Women!AE246","v":"Marissa Bills"},null,{"$f":"IF(ISERROR(Individual_Scores_Women_Var!E263), \" \", IF(Individual_Scores_Women_Var!E263 = \"Yes\", \"Yes\", \"  \"))","v":"  "}," "," "," "," "," "," "," "," "," "," "," "," "," "," "," "," "," "," "," "," "," "," "," "," "," "," "," "," "," "," "," "," "," "," "," "," "," "," "," "," "," "," "," "," "," "," "," "," "," "," "," "," "," "," "," "," "," "," "," "," "," "," "," "," "," "," "," "," "," "," "," "," "," "," "]
[null,{"$f":"Roster_Selection_Women!AB247&\" \" & \"V \"","v":"St. Ambrose University V "},{"$f":"Roster_Selection_Women!AD247","v":"6011-215"},{"$f":"Roster_Selection_Women!AE247","v":"Noelle Phillips"},null,{"$f":"IF(ISERROR(Individual_Scores_Women_Var!E264), \" \", IF(Individual_Scores_Women_Var!E264 = \"Yes\", \"Yes\", \"  \"))","v":"  "}," "," "," "," "," "," "," "," "," "," "," "," "," "," "," "," "," "," "," "," "," "," "," "," "," "," "," "," "," "," "," "," "," "," "," "," "," "," "," "," "," "," "," "," "," "," "," "," "," "," "," "," "," "," "," "," "," "," "," "," "," "," "," "," "," "," "," "," "," "," "," "," "," "," "]
[null,{"$f":"Roster_Selection_Women!AB248&\" \" & \"V \"","v":"St. Ambrose University V "},{"$f":"Roster_Selection_Women!AD248","v":"17-5653"},{"$f":"Roster_Selection_Women!AE248","v":"Patricia Alvarado"},null,{"$f":"IF(ISERROR(Individual_Scores_Women_Var!E265), \" \", IF(Individual_Scores_Women_Var!E265 = \"Yes\", \"Yes\", \"  \"))","v":"  "}," "," "," "," "," "," "," "," "," "," "," "," "," "," "," "," "," "," "," "," "," "," "," "," "," "," "," "," "," "," "," "," "," "," "," "," "," "," "," "," "," "," "," "," "," "," "," "," "," "," "," "," "," "," "," "," "," "," "," "," "," "," "," "," "," "," "," "," "," "," "," "," "," "," "]
[null,{"$f":"Roster_Selection_Women!AB249&\" \" & \"V \"","v":"St. Ambrose University V "},{"$f":"Roster_Selection_Women!AD249","v":"8611-9243"},{"$f":"Roster_Selection_Women!AE249","v":"Samantha (Sammy) Upham"},null,{"$f":"IF(ISERROR(Individual_Scores_Women_Var!E266), \" \", IF(Individual_Scores_Women_Var!E266 = \"Yes\", \"Yes\", \"  \"))","v":"  "}," "," "," "," "," "," "," "," "," "," "," "," "," "," "," "," "," "," "," "," "," "," "," "," "," "," "," "," "," "," "," "," "," "," "," "," "," "," "," "," "," "," "," "," "," "," "," "," "," "," "," "," "," "," "," "," "," "," "," "," "," "," "," "," "," "," "," "," "," "," "," "," "," "," "]
[null,"St. Ambrose University V",{"$f":"Individual_Scores_Women_Var!C267","v":""},{"$f":"Individual_Scores_Women_Var!D267","v":""},null,null," "," "," "," "," "," "," "," "," "," "," "," "," "," "," "," "," "," "," "," "," "," "," "," "," "," "," "," "," "," "," "," "," "," "," "," "," "," "," "," "," "," "," "," "," "," "," "," "," "," "," "," "," "," "," "," "," "," "," "," "," "," "," "," "," "," "," "," "," "," "," "," "," "," "]
[null,"St. Ambrose University V",{"$f":"Individual_Scores_Women_Var!C268","v":""},{"$f":"Individual_Scores_Women_Var!D268","v":""},null,null," "," "," "," "," "," "," "," "," "," "," "," "," "," "," "," "," "," "," "," "," "," "," "," "," "," "," "," "," "," "," "," "," "," "," "," "," "," "," "," "," "," "," "," "," "," "," "," "," "," "," "," "," "," "," "," "," "," "," "," "," "," "," "," "," "," "," "," "," "," "," "," "," "," "]
[null,"St. Ambrose University V",{"$f":"Individual_Scores_Women_Var!C269","v":""},{"$f":"Individual_Scores_Women_Var!D269","v":""},null,null," "," "," "," "," "," "," "," "," "," "," "," "," "," "," "," "," "," "," "," "," "," "," "," "," "," "," "," "," "," "," "," "," "," "," "," "," "," "," "," "," "," "," "," "," "," "," "," "," "," "," "," "," "," "," "," "," "," "," "," "," "," "," "," "," "," "," "," "," "," "," "," "," "," "]
[null," "," "," ",null,null," "," "," "," "," "," "," "," "," "," "," "," "," "," "," "," "," "," "," "," "," "," "," "," "," "," "," "," "," "," "," "," "," "," "," "," "," "," "," "," "," "," "," "," "," "," "," "," "," "," "," "," "," "," "," "," "," "," "," "," "," "," "," "," "," "," "," "," "," "," "," "," "," "," "]
[null," "," "," ",null,null," "," "," "," "," "," "," "," "," "," "," "," "," "," "," "," "," "," "," "," "," "," "," "," "," "," "," "," "," "," "," "," "," "," "," "," "," "," "," "," "," "," "," "," "," "," "," "," "," "," "," "," "," "," "," "," "," "," "," "," "," "," "," "," "," "," "," "," "," "," "," "," "," "," "]
[null,{"$f":"Roster_Selection_Women!AB262&\" \" & \"V \"","v":"University Of Saint Mary V "},{"$f":"Roster_Selection_Women!AD262","v":"11-444580"},{"$f":"Roster_Selection_Women!AE262","v":"Angel Cordero"},null,{"$f":"IF(ISERROR(Individual_Scores_Women_Var!E272), \" \", IF(Individual_Scores_Women_Var!E272 = \"Yes\", \"Yes\", \"  \"))","v":"  "},"Games",147.0,118.0,135.0,148.0,194.0,164.0,126.0,158.0,150.0,159.0,114.0,150.0,137.0,137.0,151.0,121.0,148.0,195.0,127.0,189.0,{"$f":"SUM(H272:AA272)","v":2968},{"$f":"COUNTIF(H272:AA272, \">0\" )","v":20},{"$f":"AB272/AC272","v":148.4}," "," "," "," "," "," "," "," "," "," "," "," "," "," "," "," "," "," "," "," "," "," "," "," "," "," "," "," "," "," "," "," "," "," "," "," "," "," "," "," "," "," "," "," "," "," "," "," "," "," "]
[null,{"$f":"Roster_Selection_Women!AB263&\" \" & \"V \"","v":"University Of Saint Mary V "},{"$f":"Roster_Selection_Women!AD263","v":"11-623384"},{"$f":"Roster_Selection_Women!AE263","v":"Brianna Hubenett"},null,{"$f":"IF(ISERROR(Individual_Scores_Women_Var!E273), \" \", IF(Individual_Scores_Women_Var!E273 = \"Yes\", \"Yes\", \"  \"))","v":"  "}," "," "," "," "," "," "," "," "," "," "," "," "," "," "," "," "," "," "," "," "," "," "," "," "," "," "," "," "," "," "," "," "," "," "," "," "," "," "," "," "," "," "," "," "," "," "," "," "," "," "," "," "," "," "," "," "," "," "," "," "," "," "," "," "," "," "," "," "," "," "," "," "," "," "]
[null,{"$f":"Roster_Selection_Women!AB264&\" \" & \"V \"","v":"University Of Saint Mary V "},{"$f":"Roster_Selection_Women!AD264","v":"17-57411"},{"$f":"Roster_Selection_Women!AE264","v":"Carmen Silva"},null,{"$f":"IF(ISERROR(Individual_Scores_Women_Var!E274), \" \", IF(Individual_Scores_Women_Var!E274 = \"Yes\", \"Yes\", \"  \"))","v":"  "}," "," "," "," "," "," "," "," "," "," "," "," "," "," "," "," "," "," "," "," "," "," "," "," "," "," "," "," "," "," "," "," "," "," "," "," "," "," "," "," "," "," "," "," "," "," "," "," "," "," "," "," "," "," "," "," "," "," "," "," "," "," "," "," "," "," "," "," "," "," "," "," "," "," "]
[null,{"$f":"Roster_Selection_Women!AB265&\" \" & \"V \"","v":"University Of Saint Mary V "},{"$f":"Roster_Selection_Women!AD265","v":"11-193245"},{"$f":"Roster_Selection_Women!AE265","v":"Jordan Reynolds"},null,{"$f":"IF(ISERROR(Individual_Scores_Women_Var!E275), \" \", IF(Individual_Scores_Women_Var!E275 = \"Yes\", \"Yes\", \"  \"))","v":"  "}," "," "," "," "," "," "," "," "," "," "," "," "," "," "," "," "," "," "," "," "," "," "," "," "," "," "," "," "," "," "," "," "," "," "," "," "," "," "," "," "," "," "," "," "," "," "," "," "," "," "," "," "," "," "," "," "," "," "," "," "," "," "," "," "," "," "," "," "," "," "," "," "," "," "]
[null,{"$f":"Roster_Selection_Women!AB266&\" \" & \"V \"","v":"University Of Saint Mary V "},{"$f":"Roster_Selection_Women!AD266","v":"21-79472"},{"$f":"Roster_Selection_Women!AE266","v":"Lola Moore"},null,{"$f":"IF(ISERROR(Individual_Scores_Women_Var!E276), \" \", IF(Individual_Scores_Women_Var!E276 = \"Yes\", \"Yes\", \"  \"))","v":"  "}," "," "," "," "," "," "," "," "," "," "," "," "," "," "," "," "," "," "," "," "," "," "," "," "," "," "," "," "," "," "," "," "," "," "," "," "," "," "," "," "," "," "," "," "," "," "," "," "," "," "," "," "," "," "," "," "," "," "," "," "," "," "," "," "," "," "," "," "," "," "," "," "," "," "]
[null,{"$f":"Roster_Selection_Women!AB267&\" \" & \"V \"","v":"University Of Saint Mary V "},{"$f":"Roster_Selection_Women!AD267","v":"18-98767"},{"$f":"Roster_Selection_Women!AE267","v":"Natalie Koehler"},null,{"$f":"IF(ISERROR(Individual_Scores_Women_Var!E277), \" \", IF(Individual_Scores_Women_Var!E277 = \"Yes\", \"Yes\", \"  \"))","v":"  "}," "," "," "," "," "," "," "," "," "," "," "," "," "," "," "," "," "," "," "," "," "," "," "," "," "," "," "," "," "," "," "," "," "," "," "," "," "," "," "," "," "," "," "," "," "," "," "," "," "," "," "," "," "," "," "," "," "," "," "," "," "," "," "," "," "," "," "," "," "," "," "," "," "," "]
[null,{"$f":"Roster_Selection_Women!AB268&\" \" & \"V \"","v":"University Of Saint Mary V "},{"$f":"Roster_Selection_Women!AD268","v":"21-472"},{"$f":"Roster_Selection_Women!AE268","v":"Oliva Helten"},null,{"$f":"IF(ISERROR(Individual_Scores_Women_Var!E278), \" \", IF(Individual_Scores_Women_Var!E278 = \"Yes\", \"Yes\", \"  \"))","v":"  "}," "," "," "," "," "," "," "," "," "," "," "," "," "," "," "," "," "," "," "," "," "," "," "," "," "," "," "," "," "," "," "," "," "," "," "," "," "," "," "," "," "," "," "," "," "," "," "," "," "," "," "," "," "," "," "," "," "," "," "," "," "," "," "," "," "," "," "," "," "," "," "," "," "," "]
[null,{"$f":"Roster_Selection_Women!AB269&\" \" & \"V \"","v":" V "},{"$f":"Roster_Selection_Women!AD269","v":""},{"$f":"Roster_Selection_Women!AE269","v":""},null,{"$f":"IF(ISERROR(Individual_Scores_Women_Var!E279), \" \", IF(Individual_Scores_Women_Var!E279 = \"Yes\", \"Yes\", \"  \"))","v":"  "}," "," "," "," "," "," "," "," "," "," "," "," "," "," "," "," "," "," "," "," "," "," "," "," "," "," "," "," "," "," "," "," "," "," "," "," "," "," "," "," "," "," "," "," "," "," "," "," "," "," "," "," "," "," "," "," "," "," "," "," "," "," "," "," "," "," "," "," "," "," "," "," "," "," "]
[null,"University Of Saint Mary V",{"$f":"Individual_Scores_Women_Var!C280","v":""},{"$f":"Individual_Scores_Women_Var!D280","v":""},null,null," "," "," "," "," "," "," "," "," "," "," "," "," "," "," "," "," "," "," "," "," "," "," "," "," "," "," "," "," "," "," "," "," "," "," "," "," "," "," "," "," "," "," "," "," "," "," "," "," "," "," "," "," "," "," "," "," "," "," "," "," "," "," "," "," "," "," "," "," "," "," "," "," "," "]
[null,"University Of Saint Mary V",{"$f":"Individual_Scores_Women_Var!C281","v":""},{"$f":"Individual_Scores_Women_Var!D281","v":""},null,null," "," "," "," "," "," "," "," "," "," "," "," "," "," "," "," "," "," "," "," "," "," "," "," "," "," "," "," "," "," "," "," "," "," "," "," "," "," "," "," "," "," "," "," "," "," "," "," "," "," "," "," "," "," "," "," "," "," "," "," "," "," "," "," "," "," "," "," "," "," "," "," "," "," "]
[null,"University Of Saint Mary V",{"$f":"Individual_Scores_Women_Var!C282","v":""},{"$f":"Individual_Scores_Women_Var!D282","v":""},null,null," "," "," "," "," "," "," "," "," "," "," "," "," "," "," "," "," "," "," "," "," "," "," "," "," "," "," "," "," "," "," "," "," "," "," "," "," "," "," "," "," "," "," "," "," "," "," "," "," "," "," "," "," "," "," "," "," "," "," "," "," "," "," "," "," "," "," "," "," "," "," "," "," "," "]
[null," "," "," ",null,null," "," "," "," "," "," "," "," "," "," "," "," "," "," "," "," "," "," "," "," "," "," "," "," "," "," "," "," "," "," "," "," "," "," "," "," "," "," "," "," "," "," "," "," "," "," "," "," "," "," "," "," "," "," "," "," "," "," "," "," "," "," "," "," "," "," "," "," "," "," "," "," "," "," "]
[null," "," "," ",null,null," "," "," "," "," "," "," "," "," "," "," "," "," "," "," "," "," "," "," "," "," "," "," "," "," "," "," "," "," "," "," "," "," "," "," "," "," "," "," "," "," "," "," "," "," "," "," "," "," "," "," "," "," "," "," "," "," "," "," "," "," "," "," "," "," "," "," "," "," "," "," "," "," "," "]
[null,{"$f":"Roster_Selection_Women!AB272&\" \" & \"V \"","v":"Waldorf University V "},{"$f":"Roster_Selection_Women!AD272","v":"7914-15599"},{"$f":"Roster_Selection_Women!AE272","v":"Adrianna Albert"},null,{"$f":"IF(ISERROR(Individual_Scores_Women_Var!E285), \" \", IF(Individual_Scores_Women_Var!E285 = \"Yes\", \"Yes\", \"  \"))","v":"  "},"Games",178.0,140.0,179.0,113.0,141.0,166.0,157.0,146.0,154.0,172.0,148.0,177.0,137.0,157.0,192.0,139.0,159.0,182.0,126.0,170.0,{"$f":"SUM(H285:AA285)","v":3133},{"$f":"COUNTIF(H285:AA285, \">0\" )","v":20},{"$f":"AB285/AC285","v":156.65}," "," "," "," "," "," "," "," "," "," "," "," "," "," "," "," "," "," "," "," "," "," "," "," "," "," "," "," "," "," "," "," "," "," "," "," "," "," "," "," "," "," "," "," "," "," "," "," "," "," "]
[null,{"$f":"Roster_Selection_Women!AB273&\" \" & \"V \"","v":"Waldorf University V "},{"$f":"Roster_Selection_Women!AD273","v":"21-5187"},{"$f":"Roster_Selection_Women!AE273","v":"Heather Viers"},null,{"$f":"IF(ISERROR(Individual_Scores_Women_Var!E286), \" \", IF(Individual_Scores_Women_Var!E286 = \"Yes\", \"Yes\", \"  \"))","v":"  "}," "," "," "," "," "," "," "," "," "," "," "," "," "," "," "," "," "," "," "," "," "," "," "," "," "," "," "," "," "," "," "," "," "," "," "," "," "," "," "," "," "," "," "," "," "," "," "," "," "," "," "," "," "," "," "," "," "," "," "," "," "," "," "," "," "," "," "," "," "," "," "," "," "," "]
[null,{"$f":"Roster_Selection_Women!AB274&\" \" & \"V \"","v":"Waldorf University V "},{"$f":"Roster_Selection_Women!AD274","v":"11-682764"},{"$f":"Roster_Selection_Women!AE274","v":"Madison Nowak"},null,{"$f":"IF(ISERROR(Individual_Scores_Women_Var!E287), \" \", IF(Individual_Scores_Women_Var!E287 = \"Yes\", \"Yes\", \"  \"))","v":"  "}," "," "," "," "," "," "," "," "," "," "," "," "," "," "," "," "," "," "," "," "," "," "," "," "," "," "," "," "," "," "," "," "," "," "," "," "," "," "," "," "," "," "," "," "," "," "," "," "," "," "," "," "," "," "," "," "," "," "," "," "," "," "," "," "," "," "," "," "," "," "," "," "," "," "]
[null,{"$f":"Roster_Selection_Women!AB275&\" \" & \"V \"","v":"Waldorf University V "},{"$f":"Roster_Selection_Women!AD275","v":"8731-2803"},{"$f":"Roster_Selection_Women!AE275","v":"Madison Singleton"},null,{"$f":"IF(ISERROR(Individual_Scores_Women_Var!E288), \" \", IF(Individual_Scores_Women_Var!E288 = \"Yes\", \"Yes\", \"  \"))","v":"  "}," "," "," "," "," "," "," "," "," "," "," "," "," "," "," "," "," "," "," "," "," "," "," "," "," "," "," "," "," "," "," "," "," "," "," "," "," "," "," "," "," "," "," "," "," "," "," "," "," "," "," "," "," "," "," "," "," "," "," "," "," "," "," "," "," "," "," "," "," "," "," "," "," "," "]
[null,{"$f":"Roster_Selection_Women!AB276&\" \" & \"V \"","v":"Waldorf University V "},{"$f":"Roster_Selection_Women!AD276","v":"11-436543"},{"$f":"Roster_Selection_Women!AE276","v":"Mara Schmitz"},null,{"$f":"IF(ISERROR(Individual_Scores_Women_Var!E289), \" \", IF(Individual_Scores_Women_Var!E289 = \"Yes\", \"Yes\", \"  \"))","v":"  "}," "," "," "," "," "," "," "," "," "," "," "," "," "," "," "," "," "," "," "," "," "," "," "," "," "," "," "," "," "," "," "," "," "," "," "," "," "," "," "," "," "," "," "," "," "," "," "," "," "," "," "," "," "," "," "," "," "," "," "," "," "," "," "," "," "," "," "," "," "," "," "," "," "," "]
[null,{"$f":"Roster_Selection_Women!AB277&\" \" & \"V \"","v":"Waldorf University V "},{"$f":"Roster_Selection_Women!AD277","v":"7914-13667"},{"$f":"Roster_Selection_Women!AE277","v":"Paige Harns"},null,{"$f":"IF(ISERROR(Individual_Scores_Women_Var!E290), \" \", IF(Individual_Scores_Women_Var!E290 = \"Yes\", \"Yes\", \"  \"))","v":"  "}," "," "," "," "," "," "," "," "," "," "," "," "," "," "," "," "," "," "," "," "," "," "," "," "," "," "," "," "," "," "," "," "," "," "," "," "," "," "," "," "," "," "," "," "," "," "," "," "," "," "," "," "," "," "," "," "," "," "," "," "," "," "," "," "," "," "," "," "," "," "," "," "," "," "]
[null,{"$f":"Roster_Selection_Women!AB278&\" \" & \"V \"","v":"Waldorf University V "},{"$f":"Roster_Selection_Women!AD278","v":"22-1356"},{"$f":"Roster_Selection_Women!AE278","v":"Paige Rands"},null,{"$f":"IF(ISERROR(Individual_Scores_Women_Var!E291), \" \", IF(Individual_Scores_Women_Var!E291 = \"Yes\", \"Yes\", \"  \"))","v":"  "}," "," "," "," "," "," "," "," "," "," "," "," "," "," "," "," "," "," "," "," "," "," "," "," "," "," "," "," "," "," "," "," "," "," "," "," "," "," "," "," "," "," "," "," "," "," "," "," "," "," "," "," "," "," "," "," "," "," "," "," "," "," "," "," "," "," "," "," "," "," "," "," "," "," "]
[null,{"$f":"Roster_Selection_Women!AB279&\" \" & \"V \"","v":"Waldorf University V "},{"$f":"Roster_Selection_Women!AD279","v":"11-148783"},{"$f":"Roster_Selection_Women!AE279","v":"Zoe Czapiewski"},null,{"$f":"IF(ISERROR(Individual_Scores_Women_Var!E292), \" \", IF(Individual_Scores_Women_Var!E292 = \"Yes\", \"Yes\", \"  \"))","v":"  "}," "," "," "," "," "," "," "," "," "," "," "," "," "," "," "," "," "," "," "," "," "," "," "," "," "," "," "," "," "," "," "," "," "," "," "," "," "," "," "," "," "," "," "," "," "," "," "," "," "," "," "," "," "," "," "," "," "," "," "," "," "," "," "," "," "," "," "," "," "," "," "," "," "," "]
[null,"Waldorf University V",{"$f":"Individual_Scores_Women_Var!C293","v":""},{"$f":"Individual_Scores_Women_Var!D293","v":""},null,null," "," "," "," "," "," "," "," "," "," "," "," "," "," "," "," "," "," "," "," "," "," "," "," "," "," "," "," "," "," "," "," "," "," "," "," "," "," "," "," "," "," "," "," "," "," "," "," "," "," "," "," "," "," "," "," "," "," "," "," "," "," "," "," "," "," "," "," "," "," "," "," "," "," "]
[null,"Waldorf University V",{"$f":"Individual_Scores_Women_Var!C294","v":""},{"$f":"Individual_Scores_Women_Var!D294","v":""},null,null," "," "," "," "," "," "," "," "," "," "," "," "," "," "," "," "," "," "," "," "," "," "," "," "," "," "," "," "," "," "," "," "," "," "," "," "," "," "," "," "," "," "," "," "," "," "," "," "," "," "," "," "," "," "," "," "," "," "," "," "," "," "," "," "," "," "," "," "," "," "," "," "," "," "]
[null,"Waldorf University V",{"$f":"Individual_Scores_Women_Var!C295","v":""},{"$f":"Individual_Scores_Women_Var!D295","v":""},null,null," "," "," "," "," "," "," "," "," "," "," "," "," "," "," "," "," "," "," "," "," "," "," "," "," "," "," "," "," "," "," "," "," "," "," "," "," "," "," "," "," "," "," "," "," "," "," "," "," "," "," "," "," "," "," "," "," "," "," "," "," "," "," "," "," "," "," "," "," "," "," "," "," "," "]
[null," "," "," ",null,null," "," "," "," "," "," "," "," "," "," "," "," "," "," "," "," "," "," "," "," "," "," "," "," "," "," "," "," "," "," "," "," "," "," "," "," "," "," "," "," "," "," "," "," "," "," "," "," "," "," "," "," "," "," "," "," "," "," "," "," "," "," "," "," "," "," "," "," "," "," "," "," "," "," "]
[null," "," "," ",null,null," "," "," "," "," "," "," "," "," "," "," "," "," "," "," "," "," "," "," "," "," "," "," "," "," "," "," "," "," "," "," "," "," "," "," "," "," "," "," "," "," "," "," "," "," "," "," "," "," "," "," "," "," "," "," "," "," "," "," "," "," "," "," "," "," "," "," "," "," "," "," "," "," "," "]
[null,{"$f":"Roster_Selection_Women!AB282&\" \" & \"V \"","v":"Wichita State University V "},{"$f":"Roster_Selection_Women!AD282","v":"11-236116"},{"$f":"Roster_Selection_Women!AE282","v":"Brooklyn Gagnon"},null,{"$f":"IF(ISERROR(Individual_Scores_Women_Var!E298), \" \", IF(Individual_Scores_Women_Var!E298 = \"Yes\", \"Yes\", \"  \"))","v":"  "},"Games",217.0,182.0,204.0,186.0,248.0,201.0,211.0,197.0,180.0,188.0,183.0,197.0,171.0,178.0,173.0,161.0,154.0,181.0,202.0,190.0,{"$f":"SUM(H298:AA298)","v":3804},{"$f":"COUNTIF(H298:AA298, \">0\" )","v":20},{"$f":"AB298/AC298","v":190.2}," "," "," "," "," "," "," "," "," "," "," "," "," "," "," "," "," "," "," "," "," "," "," "," "," "," "," "," "," "," "," "," "," "," "," "," "," "," "," "," "," "," "," "," "," "," "," "," "," "," "]
[null,{"$f":"Roster_Selection_Women!AB283&\" \" & \"V \"","v":"Wichita State University V "},{"$f":"Roster_Selection_Women!AD283","v":"11-264440"},{"$f":"Roster_Selection_Women!AE283","v":"Grace Ogle"},null,{"$f":"IF(ISERROR(Individual_Scores_Women_Var!E299), \" \", IF(Individual_Scores_Women_Var!E299 = \"Yes\", \"Yes\", \"  \"))","v":"Yes"}," "," "," "," "," "," "," "," "," "," "," "," "," "," "," "," "," "," "," "," "," "," "," "," "," "," "," "," "," "," "," "," "," "," "," "," "," "," "," "," "," "," "," "," "," "," "," "," "," "," "," "," "," "," "," "," "," "," "," "," "," "," "," "," "," "," "," "," "," "," "," "," "," "," "]
[null,{"$f":"Roster_Selection_Women!AB284&\" \" & \"V \"","v":"Wichita State University V "},{"$f":"Roster_Selection_Women!AD284","v":"21-636"},{"$f":"Roster_Selection_Women!AE284","v":"Juliana Botero"},null,{"$f":"IF(ISERROR(Individual_Scores_Women_Var!E300), \" \", IF(Individual_Scores_Women_Var!E300 = \"Yes\", \"Yes\", \"  \"))","v":"  "}," "," "," "," "," "," "," "," "," "," "," "," "," "," "," "," "," "," "," "," "," "," "," "," "," "," "," "," "," "," "," "," "," "," "," "," "," "," "," "," "," "," "," "," "," "," "," "," "," "," "," "," "," "," "," "," "," "," "," "," "," "," "," "," "," "," "," "," "," "," "," "," "," "," "]
[null,{"$f":"Roster_Selection_Women!AB285&\" \" & \"V \"","v":"Wichita State University V "},{"$f":"Roster_Selection_Women!AD285","v":"8649-30214"},{"$f":"Roster_Selection_Women!AE285","v":"Madison Janack"},null,{"$f":"IF(ISERROR(Individual_Scores_Women_Var!E301), \" \", IF(Individual_Scores_Women_Var!E301 = \"Yes\", \"Yes\", \"  \"))","v":"  "}]
[null,{"$f":"Roster_Selection_Women!AB286&\" \" & \"V \"","v":"Wichita State University V "},{"$f":"Roster_Selection_Women!AD286","v":"11-33225"},{"$f":"Roster_Selection_Women!AE286","v":"Mary Orf"},null,{"$f":"IF(ISERROR(Individual_Scores_Women_Var!E302), \" \", IF(Individual_Scores_Women_Var!E302 = \"Yes\", \"Yes\", \"  \"))","v":"  "}]
[null,{"$f":"Roster_Selection_Women!AB287&\" \" & \"V \"","v":"Wichita State University V "},{"$f":"Roster_Selection_Women!AD287","v":"11-113227"},{"$f":"Roster_Selection_Women!AE287","v":"Molly Marshall"},null,{"$f":"IF(ISERROR(Individual_Scores_Women_Var!E303), \" \", IF(Individual_Scores_Women_Var!E303 = \"Yes\", \"Yes\", \"  \"))","v":"Yes"}]
[null,{"$f":"Roster_Selection_Women!AB288&\" \" & \"V \"","v":"Wichita State University V "},{"$f":"Roster_Selection_Women!AD288","v":"6944-1256"},{"$f":"Roster_Selection_Women!AE288","v":"Olivia Komorowski"},null,{"$f":"IF(ISERROR(Individual_Scores_Women_Var!E304), \" \", IF(Individual_Scores_Women_Var!E304 = \"Yes\", \"Yes\", \"  \"))","v":"  "}]
[null,{"$f":"Roster_Selection_Women!AB289&\" \" & \"V \"","v":"Wichita State University V "},{"$f":"Roster_Selection_Women!AD289","v":"5900-26992"},{"$f":"Roster_Selection_Women!AE289","v":"Piper Reams"},null,{"$f":"IF(ISERROR(Individual_Scores_Women_Var!E305), \" \", IF(Individual_Scores_Women_Var!E305 = \"Yes\", \"Yes\", \"  \"))","v":"Yes"}]
[null,"Wichita State University V",{"$f":"Individual_Scores_Women_Var!C306","v":""},{"$f":"Individual_Scores_Women_Var!D306","v":""}]
[null,"Wichita State University V",{"$f":"Individual_Scores_Women_Var!C307","v":""},{"$f":"Individual_Scores_Women_Var!D307","v":""}]
[null,"Wichita State University V",{"$f":"Individual_Scores_Women_Var!C308","v":""},{"$f":"Individual_Scores_Women_Var!D308","v":""}]
[null," "," "," "]
[null," "," "," "]
[null,{"$f":"Roster_Selection_Women!AB297&\" \" & \"V \"","v":"William Penn University V "},{"$f":"Roster_Selection_Women!AD297","v":"7914-8979"},{"$f":"Roster_Selection_Women!AE297","v":"Alexis Lake"},null,{"$f":"IF(ISERROR(Individual_Scores_Women_Var!E311), \" \", IF(Individual_Scores_Women_Var!E311 = \"Yes\", \"Yes\", \"  \"))","v":"  "},"Games",204.0,226.0,174.0,178.0,223.0,178.0,174.0,206.0,189.0,199.0,175.0,180.0,179.0,140.0,180.0,159.0,177.0,155.0,226.0,176.0,{"$f":"SUM(H311:AA311)","v":3698},{"$f":"COUNTIF(H311:AA311, \">0\" )","v":20},{"$f":"AB311/AC311","v":184.9}]
[null,{"$f":"Roster_Selection_Women!AB298&\" \" & \"V \"","v":"William Penn University V "},{"$f":"Roster_Selection_Women!AD298","v":"11-33690"},{"$f":"Roster_Selection_Women!AE298","v":"Caitlin Radliff"},null,{"$f":"IF(ISERROR(Individual_Scores_Women_Var!E312), \" \", IF(Individual_Scores_Women_Var!E312 = \"Yes\", \"Yes\", \"  \"))","v":"  "}]
[null,{"$f":"Roster_Selection_Women!AB299&\" \" & \"V \"","v":"William Penn University V "},{"$f":"Roster_Selection_Women!AD299","v":"15-170867"},{"$f":"Roster_Selection_Women!AE299","v":"Cydnee Whiteleather"},null,{"$f":"IF(ISERROR(Individual_Scores_Women_Var!E313), \" \", IF(Individual_Scores_Women_Var!E313 = \"Yes\", \"Yes\", \"  \"))","v":"  "}]
[null,{"$f":"Roster_Selection_Women!AB300&\" \" & \"V \"","v":"William Penn University V "},{"$f":"Roster_Selection_Women!AD300","v":"11-35370"},{"$f":"Roster_Selection_Women!AE300","v":"Gabriella Evans"},null,{"$f":"IF(ISERROR(Individual_Scores_Women_Var!E314), \" \", IF(Individual_Scores_Women_Var!E314 = \"Yes\", \"Yes\", \"  \"))","v":"  "}]
[null,{"$f":"Roster_Selection_Women!AB301&\" \" & \"V \"","v":"William Penn University V "},{"$f":"Roster_Selection_Women!AD301","v":"11-239533"},{"$f":"Roster_Selection_Women!AE301","v":"Isabel Diaz"},null,{"$f":"IF(ISERROR(Individual_Scores_Women_Var!E315), \" \", IF(Individual_Scores_Women_Var!E315 = \"Yes\", \"Yes\", \"  \"))","v":"  "}]
[null,{"$f":"Roster_Selection_Women!AB302&\" \" & \"V \"","v":"William Penn University V "},{"$f":"Roster_Selection_Women!AD302","v":"19-78537"},{"$f":"Roster_Selection_Women!AE302","v":"Kelcey Aczon-Kawamura"},null,{"$f":"IF(ISERROR(Individual_Scores_Women_Var!E316), \" \", IF(Individual_Scores_Women_Var!E316 = \"Yes\", \"Yes\", \"  \"))","v":"  "}]
[null,{"$f":"Roster_Selection_Women!AB303&\" \" & \"V \"","v":"William Penn University V "},{"$f":"Roster_Selection_Women!AD303","v":"11-261138"},{"$f":"Roster_Selection_Women!AE303","v":"Olivia Pilcher"},null,{"$f":"IF(ISERROR(Individual_Scores_Women_Var!E317), \" \", IF(Individual_Scores_Women_Var!E317 = \"Yes\", \"Yes\", \"  \"))","v":"  "}]
[null,{"$f":"Roster_Selection_Women!AB304&\" \" & \"V \"","v":"William Penn University V "},{"$f":"Roster_Selection_Women!AD304","v":"11-506021"},{"$f":"Roster_Selection_Women!AE304","v":"Shadyn Bishop"},null,{"$f":"IF(ISERROR(Individual_Scores_Women_Var!E318), \" \", IF(Individual_Scores_Women_Var!E318 = \"Yes\", \"Yes\", \"  \"))","v":"  "}]
[null,"William Penn University V",{"$f":"Individual_Scores_Women_Var!C319","v":""},{"$f":"Individual_Scores_Women_Var!D319","v":""}]
[null,"William Penn University V",{"$f":"Individual_Scores_Women_Var!C320","v":""},{"$f":"Individual_Scores_Women_Var!D320","v":""}]
[null,"William Penn University V",{"$f":"Individual_Scores_Women_Var!C321","v":""},{"$f":"Individual_Scores_Women_Var!D321","v":""}]
[null," "," "," "]
[null," "," "," "]
[null,{"$f":"Roster_Selection_Women!AB313&\" \" & \"V \"","v":"William Woods University V "},{"$f":"Roster_Selection_Women!AD313","v":"22-28583"},{"$f":"Roster_Selection_Women!AE313","v":"Aubrie Weredyk"},null,{"$f":"IF(ISERROR(Individual_Scores_Women_Var!E324), \" \", IF(Individual_Scores_Women_Var!E324 = \"Yes\", \"Yes\", \"  \"))","v":"  "},"Games",75.0,78.0,88.0,118.0,114.0,95.0,88.0,94.0,97.0,108.0,130.0,150.0,89.0,142.0,95.0,106.0,91.0,111.0,88.0,128.0,{"$f":"SUM(H324:AA324)","v":2085},{"$f":"COUNTIF(H324:AA324, \">0\" )","v":20},{"$f":"AB324/AC324","v":104.25}]
[null,{"$f":"Roster_Selection_Women!AB314&\" \" & \"V \"","v":"William Woods University V "},{"$f":"Roster_Selection_Women!AD314","v":"18-17170"},{"$f":"Roster_Selection_Women!AE314","v":"Caitlyn Rawson"},null,{"$f":"IF(ISERROR(Individual_Scores_Women_Var!E325), \" \", IF(Individual_Scores_Women_Var!E325 = \"Yes\", \"Yes\", \"  \"))","v":"  "}]
[null,{"$f":"Roster_Selection_Women!AB315&\" \" & \"V \"","v":"William Woods University V "},{"$f":"Roster_Selection_Women!AD315","v":"15-46752"},{"$f":"Roster_Selection_Women!AE315","v":"Haylie Denney"},null,{"$f":"IF(ISERROR(Individual_Scores_Women_Var!E326), \" \", IF(Individual_Scores_Women_Var!E326 = \"Yes\", \"Yes\", \"  \"))","v":"  "}]
[null,{"$f":"Roster_Selection_Women!AB316&\" \" & \"V \"","v":"William Woods University V "},{"$f":"Roster_Selection_Women!AD316","v":"11-743648"},{"$f":"Roster_Selection_Women!AE316","v":"Hope Minett"},null,{"$f":"IF(ISERROR(Individual_Scores_Women_Var!E327), \" \", IF(Individual_Scores_Women_Var!E327 = \"Yes\", \"Yes\", \"  \"))","v":"  "}]
[null,{"$f":"Roster_Selection_Women!AB317&\" \" & \"V \"","v":"William Woods University V "},{"$f":"Roster_Selection_Women!AD317","v":"21-91965"},{"$f":"Roster_Selection_Women!AE317","v":"Madison Jensen"},null,{"$f":"IF(ISERROR(Individual_Scores_Women_Var!E328), \" \", IF(Individual_Scores_Women_Var!E328 = \"Yes\", \"Yes\", \"  \"))","v":"  "}]
[null,{"$f":"Roster_Selection_Women!AB318&\" \" & \"V \"","v":"William Woods University V "},{"$f":"Roster_Selection_Women!AD318","v":"22-1674"},{"$f":"Roster_Selection_Women!AE318","v":"Savanna Terry"},null,{"$f":"IF(ISERROR(Individual_Scores_Women_Var!E329), \" \", IF(Individual_Scores_Women_Var!E329 = \"Yes\", \"Yes\", \"  \"))","v":"  "}]
[null,{"$f":"Roster_Selection_Women!AB319&\" \" & \"V \"","v":" V "},{"$f":"Roster_Selection_Women!AD319","v":""},{"$f":"Roster_Selection_Women!AE319","v":""},null,{"$f":"IF(ISERROR(Individual_Scores_Women_Var!E330), \" \", IF(Individual_Scores_Women_Var!E330 = \"Yes\", \"Yes\", \"  \"))","v":"  "}]
[null,{"$f":"Roster_Selection_Women!AB320&\" \" & \"V \"","v":" V "},{"$f":"Roster_Selection_Women!AD320","v":""},{"$f":"Roster_Selection_Women!AE320","v":""},null,{"$f":"IF(ISERROR(Individual_Scores_Women_Var!E331), \" \", IF(Individual_Scores_Women_Var!E331 = \"Yes\", \"Yes\", \"  \"))","v":"  "}]
[null,"William Woods University V",{"$f":"Individual_Scores_Women_Var!C332","v":""},{"$f":"Individual_Scores_Women_Var!D332","v":""}]
[null,"William Woods University V",{"$f":"Individual_Scores_Women_Var!C333","v":""},{"$f":"Individual_Scores_Women_Var!D333","v":""}]
[null,"William Woods University V",{"$f":"Individual_Scores_Women_Var!C334","v":""},{"$f":"Individual_Scores_Women_Var!D334","v":""}]
[null," "," "," "]
[null," "," "," "]
[null," "," "," ",{"$nulls":47},"*"]
[null," "," "," "]
[null," "," "," "]
[null," "," "," "]
[null," "," "," "]
[null," "," "," "]
[null," "," "," "]
[null," "," "," "]
[null," "," "," "]
[null," "," "," "]
[null," "," "," "]
[null," "," "," "]
[null," "," "," "]
[null," "," "," "]
[null," "," "," "]
[null," "," "," "]
[null," "," "," "]
[null," "," "," "]
[null," "," "," "]
[null," "," "," "]
[null," "," "," "]
[null," "," "," "]
[null," "," "," "]
[null," "," "," "]
[null," "," "," "]
[null," "," "," "]
[null," "," "," "]
[null," "," "," "]
[null," "," "," "]
[null," "," "," "]
[null," "," "," "]
[null," "," "," "]
[null," "," "," "]
[null," "," "," "]
[null," "," "," "]
[null," "," "," "]
[null," "," "," "]
[null," "," "," "]
[null," "," "," "]
[null," "," "," "]
[null," "," "," "]
[null," "," "," "]
[null," "," "," "]
[null," "," "," "]
[null," "," "," "]
[null," "," "," "]
[null," "," "," "]
[null," "," "," "]
[null," "," "," "]
[null," "," "," "]
[null," "," "," "]
[null," "," "," "]
[null," "," "," "]
[null," "," "," "]
[null," "," "," "]
[null," "," "," "]
[null," "," "," "]
[null," "," "," "]
[null," "," "," "]
[null," "," "," "]
[null," "," "," "]
[null," "," "," "]
[null," "," "," "]
[null," "," "," "]
[null," "," "," "]
[null," "," "," "]
[null," "," "," "]
[null," "," "," "]
[null," "," "," "]
[null," "," "," "]
[null," "," "," "]
[null," "," "," "]
[null," "," "," "]
[null," "," "," "]
[null," "," "," "]
[null," "," "," "]
[null," "," "," "]
[null," "," "," "]
[null," "," "," "]
[null," "," "," "]
[null," "," "," "]
[null," "," "," "]
[null," "," "," "]
[null," "," "," "]
[null," "," "," "]
[null," "," "," "]
[null," "," "," "]
[null," "," "," "]
[null," "," "," "]
[null," "," "," "]
[null," "," "," "]
[null," "," "," "]
[null," "," "," "]
[null," "," "," "]
[null," "," "," "]
[null," "," "," "]
[null," "," "," "]
[null," "," "," "]
[null," "," "," "]
[null," "," "," "]
[null," "," "," "]
[null," "," "," "]
[null," "," "," "]
[null," "," "," "]
[null," "," "," "]
[null," "," "," "]
[null," "," "," "]
[null," "," "," "]
[null," "," "," "]
[null," "," "," "]
[null," "," "," "]
[null," "," "," "]
[null," "," "," "]
[null," "," "," "]
[null," "," "," "]
[null," "," "," "]
[null," "," "," "]
[null," "," "," "]
[null," "," "," "]
[null," "," "," "]
[null," "," "," "]
[null," "," "," "]
[null," "," "," "]
[null," "," "," "]
[null," "," "," "]
[null," "," "," "]
[null," "," "," "]
[null," "," "," "]
[null," "," "," "]
[null," "," "," "]
[null," "," "," "]
[null," "," "," "]
[null," "," "," "]
[null," "," "," "]
[null," "," "," "]
[null," "," "," "]
[null," "," "," "]
[null," "," "," "]
[null," "," "," "]
[null," "," "," "]
[null," "," "," "]
[null," "," "," "]
[null," "," "," "]
[null," "," "," "]
[null," "," "," "]
[null," "," "," "]
[null," "," "," "]
[null," "," "," "]
[null," "," "," "]
[null," "," "," "]
[null," "," "," "]
[null," "," "," "]
[null," "," "," "]
[null," "," "," "]
[null," "," "," "]
[null," "," "," "]
[null," "," "," "]
[null," "," "," "]
[null," "," "," "]
[null," "," "," "]
[null," "," "," "]
[null," "," "," "]
[null," "," "," "]
[null," "," "," "]
[null," "," "," "]
[null," "," "," "]
[null," "," "," "]
[null," "," "," "]
[null," "," "," "]
[null," "," "," "]
[null," "," "," "]
[null," "," "," "]
[null," "," "," "]
[null," "," "," "]
[null," "," "," "]
[null," "," "," "]
[null," "," "," "]
[null," "," "," "]
[null," "," "," "]
[null," "," "," "]
[null," "," "," "]
[null," "," "," "]
[null," "," "," "]
[null," "," "," "]
[null," "," "," "]
[null," "," "," "]
[null," "," "," "]
[null," "," "," "]
[null," "," "," "]
[null," "," "," "]
[null," "," "," "]
[null," "," "," "]
[null," "," "," "]
[null," "," "," "]
[null," "," "," "]
[null," "," "," "]
[null," "," "," "]
[null," "," "," "]
[null," "," "," "]
[null," "," "," "]
[null," "," "," "]
[null," "," "," "]
[null," "," "," "]
[null," "," "," "]
[null," "," "," "]
[null," "," "," "]
[null," "," "," "]
[null," "," "," "]
[null," "," "," "]
[null," "," "," "]
[null," "," "," "]
[null," "," "," "]
[null," "," "," "]
[null," "," "," "]
[null," "," "," "]
[null," "," "," "]
[null," "," "," "]
[null," "," "," "]
[null," "," "," "]
[null," "," "," "]
[null," "," "," "]
[null," "," "," "]
[null," "," "," "]
[null," "," "," "]
[null," "," "," "]
[null," "," "," "]
[null," "," "," "]
[null," "," "," "]
[null," "," "," "]
[null," "," "," "]
[null," "," "," "]
[null," "," "," "]
[null," "," "," "]
[null," "," "," "]
[null," "," "," "]
[null," "," "," "]
[null," "," "," "]
[null," "," "," "]
[null," "," "," "]
[null," "," "," "]
[null," "," "," "]
[null," "," "," "]
[null," "," "," "]
[null," "," "," "]
[null," "," "," "]
[null," "," "," "]
[null," "," "," "]
[null," "," "," "]
[null," "," "," "]
[null," "," "," "]
[null," "," "," "]
[null," "," "," "]
[null," "," "," "]
[null," "," "," "]
[null," "," "," "]
[null," "," "," "]
[null," "," "," "]
[null," "," "," "]
[null," "," "," "]
[null," "," "," "]
[null," "," "," "]
[null," "," "," "]
[null," "," "," "]
[null," "," "," "]
[null," "," "," "]
[null," "," "," "]
[null," "," "," "]
[null," "," "," "]
[null," "," "," "]
[null," "," "," "]
[null," "," "," "]
[null," "," "," "]
[null," "," "," "]
[null," "," "," "]
[null," "," "," "]
[null," "," "," "]
[null," "," "," "]
[null," "," "," "]
[null," "," "," "]
[null," "," "," "]
[null," "," "," "]
[null," "," "," "]
[null," "," "," "]
[null," "," "," "]
[null," "," "," "]
[null," "," "," "]
[null," "," "," "]
[null," "," "," "]
[null," "," "," "]
[null," "," "," "]
[null," "," "," "]
[null," "," "," "]
[null," "," "," "]
[null," "," "," "]
[null," "," "," "]
[null," "," "," "]
[null," "," "," "]
[null," "," "," "]
[null," "," "," "]
[null," "," "," "]
[null," "," "," "]
[null," "," "," "]
[null," "," "," "]
[null," "," "," "]
[null," "," "," "]
[null," "," "," "]
[null," "," "," "]
[null," "," "," "]
[null," "," "," "]
[null," "," "," "]
[null," "," "," "]
[null," "," "," "]
[null," "," "," "]
[null," "," "," "]
[null," "," "," "]
[null," "," "," "]
[null," "," "," "]
[null," "," "," "]
[null," "," "," "]
[null," "," "," "]
[null," "," "," "]
[null," "," "," "]
[null," "," "," "]
[null," "," "," "]
[null," "," "," "]
[null," "," "," "]
[null," "," "," "]
[null," "," "," "]
[null," "," "," "]
[null," "," "," "]
[null," "," "," "]
[null," "," "," "]
[null," "," "," "]
[null," "," "," "]
[null," "," "," "]
[null," "," "," "]
[null," "," "," "]
[null," "," "," "]
[null," "," "," "]
[null," "," "," "]
[null," "," "," "]
[null," "," "," "]
[null," "," "," "]
[null," "," "," "]
[null," "," "," "]
[null," "," "," "]
[null," "," "," "]
[null," "," "," "]
[null," "," "," "]
[null," "," "," "]
[null," "," "," "]
[null," "," "," "]
[null," "," "," "]
[null," "," "," "]
[null," "," "," "]
[null," "," "," "]
[null," "," "," "]
[null," "," "," "]
[null," "," "," "]
[null," "," "," "]
[null," "," "," "]
[null," "," "," "]
[null," "," "," "]
[null," "," "," "]
[null," "," "," "]
[null," "," "," "]
[null," "," "," "]
[null," "," "," "]
[null," "," "," "]
[null," "," "," "]
[null," "," "," "]
[null," "," "," "]
[null," "," "," "]
[null," "," "," "]
[null," "," "," "]
[null," "," "," "]
[null," "," "," "]
[null," "," "," "]
[null," "," "," "]
[null," "," "," "]
[null," "," "," "]
[null," "," "," "]
[null," "," "," "]
[null," "," "," "]
[null," "," "," "]
[null," "," "," "]
[null," "," "," "]
[null," "," "," "]
[null," "," "," "]
[null," "," "," "]
[null," "," "," "]
[null," "," "," "]
[null," "," "," "]
[null," "," "," "]
[null," "," "," "]
[null," "," "," "]
[null," "," "," "]
[null," "," "," "]
[null," "," "," "]
[null," "," "," "]
[null," "," "," "]
[null," "," "," "]
[null," "," "," "]
[null," "," "," "]
[null," "," "," "]
[null," "," "," "]
[null," "," "," "]
[null," "," "," "]
[null," "," "," "]
[null," "," "," "]
[null," "," "," "]
[null," "," "," "]
[null," "," "," "]
[null," "," "," "]
[null," "," "," "]
[null," "," "," "]
[null," "," "," "]
[null," "," "," "]
[null," "," "," "]
[null," "," "," "]
[null," "," "," "]
[null," "," "," "]
[null," "," "," "]
[null," "," "," "]
[null," "," "," "]
[null," "," "," "]
[null," "," "," "]
[null," "," "," "]
[null," "," "," "]
[null," "," "," "]
[null," "," "," "]
[null," "," "," "]
[null," "," "," "]
[null," "," "," "]
[null," "," "," "]
[null," "," "," "]
[null," "," "," "]
[null," "," "," "]
[null," "," "," "]
[null," "," "," "]
[null," "," "," "]
[null," "," "," "]
[null," "," "," "]
[null," "," "," "]
[null," "," "," "]
[null," "," "," "]
[null," "," "," "]
[null," "," "," "]
[null," "," "," "]
[null," "," "," "]
[null," "," "," "]
[null," "," "," "]
[null," "," "," "]
[null," "," "," "]
[null," "," "," "]
[null," "," "," "]
[null," "," "," "]
[null," "," "," "]
[null," "," "," "]
[null," "," "," "]
[null," "," "," "]
[null," "," "," "]
[null," "," "," "]
[null," "," "," "]
[null," "," "," "]
[null," "," "," "]
[null," "," "," "]
[null," "," "," "]
[null," "," "," "]
[null," "," "," "]
[null," "," "," "]
[null," "," "," "]
[null," "," "," "]
[null," "," "," "]
[null," "," "," "]
[null," "," "," "]
[null," "," "," "]
[null," "," "," "]
[null," "," "," "]
[null," "," "," "]
[null," "," "," "]
[null," "," "," "]
[null," "," "," "]
[null," "," "," "]
[null," "," "," "]
[null," "," "," "]
[null," "," "," "]
[null," "," "," "]
[null," "," "," "]
[null," "," "," "]
[null," "," "," "]
[null," "," "," "]
[null," "," "," "]
[null," "," "," "]
[null," "," "," "]
[null," "," "," "]
[null," "," "," "]
[null," "," "," "]
[null," "," "," "]
[null," "," "," "]
[null," "," "," "]
[null," "," "," "]
[null," "," "," "]
[null," "," "," "]
[null," "," "," "]
[null," "," "," "]
[null," "," "," "]
[null," "," "," "]
[null," "," "," "]
[null," "," "," "]
[null," "," "," "]
[null," "," "," "]
[null," "," "," "]
[null," "," "," "]
[null," "," "," "]
[null," "," "," "]
[null," "," "," "]
[null," "," "," "]
[null," "," "," "]
[null," "," "," "]
[null," "," "," "]
[null," "," "," "]
[null," "," "," "]
[null," "," "," "]
[null," "," "," "]
[null," "," "," "]
[null," "," "," "]
[null," "," "," "]
[null," "," "," "]
[null," "," "," "]
[null," "," "," "]
[null," "," "," "]
[null," "," "," "]
[null," "," "," "]
[null," "," "," "]
[null," "," "," "]
[null," "," "," "]
[null," "," "," "]
[null," "," "," "]
[null," "," "," "]
[null," "," "," "]
[null," "," "," "]
[null," "," "," "]
[null," "," "," "]
[null," "," "," "]
[null," "," "," "]
[null," "," "," "]
[null," "," "," "]
[null," "," "," "]
[null," "," "," "]
[null," "," "," "]
[null," "," "," "]
[null," "," "," "]
[null," "," "," "]
[null," "," "," "]
[null," "," "," "]
[null," "," "," "]
[null," "," "," "]
[null," "," "," "]
[null," "," "," "]
[null," "," "," "]
[null," "," "," "]
[null," "," "," "]
[null," "," "," "]
[null," "," "," "]
[null," "," "," "]
[null," "," "," "]
[null," "," "," "]
[null," "," "," "]
[null," "," "," "]
[null," "," "," "]
[null," "," "," "]
[null," "," "," "]
[null," "," "," "]
[null," "," "," "]
[null," "," "," "]
[null," "," "," "]
[null," "," "," "]
[null," "," "," "]
[null," "," "," "]
[null," "," "," "]
[null," "," "," "]
[null," "," "," "]
[null," "," "," "]
[null," "," "," "]
[null," "," "," "]
[null," "," "," "]
[null," "," "," "]
[null," "," "," "]
[null," "," "," "]
[null," "," "," "]
[null," "," "," "]
[null," "," "," "]
[null," "," "," "]
[null," "," "," "]
[null," "," "," "]
[null," "," "," "]
[null," "," "," "]
[null," "," "," "]
[null," "," "," "]
[null," "," "," "]
[null," "," "," "]
[null," "," "," "]
[null," "," "," "]
[null," "," "," "]
[null," "," "," "]
[null," "," "," "]
[null," "," "," "]
[null," "," "," "]
[null," "," "," "]
[null," "," "," "]
[null," "," "," "]
[null," "," "," "]
[null," "," "," "]
[null," "," "," "]
[null," "," "," "]
[null," "," "," "]
[null," "," "," "]
[null," "," "," "]
[null," "," "," "]
[null," "," "," "]
[null," "," "," "]
[null," "," "," "]
[null," "," "," "]
[null," "," "," "]
[null," "," "," "]
[null," "," "," "]
[null," "," "," "]
[null," "," "," "]
[null," "," "," "]
[null," "," "," "]
[null," "," "," "]
[null," "," "," "]
[null," "," "," "]
[null," "," "," "]
[null," "," "," "]
[null," "," "," "]
[null," "," "," "]
[null," "," "," "]
[null," "," "," "]
[null," "," "," "]
[null," "," "," "]
[null," "," "," "]
[null," "," "," "]
[null," "," "," "]
[null," "," "," "]
[null," "," "," "]
[null," "," "," "]
[null," "," "," "]
[null," "," "," "]
[null," "," "," "]
[null," "," "," "]
[null," "," "," "]
[null," "," "," "]
[null," "," "," "]
[null," "," "," "]
[null," "," "," "]
[null," "," "," "]
[null," "," "," "]
[null," "," "," "]
[null," "," "," "]
[null," "," "," "]
[null," "," "," "]
[null," "," "," "]
[null," "," "," "]
[null," "," "," "]
[null," "," "," "]
[null," "," "," "]
[null," "," "," "]
[null," "," "," "]
[null," "," "," "]
[null," "," "," "]
[null," "," "," "]
[null," "," "," "]
[null," "," "," "]
[null," "," "," "]
[null," "," "," "]
[null," "," "," "]
[null," "," "," "]
[null," "," "," "]
[null," "," "," "]
[null," "," "," "]
[null," "," "," "]
[null," "," "," "]
[null," "," "," "]
[null," "," "," "]
[null," "," "," "]
[null," "," "," "]
[null," "," "," "]
[null," "," "," "]
[null," "," "," "]
[null," "," "," "]
[null," "," "," "]
[null," "," "," "]
[null," "," "," "]
[null," "," "," "]
[null," "," "," "]
[null," "," "," "]
[null," "," "," "]
[null," "," "," "]
[null," "," "," "]
[null," "," "," "]
[null," "," "," "]
[null," "," "," "]
[null," "," "," "]
[null," "," "," "]
[null," "," "," "]
[null," "," "," "]
[null," "," "," "]
[null," "," "," "]
[null," "," "," "]
[null," "," "," "]
[null," "," "," "]
[null," "," "," "]
[null," "," "," "]
[null," "," "," "]
[null," "," "," "]
[null," "," "," "]
[null," "," "," "]
[null," "," "," "]
[null," "," "," "]
[null," "," "," "]
[null," "," "," "]
[null," "," "," "]
[null," "," "," "]
[null," "," "," "]
[null," "," "," "]
[null," "," "," "]
[null," "," "," "]
[null," "," "," "]
[null," "," "," "]
[null," "," "," "]
[null," "," "," "]
[null," "," "," "]
[null," "," "," "]
[null," "," "," "]
[null," "," "," "]
[null," "," "," "]
[null," "," "," "]
[null," "," "," "]
[null," "," "," "]
[null," "," "," "]
[null," "," "," "]
[null," "," "," "]
[null," "," "," "]
[null," "," "," "]
[null," "," "," "]
[null," "," "," "]
[null," "," "," "]
[null," "," "," "]
[null," "," "," "]
[null," "," "," "]
[null," "," "," "]
[null," "," "," "]
[null," "," "," "]
[null," "," "," "]
[null," "," "," "]
[null," "," "," "]
[null," "," "," "]
[null," "," "," "]
[null," "," "," "]
[null," "," "," "]
[null," "," "," "]
[null," "," "," "]
[null," "," "," "]
[null," "," "," "]
[null," "," "," "]
[null," "," "," "]
[null," "," "," "]
[null," "," "," "]
[null," "," "," "]
[null," "," "," "]
[null," "," "," "]
[null," "," "," "]
[null," "," "," "]
[null," "," "," "]
[null," "," "," "]
[null," "," "," "]
[null," "," "," "]
[null," "," "," "]
[null," "," "," "]
[null," "," "," "]
[null," "," "," "]
[null," "," "," "]
[null," "," "," "]
[null," "," "," "]
[null," "," "," "]
[null," "," "," "]
[null," "," "," "]
[null," "," "," "]
[null," "," "," "]
[null," "," "," "]
[null," "," "," "]
[null," "," "," "]
[null," "," "," "]
[null," "," "," "]
[null," "," "," "]
[null," "," "," "]
[null," "," "," "]
[null," "," "," "]
[null," "," "," "]
[null," "," "," "]
[null," "," "," "]
[null," "," "," "]
[null," "," "," "]
[null," "," "," "]
[null," "," "," "]
[null," "," "," "]
[null," "," "," "]
[null," "," "," "]
[null," "," "," "]
[null," "," "," "]
[null," "," "," "]
[null," "," "," "]
[null," "," "," "]
[null," "," "," "]
[null," "," "," "]
[null," "," "," "]
[null," "," "," "]
[null," "," "," "]
[null," "," "," "]
[null," "," "," "]
[null," "," "," "]
[null," "," "," "]
[null," "," "," "]
[null," "," "," "]
[null," "," "," "]
[null," "," "," "]
[null," "," "," "]
[null," "," "," "]
[null," "," "," "]
[null," "," "," "]
[null," "," "," "]
[null," "," "," "]
[null," "," "," "]
[null," "," "," "]
[null," "," "," "]
[null," "," "," "]
[null," "," "," "]
[null," "," "," "]
[null," "," "," "]
[null," "," "," "]
[null," "," "," "]
[null," "," "," "]
[null," "," "," "]
[null," "," "," "]
[null," "," "," "]
[null," "," "," "]
[null," "," "," "]
[null," "," "," "]
[null," "," "," "]
[null," "," "," "]
[null," "," "," "]
[null," "," "," "]
[null," "," "," "]
[null," "," "," "]
[null," "," "," "]
[null," "," "," "]
[null," "," "," "]
[null," "," "," "]
[null," "," "," "]
[null," "," "," "]
[null," "," "," "]
[null," "," "," "]
[null," "," "," "]
[null," "," "," "]
[null," "," "," "]
[null," "," "," "]
[null," "," "," "]
[null," "," "," "]
[null," "," "," "]
[null," "," "," "]
[null," "," "," "]
[null," "," "," "]
[null," "," "," "]
[null," "," "," "]
[null," "," "," "]
[null," "," "," "]
[null," "," "," "]
[null," "," "," "]
[null," "," "," "]
[null," "," "," "]
[null," "," "," "]
[null," "," "," "]
[null," "," "," "]
[null," "," "," "]
[null," "," "," "]
[null," "," "," "]
[null," "," "," "]
[null," "," "," "]
[null," "," "," "]
[null," "," "," "]
[null," "," "," "]
[null," "," "," "]
[null," "," "," "]
[null," "," "," "]
[null," "," "," "]
[null," "," "," "]
[null," "," "," "]
[null," "," "," "]
[null," "," "," "]
[null," "," "," "]
[null," "," "," "]
[null," "," "," "]
[null," "," "," "]
[null," "," "," "]
[null," "," "," "]
[null," "," "," "]
[null," "," "," "]
[null," "," "," "]
[null," "," "," "]
[null," "," "," "]
[null," "," "," "]
[null," "," "," "]
[null," "," "," "]
[null," "," "," "]
[null," "," "," "]
[null," "," "," "]
[null," "," "," "]
[null," "," "," "]
[null," "," "," "]
[null," "," "," "]
[null," "," "," "]
[null," "," "," "]
[null," "," "," "]
[null," "," "," "]
[null," "," "," "]
[null," "," "," "]
[null," "," "," "]
[null," "," "," "]
[null," "," "," "]
[null," "," "," "]
[null," "," "," "]
[null," "," "," "]
[null," "," "," "]
[null," "," "," "]
[null," "," "," "]
[null," "," "," "]
[null," "," "," "]
[null," "," "," "]
[null," "," "," "]
[null," "," "," "]
[null," "," "," "]
[null," "," "," "]
[null," "," "," "]
[null," "," "," "]
[null," "," "," "]
[null," "," "," "]
[null," "," "," "]
[null," "," "," "]
[null," "," "," "]
[null," "," "," "]
[null," "," "," "]
[null," "," "," "]
[null," "," "," "]
[null," "," "," "]
[null," "," "," "]
[null," "," "," "]
[null," "," "," "]
[null," "," "," "]
[null," "," "," "]
[null," "," "," "]
[null," "," "," "]
[null," "," "," "]
[null," "," "," "]
[null," "," "," "]
[null," "," "," "]
[null," "," "," "]
[null," "," "," "]
[null," "," "," "]
[null," "," "," "]
[null," "," "," "]
[null," "," "," "]
[null," "," "," "]
[null," "," "," "]
[null," "," "," "]
[null," "," "," "]
[null," "," "," "]
[null," "," "," "]
[null," "," "," "]
[null," "," "," "]
[null," "," "," "]
[null," "," "," "]
[null," "," "," "]
[null," "," "," "]
[null," "," "," "]
[null," "," "," "]
[null," "," "," "]
[null," "," "," "]
[null," "," "," "]
[null," "," "," "]
[null," "," "," "]
[null," "," "," "]
[null," "," "," "]
[null," "," "," "]
[null," "," "," "]
[null," "," "," "]
[null," "," "," "]
[null," "," "," "]
[null," "," "," "]
[null," "," "," "]
[null," "," "," "]
[null," "," "," "]
[null," "," "," "]
[null," "," "," "]
[null," "," "," "]
[null," "," "," "]
[null," "," "," "]
[null," "," "," "]
[null," "," "," "]
[null," "," "," "]
[null," "," "," "]
[null," "," "," "]
[null," "," "," "]
[null," "," "," "]
[null," "," "," "]
[null," "," "," "]
[null," "," "," "]
[null," "," "," "]
[null," "," "," "]
[null," "," "," "]
[null," "," "," "]
[null," "," "," "]
[null," "," "," "]
[null," "," "," "]
[null," "," "," "]
[null," "," "," "]
[null," "," "," "]
[null," "," "," "]
[null," "," "," "]
[null," "," "," "]
[null," "," "," "]
[null," "," "," "]
[null," "," "," "]
[null," "," "," "]
[null," "," "," "]
[null," "," "," "]
[null," "," "," "]
[null," "," "," "]
[null," "," "," "]
[null," "," "," "]
[null," "," "," "]
[null," "," "," "]
[null," "," "," "]
[null," "," "," "]
[null," "," "," "]
[null," "," "," "]
[null," "," "," "]
[null," "," "," "]
[null," "," "," "]
[null," "," "," "]
[null," "," "," "]
[null," "," "," "]
[null," "," "," "]
[null," "," "," "]
[null," "," "," "]
[null," "," "," "]
[null," "," "," "]
[null," "," "," "]
[null," "," "," "]
[null," "," "," "]
[null," "," "," "]
[null," "," "," "]
[null," "," "," "]
[null," "," "," "]
[null," "," "," "]
[null," "," "," "]
[null," "," "," "]
[null," "," "," "]
[null," "," "," "]
[null," "," "," "]
[null," "," "," "]
[null," "," "," "]
[null," "," "," "]
[null," "," "," "]
[null," "," "," "]
[null," "," "," "]
[null," "," "," "]
[null," "," "," "]
[null," "," "," "]
[null," "," "," "]
[null," "," "," "]
[null," "," "," "]
[null," "," "," "]
[null," "," "," "]
[null," "," "," "]
[null," "," "," "]
[null," "," "," "]
[null," "," "," "]
[null," "," "," "]
[null," "," "," "]
[null," "," "," "]
[null," "," "," "]
[null," "," "," "]
[null," "," "," "]
[null," "," "," "]
[null," "," "," "]
[null," "," "," "]
[null," "," "," "]
[null," "," "," "]
[null," "," "," "]
[null," "," "," "]
[null," "," "," "]
[null," "," "," "]
[null," "," "," "]
[null," "," "," "]
[null," "," "," "]
[null," "," "," "]
[null," "," "," "]
[null," "," "," "]
[null," "," "," "]
[null," "," "," "]
[null," "," "," "]
[null," "," "," "]
[null," "," "," "]
[null," "," "," "]
[null," "," "," "]
[null," "," "," "]
[null," "," "," "]
[null," "," "," "]
[null," "," "," "]
[null," "," "," "]
[null," "," "," "]
[null," "," "," "]
[null," "," "," "]
[null," "," "," "]
[null," "," "," "]
[null," "," "," "]
[null," "," "," "]
[null," "," "," "]
[null," "," "," "]
[null," "," "," "]
[null," "," "," "]
[null," "," "," "]
[null," "," "," "]
[null," "," "," "]
[null," "," "," "]
[null," "," "," "]
[null," "," "," "]
[null," "," "," "]
[null," "," "," "]
[null," "," "," "]
[null," "," "," "]
[null," "," "," "]
[null," "," "," "]
[null," "," "," "]
[null," "," "," "]
[null," "," "," "]
[null," "," "," "]
[null," "," "," "]
[null," "," "," "]
[null," "," "," "]
[null," "," "," "]
[null," "," "," "]
[null," "," "," "]
[null," "," "," "]

{"sheet":"Baker_Scores_Women_JV","index":4,"n_rows":1492,"n_cols":107,"rows_kept":1492,"cut":false,"hidden":false,"merged":[[0,1,0,14]]}
[null,"Baker Team Scores"]
[{"$nulls":51},"Yes"]
[null,"Mid States Championships (Tier I Women)",{"$nulls":49},"No"]
[null,"Tier 1","USBC",{"$nulls":12},"1202","6","20","5","2.6","2.6",null,null,"7",null,null,"SetecAstronomy",{"$nulls":26},"IBCYouth"]
[null,"<<Dates>>","<<Event#>>","10/15/2022 - 10/16/2022"]
[null,"<<Location>>",null,"Wichita, KS"]
[]
[null,"Women's Division",null,"Cert No:","05700"]
[null,"Division"]
[{"$nulls":7},"Game","Game","Game","Game","Game","Game","Game","Game","Game","Game","Game","Game","Game","Game","Game","Game","Game","Game","Game","Game"," ","Games","Tourn."," "," "," "," "," "," "," "," "," "," "," "," "," "," "," "," "," "," "," "," "," "," "," "," "," "," "," "," "," "," "," "," "," "," "," "," "," "," "," "," "," "," "," "," "," "," "," "," "," "," "," "," "," "," "," "," "," "," "," "," "," "," "," "," "," "," "," "," "," "," "," "," "," "," "," "," "," "]
[null,"Team","Bowler ID","Bowler","Bowled","Bowled Traditional",null,1.0,2.0,3.0,4.0,5.0,6.0,7.0,8.0,9.0,10.0,11.0,12.0,13.0,14.0,15.0,16.0,17.0,18.0,19.0,20.0,"Total","Bowled","Ave."]
[null,{"$f":"Roster_Selection_Women!AF34&\" \" & \"JV1 \"","v":"Barton Community College JV1 "},{"$f":"Roster_Selection_Women!AH34","v":"11-393848"},{"$f":"Roster_Selection_Women!AI34","v":"Allyson Heidenreich"},null,{"$f":"IF(ISERROR(Individual_Scores_Women_JV!E12), \" \", IF(Individual_Scores_Women_JV!E12 = \"Yes\", \"Yes\", \"  \"))","v":"  "},"Games",131.0,152.0,101.0,129.0,171.0,124.0,147.0,132.0,146.0,130.0,127.0,138.0,116.0,124.0,131.0,172.0,133.0,117.0,169.0,151.0,{"$f":"SUM(H12:AA12)","v":2741},{"$f":"COUNTIF(H12:AA12, \">0\" )","v":20},{"$f":"AB12/AC12","v":137.05}," "," "," "," "," "," "," "," "," "," "," "," "," "," "," "," "," "," "," "," "," "," "," "," "," "," "," "," "," "," "," "," "," "," "," "," "," "," "," "," "," "," "," "," "," "," "," "," "," "," "]
[null,{"$f":"Roster_Selection_Women!AF35&\" \" & \"JV1 \"","v":"Barton Community College JV1 "},{"$f":"Roster_Selection_Women!AH35","v":"15-199348"},{"$f":"Roster_Selection_Women!AI35","v":"Cassidy Goans"},null,{"$f":"IF(ISERROR(Individual_Scores_Women_JV!E13), \" \", IF(Individual_Scores_Women_JV!E13 = \"Yes\", \"Yes\", \"  \"))","v":"  "}," "," "," "," "," "," "," "," "," "," "," "," "," "," "," "," "," "," "," "," "," "," "," "," "," "," "," "," "," "," "," "," "," "," "," "," "," "," "," "," "," "," "," "," "," "," "," "," "," "," "," "," "," "," "," "," "," "," "," "," "," "," "," "," "," "," "," "," "," "," "," "," "," "," "]
[null,{"$f":"Roster_Selection_Women!AF36&\" \" & \"JV1 \"","v":"Barton Community College JV1 "},{"$f":"Roster_Selection_Women!AH36","v":"17-36756"},{"$f":"Roster_Selection_Women!AI36","v":"Kristy Wittig"},null,{"$f":"IF(ISERROR(Individual_Scores_Women_JV!E14), \" \", IF(Individual_Scores_Women_JV!E14 = \"Yes\", \"Yes\", \"  \"))","v":"  "}," "," "," "," "," "," "," "," "," "," "," "," "," "," "," "," "," "," "," "," "," "," "," "," "," "," "," "," "," "," "," "," "," "," "," "," "," "," "," "," "," "," "," "," "," "," "," "," "," "," "," "," "," "," "," "," "," "," "," "," "," "," "," "," "," "," "," "," "," "," "," "," "," "," "]
[null,{"$f":"Roster_Selection_Women!AF37&\" \" & \"JV1 \"","v":"Barton Community College JV1 "},{"$f":"Roster_Selection_Women!AH37","v":"22-25836"},{"$f":"Roster_Selection_Women!AI37","v":"Leah Reid"},null,{"$f":"IF(ISERROR(Individual_Scores_Women_JV!E15), \" \", IF(Individual_Scores_Women_JV!E15 = \"Yes\", \"Yes\", \"  \"))","v":"  "}," "," "," "," "," "," "," "," "," "," "," "," "," "," "," "," "," "," "," "," "," "," "," "," "," "," "," "," "," "," "," "," "," "," "," "," "," "," "," "," "," "," "," "," "," "," "," "," "," "," "," "," "," "," "," "," "," "," "," "," "," "," "," "," "," "," "," "," "," "," "," "," "," "," "]
[null,{"$f":"Roster_Selection_Women!AF38&\" \" & \"JV1 \"","v":"Barton Community College JV1 "},{"$f":"Roster_Selection_Women!AH38","v":"11-393971"},{"$f":"Roster_Selection_Women!AI38","v":"Olivia Oliver"},null,{"$f":"IF(ISERROR(Individual_Scores_Women_JV!E16), \" \", IF(Individual_Scores_Women_JV!E16 = \"Yes\", \"Yes\", \"  \"))","v":"  "}," "," "," "," "," "," "," "," "," "," "," "," "," "," "," "," "," "," "," "," "," "," "," "," "," "," "," "," "," "," "," "," "," "," "," "," "," "," "," "," "," "," "," "," "," "," "," "," "," "," "," "," "," "," "," "," "," "," "," "," "," "," "," "," "," "," "," "," "," "," "," "," "," "," "]
[null,{"$f":"Roster_Selection_Women!AF39&\" \" & \"JV1 \"","v":" JV1 "},{"$f":"Roster_Selection_Women!AH39","v":""},{"$f":"Roster_Selection_Women!AI39","v":""},null,{"$f":"IF(ISERROR(Individual_Scores_Women_JV!E17), \" \", IF(Individual_Scores_Women_JV!E17 = \"Yes\", \"Yes\", \"  \"))","v":"  "}," "," "," "," "," "," "," "," "," "," "," "," "," "," "," "," "," "," "," "," "," "," "," "," "," "," "," "," "," "," "," "," "," "," "," "," "," "," "," "," "," "," "," "," "," "," "," "," "," "," "," "," "," "," "," "," "," "," "," "," "," "," "," "," "," "," "," "," "," "," "," "," "," "," "]
[null,{"$f":"Roster_Selection_Women!AF40&\" \" & \"JV1 \"","v":" JV1 "},{"$f":"Roster_Selection_Women!AH40","v":""},{"$f":"Roster_Selection_Women!AI40","v":""},null,{"$f":"IF(ISERROR(Individual_Scores_Women_JV!E18), \" \", IF(Individual_Scores_Women_JV!E18 = \"Yes\", \"Yes\", \"  \"))","v":"  "}," "," "," "," "," "," "," "," "," "," "," "," "," "," "," "," "," "," "," "," "," "," "," "," "," "," "," "," "," "," "," "," "," "," "," "," "," "," "," "," "," "," "," "," "," "," "," "," "," "," "," "," "," "," "," "," "," "," "," "," "," "," "," "," "," "," "," "," "," "," "," "," "," "," "]
[null,{"$f":"Roster_Selection_Women!AF41&\" \" & \"JV1 \"","v":" JV1 "},{"$f":"Roster_Selection_Women!AH41","v":""},{"$f":"Roster_Selection_Women!AI41","v":""},null,{"$f":"IF(ISERROR(Individual_Scores_Women_JV!E19), \" \", IF(Individual_Scores_Women_JV!E19 = \"Yes\", \"Yes\", \"  \"))","v":"  "}," "," "," "," "," "," "," "," "," "," "," "," "," "," "," "," "," "," "," "," "," "," "," "," "," "," "," "," "," "," "," "," "," "," "," "," "," "," "," "," "," "," "," "," "," "," "," "," "," "," "," "," "," "," "," "," "," "," "," "," "," "," "," "," "," "," "," "," "," "," "," "," "," "," "]
[null,"Barton Community College JV",{"$f":"Individual_Scores_Women_JV!C20","v":""},{"$f":"Individual_Scores_Women_JV!D20","v":""},null,null," "," "," "," "," "," "," "," "," "," "," "," "," "," "," "," "," "," "," "," "," "," "," "," "," "," "," "," "," "," "," "," "," "," "," "," "," "," "," "," "," "," "," "," "," "," "," "," "," "," "," "," "," "," "," "," "," "," "," "," "," "," "," "," "," "," "," "," "," "," "," "," "," "," "]
[null,"Barton Community College JV",{"$f":"Individual_Scores_Women_JV!C21","v":""},{"$f":"Individual_Scores_Women_JV!D21","v":""},null,null," "," "," "," "," "," "," "," "," "," "," "," "," "," "," "," "," "," "," "," "," "," "," "," "," "," "," "," "," "," "," "," "," "," "," "," "," "," "," "," "," "," "," "," "," "," "," "," "," "," "," "," "," "," "," "," "," "," "," "," "," "," "," "," "," "," "," "," "," "," "," "," "," "," "]
[null,"Barton Community College JV",{"$f":"Individual_Scores_Women_JV!C22","v":""},{"$f":"Individual_Scores_Women_JV!D22","v":""},null,null," "," "," "," "," "," "," "," "," "," "," "," "," "," "," "," "," "," "," "," "," "," "," "," "," "," "," "," "," "," "," "," "," "," "," "," "," "," "," "," "," "," "," "," "," "," "," "," "," "," "," "," "," "," "," "," "," "," "," "," "," "," "," "," "," "," "," "," "," "," "," "," "," "," "]
[null," "," "," ",null,null," "," "," "," "," "," "," "," "," "," "," "," "," "," "," "," "," "," "," "," "," "," "," "," "," "," "," "," "," "," "," "," "," "," "," "," "," "," "," "," "," "," "," "," "," "," "," "," "," "," "," "," "," "," "," "," "," "," "," "," "," "," "," "," "," "," "," "," "," "," "," "," "," "," "]
[null," "," "," ",null,null," "," "," "," "," "," "," "," "," "," "," "," "," "," "," "," "," "," "," "," "," "," "," "," "," "," "," "," "," "," "," "," "," "," "," "," "," "," "," "," "," "," "," "," "," "," "," "," "," "," "," "," "," "," "," "," "," "," "," "," "," "," "," "," "," "," "," "," "," "," "," "," "," "," "]
[null,{"$f":"Roster_Selection_Women!AF150&\" \" & \"JV1 \"","v":"Lindenwood University JV1 "},{"$f":"Roster_Selection_Women!AH150","v":"16-109295"},{"$f":"Roster_Selection_Women!AI150","v":"Haley Gough"},null,{"$f":"IF(ISERROR(Individual_Scores_Women_JV!E25), \" \", IF(Individual_Scores_Women_JV!E25 = \"Yes\", \"Yes\", \"  \"))","v":"  "},"Games",133.0,139.0,153.0,210.0,107.0,120.0,133.0,148.0,151.0,168.0,192.0,133.0,157.0,121.0,143.0,150.0,144.0,130.0,157.0,164.0,{"$f":"SUM(H25:AA25)","v":2953},{"$f":"COUNTIF(H25:AA25, \">0\" )","v":20},{"$f":"AB25/AC25","v":147.65}," "," "," "," "," "," "," "," "," "," "," "," "," "," "," "," "," "," "," "," "," "," "," "," "," "," "," "," "," "," "," "," "," "," "," "," "," "," "," "," "," "," "," "," "," "," "," "," "," "," "]
[null,{"$f":"Roster_Selection_Women!AF151&\" \" & \"JV1 \"","v":"Lindenwood University JV1 "},{"$f":"Roster_Selection_Women!AH151","v":"6944-1443"},{"$f":"Roster_Selection_Women!AI151","v":"Justice Heisler"},null,{"$f":"IF(ISERROR(Individual_Scores_Women_JV!E26), \" \", IF(Individual_Scores_Women_JV!E26 = \"Yes\", \"Yes\", \"  \"))","v":"  "}," "," "," "," "," "," "," "," "," "," "," "," "," "," "," "," "," "," "," "," "," "," "," "," "," "," "," "," "," "," "," "," "," "," "," "," "," "," "," "," "," "," "," "," "," "," "," "," "," "," "," "," "," "," "," "," "," "," "," "," "," "," "," "," "," "," "," "," "," "," "," "," "," "," "]
[null,{"$f":"Roster_Selection_Women!AF152&\" \" & \"JV1 \"","v":"Lindenwood University JV1 "},{"$f":"Roster_Selection_Women!AH152","v":"11-233573"},{"$f":"Roster_Selection_Women!AI152","v":"Kylie Riggs"},null,{"$f":"IF(ISERROR(Individual_Scores_Women_JV!E27), \" \", IF(Individual_Scores_Women_JV!E27 = \"Yes\", \"Yes\", \"  \"))","v":"  "}," "," "," "," "," "," "," "," "," "," "," "," "," "," "," "," "," "," "," "," "," "," "," "," "," "," "," "," "," "," "," "," "," "," "," "," "," "," "," "," "," "," "," "," "," "," "," "," "," "," "," "," "," "," "," "," "," "," "," "," "," "," "," "," "," "," "," "," "," "," "," "," "," "," "]
[null,{"$f":"Roster_Selection_Women!AF153&\" \" & \"JV1 \"","v":"Lindenwood University JV1 "},{"$f":"Roster_Selection_Women!AH153","v":"22-16986"},{"$f":"Roster_Selection_Women!AI153","v":"Madeline Woelfel"},null,{"$f":"IF(ISERROR(Individual_Scores_Women_JV!E28), \" \", IF(Individual_Scores_Women_JV!E28 = \"Yes\", \"Yes\", \"  \"))","v":"  "}," "," "," "," "," "," "," "," "," "," "," "," "," "," "," "," "," "," "," "," "," "," "," "," "," "," "," "," "," "," "," "," "," "," "," "," "," "," "," "," "," "," "," "," "," "," "," "," "," "," "," "," "," "," "," "," "," "," "," "," "," "," "," "," "," "," "," "," "," "," "," "," "," "," "]
[null,{"$f":"Roster_Selection_Women!AF154&\" \" & \"JV1 \"","v":"Lindenwood University JV1 "},{"$f":"Roster_Selection_Women!AH154","v":"16-137026"},{"$f":"Roster_Selection_Women!AI154","v":"Madelyn San Soucie"},null,{"$f":"IF(ISERROR(Individual_Scores_Women_JV!E29), \" \", IF(Individual_Scores_Women_JV!E29 = \"Yes\", \"Yes\", \"  \"))","v":"  "}," "," "," "," "," "," "," "," "," "," "," "," "," "," "," "," "," "," "," "," "," "," "," "," "," "," "," "," "," "," "," "," "," "," "," "," "," "," "," "," "," "," "," "," "," "," "," "," "," "," "," "," "," "," "," "," "," "," "," "," "," "," "," "," "," "," "," "," "," "," "," "," "," "," "]
[null,{"$f":"Roster_Selection_Women!AF155&\" \" & \"JV1 \"","v":"Lindenwood University JV1 "},{"$f":"Roster_Selection_Women!AH155","v":"20-29842"},{"$f":"Roster_Selection_Women!AI155","v":"Paige Ludington"},null,{"$f":"IF(ISERROR(Individual_Scores_Women_JV!E30), \" \", IF(Individual_Scores_Women_JV!E30 = \"Yes\", \"Yes\", \"  \"))","v":"  "}," "," "," "," "," "," "," "," "," "," "," "," "," "," "," "," "," "," "," "," "," "," "," "," "," "," "," "," "," "," "," "," "," "," "," "," "," "," "," "," "," "," "," "," "," "," "," "," "," "," "," "," "," "," "," "," "," "," "," "," "," "," "," "," "," "," "," "," "," "," "," "," "," "," "]
[null,{"$f":"Roster_Selection_Women!AF156&\" \" & \"JV1 \"","v":"Lindenwood University JV1 "},{"$f":"Roster_Selection_Women!AH156","v":"16-161359"},{"$f":"Roster_Selection_Women!AI156","v":"Trinity Capps"},null,{"$f":"IF(ISERROR(Individual_Scores_Women_JV!E31), \" \", IF(Individual_Scores_Women_JV!E31 = \"Yes\", \"Yes\", \"  \"))","v":"  "}," "," "," "," "," "," "," "," "," "," "," "," "," "," "," "," "," "," "," "," "," "," "," "," "," "," "," "," "," "," "," "," "," "," "," "," "," "," "," "," "," "," "," "," "," "," "," "," "," "," "," "," "," "," "," "," "," "," "," "," "," "," "," "," "," "," "," "," "," "," "," "," "," "," "]
[null,{"$f":"Roster_Selection_Women!AF157&\" \" & \"JV1 \"","v":" JV1 "},{"$f":"Roster_Selection_Women!AH157","v":""},{"$f":"Roster_Selection_Women!AI157","v":""},null,{"$f":"IF(ISERROR(Individual_Scores_Women_JV!E32), \" \", IF(Individual_Scores_Women_JV!E32 = \"Yes\", \"Yes\", \"  \"))","v":"  "}," "," "," "," "," "," "," "," "," "," "," "," "," "," "," "," "," "," "," "," "," "," "," "," "," "," "," "," "," "," "," "," "," "," "," "," "," "," "," "," "," "," "," "," "," "," "," "," "," "," "," "," "," "," "," "," "," "," "," "," "," "," "," "," "," "," "," "," "," "," "," "," "," "," "]
[null,"Lindenwood University JV",{"$f":"Individual_Scores_Women_JV!C33","v":""},{"$f":"Individual_Scores_Women_JV!D33","v":""},null,null," "," "," "," "," "," "," "," "," "," "," "," "," "," "," "," "," "," "," "," "," "," "," "," "," "," "," "," "," "," "," "," "," "," "," "," "," "," "," "," "," "," "," "," "," "," "," "," "," "," "," "," "," "," "," "," "," "," "," "," "," "," "," "," "," "," "," "," "," "," "," "," "," "," "]
[null,"Lindenwood University JV",{"$f":"Individual_Scores_Women_JV!C34","v":""},{"$f":"Individual_Scores_Women_JV!D34","v":""},null,null," "," "," "," "," "," "," "," "," "," "," "," "," "," "," "," "," "," "," "," "," "," "," "," "," "," "," "," "," "," "," "," "," "," "," "," "," "," "," "," "," "," "," "," "," "," "," "," "," "," "," "," "," "," "," "," "," "," "," "," "," "," "," "," "," "," "," "," "," "," "," "," "," "," "]
[null,"Lindenwood University JV",{"$f":"Individual_Scores_Women_JV!C35","v":""},{"$f":"Individual_Scores_Women_JV!D35","v":""},null,null," "," "," "," "," "," "," "," "," "," "," "," "," "," "," "," "," "," "," "," "," "," "," "," "," "," "," "," "," "," "," "," "," "," "," "," "," "," "," "," "," "," "," "," "," "," "," "," "," "," "," "," "," "," "," "," "," "," "," "," "," "," "," "," "," "," "," "," "," "," "," "," "," "," "]
[null," "," "," ",null,null," "," "," "," "," "," "," "," "," "," "," "," "," "," "," "," "," "," "," "," "," "," "," "," "," "," "," "," "," "," "," "," "," "," "," "," "," "," "," "," "," "," "," "," "," "," "," "," "," "," "," "," "," "," "," "," "," "," "," "," "," "," "," "," "," "," "," "," "," "," "," "," "," "," "]
[null," "," "," ",null,null," "," "," "," "," "," "," "," "," "," "," "," "," "," "," "," "," "," "," "," "," "," "," "," "," "," "," "," "," "," "," "," "," "," "," "," "," "," "," "," "," "," "," "," "," "," "," "," "," "," "," "," "," "," "," "," "," "," "," "," "," "," "," "," "," "," "," "," "," "," "," "," "," "," "]
[null,{"$f":"Roster_Selection_Women!AF184&\" \" & \"JV1 \"","v":"Newman University JV1 "},{"$f":"Roster_Selection_Women!AH184","v":"19-5159"},{"$f":"Roster_Selection_Women!AI184","v":"Adrienne Pamatmat"},null,{"$f":"IF(ISERROR(Individual_Scores_Women_JV!E38), \" \", IF(Individual_Scores_Women_JV!E38 = \"Yes\", \"Yes\", \"  \"))","v":"  "},"Games",144.0,180.0,146.0,174.0,198.0,163.0,187.0,160.0,178.0,167.0,145.0,167.0,160.0,178.0,157.0,158.0,178.0,222.0,162.0,212.0,{"$f":"SUM(H38:AA38)","v":3436},{"$f":"COUNTIF(H38:AA38, \">0\" )","v":20},{"$f":"AB38/AC38","v":171.8}," "," "," "," "," "," "," "," "," "," "," "," "," "," "," "," "," "," "," "," "," "," "," "," "," "," "," "," "," "," "," "," "," "," "," "," "," "," "," "," "," "," "," "," "," "," "," "," "," "," "]
[null,{"$f":"Roster_Selection_Women!AF185&\" \" & \"JV1 \"","v":"Newman University JV1 "},{"$f":"Roster_Selection_Women!AH185","v":"18-80545"},{"$f":"Roster_Selection_Women!AI185","v":"Breanna Warren"},null,{"$f":"IF(ISERROR(Individual_Scores_Women_JV!E39), \" \", IF(Individual_Scores_Women_JV!E39 = \"Yes\", \"Yes\", \"  \"))","v":"  "}," "," "," "," "," "," "," "," "," "," "," "," "," "," "," "," "," "," "," "," "," "," "," "," "," "," "," "," "," "," "," "," "," "," "," "," "," "," "," "," "," "," "," "," "," "," "," "," "," "," "," "," "," "," "," "," "," "," "," "," "," "," "," "," "," "," "," "," "," "," "," "," "," "," "]
[null,{"$f":"Roster_Selection_Women!AF186&\" \" & \"JV1 \"","v":"Newman University JV1 "},{"$f":"Roster_Selection_Women!AH186","v":"16-37397"},{"$f":"Roster_Selection_Women!AI186","v":"Carianne Takeuchi"},null,{"$f":"IF(ISERROR(Individual_Scores_Women_JV!E40), \" \", IF(Individual_Scores_Women_JV!E40 = \"Yes\", \"Yes\", \"  \"))","v":"  "}," "," "," "," "," "," "," "," "," "," "," "," "," "," "," "," "," "," "," "," "," "," "," "," "," "," "," "," "," "," "," "," "," "," "," "," "," "," "," "," "," "," "," "," "," "," "," "," "," "," "," "," "," "," "," "," "," "," "," "," "," "," "," "," "," "," "," "," "," "," "," "," "," "," "]
[null,{"$f":"Roster_Selection_Women!AF187&\" \" & \"JV1 \"","v":"Newman University JV1 "},{"$f":"Roster_Selection_Women!AH187","v":"11-408051"},{"$f":"Roster_Selection_Women!AI187","v":"Jaden Schaefer"},null,{"$f":"IF(ISERROR(Individual_Scores_Women_JV!E41), \" \", IF(Individual_Scores_Women_JV!E41 = \"Yes\", \"Yes\", \"  \"))","v":"  "}," "," "," "," "," "," "," "," "," "," "," "," "," "," "," "," "," "," "," "," "," "," "," "," "," "," "," "," "," "," "," "," "," "," "," "," "," "," "," "," "," "," "," "," "," "," "," "," "," "," "," "," "," "," "," "," "," "," "," "," "," "," "," "," "," "," "," "," "," "," "," "," "," "," "]
[null,{"$f":"Roster_Selection_Women!AF188&\" \" & \"JV1 \"","v":"Newman University JV1 "},{"$f":"Roster_Selection_Women!AH188","v":"11-484624"},{"$f":"Roster_Selection_Women!AI188","v":"Jasmine Banks"},null,{"$f":"IF(ISERROR(Individual_Scores_Women_JV!E42), \" \", IF(Individual_Scores_Women_JV!E42 = \"Yes\", \"Yes\", \"  \"))","v":"  "}," "," "," "," "," "," "," "," "," "," "," "," "," "," "," "," "," "," "," "," "," "," "," "," "," "," "," "," "," "," "," "," "," "," "," "," "," "," "," "," "," "," "," "," "," "," "," "," "," "," "," "," "," "," "," "," "," "," "," "," "," "," "," "," "," "," "," "," "," "," "," "," "," "," "]
[null,{"$f":"Roster_Selection_Women!AF189&\" \" & \"JV1 \"","v":"Newman University JV1 "},{"$f":"Roster_Selection_Women!AH189","v":"11-547593"},{"$f":"Roster_Selection_Women!AI189","v":"Kenzie Womack"},null,{"$f":"IF(ISERROR(Individual_Scores_Women_JV!E43), \" \", IF(Individual_Scores_Women_JV!E43 = \"Yes\", \"Yes\", \"  \"))","v":"  "}," "," "," "," "," "," "," "," "," "," "," "," "," "," "," "," "," "," "," "," "," "," "," "," "," "," "," "," "," "," "," "," "," "," "," "," "," "," "," "," "," "," "," "," "," "," "," "," "," "," "," "," "," "," "," "," "," "," "," "," "," "," "," "," "," "," "," "," "," "," "," "," "," "," "]
[null,{"$f":"Roster_Selection_Women!AF190&\" \" & \"JV1 \"","v":" JV1 "},{"$f":"Roster_Selection_Women!AH190","v":""},{"$f":"Roster_Selection_Women!AI190","v":""},null,{"$f":"IF(ISERROR(Individual_Scores_Women_JV!E44), \" \", IF(Individual_Scores_Women_JV!E44 = \"Yes\", \"Yes\", \"  \"))","v":"  "}," "," "," "," "," "," "," "," "," "," "," "," "," "," "," "," "," "," "," "," "," "," "," "," "," "," "," "," "," "," "," "," "," "," "," "," "," "," "," "," "," "," "," "," "," "," "," "," "," "," "," "," "," "," "," "," "," "," "," "," "," "," "," "," "," "," "," "," "," "," "," "," "," "," "]
[null,{"$f":"Roster_Selection_Women!AF191&\" \" & \"JV1 \"","v":" JV1 "},{"$f":"Roster_Selection_Women!AH191","v":""},{"$f":"Roster_Selection_Women!AI191","v":""},null,{"$f":"IF(ISERROR(Individual_Scores_Women_JV!E45), \" \", IF(Individual_Scores_Women_JV!E45 = \"Yes\", \"Yes\", \"  \"))","v":"  "}," "," "," "," "," "," "," "," "," "," "," "," "," "," "," "," "," "," "," "," "," "," "," "," "," "," "," "," "," "," "," "," "," "," "," "," "," "," "," "," "," "," "," "," "," "," "," "," "," "," "," "," "," "," "," "," "," "," "," "," "," "," "," "," "," "," "," "," "," "," "," "," "," "," "]
[null,"Newman University JV",{"$f":"Individual_Scores_Women_JV!C46","v":""},{"$f":"Individual_Scores_Women_JV!D46","v":""},null,null," "," "," "," "," "," "," "," "," "," "," "," "," "," "," "," "," "," "," "," "," "," "," "," "," "," "," "," "," "," "," "," "," "," "," "," "," "," "," "," "," "," "," "," "," "," "," "," "," "," "," "," "," "," "," "," "," "," "," "," "," "," "," "," "," "," "," "," "," "," "," "," "," "," "]
[null,"Newman University JV",{"$f":"Individual_Scores_Women_JV!C47","v":""},{"$f":"Individual_Scores_Women_JV!D47","v":""},null,null," "," "," "," "," "," "," "," "," "," "," "," "," "," "," "," "," "," "," "," "," "," "," "," "," "," "," "," "," "," "," "," "," "," "," "," "," "," "," "," "," "," "," "," "," "," "," "," "," "," "," "," "," "," "," "," "," "," "," "," "," "," "," "," "," "," "," "," "," "," "," "," "," "," "]
[null,"Newman University JV",{"$f":"Individual_Scores_Women_JV!C48","v":""},{"$f":"Individual_Scores_Women_JV!D48","v":""},null,null," "," "," "," "," "," "," "," "," "," "," "," "," "," "," "," "," "," "," "," "," "," "," "," "," "," "," "," "," "," "," "," "," "," "," "," "," "," "," "," "," "," "," "," "," "," "," "," "," "," "," "," "," "," "," "," "," "," "," "," "," "," "," "," "," "," "," "," "," "," "," "," "," "," "]
[null," "," "," ",null,null," "," "," "," "," "," "," "," "," "," "," "," "," "," "," "," "," "," "," "," "," "," "," "," "," "," "," "," "," "," "," "," "," "," "," "," "," "," "," "," "," "," "," "," "," "," "," "," "," "," "," "," "," "," "," "," "," "," "," "," "," "," "," "," "," "," "," "," "," "," "," "," "," "," "]
[null," "," "," ",null,null," "," "," "," "," "," "," "," "," "," "," "," "," "," "," "," "," "," "," "," "," "," "," "," "," "," "," "," "," "," "," "," "," "," "," "," "," "," "," "," "," "," "," "," "," "," "," "," "," "," "," "," "," "," "," "," "," "," "," "," "," "," "," "," "," "," "," "," "," "," "," "," "," "," "]
[null,{"$f":"Roster_Selection_Women!AF197&\" \" & \"JV1 \"","v":"Oklahoma Christian University JV1 "},{"$f":"Roster_Selection_Women!AH197","v":"15-134480"},{"$f":"Roster_Selection_Women!AI197","v":"Athena Walker"},null,{"$f":"IF(ISERROR(Individual_Scores_Women_JV!E51), \" \", IF(Individual_Scores_Women_JV!E51 = \"Yes\", \"Yes\", \"  \"))","v":"  "},"Games",222.0,151.0,169.0,155.0,166.0,181.0,172.0,157.0,168.0,146.0,152.0,197.0,267.0,150.0,158.0,150.0,154.0,159.0,198.0,171.0,{"$f":"SUM(H51:AA51)","v":3443},{"$f":"COUNTIF(H51:AA51, \">0\" )","v":20},{"$f":"AB51/AC51","v":172.15}," "," "," "," "," "," "," "," "," "," "," "," "," "," "," "," "," "," "," "," "," "," "," "," "," "," "," "," "," "," "," "," "," "," "," "," "," "," "," "," "," "," "," "," "," "," "," "," "," "," "]
[null,{"$f":"Roster_Selection_Women!AF198&\" \" & \"JV1 \"","v":"Oklahoma Christian University JV1 "},{"$f":"Roster_Selection_Women!AH198","v":"16-127272"},{"$f":"Roster_Selection_Women!AI198","v":"Jennifer Jackson"},null,{"$f":"IF(ISERROR(Individual_Scores_Women_JV!E52), \" \", IF(Individual_Scores_Women_JV!E52 = \"Yes\", \"Yes\", \"  \"))","v":"  "}," "," "," "," "," "," "," "," "," "," "," "," "," "," "," "," "," "," "," "," "," "," "," "," "," "," "," "," "," "," "," "," "," "," "," "," "," "," "," "," "," "," "," "," "," "," "," "," "," "," "," "," "," "," "," "," "," "," "," "," "," "," "," "," "," "," "," "," "," "," "," "," "," "," "]
[null,{"$f":"Roster_Selection_Women!AF199&\" \" & \"JV1 \"","v":"Oklahoma Christian University JV1 "},{"$f":"Roster_Selection_Women!AH199","v":"11-176313"},{"$f":"Roster_Selection_Women!AI199","v":"Kaylee McCleery"},null,{"$f":"IF(ISERROR(Individual_Scores_Women_JV!E53), \" \", IF(Individual_Scores_Women_JV!E53 = \"Yes\", \"Yes\", \"  \"))","v":"  "}," "," "," "," "," "," "," "," "," "," "," "," "," "," "," "," "," "," "," "," "," "," "," "," "," "," "," "," "," "," "," "," "," "," "," "," "," "," "," "," "," "," "," "," "," "," "," "," "," "," "," "," "," "," "," "," "," "," "," "," "," "," "," "," "," "," "," "," "," "," "," "," "," "," "]
[null,{"$f":"Roster_Selection_Women!AF200&\" \" & \"JV1 \"","v":"Oklahoma Christian University JV1 "},{"$f":"Roster_Selection_Women!AH200","v":"20-1541"},{"$f":"Roster_Selection_Women!AI200","v":"Kirsten Morgan"},null,{"$f":"IF(ISERROR(Individual_Scores_Women_JV!E54), \" \", IF(Individual_Scores_Women_JV!E54 = \"Yes\", \"Yes\", \"  \"))","v":"  "}," "," "," "," "," "," "," "," "," "," "," "," "," "," "," "," "," "," "," "," "," "," "," "," "," "," "," "," "," "," "," "," "," "," "," "," "," "," "," "," "," "," "," "," "," "," "," "," "," "," "," "," "," "," "," "," "," "," "," "," "," "," "," "," "," "," "," "," "," "," "," "," "," "," "]
[null,{"$f":"Roster_Selection_Women!AF201&\" \" & \"JV1 \"","v":"Oklahoma Christian University JV1 "},{"$f":"Roster_Selection_Women!AH201","v":"11-381111"},{"$f":"Roster_Selection_Women!AI201","v":"Liberty Pierce"},null,{"$f":"IF(ISERROR(Individual_Scores_Women_JV!E55), \" \", IF(Individual_Scores_Women_JV!E55 = \"Yes\", \"Yes\", \"  \"))","v":"  "}," "," "," "," "," "," "," "," "," "," "," "," "," "," "," "," "," "," "," "," "," "," "," "," "," "," "," "," "," "," "," "," "," "," "," "," "," "," "," "," "," "," "," "," "," "," "," "," "," "," "," "," "," "," "," "," "," "," "," "," "," "," "," "," "," "," "," "," "," "," "," "," "," "," "]
[null,{"$f":"Roster_Selection_Women!AF202&\" \" & \"JV1 \"","v":"Oklahoma Christian University JV1 "},{"$f":"Roster_Selection_Women!AH202","v":"18-78917"},{"$f":"Roster_Selection_Women!AI202","v":"Maddie Reynolds"},null,{"$f":"IF(ISERROR(Individual_Scores_Women_JV!E56), \" \", IF(Individual_Scores_Women_JV!E56 = \"Yes\", \"Yes\", \"  \"))","v":"  "}," "," "," "," "," "," "," "," "," "," "," "," "," "," "," "," "," "," "," "," "," "," "," "," "," "," "," "," "," "," "," "," "," "," "," "," "," "," "," "," "," "," "," "," "," "," "," "," "," "," "," "," "," "," "," "," "," "," "," "," "," "," "," "," "," "," "," "," "," "," "," "," "," "," "]
[null,{"$f":"Roster_Selection_Women!AF203&\" \" & \"JV1 \"","v":" JV1 "},{"$f":"Roster_Selection_Women!AH203","v":""},{"$f":"Roster_Selection_Women!AI203","v":""},null,{"$f":"IF(ISERROR(Individual_Scores_Women_JV!E57), \" \", IF(Individual_Scores_Women_JV!E57 = \"Yes\", \"Yes\", \"  \"))","v":"  "}," "," "," "," "," "," "," "," "," "," "," "," "," "," "," "," "," "," "," "," "," "," "," "," "," "," "," "," "," "," "," "," "," "," "," "," "," "," "," "," "," "," "," "," "," "," "," "," "," "," "," "," "," "," "," "," "," "," "," "," "," "," "," "," "," "," "," "," "," "," "," "," "," "," "]
[null,{"$f":"Roster_Selection_Women!AF204&\" \" & \"JV1 \"","v":" JV1 "},{"$f":"Roster_Selection_Women!AH204","v":""},{"$f":"Roster_Selection_Women!AI204","v":""},null,{"$f":"IF(ISERROR(Individual_Scores_Women_JV!E58), \" \", IF(Individual_Scores_Women_JV!E58 = \"Yes\", \"Yes\", \"  \"))","v":"  "}," "," "," "," "," "," "," "," "," "," "," "," "," "," "," "," "," "," "," "," "," "," "," "," "," "," "," "," "," "," "," "," "," "," "," "," "," "," "," "," "," "," "," "," "," "," "," "," "," "," "," "," "," "," "," "," "," "," "," "," "," "," "," "," "," "," "," "," "," "," "," "," "," "," "]
[null,"Oklahoma Christian University JV",{"$f":"Individual_Scores_Women_JV!C59","v":""},{"$f":"Individual_Scores_Women_JV!D59","v":""},null,null," "," "," "," "," "," "," "," "," "," "," "," "," "," "," "," "," "," "," "," "," "," "," "," "," "," "," "," "," "," "," "," "," "," "," "," "," "," "," "," "," "," "," "," "," "," "," "," "," "," "," "," "," "," "," "," "," "," "," "," "," "," "," "," "," "," "," "," "," "," "," "," "," "," "]
[null,"Oklahoma Christian University JV",{"$f":"Individual_Scores_Women_JV!C60","v":""},{"$f":"Individual_Scores_Women_JV!D60","v":""},null,null," "," "," "," "," "," "," "," "," "," "," "," "," "," "," "," "," "," "," "," "," "," "," "," "," "," "," "," "," "," "," "," "," "," "," "," "," "," "," "," "," "," "," "," "," "," "," "," "," "," "," "," "," "," "," "," "," "," "," "," "," "," "," "," "," "," "," "," "," "," "," "," "," "," "]
[null,"Oklahoma Christian University JV",{"$f":"Individual_Scores_Women_JV!C61","v":""},{"$f":"Individual_Scores_Women_JV!D61","v":""},null,null," "," "," "," "," "," "," "," "," "," "," "," "," "," "," "," "," "," "," "," "," "," "," "," "," "," "," "," "," "," "," "," "," "," "," "," "," "," "," "," "," "," "," "," "," "," "," "," "," "," "," "," "," "," "," "," "," "," "," "," "," "," "," "," "," "," "," "," "," "," "," "," "," "," "]
[null," "," "," ",null,null," "," "," "," "," "," "," "," "," "," "," "," "," "," "," "," "," "," "," "," "," "," "," "," "," "," "," "," "," "," "," "," "," "," "," "," "," "," "," "," "," "," "," "," "," "," "," "," "," "," "," "," "," "," "," "," "," "," "," "," "," "," "," "," "," "," "," "," "," "," "," "," "," "," "]
[null," "," "," ",null,null," "," "," "," "," "," "," "," "," "," "," "," "," "," "," "," "," "," "," "," "," "," "," "," "," "," "," "," "," "," "," "," "," "," "," "," "," "," "," "," "," "," "," "," "," "," "," "," "," "," "," "," "," "," "," "," "," "," "," "," "," "," "," "," "," "," "," "," "," "," "," "," "," "," "]
[null,{"$f":"Roster_Selection_Women!AF213&\" \" & \"JV1 \"","v":"Ottawa University (KS) JV1 "},{"$f":"Roster_Selection_Women!AH213","v":"11-529617"},{"$f":"Roster_Selection_Women!AI213","v":"Allie Williams"},null,{"$f":"IF(ISERROR(Individual_Scores_Women_JV!E64), \" \", IF(Individual_Scores_Women_JV!E64 = \"Yes\", \"Yes\", \"  \"))","v":"  "},"Games",119.0,115.0,133.0,145.0,138.0,158.0,153.0,169.0,127.0,136.0,113.0,139.0,142.0,115.0,135.0,141.0,166.0,167.0,127.0,118.0,{"$f":"SUM(H64:AA64)","v":2756},{"$f":"COUNTIF(H64:AA64, \">0\" )","v":20},{"$f":"AB64/AC64","v":137.8}," "," "," "," "," "," "," "," "," "," "," "," "," "," "," "," "," "," "," "," "," "," "," "," "," "," "," "," "," "," "," "," "," "," "," "," "," "," "," "," "," "," "," "," "," "," "," "," "," "," "]
[null,{"$f":"Roster_Selection_Women!AF214&\" \" & \"JV1 \"","v":"Ottawa University (KS) JV1 "},{"$f":"Roster_Selection_Women!AH214","v":"11-691826"},{"$f":"Roster_Selection_Women!AI214","v":"Ashlynn Senecal"},null,{"$f":"IF(ISERROR(Individual_Scores_Women_JV!E65), \" \", IF(Individual_Scores_Women_JV!E65 = \"Yes\", \"Yes\", \"  \"))","v":"  "}," "," "," "," "," "," "," "," "," "," "," "," "," "," "," "," "," "," "," "," "," "," "," "," "," "," "," "," "," "," "," "," "," "," "," "," "," "," "," "," "," "," "," "," "," "," "," "," "," "," "," "," "," "," "," "," "," "," "," "," "," "," "," "," "," "," "," "," "," "," "," "," "," "," "]
[null,{"$f":"Roster_Selection_Women!AF215&\" \" & \"JV1 \"","v":"Ottawa University (KS) JV1 "},{"$f":"Roster_Selection_Women!AH215","v":"11-59170"},{"$f":"Roster_Selection_Women!AI215","v":"Caitlyn Carlile"},null,{"$f":"IF(ISERROR(Individual_Scores_Women_JV!E66), \" \", IF(Individual_Scores_Women_JV!E66 = \"Yes\", \"Yes\", \"  \"))","v":"  "}," "," "," "," "," "," "," "," "," "," "," "," "," "," "," "," "," "," "," "," "," "," "," "," "," "," "," "," "," "," "," "," "," "," "," "," "," "," "," "," "," "," "," "," "," "," "," "," "," "," "," "," "," "," "," "," "," "," "," "," "," "," "," "," "," "," "," "," "," "," "," "," "," "," "]
[null,{"$f":"Roster_Selection_Women!AF216&\" \" & \"JV1 \"","v":"Ottawa University (KS) JV1 "},{"$f":"Roster_Selection_Women!AH216","v":"15-181294"},{"$f":"Roster_Selection_Women!AI216","v":"Kourtney Cole"},null,{"$f":"IF(ISERROR(Individual_Scores_Women_JV!E67), \" \", IF(Individual_Scores_Women_JV!E67 = \"Yes\", \"Yes\", \"  \"))","v":"  "}," "," "," "," "," "," "," "," "," "," "," "," "," "," "," "," "," "," "," "," "," "," "," "," "," "," "," "," "," "," "," "," "," "," "," "," "," "," "," "," "," "," "," "," "," "," "," "," "," "," "," "," "," "," "," "," "," "," "," "," "," "," "," "," "," "," "," "," "," "," "," "," "," "," "]
[null,{"$f":"Roster_Selection_Women!AF217&\" \" & \"JV1 \"","v":"Ottawa University (KS) JV1 "},{"$f":"Roster_Selection_Women!AH217","v":"17-76001"},{"$f":"Roster_Selection_Women!AI217","v":"Madolyn Honn"},null,{"$f":"IF(ISERROR(Individual_Scores_Women_JV!E68), \" \", IF(Individual_Scores_Women_JV!E68 = \"Yes\", \"Yes\", \"  \"))","v":"  "}," "," "," "," "," "," "," "," "," "," "," "," "," "," "," "," "," "," "," "," "," "," "," "," "," "," "," "," "," "," "," "," "," "," "," "," "," "," "," "," "," "," "," "," "," "," "," "," "," "," "," "," "," "," "," "," "," "," "," "," "," "," "," "," "," "," "," "," "," "," "," "," "," "," "]
[null,{"$f":"Roster_Selection_Women!AF218&\" \" & \"JV1 \"","v":"Ottawa University (KS) JV1 "},{"$f":"Roster_Selection_Women!AH218","v":"11-133260"},{"$f":"Roster_Selection_Women!AI218","v":"Megan Emerson"},null,{"$f":"IF(ISERROR(Individual_Scores_Women_JV!E69), \" \", IF(Individual_Scores_Women_JV!E69 = \"Yes\", \"Yes\", \"  \"))","v":"  "}," "," "," "," "," "," "," "," "," "," "," "," "," "," "," "," "," "," "," "," "," "," "," "," "," "," "," "," "," "," "," "," "," "," "," "," "," "," "," "," "," "," "," "," "," "," "," "," "," "," "," "," "," "," "," "," "," "," "," "," "," "," "," "," "," "," "," "," "," "," "," "," "," "," "]
[null,{"$f":"Roster_Selection_Women!AF219&\" \" & \"JV1 \"","v":" JV1 "},{"$f":"Roster_Selection_Women!AH219","v":""},{"$f":"Roster_Selection_Women!AI219","v":""},null,{"$f":"IF(ISERROR(Individual_Scores_Women_JV!E70), \" \", IF(Individual_Scores_Women_JV!E70 = \"Yes\", \"Yes\", \"  \"))","v":"  "}," "," "," "," "," "," "," "," "," "," "," "," "," "," "," "," "," "," "," "," "," "," "," "," "," "," "," "," "," "," "," "," "," "," "," "," "," "," "," "," "," "," "," "," "," "," "," "," "," "," "," "," "," "," "," "," "," "," "," "," "," "," "," "," "," "," "," "," "," "," "," "," "," "," "]
[null,{"$f":"Roster_Selection_Women!AF220&\" \" & \"JV1 \"","v":" JV1 "},{"$f":"Roster_Selection_Women!AH220","v":""},{"$f":"Roster_Selection_Women!AI220","v":""},null,{"$f":"IF(ISERROR(Individual_Scores_Women_JV!E71), \" \", IF(Individual_Scores_Women_JV!E71 = \"Yes\", \"Yes\", \"  \"))","v":"  "}," "," "," "," "," "," "," "," "," "," "," "," "," "," "," "," "," "," "," "," "," "," "," "," "," "," "," "," "," "," "," "," "," "," "," "," "," "," "," "," "," "," "," "," "," "," "," "," "," "," "," "," "," "," "," "," "," "," "," "," "," "," "," "," "," "," "," "," "," "," "," "," "," "," "]
[null,"Ottawa University (KS) JV",{"$f":"Individual_Scores_Women_JV!C72","v":""},{"$f":"Individual_Scores_Women_JV!D72","v":""},null,null," "," "," "," "," "," "," "," "," "," "," "," "," "," "," "," "," "," "," "," "," "," "," "," "," "," "," "," "," "," "," "," "," "," "," "," "," "," "," "," "," "," "," "," "," "," "," "," "," "," "," "," "," "," "," "," "," "," "," "," "," "," "," "," "," "," "," "," "," "," "," "," "," "," "]
[null,"Ottawa University (KS) JV",{"$f":"Individual_Scores_Women_JV!C73","v":""},{"$f":"Individual_Scores_Women_JV!D73","v":""},null,null," "," "," "," "," "," "," "," "," "," "," "," "," "," "," "," "," "," "," "," "," "," "," "," "," "," "," "," "," "," "," "," "," "," "," "," "," "," "," "," "," "," "," "," "," "," "," "," "," "," "," "," "," "," "," "," "," "," "," "," "," "," "," "," "," "," "," "," "," "," "," "," "," "," "]
[null,"Ottawa University (KS) JV",{"$f":"Individual_Scores_Women_JV!C74","v":""},{"$f":"Individual_Scores_Women_JV!D74","v":""},null,null," "," "," "," "," "," "," "," "," "," "," "," "," "," "," "," "," "," "," "," "," "," "," "," "," "," "," "," "," "," "," "," "," "," "," "," "," "," "," "," "," "," "," "," "," "," "," "," "," "," "," "," "," "," "," "," "," "," "," "," "," "," "," "," "," "," "," "," "," "," "," "," "," "," "]
[null," "," "," ",null,null," "," "," "," "," "," "," "," "," "," "," "," "," "," "," "," "," "," "," "," "," "," "," "," "," "," "," "," "," "," "," "," "," "," "," "," "," "," "," "," "," "," "," "," "," "," "," "," "," "," "," "," "," "," "," "," "," "," "," "," "," "," "," "," "," "," "," "," "," "," "," "," "," "," "]
[null," "," "," ",null,null," "," "," "," "," "," "," "," "," "," "," "," "," "," "," "," "," "," "," "," "," "," "," "," "," "," "," "," "," "," "," "," "," "," "," "," "," "," "," "," "," "," "," "," "," "," "," "," "," "," "," "," "," "," "," "," "," "," "," "," "," "," "," "," "," "," "," "," "," "," "," "," "," "," "]
[null,{"$f":"Roster_Selection_Women!AF227&\" \" & \"JV1 \"","v":"Peru State College JV1 "},{"$f":"Roster_Selection_Women!AH227","v":"15-184489"},{"$f":"Roster_Selection_Women!AI227","v":"Adria Huiett"},null,{"$f":"IF(ISERROR(Individual_Scores_Women_JV!E77), \" \", IF(Individual_Scores_Women_JV!E77 = \"Yes\", \"Yes\", \"  \"))","v":"  "},"Games",155.0,142.0,162.0,154.0,162.0,166.0,194.0,178.0,185.0,164.0,169.0,198.0,159.0,138.0,210.0,165.0,137.0,144.0,182.0,228.0,{"$f":"SUM(H77:AA77)","v":3392},{"$f":"COUNTIF(H77:AA77, \">0\" )","v":20},{"$f":"AB77/AC77","v":169.6}," "," "," "," "," "," "," "," "," "," "," "," "," "," "," "," "," "," "," "," "," "," "," "," "," "," "," "," "," "," "," "," "," "," "," "," "," "," "," "," "," "," "," "," "," "," "," "," "," "," "]
[null,{"$f":"Roster_Selection_Women!AF228&\" \" & \"JV1 \"","v":"Peru State College JV1 "},{"$f":"Roster_Selection_Women!AH228","v":"20-57206"},{"$f":"Roster_Selection_Women!AI228","v":"Caitlynn Gronenthal"},null,{"$f":"IF(ISERROR(Individual_Scores_Women_JV!E78), \" \", IF(Individual_Scores_Women_JV!E78 = \"Yes\", \"Yes\", \"  \"))","v":"  "}," "," "," "," "," "," "," "," "," "," "," "," "," "," "," "," "," "," "," "," "," "," "," "," "," "," "," "," "," "," "," "," "," "," "," "," "," "," "," "," "," "," "," "," "," "," "," "," "," "," "," "," "," "," "," "," "," "," "," "," "," "," "," "," "," "," "," "," "," "," "," "," "," "," "]
[null,{"$f":"Roster_Selection_Women!AF229&\" \" & \"JV1 \"","v":"Peru State College JV1 "},{"$f":"Roster_Selection_Women!AH229","v":"20-36373"},{"$f":"Roster_Selection_Women!AI229","v":"Emily Meyer"},null,{"$f":"IF(ISERROR(Individual_Scores_Women_JV!E79), \" \", IF(Individual_Scores_Women_JV!E79 = \"Yes\", \"Yes\", \"  \"))","v":"  "}," "," "," "," "," "," "," "," "," "," "," "," "," "," "," "," "," "," "," "," "," "," "," "," "," "," "," "," "," "," "," "," "," "," "," "," "," "," "," "," "," "," "," "," "," "," "," "," "," "," "," "," "," "," "," "," "," "," "," "," "," "," "," "," "," "," "," "," "," "," "," "," "," "," "]
[null,{"$f":"Roster_Selection_Women!AF230&\" \" & \"JV1 \"","v":"Peru State College JV1 "},{"$f":"Roster_Selection_Women!AH230","v":"11-93281"},{"$f":"Roster_Selection_Women!AI230","v":"Mindy Bartels"},null,{"$f":"IF(ISERROR(Individual_Scores_Women_JV!E80), \" \", IF(Individual_Scores_Women_JV!E80 = \"Yes\", \"Yes\", \"  \"))","v":"  "}," "," "," "," "," "," "," "," "," "," "," "," "," "," "," "," "," "," "," "," "," "," "," "," "," "," "," "," "," "," "," "," "," "," "," "," "," "," "," "," "," "," "," "," "," "," "," "," "," "," "," "," "," "," "," "," "," "," "," "," "," "," "," "," "," "," "," "," "," "," "," "," "," "," "]
[null,{"$f":"Roster_Selection_Women!AF231&\" \" & \"JV1 \"","v":"Peru State College JV1 "},{"$f":"Roster_Selection_Women!AH231","v":"18-6620"},{"$f":"Roster_Selection_Women!AI231","v":"Raelynn Sugden"},null,{"$f":"IF(ISERROR(Individual_Scores_Women_JV!E81), \" \", IF(Individual_Scores_Women_JV!E81 = \"Yes\", \"Yes\", \"  \"))","v":"  "}," "," "," "," "," "," "," "," "," "," "," "," "," "," "," "," "," "," "," "," "," "," "," "," "," "," "," "," "," "," "," "," "," "," "," "," "," "," "," "," "," "," "," "," "," "," "," "," "," "," "," "," "," "," "," "," "," "," "," "," "," "," "," "," "," "," "," "," "," "," "," "," "," "," "]
[null,{"$f":"Roster_Selection_Women!AF232&\" \" & \"JV1 \"","v":"Peru State College JV1 "},{"$f":"Roster_Selection_Women!AH232","v":"11-497037"},{"$f":"Roster_Selection_Women!AI232","v":"Renee Gausman"},null,{"$f":"IF(ISERROR(Individual_Scores_Women_JV!E82), \" \", IF(Individual_Scores_Women_JV!E82 = \"Yes\", \"Yes\", \"  \"))","v":"  "}," "," "," "," "," "," "," "," "," "," "," "," "," "," "," "," "," "," "," "," "," "," "," "," "," "," "," "," "," "," "," "," "," "," "," "," "," "," "," "," "," "," "," "," "," "," "," "," "," "," "," "," "," "," "," "," "," "," "," "," "," "," "," "," "," "," "," "," "," "," "," "," "," "," "]
[null,{"$f":"Roster_Selection_Women!AF233&\" \" & \"JV1 \"","v":" JV1 "},{"$f":"Roster_Selection_Women!AH233","v":""},{"$f":"Roster_Selection_Women!AI233","v":""},null,{"$f":"IF(ISERROR(Individual_Scores_Women_JV!E83), \" \", IF(Individual_Scores_Women_JV!E83 = \"Yes\", \"Yes\", \"  \"))","v":"  "}," "," "," "," "," "," "," "," "," "," "," "," "," "," "," "," "," "," "," "," "," "," "," "," "," "," "," "," "," "," "," "," "," "," "," "," "," "," "," "," "," "," "," "," "," "," "," "," "," "," "," "," "," "," "," "," "," "," "," "," "," "," "," "," "," "," "," "," "," "," "," "," "," "," "]
[null,{"$f":"Roster_Selection_Women!AF234&\" \" & \"JV1 \"","v":" JV1 "},{"$f":"Roster_Selection_Women!AH234","v":""},{"$f":"Roster_Selection_Women!AI234","v":""},null,{"$f":"IF(ISERROR(Individual_Scores_Women_JV!E84), \" \", IF(Individual_Scores_Women_JV!E84 = \"Yes\", \"Yes\", \"  \"))","v":"  "}," "," "," "," "," "," "," "," "," "," "," "," "," "," "," "," "," "," "," "," "," "," "," "," "," "," "," "," "," "," "," "," "," "," "," "," "," "," "," "," "," "," "," "," "," "," "," "," "," "," "," "," "," "," "," "," "," "," "," "," "," "," "," "," "," "," "," "," "," "," "," "," "," "," "]
[null,"Peru State College JV",{"$f":"Individual_Scores_Women_JV!C85","v":""},{"$f":"Individual_Scores_Women_JV!D85","v":""},null,null," "," "," "," "," "," "," "," "," "," "," "," "," "," "," "," "," "," "," "," "," "," "," "," "," "," "," "," "," "," "," "," "," "," "," "," "," "," "," "," "," "," "," "," "," "," "," "," "," "," "," "," "," "," "," "," "," "," "," "," "," "," "," "," "," "," "," "," "," "," "," "," "," "," "]
[null,"Peru State College JV",{"$f":"Individual_Scores_Women_JV!C86","v":""},{"$f":"Individual_Scores_Women_JV!D86","v":""},null,null," "," "," "," "," "," "," "," "," "," "," "," "," "," "," "," "," "," "," "," "," "," "," "," "," "," "," "," "," "," "," "," "," "," "," "," "," "," "," "," "," "," "," "," "," "," "," "," "," "," "," "," "," "," "," "," "," "," "," "," "," "," "," "," "," "," "," "," "," "," "," "," "," "," "]
[null,"Peru State College JV",{"$f":"Individual_Scores_Women_JV!C87","v":""},{"$f":"Individual_Scores_Women_JV!D87","v":""},null,null," "," "," "," "," "," "," "," "," "," "," "," "," "," "," "," "," "," "," "," "," "," "," "," "," "," "," "," "," "," "," "," "," "," "," "," "," "," "," "," "," "," "," "," "," "," "," "," "," "," "," "," "," "," "," "," "," "," "," "," "," "," "," "," "," "," "," "," "," "," "," "," "," "," "]
[null," "," "," ",null,null," "," "," "," "," "," "," "," "," "," "," "," "," "," "," "," "," "," "," "," "," "," "," "," "," "," "," "," "," "," "," "," "," "," "," "," "," "," "," "," "," "," "," "," "," "," "," "," "," "," "," "," "," "," "," "," "," "," "," "," "," "," "," "," "," "," "," "," "," "," "," "," "," "," "]
[null," "," "," ",null,null," "," "," "," "," "," "," "," "," "," "," "," "," "," "," "," "," "," "," "," "," "," "," "," "," "," "," "," "," "," "," "," "," "," "," "," "," "," "," "," "," "," "," "," "," "," "," "," "," "," "," "," "," "," "," "," "," "," "," "," "," "," "," "," "," "," "," "," "," "," "," "," "," "," "]
[null,{"$f":"Roster_Selection_Women!AF282&\" \" & \"JV1 \"","v":"Wichita State University JV1 "},{"$f":"Roster_Selection_Women!AH282","v":"11-671680"},{"$f":"Roster_Selection_Women!AI282","v":"Caroline Ruden"},null,{"$f":"IF(ISERROR(Individual_Scores_Women_JV!E90), \" \", IF(Individual_Scores_Women_JV!E90 = \"Yes\", \"Yes\", \"  \"))","v":"  "},"Games",158.0,201.0,189.0,132.0,154.0,113.0,217.0,121.0,159.0,152.0,202.0,182.0,164.0,191.0,151.0,172.0,192.0,155.0,144.0,152.0,{"$f":"SUM(H90:AA90)","v":3301},{"$f":"COUNTIF(H90:AA90, \">0\" )","v":20},{"$f":"AB90/AC90","v":165.05}," "," "," "," "," "," "," "," "," "," "," "," "," "," "," "," "," "," "," "," "," "," "," "," "," "," "," "," "," "," "," "," "," "," "," "," "," "," "," "," "," "," "," "," "," "," "," "," "," "," "]
[null,{"$f":"Roster_Selection_Women!AF283&\" \" & \"JV1 \"","v":"Wichita State University JV1 "},{"$f":"Roster_Selection_Women!AH283","v":"17-56083"},{"$f":"Roster_Selection_Women!AI283","v":"Chloe Ciecko"},null,{"$f":"IF(ISERROR(Individual_Scores_Women_JV!E91), \" \", IF(Individual_Scores_Women_JV!E91 = \"Yes\", \"Yes\", \"  \"))","v":"  "}," "," "," "," "," "," "," "," "," "," "," "," "," "," "," "," "," "," "," "," "," "," "," "," "," "," "," "," "," "," "," "," "," "," "," "," "," "," "," "," "," "," "," "," "," "," "," "," "," "," "," "," "," "," "," "," "," "," "," "," "," "," "," "," "," "," "," "," "," "," "," "," "," "," "]
[null,{"$f":"Roster_Selection_Women!AF284&\" \" & \"JV1 \"","v":"Wichita State University JV1 "},{"$f":"Roster_Selection_Women!AH284","v":"20-21972"},{"$f":"Roster_Selection_Women!AI284","v":"Dahna'adel Duffy"},null,{"$f":"IF(ISERROR(Individual_Scores_Women_JV!E92), \" \", IF(Individual_Scores_Women_JV!E92 = \"Yes\", \"Yes\", \"  \"))","v":"  "}," "," "," "," "," "," "," "," "," "," "," "," "," "," "," "," "," "," "," "," "," "," "," "," "," "," "," "," "," "," "," "," "," "," "," "," "," "," "," "," "," "," "," "," "," "," "," "," "," "," "," "," "," "," "," "," "," "," "," "," "," "," "," "," "," "," "," "," "," "," "," "," "," "," "]
[null,{"$f":"Roster_Selection_Women!AF285&\" \" & \"JV1 \"","v":"Wichita State University JV1 "},{"$f":"Roster_Selection_Women!AH285","v":"11-139695"},{"$f":"Roster_Selection_Women!AI285","v":"Kristy Mace"},null,{"$f":"IF(ISERROR(Individual_Scores_Women_JV!E93), \" \", IF(Individual_Scores_Women_JV!E93 = \"Yes\", \"Yes\", \"  \"))","v":"  "}," "," "," "," "," "," "," "," "," "," "," "," "," "," "," "," "," "," "," "," "," "," "," "," "," "," "," "," "," "," "," "," "," "," "," "," "," "," "," "," "," "," "," "," "," "," "," "," "," "," "," "," "," "," "," "," "," "," "," "," "," "," "," "," "," "," "," "," "," "," "," "," "," "," "]
[null,{"$f":"Roster_Selection_Women!AF286&\" \" & \"JV1 \"","v":"Wichita State University JV1 "},{"$f":"Roster_Selection_Women!AH286","v":"17-20321"},{"$f":"Roster_Selection_Women!AI286","v":"Mariah Bell"},null,{"$f":"IF(ISERROR(Individual_Scores_Women_JV!E94), \" \", IF(Individual_Scores_Women_JV!E94 = \"Yes\", \"Yes\", \"  \"))","v":"  "}," "," "," "," "," "," "," "," "," "," "," "," "," "," "," "," "," "," "," "," "," "," "," "," "," "," "," "," "," "," "," "," "," "," "," "," "," "," "," "," "," "," "," "," "," "," "," "," "," "," "," "," "," "," "," "," "," "," "," "," "," "," "," "," "," "," "," "," "," "," "," "," "," "," "]
[null,{"$f":"Roster_Selection_Women!AF287&\" \" & \"JV1 \"","v":"Wichita State University JV1 "},{"$f":"Roster_Selection_Women!AH287","v":"11-97263"},{"$f":"Roster_Selection_Women!AI287","v":"Paige Wagner"},null,{"$f":"IF(ISERROR(Individual_Scores_Women_JV!E95), \" \", IF(Individual_Scores_Women_JV!E95 = \"Yes\", \"Yes\", \"  \"))","v":"  "}," "," "," "," "," "," "," "," "," "," "," "," "," "," "," "," "," "," "," "," "," "," "," "," "," "," "," "," "," "," "," "," "," "," "," "," "," "," "," "," "," "," "," "," "," "," "," "," "," "," "," "," "," "," "," "," "," "," "," "," "," "," "," "," "," "," "," "," "," "," "," "," "," "," "]
[null,{"$f":"Roster_Selection_Women!AF288&\" \" & \"JV1 \"","v":"Wichita State University JV1 "},{"$f":"Roster_Selection_Women!AH288","v":"11-679604"},{"$f":"Roster_Selection_Women!AI288","v":"Paris Smith"},null,{"$f":"IF(ISERROR(Individual_Scores_Women_JV!E96), \" \", IF(Individual_Scores_Women_JV!E96 = \"Yes\", \"Yes\", \"  \"))","v":"  "}," "," "," "," "," "," "," "," "," "," "," "," "," "," "," "," "," "," "," "," "," "," "," "," "," "," "," "," "," "," "," "," "," "," "," "," "," "," "," "," "," "," "," "," "," "," "," "," "," "," "," "," "," "," "," "," "," "," "," "," "," "," "," "," "," "," "," "," "," "," "," "," "," "," "]
[null,{"$f":"Roster_Selection_Women!AF289&\" \" & \"JV1 \"","v":" JV1 "},{"$f":"Roster_Selection_Women!AH289","v":""},{"$f":"Roster_Selection_Women!AI289","v":""},null,{"$f":"IF(ISERROR(Individual_Scores_Women_JV!E97), \" \", IF(Individual_Scores_Women_JV!E97 = \"Yes\", \"Yes\", \"  \"))","v":"  "}," "," "," "," "," "," "," "," "," "," "," "," "," "," "," "," "," "," "," "," "," "," "," "," "," "," "," "," "," "," "," "," "," "," "," "," "," "," "," "," "," "," "," "," "," "," "," "," "," "," "," "," "," "," "," "," "," "," "," "," "," "," "," "," "," "," "," "," "," "," "," "," "," "," "]
[null,"Wichita State University JV",{"$f":"Individual_Scores_Women_JV!C98","v":""},{"$f":"Individual_Scores_Women_JV!D98","v":""},null,null," "," "," "," "," "," "," "," "," "," "," "," "," "," "," "," "," "," "," "," "," "," "," "," "," "," "," "," "," "," "," "," "," "," "," "," "," "," "," "," "," "," "," "," "," "," "," "," "," "," "," "," "," "," "," "," "," "," "," "," "," "," "," "," "," "," "," "," "," "," "," "," "," "," "]
[null,"Wichita State University JV",{"$f":"Individual_Scores_Women_JV!C99","v":""},{"$f":"Individual_Scores_Women_JV!D99","v":""},null,null," "," "," "," "," "," "," "," "," "," "," "," "," "," "," "," "," "," "," "," "," "," "," "," "," "," "," "," "," "," "," "," "," "," "," "," "," "," "," "," "," "," "," "," "," "," "," "," "," "," "," "," "," "," "," "," "," "," "," "," "," "," "," "," "," "," "," "," "," "," "," "," "," "," "]
[null,"Wichita State University JV",{"$f":"Individual_Scores_Women_JV!C100","v":""},{"$f":"Individual_Scores_Women_JV!D100","v":""},null,null," "," "," "," "," "," "," "," "," "," "," "," "," "," "," "," "," "," "," "," "," "," "," "," "," "," "," "," "," "," "," "," "," "," "," "," "," "," "," "," "," "," "," "," "," "," "," "," "," "," "," "," "," "," "," "," "," "," "," "," "," "," "," "," "," "," "," "," "," "," "," "," "," "," "]
[null," "," "," ",null,null," "," "," "," "," "," "," "," "," "," "," "," "," "," "," "," "," "," "," "," "," "," "," "," "," "," "," "," "," "," "," "," "," "," "," "," "," "," "," "," "," "," "," "," "," "," "," "," "," "," "," "," "," "," "," "," "," "," "," "," "," "," "," "," "," "," "," "," "," "," "," "," "," "," "]
[null," "," "," ",null,null," "," "," "," "," "," "," "," "," "," "," "," "," "," "," "," "," "," "," "," "," "," "," "," "," "," "," "," "," "," "," "," "," "," "," "," "," "," "," "," "," "," "," "," "," "," "," "," "," "," "," "," "," "," "," "," "," "," "," "," "," "," "," "," "," "," "," "," "," "," "," "," "," "," "]
[null," "," "," ",null,null," "," "," "," "," "," "," "," "," "," "," "," "," "," "," "," "," "," "," "," "," "," "," "," "," "," "," "," "," "," "," "," "," "," "," "," "," "," "," "," "," "," "," "," "," ","*"," "," "," "," "," "," "," "," "," "," "," "," "," "," "," "," "," "," "," "," "," "," "," "," "," "," "," "," "]
[null," "," "," ",null,null," "," "," "," "," "," "," "," "," "," "," "," "," "," "," "," "," "," "," "," "," "," "," "," "," "," "," "," "," "," "," "," "," "," "," "," "," "," "," "," "," "," "," "," "," "," "," "," "," "," "," "," "," "," "," "," "," "," "," "," "," "," "," "," "," "," "," "," "," "," "," "," "," "," "]
[null," "," "," ",null,null," "," "," "," "," "," "," "," "," "," "," "," "," "," "," "," "," "," "," "," "," "," "," "," "," "," "," "," "," "," "," "," "," "," "," "," "," "," "," "," "," "," "," "," "," "," "," "," "," "," "," "," "," "," "," "," "," "," "," "," "," "," "," "," "," "," "," "," "," "," "," "," "," "," "]
[null," "," "," ",null,null," "," "," "," "," "," "," "," "," "," "," "," "," "," "," "," "," "," "," "," "," "," "," "," "," "," "," "," "," "," "," "," "," "," "," "," "," "," "," "," "," "," "," "," "," "," "," "," "," "," "," "," "," "," "," "," "," "," "," "," "," "," "," "," "," "," "," "," "," "," "," "," "," "," "]
[null," "," "," ",null,null," "," "," "," "," "," "," "," "," "," "," "," "," "," "," "," "," "," "," "," "," "," "," "," "," "," "," "," "," "," "," "," "," "," "," "," "," "," "," "," "," "," "," "," "," "," "," "," "," "," "," "," "," "," "," "," "," "," "," "," "," "," "," "," "," "," "," "," "," "," "," "," "," "," "]
[null," "," "," ",null,null," "," "," "," "," "," "," "," "," "," "," "," "," "," "," "," "," "," "," "," "," "," "," "," "," "," "," "," "," "," "," "," "," "," "," "," "," "," "," "," "," "," "," "," "," "," "," "," "," "," "," "," "," "," "," "," "," "," "," "," "," "," "," "," "," "," "," "," "," "," "," "," "," "," "]
[null," "," "," ",null,null," "," "," "," "," "," "," "," "," "," "," "," "," "," "," "," "," "," "," "," "," "," "," "," "," "," "," "," "," "," "," "," "," "," "," "," "," "," "," "," "," "," "," "," "," "," "," "," "," "," "," "," "," "," "," "," "," "," "," "," "," "," "," "," "," "," "," "," "," "," "," "," "," "," "]
[null," "," "," ",null,null," "," "," "," "," "," "," "," "," "," "," "," "," "," "," "," "," "," "," "," "," "," "," "," "," "," "," "," "," "," "," "," "," "," "," "," "," "," "," "," "," "," "," "," "," "," "," "," "," "," "," "," "," "," "," "," "," "," "," "," "," "," "," "," "," "," "," "," "," "," "," "," "," "," "]
[null," "," "," ",null,null," "," "," "," "," "," "," "," "," "," "," "," "," "," "," "," "," "," "," "," "," "," "," "," "," "," "," "," "," "," "," "," "," "," "," "," "," "," "," "," "," "," "," "," "," "," "," "," "," "," "," "," "," "," "," "," "," "," "," "," "," "," "," "," "," "," "," "," "," "," "," "," "," "," "]
[null," "," "," ",null,null," "," "," "," "," "," "," "," "," "," "," "," "," "," "," "," "," "," "," "," "," "," "," "," "," "," "," "," "," "," "," "," "," "," "," "," "," "," "," "," "," "," "," "," "," "," "," "," "," "," "," "," "," "," "," "," "," "," "," "," "," "," "," "," "," "," "," "," "," "," "," "," "," "," "]
[null," "," "," ",null,null," "," "," "," "," "," "," "," "," "," "," "," "," "," "," "," "," "," "," "," "," "," "," "," "," "," "," "," "," "," "," "," "," "," "," "," "," "," "," "," "," "," "," "," "," "," "," "," "," "," "," "," "," "," "," "," "," "," "," "," "," "," "," "," "," "," "," "," "," "," "," "," "," "," "]
[null," "," "," ",null,null," "," "," "," "," "," "," "," "," "," "," "," "," "," "," "," "," "," "," "," "," "," "," "," "," "," "," "," "," "," "," "," "," "," "," "," "," "," "," "," "," "," "," "," "," "," "," "," "," "," "," "," "," "," "," "," "," "," "," "," "," "," "," "," "," "," "," "," "," "," "," "," "," "," "]
[null," "," "," ",null,null," "," "," "," "," "," "," "," "," "," "," "," "," "," "," "," "," "," "," "," "," "," "," "," "," "," "," "," "," "," "," "," "," "," "," "," "," "," "," "," "," "," "," "," "," "," "," "," "," "," "," "," "," "," "," "," "," "," "," "," "," "," "," "," "," "," "," "," "," "," "," "," "," "," "]
[null," "," "," ",null,null," "," "," "," "," "," "," "," "," "," "," "," "," "," "," "," "," "," "," "," "," "," "," "," "," "," "," "," "," "," "," "," "," "," "," "," "," "," "," "," "," "," "," "," "," "," "," "," "," "," "," "," "," "," "," "," "," "," "," "," "," "," "," "," "," "," "," "," "," "," "," "," "," "," "]
[null," "," "," ",null,null," "," "," "," "," "," "," "," "," "," "," "," "," "," "," "," "," "," "," "," "," "," "," "," "," "," "," "," "," "," "," "," "," "," "," "," "," "," "," "," "," "," "," "," "," "," "," "," "," "," "," "," "," "," "," "," "," "," "," "," "," "," "," "," "," "," "," "," "," "," "," "," "," "," "]
[null," "," "," ",null,null," "," "," "," "," "," "," "," "," "," "," "," "," "," "," "," "," "," "," "," "," "," "," "," "," "," "," "," "," "," "," "," "," "," "," "," "," "," "," "," "," "," "," "," "," "," "," "," "," "," "," "," "," "," "," "," "," "," "," "," "," "," "," "," "," "," "," "," "," "," "," "," "," "," "]
[null," "," "," ",null,null," "," "," "," "," "," "," "," "," "," "," "," "," "," "," "," "," "," "," "," "," "," "," "," "," "," "," "," "," "," "," "," "," "," "," "," "," "," "," "," "," "," "," "," "," "," "," "," "," "," "," "," "," "," "," "," "," "," "," "," "," "," "," "," "," "," "," "," "," "," "," "," "," "," "]
[null," "," "," ",null,null," "," "," "," "," "," "," "," "," "," "," "," "," "," "," "," "," "," "," "," "," "," "," "," "," "," "," "," "," "," "," "," "," "," "," "," "," "," "," "," "," "," "," "," "," "," "," "," "," "," "," "," "," "," "," "," "," "," "," "," "," "," "," "," "," "," "," "," "," "," "," "," "," "," "]
[null," "," "," ",null,null," "," "," "," "," "," "," "," "," "," "," "," "," "," "," "," "," "," "," "," "," "," "," "," "," "," "," "," "," "," "," "," "," "," "," "," "," "," "," "," "," "," "," "," "," "," "," "," "," "," "," "," "," "," "," "," "," "," "," "," "," "," "," "," "," "," "," "," "," "," "," "," "," "," "]
[null," "," "," ",null,null," "," "," "," "," "," "," "," "," "," "," "," "," "," "," "," "," "," "," "," "," "," "," "," "," "," "," "," "," "," "," "," "," "," "," "," "," "," "," "," "," "," "," "," "," "," "," "," "," "," "," "," "," "," "," "," "," "," "," "," "," "," "," "," "," "," "," "," "," "," "," "," "," "," "]
[null," "," "," ",null,null," "," "," "," "," "," "," "," "," "," "," "," "," "," "," "," "," "," "," "," "," "," "," "," "," "," "," "," "," "," "," "," "," "," "," "," "," "," "," "," "," "," "," "," "," "," "," "," "," "," "," "," "," "," "," "," "," "," "," "," "," "," "," "," "," "," "," "," "," "," "," "," "," "," "]
[null," "," "," ",null,null," "," "," "," "," "," "," "," "," "," "," "," "," "," "," "," "," "," "," "," "," "," "," "," "," "," "," "," "," "," "," "," "," "," "," "," "," "," "," "," "," "," "," "," "," "," "," "," "," "," "," "," "," "," "," "," "," "," "," "," "," "," "," "," "," "," "," "," "," "," "," "," "," "," "]
[null," "," "," ",null,null," "," "," "," "," "," "," "," "," "," "," "," "," "," "," "," "," "," "," "," "," "," "," "," "," "," "," "," "," "," "," "," "," "," "," "," "," "," "," "," "," "," "," "," "," "," "," "," "," "," "," "," "," "," "," "," "," "," "," "," "," "," "," "," "," "," "," "," "," "," "," "," "," "," "]
[null," "," "," ",null,null," "," "," "," "," "," "," "," "," "," "," "," "," "," "," "," "," "," "," "," "," "," "," "," "," "," "," "," "," "," "," "," "," "," "," "," "," "," "," "," "," "," "," "," "," "," "," "," "," "," "," "," "," "," "," "," "," "," "," "," "," "," "," "," "," "," "," "," "," "," "," "," "," "," "]
[null," "," "," ",null,null," "," "," "," "," "," "," "," "," "," "," "," "," "," "," "," "," "," "," "," "," "," "," "," "," "," "," "," "," "," "," "," "," "," "," "," "," "," "," "," "," "," "," "," "," "," "," "," "," "," "," "," "," "," "," "," "," "," "," "," "," "," "," "," "," "," "," "," "," "," "," "," "," "," "]
[null," "," "," ",null,null," "," "," "," "," "," "," "," "," "," "," "," "," "," "," "," "," "," "," "," "," "," "," "," "," "," "," "," "," "," "," "," "," "," "," "," "," "," "," "," "," "," "," "," "," "," "," "," "," "," "," "," "," "," "," "," "," "," "," "," "," "," "," "," "," "," "," "," "," "," "," "," "," "," "]
[null," "," "," ",null,null," "," "," "," "," "," "," "," "," "," "," "," "," "," "," "," "," "," "," "," "," "," "," "," "," "," "," "," "," "," "," "," "," "," "," "," "," "," "," "," "," "," "," "," "," "," "," "," "," "," "," "," "," "," "," "," "," "," "," "," "," "," "," "," "," "," "," "," "," "," "," "," "," "," "]
[null," "," "," ",null,null," "," "," "," "," "," "," "," "," "," "," "," "," "," "," "," "," "," "," "," "," "," "," "," "," "," "," "," "," "," "," "," "," "," "," "," "," "," "," "," "," "," "," "," "," "," "," "," "," "," "," "," "," "," "," "," "," "," "," "," "," "," "," "," "," "," "," "," "," "," "," "," "," "," "]
[null," "," "," ",null,null," "," "," "," "," "," "," "," "," "," "," "," "," "," "," "," "," "," "," "," "," "," "," "," "," "," "," "," "," "," "," "," "," "," "," "," "," "," "," "," "," "," "," "," "," "," "," "," "," "," "," "," "," "," "," "," "," "," "," "," "," "," "," "," "," "," "," "," "," "," "," "," "," "," "]
[null," "," "," ",null,null," "," "," "," "," "," "," "," "," "," "," "," "," "," "," "," "," "," "," "," "," "," "," "," "," "," "," "," "," "," "," "," "," "," "," "," "," "," "," "," "," "," "," "," "," "," "," "," "," "," "," "," "," "," "," "," "," "," "," "," "," "," "," "," "," "," "," "," "," "," "," "," "," "," "]
[null," "," "," ",null,null," "," "," "," "," "," "," "," "," "," "," "," "," "," "," "," "," "," "," "," "," "," "," "," "," "," "," "," "," "," "," "," "," "," "," "," "," "," "," "," "," "," "," "," "," "," "," "," "," "," "," "," "," "," "," "," "," "," "," "," "," "," "," "," "," "," "," "," "," "," "," "," "," "," "]
[null," "," "," ",null,null," "," "," "," "," "," "," "," "," "," "," "," "," "," "," "," "," "," "," "," "," "," "," "," "," "," "," "," "," "," "," "," "," "," "," "," "," "," "," "," "," "," "," "," "," "," "," "," "," "," "," "," "," "," "," "," "," "," "," "," "," "," "," "," "," "," "," "," "," "," "," "," "," "," "]
[null," "," "," ",null,null," "," "," "," "," "," "," "," "," "," "," "," "," "," "," "," "," "," "," "," "," "," "," "," "," "," "," "," "," "," "," "," "," "," "," "," "," "," "," "," "," "," "," "," "," "," "," "," "," "," "," "," "," "," "," "," "," "," "," "," "," "," "," "," "," "," "," "," "," "," "," "," "," "," "]
[null," "," "," ",null,null," "," "," "," "," "," "," "," "," "," "," "," "," "," "," "," "," "," "," "," "," "," "," "," "," "," "," "," "," "," "," "," "," "," "," "," "," "," "," "," "," "," "," "," "," "," "," "," "," "," "," "," "," "," "," "," "," "," "," "," "," "," "," "," "," "," "," "," "," "," "," "," "," "," "]
[null," "," "," ",null,null," "," "," "," "," "," "," "," "," "," "," "," "," "," "," "," "," "," "," "," "," "," "," "," "," "," "," "," "," "," "," "," "," "," "," "," "," "," "," "," "," "," "," "," "," "," "," "," "," "," "," "," "," "," "," "," "," "," "," "," "," "," "," "," "," "," "," "," "," "," "," "," "," "," "]
[null," "," "," ",null,null," "," "," "," "," "," "," "," "," "," "," "," "," "," "," "," "," "," "," "," "," "," "," "," "," "," "," "," "," "," "," "," "," "," "," "," "," "," "," "," "," "," "," "," "," "," "," "," "," "," "," "," "," "," "," "," "," "," "," "," "," "," "," "," "," "," "," "," "," "," "," "," "," "," "]
[null," "," "," ",null,null," "," "," "," "," "," "," "," "," "," "," "," "," "," "," "," "," "," "," "," "," "," "," "," "," "," "," "," "," "," "," "," "," "," "," "," "," "," "," "," "," "," "," "," "," "," "," "," "," "," "," "," "," "," "," "," "," "," "," "," "," "," "," "," "," "," "," "," "," "," "," "," "," "," "]
[null," "," "," ",null,null," "," "," "," "," "," "," "," "," "," "," "," "," "," "," "," "," "," "," "," "," "," "," "," "," "," "," "," "," "," "," "," "," "," "," "," "," "," "," "," "," "," "," "," "," "," "," "," "," "," "," "," "," "," "," "," "," "," "," "," "," "," "," "," "," "," "," "," "," "," "," "," "," "," "]
[null," "," "," ",null,null," "," "," "," "," "," "," "," "," "," "," "," "," "," "," "," "," "," "," "," "," "," "," "," "," "," "," "," "," "," "," "," "," "," "," "," "," "," "," "," "," "," "," "," "," "," "," "," "," "," "," "," "," "," "," "," "," "," "," "," "," "," "," "," "," "," "," "," "," "," "," "," "," "," "]
[null," "," "," ",null,null," "," "," "," "," "," "," "," "," "," "," "," "," "," "," "," "," "," "," "," "," "," "," "," "," "," "," "," "," "," "," "," "," "," "," "," "," "," "," "," "," "," "," "," "," "," "," "," "," "," "," "," "," "," "," "," "," "," "," "," "," "," "," "," "," "," "," "," "," "," "," "," "," "," "]
[null," "," "," ",null,null," "," "," "," "," "," "," "," "," "," "," "," "," "," "," "," "," "," "," "," "," "," "," "," "," "," "," "," "," "," "," "," "," "," "," "," "," "," "," "," "," "," "," "," "," "," "," "," "," "," "," "," "," "," "," "," "," "," "," "," "," "," "," "," "," "," "," "," "," "," "," "," "," "," "]
[null," "," "," ",null,null," "," "," "," "," "," "," "," "," "," "," "," "," "," "," "," "," "," "," "," "," "," "," "," "," "," "," "," "," "," "," "," "," "," "," "," "," "," "," "," "," "," "," "," "," "," "," "," "," "," "," "," "," "," "," "," "," "," "," "," "," "," "," "," "," "," "," "," "," "," "," "," "," "," "]
[null," "," "," ",null,null," "," "," "," "," "," "," "," "," "," "," "," "," "," "," "," "," "," "," "," "," "," "," "," "," "," "," "," "," "," "," "," "," "," "," "," "," "," "," "," "," "," "," "," "," "," "," "," "," "," "," "," "," "," "," "," "," "," "," "," "," "," "," "," "," "," "," "," "," "," "," "," "," "," "]
[null," "," "," ",null,null," "," "," "," "," "," "," "," "," "," "," "," "," "," "," "," "," "," "," "," "," "," "," "," "," "," "," "," "," "," "," "," "," "," "," "," "," "," "," "," "," "," "," "," "," "," "," "," "," "," "," "," "," "," "," "," "," "," "," "," "," "," "," "," "," "," "," "," "," "," "," "," "," "," "]
[null," "," "," ",null,null," "," "," "," "," "," "," "," "," "," "," "," "," "," "," "," "," "," "," "," "," "," "," "," "," "," "," "," "," "," "," "," "," "," "," "," "," "," "," "," "," "," "," "," "," "," "," "," "," "," "," "," "," "," "," "," "," "," "," "," "," "," "," "," "," "," "," "," "," "," "," "," "," "," "]
[null," "," "," ",null,null," "," "," "," "," "," "," "," "," "," "," "," "," "," "," "," "," "," "," "," "," "," "," "," "," "," "," "," "," "," "," "," "," "," "," "," "," "," "," "," "," "," "," "," "," "," "," "," "," "," "," "," "," "," "," "," "," "," "," "," "," "," "," "," "," "," "," "," "," "," "," "," "," "," "]
[null," "," "," ",null,null," "," "," "," "," "," "," "," "," "," "," "," "," "," "," "," "," "," "," "," "," "," "," "," "," "," "," "," "," "," "," "," "," "," "," "," "," "," "," "," "," "," "," "," "," "," "," "," "," "," "," "," "," "," "," "," "," "," "," "," "," "," "," "," "," "," "," "," "," "," "," "," "," "," "]
[null," "," "," ",null,null," "," "," "," "," "," "," "," "," "," "," "," "," "," "," "," "," "," "," "," "," "," "," "," "," "," "," "," "," "," "," "," "," "," "," "," "," "," "," "," "," "," "," "," "," "," "," "," "," "," "," "," "," "," "," "," "," "," "," "," "," "," "," "," "," "," "," "," "," "," "," "," "," "," "]
[null," "," "," ",null,null," "," "," "," "," "," "," "," "," "," "," "," "," "," "," "," "," "," "," "," "," "," "," "," "," "," "," "," "," "," "," "," "," "," "," "," "," "," "," "," "," "," "," "," "," "," "," "," "," "," "," "," "," "," "," "," "," "," "," "," "," "," "," "," "," "," "," "," "," "," "," "," "," "," "]
[null," "," "," ",null,null," "," "," "," "," "," "," "," "," "," "," "," "," "," "," "," "," "," "," "," "," "," "," "," "," "," "," "," "," "," "," "," "," "," "," "," "," "," "," "," "," "," "," "," "," "," "," "," "," "," "," "," "," "," "," "," "," "," "," "," "," "," "," "," "," "," "," "," "," "," "," "," "," "," "]
[null," "," "," ",null,null," "," "," "," "," "," "," "," "," "," "," "," "," "," "," "," "," "," "," "," "," "," "," "," "," "," "," "," "," "," "," "," "," "," "," "," "," "," "," "," "," "," "," "," "," "," "," "," "," "," "," "," "," "," "," "," "," "," "," "," "," "," "," "," "," "," "," "," "," "," "," "," "," "," "]
[null," "," "," ",null,null," "," "," "," "," "," "," "," "," "," "," "," "," "," "," "," "," "," "," "," "," "," "," "," "," "," "," "," "," "," "," "," "," "," "," "," "," "," "," "," "," "," "," "," "," "," "," "," "," "," "," "," "," "," "," "," "," "," "," "," "," "," "," "," "," "," "," "," "," "," "," "," "," "," "]
[null," "," "," ",null,null," "," "," "," "," "," "," "," "," "," "," "," "," "," "," "," "," "," "," "," "," "," "," "," "," "," "," "," "," "," "," "," "," "," "," "," "," "," "," "," "," "," "," "," "," "," "," "," "," "," "," "," "," "," "," "," "," "," "," "," "," "," "," "," "," "," "," "," "," "," "," "," "," "," "]
[null," "," "," ",null,null," "," "," "," "," "," "," "," "," "," "," "," "," "," "," "," "," "," "," "," "," "," "," "," "," "," "," "," "," "," "," "," "," "," "," "," "," "," "," "," "," "," "," "," "," "," "," "," "," "," "," "," "," "," "," "," "," "," "," "," "," "," "," "," "," "," "," "," "," "," "," "," "," "," "]
[null," "," "," ",null,null," "," "," "," "," "," "," "," "," "," "," "," "," "," "," "," "," "," "," "," "," "," "," "," "," "," "," "," "," "," "," "," "," "," "," "," "," "," "," "," "," "," "," "," "," "," "," "," "," "," "," "," "," "," "," "," "," "," "," "," "," "," "," "," "," "," "," "," "," "," "," "," "," "," "]
[null," "," "," ",null,null," "," "," "," "," "," "," "," "," "," "," "," "," "," "," "," "," "," "," "," "," "," "," "," "," "," "," "," "," "," "," "," "," "," "," "," "," "," "," "," "," "," "," "," "," "," "," "," "," "," "," "," "," "," "," "," "," "," "," "," "," "," "," "," "," "," "," "," "," "," "," "," "," "," "]
[null," "," "," ",null,null," "," "," "," "," "," "," "," "," "," "," "," "," "," "," "," "," "," "," "," "," "," "," "," "," "," "," "," "," "," "," "," "," "," "," "," "," "," "," "," "," "," "," "," "," "," "," "," "," "," "," "," "," "," "," "," "," "," "," "," "," "," "," "," "," "," "," "," "," "," "," "," "," "," "]
[null," "," "," ",null,null," "," "," "," "," "," "," "," "," "," "," "," "," "," "," "," "," "," "," "," "," "," "," "," "," "," "," "," "," "," "," "," "," "," "," "," "," "," "," "," "," "," "," "," "," "," "," "," "," "," "," "," "," "," "," "," "," "," "," "," "," "," "," "," "," "," "," "," "," "," "," "," "," "," "]
[null," "," "," ",null,null," "," "," "," "," "," "," "," "," "," "," "," "," "," "," "," "," "," "," "," "," "," "," "," "," "," "," "," "," "," "," "," "," "," "," "," "," "," "," "," "," "," "," "," "," "," "," "," "," "," "," "," "," "," "," "," "," "," "," "," "," "," "," "," "," "," "," "," "," "," "," "," "," "," "]
[null," "," "," ",null,null," "," "," "," "," "," "," "," "," "," "," "," "," "," "," "," "," "," "," "," "," "," "," "," "," "," "," "," "," "," "," "," "," "," "," "," "," "," "," "," "," "," "," "," "," "," "," "," "," "," "," "," "," "," "," "," "," "," "," "," "," "," "," "," "," "," "," "," "," "," "," "," "," "," "]
[null," "," "," ",null,null," "," "," "," "," "," "," "," "," "," "," "," "," "," "," "," "," "," "," "," "," "," "," "," "," "," "," "," "," "," "," "," "," "," "," "," "," "," "," "," "," "," "," "," "," "," "," "," "," "," "," "," "," "," "," "," "," "," "," "," "," "," "," "," "," "," "," "," "," "," "," "," "," "," "]
[null," "," "," ",null,null," "," "," "," "," "," "," "," "," "," "," "," "," "," "," "," "," "," "," "," "," "," "," "," "," "," "," "," "," "," "," "," "," "," "," "," "," "," "," "," "," "," "," "," "," "," "," "," "," "," "," "," "," "," "," "," "," "," "," "," "," "," "," "," "," "," "," "," "," "," "," "," "," "," "]
[null," "," "," ",null,null," "," "," "," "," "," "," "," "," "," "," "," "," "," "," "," "," "," "," "," "," "," "," "," "," "," "," "," "," "," "," "," "," "," "," "," "," "," "," "," "," "," "," "," "," "," "," "," "," "," "," "," "," "," "," "," "," "," "," "," "," "," "," "," "," "," "," "," "," "," "," "," "," "," "]
[null," "," "," ",null,null," "," "," "," "," "," "," "," "," "," "," "," "," "," "," "," "," "," "," "," "," "," "," "," "," "," "," "," "," "," "," "," "," "," "," "," "," "," "," "," "," "," "," "," "," "," "," "," "," "," "," "," "," "," "," "," "," "," "," "," "," "," "," "," "," "," "," "," "," "," "," "," "," "," "]
[null," "," "," ",null,null," "," "," "," "," "," "," "," "," "," "," "," "," "," "," "," "," "," "," "," "," "," "," "," "," "," "," "," "," "," "," "," "," "," "," "," "," "," "," "," "," "," "," "," "," "," "," "," "," "," "," "," "," "," "," "," "," "," "," "," "," "," "," "," "," "," "," "," "," "," "," "," "," "," "]
[null," "," "," ",null,null," "," "," "," "," "," "," "," "," "," "," "," "," "," "," "," "," "," "," "," "," "," "," "," "," "," "," "," "," "," "," "," "," "," "," "," "," "," "," "," "," "," "," "," "," "," "," "," "," "," "," "," "," "," "," "," "," "," "," "," "," "," "," "," "," "," "," "," "," "," "," "," "," "," "]
[null," "," "," ",null,null," "," "," "," "," "," "," "," "," "," "," "," "," "," "," "," "," "," "," "," "," "," "," "," "," "," "," "," "," "," "," "," "," "," "," "," "," "," "," "," "," "," "," "," "," "," "," "," "," "," "," "," "," "," "," "," "," "," "," "," "," "," "," "," "," "," "," "," "," "," "," "," "," "," "]
[null," "," "," ",null,null," "," "," "," "," "," "," "," "," "," "," "," "," "," "," "," "," "," "," "," "," "," "," "," "," "," "," "," "," "," "," "," "," "," "," "," "," "," "," "," "," "," "," "," "," "," "," "," "," "," "," "," "," "," "," "," "," "," "," "," "," "," "," "," "," "," "," "," "," "," "," "," "," "," "]
[null," "," "," ",null,null," "," "," "," "," "," "," "," "," "," "," "," "," "," "," "," "," "," "," "," "," "," "," "," "," "," "," "," "," "," "," "," "," "," "," "," "," "," "," "," "," "," "," "," "," "," "," "," "," "," "," "," "," "," "," "," "," "," "," "," "," "," "," "," "," "," "," "," "," "," "," "," "," "," "]
[null," "," "," ",null,null," "," "," "," "," "," "," "," "," "," "," "," "," "," "," "," "," "," "," "," "," "," "," "," "," "," "," "," "," "," "," "," "," "," "," "," "," "," "," "," "," "," "," "," "," "," "," "," "," "," "," "," "," "," "," "," "," "," "," "," "," "," "," "," "," "," "," "," "," "," "," "," "," "," "]
[null," "," "," ",null,null," "," "," "," "," "," "," "," "," "," "," "," "," "," "," "," "," "," "," "," "," "," "," "," "," "," "," "," "," "," "," "," "," "," "," "," "," "," "," "," "," "," "," "," "," "," "," "," "," "," "," "," "," "," "," "," "," "," "," "," "," "," "," "," "," "," "," "," "," "," "," "," "," "," "]
[null," "," "," ",null,null," "," "," "," "," "," "," "," "," "," "," "," "," "," "," "," "," "," "," "," "," "," "," "," "," "," "," "," "," "," "," "," "," "," "," "," "," "," "," "," "," "," "," "," "," "," "," "," "," "," "," "," "," "," "," "," "," "," "," "," "," "," "," "," "," "," "," "," "," "," "," "," "," "," "]
[null," "," "," ",null,null," "," "," "," "," "," "," "," "," "," "," "," "," "," "," "," "," "," "," "," "," "," "," "," "," "," "," "," "," "," "," "," "," "," "," "," "," "," "," "," "," "," "," "," "," "," "," "," "," "," "," "," "," "," "," "," "," "," "," "," "," "," "," "," "," "," "," "," "," "," "," "," "," "," "]
[null," "," "," ",null,null," "," "," "," "," "," "," "," "," "," "," "," "," "," "," "," "," "," "," "," "," "," "," "," "," "," "," "," "," "," "," "," "," "," "," "," "," "," "," "," "," "," "," "," "," "," "," "," "," "," "," "," "," "," "," "," "," "," "," "," "," "," "," "," "," "," "," "," "," "," "," "," "," "," "]
[null," "," "," ",null,null," "," "," "," "," "," "," "," "," "," "," "," "," "," "," "," "," "," "," "," "," "," "," "," "," "," "," "," "," "," "," "," "," "," "," "," "," "," "," "," "," "," "," "," "," "," "," "," "," "," "," "," "," "," "," "," "," "," "," "," "," "," "," "," "," "," "," "," "," "," "," "," "," "," "]
[null," "," "," ",null,null," "," "," "," "," "," "," "," "," "," "," "," "," "," "," "," "," "," "," "," "," "," "," "," "," "," "," "," "," "," "," "," "," "," "," "," "," "," "," "," "," "," "," "," "," "," "," "," "," "," "," "," "," "," "," "," "," "," "," "," "," "," "," "," "," "," "," "," "," "," "," "," "," "," "]
[null," "," "," ",null,null," "," "," "," "," "," "," "," "," "," "," "," "," "," "," "," "," "," "," "," "," "," "," "," "," "," "," "," "," "," "," "," "," "," "," "," "," "," "," "," "," "," "," "," "," "," "," "," "," "," "," "," "," "," "," "," "," "," "," "," "," "," "," "," "," "," "," "," "," "," "," "," "," "," "]
[null," "," "," ",null,null," "," "," "," "," "," "," "," "," "," "," "," "," "," "," "," "," "," "," "," "," "," "," "," "," "," "," "," "," "," "," "," "," "," "," "," "," "," "," "," "," "," "," "," "," "," "," "," "," "," "," "," "," "," "," "," "," "," "," "," "," "," "," "," "," "," "," "," "," "," "," "," "," "," "]
[null," "," "," ",null,null," "," "," "," "," "," "," "," "," "," "," "," "," "," "," "," "," "," "," "," "," "," "," "," "," "," "," "," "," "," "," "," "," "," "," "," "," "," "," "," "," "," "," "," "," "," "," "," "," "," "," "," "," "," "," "," "," "," "," "," "," "," "," "," "," "," "," "," "," "," "," "," "," "," "]
[null," "," "," ",null,null," "," "," "," "," "," "," "," "," "," "," "," "," "," "," "," "," "," "," "," "," "," "," "," "," "," "," "," "," "," "," "," "," "," "," "," "," "," "," "," "," "," "," "," "," "," "," "," "," "," "," "," "," "," "," "," "," "," "," "," "," "," "," "," "," "," "," "," "," "," "," "," "," "," "]
[null," "," "," ",null,null," "," "," "," "," "," "," "," "," "," "," "," "," "," "," "," "," "," "," "," "," "," "," "," "," "," "," "," "," "," "," "," "," "," "," "," "," "," "," "," "," "," "," "," "," "," "," "," "," "," "," "," "," "," "," "," "," "," "," "," "," "," "," "," "," "," "," "," "," "," "," "," "," "," "]
[null," "," "," ",null,null," "," "," "," "," "," "," "," "," "," "," "," "," "," "," "," "," "," "," "," "," "," "," "," "," "," "," "," "," "," "," "," "," "," "," "," "," "," "," "," "," "," "," "," "," "," "," "," "," "," "," "," "," "," "," "," "," "," "," "," "," "," "," "," "," "," "," "," "," "," "," "," "," "," "]
[null," "," "," ",null,null," "," "," "," "," "," "," "," "," "," "," "," "," "," "," "," "," "," "," "," "," "," "," "," "," "," "," "," "," "," "," "," "," "," "," "," "," "," "," "," "," "," "," "," "," "," "," "," "," "," "," "," "," "," "," "," "," "," "," "," "," "," "," "," "," "," "," "," "," "," "," "," "," "," "]
[null," "," "," ",null,null," "," "," "," "," "," "," "," "," "," "," "," "," "," "," "," "," "," "," "," "," "," "," "," "," "," "," "," "," "," "," "," "," "," "," "," "," "," "," "," "," "," "," "," "," "," "," "," "," "," "," "," "," "," "," "," "," "," "," "," "," "," "," "," "," "," "," "," "," "," "," "," "," "," "]
[null," "," "," ",null,null," "," "," "," "," "," "," "," "," "," "," "," "," "," "," "," "," "," "," "," "," "," "," "," "," "," "," "," "," "," "," "," "," "," "," "," "," "," "," "," "," "," "," "," "," "," "," "," "," "," "," "," "," "," "," "," "," "," "," "," "," "," "," "," "," "," "," "," "," "," "," "," "," "," "]
[null," "," "," ",null,null," "," "," "," "," "," "," "," "," "," "," "," "," "," "," "," "," "," "," "," "," "," "," "," "," "," "," "," "," "," "," "," "," "," "," "," "," "," "," "," "," "," "," "," "," "," "," "," "," "," "," "," "," "," "," "," "," "," "," "," "," "," "," "," "," "," "," "," "," "," "," "," "," "," "]
[null," "," "," ",null,null," "," "," "," "," "," "," "," "," "," "," "," "," "," "," "," "," "," "," "," "," "," "," "," "," "," "," "," "," "," "," "," "," "," "," "," "," "," "," "," "," "," "," "," "," "," "," "," "," "," "," "," "," "," "," "," "," "," "," "," "," "," "," "," "," "," "," "," "," "," "," "," "," "," "]
[null," "," "," ",null,null," "," "," "," "," "," "," "," "," "," "," "," "," "," "," "," "," "," "," "," "," "," "," "," "," "," "," "," "," "," "," "," "," "," "," "," "," "," "," "," "," "," "," "," "," "," "," "," "," "," "," "," "," "," "," "," "," "," "," "," "," "," "," "," "," "," "," "," "," "," "," "," "," "," "]
[null," "," "," ",null,null," "," "," "," "," "," "," "," "," "," "," "," "," "," "," "," "," "," "," "," "," "," "," "," "," "," "," "," "," "," "," "," "," "," "," "," "," "," "," "," "," "," "," "," "," "," "," "," "," "," "," "," "," "," "," "," "," "," "," "," "," "," "," "," "," "," "," "," "," "," "," "," "," "," "]
[null," "," "," ",null,null," "," "," "," "," "," "," "," "," "," "," "," "," "," "," "," "," "," "," "," "," "," "," "," "," "," "," "," "," "," "," "," "," "," "," "," "," "," "," "," "," "," "," "," "," "," "," "," "," "," "," "," "," "," "," "," "," "," "," "," "," "," "," "," "," "," "," "," "," "," "," "," "," "," "]
[null," "," "," ",null,null," "," "," "," "," "," "," "," "," "," "," "," "," "," "," "," "," "," "," "," "," "," "," "," "," "," "," "," "," "," "," "," "," "," "," "," "," "," "," "," "," "," "," "," "," "," "," "," "," "," "," "," "," "," "," "," "," "," "," "," "," "," "," "," "," "," "," "," "," "," "," "," "," "," "]
[null," "," "," ",null,null," "," "," "," "," "," "," "," "," "," "," "," "," "," "," "," "," "," "," "," "," "," "," "," "," "," "," "," "," "," "," "," "," "," "," "," "," "," "," "," "," "," "," "," "," "," "," "," "," "," "," "," "," "," "," "," "," "," "," "," "," "," "," "," "," "," "," "," "," "," "," "," "," "," "]
[null," "," "," ",null,null," "," "," "," "," "," "," "," "," "," "," "," "," "," "," "," "," "," "," "," "," "," "," "," "," "," "," "," "," "," "," "," "," "," "," "," "," "," "," "," "," "," "," "," "," "," "," "," "," "," "," "," "," "," "," "," "," "," "," "," "," "," "," "," "," "," "," "," "," "," "," "," "," "," "]
[null," "," "," ",null,null," "," "," "," "," "," "," "," "," "," "," "," "," "," "," "," "," "," "," "," "," "," "," "," "," "," "," "," "," "," "," "," "," "," "," "," "," "," "," "," "," "," "," "," "," "," "," "," "," "," "," "," "," "," "," "," "," "," "," "," "," "," "," "," "," "," "," "," "," "," "," "," "," "," "]
[null," "," "," ",null,null," "," "," "," "," "," "," "," "," "," "," "," "," "," "," "," "," "," "," "," "," "," "," "," "," "," "," "," "," "," "," "," "," "," "," "," "," "," "," "," "," "," "," "," "," "," "," "," "," "," "," "," "," "," "," "," "," "," "," "," "," "," "," "," "," "," "," "," "," "," "," "," "," "," "]
[null," "," "," ",null,null," "," "," "," "," "," "," "," "," "," "," "," "," "," "," "," "," "," "," "," "," "," "," "," "," "," "," "," "," "," "," "," "," "," "," "," "," "," "," "," "," "," "," "," "," "," "," "," "," "," "," "," "," "," "," "," "," "," "," "," "," "," "," "," "," "," "," "," "," "," "," "," "," "," "]
[null," "," "," ",null,null," "," "," "," "," "," "," "," "," "," "," "," "," "," "," "," "," "," "," "," "," "," "," "," "," "," "," "," "," "," "," "," "," "," "," "," "," "," "," "," "," "," "," "," "," "," "," "," "," "," "," "," "," "," "," "," "," "," "," "," "," "," "," "," "," "," "," "," "," "," "," "," "," "," "]
[null," "," "," ",null,null," "," "," "," "," "," "," "," "," "," "," "," "," "," "," "," "," "," "," "," "," "," "," "," "," "," "," "," "," "," "," "," "," "," "," "," "," "," "," "," "," "," "," "," "," "," "," "," "," "," "," "," "," "," "," "," "," "," "," "," "," "," "," "," "," "," "," "," "," "," "," "," "," "," "]
[null," "," "," ",null,null," "," "," "," "," "," "," "," "," "," "," "," "," "," "," "," "," "," "," "," "," "," "," "," "," "," "," "," "," "," "," "," "," "," "," "," "," "," "," "," "," "," "," "," "," "," "," "," "," "," "," "," "," "," "," "," "," "," "," "," "," "," "," "," "," "," "," "," "," "," "," "," "," "," "]
[null," "," "," ",null,null," "," "," "," "," "," "," "," "," "," "," "," "," "," "," "," "," "," "," "," "," "," "," "," "," "," "," "," "," "," "," "," "," "," "," "," "," "," "," "," "," "," "," "," "," "," "," "," "," "," "," "," "," "," "," "," "," "," "," "," "," "," "," "," "," "," "," "," "," "," "," "," "," "," "]
[null," "," "," ",null,null," "," "," "," "," "," "," "," "," "," "," "," "," "," "," "," "," "," "," "," "," "," "," "," "," "," "," "," "," "," "," "," "," "," "," "," "," "," "," "," "," "," "," "," "," "," "," "," "," "," "," "," "," "," "," "," "," "," "," "," "," "," "," "," "," "," "," "," "," "," "," "," "," "," "]
[null," "," "," ",null,null," "," "," "," "," "," "," "," "," "," "," "," "," "," "," "," "," "," "," "," "," "," "," "," "," "," "," "," "," "," "," "," "," "," "," "," "," "," "," "," "," "," "," "," "," "," "," "," "," "," "," "," "," "," "," "," "," "," "," "," "," "," "," "," "," "," "," "," "," "," "," "," "," "," "]
[null," "," "," ",null,null," "," "," "," "," "," "," "," "," "," "," "," "," "," "," "," "," "," "," "," "," "," "," "," "," "," "," "," "," "," "," "," "," "," "," "," "," "," "," "," "," "," "," "," "," "," "," "," "," "," "," "," "," "," "," "," "," "," "," "," "," "," "," "," "," "," "," "," "," "," "," "," "," "," "]
[null," "," "," ",null,null," "," "," "," "," "," "," "," "," "," "," "," "," "," "," "," "," "," "," "," "," "," "," "," "," "," "," "," "," "," "," "," "," "," "," "," "," "," "," "," "," "," "," "," "," "," "," "," "," "," "," "," "," "," "," "," "," "," "," "," "," "," "," "," "," "," "," "," "," "," "," "," "," "," "]
[null," "," "," ",null,null," "," "," "," "," "," "," "," "," "," "," "," "," "," "," "," "," "," "," "," "," "," "," "," "," "," "," "," "," "," "," "," "," "," "," "," "," "," "," "," "," "," "," "," "," "," "," "," "," "," "," "," "," "," "," "," "," "," "," "," "," "," "," "," "," "," "," "," "," "," "," "," "," "," "]
[null," "," "," ",null,null," "," "," "," "," "," "," "," "," "," "," "," "," "," "," "," "," "," "," "," "," "," "," "," "," "," "," "," "," "," "," "," "," "," "," "," "," "," "," "," "," "," "," "," "," "," "," "," "," "," "," "," "," "," "," "," "," "," "," "," "," "," "," "," "," "," "," "," "," "," "," "," "," "," "]
[null," "," "," ",null,null," "," "," "," "," "," "," "," "," "," "," "," "," "," "," "," "," "," "," "," "," "," "," "," "," "," "," "," "," "," "," "," "," "," "," "," "," "," "," "," "," "," "," "," "," "," "," "," "," "," "," "," "," "," "," "," "," "," "," "," "," "," "," "," "," "," "," "," "," "," "," "," "," "," "]
[null," "," "," ",null,null," "," "," "," "," "," "," "," "," "," "," "," "," "," "," "," "," "," "," "," "," "," "," "," "," "," "," "," "," "," "," "," "," "," "," "," "," "," "," "," "," "," "," "," "," "," "," "," "," "," "," "," "," "," "," "," "," "," "," "," "," "," "," "," "," "," "," "," "," "," "," "," "," "," "]
[null," "," "," ",null,null," "," "," "," "," "," "," "," "," "," "," "," "," "," "," "," "," "," "," "," "," "," "," "," "," "," "," "," "," "," "," "," "," "," "," "," "," "," "," "," "," "," "," "," "," "," "," "," "," "," "," "," "," "," "," "," "," "," "," "," "," "," "," "," "," "," "," "," "," "," "," "," "," "," "]
[null," "," "," ",null,null," "," "," "," "," "," "," "," "," "," "," "," "," "," "," "," "," "," "," "," "," "," "," "," "," "," "," "," "," "," "," "," "," "," "," "," "," "," "," "," "," "," "," "," "," "," "," "," "," "," "," "," "," "," "," "," "," "," "," "," "," "," "," "," "," "," "," "," "," "," "," "," "," "," "]
[null," "," "," ",null,null," "," "," "," "," "," "," "," "," "," "," "," "," "," "," "," "," "," "," "," "," "," "," "," "," "," "," "," "," "," "," "," "," "," "," "," "," "," "," "," "," "," "," "," "," "," "," "," "," "," "," "," "," "," "," "," "," "," "," "," "," "," "," "," "," "," "," "," "," "," "," "," "," "," "]
[null," "," "," ",null,null," "," "," "," "," "," "," "," "," "," "," "," "," "," "," "," "," "," "," "," "," "," "," "," "," "," "," "," "," "," "," "," "," "," "," "," "," "," "," "," "," "," "," "," "," "," "," "," "," "," "," "," "," "," "," "," "," "," "," "," "," "," "," "," "," "," "," "," "," "," "," "," "," "," "]
[null," "," "," ",null,null," "," "," "," "," "," "," "," "," "," "," "," "," "," "," "," "," "," "," "," "," "," "," "," "," "," "," "," "," "," "," "," "," "," "," "," "," "," "," "," "," "," "," "," "," "," "," "," "," "," "," "," "," "," "," "," "," "," "," "," "," "," "," "," "," "," "," "," "," "," "," "," "," "," "]
[null," "," "," ",null,null," "," "," "," "," "," "," "," "," "," "," "," "," "," "," "," "," "," "," "," "," "," "," "," "," "," "," "," "," "," "," "," "," "," "," "," "," "," "," "," "," "," "," "," "," "," "," "," "," "," "," "," "," "," "," "," "," "," "," "," "," "," "," "," "," "," "," "," "," "," "," "," "," "," "]
[null," "," "," ",null,null," "," "," "," "," "," "," "," "," "," "," "," "," "," "," "," "," "," "," "," "," "," "," "," "," "," "," "," "," "," "," "," "," "," "," "," "," "," "," "," "," "," "," "," "," "," "," "," "," "," "," "," "," "," "," "," "," "," "," "," "," "," "," "," "," "," "," "," "," "," "," "," "," "," "]
[null," "," "," ",null,null," "," "," "," "," "," "," "," "," "," "," "," "," "," "," "," "," "," "," "," "," "," "," "," "," "," "," "," "," "," "," "," "," "," "," "," "," "," "," "," "," "," "," "," "," "," "," "," "," "," "," "," "," "," "," "," "," "," "," "," "," "," "," "," "," "," "," "," "," "," "," "," "," "," "]
[null," "," "," ",null,null," "," "," "," "," "," "," "," "," "," "," "," "," "," "," "," "," "," "," "," "," "," "," "," "," "," "," "," "," "," "," "," "," "," "," "," "," "," "," "," "," "," "," "," "," "," "," "," "," "," "," "," "," "," "," "," "," "," "," "," "," "," "," "," "," "," "," "," "," "," "," "," "," "," "]
[null," "," "," ",null,null," "," "," "," "," "," "," "," "," "," "," "," "," "," "," "," "," "," "," "," "," "," "," "," "," "," "," "," "," "," "," "," "," "," "," "," "," "," "," "," "," "," "," "," "," "," "," "," "," "," "," "," "," "," "," "," "," "," "," "," "," "," "," "," "," "," "," "," "," "," "," "," "," "," "]
[null," "," "," ",null,null," "," "," "," "," "," "," "," "," "," "," "," "," "," "," "," "," "," "," "," "," "," "," "," "," "," "," "," "," "," "," "," "," "," "," "," "," "," "," "," "," "," "," "," "," "," "," "," "," "," "," "," "," "," "," "," "," "," "," "," "," "," "," "," "," "," "," "," "," "," "," "," "," "," "]
[null," "," "," ",null,null," "," "," "," "," "," "," "," "," "," "," "," "," "," "," "," "," "," "," "," "," "," "," "," "," "," "," "," "," "," "," "," "," "," "," "," "," "," "," "," "," "," "," "," "," "," "," "," "," "," "," "," "," "," "," "," "," "," "," "," "," "," "," "," "," "," "," "," "," "," "," "," "," "," "]
[null," "," "," ",null,null," "," "," "," "," "," "," "," "," "," "," "," "," "," "," "," "," "," "," "," "," "," "," "," "," "," "," "," "," "," "," "," "," "," "," "," "," "," "," "," "," "," "," "," "," "," "," "," "," "," "," "," "," "," "," "," "," "," "," "," "," "," "," "," "," "," "," "," "," "," "," "," "," "," "]
[null," "," "," ",null,null," "," "," "," "," "," "," "," "," "," "," "," "," "," "," "," "," "," "," "," "," "," "," "," "," "," "," "," "," "," "," "," "," "," "," "," "," "," "," "," "," "," "," "," "," "," "," "," "," "," "," "," "," "," "," "," "," "," "," "," "," "," "," "," "," "," "," "," "," "," "," "," "," "," "]
[null," "," "," ",null,null," "," "," "," "," "," "," "," "," "," "," "," "," "," "," "," "," "," "," "," "," "," "," "," "," "," "," "," "," "," "," "," "," "," "," "," "," "," "," "," "," "," "," "," "," "," "," "," "," "," "," "," "," "," "," "," "," "," "," "," "," "," "," "," "," "," "," "," "," "," "," "," "," "," "]
[null," "," "," ",null,null," "," "," "," "," "," "," "," "," "," "," "," "," "," "," "," "," "," "," "," "," "," "," "," "," "," "," "," "," "," "," "," "," "," "," "," "," "," "," "," "," "," "," "," "," "," "," "," "," "," "," "," "," "," "," "," "," "," "," "," "," "," "," "," "," "," "," "," "," "," "," "," "," "," "]
[null," "," "," ",null,null," "," "," "," "," "," "," "," "," "," "," "," "," "," "," "," "," "," "," "," "," "," "," "," "," "," "," "," "," "," "," "," "," "," "," "," "," "," "," "," "," "," "," "," "," "," "," "," "," "," "," "," "," "," "," "," "," "," "," "," "," "," "," "," "," "," "," "," "," "," "," "," "," "," "]
[null," "," "," ",null,null," "," "," "," "," "," "," "," "," "," "," "," "," "," "," "," "," "," "," "," "," "," "," "," "," "," "," "," "," "," "," "," "," "," "," "," "," "," "," "," "," "," "," "," "," "," "," "," "," "," "," "," "," "," "," "," "," "," "," "," "," "," "," "," "," "," "," "," "," "," "," "," "," "," "]
[null," "," "," ",null,null," "," "," "," "," "," "," "," "," "," "," "," "," "," "," "," "," "," "," "," "," "," "," "," "," "," "," "," "," "," "," "," "," "," "," "," "," "," "," "," "," "," "," "," "," "," "," "," "," "," "," "," "," "," "," "," "," "," "," "," "," "," "," "," "," "," "," "," "," "," "," "," "," "," "]
[null," "," "," ",null,null," "," "," "," "," "," "," "," "," "," "," "," "," "," "," "," "," "," "," "," "," "," "," "," "," "," "," "," "," "," "," "," "," "," "," "," "," "," "," "," "," "," "," "," "," "," "," "," "," "," "," "," "," "," "," "," "," "," "," "," "," "," "," "," "," "," "," "," "," "," "," "," "," "," "]
[null," "," "," ",null,null," "," "," "," "," "," "," "," "," "," "," "," "," "," "," "," "," "," "," "," "," "," "," "," "," "," "," "," "," "," "," "," "," "," "," "," "," "," "," "," "," "," "," "," "," "," "," "," "," "," "," "," "," "," "," "," "," "," "," "," "," "," "," "," "," "," "," "," "," "," "," "," "," "," "]
[null," "," "," ",null,null," "," "," "," "," "," "," "," "," "," "," "," "," "," "," "," "," "," "," "," "," "," "," "," "," "," "," "," "," "," "," "," "," "," "," "," "," "," "," "," "," "," "," "," "," "," "," "," "," "," "," "," "," "," "," "," "," "," "," "," "," "," "," "," "," "," "," "," "," "," "," "," "," "," "]
[null," "," "," ",null,null," "," "," "," "," "," "," "," "," "," "," "," "," "," "," "," "," "," "," "," "," "," "," "," "," "," "," "," "," "," "," "," "," "," "," "," "," "," "," "," "," "," "," "," "," "," "," "," "," "," "," "," "," "," "," "," "," "," "," "," "," "," "," "," "," "," "," "," "," "," "," "," "," "," "]
[null," "," "," ",null,null," "," "," "," "," "," "," "," "," "," "," "," "," "," "," "," "," "," "," "," "," "," "," "," "," "," "," "," "," "," "," "," "," "," "," "," "," "," "," "," "," "," "," "," "," "," "," "," "," "," "," "," "," "," "," "," "," "," "," "," "," "," "," "," "," "," "," "," "," "," "," "," "," "," "]
[null," "," "," ",null,null," "," "," "," "," "," "," "," "," "," "," "," "," "," "," "," "," "," "," "," "," "," "," "," "," "," "," "," "," "," "," "," "," "," "," "," "," "," "," "," "," "," "," "," "," "," "," "," "," "," "," "," "," "," "," "," "," "," "," "," "," "," "," "," "," "," "," "," "," "," "," "," "," "," "]
[null," "," "," ",null,null," "," "," "," "," "," "," "," "," "," "," "," "," "," "," "," "," "," "," "," "," "," "," "," "," "," "," "," "," "," "," "," "," "," "," "," "," "," "," "," "," "," "," "," "," "," "," "," "," "," "," "," "," "," "," "," "," "," "," "," "," "," "," "," "," "," "," "," "," "," "," "," "," "," "]
[null," "," "," ",null,null," "," "," "," "," "," "," "," "," "," "," "," "," "," "," "," "," "," "," "," "," "," "," "," "," "," "," "," "," "," "," "," "," "," "," "," "," "," "," "," "," "," "," "," "," "," "," "," "," "," "," "," "," "," "," "," "," "," "," "," "," "," "," "," "," "," "," "," "," "," "," "," "," "," "]
[null," "," "," ",null,null," "," "," "," "," "," "," "," "," "," "," "," "," "," "," "," "," "," "," "," "," "," "," "," "," "," "," "," "," "," "," "," "," "," "," "," "," "," "," "," "," "," "," "," "," "," "," "," "," "," "," "," "," "," "," "," "," "," "," "," "," "," "," "," "," "," "," "," "," "," "," "," "," "," "]
[null," "," "," ",null,null," "," "," "," "," "," "," "," "," "," "," "," "," "," "," "," "," "," "," "," "," "," "," "," "," "," "," "," "," "," "," "," "," "," "," "," "," "," "," "," "," "," "," "," "," "," "," "," "," "," "," "," "," "," "," "," "," "," "," "," "," "," "," "," "," "," "," "," "," "," "," "," "," "," "]
[null," "," "," ",null,null," "," "," "," "," "," "," "," "," "," "," "," "," "," "," "," "," "," "," "," "," "," "," "," "," "," "," "," "," "," "," "," "," "," "," "," "," "," "," "," "," "," "," "," "," "," "," "," "," "," "," "," "," "," "," "," "," "," "," "," "," "," "," "," "," "," "," "," "," "," "," "," "," "," "]
[null," "," "," ",null,null," "," "," "," "," "," "," "," "," "," "," "," "," "," "," "," "," "," "," "," "," "," "," "," "," "," "," "," "," "," "," "," "," "," "," "," "," "," "," "," "," "," "," "," "," "," "," "," "," "," "," "," "," "," "," "," "," "," "," "," "," "," "," "," "," "," "," "," "," "," "," "," "," "," "]
[null," "," "," ",null,null," "," "," "," "," "," "," "," "," "," "," "," "," "," "," "," "," "," "," "," "," "," "," "," "," "," "," "," "," "," "," "," "," "," "," "," "," "," "," "," "," "," "," "," "," "," "," "," "," "," "," "," "," "," "," "," "," "," "," "," "," "," "," "," "," "," "," "," "," "," "," "," "," "," "]
[null," "," "," ",null,null," "," "," "," "," "," "," "," "," "," "," "," "," "," "," "," "," "," "," "," "," "," "," "," "," "," "," "," "," "," "," "," "," "," "," "," "," "," "," "," "," "," "," "," "," "," "," "," "," "," "," "," "," "," "," "," "," "," "," "," "," "," "," "," "," "," "," "," "," "," "," "," "," "," "]
[null," "," "," ",null,null," "," "," "," "," "," "," "," "," "," "," "," "," "," "," "," "," "," "," "," "," "," "," "," "," "," "," "," "," "," "," "," "," "," "," "," "," "," "," "," "," "," "," "," "," "," "," "," "," "," "," "," "," "," "," "," "," "," "," "," "," "," "," "," "," "," "," "," "," "," "," "," "," "," "]
[null," "," "," ",null,null," "," "," "," "," "," "," "," "," "," "," "," "," "," "," "," "," "," "," "," "," "," "," "," "," "," "," "," "," "," "," "," "," "," "," "," "," "," "," "," "," "," "," "," "," "," "," "," "," "," "," "," "," "," "," "," "," "," "," "," "," "," "," "," "," "," "," "," "," "," "," "," "," "," "]
[null," "," "," ",null,null," "," "," "," "," "," "," "," "," "," "," "," "," "," "," "," "," "," "," "," "," "," "," "," "," "," "," "," "," "," "," "," "," "," "," "," "," "," "," "," "," "," "," "," "," "," "," "," "," "," "," "," "," "," "," "," "," "," "," "," "," "," "," "," "," "," "," "," "," "," "," "," "," "," "]
[null," "," "," ",null,null," "," "," "," "," "," "," "," "," "," "," "," "," "," "," "," "," "," "," "," "," "," "," "," "," "," "," "," "," "," "," "," "," "," "," "," "," "," "," "," "," "," "," "," "," "," "," "," "," "," "," "," "," "," "," "," "," "," "," "," "," "," "," "," "," "," "," "," "," "," "," "," "," "," "]
[null," "," "," ",null,null," "," "," "," "," "," "," "," "," "," "," "," "," "," "," "," "," "," "," "," "," "," "," "," "," "," "," "," "," "," "," "," "," "," "," "," "," "," "," "," "," "," "," "," "," "," "," "," "," "," "," "," "," "," "," "," "," "," "," "," "," "," "," "," "," "," "," "," "," "," "," "," "," "," "]
[null," "," "," ",null,null," "," "," "," "," "," "," "," "," "," "," "," "," "," "," "," "," "," "," "," "," "," "," "," "," "," "," "," "," "," "," "," "," "," "," "," "," "," "," "," "," "," "," "," "," "," "," "," "," "," "," "," "," "," "," "," "," "," "," "," "," "," "," "," "," "," "," "," "," "," "," "," "," "," "]
[null," "," "," ",null,null," "," "," "," "," "," "," "," "," "," "," "," "," "," "," "," "," "," "," "," "," "," "," "," "," "," "," "," "," "," "," "," "," "," "," "," "," "," "," "," "," "," "," "," "," "," "," "," "," "," "," "," "," "," "," "," "," "," "," "," "," "," "," "," "," "," "," "," "," "," "," "," "," "," "]
[null," "," "," ",null,null," "," "," "," "," "," "," "," "," "," "," "," "," "," "," "," "," "," "," "," "," "," "," "," "," "," "," "," "," "," "," "," "," "," "," "," "," "," "," "," "," "," "," "," "," "," "," "," "," "," "," "," "," "," "," "," "," "," "," "," "," "," "," "," "," "," "," "," "," "," "," "," "," "," "]
[null," "," "," ",null,null," "," "," "," "," "," "," "," "," "," "," "," "," "," "," "," "," "," "," "," "," "," "," "," "," "," "," "," "," "," "," "," "," "," "," "," "," "," "," "," "," "," "," "," "," "," "," "," "," "," "," "," "," "," "," "," "," "," "," "," "," "," "," "," "," "," "," "," "," "," "," "," "," "," "]
[null," "," "," ",null,null," "," "," "," "," "," "," "," "," "," "," "," "," "," "," "," "," "," "," "," "," "," "," "," "," "," "," "," "," "," "," "," "," "," "," "," "," "," "," "," "," "," "," "," "," "," "," "," "," "," "," "," "," "," "," "," "," "," "," "," "," "," "," "," "," "," "," "," "," "," "," "," "," "," "]
[null," "," "," ",null,null," "," "," "," "," "," "," "," "," "," "," "," "," "," "," "," "," "," "," "," "," "," "," "," "," "," "," "," "," "," "," "," "," "," "," "," "," "," "," "," "," "," "," "," "," "," "," "," "," "," "," "," "," "," "," "," "," "," "," "," "," "," "," "," "," "," "," "," "," "," "," "," "," "," "]
[null," "," "," ",null,null," "," "," "," "," "," "," "," "," "," "," "," "," "," "," "," "," "," "," "," "," "," "," "," "," "," "," "," "," "," "," "," "," "," "," "," "," "," "," "," "," "," "," "," "," "," "," "," "," "," "," "," "," "," "," "," "," "," "," "," "," "," "," "," "," "," "," "," "," "," "," "," "," "," "]
[null," "," "," ",null,null," "," "," "," "," "," "," "," "," "," "," "," "," "," "," "," "," "," "," "," "," "," "," "," "," "," "," "," "," "," "," "," "," "," "," "," "," "," "," "," "," "," "," "," "," "," "," "," "," "," "," "," "," "," "," "," "," "," "," "," "," "," "," "," "," "," "," "," "," "," "," "," "," "," "]
[null," "," "," ",null,null," "," "," "," "," "," "," "," "," "," "," "," "," "," "," "," "," "," "," "," "," "," "," "," "," "," "," "," "," "," "," "," "," "," "," "," "," "," "," "," "," "," "," "," "," "," "," "," "," "," "," "," "," "," "," "," "," "," "," "," "," "," "," "," "," "," "," "," "," "," "," "," "," "," "]
[null," "," "," ",null,null," "," "," "," "," "," "," "," "," "," "," "," "," "," "," "," "," "," "," "," "," "," "," "," "," "," "," "," "," "," "," "," "," "," "," "," "," "," "," "," "," "," "," "," "," "," "," "," "," "," "," "," "," "," "," "," "," "," "," "," "," "," "," "," "," "," "," "," "," "," "," "," "," "," "]
[null," "," "," ",null,null," "," "," "," "," "," "," "," "," "," "," "," "," "," "," "," "," "," "," "," "," "," "," "," "," "," "," "," "," "," "," "," "," "," "," "," "," "," "," "," "," "," "," "," "," "," "," "," "," "," "," "," "," "," "," "," "," "," "," "," "," "," "," "," "," "," "," "," "," "," "," "," "," "," "]
[null," "," "," ",null,null," "," "," "," "," "," "," "," "," "," "," "," "," "," "," "," "," "," "," "," "," "," "," "," "," "," "," "," "," "," "," "," "," "," "," "," "," "," "," "," "," "," "," "," "," "," "," "," "," "," "," "," "," "," "," "," "," "," "," "," "," "," "," "," "," "," "," "," "," "," "," "," "," "," "]
[null," "," "," ",null,null," "," "," "," "," "," "," "," "," "," "," "," "," "," "," "," "," "," "," "," "," "," "," "," "," "," "," "," "," "," "," "," "," "," "," "," "," "," "," "," "," "," "," "," "," "," "," "," "," "," "," "," "," "," "," "," "," "," "," "," "," "," "," "," "," "," "," "," "," "," "," "," "," "," "]
[null," "," "," ",null,null," "," "," "," "," "," "," "," "," "," "," "," "," "," "," "," "," "," "," "," "," "," "," "," "," "," "," "," "," "," "," "," "," "," "," "," "," "," "," "," "," "," "," "," "," "," "," "," "," "," "," "," "," "," "," "," "," "," "," "," "," "," "," "," "," "," "," "," "," "," "," "," "," "," "]
[null," "," "," ",null,null," "," "," "," "," "," "," "," "," "," "," "," "," "," "," "," "," "," "," "," "," "," "," "," "," "," "," "," "," "," "," "," "," "," "," "," "," "," "," "," "," "," "," "," "," "," "," "," "," "," "," "," "," "," "," "," "," "," "," "," "," "," "," "," "," "," "," "," "," "," "," "," "," "," "]
[null," "," "," ",null,null," "," "," "," "," "," "," "," "," "," "," "," "," "," "," "," "," "," "," "," "," "," "," "," "," "," "," "," "," "," "," "," "," "," "," "," "," "," "," "," "," "," "," "," "," "," "," "," "," "," "," "," "," "," "," "," "," "," "," "," "," "," "," "," "," "," "," "," "," "," "," "," "," "," "]
[null," "," "," ",null,null," "," "," "," "," "," "," "," "," "," "," "," "," "," "," "," "," "," "," "," "," "," "," "," "," "," "," "," "," "," "," "," "," "," "," "," "," "," "," "," "," "," "," "," "," "," "," "," "," "," "," "," "," "," "," "," "," "," "," "," "," "," "," "," "," "," "," "," "," "," "," "," "," "," "]
[null," "," "," ",null,null," "," "," "," "," "," "," "," "," "," "," "," "," "," "," "," "," "," "," "," "," "," "," "," "," "," "," "," "," "," "," "," "," "," "," "," "," "," "," "," "," "," "," "," "," "," "," "," "," "," "," "," "," "," "," "," "," "," "," "," "," "," "," "," "," "," "," "," "," "," "," "," "," "," "]
[null," "," "," ",null,null," "," "," "," "," "," "," "," "," "," "," "," "," "," "," "," "," "," "," "," "," "," "," "," "," "," "," "," "," "," "," "," "," "," "," "," "," "," "," "," "," "," "," "," "," "," "," "," "," "," "," "," "," "," "," "," "," "," "," "," "," "," "," "," "," "," "," "," "," "," "," "," "," "," "]
[null," "," "," ",null,null," "," "," "," "," "," "," "," "," "," "," "," "," "," "," "," "," "," "," "," "," "," "," "," "," "," "," "," "," "," "," "," "," "," "," "," "," "," "," "," "," "," "," "," "," "," "," "," "," "," "," "," "," "," "," "," "," "," "," "," "," "," "," "," "," "," "," "," "," "," "," "," "," "," "]
[null," "," "," ",null,null," "," "," "," "," "," "," "," "," "," "," "," "," "," "," "," "," "," "," "," "," "," "," "," "," "," "," "," "," "," "," "," "," "," "," "," "," "," "," "," "," "," "," "," "," "," "," "," "," "," "," "," "," "," "," "," "," "," "," "," "," "," "," "," "," "," "," "," "," "," "," "," "," "," "]
[null," "," "," ",null,null," "," "," "," "," "," "," "," "," "," "," "," "," "," "," "," "," "," "," "," "," "," "," "," "," "," "," "," "," "," "," "," "," "," "," "," "," "," "," "," "," "," "," "," "," "," "," "," "," "," "," "," "," "," "," "," "," "," "," "," "," "," "," "," "," "," "," "," "," "," "," "," "," "," "]
[null," "," "," ",null,null," "," "," "," "," "," "," "," "," "," "," "," "," "," "," "," "," "," "," "," "," "," "," "," "," "," "," "," "," "," "," "," "," "," "," "," "," "," "," "," "," "," "," "," "," "," "," "," "," "," "," "," "," "," "," "," "," "," "," "," "," "," "," "," "," "," "," "," "," "," "," "," "," "," "]
[null," "," "," ",null,null," "," "," "," "," "," "," "," "," "," "," "," "," "," "," "," "," "," "," "," "," "," "," "," "," "," "," "," "," "," "," "," "," "," "," "," "," "," "," "," "," "," "," "," "," "," "," "," "," "," "," "," "," "," "," "," "," "," "," "," "," "," "," "," "," "," "," "," "," "," "," "," "," "," "]
[null," "," "," ",null,null," "," "," "," "," "," "," "," "," "," "," "," "," "," "," "," "," "," "," "," "," "," "," "," "," "," "," "," "," "," "," "," "," "," "," "," "," "," "," "," "," "," "," "," "," "," "," "," "," "," "," "," "," "," "," "," "," "," "," "," "," "," "," "," "," "," "," "," "," "," "," "," "," "," "]
[null," "," "," ",null,null," "," "," "," "," "," "," "," "," "," "," "," "," "," "," "," "," "," "," "," "," "," "," "," "," "," "," "," "," "," "," "," "," "," "," "," "," "," "," "," "," "," "," "," "," "," "," "," "," "," "," "," "," "," "," "," "," "," "," "," "," "," "," "," "," "," "," "," "," "," "," "," "," "," "]
[null," "," "," ",null,null," "," "," "," "," "," "," "," "," "," "," "," "," "," "," "," "," "," "," "," "," "," "," "," "," "," "," "," "," "," "," "," "," "," "," "," "," "," "," "," "," "," "," "," "," "," "," "," "," "," "," "," "," "," "," "," "," "," "," "," "," "," "," "," "," "," "," "," "," "," "," "," "," "," "]
[null," "," "," ",null,null," "," "," "," "," "," "," "," "," "," "," "," "," "," "," "," "," "," "," "," "," "," "," "," "," "," "," "," "," "," "," "," "," "," "," "," "," "," "," "," "," "," "," "," "," "," "," "," "," "," "," "," "," "," "," "," "," "," "," "," "," "," "," "," "," "," "," "," "," "," "," "," "," "," "]
[null," "," "," ",null,null," "," "," "," "," "," "," "," "," "," "," "," "," "," "," "," "," "," "," "," "," "," "," "," "," "," "," "," "," "," "," "," "," "," "," "," "," "," "," "," "," "," "," "," "," "," "," "," "," "," "," "," "," "," "," "," "," "," "," "," "," "," "," "," "," "," "," "," "," "," "," "," "," "," "]
[null," "," "," ",null,null," "," "," "," "," "," "," "," "," "," "," "," "," "," "," "," "," "," "," "," "," "," "," "," "," "," "," "," "," "," "," "," "," "," "," "," "," "," "," "," "," "," "," "," "," "," "," "," "," "," "," "," "," "," "," "," "," "," "," "," "," "," "," "," "," "," "," "," "," "," "," "," "," "," "]
[null," "," "," ",null,null," "," "," "," "," "," "," "," "," "," "," "," "," "," "," "," "," "," "," "," "," "," "," "," "," "," "," "," "," "," "," "," "," "," "," "," "," "," "," "," "," "," "," "," "," "," "," "," "," "," "," "," "," "," "," "," "," "," "," "," "," "," "," "," "," "," "," "," "," "," "," "," "," "," "]
[null," "," "," ",null,null," "," "," "," "," "," "," "," "," "," "," "," "," "," "," "," "," "," "," "," "," "," "," "," "," "," "," "," "," "," "," "," "," "," "," "," "," "," "," "," "," "," "," "," "," "," "," "," "," "," "," "," "," "," "," "," "," "," "," "," "," "," "," "," "," "," "," "," "," "," "," "," "," "," "]
[null," "," "," ",null,null," "," "," "," "," "," "," "," "," "," "," "," "," "," "," "," "," "," "," "," "," "," "," "," "," "," "," "," "," "," "," "," "," "," "," "," "," "," "," "," "," "," "," "," "," "," "," "," "," "," "," "," "," "," "," "," "," "," "," "," "," "," "," "," "," "," "," "," "," "," "," "," "," "," "]
[null," "," "," ",null,null," "," "," "," "," "," "," "," "," "," "," "," "," "," "," "," "," "," "," "," "," "," "," "," "," "," "," "," "," "," "," "," "," "," "," "," "," "," "," "," "," "," "," "," "," "," "," "," "," "," "," "," "," "," "," "," "," "," "," "," "," "," "," "," "," "," "," "," "," "," "," "," "," "," "]
[null," "," "," ",null,null," "," "," "," "," "," "," "," "," "," "," "," "," "," "," "," "," "," "," "," "," "," "," "," "," "," "," "," "," "," "," "," "," "," "," "," "," "," "," "," "," "," "," "," "," "," "," "," "," "," "," "," "," "," "," "," "," "," "," "," "," "," "," "," "," "," "," "," "," "," "," "," "," "," "]
[null," "," "," ",null,null," "," "," "," "," "," "," "," "," "," "," "," "," "," "," "," "," "," "," "," "," "," "," "," "," "," "," "," "," "," "," "," "," "," "," "," "," "," "," "," "," "," "," "," "," "," "," "," "," "," "," "," "," "," "," "," "," "," "," "," "," "," "," "," "," "," "," "," "," "," "," "," "," "," "]
[null," "," "," ",null,null," "," "," "," "," "," "," "," "," "," "," "," "," "," "," "," "," "," "," "," "," "," "," "," "," "," "," "," "," "," "," "," "," "," "," "," "," "," "," "," "," "," "," "," "," "," "," "," "," "," "," "," "," "," "," "," "," "," "," "," "," "," "," "," "," "," "," "," "," "," "," "," "," "," "]
[null," "," "," ",null,null," "," "," "," "," "," "," "," "," "," "," "," "," "," "," "," "," "," "," "," "," "," "," "," "," "," "," "," "," "," "," "," "," "," "," "," "," "," "," "," "," "," "," "," "," "," "," "," "," "," "," "," "," "," "," "," "," "," "," "," "," "," "," "," "," "," "," "," "," "," "," "," "," "," "]
[null," "," "," ",null,null," "," "," "," "," "," "," "," "," "," "," "," "," "," "," "," "," "," "," "," "," "," "," "," "," "," "," "," "," "," "," "," "," "," "," "," "," "," "," "," "," "," "," "," "," "," "," "," "," "," "," "," "," "," "," "," "," "," "," "," "," "," "," "," "," "," "," "," "," "," "," "," "," "," "]
[null," "," "," ",null,null," "," "," "," "," "," "," "," "," "," "," "," "," "," "," "," "," "," "," "," "," "," "," "," "," "," "," "," "," "," "," "," "," "," "," "," "," "," "," "," "," "," "," "," "," "," "," "," "," "," "," "," "," "," "," "," "," "," "," "," "," "," "," "," "," "," "," "," "," "," "," "," "," "," "]
[null," "," "," ",null,null," "," "," "," "," "," "," "," "," "," "," "," "," "," "," "," "," "," "," "," "," "," "," "," "," "," "," "," "," "," "," "," "," "," "," "," "," "," "," "," "," "," "," "," "," "," "," "," "," "," "," "," "," "," "," "," "," "," "," "," "," "," "," "," "," "," "," "," "," "," "," "," "," "," "]
[null," "," "," ",null,null," "," "," "," "," "," "," "," "," "," "," "," "," "," "," "," "," "," "," "," "," "," "," "," "," "," "," "," "," "," "," "," "," "," "," "," "," "," "," "," "," "," "," "," "," "," "," "," "," "," "," "," "," "," "," "," "," "," "," "," "," "," "," "," "," "," "," "," "," "," "," "," "," "," "]
[null," "," "," ",null,null," "," "," "," "," "," "," "," "," "," "," "," "," "," "," "," "," "," "," "," "," "," "," "," "," "," "," "," "," "," "," "," "," "," "," "," "," "," "," "," "," "," "," "," "," "," "," "," "," "," "," "," "," "," "," "," "," "," "," "," "," "," "," "," "," "," "," "," "," "," "," "," "," "," "]
[null," "," "," ",null,null," "," "," "," "," "," "," "," "," "," "," "," "," "," "," "," "," "," "," "," "," "," "," "," "," "," "," "," "," "," "," "," "," "," "," "," "," "," "," "," "," "," "," "," "," "," "," "," "," "," "," "," "," "," "," "," "," "," "," "," "," "," "," "," "," "," "," "," "," "," "," "," "," "," "]
[null," "," "," ",null,null," "," "," "," "," "," "," "," "," "," "," "," "," "," "," "," "," "," "," "," "," "," "," "," "," "," "," "," "," "," "," "," "," "," "," "," "," "," "," "," "," "," "," "," "," "," "," "," "," "," "," "," "," "," "," "," "," "," "," "," "," "," "," "," "," "," "," "," "," "," "," "," "," "," "]
[null," "," "," ",null,null," "," "," "," "," "," "," "," "," "," "," "," "," "," "," "," "," "," "," "," "," "," "," "," "," "," "," "," "," "," "," "," "," "," "," "," "," "," "," "," "," "," "," "," "," "," "," "," "," "," "," "," "," "," "," "," "," "," "," "," "," "," "," "," "," "," "," "," "," "," "," "," "," "," "]
[null," "," "," ",null,null," "," "," "," "," "," "," "," "," "," "," "," "," "," "," "," "," "," "," "," "," "," "," "," "," "," "," "," "," "," "," "," "," "," "," "," "," "," "," "," "," "," "," "," "," "," "," "," "," "," "," "," "," "," "," "," "," "," "," "," "," "," "," "," "," "," "," "," "," "," "," "," "," "," "]
[null," "," "," ",null,null," "," "," "," "," "," "," "," "," "," "," "," "," "," "," "," "," "," "," "," "," "," "," "," "," "," "," "," "," "," "," "," "," "," "," "," "," "," "," "," "," "," "," "," "," "," "," "," "," "," "," "," "," "," "," "," "," "," "," "," "," "," "," "," "," "," "," "," "," "," "," "," "," "," "]
[null," "," "," ",null,null," "," "," "," "," "," "," "," "," "," "," "," "," "," "," "," "," "," "," "," "," "," "," "," "," "," "," "," "," "," "," "," "," "," "," "," "," "," "," "," "," "," "," "," "," "," "," "," "," "," "," "," "," "," "," "," "," "," "," "," "," "," "," "," "," "," "," "," "," "," "," "," "," "," "]
[null," "," "," ",null,null," "," "," "," "," "," "," "," "," "," "," "," "," "," "," "," "," "," "," "," "," "," "," "," "," "," "," "," "," "," "," "," "," "," "," "," "," "," "," "," "," "," "," "," "," "," "," "," "," "," "," "," "," "," "," "," "," "," "," "," "," "," "," "," "," "," "," "," "," "," "," "," "," "," "]
[null," "," "," ",null,null," "," "," "," "," "," "," "," "," "," "," "," "," "," "," "," "," "," "," "," "," "," "," "," "," "," "," "," "," "," "," "," "," "," "," "," "," "," "," "," "," "," "," "," "," "," "," "," "," "," "," "," "," "," "," "," "," "," "," "," "," "," "," "," "," "," "," "," "," "," "," "," "," "," "]
[null," "," "," ",null,null," "," "," "," "," "," "," "," "," "," "," "," "," "," "," "," "," "," "," "," "," "," "," "," "," "," "," "," "," "," "," "," "," "," "," "," "," "," "," "," "," "," "," "," "," "," "," "," "," "," "," "," "," "," "," "," "," "," "," "," "," "," "," "," "," "," "," "," "," "," "," "," "," "," "]
[null," "," "," "]
[null," "," "," "]
[null," "," "," "]
[null," "," "," "]
[null," "," "," "]
[null," "," "," "]
[null," "," "," "]
[null," "," "," "]
[null," "," "," "]
[null," "," "," "]
[null," "," "," "]
[null," "," "," "]
[null," "," "," "]
[null," "," "," "]
[null," "," "," "]
[null," "," "," "]
[null," "," "," "]
[null," "," "," "]
[null," "," "," "]
[null," "," "," "]
[null," "," "," "]
[null," "," "," "]
[null," "," "," "]
[null," "," "," "]
[null," "," "," "]
[null," "," "," "]
[null," "," "," "]
[null," "," "," "]
[null," "," "," "]
[null," "," "," "]
[null," "," "," "]
[null," "," "," "]
[null," "," "," "]
[null," "," "," "]
[null," "," "," "]
[null," "," "," "]
[null," "," "," "]
[null," "," "," "]
[null," "," "," "]
[null," "," "," "]
[null," "," "," "]
[null," "," "," "]
[null," "," "," "]
[null," "," "," "]
[null," "," "," "]
[null," "," "," "]
[null," "," "," "]
[null," "," "," "]
[null," "," "," "]
[null," "," "," "]
[null," "," "," "]
[null," "," "," "]
[null," "," "," "]
[null," "," "," "]
[null," "," "," "]
[null," "," "," "]
[null," "," "," "]
[null," "," "," "]
[null," "," "," "]
[null," "," "," "]
[null," "," "," "]
[null," "," "," "]
[null," "," "," "]
[null," "," "," "]
[null," "," "," "]
[null," "," "," "]
[null," "," "," "]
[null," "," "," "]
[null," "," "," "]
[null," "," "," "]
[null," "," "," "]
[null," "," "," "]
[null," "," "," "]
[null," "," "," "]
[null," "," "," "]
[null," "," "," "]
[null," "," "," "]
[null," "," "," "]
[null," "," "," "]
[null," "," "," "]
[null," "," "," "]
[null," "," "," "]
[null," "," "," "]
[null," "," "," "]
[null," "," "," "]
[null," "," "," "]
[null," "," "," "]
[null," "," "," "]
[null," "," "," "]
[null," "," "," "]
[null," "," "," "]
[null," "," "," "]
[null," "," "," "]
[null," "," "," "]
[null," "," "," "]
[null," "," "," "]
[null," "," "," "]
[null," "," "," "]
[null," "," "," "]
[null," "," "," "]
[null," "," "," "]
[null," "," "," "]
[null," "," "," "]
[null," "," "," "]
[null," "," "," "]
[null," "," "," "]
[null," "," "," "]
[null," "," "," "]
[null," "," "," "]
[null," "," "," "]
[null," "," "," "]
[null," "," "," "]
[null," "," "," "]
[null," "," "," "]
[null," "," "," "]
[null," "," "," "]
[null," "," "," "]
[null," "," "," "]
[null," "," "," "]
[null," "," "," "]
[null," "," "," "]
[null," "," "," "]
[null," "," "," "]
[null," "," "," "]
[null," "," "," "]
[null," "," "," "]
[null," "," "," "]
[null," "," "," "]
[null," "," "," "]
[null," "," "," "]
[null," "," "," "]
[null," "," "," "]
[null," "," "," "]
[null," "," "," "]
[null," "," "," "]
[null," "," "," "]
[null," "," "," "]
[null," "," "," "]
[null," "," "," "]
[null," "," "," "]
[null," "," "," "]
[null," "," "," "]
[null," "," "," "]
[null," "," "," "]
[null," "," "," "]
[null," "," "," "]
[null," "," "," "]
[null," "," "," "]
[null," "," "," "]
[null," "," "," "]
[null," "," "," "]
[null," "," "," "]
[null," "," "," "]
[null," "," "," "]
[null," "," "," "]
[null," "," "," "]
[null," "," "," "]
[null," "," "," "]
[null," "," "," "]
[null," "," "," "]
[null," "," "," "]
[null," "," "," "]
[null," "," "," "]
[null," "," "," "]
[null," "," "," "]
[null," "," "," "]
[null," "," "," "]
[null," "," "," "]
[null," "," "," "]
[null," "," "," "]
[null," "," "," "]
[null," "," "," "]
[null," "," "," "]
[null," "," "," "]
[null," "," "," "]
[null," "," "," "]
[null," "," "," "]
[null," "," "," "]
[null," "," "," "]
[null," "," "," "]
[null," "," "," "]
[null," "," "," "]
[null," "," "," "]
[null," "," "," "]
[null," "," "," "]
[null," "," "," "]
[null," "," "," "]
[null," "," "," "]
[null," "," "," "]
[null," "," "," "]
[null," "," "," "]
[null," "," "," "]
[null," "," "," "]
[null," "," "," "]
[null," "," "," "]
[null," "," "," "]
[null," "," "," "]
[null," "," "," "]
[null," "," "," "]
[null," "," "," "]
[null," "," "," "]
[null," "," "," "]
[null," "," "," "]
[null," "," "," "]
[null," "," "," "]
[null," "," "," "]
[null," "," "," "]
[null," "," "," "]
[null," "," "," "]
[null," "," "," "]
[null," "," "," "]
[null," "," "," "]
[null," "," "," "]
[null," "," "," "]
[null," "," "," "]
[null," "," "," "]
[null," "," "," "]
[null," "," "," "]
[null," "," "," "]
[null," "," "," "]
[null," "," "," "]
[null," "," "," "]
[null," "," "," "]
[null," "," "," "]
[null," "," "," "]
[null," "," "," "]
[null," "," "," "]
[null," "," "," "]
[null," "," "," "]
[null," "," "," "]
[null," "," "," "]
[null," "," "," "]
[null," "," "," "]
[null," "," "," "]
[null," "," "," "]
[null," "," "," "]
[null," "," "," "]
[null," "," "," "]
[null," "," "," "]
[null," "," "," "]
[null," "," "," "]
[null," "," "," "]
[null," "," "," "]
[null," "," "," "]
[null," "," "," "]
[null," "," "," "]
[null," "," "," "]
[null," "," "," "]
[null," "," "," "]
[null," "," "," "]
[null," "," "," "]
[null," "," "," "]
[null," "," "," "]
[null," "," "," "]
[null," "," "," "]
[null," "," "," "]
[null," "," "," "]
[null," "," "," "]
[null," "," "," "]
[null," "," "," "]
[null," "," "," "]
[null," "," "," "]
[null," "," "," "]
[null," "," "," "]
[null," "," "," "]
[null," "," "," "]
[null," "," "," "]
[null," "," "," "]
[null," "," "," "]
[null," "," "," "]
[null," "," "," "]
[null," "," "," "]
[null," "," "," "]
[null," "," "," "]
[null," "," "," "]
[null," "," "," "]
[null," "," "," "]
[null," "," "," "]
[null," "," "," "]
[null," "," "," "]
[null," "," "," "]
[null," "," "," "]
[null," "," "," "]
[null," "," "," "]
[null," "," "," "]
[null," "," "," "]
[null," "," "," "]
[null," "," "," "]
[null," "," "," "]
[null," "," "," "]
[null," "," "," "]
[null," "," "," "]
[null," "," "," "]
[null," "," "," "]
[null," "," "," "]
[null," "," "," "]
[null," "," "," "]
[null," "," "," "]
[null," "," "," "]
[null," "," "," "]
[null," "," "," "]
[null," "," "," "]
[null," "," "," "]
[null," "," "," "]
[null," "," "," "]
[null," "," "," "]
[null," "," "," "]
[null," "," "," "]
[null," "," "," "]
[null," "," "," "]
[null," "," "," "]
[null," "," "," "]
[null," "," "," "]
[null," "," "," "]
[null," "," "," "]
[null," "," "," "]
[null," "," "," "]
[null," "," "," "]
[null," "," "," "]
[null," "," "," "]
[null," "," "," "]
[null," "," "," "]
[null," "," "," "]
[null," "," "," "]
[null," "," "," "]
[null," "," "," "]
[null," "," "," "]
[null," "," "," "]
[null," "," "," "]
[null," "," "," "]
[null," "," "," "]
[null," "," "," "]
[null," "," "," "]
[null," "," "," "]
[null," "," "," "]
[null," "," "," "]
[null," "," "," "]
[null," "," "," "]
[null," "," "," "]
[null," "," "," "]
[null," "," "," "]
[null," "," "," "]
[null," "," "," "]
[null," "," "," "]
[null," "," "," "]
[null," "," "," "]
[null," "," "," "]
[null," "," "," "]
[null," "," "," "]
[null," "," "," "]
[null," "," "," "]
[null," "," "," "]
[null," "," "," "]
[null," "," "," "]
[null," "," "," "]
[null," "," "," "]
[null," "," "," "]
[null," "," "," "]
[null," "," "," "]
[null," "," "," "]
[null," "," "," "]
[null," "," "," "]
[null," "," "," "]
[null," "," "," "]
[null," "," "," "]
[null," "," "," "]
[null," "," "," "]
[null," "," "," "]
[null," "," "," "]
[null," "," "," "]
[null," "," "," "]
[null," "," "," "]
[null," "," "," "]
[null," "," "," "]
[null," "," "," "]
[null," "," "," "]
[null," "," "," "]
[null," "," "," "]
[null," "," "," "]
[null," "," "," "]
[null," "," "," "]
[null," "," "," "]
[null," "," "," "]
[null," "," "," "]
[null," "," "," "]
[null," "," "," "]
[null," "," "," "]
[null," "," "," "]
[null," "," "," "]
[null," "," "," "]
[null," "," "," "]
[null," "," "," "]
[null," "," "," "]
[null," "," "," "]
[null," "," "," "]
[null," "," "," "]
[null," "," "," "]
[null," "," "," "]
[null," "," "," "]
[null," "," "," "]
[null," "," "," "]
[null," "," "," "]
[null," "," "," "]
[null," "," "," "]
[null," "," "," "]
[null," "," "," "]
[null," "," "," "]
[null," "," "," "]
[null," "," "," "]
[null," "," "," "]
[null," "," "," "]
[null," "," "," "]
[null," "," "," "]
[null," "," "," "]
[null," "," "," "]
[null," "," "," "]
[null," "," "," "]
[null," "," "," "]
[null," "," "," "]
[null," "," "," "]
[null," "," "," "]
[null," "," "," "]
[null," "," "," "]
[null," "," "," "]
[null," "," "," "]
[null," "," "," "]
[null," "," "," "]
[null," "," "," "]
[null," "," "," "]
[null," "," "," "]
[null," "," "," "]
[null," "," "," "]
[null," "," "," "]
[null," "," "," "]
[null," "," "," "]
[null," "," "," "]
[null," "," "," "]
[null," "," "," "]
[null," "," "," "]
[null," "," "," "]
[null," "," "," "]
[null," "," "," "]
[null," "," "," "]
[null," "," "," "]
[null," "," "," "]
[null," "," "," "]
[null," "," "," "]
[null," "," "," "]
[null," "," "," "]
[null," "," "," "]
[null," "," "," "]
[null," "," "," "]
[null," "," "," "]
[null," "," "," "]
[null," "," "," "]
[null," "," "," "]
[null," "," "," "]
[null," "," "," "]
[null," "," "," "]
[null," "," "," "]
[null," "," "," "]
[null," "," "," "]
[null," "," "," "]
[null," "," "," "]
[null," "," "," "]
[null," "," "," "]
[null," "," "," "]
[null," "," "," "]
[null," "," "," "]
[null," "," "," "]
[null," "," "," "]
[null," "," "," "]
[null," "," "," "]
[null," "," "," "]
[null," "," "," "]
[null," "," "," "]
[null," "," "," "]
[null," "," "," "]
[null," "," "," "]
[null," "," "," "]
[null," "," "," "]
[null," "," "," "]
[null," "," "," "]
[null," "," "," "]
[null," "," "," "]
[null," "," "," "]
[null," "," "," "]
[null," "," "," "]
[null," "," "," "]
[null," "," "," "]
[null," "," "," "]
[null," "," "," "]
[null," "," "," "]
[null," "," "," "]
[null," "," "," "]
[null," "," "," "]
[null," "," "," "]
[null," "," "," "]
[null," "," "," "]
[null," "," "," "]
[null," "," "," "]
[null," "," "," "]
[null," "," "," "]
[null," "," "," "]
[null," "," "," "]
[null," "," "," "]
[null," "," "," "]
[null," "," "," "]
[null," "," "," "]
[null," "," "," "]
[null," "," "," "]
[null," "," "," "]
[null," "," "," "]
[null," "," "," "]
[null," "," "," "]
[null," "," "," "]
[null," "," "," "]
[null," "," "," "]
[null," "," "," "]
[null," "," "," "]
[null," "," "," "]
[null," "," "," "]
[null," "," "," "]
[null," "," "," "]
[null," "," "," "]
[null," "," "," "]
[null," "," "," "]
[null," "," "," "]
[null," "," "," "]
[null," "," "," "]
[null," "," "," "]
[null," "," "," "]
[null," "," "," "]
[null," "," "," "]
[null," "," "," "]
[null," "," "," "]
[null," "," "," "]
[null," "," "," "]
[null," "," "," "]
[null," "," "," "]
[null," "," "," "]
[null," "," "," "]
[null," "," "," "]
[null," "," "," "]
[null," "," "," "]
[null," "," "," "]
[null," "," "," "]
[null," "," "," "]
[null," "," "," "]
[null," "," "," "]
[null," "," "," "]
[null," "," "," "]
[null," "," "," "]
[null," "," "," "]
[null," "," "," "]
[null," "," "," "]
[null," "," "," "]
[null," "," "," "]
[null," "," "," "]
[null," "," "," "]
[null," "," "," "]
[null," "," "," "]
[null," "," "," "]
[null," "," "," "]
[null," "," "," "]
[null," "," "," "]
[null," "," "," "]
[null," "," "," "]
[null," "," "," "]
[null," "," "," "]
[null," "," "," "]
[null," "," "," "]
[null," "," "," "]
[null," "," "," "]
[null," "," "," "]
[null," "," "," "]
[null," "," "," "]
[null," "," "," "]
[null," "," "," "]
[null," "," "," "]
[null," "," "," "]
[null," "," "," "]
[null," "," "," "]
[null," "," "," "]
[null," "," "," "]
[null," "," "," "]
[null," "," "," "]
[null," "," "," "]
[null," "," "," "]
[null," "," "," "]
[null," "," "," "]
[null," "," "," "]
[null," "," "," "]
[null," "," "," "]
[null," "," "," "]
[null," "," "," "]
[null," "," "," "]
[null," "," "," "]
[null," "," "," "]
[null," "," "," "]
[null," "," "," "]
[null," "," "," "]
[null," "," "," "]
[null," "," "," "]
[null," "," "," "]
[null," "," "," "]
[null," "," "," "]
[null," "," "," "]
[null," "," "," "]
[null," "," "," "]
[null," "," "," "]
[null," "," "," "]
[null," "," "," "]
[null," "," "," "]
[null," "," "," "]
[null," "," "," "]
[null," "," "," "]
[null," "," "," "]
[null," "," "," "]
[null," "," "," "]
[null," "," "," "]
[null," "," "," "]
[null," "," "," "]
[null," "," "," "]
[null," "," "," "]
[null," "," "," "]
[null," "," "," "]
[null," "," "," "]
[null," "," "," "]
[null," "," "," "]
[null," "," "," "]
[null," "," "," "]
[null," "," "," "]
[null," "," "," "]
[null," "," "," "]
[null," "," "," "]
[null," "," "," "]
[null," "," "," "]
[null," "," "," "]
[null," "," "," "]
[null," "," "," "]
[null," "," "," "]
[null," "," "," "]
[null," "," "," "]
[null," "," "," "]
[null," "," "," "]
[null," "," "," "]
[null," "," "," "]
[null," "," "," "]
[null," "," "," "]
[null," "," "," "]
[null," "," "," "]
[null," "," "," "]
[null," "," "," "]
[null," "," "," "]
[null," "," "," "]
[null," "," "," "]
[null," "," "," "]
[null," "," "," "]
[null," "," "," "]
[null," "," "," "]
[null," "," "," "]
[null," "," "," "]
[null," "," "," "]
[null," "," "," "]
[null," "," "," "]
[null," "," "," "]
[null," "," "," "]
[null," "," "," "]
[null," "," "," "]
[null," "," "," "]
[null," "," "," "]
[null," "," "," "]
[null," "," "," "]
[null," "," "," "]
[null," "," "," "]
[null," "," "," "]
[null," "," "," "]
[null," "," "," "]
[null," "," "," "]
[null," "," "," "]
[null," "," "," "]
[null," "," "," "]
[null," "," "," "]
[null," "," "," "]
[null," "," "," "]
[null," "," "," "]
[null," "," "," "]
[null," "," "," "]
[null," "," "," "]
[null," "," "," "]
[null," "," "," "]
[null," "," "," "]
[null," "," "," "]
[null," "," "," "]
[null," "," "," "]
[null," "," "," "]
[null," "," "," "]
[null," "," "," "]
[null," "," "," "]
[null," "," "," "]
[null," "," "," "]
[null," "," "," "]
[null," "," "," "]
[null," "," "," "]
[null," "," "," "]
[null," "," "," "]
[null," "," "," "]
[null," "," "," "]
[null," "," "," "]
[null," "," "," "]
[null," "," "," "]
[null," "," "," "]
[null," "," "," "]
[null," "," "," "]
[null," "," "," "]
[null," "," "," "]
[null," "," "," "]
[null," "," "," "]
[null," "," "," "]
[null," "," "," "]
[null," "," "," "]
[null," "," "," "]
[null," "," "," "]
[null," "," "," "]
[null," "," "," "]
[null," "," "," "]
[null," "," "," "]
[null," "," "," "]
[null," "," "," "]
[null," "," "," "]
[null," "," "," "]
[null," "," "," "]
[null," "," "," "]
[null," "," "," "]
[null," "," "," "]
[null," "," "," "]
[null," "," "," "]
[null," "," "," "]
[null," "," "," "]
[null," "," "," "]
[null," "," "," "]
[null," "," "," "]
[null," "," "," "]
[null," "," "," "]
[null," "," "," "]
[null," "," "," "]
[null," "," "," "]
[null," "," "," "]
[null," "," "," "]
[null," "," "," "]
[null," "," "," "]
[null," "," "," "]
[null," "," "," "]
[null," "," "," "]
[null," "," "," "]
[null," "," "," "]
[null," "," "," "]
[null," "," "," "]
[null," "," "," "]
[null," "," "," "]
[null," "," "," "]
[null," "," "," "]
[null," "," "," "]
[null," "," "," "]
[null," "," "," "]
[null," "," "," "]
[null," "," "," "]
[null," "," "," "]
[null," "," "," "]
[null," "," "," "]
[null," "," "," "]
[null," "," "," "]
[null," "," "," "]
[null," "," "," "]
[null," "," "," "]
[null," "," "," "]
[null," "," "," "]
[null," "," "," "]
[null," "," "," "]
[null," "," "," "]
[null," "," "," "]
[null," "," "," "]
[null," "," "," "]
[null," "," "," "]
[null," "," "," "]
[null," "," "," "]
[null," "," "," "]
[null," "," "," "]
[null," "," "," "]
[null," "," "," "]
[null," "," "," "]
[null," "," "," "]
[null," "," "," "]
[null," "," "," "]
[null," "," "," "]
[null," "," "," "]
[null," "," "," "]
[null," "," "," "]
[null," "," "," "]
[null," "," "," "]
[null," "," "," "]
[null," "," "," "]
[null," "," "," "]
[null," "," "," "]
[null," "," "," "]
[null," "," "," "]
[null," "," "," "]
[null," "," "," "]
[null," "," "," "]
[null," "," "," "]
[null," "," "," "]
[null," "," "," "]
[null," "," "," "]
[null," "," "," "]
[null," "," "," "]
[null," "," "," "]
[null," "," "," "]
[null," "," "," "]
[null," "," "," "]
[null," "," "," "]
[null," "," "," "]
[null," "," "," "]
[null," "," "," "]
[null," "," "," "]
[null," "," "," "]
[null," "," "," "]
[null," "," "," "]
[null," "," "," "]
[null," "," "," "]
[null," "," "," "]
[null," "," "," "]
[null," "," "," "]
[null," "," "," "]
[null," "," "," "]
[null," "," "," "]
[null," "," "," "]
[null," "," "," "]
[null," "," "," "]
[null," "," "," "]
[null," "," "," "]
[null," "," "," "]
[null," "," "," "]
[null," "," "," "]
[null," "," "," "]
[null," "," "," "]
[null," "," "," "]
[null," "," "," "]
[null," "," "," "]
[null," "," "," "]
[null," "," "," "]
[null," "," "," "]
[null," "," "," "]
[null," "," "," "]
[null," "," "," "]
[null," "," "," "]
[null," "," "," "]
[null," "," "," "]
[null," "," "," "]
[null," "," "," "]
[null," "," "," "]
[null," "," "," "]
[null," "," "," "]
[null," "," "," "]
[null," "," "," "]
[null," "," "," "]
[null," "," "," "]
[null," "," "," "]
[null," "," "," "]
[null," "," "," "]
[null," "," "," "]
[null," "," "," "]
[null," "," "," "]
[null," "," "," "]
[null," "," "," "]
[null," "," "," "]
[null," "," "," "]
[null," "," "," "]
[null," "," "," "]
[null," "," "," "]
[null," "," "," "]
[null," "," "," "]
[null," "," "," "]
[null," "," "," "]
[null," "," "," "]
[null," "," "," "]
[null," "," "," "]
[null," "," "," "]
[null," "," "," "]
[null," "," "," "]
[null," "," "," "]
[null," "," "," "]
[null," "," "," "]
[null," "," "," "]
[null," "," "," "]
[null," "," "," "]
[null," "," "," "]
[null," "," "," "]
[null," "," "," "]
[null," "," "," "]
[null," "," "," "]
[null," "," "," "]
[null," "," "," "]
[null," "," "," "]
[null," "," "," "]
[null," "," "," "]
[null," "," "," "]
[null," "," "," "]
[null," "," "," "]
[null," "," "," "]
[null," "," "," "]
[null," "," "," "]
[null," "," "," "]
[null," "," "," "]
[null," "," "," "]
[null," "," "," "]
[null," "," "," "]
[null," "," "," "]
[null," "," "," "]
[null," "," "," "]
[null," "," "," "]
[null," "," "," "]
[null," "," "," "]
[null," "," "," "]
[null," "," "," "]
[null," "," "," "]
[null," "," "," "]
[null," "," "," "]
[null," "," "," "]
[null," "," "," "]
[null," "," "," "]
[null," "," "," "]
[null," "," "," "]
[null," "," "," "]
[null," "," "," "]
[null," "," "," "]
[null," "," "," "]
[null," "," "," "]
[null," "," "," "]
[null," "," "," "]
[null," "," "," "]
[null," "," "," "]
[null," "," "," "]
[null," "," "," "]
[null," "," "," "]
[null," "," "," "]
[null," "," "," "]
[null," "," "," "]
[null," "," "," "]
[null," "," "," "]
[null," "," "," "]
[null," "," "," "]
[null," "," "," "]
[null," "," "," "]
[null," "," "," "]
[null," "," "," "]
[null," "," "," "]
[null," "," "," "]
[null," "," "," "]
[null," "," "," "]
[null," "," "," "]
[null," "," "," "]
[null," "," "," "]
[null," "," "," "]
[null," "," "," "]
[null," "," "," "]
[null," "," "," "]
[null," "," "," "]
[null," "," "," "]
[null," "," "," "]
[null," "," "," "]
[null," "," "," "]
[null," "," "," "]
[null," "," "," "]
[null," "," "," "]
[null," "," "," "]
[null," "," "," "]
[null," "," "," "]
[null," "," "," "]
[null," "," "," "]
[null," "," "," "]
[null," "," "," "]
[null," "," "," "]
[null," "," "," "]
[null," "," "," "]
[null," "," "," "]
[null," "," "," "]
[null," "," "," "]
[null," "," "," "]
[null," "," "," "]
[null," "," "," "]
[null," "," "," "]
[null," "," "," "]
[null," "," "," "]
[null," "," "," "]
[null," "," "," "]
[null," "," "," "]
[null," "," "," "]
[null," "," "," "]
[null," "," "," "]
[null," "," "," "]
[null," "," "," "]
[null," "," "," "]
[null," "," "," "]
[null," "," "," "]
[null," "," "," "]
[null," "," "," "]
[null," "," "," "]
[null," "," "," "]
[null," "," "," "]
[null," "," "," "]
[null," "," "," "]
[null," "," "," "]
[null," "," "," "]
[null," "," "," "]
[null," "," "," "]
[null," "," "," "]
[null," "," "," "]
[null," "," "," "]
[null," "," "," "]
[null," "," "," "]
[null," "," "," "]
[null," "," "," "]
[null," "," "," "]
[null," "," "," "]
[null," "," "," "]
[null," "," "," "]
[null," "," "," "]
[null," "," "," "]
[null," "," "," "]
[null," "," "," "]
[null," "," "," "]
[null," "," "," "]
[null," "," "," "]
[null," "," "," "]
[null," "," "," "]
[null," "," "," "]
[null," "," "," "]
[null," "," "," "]
[null," "," "," "]
[null," "," "," "]
[null," "," "," "]
[null," "," "," "]
[null," "," "," "]
[null," "," "," "]
[null," "," "," "]
[null," "," "," "]
[null," "," "," "]
[null," "," "," "]
[null," "," "," "]
[null," "," "," "]
[null," "," "," "]
[null," "," "," "]
[null," "," "," "]
[null," "," "," "]
[null," "," "," "]
[null," "," "," "]
[null," "," "," "]
[null," "," "," "]
[null," "," "," "]
[null," "," "," "]
[null," "," "," "]
[null," "," "," "]
[null," "," "," "]
[null," "," "," "]
[null," "," "," "]
[null," "," "," "]
[null," "," "," "]
[null," "," "," "]
[null," "," "," "]
[null," "," "," "]
[null," "," "," "]
[null," "," "," "]
[null," "," "," "]
[null," "," "," "]
[null," "," "," "]
[null," "," "," "]
[null," "," "," "]
[null," "," "," "]
[null," "," "," "]
[null," "," "," "]
[null," "," "," "]
[null," "," "," "]
[null," "," "," "]
[null," "," "," "]
[null," "," "," "]
[null," "," "," "]
[null," "," "," "]
[null," "," "," "]
[null," "," "," "]
[null," "," "," "]
[null," "," "," "]
[null," "," "," "]
[null," "," "," "]
[null," "," "," "]
[null," "," "," "]
[null," "," "," "]
[null," "," "," "]
[null," "," "," "]
[null," "," "," "]
[null," "," "," "]
[null," "," "," "]
[null," "," "," "]
[null," "," "," "]
[null," "," "," "]
[null," "," "," "]
[null," "," "," "]
[null," "," "," "]
[null," "," "," "]
[null," "," "," "]
[null," "," "," "]
[null," "," "," "]
[null," "," "," "]
[null," "," "," "]
[null," "," "," "]
[null," "," "," "]
[null," "," "," "]
[null," "," "," "]
[null," "," "," "]
[null," "," "," "]
[null," "," "," "]
[null," "," "," "]
[null," "," "," "]
[null," "," "," "]
[null," "," "," "]
[null," "," "," "]
[null," "," "," "]
[null," "," "," "]
[null," "," "," "]
[null," "," "," "]
[null," "," "," "]
[null," "," "," "]
[null," "," "," "]
[null," "," "," "]
[null," "," "," "]
[null," "," "," "]
[null," "," "," "]
[null," "," "," "]
[null," "," "," "]
[null," "," "," "]
[null," "," "," "]
[null," "," "," "]
[null," "," "," "]
[null," "," "," "]
[null," "," "," "]
[null," "," "," "]
[null," "," "," "]
[null," "," "," "]
[null," "," "," "]
[null," "," "," "]
[null," "," "," "]
[null," "," "," "]
[null," "," "," "]
[null," "," "," "]
[null," "," "," "]
[null," "," "," "]
[null," "," "," "]
[null," "," "," "]
[null," "," "," "]
[null," "," "," "]
[null," "," "," "]
[null," "," "," "]
[null," "," "," "]
[null," "," "," "]
[null," "," "," "]
[null," "," "," "]
[null," "," "," "]
[null," "," "," "]
[null," "," "," "]
[null," "," "," "]
[null," "," "," "]
[null," "," "," "]
[null," "," "," "]
[null," "," "," "]
[null," "," "," "]
[null," "," "," "]
[null," "," "," "]
[null," "," "," "]
[null," "," "," "]
[null," "," "," "]
[null," "," "," "]
[null," "," "," "]
[null," "," "," "]
[null," "," "," "]
[null," "," "," "]
[null," "," "," "]
[null," "," "," "]
[null," "," "," "]
[null," "," "," "]
[null," "," "," "]
[null," "," "," "]
[null," "," "," "]

{"sheet":"Qual_Team_Standings_Women_JV","index":5,"n_rows":41,"n_cols":54,"rows_kept":41,"cut":false,"hidden":false,"merged":[[0,0,0,17]]}
["Qualifying Team Standings",{"$nulls":50},"A12:AF18"]
[{"$nulls":51},"A12:A18"]
[null,"Mid States Championships (Tier I Women)",null,"10/15/2022 - 10/16/2022",{"$nulls":47},"Individual_Scores_Women_JV"]
[null,"Tier 1","USBC","Wichita, KS",{"$nulls":49},"IBCYouth"]
[]
[]
[]
[null,"Women's Division",null,null,"Cert. No: 05700"]
[]
[null,null,null,"Team","Team","Team","Team","Team","Team","Team","Baker","Baker","Baker","Baker","Baker","Baker","Baker","Baker","Baker","Baker","Baker","Baker","Baker","Baker","Baker","Baker","Baker","Baker","Baker","Baker","Baker","Overall"]
["Rank","Team","State",1.0,2.0,3.0,4.0,5.0,6.0,"Total",1.0,2.0,3.0,4.0,5.0,6.0,7.0,8.0,9.0,10.0,11.0,12.0,13.0,14.0,15.0,16.0,17.0,18.0,19.0,20.0,"Total","Total"]
[{"$f":"RANK(AF12,$AF$12:$AF$19)","v":1},"Newman University JV1",null,{"$f":"Individual_Scores_Women_JV!G49","v":913},{"$f":"Individual_Scores_Women_JV!H49","v":874},{"$f":"Individual_Scores_Women_JV!I49","v":767},{"$f":"Individual_Scores_Women_JV!J49","v":843},{"$f":"Individual_Scores_Women_JV!K49","v":828},{"$f":"Individual_Scores_Women_JV!L49","v":889},{"$f":"SUM(D12:I12)","v":5114},{"$f":"Baker_Scores_Women_JV!H38","v":144},{"$f":"Baker_Scores_Women_JV!I38","v":180},{"$f":"Baker_Scores_Women_JV!J38","v":146},{"$f":"Baker_Scores_Women_JV!K38","v":174},{"$f":"Baker_Scores_Women_JV!L38","v":198},{"$f":"Baker_Scores_Women_JV!M38","v":163},{"$f":"Baker_Scores_Women_JV!N38","v":187},{"$f":"Baker_Scores_Women_JV!O38","v":160},{"$f":"Baker_Scores_Women_JV!P38","v":178},{"$f":"Baker_Scores_Women_JV!Q38","v":167},{"$f":"Baker_Scores_Women_JV!R38","v":145},{"$f":"Baker_Scores_Women_JV!S38","v":167},{"$f":"Baker_Scores_Women_JV!T38","v":160},{"$f":"Baker_Scores_Women_JV!U38","v":178},{"$f":"Baker_Scores_Women_JV!V38","v":157},{"$f":"Baker_Scores_Women_JV!W38","v":158},{"$f":"Baker_Scores_Women_JV!X38","v":178},{"$f":"Baker_Scores_Women_JV!Y38","v":222},{"$f":"Baker_Scores_Women_JV!Z38","v":162},{"$f":"Baker_Scores_Women_JV!AA38","v":212},{"$f":"SUM(K12:AD12)","v":3436},{"$f":"J12+AE12","v":8550}]
[{"$f":"RANK(AF13,$AF$12:$AF$19)","v":2},"Oklahoma Christian University JV1",null,{"$f":"Individual_Scores_Women_JV!G62","v":898},{"$f":"Individual_Scores_Women_JV!H62","v":816},{"$f":"Individual_Scores_Women_JV!I62","v":808},{"$f":"Individual_Scores_Women_JV!J62","v":859},{"$f":"Individual_Scores_Women_JV!K62","v":886},{"$f":"Individual_Scores_Women_JV!L62","v":786},5053,{"$f":"Baker_Scores_Women_JV!H51","v":222},{"$f":"Baker_Scores_Women_JV!I51","v":151},{"$f":"Baker_Scores_Women_JV!J51","v":169},{"$f":"Baker_Scores_Women_JV!K51","v":155},{"$f":"Baker_Scores_Women_JV!L51","v":166},{"$f":"Baker_Scores_Women_JV!M51","v":181},{"$f":"Baker_Scores_Women_JV!N51","v":172},{"$f":"Baker_Scores_Women_JV!O51","v":157},{"$f":"Baker_Scores_Women_JV!P51","v":168},{"$f":"Baker_Scores_Women_JV!Q51","v":146},{"$f":"Baker_Scores_Women_JV!R51","v":152},{"$f":"Baker_Scores_Women_JV!S51","v":197},{"$f":"Baker_Scores_Women_JV!T51","v":267},{"$f":"Baker_Scores_Women_JV!U51","v":150},{"$f":"Baker_Scores_Women_JV!V51","v":158},{"$f":"Baker_Scores_Women_JV!W51","v":150},{"$f":"Baker_Scores_Women_JV!X51","v":154},{"$f":"Baker_Scores_Women_JV!Y51","v":159},{"$f":"Baker_Scores_Women_JV!Z51","v":198},{"$f":"Baker_Scores_Women_JV!AA51","v":171},3443,8496]
[{"$f":"RANK(AF14,$AF$12:$AF$19)","v":3},"Wichita State University JV1",null,{"$f":"Individual_Scores_Women_JV!G101","v":913},{"$f":"Individual_Scores_Women_JV!H101","v":855},{"$f":"Individual_Scores_Women_JV!I101","v":910},{"$f":"Individual_Scores_Women_JV!J101","v":790},{"$f":"Individual_Scores_Women_JV!K101","v":802},{"$f":"Individual_Scores_Women_JV!L101","v":878},5148,{"$f":"Baker_Scores_Women_JV!H90","v":158},{"$f":"Baker_Scores_Women_JV!I90","v":201},{"$f":"Baker_Scores_Women_JV!J90","v":189},{"$f":"Baker_Scores_Women_JV!K90","v":132},{"$f":"Baker_Scores_Women_JV!L90","v":154},{"$f":"Baker_Scores_Women_JV!M90","v":113},{"$f":"Baker_Scores_Women_JV!N90","v":217},{"$f":"Baker_Scores_Women_JV!O90","v":121},{"$f":"Baker_Scores_Women_JV!P90","v":159},{"$f":"Baker_Scores_Women_JV!Q90","v":152},{"$f":"Baker_Scores_Women_JV!R90","v":202},{"$f":"Baker_Scores_Women_JV!S90","v":182},{"$f":"Baker_Scores_Women_JV!T90","v":164},{"$f":"Baker_Scores_Women_JV!U90","v":191},{"$f":"Baker_Scores_Women_JV!V90","v":151},{"$f":"Baker_Scores_Women_JV!W90","v":172},{"$f":"Baker_Scores_Women_JV!X90","v":192},{"$f":"Baker_Scores_Women_JV!Y90","v":155},{"$f":"Baker_Scores_Women_JV!Z90","v":144},{"$f":"Baker_Scores_Women_JV!AA90","v":152},3301,8449]
[{"$f":"RANK(AF15,$AF$12:$AF$19)","v":4},"Peru State College JV1",null,{"$f":"Individual_Scores_Women_JV!G88","v":814},{"$f":"Individual_Scores_Women_JV!H88","v":752},{"$f":"Individual_Scores_Women_JV!I88","v":745},{"$f":"Individual_Scores_Women_JV!J88","v":732},{"$f":"Individual_Scores_Women_JV!K88","v":633},{"$f":"Individual_Scores_Women_JV!L88","v":743},4419,{"$f":"Baker_Scores_Women_JV!H77","v":155},{"$f":"Baker_Scores_Women_JV!I77","v":142},{"$f":"Baker_Scores_Women_JV!J77","v":162},{"$f":"Baker_Scores_Women_JV!K77","v":154},{"$f":"Baker_Scores_Women_JV!L77","v":162},{"$f":"Baker_Scores_Women_JV!M77","v":166},{"$f":"Baker_Scores_Women_JV!N77","v":194},{"$f":"Baker_Scores_Women_JV!O77","v":178},{"$f":"Baker_Scores_Women_JV!P77","v":185},{"$f":"Baker_Scores_Women_JV!Q77","v":164},{"$f":"Baker_Scores_Women_JV!R77","v":169},{"$f":"Baker_Scores_Women_JV!S77","v":198},{"$f":"Baker_Scores_Women_JV!T77","v":159},{"$f":"Baker_Scores_Women_JV!U77","v":138},{"$f":"Baker_Scores_Women_JV!V77","v":210},{"$f":"Baker_Scores_Women_JV!W77","v":165},{"$f":"Baker_Scores_Women_JV!X77","v":137},{"$f":"Baker_Scores_Women_JV!Y77","v":144},{"$f":"Baker_Scores_Women_JV!Z77","v":182},{"$f":"Baker_Scores_Women_JV!AA77","v":228},3392,7811]
[{"$f":"RANK(AF16,$AF$12:$AF$19)","v":5},"Lindenwood University JV1",null,{"$f":"Individual_Scores_Women_JV!G36","v":742},{"$f":"Individual_Scores_Women_JV!H36","v":732},{"$f":"Individual_Scores_Women_JV!I36","v":723},{"$f":"Individual_Scores_Women_JV!J36","v":689},{"$f":"Individual_Scores_Women_JV!K36","v":802},{"$f":"Individual_Scores_Women_JV!L36","v":815},4503,{"$f":"Baker_Scores_Women_JV!H25","v":133},{"$f":"Baker_Scores_Women_JV!I25","v":139},{"$f":"Baker_Scores_Women_JV!J25","v":153},{"$f":"Baker_Scores_Women_JV!K25","v":210},{"$f":"Baker_Scores_Women_JV!L25","v":107},{"$f":"Baker_Scores_Women_JV!M25","v":120},{"$f":"Baker_Scores_Women_JV!N25","v":133},{"$f":"Baker_Scores_Women_JV!O25","v":148},{"$f":"Baker_Scores_Women_JV!P25","v":151},{"$f":"Baker_Scores_Women_JV!Q25","v":168},{"$f":"Baker_Scores_Women_JV!R25","v":192},{"$f":"Baker_Scores_Women_JV!S25","v":133},{"$f":"Baker_Scores_Women_JV!T25","v":157},{"$f":"Baker_Scores_Women_JV!U25","v":121},{"$f":"Baker_Scores_Women_JV!V25","v":143},{"$f":"Baker_Scores_Women_JV!W25","v":150},{"$f":"Baker_Scores_Women_JV!X25","v":144},{"$f":"Baker_Scores_Women_JV!Y25","v":130},{"$f":"Baker_Scores_Women_JV!Z25","v":157},{"$f":"Baker_Scores_Women_JV!AA25","v":164},2953,7456]
[{"$f":"RANK(AF17,$AF$12:$AF$19)","v":6},"Ottawa University (KS) JV1",null,{"$f":"Individual_Scores_Women_JV!G75","v":762},{"$f":"Individual_Scores_Women_JV!H75","v":842},{"$f":"Individual_Scores_Women_JV!I75","v":710},{"$f":"Individual_Scores_Women_JV!J75","v":765},{"$f":"Individual_Scores_Women_JV!K75","v":716},{"$f":"Individual_Scores_Women_JV!L75","v":732},4527,{"$f":"Baker_Scores_Women_JV!H64","v":119},{"$f":"Baker_Scores_Women_JV!I64","v":115},{"$f":"Baker_Scores_Women_JV!J64","v":133},{"$f":"Baker_Scores_Women_JV!K64","v":145},{"$f":"Baker_Scores_Women_JV!L64","v":138},{"$f":"Baker_Scores_Women_JV!M64","v":158},{"$f":"Baker_Scores_Women_JV!N64","v":153},{"$f":"Baker_Scores_Women_JV!O64","v":169},{"$f":"Baker_Scores_Women_JV!P64","v":127},{"$f":"Baker_Scores_Women_JV!Q64","v":136},{"$f":"Baker_Scores_Women_JV!R64","v":113},{"$f":"Baker_Scores_Women_JV!S64","v":139},{"$f":"Baker_Scores_Women_JV!T64","v":142},{"$f":"Baker_Scores_Women_JV!U64","v":115},{"$f":"Baker_Scores_Women_JV!V64","v":135},{"$f":"Baker_Scores_Women_JV!W64","v":141},{"$f":"Baker_Scores_Women_JV!X64","v":166},{"$f":"Baker_Scores_Women_JV!Y64","v":167},{"$f":"Baker_Scores_Women_JV!Z64","v":127},{"$f":"Baker_Scores_Women_JV!AA64","v":118},2756,7283]
[{"$f":"RANK(AF18,$AF$12:$AF$19)","v":7},"Barton Community College JV1",null,{"$f":"Individual_Scores_Women_JV!G23","v":673},{"$f":"Individual_Scores_Women_JV!H23","v":596},{"$f":"Individual_Scores_Women_JV!I23","v":682},{"$f":"Individual_Scores_Women_JV!J23","v":637},{"$f":"Individual_Scores_Women_JV!K23","v":728},{"$f":"Individual_Scores_Women_JV!L23","v":669},3985,{"$f":"Baker_Scores_Women_JV!H12","v":131},{"$f":"Baker_Scores_Women_JV!I12","v":152},{"$f":"Baker_Scores_Women_JV!J12","v":101},{"$f":"Baker_Scores_Women_JV!K12","v":129},{"$f":"Baker_Scores_Women_JV!L12","v":171},{"$f":"Baker_Scores_Women_JV!M12","v":124},{"$f":"Baker_Scores_Women_JV!N12","v":147},{"$f":"Baker_Scores_Women_JV!O12","v":132},{"$f":"Baker_Scores_Women_JV!P12","v":146},{"$f":"Baker_Scores_Women_JV!Q12","v":130},{"$f":"Baker_Scores_Women_JV!R12","v":127},{"$f":"Baker_Scores_Women_JV!S12","v":138},{"$f":"Baker_Scores_Women_JV!T12","v":116},{"$f":"Baker_Scores_Women_JV!U12","v":124},{"$f":"Baker_Scores_Women_JV!V12","v":131},{"$f":"Baker_Scores_Women_JV!W12","v":172},{"$f":"Baker_Scores_Women_JV!X12","v":133},{"$f":"Baker_Scores_Women_JV!Y12","v":117},{"$f":"Baker_Scores_Women_JV!Z12","v":169},{"$f":"Baker_Scores_Women_JV!AA12","v":151},2741,6726]
[]
[null,"Total Team Pins:",null,{"$f":"SUM(D12:D18)","v":5715},5467,5345,5315,5395,5512,32749,1062,1080,1053,1099,1096,1025,1203,1065,1114,1063,1100,1154,1165,1017,1085,1108,1104,1094,1139,1196,22022,54771]
[null,"Team Field Ave:",null,{"$f":"(D20/7)","v":816.4285714},781,763.5714286,759.2857143,770.7142857,787.4285714,4678.428571,151.7142857,154.2857143,150.4285714,157,156.5714286,146.4285714,171.8571429,152.1428571,159.1428571,151.8571429,157.1428571,164.8571429,166.4285714,145.2857143,155,158.2857143,157.7142857,156.2857143,162.7142857,170.8571429,3146]
[null,"Individual Field Ave:",null,{"$f":"IF(D29 = 0, 0,D20/D29)","v":163.2857143},156.2,152.7142857,151.8571429,154.1428571,157.4857143,155.947619]
[]
[]
[]
[]
[]
[]
[null,null,null,{"$f":"COUNTIF(Individual_Scores_Women_JV!G12:G22, \">0\")+COUNTIF(Individual_Scores_Women_JV!G25:G35, \">0\")+COUNTIF(Individual_Scores_Women_JV!G38:G48, \">0\")+COUNTIF(Individual_Scores_Women_JV!G51:G61, \">0\")+COUNTIF(Individual_Scores_Women_JV!G64:G74, \">0\")+COUNTIF(Individual_Scores_Women_JV!G77:G87, \">0\")+COUNTIF(Individual_Scores_Women_JV!G90:G100, \">0\")","v":35},{"$f":"COUNTIF(Individual_Scores_Women_JV!H12:H22, \">0\")+COUNTIF(Individual_Scores_Women_JV!H25:H35, \">0\")+COUNTIF(Individual_Scores_Women_JV!H38:H48, \">0\")+COUNTIF(Individual_Scores_Women_JV!H51:H61, \">0\")+COUNTIF(Individual_Scores_Women_JV!H64:H74, \">0\")+COUNTIF(Individual_Scores_Women_JV!H77:H87, \">0\")+COUNTIF(Individual_Scores_Women_JV!H90:H100, \">0\")","v":35},{"$f":"COUNTIF(Individual_Scores_Women_JV!I12:I22, \">0\")+COUNTIF(Individual_Scores_Women_JV!I25:I35, \">0\")+COUNTIF(Individual_Scores_Women_JV!I38:I48, \">0\")+COUNTIF(Individual_Scores_Women_JV!I51:I61, \">0\")+COUNTIF(Individual_Scores_Women_JV!I64:I74, \">0\")+COUNTIF(Individual_Scores_Women_JV!I77:I87, \">0\")+COUNTIF(Individual_Scores_Women_JV!I90:I100, \">0\")","v":35},{"$f":"COUNTIF(Individual_Scores_Women_JV!J12:J22, \">0\")+COUNTIF(Individual_Scores_Women_JV!J25:J35, \">0\")+COUNTIF(Individual_Scores_Women_JV!J38:J48, \">0\")+COUNTIF(Individual_Scores_Women_JV!J51:J61, \">0\")+COUNTIF(Individual_Scores_Women_JV!J64:J74, \">0\")+COUNTIF(Individual_Scores_Women_JV!J77:J87, \">0\")+COUNTIF(Individual_Scores_Women_JV!J90:J100, \">0\")","v":35},{"$f":"COUNTIF(Individual_Scores_Women_JV!K12:K22, \">0\")+COUNTIF(Individual_Scores_Women_JV!K25:K35, \">0\")+COUNTIF(Individual_Scores_Women_JV!K38:K48, \">0\")+COUNTIF(Individual_Scores_Women_JV!K51:K61, \">0\")+COUNTIF(Individual_Scores_Women_JV!K64:K74, \">0\")+COUNTIF(Individual_Scores_Women_JV!K77:K87, \">0\")+COUNTIF(Individual_Scores_Women_JV!K90:K100, \">0\")","v":35},{"$f":"COUNTIF(Individual_Scores_Women_JV!L12:L22, \">0\")+COUNTIF(Individual_Scores_Women_JV!L25:L35, \">0\")+COUNTIF(Individual_Scores_Women_JV!L38:L48, \">0\")+COUNTIF(Individual_Scores_Women_JV!L51:L61, \">0\")+COUNTIF(Individual_Scores_Women_JV!L64:L74, \">0\")+COUNTIF(Individual_Scores_Women_JV!L77:L87, \">0\")+COUNTIF(Individual_Scores_Women_JV!L90:L100, \">0\")","v":35},{"$f":"SUM(D29:I29)","v":210}]
[null,"Qualifying Team Standings "]
[null,"Mid States Championships (Tier I Women)"]
[null,"Women's Jr. Varsity"]
[null,null,null,"Overall"]
["Rank","Team",null,"Total"]
[{"$f":"A12","v":1},"Newman University JV1",null,{"$f":"AF12","v":8550}]
[{"$f":"A13","v":2},"Oklahoma Christian University JV1",null,8496]
[{"$f":"A14","v":3},"Wichita State University JV1",null,8449]
[{"$f":"A15","v":4},"Peru State College JV1",null,7811]
[{"$f":"A16","v":5},"Lindenwood University JV1",null,7456]
[{"$f":"A17","v":6},"Ottawa University (KS) JV1",null,7283]
[{"$f":"A18","v":7},"Barton Community College JV1",null,6726]

{"sheet":"Qual_Team_Standings_Women_Var","index":6,"n_rows":77,"n_cols":54,"rows_kept":77,"cut":false,"hidden":false,"merged":[[0,0,0,17]]}
["Qualifying Team Standings",{"$nulls":50},"A12:AF36"]
[{"$nulls":51},"A12:A36"]
[null,"Mid States Championships (Tier I Women)",null,"10/15/2022 - 10/16/2022",{"$nulls":47},"Individual_Scores_Women_Var"]
[null,"Tier 1","USBC","Wichita, KS",{"$nulls":49},"IBCYouth"]
[]
[]
[]
[null,"Women's Division",null,null,"Cert. No: 05700"]
[]
[null,null,null,"Team","Team","Team","Team","Team","Team","Team","Baker","Baker","Baker","Baker","Baker","Baker","Baker","Baker","Baker","Baker","Baker","Baker","Baker","Baker","Baker","Baker","Baker","Baker","Baker","Baker","Baker","Overall"]
["Rank","Team","State",1.0,2.0,3.0,4.0,5.0,6.0,"Total",1.0,2.0,3.0,4.0,5.0,6.0,7.0,8.0,9.0,10.0,11.0,12.0,13.0,14.0,15.0,16.0,17.0,18.0,19.0,20.0,"Total","Total"]
[{"$f":"RANK(AF12,$AF$12:$AF$37)","v":1},"Wichita State University V",null,{"$f":"Individual_Scores_Women_Var!G309","v":939},{"$f":"Individual_Scores_Women_Var!H309","v":899},{"$f":"Individual_Scores_Women_Var!I309","v":979},{"$f":"Individual_Scores_Women_Var!J309","v":937},{"$f":"Individual_Scores_Women_Var!K309","v":1022},{"$f":"Individual_Scores_Women_Var!L309","v":893},{"$f":"SUM(D12:I12)","v":5669},{"$f":"Baker_Scores_Women_Var!H298","v":217},{"$f":"Baker_Scores_Women_Var!I298","v":182},{"$f":"Baker_Scores_Women_Var!J298","v":204},{"$f":"Baker_Scores_Women_Var!K298","v":186},{"$f":"Baker_Scores_Women_Var!L298","v":248},{"$f":"Baker_Scores_Women_Var!M298","v":201},{"$f":"Baker_Scores_Women_Var!N298","v":211},{"$f":"Baker_Scores_Women_Var!O298","v":197},{"$f":"Baker_Scores_Women_Var!P298","v":180},{"$f":"Baker_Scores_Women_Var!Q298","v":188},{"$f":"Baker_Scores_Women_Var!R298","v":183},{"$f":"Baker_Scores_Women_Var!S298","v":197},{"$f":"Baker_Scores_Women_Var!T298","v":171},{"$f":"Baker_Scores_Women_Var!U298","v":178},{"$f":"Baker_Scores_Women_Var!V298","v":173},{"$f":"Baker_Scores_Women_Var!W298","v":161},{"$f":"Baker_Scores_Women_Var!X298","v":154},{"$f":"Baker_Scores_Women_Var!Y298","v":181},{"$f":"Baker_Scores_Women_Var!Z298","v":202},{"$f":"Baker_Scores_Women_Var!AA298","v":190},{"$f":"SUM(K12:AD12)","v":3804},{"$f":"J12+AE12","v":9473}]
[{"$f":"RANK(AF13,$AF$12:$AF$37)","v":2},"Mount Mercy University V",null,{"$f":"Individual_Scores_Women_Var!G205","v":974},{"$f":"Individual_Scores_Women_Var!H205","v":905},{"$f":"Individual_Scores_Women_Var!I205","v":947},{"$f":"Individual_Scores_Women_Var!J205","v":978},{"$f":"Individual_Scores_Women_Var!K205","v":872},{"$f":"Individual_Scores_Women_Var!L205","v":932},5608,{"$f":"Baker_Scores_Women_Var!H194","v":189},{"$f":"Baker_Scores_Women_Var!I194","v":220},{"$f":"Baker_Scores_Women_Var!J194","v":183},{"$f":"Baker_Scores_Women_Var!K194","v":190},{"$f":"Baker_Scores_Women_Var!L194","v":190},{"$f":"Baker_Scores_Women_Var!M194","v":163},{"$f":"Baker_Scores_Women_Var!N194","v":172},{"$f":"Baker_Scores_Women_Var!O194","v":164},{"$f":"Baker_Scores_Women_Var!P194","v":158},{"$f":"Baker_Scores_Women_Var!Q194","v":174},{"$f":"Baker_Scores_Women_Var!R194","v":181},{"$f":"Baker_Scores_Women_Var!S194","v":181},{"$f":"Baker_Scores_Women_Var!T194","v":150},{"$f":"Baker_Scores_Women_Var!U194","v":184},{"$f":"Baker_Scores_Women_Var!V194","v":177},{"$f":"Baker_Scores_Women_Var!W194","v":202},{"$f":"Baker_Scores_Women_Var!X194","v":193},{"$f":"Baker_Scores_Women_Var!Y194","v":178},{"$f":"Baker_Scores_Women_Var!Z194","v":226},{"$f":"Baker_Scores_Women_Var!AA194","v":217},3692,9300]
[{"$f":"RANK(AF14,$AF$12:$AF$37)","v":3},"Oklahoma Christian University V",null,{"$f":"Individual_Scores_Women_Var!G231","v":901},{"$f":"Individual_Scores_Women_Var!H231","v":903},{"$f":"Individual_Scores_Women_Var!I231","v":921},{"$f":"Individual_Scores_Women_Var!J231","v":902},{"$f":"Individual_Scores_Women_Var!K231","v":831},{"$f":"Individual_Scores_Women_Var!L231","v":944},5402,{"$f":"Baker_Scores_Women_Var!H220","v":191},{"$f":"Baker_Scores_Women_Var!I220","v":168},{"$f":"Baker_Scores_Women_Var!J220","v":179},{"$f":"Baker_Scores_Women_Var!K220","v":172},{"$f":"Baker_Scores_Women_Var!L220","v":144},{"$f":"Baker_Scores_Women_Var!M220","v":176},{"$f":"Baker_Scores_Women_Var!N220","v":177},{"$f":"Baker_Scores_Women_Var!O220","v":198},{"$f":"Baker_Scores_Women_Var!P220","v":178},{"$f":"Baker_Scores_Women_Var!Q220","v":175},{"$f":"Baker_Scores_Women_Var!R220","v":223},{"$f":"Baker_Scores_Women_Var!S220","v":171},{"$f":"Baker_Scores_Women_Var!T220","v":158},{"$f":"Baker_Scores_Women_Var!U220","v":243},{"$f":"Baker_Scores_Women_Var!V220","v":175},{"$f":"Baker_Scores_Women_Var!W220","v":200},{"$f":"Baker_Scores_Women_Var!X220","v":187},{"$f":"Baker_Scores_Women_Var!Y220","v":180},{"$f":"Baker_Scores_Women_Var!Z220","v":191},{"$f":"Baker_Scores_Women_Var!AA220","v":199},3685,9087]
[{"$f":"RANK(AF15,$AF$12:$AF$37)","v":4},"St. Ambrose University V",null,{"$f":"Individual_Scores_Women_Var!G270","v":883},{"$f":"Individual_Scores_Women_Var!H270","v":818},{"$f":"Individual_Scores_Women_Var!I270","v":909},{"$f":"Individual_Scores_Women_Var!J270","v":943},{"$f":"Individual_Scores_Women_Var!K270","v":796},{"$f":"Individual_Scores_Women_Var!L270","v":957},5306,{"$f":"Baker_Scores_Women_Var!H259","v":220},{"$f":"Baker_Scores_Women_Var!I259","v":185},{"$f":"Baker_Scores_Women_Var!J259","v":195},{"$f":"Baker_Scores_Women_Var!K259","v":152},{"$f":"Baker_Scores_Women_Var!L259","v":153},{"$f":"Baker_Scores_Women_Var!M259","v":176},{"$f":"Baker_Scores_Women_Var!N259","v":224},{"$f":"Baker_Scores_Women_Var!O259","v":206},{"$f":"Baker_Scores_Women_Var!P259","v":135},{"$f":"Baker_Scores_Women_Var!Q259","v":186},{"$f":"Baker_Scores_Women_Var!R259","v":186},{"$f":"Baker_Scores_Women_Var!S259","v":171},{"$f":"Baker_Scores_Women_Var!T259","v":228},{"$f":"Baker_Scores_Women_Var!U259","v":199},{"$f":"Baker_Scores_Women_Var!V259","v":211},{"$f":"Baker_Scores_Women_Var!W259","v":160},{"$f":"Baker_Scores_Women_Var!X259","v":157},{"$f":"Baker_Scores_Women_Var!Y259","v":211},{"$f":"Baker_Scores_Women_Var!Z259","v":174},{"$f":"Baker_Scores_Women_Var!AA259","v":225},3754,9060]
[{"$f":"RANK(AF16,$AF$12:$AF$37)","v":5},"Lindenwood University V",null,{"$f":"Individual_Scores_Women_Var!G192","v":913},{"$f":"Individual_Scores_Women_Var!H192","v":924},{"$f":"Individual_Scores_Women_Var!I192","v":844},{"$f":"Individual_Scores_Women_Var!J192","v":921},{"$f":"Individual_Scores_Women_Var!K192","v":986},{"$f":"Individual_Scores_Women_Var!L192","v":872},5460,{"$f":"Baker_Scores_Women_Var!H181","v":176},{"$f":"Baker_Scores_Women_Var!I181","v":161},{"$f":"Baker_Scores_Women_Var!J181","v":166},{"$f":"Baker_Scores_Women_Var!K181","v":191},{"$f":"Baker_Scores_Women_Var!L181","v":167},{"$f":"Baker_Scores_Women_Var!M181","v":190},{"$f":"Baker_Scores_Women_Var!N181","v":183},{"$f":"Baker_Scores_Women_Var!O181","v":170},{"$f":"Baker_Scores_Women_Var!P181","v":200},{"$f":"Baker_Scores_Women_Var!Q181","v":195},{"$f":"Baker_Scores_Women_Var!R181","v":213},{"$f":"Baker_Scores_Women_Var!S181","v":188},{"$f":"Baker_Scores_Women_Var!T181","v":152},{"$f":"Baker_Scores_Women_Var!U181","v":183},{"$f":"Baker_Scores_Women_Var!V181","v":150},{"$f":"Baker_Scores_Women_Var!W181","v":191},{"$f":"Baker_Scores_Women_Var!X181","v":119},{"$f":"Baker_Scores_Women_Var!Y181","v":182},{"$f":"Baker_Scores_Women_Var!Z181","v":233},{"$f":"Baker_Scores_Women_Var!AA181","v":123},3533,8993]
[{"$f":"RANK(AF17,$AF$12:$AF$37)","v":6},"Newman University V",null,{"$f":"Individual_Scores_Women_Var!G218","v":876},{"$f":"Individual_Scores_Women_Var!H218","v":948},{"$f":"Individual_Scores_Women_Var!I218","v":869},{"$f":"Individual_Scores_Women_Var!J218","v":824},{"$f":"Individual_Scores_Women_Var!K218","v":910},{"$f":"Individual_Scores_Women_Var!L218","v":885},5312,{"$f":"Baker_Scores_Women_Var!H207","v":199},{"$f":"Baker_Scores_Women_Var!I207","v":162},{"$f":"Baker_Scores_Women_Var!J207","v":187},{"$f":"Baker_Scores_Women_Var!K207","v":168},{"$f":"Baker_Scores_Women_Var!L207","v":173},{"$f":"Baker_Scores_Women_Var!M207","v":166},{"$f":"Baker_Scores_Women_Var!N207","v":203},{"$f":"Baker_Scores_Women_Var!O207","v":157},{"$f":"Baker_Scores_Women_Var!P207","v":157},{"$f":"Baker_Scores_Women_Var!Q207","v":188},{"$f":"Baker_Scores_Women_Var!R207","v":222},{"$f":"Baker_Scores_Women_Var!S207","v":164},{"$f":"Baker_Scores_Women_Var!T207","v":167},{"$f":"Baker_Scores_Women_Var!U207","v":223},{"$f":"Baker_Scores_Women_Var!V207","v":188},{"$f":"Baker_Scores_Women_Var!W207","v":209},{"$f":"Baker_Scores_Women_Var!X207","v":160},{"$f":"Baker_Scores_Women_Var!Y207","v":207},{"$f":"Baker_Scores_Women_Var!Z207","v":189},{"$f":"Baker_Scores_Women_Var!AA207","v":169},3658,8970]
[{"$f":"RANK(AF18,$AF$12:$AF$37)","v":7},"Ottawa University (KS) V",null,{"$f":"Individual_Scores_Women_Var!G244","v":784},{"$f":"Individual_Scores_Women_Var!H244","v":837},{"$f":"Individual_Scores_Women_Var!I244","v":887},{"$f":"Individual_Scores_Women_Var!J244","v":975},{"$f":"Individual_Scores_Women_Var!K244","v":938},{"$f":"Individual_Scores_Women_Var!L244","v":966},5387,{"$f":"Baker_Scores_Women_Var!H233","v":147},{"$f":"Baker_Scores_Women_Var!I233","v":168},{"$f":"Baker_Scores_Women_Var!J233","v":188},{"$f":"Baker_Scores_Women_Var!K233","v":163},{"$f":"Baker_Scores_Women_Var!L233","v":201},{"$f":"Baker_Scores_Women_Var!M233","v":169},{"$f":"Baker_Scores_Women_Var!N233","v":172},{"$f":"Baker_Scores_Women_Var!O233","v":167},{"$f":"Baker_Scores_Women_Var!P233","v":155},{"$f":"Baker_Scores_Women_Var!Q233","v":177},{"$f":"Baker_Scores_Women_Var!R233","v":185},{"$f":"Baker_Scores_Women_Var!S233","v":218},{"$f":"Baker_Scores_Women_Var!T233","v":193},{"$f":"Baker_Scores_Women_Var!U233","v":209},{"$f":"Baker_Scores_Women_Var!V233","v":148},{"$f":"Baker_Scores_Women_Var!W233","v":174},{"$f":"Baker_Scores_Women_Var!X233","v":138},{"$f":"Baker_Scores_Women_Var!Y233","v":179},{"$f":"Baker_Scores_Women_Var!Z233","v":175},{"$f":"Baker_Scores_Women_Var!AA233","v":176},3502,8889]
[{"$f":"RANK(AF19,$AF$12:$AF$37)","v":8},"William Penn University V",null,{"$f":"Individual_Scores_Women_Var!G322","v":782},{"$f":"Individual_Scores_Women_Var!H322","v":826},{"$f":"Individual_Scores_Women_Var!I322","v":955},{"$f":"Individual_Scores_Women_Var!J322","v":843},{"$f":"Individual_Scores_Women_Var!K322","v":908},{"$f":"Individual_Scores_Women_Var!L322","v":851},5165,{"$f":"Baker_Scores_Women_Var!H311","v":204},{"$f":"Baker_Scores_Women_Var!I311","v":226},{"$f":"Baker_Scores_Women_Var!J311","v":174},{"$f":"Baker_Scores_Women_Var!K311","v":178},{"$f":"Baker_Scores_Women_Var!L311","v":223},{"$f":"Baker_Scores_Women_Var!M311","v":178},{"$f":"Baker_Scores_Women_Var!N311","v":174},{"$f":"Baker_Scores_Women_Var!O311","v":206},{"$f":"Baker_Scores_Women_Var!P311","v":189},{"$f":"Baker_Scores_Women_Var!Q311","v":199},{"$f":"Baker_Scores_Women_Var!R311","v":175},{"$f":"Baker_Scores_Women_Var!S311","v":180},{"$f":"Baker_Scores_Women_Var!T311","v":179},{"$f":"Baker_Scores_Women_Var!U311","v":140},{"$f":"Baker_Scores_Women_Var!V311","v":180},{"$f":"Baker_Scores_Women_Var!W311","v":159},{"$f":"Baker_Scores_Women_Var!X311","v":177},{"$f":"Baker_Scores_Women_Var!Y311","v":155},{"$f":"Baker_Scores_Women_Var!Z311","v":226},{"$f":"Baker_Scores_Women_Var!AA311","v":176},3698,8863]
[{"$f":"RANK(AF20,$AF$12:$AF$37)","v":9},"Culver-Stockton College V",null,{"$f":"Individual_Scores_Women_Var!G88","v":878},{"$f":"Individual_Scores_Women_Var!H88","v":900},{"$f":"Individual_Scores_Women_Var!I88","v":1003},{"$f":"Individual_Scores_Women_Var!J88","v":882},{"$f":"Individual_Scores_Women_Var!K88","v":826},{"$f":"Individual_Scores_Women_Var!L88","v":897},5386,{"$f":"Baker_Scores_Women_Var!H77","v":125},{"$f":"Baker_Scores_Women_Var!I77","v":189},{"$f":"Baker_Scores_Women_Var!J77","v":228},{"$f":"Baker_Scores_Women_Var!K77","v":139},{"$f":"Baker_Scores_Women_Var!L77","v":138},{"$f":"Baker_Scores_Women_Var!M77","v":205},{"$f":"Baker_Scores_Women_Var!N77","v":173},{"$f":"Baker_Scores_Women_Var!O77","v":181},{"$f":"Baker_Scores_Women_Var!P77","v":168},{"$f":"Baker_Scores_Women_Var!Q77","v":179},{"$f":"Baker_Scores_Women_Var!R77","v":157},{"$f":"Baker_Scores_Women_Var!S77","v":182},{"$f":"Baker_Scores_Women_Var!T77","v":140},{"$f":"Baker_Scores_Women_Var!U77","v":189},{"$f":"Baker_Scores_Women_Var!V77","v":158},{"$f":"Baker_Scores_Women_Var!W77","v":184},{"$f":"Baker_Scores_Women_Var!X77","v":147},{"$f":"Baker_Scores_Women_Var!Y77","v":176},{"$f":"Baker_Scores_Women_Var!Z77","v":159},{"$f":"Baker_Scores_Women_Var!AA77","v":169},3386,8772]
[{"$f":"RANK(AF21,$AF$12:$AF$37)","v":10},"Baker University V",null,{"$f":"Individual_Scores_Women_Var!G36","v":887},{"$f":"Individual_Scores_Women_Var!H36","v":866},{"$f":"Individual_Scores_Women_Var!I36","v":961},{"$f":"Individual_Scores_Women_Var!J36","v":798},{"$f":"Individual_Scores_Women_Var!K36","v":918},{"$f":"Individual_Scores_Women_Var!L36","v":837},5267,{"$f":"Baker_Scores_Women_Var!H25","v":201},{"$f":"Baker_Scores_Women_Var!I25","v":196},{"$f":"Baker_Scores_Women_Var!J25","v":181},{"$f":"Baker_Scores_Women_Var!K25","v":169},{"$f":"Baker_Scores_Women_Var!L25","v":190},{"$f":"Baker_Scores_Women_Var!M25","v":149},{"$f":"Baker_Scores_Women_Var!N25","v":173},{"$f":"Baker_Scores_Women_Var!O25","v":181},{"$f":"Baker_Scores_Women_Var!P25","v":177},{"$f":"Baker_Scores_Women_Var!Q25","v":153},{"$f":"Baker_Scores_Women_Var!R25","v":157},{"$f":"Baker_Scores_Women_Var!S25","v":161},{"$f":"Baker_Scores_Women_Var!T25","v":160},{"$f":"Baker_Scores_Women_Var!U25","v":203},{"$f":"Baker_Scores_Women_Var!V25","v":213},{"$f":"Baker_Scores_Women_Var!W25","v":164},{"$f":"Baker_Scores_Women_Var!X25","v":164},{"$f":"Baker_Scores_Women_Var!Y25","v":166},{"$f":"Baker_Scores_Women_Var!Z25","v":159},{"$f":"Baker_Scores_Women_Var!AA25","v":152},3469,8736]
[{"$f":"RANK(AF22,$AF$12:$AF$37)","v":11},"Grand View University V",null,{"$f":"Individual_Scores_Women_Var!G101","v":860},{"$f":"Individual_Scores_Women_Var!H101","v":929},{"$f":"Individual_Scores_Women_Var!I101","v":819},{"$f":"Individual_Scores_Women_Var!J101","v":856},{"$f":"Individual_Scores_Women_Var!K101","v":834},{"$f":"Individual_Scores_Women_Var!L101","v":846},5144,{"$f":"Baker_Scores_Women_Var!H90","v":182},{"$f":"Baker_Scores_Women_Var!I90","v":219},{"$f":"Baker_Scores_Women_Var!J90","v":147},{"$f":"Baker_Scores_Women_Var!K90","v":156},{"$f":"Baker_Scores_Women_Var!L90","v":172},{"$f":"Baker_Scores_Women_Var!M90","v":157},{"$f":"Baker_Scores_Women_Var!N90","v":190},{"$f":"Baker_Scores_Women_Var!O90","v":203},{"$f":"Baker_Scores_Women_Var!P90","v":152},{"$f":"Baker_Scores_Women_Var!Q90","v":125},{"$f":"Baker_Scores_Women_Var!R90","v":135},{"$f":"Baker_Scores_Women_Var!S90","v":170},{"$f":"Baker_Scores_Women_Var!T90","v":137},{"$f":"Baker_Scores_Women_Var!U90","v":171},{"$f":"Baker_Scores_Women_Var!V90","v":226},{"$f":"Baker_Scores_Women_Var!W90","v":179},{"$f":"Baker_Scores_Women_Var!X90","v":146},{"$f":"Baker_Scores_Women_Var!Y90","v":188},{"$f":"Baker_Scores_Women_Var!Z90","v":170},{"$f":"Baker_Scores_Women_Var!AA90","v":142},3367,8511]
[{"$f":"RANK(AF23,$AF$12:$AF$37)","v":12},"Iowa Central Community College V",null,{"$f":"Individual_Scores_Women_Var!G127","v":820},{"$f":"Individual_Scores_Women_Var!H127","v":814},{"$f":"Individual_Scores_Women_Var!I127","v":814},{"$f":"Individual_Scores_Women_Var!J127","v":869},{"$f":"Individual_Scores_Women_Var!K127","v":844},{"$f":"Individual_Scores_Women_Var!L127","v":958},5119,{"$f":"Baker_Scores_Women_Var!H116","v":168},{"$f":"Baker_Scores_Women_Var!I116","v":179},{"$f":"Baker_Scores_Women_Var!J116","v":133},{"$f":"Baker_Scores_Women_Var!K116","v":167},{"$f":"Baker_Scores_Women_Var!L116","v":158},{"$f":"Baker_Scores_Women_Var!M116","v":174},{"$f":"Baker_Scores_Women_Var!N116","v":149},{"$f":"Baker_Scores_Women_Var!O116","v":152},{"$f":"Baker_Scores_Women_Var!P116","v":188},{"$f":"Baker_Scores_Women_Var!Q116","v":156},{"$f":"Baker_Scores_Women_Var!R116","v":158},{"$f":"Baker_Scores_Women_Var!S116","v":185},{"$f":"Baker_Scores_Women_Var!T116","v":169},{"$f":"Baker_Scores_Women_Var!U116","v":177},{"$f":"Baker_Scores_Women_Var!V116","v":184},{"$f":"Baker_Scores_Women_Var!W116","v":158},{"$f":"Baker_Scores_Women_Var!X116","v":162},{"$f":"Baker_Scores_Women_Var!Y116","v":143},{"$f":"Baker_Scores_Women_Var!Z116","v":206},{"$f":"Baker_Scores_Women_Var!AA116","v":153},3319,8438]
[{"$f":"RANK(AF24,$AF$12:$AF$37)","v":13},"Coe College V",null,{"$f":"Individual_Scores_Women_Var!G62","v":990},{"$f":"Individual_Scores_Women_Var!H62","v":847},{"$f":"Individual_Scores_Women_Var!I62","v":668},{"$f":"Individual_Scores_Women_Var!J62","v":847},{"$f":"Individual_Scores_Women_Var!K62","v":924},{"$f":"Individual_Scores_Women_Var!L62","v":829},5105,{"$f":"Baker_Scores_Women_Var!H51","v":154},{"$f":"Baker_Scores_Women_Var!I51","v":165},{"$f":"Baker_Scores_Women_Var!J51","v":186},{"$f":"Baker_Scores_Women_Var!K51","v":113},{"$f":"Baker_Scores_Women_Var!L51","v":145},{"$f":"Baker_Scores_Women_Var!M51","v":153},{"$f":"Baker_Scores_Women_Var!N51","v":178},{"$f":"Baker_Scores_Women_Var!O51","v":169},{"$f":"Baker_Scores_Women_Var!P51","v":191},{"$f":"Baker_Scores_Women_Var!Q51","v":144},{"$f":"Baker_Scores_Women_Var!R51","v":144},{"$f":"Baker_Scores_Women_Var!S51","v":176},{"$f":"Baker_Scores_Women_Var!T51","v":169},{"$f":"Baker_Scores_Women_Var!U51","v":184},{"$f":"Baker_Scores_Women_Var!V51","v":149},{"$f":"Baker_Scores_Women_Var!W51","v":162},{"$f":"Baker_Scores_Women_Var!X51","v":173},{"$f":"Baker_Scores_Women_Var!Y51","v":124},{"$f":"Baker_Scores_Women_Var!Z51","v":192},{"$f":"Baker_Scores_Women_Var!AA51","v":143},3214,8319]
[{"$f":"RANK(AF25,$AF$12:$AF$37)","v":14},"Kansas Wesleyan University V",null,{"$f":"Individual_Scores_Women_Var!G179","v":705},{"$f":"Individual_Scores_Women_Var!H179","v":865},{"$f":"Individual_Scores_Women_Var!I179","v":759},{"$f":"Individual_Scores_Women_Var!J179","v":901},{"$f":"Individual_Scores_Women_Var!K179","v":717},{"$f":"Individual_Scores_Women_Var!L179","v":810},4757,{"$f":"Baker_Scores_Women_Var!H168","v":145},{"$f":"Baker_Scores_Women_Var!I168","v":143},{"$f":"Baker_Scores_Women_Var!J168","v":199},{"$f":"Baker_Scores_Women_Var!K168","v":140},{"$f":"Baker_Scores_Women_Var!L168","v":174},{"$f":"Baker_Scores_Women_Var!M168","v":176},{"$f":"Baker_Scores_Women_Var!N168","v":195},{"$f":"Baker_Scores_Women_Var!O168","v":170},{"$f":"Baker_Scores_Women_Var!P168","v":189},{"$f":"Baker_Scores_Women_Var!Q168","v":158},{"$f":"Baker_Scores_Women_Var!R168","v":192},{"$f":"Baker_Scores_Women_Var!S168","v":202},{"$f":"Baker_Scores_Women_Var!T168","v":161},{"$f":"Baker_Scores_Women_Var!U168","v":157},{"$f":"Baker_Scores_Women_Var!V168","v":144},{"$f":"Baker_Scores_Women_Var!W168","v":167},{"$f":"Baker_Scores_Women_Var!X168","v":206},{"$f":"Baker_Scores_Women_Var!Y168","v":137},{"$f":"Baker_Scores_Women_Var!Z168","v":177},{"$f":"Baker_Scores_Women_Var!AA168","v":188},3420,8177]
[{"$f":"RANK(AF26,$AF$12:$AF$37)","v":15},"College Of Saint Mary V",null,{"$f":"Individual_Scores_Women_Var!G75","v":848},{"$f":"Individual_Scores_Women_Var!H75","v":792},{"$f":"Individual_Scores_Women_Var!I75","v":793},{"$f":"Individual_Scores_Women_Var!J75","v":757},{"$f":"Individual_Scores_Women_Var!K75","v":806},{"$f":"Individual_Scores_Women_Var!L75","v":815},4811,{"$f":"Baker_Scores_Women_Var!H64","v":179},{"$f":"Baker_Scores_Women_Var!I64","v":137},{"$f":"Baker_Scores_Women_Var!J64","v":136},{"$f":"Baker_Scores_Women_Var!K64","v":183},{"$f":"Baker_Scores_Women_Var!L64","v":142},{"$f":"Baker_Scores_Women_Var!M64","v":184},{"$f":"Baker_Scores_Women_Var!N64","v":152},{"$f":"Baker_Scores_Women_Var!O64","v":197},{"$f":"Baker_Scores_Women_Var!P64","v":174},{"$f":"Baker_Scores_Women_Var!Q64","v":170},{"$f":"Baker_Scores_Women_Var!R64","v":153},{"$f":"Baker_Scores_Women_Var!S64","v":139},{"$f":"Baker_Scores_Women_Var!T64","v":154},{"$f":"Baker_Scores_Women_Var!U64","v":157},{"$f":"Baker_Scores_Women_Var!V64","v":129},{"$f":"Baker_Scores_Women_Var!W64","v":145},{"$f":"Baker_Scores_Women_Var!X64","v":164},{"$f":"Baker_Scores_Women_Var!Y64","v":154},{"$f":"Baker_Scores_Women_Var!Z64","v":141},{"$f":"Baker_Scores_Women_Var!AA64","v":180},3170,7981]
[{"$f":"RANK(AF27,$AF$12:$AF$37)","v":16},"Avila University V",null,{"$f":"Individual_Scores_Women_Var!G23","v":747},{"$f":"Individual_Scores_Women_Var!H23","v":747},{"$f":"Individual_Scores_Women_Var!I23","v":841},{"$f":"Individual_Scores_Women_Var!J23","v":767},{"$f":"Individual_Scores_Women_Var!K23","v":928},{"$f":"Individual_Scores_Women_Var!L23","v":797},4827,{"$f":"Baker_Scores_Women_Var!H12","v":157},{"$f":"Baker_Scores_Women_Var!I12","v":146},{"$f":"Baker_Scores_Women_Var!J12","v":167},{"$f":"Baker_Scores_Women_Var!K12","v":140},{"$f":"Baker_Scores_Women_Var!L12","v":140},{"$f":"Baker_Scores_Women_Var!M12","v":151},{"$f":"Baker_Scores_Women_Var!N12","v":136},{"$f":"Baker_Scores_Women_Var!O12","v":125},{"$f":"Baker_Scores_Women_Var!P12","v":155},{"$f":"Baker_Scores_Women_Var!Q12","v":165},{"$f":"Baker_Scores_Women_Var!R12","v":168},{"$f":"Baker_Scores_Women_Var!S12","v":171},{"$f":"Baker_Scores_Women_Var!T12","v":136},{"$f":"Baker_Scores_Women_Var!U12","v":173},{"$f":"Baker_Scores_Women_Var!V12","v":182},{"$f":"Baker_Scores_Women_Var!W12","v":210},{"$f":"Baker_Scores_Women_Var!X12","v":145},{"$f":"Baker_Scores_Women_Var!Y12","v":181},{"$f":"Baker_Scores_Women_Var!Z12","v":141},{"$f":"Baker_Scores_Women_Var!AA12","v":159},3148,7975]
[{"$f":"RANK(AF28,$AF$12:$AF$37)","v":17},"Barton Community College V",null,{"$f":"Individual_Scores_Women_Var!G49","v":805},{"$f":"Individual_Scores_Women_Var!H49","v":821},{"$f":"Individual_Scores_Women_Var!I49","v":744},{"$f":"Individual_Scores_Women_Var!J49","v":753},{"$f":"Individual_Scores_Women_Var!K49","v":797},{"$f":"Individual_Scores_Women_Var!L49","v":806},4726,{"$f":"Baker_Scores_Women_Var!H38","v":121},{"$f":"Baker_Scores_Women_Var!I38","v":148},{"$f":"Baker_Scores_Women_Var!J38","v":192},{"$f":"Baker_Scores_Women_Var!K38","v":147},{"$f":"Baker_Scores_Women_Var!L38","v":166},{"$f":"Baker_Scores_Women_Var!M38","v":174},{"$f":"Baker_Scores_Women_Var!N38","v":149},{"$f":"Baker_Scores_Women_Var!O38","v":164},{"$f":"Baker_Scores_Women_Var!P38","v":128},{"$f":"Baker_Scores_Women_Var!Q38","v":159},{"$f":"Baker_Scores_Women_Var!R38","v":148},{"$f":"Baker_Scores_Women_Var!S38","v":212},{"$f":"Baker_Scores_Women_Var!T38","v":160},{"$f":"Baker_Scores_Women_Var!U38","v":176},{"$f":"Baker_Scores_Women_Var!V38","v":151},{"$f":"Baker_Scores_Women_Var!W38","v":177},{"$f":"Baker_Scores_Women_Var!X38","v":138},{"$f":"Baker_Scores_Women_Var!Y38","v":141},{"$f":"Baker_Scores_Women_Var!Z38","v":194},{"$f":"Baker_Scores_Women_Var!AA38","v":185},3230,7956]
[{"$f":"RANK(AF29,$AF$12:$AF$37)","v":18},"Iowa Western Community College V",null,{"$f":"Individual_Scores_Women_Var!G140","v":804},{"$f":"Individual_Scores_Women_Var!H140","v":787},{"$f":"Individual_Scores_Women_Var!I140","v":821},{"$f":"Individual_Scores_Women_Var!J140","v":863},{"$f":"Individual_Scores_Women_Var!K140","v":730},{"$f":"Individual_Scores_Women_Var!L140","v":717},4722,{"$f":"Baker_Scores_Women_Var!H129","v":153},{"$f":"Baker_Scores_Women_Var!I129","v":148},{"$f":"Baker_Scores_Women_Var!J129","v":157},{"$f":"Baker_Scores_Women_Var!K129","v":144},{"$f":"Baker_Scores_Women_Var!L129","v":152},{"$f":"Baker_Scores_Women_Var!M129","v":157},{"$f":"Baker_Scores_Women_Var!N129","v":162},{"$f":"Baker_Scores_Women_Var!O129","v":156},{"$f":"Baker_Scores_Women_Var!P129","v":174},{"$f":"Baker_Scores_Women_Var!Q129","v":164},{"$f":"Baker_Scores_Women_Var!R129","v":137},{"$f":"Baker_Scores_Women_Var!S129","v":199},{"$f":"Baker_Scores_Women_Var!T129","v":173},{"$f":"Baker_Scores_Women_Var!U129","v":160},{"$f":"Baker_Scores_Women_Var!V129","v":166},{"$f":"Baker_Scores_Women_Var!W129","v":160},{"$f":"Baker_Scores_Women_Var!X129","v":137},{"$f":"Baker_Scores_Women_Var!Y129","v":169},{"$f":"Baker_Scores_Women_Var!Z129","v":174},{"$f":"Baker_Scores_Women_Var!AA129","v":140},3182,7904]
[{"$f":"RANK(AF30,$AF$12:$AF$37)","v":19},"Hastings College V",null,{"$f":"Individual_Scores_Women_Var!G114","v":733},{"$f":"Individual_Scores_Women_Var!H114","v":773},{"$f":"Individual_Scores_Women_Var!I114","v":820},{"$f":"Individual_Scores_Women_Var!J114","v":791},{"$f":"Individual_Scores_Women_Var!K114","v":729},{"$f":"Individual_Scores_Women_Var!L114","v":859},4705,{"$f":"Baker_Scores_Women_Var!H103","v":168},{"$f":"Baker_Scores_Women_Var!I103","v":153},{"$f":"Baker_Scores_Women_Var!J103","v":169},{"$f":"Baker_Scores_Women_Var!K103","v":146},{"$f":"Baker_Scores_Women_Var!L103","v":144},{"$f":"Baker_Scores_Women_Var!M103","v":181},{"$f":"Baker_Scores_Women_Var!N103","v":147},{"$f":"Baker_Scores_Women_Var!O103","v":188},{"$f":"Baker_Scores_Women_Var!P103","v":196},{"$f":"Baker_Scores_Women_Var!Q103","v":157},{"$f":"Baker_Scores_Women_Var!R103","v":138},{"$f":"Baker_Scores_Women_Var!S103","v":176},{"$f":"Baker_Scores_Women_Var!T103","v":115},{"$f":"Baker_Scores_Women_Var!U103","v":149},{"$f":"Baker_Scores_Women_Var!V103","v":155},{"$f":"Baker_Scores_Women_Var!W103","v":163},{"$f":"Baker_Scores_Women_Var!X103","v":161},{"$f":"Baker_Scores_Women_Var!Y103","v":186},{"$f":"Baker_Scores_Women_Var!Z103","v":137},{"$f":"Baker_Scores_Women_Var!AA103","v":169},3198,7903]
[{"$f":"RANK(AF31,$AF$12:$AF$37)","v":20},"Peru State College V",null,{"$f":"Individual_Scores_Women_Var!G257","v":732},{"$f":"Individual_Scores_Women_Var!H257","v":780},{"$f":"Individual_Scores_Women_Var!I257","v":801},{"$f":"Individual_Scores_Women_Var!J257","v":691},{"$f":"Individual_Scores_Women_Var!K257","v":743},{"$f":"Individual_Scores_Women_Var!L257","v":895},4642,{"$f":"Baker_Scores_Women_Var!H246","v":136},{"$f":"Baker_Scores_Women_Var!I246","v":150},{"$f":"Baker_Scores_Women_Var!J246","v":162},{"$f":"Baker_Scores_Women_Var!K246","v":143},{"$f":"Baker_Scores_Women_Var!L246","v":117},{"$f":"Baker_Scores_Women_Var!M246","v":153},{"$f":"Baker_Scores_Women_Var!N246","v":212},{"$f":"Baker_Scores_Women_Var!O246","v":160},{"$f":"Baker_Scores_Women_Var!P246","v":179},{"$f":"Baker_Scores_Women_Var!Q246","v":144},{"$f":"Baker_Scores_Women_Var!R246","v":156},{"$f":"Baker_Scores_Women_Var!S246","v":151},{"$f":"Baker_Scores_Women_Var!T246","v":156},{"$f":"Baker_Scores_Women_Var!U246","v":155},{"$f":"Baker_Scores_Women_Var!V246","v":167},{"$f":"Baker_Scores_Women_Var!W246","v":178},{"$f":"Baker_Scores_Women_Var!X246","v":160},{"$f":"Baker_Scores_Women_Var!Y246","v":181},{"$f":"Baker_Scores_Women_Var!Z246","v":189},{"$f":"Baker_Scores_Women_Var!AA246","v":134},3183,7825]
[{"$f":"RANK(AF32,$AF$12:$AF$37)","v":21},"Waldorf University V",null,{"$f":"Individual_Scores_Women_Var!G296","v":772},{"$f":"Individual_Scores_Women_Var!H296","v":610},{"$f":"Individual_Scores_Women_Var!I296","v":879},{"$f":"Individual_Scores_Women_Var!J296","v":766},{"$f":"Individual_Scores_Women_Var!K296","v":883},{"$f":"Individual_Scores_Women_Var!L296","v":734},4644,{"$f":"Baker_Scores_Women_Var!H285","v":178},{"$f":"Baker_Scores_Women_Var!I285","v":140},{"$f":"Baker_Scores_Women_Var!J285","v":179},{"$f":"Baker_Scores_Women_Var!K285","v":113},{"$f":"Baker_Scores_Women_Var!L285","v":141},{"$f":"Baker_Scores_Women_Var!M285","v":166},{"$f":"Baker_Scores_Women_Var!N285","v":157},{"$f":"Baker_Scores_Women_Var!O285","v":146},{"$f":"Baker_Scores_Women_Var!P285","v":154},{"$f":"Baker_Scores_Women_Var!Q285","v":172},{"$f":"Baker_Scores_Women_Var!R285","v":148},{"$f":"Baker_Scores_Women_Var!S285","v":177},{"$f":"Baker_Scores_Women_Var!T285","v":137},{"$f":"Baker_Scores_Women_Var!U285","v":157},{"$f":"Baker_Scores_Women_Var!V285","v":192},{"$f":"Baker_Scores_Women_Var!W285","v":139},{"$f":"Baker_Scores_Women_Var!X285","v":159},{"$f":"Baker_Scores_Women_Var!Y285","v":182},{"$f":"Baker_Scores_Women_Var!Z285","v":126},{"$f":"Baker_Scores_Women_Var!AA285","v":170},3133,7777]
[{"$f":"RANK(AF33,$AF$12:$AF$37)","v":22},"University Of Saint Mary V",null,{"$f":"Individual_Scores_Women_Var!G283","v":741},{"$f":"Individual_Scores_Women_Var!H283","v":773},{"$f":"Individual_Scores_Women_Var!I283","v":696},{"$f":"Individual_Scores_Women_Var!J283","v":765},{"$f":"Individual_Scores_Women_Var!K283","v":748},{"$f":"Individual_Scores_Women_Var!L283","v":724},4447,{"$f":"Baker_Scores_Women_Var!H272","v":147},{"$f":"Baker_Scores_Women_Var!I272","v":118},{"$f":"Baker_Scores_Women_Var!J272","v":135},{"$f":"Baker_Scores_Women_Var!K272","v":148},{"$f":"Baker_Scores_Women_Var!L272","v":194},{"$f":"Baker_Scores_Women_Var!M272","v":164},{"$f":"Baker_Scores_Women_Var!N272","v":126},{"$f":"Baker_Scores_Women_Var!O272","v":158},{"$f":"Baker_Scores_Women_Var!P272","v":150},{"$f":"Baker_Scores_Women_Var!Q272","v":159},{"$f":"Baker_Scores_Women_Var!R272","v":114},{"$f":"Baker_Scores_Women_Var!S272","v":150},{"$f":"Baker_Scores_Women_Var!T272","v":137},{"$f":"Baker_Scores_Women_Var!U272","v":137},{"$f":"Baker_Scores_Women_Var!V272","v":151},{"$f":"Baker_Scores_Women_Var!W272","v":121},{"$f":"Baker_Scores_Women_Var!X272","v":148},{"$f":"Baker_Scores_Women_Var!Y272","v":195},{"$f":"Baker_Scores_Women_Var!Z272","v":127},{"$f":"Baker_Scores_Women_Var!AA272","v":189},2968,7415]
[{"$f":"RANK(AF34,$AF$12:$AF$37)","v":23},"Kansas State University V",null,{"$f":"Individual_Scores_Women_Var!G166","v":645},{"$f":"Individual_Scores_Women_Var!H166","v":656},{"$f":"Individual_Scores_Women_Var!I166","v":674},{"$f":"Individual_Scores_Women_Var!J166","v":654},{"$f":"Individual_Scores_Women_Var!K166","v":657},{"$f":"Individual_Scores_Women_Var!L166","v":611},3897,{"$f":"Baker_Scores_Women_Var!H155","v":164},{"$f":"Baker_Scores_Women_Var!I155","v":106},{"$f":"Baker_Scores_Women_Var!J155","v":112},{"$f":"Baker_Scores_Women_Var!K155","v":134},{"$f":"Baker_Scores_Women_Var!L155","v":138},{"$f":"Baker_Scores_Women_Var!M155","v":176},{"$f":"Baker_Scores_Women_Var!N155","v":118},{"$f":"Baker_Scores_Women_Var!O155","v":120},{"$f":"Baker_Scores_Women_Var!P155","v":139},{"$f":"Baker_Scores_Women_Var!Q155","v":145},{"$f":"Baker_Scores_Women_Var!R155","v":142},{"$f":"Baker_Scores_Women_Var!S155","v":144},{"$f":"Baker_Scores_Women_Var!T155","v":129},{"$f":"Baker_Scores_Women_Var!U155","v":160},{"$f":"Baker_Scores_Women_Var!V155","v":104},{"$f":"Baker_Scores_Women_Var!W155","v":121},{"$f":"Baker_Scores_Women_Var!X155","v":134},{"$f":"Baker_Scores_Women_Var!Y155","v":137},{"$f":"Baker_Scores_Women_Var!Z155","v":142},{"$f":"Baker_Scores_Women_Var!AA155","v":137},2702,6599]
[{"$f":"RANK(AF35,$AF$12:$AF$37)","v":24},"Kansas ,University Of V",null,{"$f":"Individual_Scores_Women_Var!G153","v":627},{"$f":"Individual_Scores_Women_Var!H153","v":603},{"$f":"Individual_Scores_Women_Var!I153","v":662},{"$f":"Individual_Scores_Women_Var!J153","v":608},{"$f":"Individual_Scores_Women_Var!K153","v":657},{"$f":"Individual_Scores_Women_Var!L153","v":596},3753,{"$f":"Baker_Scores_Women_Var!H142","v":104},{"$f":"Baker_Scores_Women_Var!I142","v":173},{"$f":"Baker_Scores_Women_Var!J142","v":118},{"$f":"Baker_Scores_Women_Var!K142","v":118},{"$f":"Baker_Scores_Women_Var!L142","v":136},{"$f":"Baker_Scores_Women_Var!M142","v":153},{"$f":"Baker_Scores_Women_Var!N142","v":115},{"$f":"Baker_Scores_Women_Var!O142","v":98},{"$f":"Baker_Scores_Women_Var!P142","v":125},{"$f":"Baker_Scores_Women_Var!Q142","v":133},{"$f":"Baker_Scores_Women_Var!R142","v":143},{"$f":"Baker_Scores_Women_Var!S142","v":168},{"$f":"Baker_Scores_Women_Var!T142","v":139},{"$f":"Baker_Scores_Women_Var!U142","v":98},{"$f":"Baker_Scores_Women_Var!V142","v":135},{"$f":"Baker_Scores_Women_Var!W142","v":105},{"$f":"Baker_Scores_Women_Var!X142","v":132},{"$f":"Baker_Scores_Women_Var!Y142","v":139},{"$f":"Baker_Scores_Women_Var!Z142","v":145},{"$f":"Baker_Scores_Women_Var!AA142","v":122},2599,6352]
[{"$f":"RANK(AF36,$AF$12:$AF$37)","v":25},"William Woods University V",null,{"$f":"Individual_Scores_Women_Var!G335","v":560},{"$f":"Individual_Scores_Women_Var!H335","v":564},{"$f":"Individual_Scores_Women_Var!I335","v":707},{"$f":"Individual_Scores_Women_Var!J335","v":518},{"$f":"Individual_Scores_Women_Var!K335","v":508},{"$f":"Individual_Scores_Women_Var!L335","v":571},3428,{"$f":"Baker_Scores_Women_Var!H324","v":75},{"$f":"Baker_Scores_Women_Var!I324","v":78},{"$f":"Baker_Scores_Women_Var!J324","v":88},{"$f":"Baker_Scores_Women_Var!K324","v":118},{"$f":"Baker_Scores_Women_Var!L324","v":114},{"$f":"Baker_Scores_Women_Var!M324","v":95},{"$f":"Baker_Scores_Women_Var!N324","v":88},{"$f":"Baker_Scores_Women_Var!O324","v":94},{"$f":"Baker_Scores_Women_Var!P324","v":97},{"$f":"Baker_Scores_Women_Var!Q324","v":108},{"$f":"Baker_Scores_Women_Var!R324","v":130},{"$f":"Baker_Scores_Women_Var!S324","v":150},{"$f":"Baker_Scores_Women_Var!T324","v":89},{"$f":"Baker_Scores_Women_Var!U324","v":142},{"$f":"Baker_Scores_Women_Var!V324","v":95},{"$f":"Baker_Scores_Women_Var!W324","v":106},{"$f":"Baker_Scores_Women_Var!X324","v":91},{"$f":"Baker_Scores_Women_Var!Y324","v":111},{"$f":"Baker_Scores_Women_Var!Z324","v":88},{"$f":"Baker_Scores_Women_Var!AA324","v":128},2085,5513]
[]
[null,"Total Team Pins:",null,{"$f":"SUM(D12:D36)","v":20206},20187,20773,20409,20512,20602,122689,4100,4060,4165,3818,4060,4187,4136,4127,4088,4073,4088,4383,3859,4304,4103,4095,3852,4183,4283,4135,82099,204788]
[null,"Team Field Ave:",null,{"$f":"(D38/25)","v":808.24},807.48,830.92,816.36,820.48,824.08,4907.56,164,162.4,166.6,152.72,162.4,167.48,165.44,165.08,163.52,162.92,163.52,175.32,154.36,172.16,164.12,163.8,154.08,167.32,171.32,165.4,3283.96]
[null,"Individual Field Ave:",null,{"$f":"IF(D47 = 0, 0,D38/D47)","v":162.9516129},164.1219512,168.8861789,164.5887097,165.4193548,166.1451613,165.3490566]
[]
[]
[]
[]
[]
[]
[null,null,null,{"$f":"COUNTIF(Individual_Scores_Women_Var!G12:G22, \">0\")+COUNTIF(Individual_Scores_Women_Var!G25:G35, \">0\")+COUNTIF(Individual_Scores_Women_Var!G38:G48, \">0\")+COUNTIF(Individual_Scores_Women_Var!G51:G61, \">0\")+COUNTIF(Individual_Scores_Women_Var!G64:G74, \">0\")+COUNTIF(Individual_Scores_Women_Var!G77:G87, \">0\")+COUNTIF(Individual_Scores_Women_Var!G90:G100, \">0\")+COUNTIF(Individual_Scores_Women_Var!G103:G113, \">0\")+COUNTIF(Individual_Scores_Women_Var!G116:G126, \">0\")+COUNTIF(Individual_Scores_Women_Var!G129:G139, \">0\")+COUNTIF(Individual_Scores_Women_Var!G142:G152, \">0\")+COUNTIF(Individual_Scores_Women_Var!G155:G165, \">0\")+COUNTIF(Individual_Scores_Women_Var!G168:G178, \">0\")+COUNTIF(Individual_Scores_Women_Var!G181:G191, \">0\")+COUNTIF(Individual_Scores_Women_Var!G194:G204, \">0\")+COUNTIF(Individual_Scores_Women_Var!G207:G217, \">0\")+COUNTIF(Individual_Scores_Women_Var!G220:G230, \">0\")+COUNTIF(Individual_Scores_Women_Var!G233:G243, \">0\")+COUNTIF(Individual_Scores_Women_Var!G246:G256, \">0\")+COUNTIF(Individual_Scores_Women_Var!G259:G269, \">0\")+COUNTIF(Individual_Scores_Women_Var!G272:G282, \">0\")+COUNTIF(Individual_Scores_Women_Var!G285:G295, \">0\")+COUNTIF(Individual_Scores_Women_Var!G298:G308, \">0\")+COUNTIF(Individual_Scores_Women_Var!G311:G321, \">0\")+COUNTIF(Individual_Scores_Women_Var!G324:G334, \">0\")","v":124},{"$f":"COUNTIF(Individual_Scores_Women_Var!H12:H22, \">0\")+COUNTIF(Individual_Scores_Women_Var!H25:H35, \">0\")+COUNTIF(Individual_Scores_Women_Var!H38:H48, \">0\")+COUNTIF(Individual_Scores_Women_Var!H51:H61, \">0\")+COUNTIF(Individual_Scores_Women_Var!H64:H74, \">0\")+COUNTIF(Individual_Scores_Women_Var!H77:H87, \">0\")+COUNTIF(Individual_Scores_Women_Var!H90:H100, \">0\")+COUNTIF(Individual_Scores_Women_Var!H103:H113, \">0\")+COUNTIF(Individual_Scores_Women_Var!H116:H126, \">0\")+COUNTIF(Individual_Scores_Women_Var!H129:H139, \">0\")+COUNTIF(Individual_Scores_Women_Var!H142:H152, \">0\")+COUNTIF(Individual_Scores_Women_Var!H155:H165, \">0\")+COUNTIF(Individual_Scores_Women_Var!H168:H178, \">0\")+COUNTIF(Individual_Scores_Women_Var!H181:H191, \">0\")+COUNTIF(Individual_Scores_Women_Var!H194:H204, \">0\")+COUNTIF(Individual_Scores_Women_Var!H207:H217, \">0\")+COUNTIF(Individual_Scores_Women_Var!H220:H230, \">0\")+COUNTIF(Individual_Scores_Women_Var!H233:H243, \">0\")+COUNTIF(Individual_Scores_Women_Var!H246:H256, \">0\")+COUNTIF(Individual_Scores_Women_Var!H259:H269, \">0\")+COUNTIF(Individual_Scores_Women_Var!H272:H282, \">0\")+COUNTIF(Individual_Scores_Women_Var!H285:H295, \">0\")+COUNTIF(Individual_Scores_Women_Var!H298:H308, \">0\")+COUNTIF(Individual_Scores_Women_Var!H311:H321, \">0\")+COUNTIF(Individual_Scores_Women_Var!H324:H334, \">0\")","v":123},{"$f":"COUNTIF(Individual_Scores_Women_Var!I12:I22, \">0\")+COUNTIF(Individual_Scores_Women_Var!I25:I35, \">0\")+COUNTIF(Individual_Scores_Women_Var!I38:I48, \">0\")+COUNTIF(Individual_Scores_Women_Var!I51:I61, \">0\")+COUNTIF(Individual_Scores_Women_Var!I64:I74, \">0\")+COUNTIF(Individual_Scores_Women_Var!I77:I87, \">0\")+COUNTIF(Individual_Scores_Women_Var!I90:I100, \">0\")+COUNTIF(Individual_Scores_Women_Var!I103:I113, \">0\")+COUNTIF(Individual_Scores_Women_Var!I116:I126, \">0\")+COUNTIF(Individual_Scores_Women_Var!I129:I139, \">0\")+COUNTIF(Individual_Scores_Women_Var!I142:I152, \">0\")+COUNTIF(Individual_Scores_Women_Var!I155:I165, \">0\")+COUNTIF(Individual_Scores_Women_Var!I168:I178, \">0\")+COUNTIF(Individual_Scores_Women_Var!I181:I191, \">0\")+COUNTIF(Individual_Scores_Women_Var!I194:I204, \">0\")+COUNTIF(Individual_Scores_Women_Var!I207:I217, \">0\")+COUNTIF(Individual_Scores_Women_Var!I220:I230, \">0\")+COUNTIF(Individual_Scores_Women_Var!I233:I243, \">0\")+COUNTIF(Individual_Scores_Women_Var!I246:I256, \">0\")+COUNTIF(Individual_Scores_Women_Var!I259:I269, \">0\")+COUNTIF(Individual_Scores_Women_Var!I272:I282, \">0\")+COUNTIF(Individual_Scores_Women_Var!I285:I295, \">0\")+COUNTIF(Individual_Scores_Women_Var!I298:I308, \">0\")+COUNTIF(Individual_Scores_Women_Var!I311:I321, \">0\")+COUNTIF(Individual_Scores_Women_Var!I324:I334, \">0\")","v":123},{"$f":"COUNTIF(Individual_Scores_Women_Var!J12:J22, \">0\")+COUNTIF(Individual_Scores_Women_Var!J25:J35, \">0\")+COUNTIF(Individual_Scores_Women_Var!J38:J48, \">0\")+COUNTIF(Individual_Scores_Women_Var!J51:J61, \">0\")+COUNTIF(Individual_Scores_Women_Var!J64:J74, \">0\")+COUNTIF(Individual_Scores_Women_Var!J77:J87, \">0\")+COUNTIF(Individual_Scores_Women_Var!J90:J100, \">0\")+COUNTIF(Individual_Scores_Women_Var!J103:J113, \">0\")+COUNTIF(Individual_Scores_Women_Var!J116:J126, \">0\")+COUNTIF(Individual_Scores_Women_Var!J129:J139, \">0\")+COUNTIF(Individual_Scores_Women_Var!J142:J152, \">0\")+COUNTIF(Individual_Scores_Women_Var!J155:J165, \">0\")+COUNTIF(Individual_Scores_Women_Var!J168:J178, \">0\")+COUNTIF(Individual_Scores_Women_Var!J181:J191, \">0\")+COUNTIF(Individual_Scores_Women_Var!J194:J204, \">0\")+COUNTIF(Individual_Scores_Women_Var!J207:J217, \">0\")+COUNTIF(Individual_Scores_Women_Var!J220:J230, \">0\")+COUNTIF(Individual_Scores_Women_Var!J233:J243, \">0\")+COUNTIF(Individual_Scores_Women_Var!J246:J256, \">0\")+COUNTIF(Individual_Scores_Women_Var!J259:J269, \">0\")+COUNTIF(Individual_Scores_Women_Var!J272:J282, \">0\")+COUNTIF(Individual_Scores_Women_Var!J285:J295, \">0\")+COUNTIF(Individual_Scores_Women_Var!J298:J308, \">0\")+COUNTIF(Individual_Scores_Women_Var!J311:J321, \">0\")+COUNTIF(Individual_Scores_Women_Var!J324:J334, \">0\")","v":124},{"$f":"COUNTIF(Individual_Scores_Women_Var!K12:K22, \">0\")+COUNTIF(Individual_Scores_Women_Var!K25:K35, \">0\")+COUNTIF(Individual_Scores_Women_Var!K38:K48, \">0\")+COUNTIF(Individual_Scores_Women_Var!K51:K61, \">0\")+COUNTIF(Individual_Scores_Women_Var!K64:K74, \">0\")+COUNTIF(Individual_Scores_Women_Var!K77:K87, \">0\")+COUNTIF(Individual_Scores_Women_Var!K90:K100, \">0\")+COUNTIF(Individual_Scores_Women_Var!K103:K113, \">0\")+COUNTIF(Individual_Scores_Women_Var!K116:K126, \">0\")+COUNTIF(Individual_Scores_Women_Var!K129:K139, \">0\")+COUNTIF(Individual_Scores_Women_Var!K142:K152, \">0\")+COUNTIF(Individual_Scores_Women_Var!K155:K165, \">0\")+COUNTIF(Individual_Scores_Women_Var!K168:K178, \">0\")+COUNTIF(Individual_Scores_Women_Var!K181:K191, \">0\")+COUNTIF(Individual_Scores_Women_Var!K194:K204, \">0\")+COUNTIF(Individual_Scores_Women_Var!K207:K217, \">0\")+COUNTIF(Individual_Scores_Women_Var!K220:K230, \">0\")+COUNTIF(Individual_Scores_Women_Var!K233:K243, \">0\")+COUNTIF(Individual_Scores_Women_Var!K246:K256, \">0\")+COUNTIF(Individual_Scores_Women_Var!K259:K269, \">0\")+COUNTIF(Individual_Scores_Women_Var!K272:K282, \">0\")+COUNTIF(Individual_Scores_Women_Var!K285:K295, \">0\")+COUNTIF(Individual_Scores_Women_Var!K298:K308, \">0\")+COUNTIF(Individual_Scores_Women_Var!K311:K321, \">0\")+COUNTIF(Individual_Scores_Women_Var!K324:K334, \">0\")","v":124},{"$f":"COUNTIF(Individual_Scores_Women_Var!L12:L22, \">0\")+COUNTIF(Individual_Scores_Women_Var!L25:L35, \">0\")+COUNTIF(Individual_Scores_Women_Var!L38:L48, \">0\")+COUNTIF(Individual_Scores_Women_Var!L51:L61, \">0\")+COUNTIF(Individual_Scores_Women_Var!L64:L74, \">0\")+COUNTIF(Individual_Scores_Women_Var!L77:L87, \">0\")+COUNTIF(Individual_Scores_Women_Var!L90:L100, \">0\")+COUNTIF(Individual_Scores_Women_Var!L103:L113, \">0\")+COUNTIF(Individual_Scores_Women_Var!L116:L126, \">0\")+COUNTIF(Individual_Scores_Women_Var!L129:L139, \">0\")+COUNTIF(Individual_Scores_Women_Var!L142:L152, \">0\")+COUNTIF(Individual_Scores_Women_Var!L155:L165, \">0\")+COUNTIF(Individual_Scores_Women_Var!L168:L178, \">0\")+COUNTIF(Individual_Scores_Women_Var!L181:L191, \">0\")+COUNTIF(Individual_Scores_Women_Var!L194:L204, \">0\")+COUNTIF(Individual_Scores_Women_Var!L207:L217, \">0\")+COUNTIF(Individual_Scores_Women_Var!L220:L230, \">0\")+COUNTIF(Individual_Scores_Women_Var!L233:L243, \">0\")+COUNTIF(Individual_Scores_Women_Var!L246:L256, \">0\")+COUNTIF(Individual_Scores_Women_Var!L259:L269, \">0\")+COUNTIF(Individual_Scores_Women_Var!L272:L282, \">0\")+COUNTIF(Individual_Scores_Women_Var!L285:L295, \">0\")+COUNTIF(Individual_Scores_Women_Var!L298:L308, \">0\")+COUNTIF(Individual_Scores_Women_Var!L311:L321, \">0\")+COUNTIF(Individual_Scores_Women_Var!L324:L334, \">0\")","v":124},{"$f":"SUM(D47:I47)","v":742}]
[null,"Qualifying Team Standings "]
[null,"Mid States Championships (Tier I Women)"]
[null,"Women's Varsity"]
[null,null,null,"Overall"]
["Rank","Team",null,"Total"]
[{"$f":"A12","v":1},"Wichita State University V",null,{"$f":"AF12","v":9473}]
[{"$f":"A13","v":2},"Mount Mercy University V",null,9300]
[{"$f":"A14","v":3},"Oklahoma Christian University V",null,9087]
[{"$f":"A15","v":4},"St. Ambrose University V",null,9060]
[{"$f":"A16","v":5},"Lindenwood University V",null,8993]
[{"$f":"A17","v":6},"Newman University V",null,8970]
[{"$f":"A18","v":7},"Ottawa University (KS) V",null,8889]
[{"$f":"A19","v":8},"William Penn University V",null,8863]
[{"$f":"A20","v":9},"Culver-Stockton College V",null,8772]
[{"$f":"A21","v":10},"Baker University V",null,8736]
[{"$f":"A22","v":11},"Grand View University V",null,8511]
[{"$f":"A23","v":12},"Iowa Central Community College V",null,8438]
[{"$f":"A24","v":13},"Coe College V",null,8319]
[{"$f":"A25","v":14},"Kansas Wesleyan University V",null,8177]
[{"$f":"A26","v":15},"College Of Saint Mary V",null,7981]
[{"$f":"A27","v":16},"Avila University V",null,7975]
[{"$f":"A28","v":17},"Barton Community College V",null,7956]
[{"$f":"A29","v":18},"Iowa Western Community College V",null,7904]
[{"$f":"A30","v":19},"Hastings College V",null,7903]
[{"$f":"A31","v":20},"Peru State College V",null,7825]
[{"$f":"A32","v":21},"Waldorf University V",null,7777]
[{"$f":"A33","v":22},"University Of Saint Mary V",null,7415]
[{"$f":"A34","v":23},"Kansas State University V",null,6599]
[{"$f":"A35","v":24},"Kansas ,University Of V",null,6352]
[{"$f":"A36","v":25},"William Woods University V",null,5513]

{"sheet":"Indiv_Combined_Scores_Women","index":7,"n_rows":368,"n_cols":141,"rows_kept":368,"cut":false,"hidden":false,"merged":[[0,0,0,17]]}
["Individual Combined Scores",{"$nulls":25},32.0,{"$nulls":104},"G12:L22","B12:B22","D12:D22","C12:C22","Individual_Scores_Women_Var","G13:L23","E13:E23","B13:B23","C13:C23","Indiv_Combined_Scores_Women"]
[{"$nulls":26},"B13:O364",{"$nulls":104},"G25:L35","B25:B35","D25:D35","C25:C35","Individual_Scores_Women_Var","G24:L34","E24:E34","B24:B34","C24:C34","Indiv_Combined_Scores_Women"]
[null,"Mid States Championships (Tier I Women)",null,null,"10/15/2022 - 10/16/2022",{"$nulls":21},"M13:M364","B13:B364",{"$nulls":103},"G38:L48","B38:B48","D38:D48","C38:C48","Individual_Scores_Women_Var","G35:L45","E35:E45","B35:B45","C35:C45","Indiv_Combined_Scores_Women"]
[null,"Tier 1","USBC",null,"Wichita, KS",{"$nulls":48},"IBCYouth",{"$nulls":77},"G51:L61","B51:B61","D51:D61","C51:C61","Individual_Scores_Women_Var","G46:L56","E46:E56","B46:B56","C46:C56","Indiv_Combined_Scores_Women"]
[{"$nulls":131},"G64:L74","B64:B74","D64:D74","C64:C74","Individual_Scores_Women_Var","G57:L67","E57:E67","B57:B67","C57:C67","Indiv_Combined_Scores_Women"]
[{"$nulls":131},"G77:L87","B77:B87","D77:D87","C77:C87","Individual_Scores_Women_Var","G68:L78","E68:E78","B68:B78","C68:C78","Indiv_Combined_Scores_Women"]
[{"$nulls":131},"G90:L100","B90:B100","D90:D100","C90:C100","Individual_Scores_Women_Var","G79:L89","E79:E89","B79:B89","C79:C89","Indiv_Combined_Scores_Women"]
[null,"Women's Division",null,null,"Cert. No: 05700",{"$nulls":126},"G103:L113","B103:B113","D103:D113","C103:C113","Individual_Scores_Women_Var","G90:L100","E90:E100","B90:B100","C90:C100","Indiv_Combined_Scores_Women"]
[{"$nulls":131},"G116:L126","B116:B126","D116:D126","C116:C126","Individual_Scores_Women_Var","G101:L111","E101:E111","B101:B111","C101:C111","Indiv_Combined_Scores_Women"]
[{"$nulls":131},"G129:L139","B129:B139","D129:D139","C129:C139","Individual_Scores_Women_Var","G112:L122","E112:E122","B112:B122","C112:C122","Indiv_Combined_Scores_Women"]
[{"$nulls":6},"Game","Game","Game","Game","Game","Game","Individual","Game","Tourn.",{"$nulls":116},"G142:L152","B142:B152","D142:D152","C142:C152","Individual_Scores_Women_Var","G123:L133","E123:E133","B123:B133","C123:C133","Indiv_Combined_Scores_Women"]
["Rank","Bowler","Bowler ID",null,"Team","State",1.0,2.0,3.0,4.0,5.0,6.0,"Total","Bowled","Ave.",{"$nulls":116},"G155:L165","B155:B165","D155:D165","C155:C165","Individual_Scores_Women_Var","G134:L144","E134:E144","B134:B144","C134:C144","Indiv_Combined_Scores_Women"]
[1.0,"Juliana Botero","21-636",null,"Wichita State University V ","",207.0,217.0,163.0,189.0,279.0,182.0,{"$f":"SUM(G13:L13)","v":1237},{"$f":"COUNTIF(G13:L13, \">0\" )","v":6},{"$f":"IF(N13=0,0,M13/N13)","v":206.1666667},{"$nulls":116},"G168:L178","B168:B178","D168:D178","C168:C178","Individual_Scores_Women_Var","G145:L155","E145:E155","B145:B155","C145:C155","Indiv_Combined_Scores_Women"]
[2.0,"Jenna Williams","11-60100",null,"Mount Mercy University V ","",246.0,169.0,246.0,195.0,180.0,197.0,1233,6,205.5,{"$nulls":116},"G181:L191","B181:B191","D181:D191","C181:C191","Individual_Scores_Women_Var","G156:L166","E156:E166","B156:B166","C156:C166","Indiv_Combined_Scores_Women"]
[3.0,"Carlee Hummel","6589-15546",null,"Culver-Stockton College V ","",153.0,234.0,234.0,213.0,192.0,202.0,1228,6,204.6666667,{"$nulls":116},"G194:L204","B194:B204","D194:D204","C194:C204","Individual_Scores_Women_Var","G167:L177","E167:E177","B167:B177","C167:C177","Indiv_Combined_Scores_Women"]
[4.0,"Michaela Beckmann","11-477923",null,"Coe College V ","",224.0,223.0,178.0,169.0,195.0,238.0,1227,6,204.5,{"$nulls":116},"G207:L217","B207:B217","D207:D217","C207:C217","Individual_Scores_Women_Var","G178:L188","E178:E188","B178:B188","C178:C188","Indiv_Combined_Scores_Women"]
[5.0,"Hailey Bozych","11-393107",null,"Lindenwood University V ","",200.0,211.0,192.0,184.0,213.0,199.0,1199,6,199.8333333,{"$nulls":116},"G220:L230","B220:B230","D220:D230","C220:C230","Individual_Scores_Women_Var","G189:L199","E189:E199","B189:B199","C189:C199","Indiv_Combined_Scores_Women"]
[6.0,"Claire McDermott","5730-33667",null,"Oklahoma Christian University V ","",175.0,194.0,243.0,216.0,189.0,179.0,1196,6,199.3333333,{"$nulls":116},"G233:L243","B233:B243","D233:D243","C233:C243","Individual_Scores_Women_Var","G200:L210","E200:E210","B200:B210","C200:C210","Indiv_Combined_Scores_Women"]
[7.0,"Kara Thompson","8174-21406",null,"Kansas Wesleyan University V ","",164.0,221.0,202.0,234.0,180.0,167.0,1168,6,194.6666667,{"$nulls":116},"G246:L256","B246:B256","D246:D256","C246:C256","Individual_Scores_Women_Var","G211:L221","E211:E221","B211:B221","C211:C221","Indiv_Combined_Scores_Women"]
[8.0,"Rebekah Loker","11-706801",null,"Ottawa University (KS) V ","",161.0,186.0,202.0,191.0,176.0,220.0,1136,6,189.3333333,{"$nulls":116},"G259:L269","B259:B269","D259:D269","C259:C269","Individual_Scores_Women_Var","G222:L232","E222:E232","B222:B232","C222:C232","Indiv_Combined_Scores_Women"]
[9.0,"Kaytlyn Andrews","7914-7770",null,"Grand View University V ","",175.0,224.0,169.0,221.0,170.0,175.0,1134,6,189,{"$nulls":116},"G272:L282","B272:B282","D272:D282","C272:C282","Individual_Scores_Women_Var","G233:L243","E233:E243","B233:B243","C233:C243","Indiv_Combined_Scores_Women"]
[10.0,"Madison Janack","8649-30214",null,"Wichita State University V ","",168.0,177.0,193.0,203.0,222.0,170.0,1133,6,188.8333333,{"$nulls":116},"G285:L295","B285:B295","D285:D295","C285:C295","Individual_Scores_Women_Var","G244:L254","E244:E254","B244:B254","C244:C254","Indiv_Combined_Scores_Women"]
[11.0,"Haylie Frick","11-101614",null,"Lindenwood University V ","",165.0,177.0,171.0,194.0,243.0,180.0,1130,6,188.3333333,{"$nulls":116},"G298:L308","B298:B308","D298:D308","C298:C308","Individual_Scores_Women_Var","G255:L265","E255:E265","B255:B265","C255:C265","Indiv_Combined_Scores_Women"]
[12.0,"Jaelle Hamman","11-250067",null,"Mount Mercy University V ","",187.0,184.0,192.0,174.0,189.0,204.0,1130,6,188.3333333,{"$nulls":116},"G311:L321","B311:B321","D311:D321","C311:C321","Individual_Scores_Women_Var","G266:L276","E266:E276","B266:B276","C266:C276","Indiv_Combined_Scores_Women"]
[13.0,"Dakota Lennen","11-220191",null,"Newman University V ","",198.0,198.0,187.0,165.0,190.0,191.0,1129,6,188.1666667,{"$nulls":116},"G324:L334","B324:B334","D324:D334","C324:C334","Individual_Scores_Women_Var","G277:L287","E277:E287","B277:B287","C277:C287","Indiv_Combined_Scores_Women"]
[14.0,"Lauren Bodman","11-381940",null,"Coe College V ","",234.0,219.0,154.0,172.0,182.0,160.0,1121,6,186.8333333,{"$nulls":116},"G12:L22","B12:B22","D12:D22","C12:C22","Individual_Scores_Women_JV","G288:L298","E288:E298","B288:B298","C288:C298","Indiv_Combined_Scores_Women"]
[15.0,"Devyn Coleman","11-432748",null,"Avila University V ","",190.0,142.0,171.0,190.0,243.0,182.0,1118,6,186.3333333,{"$nulls":116},"G25:L35","B25:B35","D25:D35","C25:C35","Individual_Scores_Women_JV","G299:L309","E299:E309","B299:B309","C299:C309","Indiv_Combined_Scores_Women"]
[16.0,"Erin Williams","11-55640",null,"St. Ambrose University V ","",194.0,169.0,203.0,192.0,169.0,191.0,1118,6,186.3333333,{"$nulls":116},"G38:L48","B38:B48","D38:D48","C38:C48","Individual_Scores_Women_JV","G310:L320","E310:E320","B310:B320","C310:C320","Indiv_Combined_Scores_Women"]
[17.0,"Olivia Komorowski","6944-1256",null,"Wichita State University V ","",211.0,150.0,199.0,168.0,160.0,212.0,1100,6,183.3333333,{"$nulls":116},"G51:L61","B51:B61","D51:D61","C51:C61","Individual_Scores_Women_JV","G321:L331","E321:E331","B321:B331","C321:C331","Indiv_Combined_Scores_Women"]
[18.0,"Mary Orf","11-33225",null,"Wichita State University V ","",161.0,167.0,219.0,224.0,168.0,160.0,1099,6,183.1666667,{"$nulls":116},"G64:L74","B64:B74","D64:D74","C64:C74","Individual_Scores_Women_JV","G332:L342","E332:E342","B332:B342","C332:C342","Indiv_Combined_Scores_Women"]
[19.0,"Kinsey Miller","5900-25170",null,"Baker University V ","",183.0,185.0,201.0,156.0,185.0,186.0,1096,6,182.6666667,{"$nulls":116},"G77:L87","B77:B87","D77:D87","C77:C87","Individual_Scores_Women_JV","G343:L353","E343:E353","B343:B353","C343:C353","Indiv_Combined_Scores_Women"]
[20.0,"Kaylee Back","11-43023",null,"Oklahoma Christian University V ","",147.0,176.0,199.0,190.0,176.0,206.0,1094,6,182.3333333,{"$nulls":116},"G90:L100","B90:B100","D90:D100","C90:C100","Individual_Scores_Women_JV","G354:L364","E354:E364","B354:B364","C354:C364","Indiv_Combined_Scores_Women"]
[21.0,"Jasmine Saunders","17-45685",null,"Culver-Stockton College V ","",177.0,179.0,203.0,201.0,142.0,191.0,1093,6,182.1666667]
[22.0,"Caroline Ruden","11-671680",null,"Wichita State University JV1 ","",210.0,162.0,200.0,145.0,173.0,202.0,1092,6,182]
[23.0,"Mackenzie Ullian","5686-2091",null,"Mount Mercy University V ","",165.0,190.0,159.0,215.0,158.0,202.0,1089,6,181.5]
[24.0,"Kaitlyn Doyal","18-15133",null,"Peru State College V ","",182.0,144.0,170.0,179.0,191.0,222.0,1088,6,181.3333333]
[25.0,"Olivia Pilcher","11-261138",null,"William Penn University V ","",177.0,159.0,211.0,188.0,160.0,190.0,1085,6,180.8333333]
[26.0,"Cassie Lee","18-68396",null,"Iowa Central Community College V ","",176.0,202.0,152.0,152.0,173.0,224.0,1079,6,179.8333333]
[27.0,"Carianne Takeuchi","16-37397",null,"Newman University JV1 ","",205.0,175.0,199.0,190.0,125.0,182.0,1076,6,179.3333333]
[28.0,"Kristina Harris","11-246284",null,"Baker University V ","",160.0,173.0,191.0,204.0,194.0,153.0,1075,6,179.1666667]
[29.0,"Samantha Smith","11-341586",null,"Lindenwood University V ","",209.0,147.0,171.0,183.0,200.0,162.0,1072,6,178.6666667]
[30.0,"Kaylee McCleery","11-176313",null,"Oklahoma Christian University JV1 ","",209.0,171.0,168.0,159.0,223.0,141.0,1071,6,178.5]
[31.0,"Allie Williams","11-529617",null,"Ottawa University (KS) JV1 ","",185.0,202.0,147.0,178.0,167.0,189.0,1068,6,178]
[32.0,"Megan Kolberg","5730-32265",null,"Mount Mercy University V ","",180.0,194.0,163.0,172.0,198.0,160.0,1067,6,177.8333333]
[33.0,"Natalie Arnold","7914-26375",null,"Iowa Western Community College V ","",202.0,181.0,182.0,211.0,127.0,163.0,1066,6,177.6666667]
[34.0,"Marissa Bills","11-265628",null,"St. Ambrose University V ","",178.0,154.0,186.0,199.0,165.0,180.0,1062,6,177]
[35.0,"Jordan Corbett","11-28817",null,"Oklahoma Christian University V ","",193.0,166.0,175.0,181.0,155.0,191.0,1061,6,176.8333333]
[36.0,"Victoria Potter","11-446110",null,"Iowa Central Community College V ","",179.0,191.0,157.0,201.0,193.0,137.0,1058,6,176.3333333]
[37.0,"Alaina Burris","8599-50647",null,"Ottawa University (KS) V ","",177.0,169.0,171.0,185.0,182.0,172.0,1056,6,176]
[38.0,"Justice Heisler","6944-1443",null,"Lindenwood University JV1 ","",182.0,159.0,172.0,162.0,199.0,182.0,1056,6,176]
[39.0,"Holly Bridges","11-188358",null,"Ottawa University (KS) V ","",141.0,173.0,170.0,205.0,169.0,197.0,1055,6,175.8333333]
[40.0,"Sabrina Bennett","8828-32679",null,"Grand View University V ","",159.0,232.0,155.0,139.0,201.0,169.0,1055,6,175.8333333]
[41.0,"Lexie Busch","11-103569",null,"College Of Saint Mary V ","",145.0,170.0,211.0,194.0,140.0,193.0,1053,6,175.5]
[42.0,"Majayla Boyd","5900-26804",null,"Baker University V ","",216.0,159.0,172.0,148.0,191.0,164.0,1050,6,175]
[43.0,"Kaitlyn Dickmeyer","17-33555",null,"College Of Saint Mary V ","",189.0,173.0,140.0,168.0,186.0,193.0,1049,6,174.8333333]
[44.0,"Marissa Ruiz","18-71705",null,"Hastings College V ","",170.0,175.0,178.0,181.0,170.0,169.0,1043,6,173.8333333]
[45.0,"Jasmine Banks","11-484624",null,"Newman University JV1 ","",200.0,170.0,160.0,162.0,152.0,197.0,1041,6,173.5]
[46.0,"Emily Stamper","7914-53224",null,"Baker University V ","",146.0,196.0,165.0,145.0,206.0,180.0,1038,6,173]
[47.0,"Adrienne Pamatmat","19-5159",null,"Newman University JV1 ","",198.0,199.0,127.0,143.0,179.0,182.0,1028,6,171.3333333]
[48.0,"Chloe Lovell","5900-23214",null,"Kansas Wesleyan University V ","",154.0,154.0,159.0,197.0,145.0,213.0,1022,6,170.3333333]
[49.0,"Isabel Tetmeyer","11-232057",null,"Grand View University V ","",186.0,162.0,177.0,178.0,147.0,168.0,1018,6,169.6666667]
[50.0,"Emilee Hall","7914-27984",null,"Grand View University V ","",181.0,162.0,186.0,167.0,165.0,156.0,1017,6,169.5]
[51.0,"Kristy Mace","11-139695",null,"Wichita State University JV1 ","",176.0,144.0,178.0,159.0,159.0,196.0,1012,6,168.6666667]
[52.0,"Allisyn Pohl","16-77588",null,"Culver-Stockton College V ","",200.0,158.0,151.0,174.0,182.0,146.0,1011,6,168.5]
[53.0,"Joanne Alibayan","11-587498",null,"Avila University V ","",148.0,172.0,181.0,160.0,183.0,159.0,1003,6,167.1666667]
[54.0,"Claire Busch","11-103558",null,"Avila University V ","",158.0,152.0,202.0,160.0,169.0,157.0,998,6,166.3333333]
[55.0,"Jordan Reynolds","11-193245",null,"University Of Saint Mary V ","",139.0,169.0,169.0,188.0,177.0,156.0,998,6,166.3333333]
[56.0,"Casey Feast","5900-25720",null,"Peru State College V ","",162.0,153.0,172.0,141.0,164.0,202.0,994,6,165.6666667]
[57.0,"Hope Minett","11-743648",null,"William Woods University V ","",175.0,144.0,201.0,137.0,123.0,212.0,992,6,165.3333333]
[58.0,"Haley Gough","16-109295",null,"Lindenwood University JV1 ","",147.0,188.0,147.0,145.0,202.0,162.0,991,6,165.1666667]
[59.0,"Hayleigh Hale-Haggard","11-763330",null,"Kansas Wesleyan University V ","",157.0,188.0,157.0,179.0,141.0,167.0,989,6,164.8333333]
[60.0,"Alexius Brass","11-180799",null,"College Of Saint Mary V ","",187.0,169.0,145.0,158.0,173.0,153.0,985,6,164.1666667]
[61.0,"Kaylynn Oliver","18-27388",null,"Iowa Western Community College V ","",172.0,136.0,153.0,195.0,167.0,159.0,982,6,163.6666667]
[62.0,"Caitlyn Rawson","18-17170",null,"William Woods University V ","",176.0,139.0,241.0,152.0,143.0,130.0,981,6,163.5]
[63.0,"Mindy Bartels","11-93281",null,"Peru State College JV1 ","",181.0,135.0,159.0,185.0,126.0,192.0,978,6,163]
[64.0,"Samantha (Sammy) Upham","8611-9243",null,"St. Ambrose University V ","",0.0,202.0,219.0,176.0,162.0,216.0,975,5,195]
[65.0,"Adrianna Albert","7914-15599",null,"Waldorf University V ","",136.0,131.0,179.0,161.0,216.0,148.0,971,6,161.8333333]
[66.0,"Kinley Nielsen","21-15727",null,"Kansas State University V ","",161.0,156.0,130.0,161.0,211.0,134.0,953,6,158.8333333]
[67.0,"Kassidy Miller","11-379639",null,"Newman University V ","",215.0,211.0,188.0,157.0,176.0,0.0,947,5,189.4]
[68.0,"Amanda Peterson","11-264092",null,"Hastings College V ","",177.0,164.0,155.0,160.0,120.0,168.0,944,6,157.3333333]
[69.0,"Isabel Diaz","11-239533",null,"William Penn University V ","",0.0,147.0,212.0,201.0,210.0,171.0,941,5,188.2]
[70.0,"Bailey Orsette","11-450352",null,"Culver-Stockton College V ","",211.0,183.0,248.0,138.0,158.0,0.0,938,5,187.6]
[71.0,"Kasey Pleas","11-666402",null,"Iowa Western Community College V ","",135.0,178.0,158.0,157.0,168.0,140.0,936,6,156]
[72.0,"Cassidy Bradley","7914-679",null,"College Of Saint Mary V ","",161.0,151.0,182.0,133.0,154.0,154.0,935,6,155.8333333]
[73.0,"Jessenia Hernandez","18-3937",null,"Kansas ,University Of V ","",144.0,148.0,166.0,167.0,168.0,140.0,933,6,155.5]
[74.0,"Paige Wagner","11-97263",null,"Wichita State University JV1 ","",212.0,208.0,181.0,173.0,158.0,0.0,932,5,186.4]
[75.0,"Athena Walker","15-134480",null,"Oklahoma Christian University JV1 ","",0.0,200.0,180.0,171.0,185.0,188.0,924,5,184.8]
[76.0,"Allyson Heidenreich","11-393848",null,"Barton Community College JV1 ","",156.0,147.0,137.0,127.0,156.0,191.0,914,6,152.3333333]
[77.0,"Elizabeth (Lizzy) Rittenour","11-250174",null,"Lindenwood University V ","",169.0,222.0,159.0,197.0,162.0,0.0,909,5,181.8]
[78.0,"Morgan Cooper","6825-6151",null,"Newman University V ","",167.0,214.0,140.0,0.0,211.0,166.0,898,5,179.6]
[79.0,"Angel Cordero","11-444580",null,"University Of Saint Mary V ","",170.0,131.0,132.0,184.0,143.0,135.0,895,6,149.1666667]
[80.0,"Maddy Addleman","11-765361",null,"Iowa Western Community College V ","",157.0,146.0,163.0,153.0,138.0,135.0,892,6,148.6666667]
[81.0,"Haylie Denney","15-46752",null,"William Woods University V ","",130.0,172.0,156.0,131.0,154.0,148.0,891,6,148.5]
[82.0,"Renee Gausman","11-497037",null,"Peru State College JV1 ","",168.0,180.0,170.0,115.0,134.0,122.0,889,6,148.1666667]
[83.0,"Liberty Pierce","11-381111",null,"Oklahoma Christian University JV1 ","",187.0,137.0,0.0,177.0,206.0,170.0,877,5,175.4]
[84.0,"Raelynn Sugden","18-6620",null,"Peru State College JV1 ","",137.0,172.0,146.0,153.0,119.0,143.0,870,6,145]
[85.0,"Kassidy Haberman","11-383207",null,"Peru State College V ","",145.0,140.0,164.0,122.0,136.0,149.0,856,6,142.6666667]
[86.0,"McKinley Cross","5900-27999",null,"Peru State College V ","",110.0,181.0,141.0,131.0,122.0,171.0,856,6,142.6666667]
[87.0,"Annabelle Bitner","5900-28007",null,"Kansas ,University Of V ","",139.0,111.0,130.0,159.0,142.0,174.0,855,6,142.5]
[88.0,"Allison Szewczyk","11-618792",null,"Newman University V ","",164.0,147.0,0.0,188.0,159.0,191.0,849,5,169.8]
[89.0,"Aleia Crandall","11-378089",null,"Peru State College V ","",133.0,162.0,154.0,118.0,130.0,151.0,848,6,141.3333333]
[90.0,"Gabbi McCarthy","19-86489",null,"Iowa Western Community College V ","",138.0,146.0,165.0,147.0,130.0,120.0,846,6,141]
[91.0,"Ashlynn Senecal","11-691826",null,"Ottawa University (KS) JV1 ","",149.0,157.0,131.0,138.0,144.0,117.0,836,6,139.3333333]
[92.0,"Adria Huiett","15-184489",null,"Peru State College JV1 ","",193.0,132.0,155.0,120.0,100.0,134.0,834,6,139]
[93.0,"Naomi Harrison","931-89481",null,"Kansas State University V ","",133.0,165.0,148.0,93.0,136.0,159.0,834,6,139]
[94.0,"Kayla Devine","11-421693",null,"St. Ambrose University V ","",167.0,132.0,0.0,185.0,156.0,193.0,833,5,166.6]
[95.0,"Bailey Stephan","16-4955",null,"Avila University V ","",106.0,147.0,135.0,150.0,165.0,126.0,829,6,138.1666667]
[96.0,"Kirsten Morgan","20-1541",null,"Oklahoma Christian University JV1 ","",193.0,141.0,170.0,195.0,127.0,0.0,826,5,165.2]
[97.0,"Madisyn Gerdts","11-381947",null,"Iowa Central Community College V ","",201.0,127.0,0.0,172.0,158.0,166.0,824,5,164.8]
[98.0,"Shelby Logston","11-341614",null,"Coe College V ","",155.0,143.0,0.0,176.0,203.0,147.0,824,5,164.8]
[99.0,"Paige Harns","7914-13667",null,"Waldorf University V ","",127.0,0.0,198.0,162.0,173.0,158.0,818,5,163.6]
[100.0,"Whittney Morse","11-35371",null,"Coe College V ","",185.0,137.0,0.0,144.0,184.0,168.0,818,5,163.6]
[101.0,"Kristy Wittig","17-36756",null,"Barton Community College JV1 ","",146.0,104.0,137.0,122.0,171.0,130.0,810,6,135]
[102.0,"Madison Singleton","8731-2803",null,"Waldorf University V ","",155.0,183.0,177.0,162.0,133.0,0.0,810,5,162]
[103.0,"Mallory Cross","11-188599",null,"Barton Community College V ","",0.0,186.0,158.0,155.0,146.0,163.0,808,5,161.6]
[104.0,"Olivia Oliver","11-393971",null,"Barton Community College JV1 ","",158.0,138.0,147.0,114.0,135.0,110.0,802,6,133.6666667]
[105.0,"Heather Viers","21-5187",null,"Waldorf University V ","",189.0,157.0,173.0,127.0,0.0,151.0,797,5,159.4]
[106.0,"Ana Stanton","11-204481",null,"Barton Community College V ","",141.0,159.0,171.0,136.0,0.0,187.0,794,5,158.8]
[107.0,"Cassidy Goans","15-199348",null,"Barton Community College JV1 ","",120.0,125.0,130.0,152.0,135.0,131.0,793,6,132.1666667]
[108.0,"Angelina Leeper","11-344613",null,"Barton Community College V ","",185.0,168.0,125.0,0.0,172.0,134.0,784,5,156.8]
[109.0,"Ella Adkins","11-465480",null,"Barton Community College V ","",123.0,0.0,153.0,186.0,182.0,138.0,782,5,156.4]
[110.0,"Courtney Kitchen","18-97007",null,"Barton Community College V ","",157.0,135.0,0.0,129.0,176.0,184.0,781,5,156.2]
[111.0,"Jasmine Bridges","16-4404",null,"Barton Community College V ","",199.0,173.0,137.0,147.0,121.0,0.0,777,5,155.4]
[112.0,"Chloe Ciecko","17-56083",null,"Wichita State University JV1 ","",146.0,182.0,150.0,133.0,0.0,164.0,775,5,155]
[113.0,"Kirsten Zirjacks","17-84443",null,"Avila University V ","",145.0,134.0,152.0,0.0,168.0,173.0,772,5,154.4]
[114.0,"Madison Henderson","11-455997",null,"Hastings College V ","",135.0,155.0,160.0,132.0,0.0,185.0,767,5,153.4]
[115.0,"Emmeline Herman","11-427709",null,"Hastings College V ","",147.0,142.0,0.0,148.0,163.0,158.0,758,5,151.6]
[116.0,"Caitlyn Carlile","11-59170",null,"Ottawa University (KS) JV1 ","",120.0,146.0,0.0,193.0,133.0,155.0,747,5,149.4]
[117.0,"Kenzie Womack","11-547593",null,"Newman University JV1 ","",0.0,156.0,0.0,214.0,192.0,183.0,745,4,186.25]
[118.0,"Madolyn Honn","17-76001",null,"Ottawa University (KS) JV1 ","",141.0,160.0,139.0,0.0,146.0,157.0,743,5,148.6]
[119.0,"Kennedy Jones","22-16669",null,"Kansas State University V ","",114.0,111.0,147.0,140.0,115.0,113.0,740,6,123.3333333]
[120.0,"Brooklyn Gagnon","11-236116",null,"Wichita State University V ","",192.0,188.0,205.0,153.0,0.0,0.0,738,4,184.5]
[121.0,"Abigail (Abby) Price","11-107840",null,"Iowa Central Community College V ","",142.0,0.0,231.0,148.0,0.0,213.0,734,4,183.5]
[122.0,"Caitlynn Gronenthal","20-57206",null,"Peru State College JV1 ","",135.0,133.0,0.0,159.0,154.0,152.0,733,5,146.6]
[123.0,"Jennifer Jackson","16-127272",null,"Oklahoma Christian University JV1 ","",157.0,167.0,126.0,0.0,145.0,127.0,722,5,144.4]
[124.0,"Shelby Davis","11-46016",null,"Oklahoma Christian University V ","",206.0,198.0,169.0,144.0,0.0,0.0,717,4,179.25]
[125.0,"Janica Soar","15-118872",null,"College Of Saint Mary V ","",166.0,129.0,115.0,0.0,153.0,122.0,685,5,137]
[126.0,"Kaitelin Konz","15-29134",null,"Coe College V ","",192.0,125.0,172.0,186.0,0.0,0.0,675,4,168.75]
[127.0,"Britiney Baker","8966-4192",null,"Hastings College V ","",0.0,0.0,170.0,170.0,150.0,179.0,669,4,167.25]
[128.0,"Brylee Prockish","11-53831",null,"Newman University V ","",0.0,178.0,149.0,0.0,174.0,165.0,666,4,166.5]
[129.0,"Leah Reid","22-25836",null,"Barton Community College JV1 ","",93.0,82.0,131.0,122.0,131.0,107.0,666,6,111]
[130.0,"Alexie Little","7914-30106",null,"Culver-Stockton College V ","",0.0,0.0,167.0,156.0,152.0,190.0,665,4,166.25]
[131.0,"Brianna Hubenett","11-623384",null,"University Of Saint Mary V ","",118.0,131.0,0.0,139.0,139.0,138.0,665,5,133]
[132.0,"Oliva Helten","21-472",null,"University Of Saint Mary V ","",147.0,131.0,131.0,116.0,0.0,139.0,664,5,132.8]
[133.0,"Carmen Silva","17-57411",null,"University Of Saint Mary V ","",167.0,211.0,142.0,138.0,0.0,0.0,658,4,164.5]
[134.0,"Paige Ludington","20-29842",null,"Lindenwood University JV1 ","",144.0,121.0,95.0,0.0,117.0,178.0,655,5,131]
[135.0,"Terah Head","22-24271",null,"Kansas Wesleyan University V ","",127.0,157.0,105.0,0.0,131.0,133.0,653,5,130.6]
[136.0,"Gabriella Evans","11-35370",null,"William Penn University V ","",147.0,165.0,168.0,160.0,0.0,0.0,640,4,160]
[137.0,"Maddie Reynolds","18-78917",null,"Oklahoma Christian University JV1 ","",152.0,0.0,164.0,157.0,0.0,160.0,633,4,158.25]
[138.0,"Mara Schmitz","11-436543",null,"Waldorf University V ","",165.0,139.0,0.0,0.0,189.0,137.0,630,4,157.5]
[139.0,"Breanna Warren","18-80545",null,"Newman University JV1 ","",170.0,174.0,142.0,134.0,0.0,0.0,620,4,155]
[140.0,"Madison Nowak","11-682764",null,"Waldorf University V ","",0.0,0.0,152.0,154.0,172.0,140.0,618,4,154.5]
[141.0,"Megan Emerson","11-133260",null,"Ottawa University (KS) JV1 ","",0.0,177.0,154.0,155.0,126.0,0.0,612,4,153]
[142.0,"Mary Beth Stankiewicz","5900-25978",null,"Kansas State University V ","",107.0,0.0,135.0,142.0,109.0,117.0,610,5,122]
[143.0,"Kylie Riggs","11-233573",null,"Lindenwood University JV1 ","",153.0,162.0,155.0,137.0,0.0,0.0,607,4,151.75]
[144.0,"Jaden Schaefer","11-408051",null,"Newman University JV1 ","",140.0,0.0,139.0,0.0,180.0,145.0,604,4,151]
[145.0,"Gabriella Hernandez","11-241897",null,"Ottawa University (KS) V ","",0.0,0.0,0.0,226.0,198.0,179.0,603,3,201]
[146.0,"Trinity Capps","16-161359",null,"Lindenwood University JV1 ","",116.0,102.0,0.0,118.0,124.0,138.0,598,5,119.6]
[147.0,"Madeline Woelfel","22-16986",null,"Lindenwood University JV1 ","",0.0,0.0,154.0,127.0,160.0,155.0,596,4,149]
[148.0,"Remy Asta","17-89547",null,"Kansas ,University Of V ","",148.0,138.0,129.0,0.0,161.0,0.0,576,4,144]
[149.0,"Madison Jensen","21-91965",null,"William Woods University V ","",79.0,109.0,109.0,98.0,88.0,81.0,564,6,94]
[150.0,"Brynna Madison","11-300993",null,"Mount Mercy University V ","",0.0,0.0,187.0,222.0,147.0,0.0,556,3,185.3333333]
[151.0,"Jadyn Barr","5900-26985",null,"Ottawa University (KS) V ","",131.0,0.0,0.0,0.0,213.0,198.0,542,3,180.6666667]
[152.0,"Shadyn Bishop","11-506021",null,"William Penn University V ","",0.0,212.0,196.0,133.0,0.0,0.0,541,3,180.3333333]
[153.0,"Skylar Valdez","5900-26536",null,"Baker University V ","",0.0,0.0,232.0,145.0,0.0,154.0,531,3,177]
[154.0,"Alexis Lake","7914-8979",null,"William Penn University V ","",149.0,0.0,0.0,0.0,223.0,155.0,527,3,175.6666667]
[155.0,"Paris Smith","11-679604",null,"Wichita State University JV1 ","",0.0,0.0,201.0,180.0,142.0,0.0,523,3,174.3333333]
[156.0,"Kourtney Cole","15-181294",null,"Ottawa University (KS) JV1 ","",167.0,0.0,139.0,101.0,0.0,114.0,521,4,130.25]
[157.0,"Jasmine Senechal","15-101198",null,"Kansas Wesleyan University V ","",103.0,0.0,136.0,157.0,120.0,0.0,516,4,129]
[158.0,"Alexis Hanson","11-234952",null,"Iowa Central Community College V ","",0.0,119.0,0.0,0.0,171.0,218.0,508,3,169.3333333]
[159.0,"Danika Hickey","6445-89",null,"Ottawa University (KS) V ","",0.0,154.0,185.0,168.0,0.0,0.0,507,3,169]
[160.0,"Carissa Merkle","18-38965",null,"Lindenwood University V ","",0.0,0.0,0.0,163.0,168.0,174.0,505,3,168.3333333]
[161.0,"Bailey Tripilas","5712-1060",null,"St. Ambrose University V ","",189.0,161.0,142.0,0.0,0.0,0.0,492,3,164]
[162.0,"Cydnee Whiteleather","15-170867",null,"William Penn University V ","",0.0,143.0,0.0,0.0,158.0,187.0,488,3,162.6666667]
[163.0,"Kaitlyn George","6739-5352",null,"Ottawa University (KS) V ","",174.0,155.0,159.0,0.0,0.0,0.0,488,3,162.6666667]
[164.0,"Renata Martinez","19-18209",null,"Lindenwood University V ","",170.0,167.0,151.0,0.0,0.0,0.0,488,3,162.6666667]
[165.0,"Caitlin Radliff","11-33690",null,"William Penn University V ","",158.0,0.0,168.0,161.0,0.0,0.0,487,3,162.3333333]
[166.0,"Tori Justice","11-317463",null,"Oklahoma Christian University V ","",180.0,169.0,0.0,0.0,129.0,0.0,478,3,159.3333333]
[167.0,"Morgan Pelkie","15-103226",null,"Oklahoma Christian University V ","",0.0,0.0,135.0,0.0,182.0,156.0,473,3,157.6666667]
[168.0,"Brynne Mickelson","19-22703",null,"Iowa Central Community College V ","",122.0,0.0,0.0,196.0,149.0,0.0,467,3,155.6666667]
[169.0,"Addyson Schiffelbein","5900-25075",null,"Newman University V ","",132.0,0.0,0.0,160.0,0.0,172.0,464,3,154.6666667]
[170.0,"Kelcey Aczon-Kawamura","19-78537",null,"William Penn University V ","",151.0,0.0,0.0,0.0,157.0,148.0,456,3,152]
[171.0,"Mariah Bell","17-20321",null,"Wichita State University JV1 ","",169.0,159.0,0.0,0.0,0.0,128.0,456,3,152]
[172.0,"Kassidy Young","11-475016",null,"Culver-Stockton College V ","",137.0,146.0,0.0,0.0,0.0,168.0,451,3,150.3333333]
[173.0,"Grace Dorst","21-52280",null,"Kansas ,University Of V ","",0.0,108.0,129.0,105.0,101.0,0.0,443,4,110.75]
[174.0,"Gabriela Ramirez","22-16667",null,"Kansas State University V ","",130.0,105.0,0.0,118.0,0.0,88.0,441,4,110.25]
[175.0,"Kaliah Griffin","19-80002",null,"Coe College V ","",0.0,0.0,164.0,0.0,160.0,116.0,440,3,146.6666667]
[176.0,"Leah Sanck","11-667364",null,"Grand View University V ","",159.0,149.0,132.0,0.0,0.0,0.0,440,3,146.6666667]
[177.0,"Kylee Busch","11-662819",null,"Kansas Wesleyan University V ","",0.0,145.0,0.0,134.0,0.0,130.0,409,3,136.3333333]
[178.0,"Sydney Chandler","21-32743",null,"Kansas ,University Of V ","",99.0,0.0,108.0,0.0,85.0,116.0,408,4,102]
[179.0,"Aislynn Davis","5507-587",null,"Hastings College V ","",104.0,0.0,157.0,0.0,126.0,0.0,387,3,129]
[180.0,"Jaymie Burrow","11-398429",null,"Oklahoma Christian University V ","",0.0,0.0,0.0,171.0,0.0,212.0,383,2,191.5]
[181.0,"Elena Carr","11-99667",null,"Mount Mercy University V ","",196.0,168.0,0.0,0.0,0.0,0.0,364,2,182]
[182.0,"Molly Marshall","11-113227",null,"Wichita State University V ","",0.0,0.0,0.0,0.0,193.0,169.0,362,2,181]
[183.0,"Kensley Morris","11-598856",null,"Newman University V ","",0.0,0.0,205.0,154.0,0.0,0.0,359,2,179.5]
[184.0,"Dahna'adel Duffy","20-21972",null,"Wichita State University JV1 ","",0.0,0.0,0.0,0.0,170.0,188.0,358,2,179]
[185.0,"Amanda Bohn","11-262998",null,"St. Ambrose University V ","",0.0,0.0,0.0,191.0,144.0,0.0,335,2,167.5]
[186.0,"Audrey Valdez","11-193244",null,"Baker University V ","",182.0,153.0,0.0,0.0,0.0,0.0,335,2,167.5]
[187.0,"Patricia Alvarado","17-5653",null,"St. Ambrose University V ","",155.0,0.0,0.0,0.0,0.0,177.0,332,2,166]
[188.0,"Lillie Harper","22-16673",null,"Kansas State University V ","",0.0,119.0,114.0,0.0,86.0,0.0,319,3,106.3333333]
[189.0,"Michelle Stewart","11-307190",null,"Grand View University V ","",0.0,0.0,0.0,151.0,151.0,0.0,302,2,151]
[190.0,"Ashley Lacey","18-63585",null,"Iowa Central Community College V ","",0.0,175.0,125.0,0.0,0.0,0.0,300,2,150]
[191.0,"Natalie Koehler","18-98767",null,"University Of Saint Mary V ","",0.0,0.0,0.0,0.0,144.0,156.0,300,2,150]
[192.0,"Payton Nies","20-40945",null,"Kansas ,University Of V ","",97.0,0.0,0.0,99.0,0.0,83.0,279,3,93]
[193.0,"Lola Moore","21-79472",null,"University Of Saint Mary V ","",0.0,0.0,122.0,0.0,145.0,0.0,267,2,133.5]
[194.0,"Hilary Liermann","22-20256",null,"Kansas ,University Of V ","",0.0,98.0,0.0,78.0,0.0,83.0,259,3,86.33333333]
[195.0,"Kylie Arai","18-34841",null,"Grand View University V ","",0.0,0.0,0.0,0.0,0.0,178.0,178,1,178]
[196.0,"Jasmine Mckeel","7914-24176",null,"Mount Mercy University V ","",0.0,0.0,0.0,0.0,0.0,169.0,169,1,169]
[197.0,"Noelle Phillips","6011-215",null,"St. Ambrose University V ","",0.0,0.0,159.0,0.0,0.0,0.0,159,1,159]
[198.0,"Karsyn Braasch","11-449668",null,"Lindenwood University V ","",0.0,0.0,0.0,0.0,0.0,157.0,157,1,157]
[199.0,"Ann Alsup","22-1523",null,"Iowa Central Community College V ","",0.0,0.0,149.0,0.0,0.0,0.0,149,1,149]
[200.0,"Hailee McCormick","11-513141",null,"Baker University V ","",0.0,0.0,0.0,0.0,142.0,0.0,142,1,142]
[201.0,"Abby Dallegge","11-87836",null,"Hastings College V ","",0.0,137.0,0.0,0.0,0.0,0.0,137,1,137]
[202.0,"Emily Meyer","20-36373",null,"Peru State College JV1 ","",0.0,0.0,115.0,0.0,0.0,0.0,115,1,115]
[203.0,"Victoria Bestor","22-1548",null,"Avila University V ","",0.0,0.0,0.0,107.0,0.0,0.0,107,1,107]
[204.0,"Marissa Byrd","22-12243",null,"College Of Saint Mary V ","",0.0,0.0,0.0,104.0,0.0,0.0,104,1,104]
[205.0,"Aubrie Weredyk","22-28583",null,"William Woods University V ","",0.0,0.0,0.0,0.0,0.0,0.0,0,0,0]
[206.0,"Autumn Grzenia","11-314483",null,"Coe College V ","",0.0,0.0,0.0,0.0,0.0,0.0,0,0,0]
[207.0,"Dylan Freeman","22-2842",null,"Iowa Western Community College V ","",0.0,0.0,0.0,0.0,0.0,0.0,0,0,0]
[208.0,"Grace Ogle","11-264440",null,"Wichita State University V ","",0.0,0.0,0.0,0.0,0.0,0.0,0,0,0]
[209.0,"Haylee Busch","11-662816",null,"Kansas Wesleyan University V ","",0.0,0.0,0.0,0.0,0.0,0.0,0,0,0]
[210.0,"Jessica Mock","5711-323",null,"Culver-Stockton College V ","",0.0,0.0,0.0,0.0,0.0,0.0,0,0,0]
[211.0,"Katrina Kendle","16-124494",null,"Coe College V ","",0.0,0.0,0.0,0.0,0.0,0.0,0,0,0]
[212.0,"Katrina McCarthy","11-507261",null,"Mount Mercy University V ","",0.0,0.0,0.0,0.0,0.0,0.0,0,0,0]
[213.0,"Kerry Crossman","9130-1913",null,"Iowa Western Community College V ","",0.0,0.0,0.0,0.0,0.0,0.0,0,0,0]
[214.0,"Lily Fischer","18-88340",null,"Culver-Stockton College V ","",0.0,0.0,0.0,0.0,0.0,0.0,0,0,0]
[215.0,"Lorena A Santiago Ramos","11-330961",null,"Lindenwood University V ","",0.0,0.0,0.0,0.0,0.0,0.0,0,0,0]
[216.0,"Madelyn San Soucie","16-137026",null,"Lindenwood University JV1 ","",0.0,0.0,0.0,0.0,0.0,0.0,0,0,0]
[217.0,"Paige Rands","22-1356",null,"Waldorf University V ","",0.0,0.0,0.0,0.0,0.0,0.0,0,0,0]
[218.0,"Piper Reams","5900-26992",null,"Wichita State University V ","",0.0,0.0,0.0,0.0,0.0,0.0,0,0,0]
[219.0,"Savanna Terry","22-1674",null,"William Woods University V ","",0.0,0.0,0.0,0.0,0.0,0.0,0,0,0]
[220.0,"Skylee Obenschain","7914-2571",null,"Hastings College V ","",0.0,0.0,0.0,0.0,0.0,0.0,0,0,0]
[221.0,"Zoe Czapiewski","11-148783",null,"Waldorf University V ","",0.0,0.0,0.0,0.0,0.0,0.0,0,0,0]
[222.0,null,"",null," V ","",{"$nulls":6},0,0,0]
[223.0,null,"",null," V ","",{"$nulls":6},0,0,0]
[224.0,null,"",null,"Avila University V","",{"$nulls":6},0,0,0]
[225.0,null,"",null,"Avila University V","",{"$nulls":6},0,0,0]
[226.0,null,"",null,"Avila University V","",{"$nulls":6},0,0,0]
[227.0,null,"",null," V ","",{"$nulls":6},0,0,0]
[228.0,null,"",null,"Baker University V","",{"$nulls":6},0,0,0]
[229.0,null,"",null,"Baker University V","",{"$nulls":6},0,0,0]
[230.0,null,"",null,"Baker University V","",{"$nulls":6},0,0,0]
[231.0,null,"",null," V ","",{"$nulls":6},0,0,0]
[232.0,null,"",null," V ","",{"$nulls":6},0,0,0]
[233.0,null,"",null,"Barton Community College V","",{"$nulls":6},0,0,0]
[234.0,null,"",null,"Barton Community College V","",{"$nulls":6},0,0,0]
[235.0,null,"",null,"Barton Community College V","",{"$nulls":6},0,0,0]
[236.0,null,"",null,"Coe College V","",{"$nulls":6},0,0,0]
[237.0,null,"",null,"Coe College V","",{"$nulls":6},0,0,0]
[238.0,null,"",null,"Coe College V","",{"$nulls":6},0,0,0]
[239.0,null,"",null," V ","",{"$nulls":6},0,0,0]
[240.0,null,"",null," V ","",{"$nulls":6},0,0,0]
[241.0,null,"",null,"College Of Saint Mary V","",{"$nulls":6},0,0,0]
[242.0,null,"",null,"College Of Saint Mary V","",{"$nulls":6},0,0,0]
[243.0,null,"",null,"College Of Saint Mary V","",{"$nulls":6},0,0,0]
[244.0,null,"",null,"Culver-Stockton College V","",{"$nulls":6},0,0,0]
[245.0,null,"",null,"Culver-Stockton College V","",{"$nulls":6},0,0,0]
[246.0,null,"",null,"Culver-Stockton College V","",{"$nulls":6},0,0,0]
[247.0,null,"",null," V ","",{"$nulls":6},0,0,0]
[248.0,null,"",null,"Grand View University V","",{"$nulls":6},0,0,0]
[249.0,null,"",null,"Grand View University V","",{"$nulls":6},0,0,0]
[250.0,null,"",null,"Grand View University V","",{"$nulls":6},0,0,0]
[251.0,null,"",null,"Hastings College V","",{"$nulls":6},0,0,0]
[252.0,null,"",null,"Hastings College V","",{"$nulls":6},0,0,0]
[253.0,null,"",null,"Hastings College V","",{"$nulls":6},0,0,0]
[254.0,null,"",null,"Iowa Central Community College V","",{"$nulls":6},0,0,0]
[255.0,null,"",null,"Iowa Central Community College V","",{"$nulls":6},0,0,0]
[256.0,null,"",null,"Iowa Central Community College V","",{"$nulls":6},0,0,0]
[257.0,null,"",null," V ","",{"$nulls":6},0,0,0]
[258.0,null,"",null,"Iowa Western Community College V","",{"$nulls":6},0,0,0]
[259.0,null,"",null,"Iowa Western Community College V","",{"$nulls":6},0,0,0]
[260.0,null,"",null,"Iowa Western Community College V","",{"$nulls":6},0,0,0]
[261.0,null,"",null," V ","",{"$nulls":6},0,0,0]
[262.0,null,"",null,"Kansas ,University Of V","",{"$nulls":6},0,0,0]
[263.0,null,"",null,"Kansas ,University Of V","",{"$nulls":6},0,0,0]
[264.0,null,"",null,"Kansas ,University Of V","",{"$nulls":6},0,0,0]
[265.0,null,"",null," V ","",{"$nulls":6},0,0,0]
[266.0,null,"",null," V ","",{"$nulls":6},0,0,0]
[267.0,null,"",null,"Kansas State University V","",{"$nulls":6},0,0,0]
[268.0,null,"",null,"Kansas State University V","",{"$nulls":6},0,0,0]
[269.0,null,"",null,"Kansas State University V","",{"$nulls":6},0,0,0]
[270.0,null,"",null," V ","",{"$nulls":6},0,0,0]
[271.0,null,"",null,"Kansas Wesleyan University V","",{"$nulls":6},0,0,0]
[272.0,null,"",null,"Kansas Wesleyan University V","",{"$nulls":6},0,0,0]
[273.0,null,"",null,"Kansas Wesleyan University V","",{"$nulls":6},0,0,0]
[274.0,null,"",null,"Lindenwood University V","",{"$nulls":6},0,0,0]
[275.0,null,"",null,"Lindenwood University V","",{"$nulls":6},0,0,0]
[276.0,null,"",null,"Lindenwood University V","",{"$nulls":6},0,0,0]
[277.0,null,"",null,"Mount Mercy University V","",{"$nulls":6},0,0,0]
[278.0,null,"",null,"Mount Mercy University V","",{"$nulls":6},0,0,0]
[279.0,null,"",null,"Mount Mercy University V","",{"$nulls":6},0,0,0]
[280.0,null,"",null," V ","",{"$nulls":6},0,0,0]
[281.0,null,"",null,"Newman University V","",{"$nulls":6},0,0,0]
[282.0,null,"",null,"Newman University V","",{"$nulls":6},0,0,0]
[283.0,null,"",null,"Newman University V","",{"$nulls":6},0,0,0]
[284.0,null,"",null," V ","",{"$nulls":6},0,0,0]
[285.0,null,"",null,"Oklahoma Christian University V","",{"$nulls":6},0,0,0]
[286.0,null,"",null,"Oklahoma Christian University V","",{"$nulls":6},0,0,0]
[287.0,null,"",null,"Oklahoma Christian University V","",{"$nulls":6},0,0,0]
[288.0,null,"",null," V ","",{"$nulls":6},0,0,0]
[289.0,null,"",null,"Ottawa University (KS) V","",{"$nulls":6},0,0,0]
[290.0,null,"",null,"Ottawa University (KS) V","",{"$nulls":6},0,0,0]
[291.0,null,"",null,"Ottawa University (KS) V","",{"$nulls":6},0,0,0]
[292.0,null,"",null," V ","",{"$nulls":6},0,0,0]
[293.0,null,"",null," V ","",{"$nulls":6},0,0,0]
[294.0,null,"",null," V ","",{"$nulls":6},0,0,0]
[295.0,null,"",null,"Peru State College V","",{"$nulls":6},0,0,0]
[296.0,null,"",null,"Peru State College V","",{"$nulls":6},0,0,0]
[297.0,null,"",null,"Peru State College V","",{"$nulls":6},0,0,0]
[298.0,null,"",null,"St. Ambrose University V","",{"$nulls":6},0,0,0]
[299.0,null,"",null,"St. Ambrose University V","",{"$nulls":6},0,0,0]
[300.0,null,"",null,"St. Ambrose University V","",{"$nulls":6},0,0,0]
[301.0,null,"",null," V ","",{"$nulls":6},0,0,0]
[302.0,null,"",null,"University Of Saint Mary V","",{"$nulls":6},0,0,0]
[303.0,null,"",null,"University Of Saint Mary V","",{"$nulls":6},0,0,0]
[304.0,null,"",null,"University Of Saint Mary V","",{"$nulls":6},0,0,0]
[305.0,null,"",null,"Waldorf University V","",{"$nulls":6},0,0,0]
[306.0,null,"",null,"Waldorf University V","",{"$nulls":6},0,0,0]
[307.0,null,"",null,"Waldorf University V","",{"$nulls":6},0,0,0]
[308.0,null,"",null,"Wichita State University V","",{"$nulls":6},0,0,0]
[309.0,null,"",null,"Wichita State University V","",{"$nulls":6},0,0,0]
[310.0,null,"",null,"Wichita State University V","",{"$nulls":6},0,0,0]
[311.0,null,"",null,"William Penn University V","",{"$nulls":6},0,0,0]
[312.0,null,"",null,"William Penn University V","",{"$nulls":6},0,0,0]
[313.0,null,"",null,"William Penn University V","",{"$nulls":6},0,0,0]
[314.0,null,"",null," V ","",{"$nulls":6},0,0,0]
[315.0,null,"",null," V ","",{"$nulls":6},0,0,0]
[316.0,null,"",null,"William Woods University V","",{"$nulls":6},0,0,0]
[317.0,null,"",null,"William Woods University V","",{"$nulls":6},0,0,0]
[318.0,null,"",null,"William Woods University V","",{"$nulls":6},0,0,0]
[319.0,null,"",null," JV1 ","",{"$nulls":6},0,0,0]
[320.0,null,"",null," JV1 ","",{"$nulls":6},0,0,0]
[321.0,null,"",null," JV1 ","",{"$nulls":6},0,0,0]
[322.0,null,"",null,"Barton Community College JV1","",{"$nulls":6},0,0,0]
[323.0,null,"",null,"Barton Community College JV1","",{"$nulls":6},0,0,0]
[324.0,null,"",null,"Barton Community College JV1","",{"$nulls":6},0,0,0]
[325.0,null,"",null," JV1 ","",{"$nulls":6},0,0,0]
[326.0,null,"",null,"Lindenwood University JV1","",{"$nulls":6},0,0,0]
[327.0,null,"",null,"Lindenwood University JV1","",{"$nulls":6},0,0,0]
[328.0,null,"",null,"Lindenwood University JV1","",{"$nulls":6},0,0,0]
[329.0,null,"",null," JV1 ","",{"$nulls":6},0,0,0]
[330.0,null,"",null," JV1 ","",{"$nulls":6},0,0,0]
[331.0,null,"",null,"Newman University JV1","",{"$nulls":6},0,0,0]
[332.0,null,"",null,"Newman University JV1","",{"$nulls":6},0,0,0]
[333.0,null,"",null,"Newman University JV1","",{"$nulls":6},0,0,0]
[334.0,null,"",null," JV1 ","",{"$nulls":6},0,0,0]
[335.0,null,"",null," JV1 ","",{"$nulls":6},0,0,0]
[336.0,null,"",null,"Oklahoma Christian University JV1","",{"$nulls":6},0,0,0]
[337.0,null,"",null,"Oklahoma Christian University JV1","",{"$nulls":6},0,0,0]
[338.0,null,"",null,"Oklahoma Christian University JV1","",{"$nulls":6},0,0,0]
[339.0,null,"",null," JV1 ","",{"$nulls":6},0,0,0]
[340.0,null,"",null," JV1 ","",{"$nulls":6},0,0,0]
[341.0,null,"",null,"Ottawa University (KS) JV1","",{"$nulls":6},0,0,0]
[342.0,null,"",null,"Ottawa University (KS) JV1","",{"$nulls":6},0,0,0]
[343.0,null,"",null,"Ottawa University (KS) JV1","",{"$nulls":6},0,0,0]
[344.0,null,"",null," JV1 ","",{"$nulls":6},0,0,0]
[345.0,null,"",null," JV1 ","",{"$nulls":6},0,0,0]
[346.0,null,"",null,"Peru State College JV1","",{"$nulls":6},0,0,0]
[347.0,null,"",null,"Peru State College JV1","",{"$nulls":6},0,0,0]
[348.0,null,"",null,"Peru State College JV1","",{"$nulls":6},0,0,0]
[349.0,null,"",null," JV1 ","",{"$nulls":6},0,0,0]
[350.0,null,"",null,"Wichita State University JV1","",{"$nulls":6},0,0,0]
[351.0,null,"",null,"Wichita State University JV1","",{"$nulls":6},0,0,0]
[352.0,null,"",null,"Wichita State University JV1","",{"$nulls":6},0,0,0]
[]
[]
[{"$nulls":4},"Total Pins Bowled:",null,{"$f":"SUM(G13:G364)","v":25921},25654,26118,25724,25907,26114,155438]
[{"$nulls":4},"Field Ave::",null,{"$f":"SUM(G367 / (COUNTIF(G13:G364,\">0\")))","v":163.0251572},162.3670886,165.3037975,161.7861635,162.9371069,164.2389937,761.9509804]