Workbook

Sheet Trap
A1: Drury | D1: Scores | F1: Drury | I1: Panhandle
A2: 1 | B2: M | C2: Grant Boswell | D2: 99 | F2: {=sortn(C2:D12,5,,2,false)} -> Grant Boswell | G2: 99 | I2: {=sortn(C60:D71,5,,2,false)} -> Destry Roye | J2: 98
A3: 2 | B3: M | C3: Noah Boyer | D3: 94 | F3: Avery Newell | G3: 99 | I3: Trent Downey | J3: 98
A4: 3 | B4: M | C4: Layne Clubb | D4: 93 | F4: Colton Cozza | G4: 97 | I4: Emily Robertson | J4: 97
A5: 4 | B5: M | C5: Colton Cozza | D5: 97 | F5: Hayden Sanson | G5: 96 | I5: Cameron Smith | J5: 94
A6: 5 | B6: M | C6: Avery Newell | D6: 99 | F6: Ty Leach | G6: 96 | I6: Harrison Funderburk | J6: 94
A7: 6 | B7: M | C7: Leo Nielsen | D7: 82 | G7: =sum(G2:G6) -> 487 | J7: =Sum(J2:J6) -> 481
A8: 7 | B8: M | C8: Cullen Quinslisk | D8: 92
A9: 8 | B9: M | C9: Noah Reeves | D9: 95 | F9: Hastings | I9: Western
A10: 9 | B10: M | C10: Hayden Sanson | D10: 96 | F10: {=sortn(C16:D30,5,,2,false)} -> Ty Parsons | G10: 99 | I10: {=sortn(C74:D84,5,,2,false)} -> Baylee Pence | J10: 99
A11: 10 | B11: M | C11: Ty Leach | D11: 96 | F11: Isaac Hicks | G11: 98 | I11: Kya Funkhouser | J11: 97
A12: 11 | B12: M | C12: Brandon Perry | D12: 0 | F12: Hunter Gilbertson | G12: 97 | I12: Hunter Martinez | J12: 97
F13: Tanner Dager | G13: 96 | I13: Tucker Colby | J13: 97
F14: Hayden Thomason | G14: 96 | I14: Rustin Fraser | J14: 96
A15: Hastings | D15: Scores | G15: =sum(G10:G14) -> 486 | J15: =sum(J10:J14) -> 486
A16: 1 | B16: M | C16: Tanner Dager | D16: 96
A17: 2 | B17: M | C17: Ty Parsons | D17: 99 | F17: Connors | I17: Fort Hays
A18: 3 | B18: M | C18: Hunter Gilbertson | D18: 97 | F18: {=sortn(C33:D57,5,,2,false)} -> Ty Gurney | G18: 94 | I18: {=sortn(C87:D101,5,,2,false)} -> Ethan Lemuz | J18: 98
A19: 4 | B19: M | C19: Tucker Carpenter | D19: 88 | F19: Colin Wilson | G19: 94 | I19: Colby Cook | J19: 97
A20: 5 | B20: M | C20: Isaac Hicks | D20: 98 | F20: Adam Jones | G20: 92 | I20: Barrett Swenson | J20: 97
A21: 6 | B21: M | C21: Hayden Thomason | D21: 96 | F21: Gage Slagell | G21: 92 | I21: Shay Mahnken | J21: 95
A22: 7 | B22: M | C22: Austin Hofts | D22: 96 | F22: Teton Dixon | G22: 92 | I22: Matthew Basore | J22: 94
A23: 8 | B23: M | C23: Kyle Frederick | D23: 95 | G23: =sum(G18:G22) -> 464 | J23: =sum(J18:J22) -> 481
A24: 9 | B24: M | C24: Rennick Turner | D24: 90
A25: 10 | B25: M | C25: Dalton Sinsel | D25: 93 | F25: RRCC
A26: 11 | B26: F | C26: Jaylee Bradley | D26: 95 | F26: =C104 -> Chance Mead | G26: =D104 -> 95
A27: 12 | B27: F | C27: Hannah Sears | D27: 89 | G27: =sum(G26) -> 95
A28: 13 | B28: M | C28: Jonah Reed | D28: 78
A29: 14 | B29: F | C29: Katrice Lyons | D29: 82
A30: 15 | B30: M | C30: Chase Wieczorek | D30: 96
A32: Connors | D32: Scores
A33: 1 | B33: M | C33: Braden Chambers | D33: 91
A34: 2 | B34: M | C34: Aaron Maltzman | D34: 82
A35: 3 | B35: M | C35: Drake Hyde | D35: 89 | F35: Men's Trap Finals
A36: 4 | B36: M | C36: Michael Beavers | D36: 83 | F36: Grant Boswell | G36: 45449
A37: 5 | B37: M | C37: Chaney DuBois | D37: 87 | F37: Avery Newell | G37: 45325
A38: 6 | B38: M | C38: Wayne Gleese | D38: 84 | F38: Ty Parsons | G38: 45387
A39: 7 | B39: M | C39: Sammy Naugle | D39: 82
A40: 8 | B40: M | C40: Gunnar Casey | D40: 91
A41: 9 | B41: M | C41: Tad Dean | D41: 91
...

Sheet Skeet 
A1: Drury | D1: Scores | F1: Drury | I1: Panhandle
A2: 1 | B2: M | C2: Grant Boswell | D2: 95 | F2: {=sortn(C2:D12,5,,2,false)} -> Avery Newell | G2: 96 | I2: {=sortn(C61:D72,5,,2,false)} -> Trent Downey | J2: 97
A3: 2 | B3: M | C3: Noah Boyer | D3: 94 | F3: Grant Boswell | G3: 95 | I3: Emily Robertson | J3: 96
A4: 3 | B4: M | C4: Layne Clubb | D4: 93 | F4: Colton Cozza | G4: 95 | I4: Destry Roye | J4: 93
A5: 4 | B5: M | C5: Colton Cozza | D5: 95 | F5: Ty Leach | G5: 95 | I5: Tyler Davis | J5: 91
A6: 5 | B6: M | C6: Avery Newell | D6: 96 | F6: Noah Boyer | G6: 94 | I6: Bjorn Genty | J6: 88
A7: 6 | B7: M | C7: Leo Nielsen | D7: 78 | G7: =sum(G2:G6) -> 475 | J7: =Sum(J2:J6) -> 465
A8: 7 | B8: M | C8: Cullen Quinslisk | D8: 86
A9: 8 | B9: M | C9: Noah Reeves | D9: 76 | F9: Hastings | I9: Western
A10: 9 | B10: M | C10: Hayden Sanson | D10: 90 | F10: {=sortn(C16:D30,5,,2,false)} -> Tanner Dager | G10: 98 | I10: {=sortn(C75:D85,5,,2,false)} -> Baylee Pence | J10: 96
A11: 10 | B11: M | C11: Ty Leach | D11: 95 | F11: Hunter Gilbertson | G11: 94 | I11: Brady Reimer | J11: 95
A12: 11 | B12: M | C12: Brandon Perry | D12: 0 | F12: Rennick Turner | G12: 94 | I12: Hunter Martinez | J12: 91
F13: Ty Parsons | G13: 93 | I13: Kya Funkhouser | J13: 89
F14: Austin Hofts | G14: 93 | I14: Rustin Fraser | J14: 89
A15: Hastings | D15: Scores | G15: =sum(G10:G14) -> 472 | J15: =sum(J10:J14) -> 460
A16: 1 | B16: M | C16: Tanner Dager | D16: 98
A17: 2 | B17: M | C17: Ty Parsons | D17: 93 | F17: Connors | I17: Fort Hays
A18: 3 | B18: M | C18: Hunter Gilbertson | D18: 94 | F18: {=sortn(C33:D57,5,,2,false)} -> Braden Chambers | G18: 98 | I18: {=sortn(C88:D102,5,,2,false)} -> Jack Newman | J18: 98
A19: 4 | B19: M | C19: Tucker Carpenter | D19: 91 | F19: Adam Jones | G19: 96 | I19: Dawson Arnett | J19: 96
A20: 5 | B20: M | C20: Isaac Hicks | D20: 91 | F20: Gunnar Casey | G20: 93 | I20: Lexi Wickham | J20: 95
A21: 6 | B21: M | C21: Hayden Thomason | D21: 87 | F21: Wayne Gleese | G21: 91 | I21: Peter Saville Andrew Saville | J21: 94
A22: 7 | B22: M | C22: Austin Hofts | D22: 93 | F22: Teton Dixon | G22: 91 | I22: Shay Mahnken | J22: 93
A23: 8 | B23: M | C23: Kyle Frederick | D23: 91 | G23: =sum(G18:G22) -> 469 | J23: =sum(J18:J22) -> 476
A24: 9 | B24: M | C24: Rennick Turner | D24: 94
A25: 10 | B25: M | C25: Dalton Sinsel | D25: 81 | F25: RRCC
A26: 11 | B26: F | C26: Jaylee Bradley | D26: 88 | F26: =C105 -> Chance Mead | G26: =D105 -> 89
A27: 12 | B27: F | C27: Hannah Sears | D27: 91 | G27: =sum(G26) -> 89
A28: 13 | B28: M | C28: Jonah Reed | D28: 87
A29: 14 | B29: F | C29: Katrice Lyons | D29: 80
A30: 15 | B30: M | C30: Chase Wieczorek | D30: 87
F31: Woman's Skeet Finals
A32: Connors | D32: Scores | F32: Emily Robertson | G32: 45386
A33: 1 | B33: M | C33: Braden Chambers | D33: 98 | F33: Baylee | G33: 45355
A34: 2 | B34: M | C34: Aaron Maltzman | D34: 88
A35: 3 | B35: M | C35: Drake Hyde | D35: 87 | F35: Man's Skeet Finals
A36: 4 | B36: M | C36: Michael Beavers | D36: 90 | F36: Braden Chambers | G36: 45608
A37: 5 | B37: M | C37: Chaney DuBois | D37: 90 | F37: Jack Newmans | G37: 45355
A38: 6 | B38: M | C38: Wayne Gleese | D38: 91 | F38: Janner D. | G38: 45638
A39: 7 | B39: M | C39: Sammy Naugle | D39: 89
A40: 8 | B40: M | C40: Gunnar Casey | D40: 93
...

Sheet Dbls Trap
A1: Drury | D1: Scores | F1: Drury | I1: Panhandle
A2: 1 | B2: M | C2: Grant Boswell | D2: 83 | F2: {=sortn(C2:D12,5,,2,false)} -> Colton Cozza | G2: 93 | I2: {=sortn(C60:D71,5,,2,false)} -> Emily Robertson | J2: 90
A3: 2 | B3: M | C3: Noah Boyer | D3: 75 | F3: Ty Leach | G3: 90 | I3: Daniel Byers | J3: 84
A4: 3 | B4: M | C4: Layne Clubb | D4: 83 | F4: Hayden Sanson | G4: 88 | I4: Trent Downey | J4: 81
A5: 4 | B5: M | C5: Colton Cozza | D5: 93 | F5: Grant Boswell | G5: 83 | I5: Destry Roye | J5: 71
A6: 5 | B6: M | C6: Avery Newell | D6: 73 | F6: Layne Clubb | G6: 83 | I6: Tyler Davis | J6: 69
A7: 6 | B7: M | C7: Leo Nielsen | D7: 52 | G7: =sum(G2:G6) -> 437 | J7: =Sum(J2:J6) -> 395
A8: 7 | B8: M | C8: Cullen Quinslisk | D8: 63
A9: 8 | B9: M | C9: Noah Reeves | D9: 83 | F9: Hastings | I9: Western
A10: 9 | B10: M | C10: Hayden Sanson | D10: 88 | F10: {=sortn(C16:D30,5,,2,false)} -> Isaac Hicks | G10: 87 | I10: {=sortn(C74:D84,5,,2,false)} -> Kya Funkhouser | J10: 89
A11: 10 | B11: M | C11: Ty Leach | D11: 90 | F11: Dalton Sinsel | G11: 86 | I11: Dillon Lopez | J11: 88
A12: 11 | B12: M | C12: Brandon Perry | D12: 0 | F12: Tanner Dager | G12: 85 | I12: Hunter Martinez | J12: 86
F13: Hayden Thomason | G13: 85 | I13: Brady Reimer | J13: 83
F14: Ty Parsons | G14: 83 | I14: Jacob Yaste | J14: 83
A15: Hastings | D15: Scores | G15: =sum(G10:G14) -> 426 | J15: =sum(J10:J14) -> 429
A16: 1 | B16: M | C16: Tanner Dager | D16: 85
A17: 2 | B17: M | C17: Ty Parsons | D17: 83 | F17: Connors | I17: Fort Hays
A18: 3 | B18: M | C18: Hunter Gilbertson | D18: 80 | F18: {=sortn(C33:D57,5,,2,false)} -> Michael Beavers | G18: 84 | I18: {=sortn(C87:D101,5,,2,false)} -> Austin Smith | J18: 89
A19: 4 | B19: M | C19: Tucker Carpenter | D19: 80 | F19: Teton Dixon | G19: 84 | I19: Shay Mahnken | J19: 85
A20: 5 | B20: M | C20: Isaac Hicks | D20: 87 | F20: Wayne Gleese | G20: 82 | I20: JD Biehler | J20: 85
A21: 6 | B21: M | C21: Hayden Thomason | D21: 85 | F21: Trae Brown | G21: 82 | I21: Colby Cook | J21: 85
A22: 7 | B22: M | C22: Austin Hofts | D22: 81 | F22: Braden Chambers | G22: 81 | I22: Dawson Arnett | J22: 84
A23: 8 | B23: M | C23: Kyle Frederick | D23: 75 | G23: =sum(G18:G22) -> 413 | J23: =sum(J18:J22) -> 428
A24: 9 | B24: M | C24: Rennick Turner | D24: 78
A25: 10 | B25: M | C25: Dalton Sinsel | D25: 86 | F25: RRCC
A26: 11 | B26: F | C26: Jaylee Bradley | D26: 73 | F26: =C104 -> Chance Mead | G26: =D104 -> 71
A27: 12 | B27: F | C27: Hannah Sears | D27: 62 | G27: =sum(G26) -> 71
A28: 13 | B28: M | C28: Jonah Reed | D28: 73
A29: 14 | B29: F | C29: Katrice Lyons | D29: 72
A30: 15 | B30: M | C30: Chase Wieczorek | D30: 69
A32: Connors | D32: Scores
A33: 1 | B33: M | C33: Braden Chambers | D33: 81
A34: 2 | B34: M | C34: Aaron Maltzman | D34: 64
A35: 3 | B35: M | C35: Drake Hyde | D35: 73
A36: 4 | B36: M | C36: Michael Beavers | D36: 84
A37: 5 | B37: M | C37: Chaney DuBois | D37: 68
A38: 6 | B38: M | C38: Wayne Gleese | D38: 82
A39: 7 | B39: M | C39: Sammy Naugle | D39: 65
A40: 8 | B40: M | C40: Gunnar Casey | D40: 56
A41: 9 | B41: M | C41: Tad Dean | D41: 81
...

Sheet 5-Stand
A1: Drury | D1: Scores | F1: Drury | I1: Panhandle
A2: 1 | B2: M | C2: Grant Boswell | D2: 40 | F2: {=sortn(C2:D12,5,,2,false)} -> Hayden Sanson | G2: 50 | I2: {=sortn(C60:D71,5,,2,false)} -> Trent Downey | J2: 41
A3: 2 | B3: M | C3: Noah Boyer | D3: 40 | F3: Layne Clubb | G3: 46 | I3: Tyler Davis | J3: 40
A4: 3 | B4: M | C4: Layne Clubb | D4: 46 | F4: Ty Leach | G4: 43 | I4: Emily Robertson | J4: 40
A5: 4 | B5: M | C5: Colton Cozza | D5: 42 | F5: Colton Cozza | G5: 42 | I5: Bjorn Genty | J5: 38
A6: 5 | B6: M | C6: Avery Newell | D6: 38 | F6: Grant Boswell | G6: 40 | I6: Austin Jacobs | J6: 37
A7: 6 | B7: M | C7: Leo Nielsen | D7: 32 | G7: =sum(G2:G6) -> 221 | J7: =Sum(J2:J6) -> 196
A8: 7 | B8: M | C8: Cullen Quinslisk | D8: 33
A9: 8 | B9: M | C9: Noah Reeves | D9: 40 | F9: Hastings | I9: Western
A10: 9 | B10: M | C10: Hayden Sanson | D10: 50 | F10: {=sortn(C16:D30,5,,2,false)} -> Tucker Carpenter | G10: 46 | I10: {=sortn(C74:D84,5,,2,false)} -> Hunter Martinez | J10: 48
A11: 10 | B11: M | C11: Ty Leach | D11: 43 | F11: Tanner Dager | G11: 45 | I11: Brady Reimer | J11: 47
A12: 11 | B12: M | C12: Brandon Perry | D12: 0 | F12: Austin Hofts | G12: 45 | I12: Baylee Pence | J12: 46
F13: Rennick Turner | G13: 44 | I13: Dillon Lopez | J13: 46
F14: Jonah Reed | G14: 44 | I14: Rustin Fraser | J14: 44
A15: Hastings | D15: Scores | G15: =sum(G10:G14) -> 224 | J15: =sum(J10:J14) -> 231
A16: 1 | B16: M | C16: Tanner Dager | D16: 45
A17: 2 | B17: M | C17: Ty Parsons | D17: 43 | F17: Connors | I17: Fort Hays
A18: 3 | B18: M | C18: Hunter Gilbertson | D18: 41 | F18: {=sortn(C33:D57,5,,2,false)} -> Braden Chambers | G18: 46 | I18: {=sortn(C87:D101,5,,2,false)} -> Shay Mahnken | J18: 46
A19: 4 | B19: M | C19: Tucker Carpenter | D19: 46 | F19: Gunnar Casey | G19: 43 | I19: Barrett Swenson | J19: 45
A20: 5 | B20: M | C20: Isaac Hicks | D20: 35 | F20: Colin Wilson | G20: 42 | I20: Colby Cook | J20: 44
A21: 6 | B21: M | C21: Hayden Thomason | D21: 30 | F21: Adam Jones | G21: 41 | I21: Dawson Arnett | J21: 43
A22: 7 | B22: M | C22: Austin Hofts | D22: 45 | F22: Teton Dixon | G22: 40 | I22: Everett Schuler | J22: 42
A23: 8 | B23: M | C23: Kyle Frederick | D23: 41 | G23: =sum(G18:G22) -> 212 | J23: =sum(J18:J22) -> 220
A24: 9 | B24: M | C24: Rennick Turner | D24: 44
A25: 10 | B25: M | C25: Dalton Sinsel | D25: 39 | F25: RRCC
A26: 11 | B26: F | C26: Jaylee Bradley | D26: 32 | F26: =C104 -> Chance Mead | G26: =D104 -> 39
A27: 12 | B27: F | C27: Hannah Sears | D27: 42 | G27: =sum(G26) -> 39
A28: 13 | B28: M | C28: Jonah Reed | D28: 44
A29: 14 | B29: F | C29: Katrice Lyons | D29: 30
A30: 15 | B30: M | C30: Chase Wieczorek | D30: 35
A32: Connors | D32: Scores
A33: 1 | B33: M | C33: Braden Chambers | D33: 46
A34: 2 | B34: M | C34: Aaron Maltzman | D34: 27
A35: 3 | B35: M | C35: Drake Hyde | D35: 36
A36: 4 | B36: M | C36: Michael Beavers | D36: 36
A37: 5 | B37: M | C37: Chaney DuBois | D37: 36
A38: 6 | B38: M | C38: Wayne Gleese | D38: 38
A39: 7 | B39: M | C39: Sammy Naugle | D39: 32
A40: 8 | B40: M | C40: Gunnar Casey | D40: 43
A41: 9 | B41: M | C41: Tad Dean | D41: 30
...

Sheet HOA Scores
C1: Trap | D1: Skeet | E1: Dbls Trap | F1: 5-Stand | G1: Total
A2: 1 | B2: {=sortn(V103:AA109,7,,6,false)} -> Drury | C2: 487 | D2: 475 | E2: 437 | F2: 221 | G2: 1620
A3: 2 | B3: Hastings | C3: 486 | D3: 472 | E3: 426 | F3: 224 | G3: 1608
A4: 3 | B4: Western | C4: 486 | D4: 460 | E4: 429 | F4: 231 | G4: 1606
A5: 4 | B5: Fort Hays | C5: 481 | D5: 476 | E5: 428 | F5: 220 | G5: 1605
A6: 5 | B6: Connors | C6: 464 | D6: 469 | E6: 413 | F6: 212 | G6: 1558
A7: 6 | B7: Panhandle | C7: 481 | D7: 465 | E7: 395 | F7: 196 | G7: 1537
A8: 7 | B8: RRCC | C8: 95 | D8: 89 | E8: 71 | F8: 39 | G8: 294
B11: HOA Male | C11: Trap | D11: Skeet | E11: Dbls Trap | F11: 5-Stand | G11: Total | J11: HOA Female | K11: Trap | L11: Skeet | M11: Dbls Trap | N11: 5-Stand | O11: Total
A12: 1 | B12: =Trap!C5 -> Colton Cozza | C12: =Trap!D5 -> 97 | D12: ='Skeet '!D5 -> 95 | E12: ='Dbls Trap'!D5 -> 93 | F12: ='5-Stand'!D5 -> 42 | G12: =sum(C12:F12) -> 327 | I12: 1 | J12: =Trap!C71 -> Emily Robertson | K12: =Trap!D71 -> 97 | L12: ='Skeet '!D72 -> 96 | M12: ='Dbls Trap'!D71 -> 90 | N12: ='5-Stand'!D71 -> 40 | O12: =sum(K12:N12) -> 323
A13: 2 | B13: =Trap!C10 -> Hayden Sanson | C13: =Trap!D10 -> 96 | D13: ='Skeet '!D10 -> 90 | E13: ='Dbls Trap'!D10 -> 88 | F13: ='5-Stand'!D10 -> 50 | G13: =sum(C13:F13) -> 324 | I13: 2 | J13: =Trap!C74 -> Baylee Pence | K13: =Trap!D74 -> 99 | L13: ='Skeet '!D75 -> 96 | M13: ='Dbls Trap'!D74 -> 80 | N13: ='5-Stand'!D74 -> 46 | O13: =sum(K13:N13) -> 321
A14: 3 | B14: =Trap!C11 -> Ty Leach | C14: =Trap!D11 -> 96 | D14: ='Skeet '!D11 -> 95 | E14: ='Dbls Trap'!D11 -> 90 | F14: ='5-Stand'!D11 -> 43 | G14: =sum(C14:F14) -> 324 | I14: 3 | J14: =Trap!C88 -> Lexi Wickham | K14: =Trap!D88 -> 88 | L14: ='Skeet '!D89 -> 95 | M14: ='Dbls Trap'!D88 -> 84 | N14: ='5-Stand'!D88 -> 41 | O14: =sum(K14:N14) -> 308
A15: 4 | B15: =Trap!C16 -> Tanner Dager | C15: =Trap!D16 -> 96 | D15: ='Skeet '!D16 -> 98 | E15: ='Dbls Trap'!D16 -> 85 | F15: ='5-Stand'!D16 -> 45 | G15: =sum(C15:F15) -> 324 | I15: 4 | J15: =Trap!C77 -> Kya Funkhouser | K15: =Trap!D77 -> 97 | L15: ='Skeet '!D78 -> 89 | M15: ='Dbls Trap'!D77 -> 89 | N15: ='5-Stand'!D77 -> 28 | O15: =sum(K15:N15) -> 303
A16: 5 | B16: =Trap!C80 -> Hunter Martinez | C16: =Trap!D80 -> 97 | D16: ='Skeet '!D81 -> 91 | E16: ='Dbls Trap'!D80 -> 86 | F16: ='5-Stand'!D80 -> 48 | G16: =sum(C16:F16) -> 322 | I16: 5 | J16: =Trap!C26 -> Jaylee Bradley | K16: =Trap!D26 -> 95 | L16: ='Skeet '!D26 -> 88 | M16: ='Dbls Trap'!D26 -> 73 | N16: ='5-Stand'!D26 -> 32 | O16: =sum(K16:N16) -> 288
A17: 6 | B17: =Trap!C78 -> Brady Reimer | C17: =Trap!D78 -> 94 | D17: ='Skeet '!D79 -> 95 | E17: ='Dbls Trap'!D78 -> 83 | F17: ='5-Stand'!D78 -> 47 | G17: =sum(C17:F17) -> 319 | I17: 6 | J17: =Trap!C97 -> Monique William | K17: =Trap!D97 -> 93 | L17: ='Skeet '!D98 -> 88 | M17: ='Dbls Trap'!D97 -> 68 | N17: ='5-Stand'!D97 -> 37 | O17: =sum(K17:N17) -> 286
A18: 7 | B18: =Trap!C89 -> Shay Mahnken | C18: =Trap!D89 -> 95 | D18: ='Skeet '!D90 -> 93 | E18: ='Dbls Trap'!D89 -> 85 | F18: ='5-Stand'!D89 -> 46 | G18: =sum(C18:F18) -> 319 | I18: 7 | J18: =Trap!C27 -> Hannah Sears | K18: =Trap!D27 -> 89 | L18: ='Skeet '!D27 -> 91 | M18: ='Dbls Trap'!D27 -> 62 | N18: ='5-Stand'!D27 -> 42 | O18: =sum(K18:N18) -> 284
A19: 8 | B19: =Trap!C98 -> Colby Cook | C19: =Trap!D98 -> 97 | D19: ='Skeet '!D99 -> 93 | E19: ='Dbls Trap'!D98 -> 85 | F19: ='5-Stand'!D98 -> 44 | G19: =sum(C19:F19) -> 319 | I19: 8 | J19: =Trap!C76 -> Jaden Darling | K19: =Trap!D76 -> 92 | L19: ='Skeet '!D77 -> 69 | M19: ='Dbls Trap'!D76 -> 81 | N19: ='5-Stand'!D76 -> 27 | O19: =sum(K19:N19) -> 269
A20: 9 | B20: =Trap!C17 -> Ty Parsons | C20: =Trap!D17 -> 99 | D20: ='Skeet '!D17 -> 93 | E20: ='Dbls Trap'!D17 -> 83 | F20: ='5-Stand'!D17 -> 43 | G20: =sum(C20:F20) -> 318 | I20: 9 | J20: =Trap!C48 -> Karlie Weir | K20: =Trap!D48 -> 85 | L20: ='Skeet '!D48 -> 78 | M20: ='Dbls Trap'!D48 -> 72 | N20: ='5-Stand'!D44 -> 33 | O20: =sum(K20:N20) -> 268
A21: 10 | B21: =Trap!C2 -> Grant Boswell | C21: =Trap!D2 -> 99 | D21: ='Skeet '!D2 -> 95 | E21: ='Dbls Trap'!D2 -> 83 | F21: ='5-Stand'!D2 -> 40 | G21: =sum(C21:F21) -> 317 | I21: 10 | J21: =Trap!C29 -> Katrice Lyons | K21: =Trap!D29 -> 82 | L21: ='Skeet '!D29 -> 80 | M21: ='Dbls Trap'!D29 -> 72 | N21: ='5-Stand'!D29 -> 30 | O21: =sum(K21:N21) -> 264
A22: 11 | B22: =Trap!C64 -> Trent Downey | C22: =Trap!D64 -> 98 | D22: ='Skeet '!D65 -> 97 | E22: ='Dbls Trap'!D64 -> 81 | F22: ='5-Stand'!D64 -> 41 | G22: =sum(C22:F22) -> 317 | I22: 11 | J22: =Trap!C44 -> Shelby Briley | K22: =Trap!D44 -> 80 | L22: ='Skeet '!D44 -> 69 | M22: ='Dbls Trap'!D44 -> 68 | N22: ='5-Stand'!D44 -> 33 | O22: =sum(K22:N22) -> 250
A23: 12 | B23: =Trap!C33 -> Braden Chambers | C23: =Trap!D33 -> 91 | D23: ='Skeet '!D33 -> 98 | E23: ='Dbls Trap'!D33 -> 81 | F23: ='5-Stand'!D33 -> 46 | G23: =sum(C23:F23) -> 316 | I23: 12 | J23: =Trap!C55 -> Hannah Arey | K23: =Trap!D55 -> 88 | L23: ='Skeet '!D55 -> 66 | M23: ='Dbls Trap'!D55 -> 57 | N23: ='5-Stand'!D55 -> 24 | O23: =sum(K23:N23) -> 235
A24: 13 | B24: =Trap!C4 -> Layne Clubb | C24: =Trap!D4 -> 93 | D24: ='Skeet '!D4 -> 93 | E24: ='Dbls Trap'!D4 -> 83 | F24: ='5-Stand'!D4 -> 46 | G24: =sum(C24:F24) -> 315 | I24: 13 | J24: =Trap!C90 -> Shealynn Rasmussen | K24: =Trap!D90 -> 71 | L24: ='Skeet '!D91 -> 46 | M24: ='Dbls Trap'!D90 -> 60 | N24: ='5-Stand'!D90 -> 22 | O24: =sum(K24:N24) -> 199
A25: 14 | B25: =Trap!C22 -> Austin Hofts | C25: =Trap!D22 -> 96 | D25: ='Skeet '!D22 -> 93 | E25: ='Dbls Trap'!D22 -> 81 | F25: ='5-Stand'!D22 -> 45 | G25: =sum(C25:F25) -> 315 | I25: 14 | J25: =Trap!C75 -> Shay Skaggs | K25: =Trap!D75 -> 0 | L25: ='Skeet '!D76 -> 0 | M25: ='Dbls Trap'!D75 -> 0 | N25: ='5-Stand'!D75 -> 0 | O25: =sum(K25:N25) -> 0
A26: 15 | B26: =Trap!C81 -> Dillon Lopez | C26: =Trap!D81 -> 95 | D26: ='Skeet '!D82 -> 86 | E26: ='Dbls Trap'!D81 -> 88 | F26: ='5-Stand'!D81 -> 46 | G26: =sum(C26:F26) -> 315
A27: 16 | B27: =Trap!C18 -> Hunter Gilbertson | C27: =Trap!D18 -> 97 | D27: ='Skeet '!D18 -> 94 | E27: ='Dbls Trap'!D18 -> 80 | F27: ='5-Stand'!D18 -> 41 | G27: =sum(C27:F27) -> 312
A28: 17 | B28: =Trap!C87 -> Dawson Arnett | C28: =Trap!D87 -> 89 | D28: ='Skeet '!D88 -> 96 | E28: ='Dbls Trap'!D87 -> 84 | F28: ='5-Stand'!D87 -> 43 | G28: =sum(C28:F28) -> 312
A29: 18 | B29: =Trap!C99 -> Austin Smith | C29: =Trap!D99 -> 93 | D29: ='Skeet '!D100 -> 90 | E29: ='Dbls Trap'!D99 -> 89 | F29: ='5-Stand'!D99 -> 40 | G29: =sum(C29:F29) -> 312
A30: 19 | B30: =Trap!C100 -> Jack Newman | C30: =Trap!D100 -> 93 | D30: ='Skeet '!D101 -> 98 | E30: ='Dbls Trap'!D100 -> 81 | F30: ='5-Stand'!D100 -> 40 | G30: =sum(C30:F30) -> 312
A31: 20 | B31: =Trap!C101 -> Barrett Swenson | C31: =Trap!D101 -> 97 | D31: ='Skeet '!D102 -> 89 | E31: ='Dbls Trap'!D101 -> 81 | F31: ='5-Stand'!D101 -> 45 | G31: =sum(C31:F31) -> 312
A32: 21 | B32: =Trap!C20 -> Isaac Hicks | C32: =Trap!D20 -> 98 | D32: ='Skeet '!D20 -> 91 | E32: ='Dbls Trap'!D20 -> 87 | F32: ='5-Stand'!D20 -> 35 | G32: =sum(C32:F32) -> 311
A33: 22 | B33: =Trap!C43 -> Adam Jones | C33: =Trap!D43 -> 92 | D33: ='Skeet '!D43 -> 96 | E33: ='Dbls Trap'!D43 -> 80 | F33: ='5-Stand'!D43 -> 41 | G33: =sum(C33:F33) -> 309
A34: 23 | B34: =Trap!C82 -> Tucker Colby | C34: =Trap!D82 -> 97 | D34: ='Skeet '!D83 -> 88 | E34: ='Dbls Trap'!D82 -> 82 | F34: ='5-Stand'!D82 -> 42 | G34: =sum(C34:F34) -> 309
A35: 24 | B35: =Trap!C83 -> Rustin Fraser | C35: =Trap!D83 -> 96 | D35: ='Skeet '!D84 -> 89 | E35: ='Dbls Trap'!D83 -> 79 | F35: ='5-Stand'!D83 -> 44 | G35: =sum(C35:F35) -> 308
A36: 25 | B36: =Trap!C47 -> Teton Dixon | C36: =Trap!D47 -> 92 | D36: ='Skeet '!D47 -> 91 | E36: ='Dbls Trap'!D47 -> 84 | F36: ='5-Stand'!D47 -> 40 | G36: =sum(C36:F36) -> 307
A37: 26 | B37: =Trap!C96 -> Peter Saville Andrew Saville | C37: =Trap!D96 -> 93 | D37: ='Skeet '!D97 -> 94 | E37: ='Dbls Trap'!D96 -> 81 | F37: ='5-Stand'!D96 -> 39 | G37: =sum(C37:F37) -> 307
A38: 27 | B38: =Trap!C6 -> Avery Newell | C38: =Trap!D6 -> 99 | D38: ='Skeet '!D6 -> 96 | E38: ='Dbls Trap'!D6 -> 73 | F38: ='5-Stand'!D6 -> 38 | G38: =sum(C38:F38) -> 306
A39: 28 | B39: =Trap!C24 -> Rennick Turner | C39: =Trap!D24 -> 90 | D39: ='Skeet '!D24 -> 94 | E39: ='Dbls Trap'!D24 -> 78 | F39: ='5-Stand'!D24 -> 44 | G39: =sum(C39:F39) -> 306
A40: 29 | B40: =Trap!C19 -> Tucker Carpenter | C40: =Trap!D19 -> 88 | D40: ='Skeet '!D19 -> 91 | E40: ='Dbls Trap'!D19 -> 80 | F40: ='5-Stand'!D19 -> 46 | G40: =sum(C40:F40) -> 305
A41: 30 | B41: =Trap!C3 -> Noah Boyer | C41: =Trap!D3 -> 94 | D41: ='Skeet '!D3 -> 94 | E41: ='Dbls Trap'!D3 -> 75 | F41: ='5-Stand'!D3 -> 40 | G41: =sum(C41:F41) -> 303
A42: 31 | B42: =Trap!C23 -> Kyle Frederick | C42: =Trap!D23 -> 95 | D42: ='Skeet '!D23 -> 91 | E42: ='Dbls Trap'!D23 -> 75 | F42: ='5-Stand'!D23 -> 41 | G42: =sum(C42:F42) -> 302
...
