{"text_format":"2","workbook":"xlsx","n_sheets":8,"sheets":["Roster_Selection_Men","Individual_Scores_Men_Var","Individual_Scores_Men_JV","Baker_Scores_Men_Var","Baker_Scores_Men_JV","Qual_Team_Standings_Men_Var","Qual_Team_Standings_Men_JV","Indiv_Combined_Scores_Men"],"not_rendered":{"charts":0,"images":1,"macros":1,"external_links":0,"defined_names":0,"comments":0,"pivot_tables":0},"unopened":[],"bounds":{"document_bytes":16777216,"sheet_cells":100000,"run_cost":"one","rows_first":2000,"rows_last":500,"rows_between":2000,"halvings":0,"cell_chars":16384,"cell_head_chars":4096},"cells_cut":0,"cells_raw":0,"read":"whole","date_system":"1900"}

{"sheet":"Roster_Selection_Men","index":0,"n_rows":456,"n_cols":54,"rows_kept":456,"cut":false,"hidden":false,"merged":[[0,0,0,9]]}
["Tournament Details - Rosters"]
[]
[null,"Mid States Championships (Tier I Men)"]
[null,"Tier 1","USBC",{"$nulls":12},"1201","6","20","5","2.9","2.9",null,null,"7",{"$nulls":29},"IBCYouth"]
[null,"<<Dates>>","<<Event#>>","10/15/2022 - 10/16/2022",{"$nulls":9},"V"]
[null,"<<Location>>",null,"Wichita, KS",{"$nulls":9},"JV1"]
[{"$nulls":13},"JV2"]
[null,"Men's Division",null,"Cert No:","05700"]
[]
[null,"School/Team","State","Bowler ID","Bowler","Division"]
[null,"Avila University",null,"19-81745","Aidan Tesdall","V",null,4597.0,null,false,{"$nulls":17},{"$f":"IFERROR(INDEX(B11:B21, SMALL(IF(\"V\"=F11:F21, ROW(F11:F21)-MIN(ROW(F11:F21))+1, \"\"), ROW() -10 )), \"\")","v":"Avila University"},{"$f":"IFERROR(INDEX(C11:C21, SMALL(IF(\"V\"=F11:F21, ROW(F11:F21)-MIN(ROW(F11:F21))+1, \"\"), ROW() -10 )), \"\")","v":""},{"$f":"IFERROR(INDEX(D11:D21, SMALL(IF(\"V\"=F11:F21, ROW(F11:F21)-MIN(ROW(F11:F21))+1, \"\"), ROW() -10 )), \"\")","v":"19-81745"},{"$f":"IFERROR(INDEX(E11:E21, SMALL(IF(\"V\"=F11:F21, ROW(F11:F21)-MIN(ROW(F11:F21))+1, \"\"), ROW() -10 )), \"\")","v":"Aidan Tesdall"},{"$f":"IFERROR(INDEX(B11:B21, SMALL(IF(ISNUMBER(SEARCH(\"JV1\",F11:F21)), ROW(F11:F21)-MIN(ROW(F11:F21))+1, \"\"), ROW() -10 )), \"\")","v":""},{"$f":"IFERROR(INDEX(C11:C21, SMALL(IF(ISNUMBER(SEARCH(\"JV1\",F11:F21)), ROW(F11:F21)-MIN(ROW(F11:F21))+1, \"\"), ROW() -10 )), \"\")","v":""},{"$f":"IFERROR(INDEX(D11:D21, SMALL(IF(ISNUMBER(SEARCH(\"JV1\",F11:F21)), ROW(F11:F21)-MIN(ROW(F11:F21))+1, \"\"), ROW() -10 )), \"\")","v":""},{"$f":"IFERROR(INDEX(E11:E21, SMALL(IF(ISNUMBER(SEARCH(\"JV1\",F11:F21)), ROW(F11:F21)-MIN(ROW(F11:F21))+1, \"\"), ROW() -10 )), \"\")","v":""},{"$f":"IFERROR(INDEX(B11:B21, SMALL(IF(ISNUMBER(SEARCH(\"JV2\",F11:F21)), ROW(F11:F21)-MIN(ROW(F11:F21))+1, \"\"), ROW() -10 )), \"\")","v":""},{"$f":"IFERROR(INDEX(C11:C21, SMALL(IF(ISNUMBER(SEARCH(\"JV2\",F11:F21)), ROW(F11:F21)-MIN(ROW(F11:F21))+1, \"\"), ROW() -10 )), \"\")","v":""},{"$f":"IFERROR(INDEX(D11:D21, SMALL(IF(ISNUMBER(SEARCH(\"JV2\",F11:F21)), ROW(F11:F21)-MIN(ROW(F11:F21))+1, \"\"), ROW() -10 )), \"\")","v":""},{"$f":"IFERROR(INDEX(E11:E21, SMALL(IF(ISNUMBER(SEARCH(\"JV2\",F11:F21)), ROW(F11:F21)-MIN(ROW(F11:F21))+1, \"\"), ROW() -10 )), \"\")","v":""}]
[null,"Avila University",null,"11-392672","Brody Stanback","V",null,4597.0,null,false,{"$nulls":17},{"$f":"IFERROR(INDEX(B11:B21, SMALL(IF(\"V\"=F11:F21, ROW(F11:F21)-MIN(ROW(F11:F21))+1, \"\"), ROW() -10 )), \"\")","v":"Avila University"},{"$f":"IFERROR(INDEX(C11:C21, SMALL(IF(\"V\"=F11:F21, ROW(F11:F21)-MIN(ROW(F11:F21))+1, \"\"), ROW() -10 )), \"\")","v":""},{"$f":"IFERROR(INDEX(D11:D21, SMALL(IF(\"V\"=F11:F21, ROW(F11:F21)-MIN(ROW(F11:F21))+1, \"\"), ROW() -10 )), \"\")","v":"11-392672"},{"$f":"IFERROR(INDEX(E11:E21, SMALL(IF(\"V\"=F11:F21, ROW(F11:F21)-MIN(ROW(F11:F21))+1, \"\"), ROW() -10 )), \"\")","v":"Brody Stanback"},{"$f":"IFERROR(INDEX(B11:B21, SMALL(IF(ISNUMBER(SEARCH(\"JV1\",F11:F21)), ROW(F11:F21)-MIN(ROW(F11:F21))+1, \"\"), ROW() -10 )), \"\")","v":""},{"$f":"IFERROR(INDEX(C11:C21, SMALL(IF(ISNUMBER(SEARCH(\"JV1\",F11:F21)), ROW(F11:F21)-MIN(ROW(F11:F21))+1, \"\"), ROW() -10 )), \"\")","v":""},{"$f":"IFERROR(INDEX(D11:D21, SMALL(IF(ISNUMBER(SEARCH(\"JV1\",F11:F21)), ROW(F11:F21)-MIN(ROW(F11:F21))+1, \"\"), ROW() -10 )), \"\")","v":""},{"$f":"IFERROR(INDEX(E11:E21, SMALL(IF(ISNUMBER(SEARCH(\"JV1\",F11:F21)), ROW(F11:F21)-MIN(ROW(F11:F21))+1, \"\"), ROW() -10 )), \"\")","v":""},{"$f":"IFERROR(INDEX(B11:B21, SMALL(IF(ISNUMBER(SEARCH(\"JV2\",F11:F21)), ROW(F11:F21)-MIN(ROW(F11:F21))+1, \"\"), ROW() -10 )), \"\")","v":""},{"$f":"IFERROR(INDEX(C11:C21, SMALL(IF(ISNUMBER(SEARCH(\"JV2\",F11:F21)), ROW(F11:F21)-MIN(ROW(F11:F21))+1, \"\"), ROW() -10 )), \"\")","v":""},{"$f":"IFERROR(INDEX(D11:D21, SMALL(IF(ISNUMBER(SEARCH(\"JV2\",F11:F21)), ROW(F11:F21)-MIN(ROW(F11:F21))+1, \"\"), ROW() -10 )), \"\")","v":""},{"$f":"IFERROR(INDEX(E11:E21, SMALL(IF(ISNUMBER(SEARCH(\"JV2\",F11:F21)), ROW(F11:F21)-MIN(ROW(F11:F21))+1, \"\"), ROW() -10 )), \"\")","v":""}]
[null,"Avila University",null,"8599-78423","Bryce Stewart","V",null,4597.0,null,false,{"$nulls":17},{"$f":"IFERROR(INDEX(B11:B21, SMALL(IF(\"V\"=F11:F21, ROW(F11:F21)-MIN(ROW(F11:F21))+1, \"\"), ROW() -10 )), \"\")","v":"Avila University"},{"$f":"IFERROR(INDEX(C11:C21, SMALL(IF(\"V\"=F11:F21, ROW(F11:F21)-MIN(ROW(F11:F21))+1, \"\"), ROW() -10 )), \"\")","v":""},{"$f":"IFERROR(INDEX(D11:D21, SMALL(IF(\"V\"=F11:F21, ROW(F11:F21)-MIN(ROW(F11:F21))+1, \"\"), ROW() -10 )), \"\")","v":"8599-78423"},{"$f":"IFERROR(INDEX(E11:E21, SMALL(IF(\"V\"=F11:F21, ROW(F11:F21)-MIN(ROW(F11:F21))+1, \"\"), ROW() -10 )), \"\")","v":"Bryce Stewart"},{"$f":"IFERROR(INDEX(B11:B21, SMALL(IF(ISNUMBER(SEARCH(\"JV1\",F11:F21)), ROW(F11:F21)-MIN(ROW(F11:F21))+1, \"\"), ROW() -10 )), \"\")","v":""},{"$f":"IFERROR(INDEX(C11:C21, SMALL(IF(ISNUMBER(SEARCH(\"JV1\",F11:F21)), ROW(F11:F21)-MIN(ROW(F11:F21))+1, \"\"), ROW() -10 )), \"\")","v":""},{"$f":"IFERROR(INDEX(D11:D21, SMALL(IF(ISNUMBER(SEARCH(\"JV1\",F11:F21)), ROW(F11:F21)-MIN(ROW(F11:F21))+1, \"\"), ROW() -10 )), \"\")","v":""},{"$f":"IFERROR(INDEX(E11:E21, SMALL(IF(ISNUMBER(SEARCH(\"JV1\",F11:F21)), ROW(F11:F21)-MIN(ROW(F11:F21))+1, \"\"), ROW() -10 )), \"\")","v":""},{"$f":"IFERROR(INDEX(B11:B21, SMALL(IF(ISNUMBER(SEARCH(\"JV2\",F11:F21)), ROW(F11:F21)-MIN(ROW(F11:F21))+1, \"\"), ROW() -10 )), \"\")","v":""},{"$f":"IFERROR(INDEX(C11:C21, SMALL(IF(ISNUMBER(SEARCH(\"JV2\",F11:F21)), ROW(F11:F21)-MIN(ROW(F11:F21))+1, \"\"), ROW() -10 )), \"\")","v":""},{"$f":"IFERROR(INDEX(D11:D21, SMALL(IF(ISNUMBER(SEARCH(\"JV2\",F11:F21)), ROW(F11:F21)-MIN(ROW(F11:F21))+1, \"\"), ROW() -10 )), \"\")","v":""},{"$f":"IFERROR(INDEX(E11:E21, SMALL(IF(ISNUMBER(SEARCH(\"JV2\",F11:F21)), ROW(F11:F21)-MIN(ROW(F11:F21))+1, \"\"), ROW() -10 )), \"\")","v":""}]
[null,"Avila University",null,"11-485194","Caleb Wangler","V",null,4597.0,null,false,{"$nulls":17},{"$f":"IFERROR(INDEX(B11:B21, SMALL(IF(\"V\"=F11:F21, ROW(F11:F21)-MIN(ROW(F11:F21))+1, \"\"), ROW() -10 )), \"\")","v":"Avila University"},{"$f":"IFERROR(INDEX(C11:C21, SMALL(IF(\"V\"=F11:F21, ROW(F11:F21)-MIN(ROW(F11:F21))+1, \"\"), ROW() -10 )), \"\")","v":""},{"$f":"IFERROR(INDEX(D11:D21, SMALL(IF(\"V\"=F11:F21, ROW(F11:F21)-MIN(ROW(F11:F21))+1, \"\"), ROW() -10 )), \"\")","v":"11-485194"},{"$f":"IFERROR(INDEX(E11:E21, SMALL(IF(\"V\"=F11:F21, ROW(F11:F21)-MIN(ROW(F11:F21))+1, \"\"), ROW() -10 )), \"\")","v":"Caleb Wangler"},{"$f":"IFERROR(INDEX(B11:B21, SMALL(IF(ISNUMBER(SEARCH(\"JV1\",F11:F21)), ROW(F11:F21)-MIN(ROW(F11:F21))+1, \"\"), ROW() -10 )), \"\")","v":""},{"$f":"IFERROR(INDEX(C11:C21, SMALL(IF(ISNUMBER(SEARCH(\"JV1\",F11:F21)), ROW(F11:F21)-MIN(ROW(F11:F21))+1, \"\"), ROW() -10 )), \"\")","v":""},{"$f":"IFERROR(INDEX(D11:D21, SMALL(IF(ISNUMBER(SEARCH(\"JV1\",F11:F21)), ROW(F11:F21)-MIN(ROW(F11:F21))+1, \"\"), ROW() -10 )), \"\")","v":""},{"$f":"IFERROR(INDEX(E11:E21, SMALL(IF(ISNUMBER(SEARCH(\"JV1\",F11:F21)), ROW(F11:F21)-MIN(ROW(F11:F21))+1, \"\"), ROW() -10 )), \"\")","v":""},{"$f":"IFERROR(INDEX(B11:B21, SMALL(IF(ISNUMBER(SEARCH(\"JV2\",F11:F21)), ROW(F11:F21)-MIN(ROW(F11:F21))+1, \"\"), ROW() -10 )), \"\")","v":""},{"$f":"IFERROR(INDEX(C11:C21, SMALL(IF(ISNUMBER(SEARCH(\"JV2\",F11:F21)), ROW(F11:F21)-MIN(ROW(F11:F21))+1, \"\"), ROW() -10 )), \"\")","v":""},{"$f":"IFERROR(INDEX(D11:D21, SMALL(IF(ISNUMBER(SEARCH(\"JV2\",F11:F21)), ROW(F11:F21)-MIN(ROW(F11:F21))+1, \"\"), ROW() -10 )), \"\")","v":""},{"$f":"IFERROR(INDEX(E11:E21, SMALL(IF(ISNUMBER(SEARCH(\"JV2\",F11:F21)), ROW(F11:F21)-MIN(ROW(F11:F21))+1, \"\"), ROW() -10 )), \"\")","v":""}]
[null,"Avila University",null,"16-105571","Calvin Mcmiller"," ",null,4597.0,null,false,{"$nulls":17},{"$f":"IFERROR(INDEX(B11:B21, SMALL(IF(\"V\"=F11:F21, ROW(F11:F21)-MIN(ROW(F11:F21))+1, \"\"), ROW() -10 )), \"\")","v":"Avila University"},{"$f":"IFERROR(INDEX(C11:C21, SMALL(IF(\"V\"=F11:F21, ROW(F11:F21)-MIN(ROW(F11:F21))+1, \"\"), ROW() -10 )), \"\")","v":""},{"$f":"IFERROR(INDEX(D11:D21, SMALL(IF(\"V\"=F11:F21, ROW(F11:F21)-MIN(ROW(F11:F21))+1, \"\"), ROW() -10 )), \"\")","v":"15-18094"},{"$f":"IFERROR(INDEX(E11:E21, SMALL(IF(\"V\"=F11:F21, ROW(F11:F21)-MIN(ROW(F11:F21))+1, \"\"), ROW() -10 )), \"\")","v":"Evan Serrage"},{"$f":"IFERROR(INDEX(B11:B21, SMALL(IF(ISNUMBER(SEARCH(\"JV1\",F11:F21)), ROW(F11:F21)-MIN(ROW(F11:F21))+1, \"\"), ROW() -10 )), \"\")","v":""},{"$f":"IFERROR(INDEX(C11:C21, SMALL(IF(ISNUMBER(SEARCH(\"JV1\",F11:F21)), ROW(F11:F21)-MIN(ROW(F11:F21))+1, \"\"), ROW() -10 )), \"\")","v":""},{"$f":"IFERROR(INDEX(D11:D21, SMALL(IF(ISNUMBER(SEARCH(\"JV1\",F11:F21)), ROW(F11:F21)-MIN(ROW(F11:F21))+1, \"\"), ROW() -10 )), \"\")","v":""},{"$f":"IFERROR(INDEX(E11:E21, SMALL(IF(ISNUMBER(SEARCH(\"JV1\",F11:F21)), ROW(F11:F21)-MIN(ROW(F11:F21))+1, \"\"), ROW() -10 )), \"\")","v":""},{"$f":"IFERROR(INDEX(B11:B21, SMALL(IF(ISNUMBER(SEARCH(\"JV2\",F11:F21)), ROW(F11:F21)-MIN(ROW(F11:F21))+1, \"\"), ROW() -10 )), \"\")","v":""},{"$f":"IFERROR(INDEX(C11:C21, SMALL(IF(ISNUMBER(SEARCH(\"JV2\",F11:F21)), ROW(F11:F21)-MIN(ROW(F11:F21))+1, \"\"), ROW() -10 )), \"\")","v":""},{"$f":"IFERROR(INDEX(D11:D21, SMALL(IF(ISNUMBER(SEARCH(\"JV2\",F11:F21)), ROW(F11:F21)-MIN(ROW(F11:F21))+1, \"\"), ROW() -10 )), \"\")","v":""},{"$f":"IFERROR(INDEX(E11:E21, SMALL(IF(ISNUMBER(SEARCH(\"JV2\",F11:F21)), ROW(F11:F21)-MIN(ROW(F11:F21))+1, \"\"), ROW() -10 )), \"\")","v":""}]
[null,"Avila University",null,"15-18094","Evan Serrage","V",null,4597.0,null,false,{"$nulls":17},{"$f":"IFERROR(INDEX(B11:B21, SMALL(IF(\"V\"=F11:F21, ROW(F11:F21)-MIN(ROW(F11:F21))+1, \"\"), ROW() -10 )), \"\")","v":"Avila University"},{"$f":"IFERROR(INDEX(C11:C21, SMALL(IF(\"V\"=F11:F21, ROW(F11:F21)-MIN(ROW(F11:F21))+1, \"\"), ROW() -10 )), \"\")","v":""},{"$f":"IFERROR(INDEX(D11:D21, SMALL(IF(\"V\"=F11:F21, ROW(F11:F21)-MIN(ROW(F11:F21))+1, \"\"), ROW() -10 )), \"\")","v":"21-11945"},{"$f":"IFERROR(INDEX(E11:E21, SMALL(IF(\"V\"=F11:F21, ROW(F11:F21)-MIN(ROW(F11:F21))+1, \"\"), ROW() -10 )), \"\")","v":"Max Sturgeon"},{"$f":"IFERROR(INDEX(B11:B21, SMALL(IF(ISNUMBER(SEARCH(\"JV1\",F11:F21)), ROW(F11:F21)-MIN(ROW(F11:F21))+1, \"\"), ROW() -10 )), \"\")","v":""},{"$f":"IFERROR(INDEX(C11:C21, SMALL(IF(ISNUMBER(SEARCH(\"JV1\",F11:F21)), ROW(F11:F21)-MIN(ROW(F11:F21))+1, \"\"), ROW() -10 )), \"\")","v":""},{"$f":"IFERROR(INDEX(D11:D21, SMALL(IF(ISNUMBER(SEARCH(\"JV1\",F11:F21)), ROW(F11:F21)-MIN(ROW(F11:F21))+1, \"\"), ROW() -10 )), \"\")","v":""},{"$f":"IFERROR(INDEX(E11:E21, SMALL(IF(ISNUMBER(SEARCH(\"JV1\",F11:F21)), ROW(F11:F21)-MIN(ROW(F11:F21))+1, \"\"), ROW() -10 )), \"\")","v":""},{"$f":"IFERROR(INDEX(B11:B21, SMALL(IF(ISNUMBER(SEARCH(\"JV2\",F11:F21)), ROW(F11:F21)-MIN(ROW(F11:F21))+1, \"\"), ROW() -10 )), \"\")","v":""},{"$f":"IFERROR(INDEX(C11:C21, SMALL(IF(ISNUMBER(SEARCH(\"JV2\",F11:F21)), ROW(F11:F21)-MIN(ROW(F11:F21))+1, \"\"), ROW() -10 )), \"\")","v":""},{"$f":"IFERROR(INDEX(D11:D21, SMALL(IF(ISNUMBER(SEARCH(\"JV2\",F11:F21)), ROW(F11:F21)-MIN(ROW(F11:F21))+1, \"\"), ROW() -10 )), \"\")","v":""},{"$f":"IFERROR(INDEX(E11:E21, SMALL(IF(ISNUMBER(SEARCH(\"JV2\",F11:F21)), ROW(F11:F21)-MIN(ROW(F11:F21))+1, \"\"), ROW() -10 )), \"\")","v":""}]
[null,"Avila University",null,"17-75644","Matthew Eddy"," ",null,4597.0,null,false,{"$nulls":17},{"$f":"IFERROR(INDEX(B11:B21, SMALL(IF(\"V\"=F11:F21, ROW(F11:F21)-MIN(ROW(F11:F21))+1, \"\"), ROW() -10 )), \"\")","v":"Avila University"},{"$f":"IFERROR(INDEX(C11:C21, SMALL(IF(\"V\"=F11:F21, ROW(F11:F21)-MIN(ROW(F11:F21))+1, \"\"), ROW() -10 )), \"\")","v":""},{"$f":"IFERROR(INDEX(D11:D21, SMALL(IF(\"V\"=F11:F21, ROW(F11:F21)-MIN(ROW(F11:F21))+1, \"\"), ROW() -10 )), \"\")","v":"11-280786"},{"$f":"IFERROR(INDEX(E11:E21, SMALL(IF(\"V\"=F11:F21, ROW(F11:F21)-MIN(ROW(F11:F21))+1, \"\"), ROW() -10 )), \"\")","v":"Nicholas Hays"},{"$f":"IFERROR(INDEX(B11:B21, SMALL(IF(ISNUMBER(SEARCH(\"JV1\",F11:F21)), ROW(F11:F21)-MIN(ROW(F11:F21))+1, \"\"), ROW() -10 )), \"\")","v":""},{"$f":"IFERROR(INDEX(C11:C21, SMALL(IF(ISNUMBER(SEARCH(\"JV1\",F11:F21)), ROW(F11:F21)-MIN(ROW(F11:F21))+1, \"\"), ROW() -10 )), \"\")","v":""},{"$f":"IFERROR(INDEX(D11:D21, SMALL(IF(ISNUMBER(SEARCH(\"JV1\",F11:F21)), ROW(F11:F21)-MIN(ROW(F11:F21))+1, \"\"), ROW() -10 )), \"\")","v":""},{"$f":"IFERROR(INDEX(E11:E21, SMALL(IF(ISNUMBER(SEARCH(\"JV1\",F11:F21)), ROW(F11:F21)-MIN(ROW(F11:F21))+1, \"\"), ROW() -10 )), \"\")","v":""},{"$f":"IFERROR(INDEX(B11:B21, SMALL(IF(ISNUMBER(SEARCH(\"JV2\",F11:F21)), ROW(F11:F21)-MIN(ROW(F11:F21))+1, \"\"), ROW() -10 )), \"\")","v":""},{"$f":"IFERROR(INDEX(C11:C21, SMALL(IF(ISNUMBER(SEARCH(\"JV2\",F11:F21)), ROW(F11:F21)-MIN(ROW(F11:F21))+1, \"\"), ROW() -10 )), \"\")","v":""},{"$f":"IFERROR(INDEX(D11:D21, SMALL(IF(ISNUMBER(SEARCH(\"JV2\",F11:F21)), ROW(F11:F21)-MIN(ROW(F11:F21))+1, \"\"), ROW() -10 )), \"\")","v":""},{"$f":"IFERROR(INDEX(E11:E21, SMALL(IF(ISNUMBER(SEARCH(\"JV2\",F11:F21)), ROW(F11:F21)-MIN(ROW(F11:F21))+1, \"\"), ROW() -10 )), \"\")","v":""}]
[null,"Avila University",null,"21-11945","Max Sturgeon","V",null,4597.0,null,false,{"$nulls":17},{"$f":"IFERROR(INDEX(B11:B21, SMALL(IF(\"V\"=F11:F21, ROW(F11:F21)-MIN(ROW(F11:F21))+1, \"\"), ROW() -10 )), \"\")","v":"Avila University"},{"$f":"IFERROR(INDEX(C11:C21, SMALL(IF(\"V\"=F11:F21, ROW(F11:F21)-MIN(ROW(F11:F21))+1, \"\"), ROW() -10 )), \"\")","v":""},{"$f":"IFERROR(INDEX(D11:D21, SMALL(IF(\"V\"=F11:F21, ROW(F11:F21)-MIN(ROW(F11:F21))+1, \"\"), ROW() -10 )), \"\")","v":"11-429373"},{"$f":"IFERROR(INDEX(E11:E21, SMALL(IF(\"V\"=F11:F21, ROW(F11:F21)-MIN(ROW(F11:F21))+1, \"\"), ROW() -10 )), \"\")","v":"Wesley Smith"},{"$f":"IFERROR(INDEX(B11:B21, SMALL(IF(ISNUMBER(SEARCH(\"JV1\",F11:F21)), ROW(F11:F21)-MIN(ROW(F11:F21))+1, \"\"), ROW() -10 )), \"\")","v":""},{"$f":"IFERROR(INDEX(C11:C21, SMALL(IF(ISNUMBER(SEARCH(\"JV1\",F11:F21)), ROW(F11:F21)-MIN(ROW(F11:F21))+1, \"\"), ROW() -10 )), \"\")","v":""},{"$f":"IFERROR(INDEX(D11:D21, SMALL(IF(ISNUMBER(SEARCH(\"JV1\",F11:F21)), ROW(F11:F21)-MIN(ROW(F11:F21))+1, \"\"), ROW() -10 )), \"\")","v":""},{"$f":"IFERROR(INDEX(E11:E21, SMALL(IF(ISNUMBER(SEARCH(\"JV1\",F11:F21)), ROW(F11:F21)-MIN(ROW(F11:F21))+1, \"\"), ROW() -10 )), \"\")","v":""},{"$f":"IFERROR(INDEX(B11:B21, SMALL(IF(ISNUMBER(SEARCH(\"JV2\",F11:F21)), ROW(F11:F21)-MIN(ROW(F11:F21))+1, \"\"), ROW() -10 )), \"\")","v":""},{"$f":"IFERROR(INDEX(C11:C21, SMALL(IF(ISNUMBER(SEARCH(\"JV2\",F11:F21)), ROW(F11:F21)-MIN(ROW(F11:F21))+1, \"\"), ROW() -10 )), \"\")","v":""},{"$f":"IFERROR(INDEX(D11:D21, SMALL(IF(ISNUMBER(SEARCH(\"JV2\",F11:F21)), ROW(F11:F21)-MIN(ROW(F11:F21))+1, \"\"), ROW() -10 )), \"\")","v":""},{"$f":"IFERROR(INDEX(E11:E21, SMALL(IF(ISNUMBER(SEARCH(\"JV2\",F11:F21)), ROW(F11:F21)-MIN(ROW(F11:F21))+1, \"\"), ROW() -10 )), \"\")","v":""}]
[null,"Avila University",null,"11-280786","Nicholas Hays","V",null,4597.0,null,false]
[null,"Avila University",null,"931-90083","Nicolas Garza"," ",null,4597.0,null,false]
[null,"Avila University",null,"11-429373","Wesley Smith","V",null,4597.0,null,false]
[null,"Baker University",null,"17-4319","Alex Wright"," ",null,3432.0,null,false,{"$nulls":17},{"$f":"IFERROR(INDEX(B22:B41, SMALL(IF(\"V\"=F22:F41, ROW(F22:F41)-MIN(ROW(F22:F41))+1, \"\"), ROW() -21 )), \"\")","v":"Baker University"},{"$f":"IFERROR(INDEX(C22:C41, SMALL(IF(\"V\"=F22:F41, ROW(F22:F41)-MIN(ROW(F22:F41))+1, \"\"), ROW() -21 )), \"\")","v":""},{"$f":"IFERROR(INDEX(D22:D41, SMALL(IF(\"V\"=F22:F41, ROW(F22:F41)-MIN(ROW(F22:F41))+1, \"\"), ROW() -21 )), \"\")","v":"7914-6106"},{"$f":"IFERROR(INDEX(E22:E41, SMALL(IF(\"V\"=F22:F41, ROW(F22:F41)-MIN(ROW(F22:F41))+1, \"\"), ROW() -21 )), \"\")","v":"Benjamin Banks"},{"$f":"IFERROR(INDEX(B22:B41, SMALL(IF(ISNUMBER(SEARCH(\"JV1\",F22:F41)), ROW(F22:F41)-MIN(ROW(F22:F41))+1, \"\"), ROW() -21 )), \"\")","v":""},{"$f":"IFERROR(INDEX(C22:C41, SMALL(IF(ISNUMBER(SEARCH(\"JV1\",F22:F41)), ROW(F22:F41)-MIN(ROW(F22:F41))+1, \"\"), ROW() -21 )), \"\")","v":""},{"$f":"IFERROR(INDEX(D22:D41, SMALL(IF(ISNUMBER(SEARCH(\"JV1\",F22:F41)), ROW(F22:F41)-MIN(ROW(F22:F41))+1, \"\"), ROW() -21 )), \"\")","v":""},{"$f":"IFERROR(INDEX(E22:E41, SMALL(IF(ISNUMBER(SEARCH(\"JV1\",F22:F41)), ROW(F22:F41)-MIN(ROW(F22:F41))+1, \"\"), ROW() -21 )), \"\")","v":""},{"$f":"IFERROR(INDEX(B22:B41, SMALL(IF(ISNUMBER(SEARCH(\"JV2\",F22:F41)), ROW(F22:F41)-MIN(ROW(F22:F41))+1, \"\"), ROW() -21 )), \"\")","v":""},{"$f":"IFERROR(INDEX(C22:C41, SMALL(IF(ISNUMBER(SEARCH(\"JV2\",F22:F41)), ROW(F22:F41)-MIN(ROW(F22:F41))+1, \"\"), ROW() -21 )), \"\")","v":""},{"$f":"IFERROR(INDEX(D22:D41, SMALL(IF(ISNUMBER(SEARCH(\"JV2\",F22:F41)), ROW(F22:F41)-MIN(ROW(F22:F41))+1, \"\"), ROW() -21 )), \"\")","v":""},{"$f":"IFERROR(INDEX(E22:E41, SMALL(IF(ISNUMBER(SEARCH(\"JV2\",F22:F41)), ROW(F22:F41)-MIN(ROW(F22:F41))+1, \"\"), ROW() -21 )), \"\")","v":""}]
[null,"Baker University",null,"7914-6106","Benjamin Banks","V",null,3432.0,null,false,{"$nulls":17},{"$f":"IFERROR(INDEX(B22:B41, SMALL(IF(\"V\"=F22:F41, ROW(F22:F41)-MIN(ROW(F22:F41))+1, \"\"), ROW() -21 )), \"\")","v":"Baker University"},{"$f":"IFERROR(INDEX(C22:C41, SMALL(IF(\"V\"=F22:F41, ROW(F22:F41)-MIN(ROW(F22:F41))+1, \"\"), ROW() -21 )), \"\")","v":""},{"$f":"IFERROR(INDEX(D22:D41, SMALL(IF(\"V\"=F22:F41, ROW(F22:F41)-MIN(ROW(F22:F41))+1, \"\"), ROW() -21 )), \"\")","v":"18-1332"},{"$f":"IFERROR(INDEX(E22:E41, SMALL(IF(\"V\"=F22:F41, ROW(F22:F41)-MIN(ROW(F22:F41))+1, \"\"), ROW() -21 )), \"\")","v":"Brett Gamber"},{"$f":"IFERROR(INDEX(B22:B41, SMALL(IF(ISNUMBER(SEARCH(\"JV1\",F22:F41)), ROW(F22:F41)-MIN(ROW(F22:F41))+1, \"\"), ROW() -21 )), \"\")","v":""},{"$f":"IFERROR(INDEX(C22:C41, SMALL(IF(ISNUMBER(SEARCH(\"JV1\",F22:F41)), ROW(F22:F41)-MIN(ROW(F22:F41))+1, \"\"), ROW() -21 )), \"\")","v":""},{"$f":"IFERROR(INDEX(D22:D41, SMALL(IF(ISNUMBER(SEARCH(\"JV1\",F22:F41)), ROW(F22:F41)-MIN(ROW(F22:F41))+1, \"\"), ROW() -21 )), \"\")","v":""},{"$f":"IFERROR(INDEX(E22:E41, SMALL(IF(ISNUMBER(SEARCH(\"JV1\",F22:F41)), ROW(F22:F41)-MIN(ROW(F22:F41))+1, \"\"), ROW() -21 )), \"\")","v":""},{"$f":"IFERROR(INDEX(B22:B41, SMALL(IF(ISNUMBER(SEARCH(\"JV2\",F22:F41)), ROW(F22:F41)-MIN(ROW(F22:F41))+1, \"\"), ROW() -21 )), \"\")","v":""},{"$f":"IFERROR(INDEX(C22:C41, SMALL(IF(ISNUMBER(SEARCH(\"JV2\",F22:F41)), ROW(F22:F41)-MIN(ROW(F22:F41))+1, \"\"), ROW() -21 )), \"\")","v":""},{"$f":"IFERROR(INDEX(D22:D41, SMALL(IF(ISNUMBER(SEARCH(\"JV2\",F22:F41)), ROW(F22:F41)-MIN(ROW(F22:F41))+1, \"\"), ROW() -21 )), \"\")","v":""},{"$f":"IFERROR(INDEX(E22:E41, SMALL(IF(ISNUMBER(SEARCH(\"JV2\",F22:F41)), ROW(F22:F41)-MIN(ROW(F22:F41))+1, \"\"), ROW() -21 )), \"\")","v":""}]
[null,"Baker University",null,"18-1332","Brett Gamber","V",null,3432.0,null,false,{"$nulls":17},{"$f":"IFERROR(INDEX(B22:B41, SMALL(IF(\"V\"=F22:F41, ROW(F22:F41)-MIN(ROW(F22:F41))+1, \"\"), ROW() -21 )), \"\")","v":"Baker University"},{"$f":"IFERROR(INDEX(C22:C41, SMALL(IF(\"V\"=F22:F41, ROW(F22:F41)-MIN(ROW(F22:F41))+1, \"\"), ROW() -21 )), \"\")","v":""},{"$f":"IFERROR(INDEX(D22:D41, SMALL(IF(\"V\"=F22:F41, ROW(F22:F41)-MIN(ROW(F22:F41))+1, \"\"), ROW() -21 )), \"\")","v":"11-246267"},{"$f":"IFERROR(INDEX(E22:E41, SMALL(IF(\"V\"=F22:F41, ROW(F22:F41)-MIN(ROW(F22:F41))+1, \"\"), ROW() -21 )), \"\")","v":"Dillon Harris"},{"$f":"IFERROR(INDEX(B22:B41, SMALL(IF(ISNUMBER(SEARCH(\"JV1\",F22:F41)), ROW(F22:F41)-MIN(ROW(F22:F41))+1, \"\"), ROW() -21 )), \"\")","v":""},{"$f":"IFERROR(INDEX(C22:C41, SMALL(IF(ISNUMBER(SEARCH(\"JV1\",F22:F41)), ROW(F22:F41)-MIN(ROW(F22:F41))+1, \"\"), ROW() -21 )), \"\")","v":""},{"$f":"IFERROR(INDEX(D22:D41, SMALL(IF(ISNUMBER(SEARCH(\"JV1\",F22:F41)), ROW(F22:F41)-MIN(ROW(F22:F41))+1, \"\"), ROW() -21 )), \"\")","v":""},{"$f":"IFERROR(INDEX(E22:E41, SMALL(IF(ISNUMBER(SEARCH(\"JV1\",F22:F41)), ROW(F22:F41)-MIN(ROW(F22:F41))+1, \"\"), ROW() -21 )), \"\")","v":""},{"$f":"IFERROR(INDEX(B22:B41, SMALL(IF(ISNUMBER(SEARCH(\"JV2\",F22:F41)), ROW(F22:F41)-MIN(ROW(F22:F41))+1, \"\"), ROW() -21 )), \"\")","v":""},{"$f":"IFERROR(INDEX(C22:C41, SMALL(IF(ISNUMBER(SEARCH(\"JV2\",F22:F41)), ROW(F22:F41)-MIN(ROW(F22:F41))+1, \"\"), ROW() -21 )), \"\")","v":""},{"$f":"IFERROR(INDEX(D22:D41, SMALL(IF(ISNUMBER(SEARCH(\"JV2\",F22:F41)), ROW(F22:F41)-MIN(ROW(F22:F41))+1, \"\"), ROW() -21 )), \"\")","v":""},{"$f":"IFERROR(INDEX(E22:E41, SMALL(IF(ISNUMBER(SEARCH(\"JV2\",F22:F41)), ROW(F22:F41)-MIN(ROW(F22:F41))+1, \"\"), ROW() -21 )), \"\")","v":""}]
[null,"Baker University",null,"11-498787","Chase Swift"," ",null,3432.0,null,false,{"$nulls":17},{"$f":"IFERROR(INDEX(B22:B41, SMALL(IF(\"V\"=F22:F41, ROW(F22:F41)-MIN(ROW(F22:F41))+1, \"\"), ROW() -21 )), \"\")","v":"Baker University"},{"$f":"IFERROR(INDEX(C22:C41, SMALL(IF(\"V\"=F22:F41, ROW(F22:F41)-MIN(ROW(F22:F41))+1, \"\"), ROW() -21 )), \"\")","v":""},{"$f":"IFERROR(INDEX(D22:D41, SMALL(IF(\"V\"=F22:F41, ROW(F22:F41)-MIN(ROW(F22:F41))+1, \"\"), ROW() -21 )), \"\")","v":"18-43056"},{"$f":"IFERROR(INDEX(E22:E41, SMALL(IF(\"V\"=F22:F41, ROW(F22:F41)-MIN(ROW(F22:F41))+1, \"\"), ROW() -21 )), \"\")","v":"Josh King"},{"$f":"IFERROR(INDEX(B22:B41, SMALL(IF(ISNUMBER(SEARCH(\"JV1\",F22:F41)), ROW(F22:F41)-MIN(ROW(F22:F41))+1, \"\"), ROW() -21 )), \"\")","v":""},{"$f":"IFERROR(INDEX(C22:C41, SMALL(IF(ISNUMBER(SEARCH(\"JV1\",F22:F41)), ROW(F22:F41)-MIN(ROW(F22:F41))+1, \"\"), ROW() -21 )), \"\")","v":""},{"$f":"IFERROR(INDEX(D22:D41, SMALL(IF(ISNUMBER(SEARCH(\"JV1\",F22:F41)), ROW(F22:F41)-MIN(ROW(F22:F41))+1, \"\"), ROW() -21 )), \"\")","v":""},{"$f":"IFERROR(INDEX(E22:E41, SMALL(IF(ISNUMBER(SEARCH(\"JV1\",F22:F41)), ROW(F22:F41)-MIN(ROW(F22:F41))+1, \"\"), ROW() -21 )), \"\")","v":""},{"$f":"IFERROR(INDEX(B22:B41, SMALL(IF(ISNUMBER(SEARCH(\"JV2\",F22:F41)), ROW(F22:F41)-MIN(ROW(F22:F41))+1, \"\"), ROW() -21 )), \"\")","v":""},{"$f":"IFERROR(INDEX(C22:C41, SMALL(IF(ISNUMBER(SEARCH(\"JV2\",F22:F41)), ROW(F22:F41)-MIN(ROW(F22:F41))+1, \"\"), ROW() -21 )), \"\")","v":""},{"$f":"IFERROR(INDEX(D22:D41, SMALL(IF(ISNUMBER(SEARCH(\"JV2\",F22:F41)), ROW(F22:F41)-MIN(ROW(F22:F41))+1, \"\"), ROW() -21 )), \"\")","v":""},{"$f":"IFERROR(INDEX(E22:E41, SMALL(IF(ISNUMBER(SEARCH(\"JV2\",F22:F41)), ROW(F22:F41)-MIN(ROW(F22:F41))+1, \"\"), ROW() -21 )), \"\")","v":""}]
[null,"Baker University",null,"17-28202","Dakota Stephens"," ",null,3432.0,null,false,{"$nulls":17},{"$f":"IFERROR(INDEX(B22:B41, SMALL(IF(\"V\"=F22:F41, ROW(F22:F41)-MIN(ROW(F22:F41))+1, \"\"), ROW() -21 )), \"\")","v":"Baker University"},{"$f":"IFERROR(INDEX(C22:C41, SMALL(IF(\"V\"=F22:F41, ROW(F22:F41)-MIN(ROW(F22:F41))+1, \"\"), ROW() -21 )), \"\")","v":""},{"$f":"IFERROR(INDEX(D22:D41, SMALL(IF(\"V\"=F22:F41, ROW(F22:F41)-MIN(ROW(F22:F41))+1, \"\"), ROW() -21 )), \"\")","v":"11-439937"},{"$f":"IFERROR(INDEX(E22:E41, SMALL(IF(\"V\"=F22:F41, ROW(F22:F41)-MIN(ROW(F22:F41))+1, \"\"), ROW() -21 )), \"\")","v":"Tanner Eckerle"},{"$f":"IFERROR(INDEX(B22:B41, SMALL(IF(ISNUMBER(SEARCH(\"JV1\",F22:F41)), ROW(F22:F41)-MIN(ROW(F22:F41))+1, \"\"), ROW() -21 )), \"\")","v":""},{"$f":"IFERROR(INDEX(C22:C41, SMALL(IF(ISNUMBER(SEARCH(\"JV1\",F22:F41)), ROW(F22:F41)-MIN(ROW(F22:F41))+1, \"\"), ROW() -21 )), \"\")","v":""},{"$f":"IFERROR(INDEX(D22:D41, SMALL(IF(ISNUMBER(SEARCH(\"JV1\",F22:F41)), ROW(F22:F41)-MIN(ROW(F22:F41))+1, \"\"), ROW() -21 )), \"\")","v":""},{"$f":"IFERROR(INDEX(E22:E41, SMALL(IF(ISNUMBER(SEARCH(\"JV1\",F22:F41)), ROW(F22:F41)-MIN(ROW(F22:F41))+1, \"\"), ROW() -21 )), \"\")","v":""},{"$f":"IFERROR(INDEX(B22:B41, SMALL(IF(ISNUMBER(SEARCH(\"JV2\",F22:F41)), ROW(F22:F41)-MIN(ROW(F22:F41))+1, \"\"), ROW() -21 )), \"\")","v":""},{"$f":"IFERROR(INDEX(C22:C41, SMALL(IF(ISNUMBER(SEARCH(\"JV2\",F22:F41)), ROW(F22:F41)-MIN(ROW(F22:F41))+1, \"\"), ROW() -21 )), \"\")","v":""},{"$f":"IFERROR(INDEX(D22:D41, SMALL(IF(ISNUMBER(SEARCH(\"JV2\",F22:F41)), ROW(F22:F41)-MIN(ROW(F22:F41))+1, \"\"), ROW() -21 )), \"\")","v":""},{"$f":"IFERROR(INDEX(E22:E41, SMALL(IF(ISNUMBER(SEARCH(\"JV2\",F22:F41)), ROW(F22:F41)-MIN(ROW(F22:F41))+1, \"\"), ROW() -21 )), \"\")","v":""}]
[null,"Baker University",null,"11-246267","Dillon Harris","V",null,3432.0,null,false,{"$nulls":17},{"$f":"IFERROR(INDEX(B22:B41, SMALL(IF(\"V\"=F22:F41, ROW(F22:F41)-MIN(ROW(F22:F41))+1, \"\"), ROW() -21 )), \"\")","v":"Baker University"},{"$f":"IFERROR(INDEX(C22:C41, SMALL(IF(\"V\"=F22:F41, ROW(F22:F41)-MIN(ROW(F22:F41))+1, \"\"), ROW() -21 )), \"\")","v":""},{"$f":"IFERROR(INDEX(D22:D41, SMALL(IF(\"V\"=F22:F41, ROW(F22:F41)-MIN(ROW(F22:F41))+1, \"\"), ROW() -21 )), \"\")","v":"11-607472"},{"$f":"IFERROR(INDEX(E22:E41, SMALL(IF(\"V\"=F22:F41, ROW(F22:F41)-MIN(ROW(F22:F41))+1, \"\"), ROW() -21 )), \"\")","v":"Trey Myers"},{"$f":"IFERROR(INDEX(B22:B41, SMALL(IF(ISNUMBER(SEARCH(\"JV1\",F22:F41)), ROW(F22:F41)-MIN(ROW(F22:F41))+1, \"\"), ROW() -21 )), \"\")","v":""},{"$f":"IFERROR(INDEX(C22:C41, SMALL(IF(ISNUMBER(SEARCH(\"JV1\",F22:F41)), ROW(F22:F41)-MIN(ROW(F22:F41))+1, \"\"), ROW() -21 )), \"\")","v":""},{"$f":"IFERROR(INDEX(D22:D41, SMALL(IF(ISNUMBER(SEARCH(\"JV1\",F22:F41)), ROW(F22:F41)-MIN(ROW(F22:F41))+1, \"\"), ROW() -21 )), \"\")","v":""},{"$f":"IFERROR(INDEX(E22:E41, SMALL(IF(ISNUMBER(SEARCH(\"JV1\",F22:F41)), ROW(F22:F41)-MIN(ROW(F22:F41))+1, \"\"), ROW() -21 )), \"\")","v":""},{"$f":"IFERROR(INDEX(B22:B41, SMALL(IF(ISNUMBER(SEARCH(\"JV2\",F22:F41)), ROW(F22:F41)-MIN(ROW(F22:F41))+1, \"\"), ROW() -21 )), \"\")","v":""},{"$f":"IFERROR(INDEX(C22:C41, SMALL(IF(ISNUMBER(SEARCH(\"JV2\",F22:F41)), ROW(F22:F41)-MIN(ROW(F22:F41))+1, \"\"), ROW() -21 )), \"\")","v":""},{"$f":"IFERROR(INDEX(D22:D41, SMALL(IF(ISNUMBER(SEARCH(\"JV2\",F22:F41)), ROW(F22:F41)-MIN(ROW(F22:F41))+1, \"\"), ROW() -21 )), \"\")","v":""},{"$f":"IFERROR(INDEX(E22:E41, SMALL(IF(ISNUMBER(SEARCH(\"JV2\",F22:F41)), ROW(F22:F41)-MIN(ROW(F22:F41))+1, \"\"), ROW() -21 )), \"\")","v":""}]
[null,"Baker University",null,"19-16894","Dylan McCall"," ",null,3432.0,null,false,{"$nulls":17},{"$f":"IFERROR(INDEX(B22:B41, SMALL(IF(\"V\"=F22:F41, ROW(F22:F41)-MIN(ROW(F22:F41))+1, \"\"), ROW() -21 )), \"\")","v":"Baker University"},{"$f":"IFERROR(INDEX(C22:C41, SMALL(IF(\"V\"=F22:F41, ROW(F22:F41)-MIN(ROW(F22:F41))+1, \"\"), ROW() -21 )), \"\")","v":""},{"$f":"IFERROR(INDEX(D22:D41, SMALL(IF(\"V\"=F22:F41, ROW(F22:F41)-MIN(ROW(F22:F41))+1, \"\"), ROW() -21 )), \"\")","v":"17-89549"},{"$f":"IFERROR(INDEX(E22:E41, SMALL(IF(\"V\"=F22:F41, ROW(F22:F41)-MIN(ROW(F22:F41))+1, \"\"), ROW() -21 )), \"\")","v":"Zachery Brehm"},{"$f":"IFERROR(INDEX(B22:B41, SMALL(IF(ISNUMBER(SEARCH(\"JV1\",F22:F41)), ROW(F22:F41)-MIN(ROW(F22:F41))+1, \"\"), ROW() -21 )), \"\")","v":""},{"$f":"IFERROR(INDEX(C22:C41, SMALL(IF(ISNUMBER(SEARCH(\"JV1\",F22:F41)), ROW(F22:F41)-MIN(ROW(F22:F41))+1, \"\"), ROW() -21 )), \"\")","v":""},{"$f":"IFERROR(INDEX(D22:D41, SMALL(IF(ISNUMBER(SEARCH(\"JV1\",F22:F41)), ROW(F22:F41)-MIN(ROW(F22:F41))+1, \"\"), ROW() -21 )), \"\")","v":""},{"$f":"IFERROR(INDEX(E22:E41, SMALL(IF(ISNUMBER(SEARCH(\"JV1\",F22:F41)), ROW(F22:F41)-MIN(ROW(F22:F41))+1, \"\"), ROW() -21 )), \"\")","v":""},{"$f":"IFERROR(INDEX(B22:B41, SMALL(IF(ISNUMBER(SEARCH(\"JV2\",F22:F41)), ROW(F22:F41)-MIN(ROW(F22:F41))+1, \"\"), ROW() -21 )), \"\")","v":""},{"$f":"IFERROR(INDEX(C22:C41, SMALL(IF(ISNUMBER(SEARCH(\"JV2\",F22:F41)), ROW(F22:F41)-MIN(ROW(F22:F41))+1, \"\"), ROW() -21 )), \"\")","v":""},{"$f":"IFERROR(INDEX(D22:D41, SMALL(IF(ISNUMBER(SEARCH(\"JV2\",F22:F41)), ROW(F22:F41)-MIN(ROW(F22:F41))+1, \"\"), ROW() -21 )), \"\")","v":""},{"$f":"IFERROR(INDEX(E22:E41, SMALL(IF(ISNUMBER(SEARCH(\"JV2\",F22:F41)), ROW(F22:F41)-MIN(ROW(F22:F41))+1, \"\"), ROW() -21 )), \"\")","v":""}]
[null,"Baker University",null,"16-161549","Joe Compton"," ",null,3432.0,null,false,{"$nulls":17},{"$f":"IFERROR(INDEX(B22:B41, SMALL(IF(\"V\"=F22:F41, ROW(F22:F41)-MIN(ROW(F22:F41))+1, \"\"), ROW() -21 )), \"\")","v":""},{"$f":"IFERROR(INDEX(C22:C41, SMALL(IF(\"V\"=F22:F41, ROW(F22:F41)-MIN(ROW(F22:F41))+1, \"\"), ROW() -21 )), \"\")","v":""},{"$f":"IFERROR(INDEX(D22:D41, SMALL(IF(\"V\"=F22:F41, ROW(F22:F41)-MIN(ROW(F22:F41))+1, \"\"), ROW() -21 )), \"\")","v":""},{"$f":"IFERROR(INDEX(E22:E41, SMALL(IF(\"V\"=F22:F41, ROW(F22:F41)-MIN(ROW(F22:F41))+1, \"\"), ROW() -21 )), \"\")","v":""},{"$f":"IFERROR(INDEX(B22:B41, SMALL(IF(ISNUMBER(SEARCH(\"JV1\",F22:F41)), ROW(F22:F41)-MIN(ROW(F22:F41))+1, \"\"), ROW() -21 )), \"\")","v":""},{"$f":"IFERROR(INDEX(C22:C41, SMALL(IF(ISNUMBER(SEARCH(\"JV1\",F22:F41)), ROW(F22:F41)-MIN(ROW(F22:F41))+1, \"\"), ROW() -21 )), \"\")","v":""},{"$f":"IFERROR(INDEX(D22:D41, SMALL(IF(ISNUMBER(SEARCH(\"JV1\",F22:F41)), ROW(F22:F41)-MIN(ROW(F22:F41))+1, \"\"), ROW() -21 )), \"\")","v":""},{"$f":"IFERROR(INDEX(E22:E41, SMALL(IF(ISNUMBER(SEARCH(\"JV1\",F22:F41)), ROW(F22:F41)-MIN(ROW(F22:F41))+1, \"\"), ROW() -21 )), \"\")","v":""},{"$f":"IFERROR(INDEX(B22:B41, SMALL(IF(ISNUMBER(SEARCH(\"JV2\",F22:F41)), ROW(F22:F41)-MIN(ROW(F22:F41))+1, \"\"), ROW() -21 )), \"\")","v":""},{"$f":"IFERROR(INDEX(C22:C41, SMALL(IF(ISNUMBER(SEARCH(\"JV2\",F22:F41)), ROW(F22:F41)-MIN(ROW(F22:F41))+1, \"\"), ROW() -21 )), \"\")","v":""},{"$f":"IFERROR(INDEX(D22:D41, SMALL(IF(ISNUMBER(SEARCH(\"JV2\",F22:F41)), ROW(F22:F41)-MIN(ROW(F22:F41))+1, \"\"), ROW() -21 )), \"\")","v":""},{"$f":"IFERROR(INDEX(E22:E41, SMALL(IF(ISNUMBER(SEARCH(\"JV2\",F22:F41)), ROW(F22:F41)-MIN(ROW(F22:F41))+1, \"\"), ROW() -21 )), \"\")","v":""}]
[null,"Baker University",null,"15-122488","Joseph Thomas"," ",null,3432.0,null,false]
[null,"Baker University",null,"18-43056","Josh King","V",null,3432.0,null,false]
[null,"Baker University",null,"15-175379","Joshua Wilson",null,null,3432.0,null,false]
[null,"Baker University",null,"18-50479","Ken Rowland"," ",null,3432.0,null,false]
[null,"Baker University",null,"18-98789","Landon Scott"," ",null,3432.0,null,false]
[null,"Baker University",null,"11-439937","Tanner Eckerle","V",null,3432.0,null,false]
[null,"Baker University",null,"20-33157","Tanner Lindquist",null,null,3432.0,null,false]
[null,"Baker University",null,"18-84159","Tanner Mcguire",null,null,3432.0,null,false]
[null,"Baker University",null,"21-56879","Taron Graham"," ",null,3432.0,null,false]
[null,"Baker University",null,"11-607472","Trey Myers","V",null,3432.0,null,false]
[null,"Baker University",null,"11-269312","Zach Reynolds"," ",null,3432.0,null,false]
[null,"Baker University",null,"17-89549","Zachery Brehm","V",null,3432.0,null,false]
[null,"Barton Community College",null,"19-16176","Aidan Vanmetre","JV1",null,4505.0,null,false,{"$nulls":17},{"$f":"IFERROR(INDEX(B42:B56, SMALL(IF(\"V\"=F42:F56, ROW(F42:F56)-MIN(ROW(F42:F56))+1, \"\"), ROW() -41 )), \"\")","v":"Barton Community College"},{"$f":"IFERROR(INDEX(C42:C56, SMALL(IF(\"V\"=F42:F56, ROW(F42:F56)-MIN(ROW(F42:F56))+1, \"\"), ROW() -41 )), \"\")","v":""},{"$f":"IFERROR(INDEX(D42:D56, SMALL(IF(\"V\"=F42:F56, ROW(F42:F56)-MIN(ROW(F42:F56))+1, \"\"), ROW() -41 )), \"\")","v":"17-15924"},{"$f":"IFERROR(INDEX(E42:E56, SMALL(IF(\"V\"=F42:F56, ROW(F42:F56)-MIN(ROW(F42:F56))+1, \"\"), ROW() -41 )), \"\")","v":"Braden Boswell"},{"$f":"IFERROR(INDEX(B42:B56, SMALL(IF(ISNUMBER(SEARCH(\"JV1\",F42:F56)), ROW(F42:F56)-MIN(ROW(F42:F56))+1, \"\"), ROW() -41 )), \"\")","v":"Barton Community College"},{"$f":"IFERROR(INDEX(C42:C56, SMALL(IF(ISNUMBER(SEARCH(\"JV1\",F42:F56)), ROW(F42:F56)-MIN(ROW(F42:F56))+1, \"\"), ROW() -41 )), \"\")","v":""},{"$f":"IFERROR(INDEX(D42:D56, SMALL(IF(ISNUMBER(SEARCH(\"JV1\",F42:F56)), ROW(F42:F56)-MIN(ROW(F42:F56))+1, \"\"), ROW() -41 )), \"\")","v":"19-16176"},{"$f":"IFERROR(INDEX(E42:E56, SMALL(IF(ISNUMBER(SEARCH(\"JV1\",F42:F56)), ROW(F42:F56)-MIN(ROW(F42:F56))+1, \"\"), ROW() -41 )), \"\")","v":"Aidan Vanmetre"},{"$f":"IFERROR(INDEX(B42:B56, SMALL(IF(ISNUMBER(SEARCH(\"JV2\",F42:F56)), ROW(F42:F56)-MIN(ROW(F42:F56))+1, \"\"), ROW() -41 )), \"\")","v":""},{"$f":"IFERROR(INDEX(C42:C56, SMALL(IF(ISNUMBER(SEARCH(\"JV2\",F42:F56)), ROW(F42:F56)-MIN(ROW(F42:F56))+1, \"\"), ROW() -41 )), \"\")","v":""},{"$f":"IFERROR(INDEX(D42:D56, SMALL(IF(ISNUMBER(SEARCH(\"JV2\",F42:F56)), ROW(F42:F56)-MIN(ROW(F42:F56))+1, \"\"), ROW() -41 )), \"\")","v":""},{"$f":"IFERROR(INDEX(E42:E56, SMALL(IF(ISNUMBER(SEARCH(\"JV2\",F42:F56)), ROW(F42:F56)-MIN(ROW(F42:F56))+1, \"\"), ROW() -41 )), \"\")","v":""}]
[null,"Barton Community College",null,"11-765034","Alexander Flinn","JV1",null,4505.0,null,false,{"$nulls":17},{"$f":"IFERROR(INDEX(B42:B56, SMALL(IF(\"V\"=F42:F56, ROW(F42:F56)-MIN(ROW(F42:F56))+1, \"\"), ROW() -41 )), \"\")","v":"Barton Community College"},{"$f":"IFERROR(INDEX(C42:C56, SMALL(IF(\"V\"=F42:F56, ROW(F42:F56)-MIN(ROW(F42:F56))+1, \"\"), ROW() -41 )), \"\")","v":""},{"$f":"IFERROR(INDEX(D42:D56, SMALL(IF(\"V\"=F42:F56, ROW(F42:F56)-MIN(ROW(F42:F56))+1, \"\"), ROW() -41 )), \"\")","v":"11-97260"},{"$f":"IFERROR(INDEX(E42:E56, SMALL(IF(\"V\"=F42:F56, ROW(F42:F56)-MIN(ROW(F42:F56))+1, \"\"), ROW() -41 )), \"\")","v":"Bryce Moore"},{"$f":"IFERROR(INDEX(B42:B56, SMALL(IF(ISNUMBER(SEARCH(\"JV1\",F42:F56)), ROW(F42:F56)-MIN(ROW(F42:F56))+1, \"\"), ROW() -41 )), \"\")","v":"Barton Community College"},{"$f":"IFERROR(INDEX(C42:C56, SMALL(IF(ISNUMBER(SEARCH(\"JV1\",F42:F56)), ROW(F42:F56)-MIN(ROW(F42:F56))+1, \"\"), ROW() -41 )), \"\")","v":""},{"$f":"IFERROR(INDEX(D42:D56, SMALL(IF(ISNUMBER(SEARCH(\"JV1\",F42:F56)), ROW(F42:F56)-MIN(ROW(F42:F56))+1, \"\"), ROW() -41 )), \"\")","v":"11-765034"},{"$f":"IFERROR(INDEX(E42:E56, SMALL(IF(ISNUMBER(SEARCH(\"JV1\",F42:F56)), ROW(F42:F56)-MIN(ROW(F42:F56))+1, \"\"), ROW() -41 )), \"\")","v":"Alexander Flinn"},{"$f":"IFERROR(INDEX(B42:B56, SMALL(IF(ISNUMBER(SEARCH(\"JV2\",F42:F56)), ROW(F42:F56)-MIN(ROW(F42:F56))+1, \"\"), ROW() -41 )), \"\")","v":""},{"$f":"IFERROR(INDEX(C42:C56, SMALL(IF(ISNUMBER(SEARCH(\"JV2\",F42:F56)), ROW(F42:F56)-MIN(ROW(F42:F56))+1, \"\"), ROW() -41 )), \"\")","v":""},{"$f":"IFERROR(INDEX(D42:D56, SMALL(IF(ISNUMBER(SEARCH(\"JV2\",F42:F56)), ROW(F42:F56)-MIN(ROW(F42:F56))+1, \"\"), ROW() -41 )), \"\")","v":""},{"$f":"IFERROR(INDEX(E42:E56, SMALL(IF(ISNUMBER(SEARCH(\"JV2\",F42:F56)), ROW(F42:F56)-MIN(ROW(F42:F56))+1, \"\"), ROW() -41 )), \"\")","v":""}]
[null,"Barton Community College",null,"17-15924","Braden Boswell","V",null,4505.0,null,false,{"$nulls":17},{"$f":"IFERROR(INDEX(B42:B56, SMALL(IF(\"V\"=F42:F56, ROW(F42:F56)-MIN(ROW(F42:F56))+1, \"\"), ROW() -41 )), \"\")","v":"Barton Community College"},{"$f":"IFERROR(INDEX(C42:C56, SMALL(IF(\"V\"=F42:F56, ROW(F42:F56)-MIN(ROW(F42:F56))+1, \"\"), ROW() -41 )), \"\")","v":""},{"$f":"IFERROR(INDEX(D42:D56, SMALL(IF(\"V\"=F42:F56, ROW(F42:F56)-MIN(ROW(F42:F56))+1, \"\"), ROW() -41 )), \"\")","v":"15-181271"},{"$f":"IFERROR(INDEX(E42:E56, SMALL(IF(\"V\"=F42:F56, ROW(F42:F56)-MIN(ROW(F42:F56))+1, \"\"), ROW() -41 )), \"\")","v":"Caleb Carr"},{"$f":"IFERROR(INDEX(B42:B56, SMALL(IF(ISNUMBER(SEARCH(\"JV1\",F42:F56)), ROW(F42:F56)-MIN(ROW(F42:F56))+1, \"\"), ROW() -41 )), \"\")","v":"Barton Community College"},{"$f":"IFERROR(INDEX(C42:C56, SMALL(IF(ISNUMBER(SEARCH(\"JV1\",F42:F56)), ROW(F42:F56)-MIN(ROW(F42:F56))+1, \"\"), ROW() -41 )), \"\")","v":""},{"$f":"IFERROR(INDEX(D42:D56, SMALL(IF(ISNUMBER(SEARCH(\"JV1\",F42:F56)), ROW(F42:F56)-MIN(ROW(F42:F56))+1, \"\"), ROW() -41 )), \"\")","v":"17-107341"},{"$f":"IFERROR(INDEX(E42:E56, SMALL(IF(ISNUMBER(SEARCH(\"JV1\",F42:F56)), ROW(F42:F56)-MIN(ROW(F42:F56))+1, \"\"), ROW() -41 )), \"\")","v":"Cale McConncell"},{"$f":"IFERROR(INDEX(B42:B56, SMALL(IF(ISNUMBER(SEARCH(\"JV2\",F42:F56)), ROW(F42:F56)-MIN(ROW(F42:F56))+1, \"\"), ROW() -41 )), \"\")","v":""},{"$f":"IFERROR(INDEX(C42:C56, SMALL(IF(ISNUMBER(SEARCH(\"JV2\",F42:F56)), ROW(F42:F56)-MIN(ROW(F42:F56))+1, \"\"), ROW() -41 )), \"\")","v":""},{"$f":"IFERROR(INDEX(D42:D56, SMALL(IF(ISNUMBER(SEARCH(\"JV2\",F42:F56)), ROW(F42:F56)-MIN(ROW(F42:F56))+1, \"\"), ROW() -41 )), \"\")","v":""},{"$f":"IFERROR(INDEX(E42:E56, SMALL(IF(ISNUMBER(SEARCH(\"JV2\",F42:F56)), ROW(F42:F56)-MIN(ROW(F42:F56))+1, \"\"), ROW() -41 )), \"\")","v":""}]
[null,"Barton Community College",null,"11-97260","Bryce Moore","V",null,4505.0,null,false,{"$nulls":17},{"$f":"IFERROR(INDEX(B42:B56, SMALL(IF(\"V\"=F42:F56, ROW(F42:F56)-MIN(ROW(F42:F56))+1, \"\"), ROW() -41 )), \"\")","v":"Barton Community College"},{"$f":"IFERROR(INDEX(C42:C56, SMALL(IF(\"V\"=F42:F56, ROW(F42:F56)-MIN(ROW(F42:F56))+1, \"\"), ROW() -41 )), \"\")","v":""},{"$f":"IFERROR(INDEX(D42:D56, SMALL(IF(\"V\"=F42:F56, ROW(F42:F56)-MIN(ROW(F42:F56))+1, \"\"), ROW() -41 )), \"\")","v":"20-298"},{"$f":"IFERROR(INDEX(E42:E56, SMALL(IF(\"V\"=F42:F56, ROW(F42:F56)-MIN(ROW(F42:F56))+1, \"\"), ROW() -41 )), \"\")","v":"Conner Eastman"},{"$f":"IFERROR(INDEX(B42:B56, SMALL(IF(ISNUMBER(SEARCH(\"JV1\",F42:F56)), ROW(F42:F56)-MIN(ROW(F42:F56))+1, \"\"), ROW() -41 )), \"\")","v":"Barton Community College"},{"$f":"IFERROR(INDEX(C42:C56, SMALL(IF(ISNUMBER(SEARCH(\"JV1\",F42:F56)), ROW(F42:F56)-MIN(ROW(F42:F56))+1, \"\"), ROW() -41 )), \"\")","v":""},{"$f":"IFERROR(INDEX(D42:D56, SMALL(IF(ISNUMBER(SEARCH(\"JV1\",F42:F56)), ROW(F42:F56)-MIN(ROW(F42:F56))+1, \"\"), ROW() -41 )), \"\")","v":"18-7262"},{"$f":"IFERROR(INDEX(E42:E56, SMALL(IF(ISNUMBER(SEARCH(\"JV1\",F42:F56)), ROW(F42:F56)-MIN(ROW(F42:F56))+1, \"\"), ROW() -41 )), \"\")","v":"Caleb Murphy"},{"$f":"IFERROR(INDEX(B42:B56, SMALL(IF(ISNUMBER(SEARCH(\"JV2\",F42:F56)), ROW(F42:F56)-MIN(ROW(F42:F56))+1, \"\"), ROW() -41 )), \"\")","v":""},{"$f":"IFERROR(INDEX(C42:C56, SMALL(IF(ISNUMBER(SEARCH(\"JV2\",F42:F56)), ROW(F42:F56)-MIN(ROW(F42:F56))+1, \"\"), ROW() -41 )), \"\")","v":""},{"$f":"IFERROR(INDEX(D42:D56, SMALL(IF(ISNUMBER(SEARCH(\"JV2\",F42:F56)), ROW(F42:F56)-MIN(ROW(F42:F56))+1, \"\"), ROW() -41 )), \"\")","v":""},{"$f":"IFERROR(INDEX(E42:E56, SMALL(IF(ISNUMBER(SEARCH(\"JV2\",F42:F56)), ROW(F42:F56)-MIN(ROW(F42:F56))+1, \"\"), ROW() -41 )), \"\")","v":""}]
[null,"Barton Community College",null,"17-107341","Cale McConncell","JV1",null,4505.0,null,false,{"$nulls":17},{"$f":"IFERROR(INDEX(B42:B56, SMALL(IF(\"V\"=F42:F56, ROW(F42:F56)-MIN(ROW(F42:F56))+1, \"\"), ROW() -41 )), \"\")","v":"Barton Community College"},{"$f":"IFERROR(INDEX(C42:C56, SMALL(IF(\"V\"=F42:F56, ROW(F42:F56)-MIN(ROW(F42:F56))+1, \"\"), ROW() -41 )), \"\")","v":""},{"$f":"IFERROR(INDEX(D42:D56, SMALL(IF(\"V\"=F42:F56, ROW(F42:F56)-MIN(ROW(F42:F56))+1, \"\"), ROW() -41 )), \"\")","v":"16-165419"},{"$f":"IFERROR(INDEX(E42:E56, SMALL(IF(\"V\"=F42:F56, ROW(F42:F56)-MIN(ROW(F42:F56))+1, \"\"), ROW() -41 )), \"\")","v":"Griffin Peterson"},{"$f":"IFERROR(INDEX(B42:B56, SMALL(IF(ISNUMBER(SEARCH(\"JV1\",F42:F56)), ROW(F42:F56)-MIN(ROW(F42:F56))+1, \"\"), ROW() -41 )), \"\")","v":"Barton Community College"},{"$f":"IFERROR(INDEX(C42:C56, SMALL(IF(ISNUMBER(SEARCH(\"JV1\",F42:F56)), ROW(F42:F56)-MIN(ROW(F42:F56))+1, \"\"), ROW() -41 )), \"\")","v":""},{"$f":"IFERROR(INDEX(D42:D56, SMALL(IF(ISNUMBER(SEARCH(\"JV1\",F42:F56)), ROW(F42:F56)-MIN(ROW(F42:F56))+1, \"\"), ROW() -41 )), \"\")","v":"5900-26169"},{"$f":"IFERROR(INDEX(E42:E56, SMALL(IF(ISNUMBER(SEARCH(\"JV1\",F42:F56)), ROW(F42:F56)-MIN(ROW(F42:F56))+1, \"\"), ROW() -41 )), \"\")","v":"Chaz Smith"},{"$f":"IFERROR(INDEX(B42:B56, SMALL(IF(ISNUMBER(SEARCH(\"JV2\",F42:F56)), ROW(F42:F56)-MIN(ROW(F42:F56))+1, \"\"), ROW() -41 )), \"\")","v":""},{"$f":"IFERROR(INDEX(C42:C56, SMALL(IF(ISNUMBER(SEARCH(\"JV2\",F42:F56)), ROW(F42:F56)-MIN(ROW(F42:F56))+1, \"\"), ROW() -41 )), \"\")","v":""},{"$f":"IFERROR(INDEX(D42:D56, SMALL(IF(ISNUMBER(SEARCH(\"JV2\",F42:F56)), ROW(F42:F56)-MIN(ROW(F42:F56))+1, \"\"), ROW() -41 )), \"\")","v":""},{"$f":"IFERROR(INDEX(E42:E56, SMALL(IF(ISNUMBER(SEARCH(\"JV2\",F42:F56)), ROW(F42:F56)-MIN(ROW(F42:F56))+1, \"\"), ROW() -41 )), \"\")","v":""}]
[null,"Barton Community College",null,"15-181271","Caleb Carr","V",null,4505.0,null,false,{"$nulls":17},{"$f":"IFERROR(INDEX(B42:B56, SMALL(IF(\"V\"=F42:F56, ROW(F42:F56)-MIN(ROW(F42:F56))+1, \"\"), ROW() -41 )), \"\")","v":"Barton Community College"},{"$f":"IFERROR(INDEX(C42:C56, SMALL(IF(\"V\"=F42:F56, ROW(F42:F56)-MIN(ROW(F42:F56))+1, \"\"), ROW() -41 )), \"\")","v":""},{"$f":"IFERROR(INDEX(D42:D56, SMALL(IF(\"V\"=F42:F56, ROW(F42:F56)-MIN(ROW(F42:F56))+1, \"\"), ROW() -41 )), \"\")","v":"22-2676"},{"$f":"IFERROR(INDEX(E42:E56, SMALL(IF(\"V\"=F42:F56, ROW(F42:F56)-MIN(ROW(F42:F56))+1, \"\"), ROW() -41 )), \"\")","v":"Oscar Rubio"},{"$f":"IFERROR(INDEX(B42:B56, SMALL(IF(ISNUMBER(SEARCH(\"JV1\",F42:F56)), ROW(F42:F56)-MIN(ROW(F42:F56))+1, \"\"), ROW() -41 )), \"\")","v":"Barton Community College"},{"$f":"IFERROR(INDEX(C42:C56, SMALL(IF(ISNUMBER(SEARCH(\"JV1\",F42:F56)), ROW(F42:F56)-MIN(ROW(F42:F56))+1, \"\"), ROW() -41 )), \"\")","v":""},{"$f":"IFERROR(INDEX(D42:D56, SMALL(IF(ISNUMBER(SEARCH(\"JV1\",F42:F56)), ROW(F42:F56)-MIN(ROW(F42:F56))+1, \"\"), ROW() -41 )), \"\")","v":"11-59176"},{"$f":"IFERROR(INDEX(E42:E56, SMALL(IF(ISNUMBER(SEARCH(\"JV1\",F42:F56)), ROW(F42:F56)-MIN(ROW(F42:F56))+1, \"\"), ROW() -41 )), \"\")","v":"Cooper Clumsky"},{"$f":"IFERROR(INDEX(B42:B56, SMALL(IF(ISNUMBER(SEARCH(\"JV2\",F42:F56)), ROW(F42:F56)-MIN(ROW(F42:F56))+1, \"\"), ROW() -41 )), \"\")","v":""},{"$f":"IFERROR(INDEX(C42:C56, SMALL(IF(ISNUMBER(SEARCH(\"JV2\",F42:F56)), ROW(F42:F56)-MIN(ROW(F42:F56))+1, \"\"), ROW() -41 )), \"\")","v":""},{"$f":"IFERROR(INDEX(D42:D56, SMALL(IF(ISNUMBER(SEARCH(\"JV2\",F42:F56)), ROW(F42:F56)-MIN(ROW(F42:F56))+1, \"\"), ROW() -41 )), \"\")","v":""},{"$f":"IFERROR(INDEX(E42:E56, SMALL(IF(ISNUMBER(SEARCH(\"JV2\",F42:F56)), ROW(F42:F56)-MIN(ROW(F42:F56))+1, \"\"), ROW() -41 )), \"\")","v":""}]
[null,"Barton Community College",null,"18-7262","Caleb Murphy","JV1",null,4505.0,null,false,{"$nulls":17},{"$f":"IFERROR(INDEX(B42:B56, SMALL(IF(\"V\"=F42:F56, ROW(F42:F56)-MIN(ROW(F42:F56))+1, \"\"), ROW() -41 )), \"\")","v":"Barton Community College"},{"$f":"IFERROR(INDEX(C42:C56, SMALL(IF(\"V\"=F42:F56, ROW(F42:F56)-MIN(ROW(F42:F56))+1, \"\"), ROW() -41 )), \"\")","v":""},{"$f":"IFERROR(INDEX(D42:D56, SMALL(IF(\"V\"=F42:F56, ROW(F42:F56)-MIN(ROW(F42:F56))+1, \"\"), ROW() -41 )), \"\")","v":"19-4539"},{"$f":"IFERROR(INDEX(E42:E56, SMALL(IF(\"V\"=F42:F56, ROW(F42:F56)-MIN(ROW(F42:F56))+1, \"\"), ROW() -41 )), \"\")","v":"V-Thoon Thanasouk"},{"$f":"IFERROR(INDEX(B42:B56, SMALL(IF(ISNUMBER(SEARCH(\"JV1\",F42:F56)), ROW(F42:F56)-MIN(ROW(F42:F56))+1, \"\"), ROW() -41 )), \"\")","v":"Barton Community College"},{"$f":"IFERROR(INDEX(C42:C56, SMALL(IF(ISNUMBER(SEARCH(\"JV1\",F42:F56)), ROW(F42:F56)-MIN(ROW(F42:F56))+1, \"\"), ROW() -41 )), \"\")","v":""},{"$f":"IFERROR(INDEX(D42:D56, SMALL(IF(ISNUMBER(SEARCH(\"JV1\",F42:F56)), ROW(F42:F56)-MIN(ROW(F42:F56))+1, \"\"), ROW() -41 )), \"\")","v":"19-11824"},{"$f":"IFERROR(INDEX(E42:E56, SMALL(IF(ISNUMBER(SEARCH(\"JV1\",F42:F56)), ROW(F42:F56)-MIN(ROW(F42:F56))+1, \"\"), ROW() -41 )), \"\")","v":"Cooper Holloway"},{"$f":"IFERROR(INDEX(B42:B56, SMALL(IF(ISNUMBER(SEARCH(\"JV2\",F42:F56)), ROW(F42:F56)-MIN(ROW(F42:F56))+1, \"\"), ROW() -41 )), \"\")","v":""},{"$f":"IFERROR(INDEX(C42:C56, SMALL(IF(ISNUMBER(SEARCH(\"JV2\",F42:F56)), ROW(F42:F56)-MIN(ROW(F42:F56))+1, \"\"), ROW() -41 )), \"\")","v":""},{"$f":"IFERROR(INDEX(D42:D56, SMALL(IF(ISNUMBER(SEARCH(\"JV2\",F42:F56)), ROW(F42:F56)-MIN(ROW(F42:F56))+1, \"\"), ROW() -41 )), \"\")","v":""},{"$f":"IFERROR(INDEX(E42:E56, SMALL(IF(ISNUMBER(SEARCH(\"JV2\",F42:F56)), ROW(F42:F56)-MIN(ROW(F42:F56))+1, \"\"), ROW() -41 )), \"\")","v":""}]
[null,"Barton Community College",null,"5900-26169","Chaz Smith","JV1",null,4505.0,null,false,{"$nulls":17},{"$f":"IFERROR(INDEX(B42:B56, SMALL(IF(\"V\"=F42:F56, ROW(F42:F56)-MIN(ROW(F42:F56))+1, \"\"), ROW() -41 )), \"\")","v":""},{"$f":"IFERROR(INDEX(C42:C56, SMALL(IF(\"V\"=F42:F56, ROW(F42:F56)-MIN(ROW(F42:F56))+1, \"\"), ROW() -41 )), \"\")","v":""},{"$f":"IFERROR(INDEX(D42:D56, SMALL(IF(\"V\"=F42:F56, ROW(F42:F56)-MIN(ROW(F42:F56))+1, \"\"), ROW() -41 )), \"\")","v":""},{"$f":"IFERROR(INDEX(E42:E56, SMALL(IF(\"V\"=F42:F56, ROW(F42:F56)-MIN(ROW(F42:F56))+1, \"\"), ROW() -41 )), \"\")","v":""},{"$f":"IFERROR(INDEX(B42:B56, SMALL(IF(ISNUMBER(SEARCH(\"JV1\",F42:F56)), ROW(F42:F56)-MIN(ROW(F42:F56))+1, \"\"), ROW() -41 )), \"\")","v":"Barton Community College"},{"$f":"IFERROR(INDEX(C42:C56, SMALL(IF(ISNUMBER(SEARCH(\"JV1\",F42:F56)), ROW(F42:F56)-MIN(ROW(F42:F56))+1, \"\"), ROW() -41 )), \"\")","v":""},{"$f":"IFERROR(INDEX(D42:D56, SMALL(IF(ISNUMBER(SEARCH(\"JV1\",F42:F56)), ROW(F42:F56)-MIN(ROW(F42:F56))+1, \"\"), ROW() -41 )), \"\")","v":"20-45947"},{"$f":"IFERROR(INDEX(E42:E56, SMALL(IF(ISNUMBER(SEARCH(\"JV1\",F42:F56)), ROW(F42:F56)-MIN(ROW(F42:F56))+1, \"\"), ROW() -41 )), \"\")","v":"Jared McQuilliam"},{"$f":"IFERROR(INDEX(B42:B56, SMALL(IF(ISNUMBER(SEARCH(\"JV2\",F42:F56)), ROW(F42:F56)-MIN(ROW(F42:F56))+1, \"\"), ROW() -41 )), \"\")","v":""},{"$f":"IFERROR(INDEX(C42:C56, SMALL(IF(ISNUMBER(SEARCH(\"JV2\",F42:F56)), ROW(F42:F56)-MIN(ROW(F42:F56))+1, \"\"), ROW() -41 )), \"\")","v":""},{"$f":"IFERROR(INDEX(D42:D56, SMALL(IF(ISNUMBER(SEARCH(\"JV2\",F42:F56)), ROW(F42:F56)-MIN(ROW(F42:F56))+1, \"\"), ROW() -41 )), \"\")","v":""},{"$f":"IFERROR(INDEX(E42:E56, SMALL(IF(ISNUMBER(SEARCH(\"JV2\",F42:F56)), ROW(F42:F56)-MIN(ROW(F42:F56))+1, \"\"), ROW() -41 )), \"\")","v":""}]
[null,"Barton Community College",null,"20-298","Conner Eastman","V",null,4505.0,null,false]
[null,"Barton Community College",null,"11-59176","Cooper Clumsky","JV1",null,4505.0,null,false]
[null,"Barton Community College",null,"19-11824","Cooper Holloway","JV1",null,4505.0,null,false]
[null,"Barton Community College",null,"16-165419","Griffin Peterson","V",null,4505.0,null,false]
[null,"Barton Community College",null,"20-45947","Jared McQuilliam","JV1",null,4505.0,null,false]
[null,"Barton Community College",null,"22-2676","Oscar Rubio","V",null,4505.0,null,false]
[null,"Barton Community College",null,"19-4539","V-Thoon Thanasouk","V",null,4505.0,null,false]
[null,"Coe College",null,"16-25815","Alex DuFour","V",null,4520.0,null,false,{"$nulls":17},{"$f":"IFERROR(INDEX(B57:B67, SMALL(IF(\"V\"=F57:F67, ROW(F57:F67)-MIN(ROW(F57:F67))+1, \"\"), ROW() -56 )), \"\")","v":"Coe College"},{"$f":"IFERROR(INDEX(C57:C67, SMALL(IF(\"V\"=F57:F67, ROW(F57:F67)-MIN(ROW(F57:F67))+1, \"\"), ROW() -56 )), \"\")","v":""},{"$f":"IFERROR(INDEX(D57:D67, SMALL(IF(\"V\"=F57:F67, ROW(F57:F67)-MIN(ROW(F57:F67))+1, \"\"), ROW() -56 )), \"\")","v":"16-25815"},{"$f":"IFERROR(INDEX(E57:E67, SMALL(IF(\"V\"=F57:F67, ROW(F57:F67)-MIN(ROW(F57:F67))+1, \"\"), ROW() -56 )), \"\")","v":"Alex DuFour"},{"$f":"IFERROR(INDEX(B57:B67, SMALL(IF(ISNUMBER(SEARCH(\"JV1\",F57:F67)), ROW(F57:F67)-MIN(ROW(F57:F67))+1, \"\"), ROW() -56 )), \"\")","v":""},{"$f":"IFERROR(INDEX(C57:C67, SMALL(IF(ISNUMBER(SEARCH(\"JV1\",F57:F67)), ROW(F57:F67)-MIN(ROW(F57:F67))+1, \"\"), ROW() -56 )), \"\")","v":""},{"$f":"IFERROR(INDEX(D57:D67, SMALL(IF(ISNUMBER(SEARCH(\"JV1\",F57:F67)), ROW(F57:F67)-MIN(ROW(F57:F67))+1, \"\"), ROW() -56 )), \"\")","v":""},{"$f":"IFERROR(INDEX(E57:E67, SMALL(IF(ISNUMBER(SEARCH(\"JV1\",F57:F67)), ROW(F57:F67)-MIN(ROW(F57:F67))+1, \"\"), ROW() -56 )), \"\")","v":""},{"$f":"IFERROR(INDEX(B57:B67, SMALL(IF(ISNUMBER(SEARCH(\"JV2\",F57:F67)), ROW(F57:F67)-MIN(ROW(F57:F67))+1, \"\"), ROW() -56 )), \"\")","v":""},{"$f":"IFERROR(INDEX(C57:C67, SMALL(IF(ISNUMBER(SEARCH(\"JV2\",F57:F67)), ROW(F57:F67)-MIN(ROW(F57:F67))+1, \"\"), ROW() -56 )), \"\")","v":""},{"$f":"IFERROR(INDEX(D57:D67, SMALL(IF(ISNUMBER(SEARCH(\"JV2\",F57:F67)), ROW(F57:F67)-MIN(ROW(F57:F67))+1, \"\"), ROW() -56 )), \"\")","v":""},{"$f":"IFERROR(INDEX(E57:E67, SMALL(IF(ISNUMBER(SEARCH(\"JV2\",F57:F67)), ROW(F57:F67)-MIN(ROW(F57:F67))+1, \"\"), ROW() -56 )), \"\")","v":""}]
[null,"Coe College",null,"8162-47186","Alexander Thoele"," ",null,4520.0,null,false,{"$nulls":17},{"$f":"IFERROR(INDEX(B57:B67, SMALL(IF(\"V\"=F57:F67, ROW(F57:F67)-MIN(ROW(F57:F67))+1, \"\"), ROW() -56 )), \"\")","v":"Coe College"},{"$f":"IFERROR(INDEX(C57:C67, SMALL(IF(\"V\"=F57:F67, ROW(F57:F67)-MIN(ROW(F57:F67))+1, \"\"), ROW() -56 )), \"\")","v":""},{"$f":"IFERROR(INDEX(D57:D67, SMALL(IF(\"V\"=F57:F67, ROW(F57:F67)-MIN(ROW(F57:F67))+1, \"\"), ROW() -56 )), \"\")","v":"22-2807"},{"$f":"IFERROR(INDEX(E57:E67, SMALL(IF(\"V\"=F57:F67, ROW(F57:F67)-MIN(ROW(F57:F67))+1, \"\"), ROW() -56 )), \"\")","v":"Braden Smith"},{"$f":"IFERROR(INDEX(B57:B67, SMALL(IF(ISNUMBER(SEARCH(\"JV1\",F57:F67)), ROW(F57:F67)-MIN(ROW(F57:F67))+1, \"\"), ROW() -56 )), \"\")","v":""},{"$f":"IFERROR(INDEX(C57:C67, SMALL(IF(ISNUMBER(SEARCH(\"JV1\",F57:F67)), ROW(F57:F67)-MIN(ROW(F57:F67))+1, \"\"), ROW() -56 )), \"\")","v":""},{"$f":"IFERROR(INDEX(D57:D67, SMALL(IF(ISNUMBER(SEARCH(\"JV1\",F57:F67)), ROW(F57:F67)-MIN(ROW(F57:F67))+1, \"\"), ROW() -56 )), \"\")","v":""},{"$f":"IFERROR(INDEX(E57:E67, SMALL(IF(ISNUMBER(SEARCH(\"JV1\",F57:F67)), ROW(F57:F67)-MIN(ROW(F57:F67))+1, \"\"), ROW() -56 )), \"\")","v":""},{"$f":"IFERROR(INDEX(B57:B67, SMALL(IF(ISNUMBER(SEARCH(\"JV2\",F57:F67)), ROW(F57:F67)-MIN(ROW(F57:F67))+1, \"\"), ROW() -56 )), \"\")","v":""},{"$f":"IFERROR(INDEX(C57:C67, SMALL(IF(ISNUMBER(SEARCH(\"JV2\",F57:F67)), ROW(F57:F67)-MIN(ROW(F57:F67))+1, \"\"), ROW() -56 )), \"\")","v":""},{"$f":"IFERROR(INDEX(D57:D67, SMALL(IF(ISNUMBER(SEARCH(\"JV2\",F57:F67)), ROW(F57:F67)-MIN(ROW(F57:F67))+1, \"\"), ROW() -56 )), \"\")","v":""},{"$f":"IFERROR(INDEX(E57:E67, SMALL(IF(ISNUMBER(SEARCH(\"JV2\",F57:F67)), ROW(F57:F67)-MIN(ROW(F57:F67))+1, \"\"), ROW() -56 )), \"\")","v":""}]
[null,"Coe College",null,"22-2808","Blake Kilker"," ",null,4520.0,null,false,{"$nulls":17},{"$f":"IFERROR(INDEX(B57:B67, SMALL(IF(\"V\"=F57:F67, ROW(F57:F67)-MIN(ROW(F57:F67))+1, \"\"), ROW() -56 )), \"\")","v":"Coe College"},{"$f":"IFERROR(INDEX(C57:C67, SMALL(IF(\"V\"=F57:F67, ROW(F57:F67)-MIN(ROW(F57:F67))+1, \"\"), ROW() -56 )), \"\")","v":""},{"$f":"IFERROR(INDEX(D57:D67, SMALL(IF(\"V\"=F57:F67, ROW(F57:F67)-MIN(ROW(F57:F67))+1, \"\"), ROW() -56 )), \"\")","v":"11-464684"},{"$f":"IFERROR(INDEX(E57:E67, SMALL(IF(\"V\"=F57:F67, ROW(F57:F67)-MIN(ROW(F57:F67))+1, \"\"), ROW() -56 )), \"\")","v":"Bryce Cady"},{"$f":"IFERROR(INDEX(B57:B67, SMALL(IF(ISNUMBER(SEARCH(\"JV1\",F57:F67)), ROW(F57:F67)-MIN(ROW(F57:F67))+1, \"\"), ROW() -56 )), \"\")","v":""},{"$f":"IFERROR(INDEX(C57:C67, SMALL(IF(ISNUMBER(SEARCH(\"JV1\",F57:F67)), ROW(F57:F67)-MIN(ROW(F57:F67))+1, \"\"), ROW() -56 )), \"\")","v":""},{"$f":"IFERROR(INDEX(D57:D67, SMALL(IF(ISNUMBER(SEARCH(\"JV1\",F57:F67)), ROW(F57:F67)-MIN(ROW(F57:F67))+1, \"\"), ROW() -56 )), \"\")","v":""},{"$f":"IFERROR(INDEX(E57:E67, SMALL(IF(ISNUMBER(SEARCH(\"JV1\",F57:F67)), ROW(F57:F67)-MIN(ROW(F57:F67))+1, \"\"), ROW() -56 )), \"\")","v":""},{"$f":"IFERROR(INDEX(B57:B67, SMALL(IF(ISNUMBER(SEARCH(\"JV2\",F57:F67)), ROW(F57:F67)-MIN(ROW(F57:F67))+1, \"\"), ROW() -56 )), \"\")","v":""},{"$f":"IFERROR(INDEX(C57:C67, SMALL(IF(ISNUMBER(SEARCH(\"JV2\",F57:F67)), ROW(F57:F67)-MIN(ROW(F57:F67))+1, \"\"), ROW() -56 )), \"\")","v":""},{"$f":"IFERROR(INDEX(D57:D67, SMALL(IF(ISNUMBER(SEARCH(\"JV2\",F57:F67)), ROW(F57:F67)-MIN(ROW(F57:F67))+1, \"\"), ROW() -56 )), \"\")","v":""},{"$f":"IFERROR(INDEX(E57:E67, SMALL(IF(ISNUMBER(SEARCH(\"JV2\",F57:F67)), ROW(F57:F67)-MIN(ROW(F57:F67))+1, \"\"), ROW() -56 )), \"\")","v":""}]
[null,"Coe College",null,"22-2807","Braden Smith","V",null,4520.0,null,false,{"$nulls":17},{"$f":"IFERROR(INDEX(B57:B67, SMALL(IF(\"V\"=F57:F67, ROW(F57:F67)-MIN(ROW(F57:F67))+1, \"\"), ROW() -56 )), \"\")","v":"Coe College"},{"$f":"IFERROR(INDEX(C57:C67, SMALL(IF(\"V\"=F57:F67, ROW(F57:F67)-MIN(ROW(F57:F67))+1, \"\"), ROW() -56 )), \"\")","v":""},{"$f":"IFERROR(INDEX(D57:D67, SMALL(IF(\"V\"=F57:F67, ROW(F57:F67)-MIN(ROW(F57:F67))+1, \"\"), ROW() -56 )), \"\")","v":"5816-1477"},{"$f":"IFERROR(INDEX(E57:E67, SMALL(IF(\"V\"=F57:F67, ROW(F57:F67)-MIN(ROW(F57:F67))+1, \"\"), ROW() -56 )), \"\")","v":"Dakota Harris"},{"$f":"IFERROR(INDEX(B57:B67, SMALL(IF(ISNUMBER(SEARCH(\"JV1\",F57:F67)), ROW(F57:F67)-MIN(ROW(F57:F67))+1, \"\"), ROW() -56 )), \"\")","v":""},{"$f":"IFERROR(INDEX(C57:C67, SMALL(IF(ISNUMBER(SEARCH(\"JV1\",F57:F67)), ROW(F57:F67)-MIN(ROW(F57:F67))+1, \"\"), ROW() -56 )), \"\")","v":""},{"$f":"IFERROR(INDEX(D57:D67, SMALL(IF(ISNUMBER(SEARCH(\"JV1\",F57:F67)), ROW(F57:F67)-MIN(ROW(F57:F67))+1, \"\"), ROW() -56 )), \"\")","v":""},{"$f":"IFERROR(INDEX(E57:E67, SMALL(IF(ISNUMBER(SEARCH(\"JV1\",F57:F67)), ROW(F57:F67)-MIN(ROW(F57:F67))+1, \"\"), ROW() -56 )), \"\")","v":""},{"$f":"IFERROR(INDEX(B57:B67, SMALL(IF(ISNUMBER(SEARCH(\"JV2\",F57:F67)), ROW(F57:F67)-MIN(ROW(F57:F67))+1, \"\"), ROW() -56 )), \"\")","v":""},{"$f":"IFERROR(INDEX(C57:C67, SMALL(IF(ISNUMBER(SEARCH(\"JV2\",F57:F67)), ROW(F57:F67)-MIN(ROW(F57:F67))+1, \"\"), ROW() -56 )), \"\")","v":""},{"$f":"IFERROR(INDEX(D57:D67, SMALL(IF(ISNUMBER(SEARCH(\"JV2\",F57:F67)), ROW(F57:F67)-MIN(ROW(F57:F67))+1, \"\"), ROW() -56 )), \"\")","v":""},{"$f":"IFERROR(INDEX(E57:E67, SMALL(IF(ISNUMBER(SEARCH(\"JV2\",F57:F67)), ROW(F57:F67)-MIN(ROW(F57:F67))+1, \"\"), ROW() -56 )), \"\")","v":""}]
[null,"Coe College",null,"11-464684","Bryce Cady","V",null,4520.0,null,false,{"$nulls":17},{"$f":"IFERROR(INDEX(B57:B67, SMALL(IF(\"V\"=F57:F67, ROW(F57:F67)-MIN(ROW(F57:F67))+1, \"\"), ROW() -56 )), \"\")","v":"Coe College"},{"$f":"IFERROR(INDEX(C57:C67, SMALL(IF(\"V\"=F57:F67, ROW(F57:F67)-MIN(ROW(F57:F67))+1, \"\"), ROW() -56 )), \"\")","v":""},{"$f":"IFERROR(INDEX(D57:D67, SMALL(IF(\"V\"=F57:F67, ROW(F57:F67)-MIN(ROW(F57:F67))+1, \"\"), ROW() -56 )), \"\")","v":"21-4165"},{"$f":"IFERROR(INDEX(E57:E67, SMALL(IF(\"V\"=F57:F67, ROW(F57:F67)-MIN(ROW(F57:F67))+1, \"\"), ROW() -56 )), \"\")","v":"Ian Tibbott"},{"$f":"IFERROR(INDEX(B57:B67, SMALL(IF(ISNUMBER(SEARCH(\"JV1\",F57:F67)), ROW(F57:F67)-MIN(ROW(F57:F67))+1, \"\"), ROW() -56 )), \"\")","v":""},{"$f":"IFERROR(INDEX(C57:C67, SMALL(IF(ISNUMBER(SEARCH(\"JV1\",F57:F67)), ROW(F57:F67)-MIN(ROW(F57:F67))+1, \"\"), ROW() -56 )), \"\")","v":""},{"$f":"IFERROR(INDEX(D57:D67, SMALL(IF(ISNUMBER(SEARCH(\"JV1\",F57:F67)), ROW(F57:F67)-MIN(ROW(F57:F67))+1, \"\"), ROW() -56 )), \"\")","v":""},{"$f":"IFERROR(INDEX(E57:E67, SMALL(IF(ISNUMBER(SEARCH(\"JV1\",F57:F67)), ROW(F57:F67)-MIN(ROW(F57:F67))+1, \"\"), ROW() -56 )), \"\")","v":""},{"$f":"IFERROR(INDEX(B57:B67, SMALL(IF(ISNUMBER(SEARCH(\"JV2\",F57:F67)), ROW(F57:F67)-MIN(ROW(F57:F67))+1, \"\"), ROW() -56 )), \"\")","v":""},{"$f":"IFERROR(INDEX(C57:C67, SMALL(IF(ISNUMBER(SEARCH(\"JV2\",F57:F67)), ROW(F57:F67)-MIN(ROW(F57:F67))+1, \"\"), ROW() -56 )), \"\")","v":""},{"$f":"IFERROR(INDEX(D57:D67, SMALL(IF(ISNUMBER(SEARCH(\"JV2\",F57:F67)), ROW(F57:F67)-MIN(ROW(F57:F67))+1, \"\"), ROW() -56 )), \"\")","v":""},{"$f":"IFERROR(INDEX(E57:E67, SMALL(IF(ISNUMBER(SEARCH(\"JV2\",F57:F67)), ROW(F57:F67)-MIN(ROW(F57:F67))+1, \"\"), ROW() -56 )), \"\")","v":""}]
[null,"Coe College",null,"5816-1477","Dakota Harris","V",null,4520.0,null,false,{"$nulls":17},{"$f":"IFERROR(INDEX(B57:B67, SMALL(IF(\"V\"=F57:F67, ROW(F57:F67)-MIN(ROW(F57:F67))+1, \"\"), ROW() -56 )), \"\")","v":"Coe College"},{"$f":"IFERROR(INDEX(C57:C67, SMALL(IF(\"V\"=F57:F67, ROW(F57:F67)-MIN(ROW(F57:F67))+1, \"\"), ROW() -56 )), \"\")","v":""},{"$f":"IFERROR(INDEX(D57:D67, SMALL(IF(\"V\"=F57:F67, ROW(F57:F67)-MIN(ROW(F57:F67))+1, \"\"), ROW() -56 )), \"\")","v":"20-58105"},{"$f":"IFERROR(INDEX(E57:E67, SMALL(IF(\"V\"=F57:F67, ROW(F57:F67)-MIN(ROW(F57:F67))+1, \"\"), ROW() -56 )), \"\")","v":"Jeremiah 'Jp' Richmond"},{"$f":"IFERROR(INDEX(B57:B67, SMALL(IF(ISNUMBER(SEARCH(\"JV1\",F57:F67)), ROW(F57:F67)-MIN(ROW(F57:F67))+1, \"\"), ROW() -56 )), \"\")","v":""},{"$f":"IFERROR(INDEX(C57:C67, SMALL(IF(ISNUMBER(SEARCH(\"JV1\",F57:F67)), ROW(F57:F67)-MIN(ROW(F57:F67))+1, \"\"), ROW() -56 )), \"\")","v":""},{"$f":"IFERROR(INDEX(D57:D67, SMALL(IF(ISNUMBER(SEARCH(\"JV1\",F57:F67)), ROW(F57:F67)-MIN(ROW(F57:F67))+1, \"\"), ROW() -56 )), \"\")","v":""},{"$f":"IFERROR(INDEX(E57:E67, SMALL(IF(ISNUMBER(SEARCH(\"JV1\",F57:F67)), ROW(F57:F67)-MIN(ROW(F57:F67))+1, \"\"), ROW() -56 )), \"\")","v":""},{"$f":"IFERROR(INDEX(B57:B67, SMALL(IF(ISNUMBER(SEARCH(\"JV2\",F57:F67)), ROW(F57:F67)-MIN(ROW(F57:F67))+1, \"\"), ROW() -56 )), \"\")","v":""},{"$f":"IFERROR(INDEX(C57:C67, SMALL(IF(ISNUMBER(SEARCH(\"JV2\",F57:F67)), ROW(F57:F67)-MIN(ROW(F57:F67))+1, \"\"), ROW() -56 )), \"\")","v":""},{"$f":"IFERROR(INDEX(D57:D67, SMALL(IF(ISNUMBER(SEARCH(\"JV2\",F57:F67)), ROW(F57:F67)-MIN(ROW(F57:F67))+1, \"\"), ROW() -56 )), \"\")","v":""},{"$f":"IFERROR(INDEX(E57:E67, SMALL(IF(ISNUMBER(SEARCH(\"JV2\",F57:F67)), ROW(F57:F67)-MIN(ROW(F57:F67))+1, \"\"), ROW() -56 )), \"\")","v":""}]
[null,"Coe College",null,"21-4165","Ian Tibbott","V",null,4520.0,null,false,{"$nulls":17},{"$f":"IFERROR(INDEX(B57:B67, SMALL(IF(\"V\"=F57:F67, ROW(F57:F67)-MIN(ROW(F57:F67))+1, \"\"), ROW() -56 )), \"\")","v":"Coe College"},{"$f":"IFERROR(INDEX(C57:C67, SMALL(IF(\"V\"=F57:F67, ROW(F57:F67)-MIN(ROW(F57:F67))+1, \"\"), ROW() -56 )), \"\")","v":""},{"$f":"IFERROR(INDEX(D57:D67, SMALL(IF(\"V\"=F57:F67, ROW(F57:F67)-MIN(ROW(F57:F67))+1, \"\"), ROW() -56 )), \"\")","v":"21-4164"},{"$f":"IFERROR(INDEX(E57:E67, SMALL(IF(\"V\"=F57:F67, ROW(F57:F67)-MIN(ROW(F57:F67))+1, \"\"), ROW() -56 )), \"\")","v":"Michael Bonner"},{"$f":"IFERROR(INDEX(B57:B67, SMALL(IF(ISNUMBER(SEARCH(\"JV1\",F57:F67)), ROW(F57:F67)-MIN(ROW(F57:F67))+1, \"\"), ROW() -56 )), \"\")","v":""},{"$f":"IFERROR(INDEX(C57:C67, SMALL(IF(ISNUMBER(SEARCH(\"JV1\",F57:F67)), ROW(F57:F67)-MIN(ROW(F57:F67))+1, \"\"), ROW() -56 )), \"\")","v":""},{"$f":"IFERROR(INDEX(D57:D67, SMALL(IF(ISNUMBER(SEARCH(\"JV1\",F57:F67)), ROW(F57:F67)-MIN(ROW(F57:F67))+1, \"\"), ROW() -56 )), \"\")","v":""},{"$f":"IFERROR(INDEX(E57:E67, SMALL(IF(ISNUMBER(SEARCH(\"JV1\",F57:F67)), ROW(F57:F67)-MIN(ROW(F57:F67))+1, \"\"), ROW() -56 )), \"\")","v":""},{"$f":"IFERROR(INDEX(B57:B67, SMALL(IF(ISNUMBER(SEARCH(\"JV2\",F57:F67)), ROW(F57:F67)-MIN(ROW(F57:F67))+1, \"\"), ROW() -56 )), \"\")","v":""},{"$f":"IFERROR(INDEX(C57:C67, SMALL(IF(ISNUMBER(SEARCH(\"JV2\",F57:F67)), ROW(F57:F67)-MIN(ROW(F57:F67))+1, \"\"), ROW() -56 )), \"\")","v":""},{"$f":"IFERROR(INDEX(D57:D67, SMALL(IF(ISNUMBER(SEARCH(\"JV2\",F57:F67)), ROW(F57:F67)-MIN(ROW(F57:F67))+1, \"\"), ROW() -56 )), \"\")","v":""},{"$f":"IFERROR(INDEX(E57:E67, SMALL(IF(ISNUMBER(SEARCH(\"JV2\",F57:F67)), ROW(F57:F67)-MIN(ROW(F57:F67))+1, \"\"), ROW() -56 )), \"\")","v":""}]
[null,"Coe College",null,"20-58105","Jeremiah 'Jp' Richmond","V",null,4520.0,null,false,{"$nulls":17},{"$f":"IFERROR(INDEX(B57:B67, SMALL(IF(\"V\"=F57:F67, ROW(F57:F67)-MIN(ROW(F57:F67))+1, \"\"), ROW() -56 )), \"\")","v":"Coe College"},{"$f":"IFERROR(INDEX(C57:C67, SMALL(IF(\"V\"=F57:F67, ROW(F57:F67)-MIN(ROW(F57:F67))+1, \"\"), ROW() -56 )), \"\")","v":""},{"$f":"IFERROR(INDEX(D57:D67, SMALL(IF(\"V\"=F57:F67, ROW(F57:F67)-MIN(ROW(F57:F67))+1, \"\"), ROW() -56 )), \"\")","v":"11-232528"},{"$f":"IFERROR(INDEX(E57:E67, SMALL(IF(\"V\"=F57:F67, ROW(F57:F67)-MIN(ROW(F57:F67))+1, \"\"), ROW() -56 )), \"\")","v":"Ryan Eddy"},{"$f":"IFERROR(INDEX(B57:B67, SMALL(IF(ISNUMBER(SEARCH(\"JV1\",F57:F67)), ROW(F57:F67)-MIN(ROW(F57:F67))+1, \"\"), ROW() -56 )), \"\")","v":""},{"$f":"IFERROR(INDEX(C57:C67, SMALL(IF(ISNUMBER(SEARCH(\"JV1\",F57:F67)), ROW(F57:F67)-MIN(ROW(F57:F67))+1, \"\"), ROW() -56 )), \"\")","v":""},{"$f":"IFERROR(INDEX(D57:D67, SMALL(IF(ISNUMBER(SEARCH(\"JV1\",F57:F67)), ROW(F57:F67)-MIN(ROW(F57:F67))+1, \"\"), ROW() -56 )), \"\")","v":""},{"$f":"IFERROR(INDEX(E57:E67, SMALL(IF(ISNUMBER(SEARCH(\"JV1\",F57:F67)), ROW(F57:F67)-MIN(ROW(F57:F67))+1, \"\"), ROW() -56 )), \"\")","v":""},{"$f":"IFERROR(INDEX(B57:B67, SMALL(IF(ISNUMBER(SEARCH(\"JV2\",F57:F67)), ROW(F57:F67)-MIN(ROW(F57:F67))+1, \"\"), ROW() -56 )), \"\")","v":""},{"$f":"IFERROR(INDEX(C57:C67, SMALL(IF(ISNUMBER(SEARCH(\"JV2\",F57:F67)), ROW(F57:F67)-MIN(ROW(F57:F67))+1, \"\"), ROW() -56 )), \"\")","v":""},{"$f":"IFERROR(INDEX(D57:D67, SMALL(IF(ISNUMBER(SEARCH(\"JV2\",F57:F67)), ROW(F57:F67)-MIN(ROW(F57:F67))+1, \"\"), ROW() -56 )), \"\")","v":""},{"$f":"IFERROR(INDEX(E57:E67, SMALL(IF(ISNUMBER(SEARCH(\"JV2\",F57:F67)), ROW(F57:F67)-MIN(ROW(F57:F67))+1, \"\"), ROW() -56 )), \"\")","v":""}]
[null,"Coe College",null,"20-3034","Joseph Pregon"," ",null,4520.0,null,false]
[null,"Coe College",null,"21-4164","Michael Bonner","V",null,4520.0,null,false]
[null,"Coe College",null,"11-232528","Ryan Eddy","V",null,4520.0,null,false]
[null,"Culver-Stockton College",null,"11-235313","Blake Hemann","V",null,4352.0,null,false,{"$nulls":17},{"$f":"IFERROR(INDEX(B68:B75, SMALL(IF(\"V\"=F68:F75, ROW(F68:F75)-MIN(ROW(F68:F75))+1, \"\"), ROW() -67 )), \"\")","v":"Culver-Stockton College"},{"$f":"IFERROR(INDEX(C68:C75, SMALL(IF(\"V\"=F68:F75, ROW(F68:F75)-MIN(ROW(F68:F75))+1, \"\"), ROW() -67 )), \"\")","v":""},{"$f":"IFERROR(INDEX(D68:D75, SMALL(IF(\"V\"=F68:F75, ROW(F68:F75)-MIN(ROW(F68:F75))+1, \"\"), ROW() -67 )), \"\")","v":"11-235313"},{"$f":"IFERROR(INDEX(E68:E75, SMALL(IF(\"V\"=F68:F75, ROW(F68:F75)-MIN(ROW(F68:F75))+1, \"\"), ROW() -67 )), \"\")","v":"Blake Hemann"},{"$f":"IFERROR(INDEX(B68:B75, SMALL(IF(ISNUMBER(SEARCH(\"JV1\",F68:F75)), ROW(F68:F75)-MIN(ROW(F68:F75))+1, \"\"), ROW() -67 )), \"\")","v":""},{"$f":"IFERROR(INDEX(C68:C75, SMALL(IF(ISNUMBER(SEARCH(\"JV1\",F68:F75)), ROW(F68:F75)-MIN(ROW(F68:F75))+1, \"\"), ROW() -67 )), \"\")","v":""},{"$f":"IFERROR(INDEX(D68:D75, SMALL(IF(ISNUMBER(SEARCH(\"JV1\",F68:F75)), ROW(F68:F75)-MIN(ROW(F68:F75))+1, \"\"), ROW() -67 )), \"\")","v":""},{"$f":"IFERROR(INDEX(E68:E75, SMALL(IF(ISNUMBER(SEARCH(\"JV1\",F68:F75)), ROW(F68:F75)-MIN(ROW(F68:F75))+1, \"\"), ROW() -67 )), \"\")","v":""},{"$f":"IFERROR(INDEX(B68:B75, SMALL(IF(ISNUMBER(SEARCH(\"JV2\",F68:F75)), ROW(F68:F75)-MIN(ROW(F68:F75))+1, \"\"), ROW() -67 )), \"\")","v":""},{"$f":"IFERROR(INDEX(C68:C75, SMALL(IF(ISNUMBER(SEARCH(\"JV2\",F68:F75)), ROW(F68:F75)-MIN(ROW(F68:F75))+1, \"\"), ROW() -67 )), \"\")","v":""},{"$f":"IFERROR(INDEX(D68:D75, SMALL(IF(ISNUMBER(SEARCH(\"JV2\",F68:F75)), ROW(F68:F75)-MIN(ROW(F68:F75))+1, \"\"), ROW() -67 )), \"\")","v":""},{"$f":"IFERROR(INDEX(E68:E75, SMALL(IF(ISNUMBER(SEARCH(\"JV2\",F68:F75)), ROW(F68:F75)-MIN(ROW(F68:F75))+1, \"\"), ROW() -67 )), \"\")","v":""}]
[null,"Culver-Stockton College",null,"19-3783","Gavin Moeller","V",null,4352.0,null,false,{"$nulls":17},{"$f":"IFERROR(INDEX(B68:B75, SMALL(IF(\"V\"=F68:F75, ROW(F68:F75)-MIN(ROW(F68:F75))+1, \"\"), ROW() -67 )), \"\")","v":"Culver-Stockton College"},{"$f":"IFERROR(INDEX(C68:C75, SMALL(IF(\"V\"=F68:F75, ROW(F68:F75)-MIN(ROW(F68:F75))+1, \"\"), ROW() -67 )), \"\")","v":""},{"$f":"IFERROR(INDEX(D68:D75, SMALL(IF(\"V\"=F68:F75, ROW(F68:F75)-MIN(ROW(F68:F75))+1, \"\"), ROW() -67 )), \"\")","v":"19-3783"},{"$f":"IFERROR(INDEX(E68:E75, SMALL(IF(\"V\"=F68:F75, ROW(F68:F75)-MIN(ROW(F68:F75))+1, \"\"), ROW() -67 )), \"\")","v":"Gavin Moeller"},{"$f":"IFERROR(INDEX(B68:B75, SMALL(IF(ISNUMBER(SEARCH(\"JV1\",F68:F75)), ROW(F68:F75)-MIN(ROW(F68:F75))+1, \"\"), ROW() -67 )), \"\")","v":""},{"$f":"IFERROR(INDEX(C68:C75, SMALL(IF(ISNUMBER(SEARCH(\"JV1\",F68:F75)), ROW(F68:F75)-MIN(ROW(F68:F75))+1, \"\"), ROW() -67 )), \"\")","v":""},{"$f":"IFERROR(INDEX(D68:D75, SMALL(IF(ISNUMBER(SEARCH(\"JV1\",F68:F75)), ROW(F68:F75)-MIN(ROW(F68:F75))+1, \"\"), ROW() -67 )), \"\")","v":""},{"$f":"IFERROR(INDEX(E68:E75, SMALL(IF(ISNUMBER(SEARCH(\"JV1\",F68:F75)), ROW(F68:F75)-MIN(ROW(F68:F75))+1, \"\"), ROW() -67 )), \"\")","v":""},{"$f":"IFERROR(INDEX(B68:B75, SMALL(IF(ISNUMBER(SEARCH(\"JV2\",F68:F75)), ROW(F68:F75)-MIN(ROW(F68:F75))+1, \"\"), ROW() -67 )), \"\")","v":""},{"$f":"IFERROR(INDEX(C68:C75, SMALL(IF(ISNUMBER(SEARCH(\"JV2\",F68:F75)), ROW(F68:F75)-MIN(ROW(F68:F75))+1, \"\"), ROW() -67 )), \"\")","v":""},{"$f":"IFERROR(INDEX(D68:D75, SMALL(IF(ISNUMBER(SEARCH(\"JV2\",F68:F75)), ROW(F68:F75)-MIN(ROW(F68:F75))+1, \"\"), ROW() -67 )), \"\")","v":""},{"$f":"IFERROR(INDEX(E68:E75, SMALL(IF(ISNUMBER(SEARCH(\"JV2\",F68:F75)), ROW(F68:F75)-MIN(ROW(F68:F75))+1, \"\"), ROW() -67 )), \"\")","v":""}]
[null,"Culver-Stockton College",null,"11-32574","Jake Evitts","V",null,4352.0,null,false,{"$nulls":17},{"$f":"IFERROR(INDEX(B68:B75, SMALL(IF(\"V\"=F68:F75, ROW(F68:F75)-MIN(ROW(F68:F75))+1, \"\"), ROW() -67 )), \"\")","v":"Culver-Stockton College"},{"$f":"IFERROR(INDEX(C68:C75, SMALL(IF(\"V\"=F68:F75, ROW(F68:F75)-MIN(ROW(F68:F75))+1, \"\"), ROW() -67 )), \"\")","v":""},{"$f":"IFERROR(INDEX(D68:D75, SMALL(IF(\"V\"=F68:F75, ROW(F68:F75)-MIN(ROW(F68:F75))+1, \"\"), ROW() -67 )), \"\")","v":"11-32574"},{"$f":"IFERROR(INDEX(E68:E75, SMALL(IF(\"V\"=F68:F75, ROW(F68:F75)-MIN(ROW(F68:F75))+1, \"\"), ROW() -67 )), \"\")","v":"Jake Evitts"},{"$f":"IFERROR(INDEX(B68:B75, SMALL(IF(ISNUMBER(SEARCH(\"JV1\",F68:F75)), ROW(F68:F75)-MIN(ROW(F68:F75))+1, \"\"), ROW() -67 )), \"\")","v":""},{"$f":"IFERROR(INDEX(C68:C75, SMALL(IF(ISNUMBER(SEARCH(\"JV1\",F68:F75)), ROW(F68:F75)-MIN(ROW(F68:F75))+1, \"\"), ROW() -67 )), \"\")","v":""},{"$f":"IFERROR(INDEX(D68:D75, SMALL(IF(ISNUMBER(SEARCH(\"JV1\",F68:F75)), ROW(F68:F75)-MIN(ROW(F68:F75))+1, \"\"), ROW() -67 )), \"\")","v":""},{"$f":"IFERROR(INDEX(E68:E75, SMALL(IF(ISNUMBER(SEARCH(\"JV1\",F68:F75)), ROW(F68:F75)-MIN(ROW(F68:F75))+1, \"\"), ROW() -67 )), \"\")","v":""},{"$f":"IFERROR(INDEX(B68:B75, SMALL(IF(ISNUMBER(SEARCH(\"JV2\",F68:F75)), ROW(F68:F75)-MIN(ROW(F68:F75))+1, \"\"), ROW() -67 )), \"\")","v":""},{"$f":"IFERROR(INDEX(C68:C75, SMALL(IF(ISNUMBER(SEARCH(\"JV2\",F68:F75)), ROW(F68:F75)-MIN(ROW(F68:F75))+1, \"\"), ROW() -67 )), \"\")","v":""},{"$f":"IFERROR(INDEX(D68:D75, SMALL(IF(ISNUMBER(SEARCH(\"JV2\",F68:F75)), ROW(F68:F75)-MIN(ROW(F68:F75))+1, \"\"), ROW() -67 )), \"\")","v":""},{"$f":"IFERROR(INDEX(E68:E75, SMALL(IF(ISNUMBER(SEARCH(\"JV2\",F68:F75)), ROW(F68:F75)-MIN(ROW(F68:F75))+1, \"\"), ROW() -67 )), \"\")","v":""}]
[null,"Culver-Stockton College",null,"16-129947","Lance Mynatt"," ",null,4352.0,null,false,{"$nulls":17},{"$f":"IFERROR(INDEX(B68:B75, SMALL(IF(\"V\"=F68:F75, ROW(F68:F75)-MIN(ROW(F68:F75))+1, \"\"), ROW() -67 )), \"\")","v":"Culver-Stockton College"},{"$f":"IFERROR(INDEX(C68:C75, SMALL(IF(\"V\"=F68:F75, ROW(F68:F75)-MIN(ROW(F68:F75))+1, \"\"), ROW() -67 )), \"\")","v":""},{"$f":"IFERROR(INDEX(D68:D75, SMALL(IF(\"V\"=F68:F75, ROW(F68:F75)-MIN(ROW(F68:F75))+1, \"\"), ROW() -67 )), \"\")","v":"7914-19067"},{"$f":"IFERROR(INDEX(E68:E75, SMALL(IF(\"V\"=F68:F75, ROW(F68:F75)-MIN(ROW(F68:F75))+1, \"\"), ROW() -67 )), \"\")","v":"Levi Staley"},{"$f":"IFERROR(INDEX(B68:B75, SMALL(IF(ISNUMBER(SEARCH(\"JV1\",F68:F75)), ROW(F68:F75)-MIN(ROW(F68:F75))+1, \"\"), ROW() -67 )), \"\")","v":""},{"$f":"IFERROR(INDEX(C68:C75, SMALL(IF(ISNUMBER(SEARCH(\"JV1\",F68:F75)), ROW(F68:F75)-MIN(ROW(F68:F75))+1, \"\"), ROW() -67 )), \"\")","v":""},{"$f":"IFERROR(INDEX(D68:D75, SMALL(IF(ISNUMBER(SEARCH(\"JV1\",F68:F75)), ROW(F68:F75)-MIN(ROW(F68:F75))+1, \"\"), ROW() -67 )), \"\")","v":""},{"$f":"IFERROR(INDEX(E68:E75, SMALL(IF(ISNUMBER(SEARCH(\"JV1\",F68:F75)), ROW(F68:F75)-MIN(ROW(F68:F75))+1, \"\"), ROW() -67 )), \"\")","v":""},{"$f":"IFERROR(INDEX(B68:B75, SMALL(IF(ISNUMBER(SEARCH(\"JV2\",F68:F75)), ROW(F68:F75)-MIN(ROW(F68:F75))+1, \"\"), ROW() -67 )), \"\")","v":""},{"$f":"IFERROR(INDEX(C68:C75, SMALL(IF(ISNUMBER(SEARCH(\"JV2\",F68:F75)), ROW(F68:F75)-MIN(ROW(F68:F75))+1, \"\"), ROW() -67 )), \"\")","v":""},{"$f":"IFERROR(INDEX(D68:D75, SMALL(IF(ISNUMBER(SEARCH(\"JV2\",F68:F75)), ROW(F68:F75)-MIN(ROW(F68:F75))+1, \"\"), ROW() -67 )), \"\")","v":""},{"$f":"IFERROR(INDEX(E68:E75, SMALL(IF(ISNUMBER(SEARCH(\"JV2\",F68:F75)), ROW(F68:F75)-MIN(ROW(F68:F75))+1, \"\"), ROW() -67 )), \"\")","v":""}]
[null,"Culver-Stockton College",null,"7914-19067","Levi Staley","V",null,4352.0,null,false,{"$nulls":17},{"$f":"IFERROR(INDEX(B68:B75, SMALL(IF(\"V\"=F68:F75, ROW(F68:F75)-MIN(ROW(F68:F75))+1, \"\"), ROW() -67 )), \"\")","v":"Culver-Stockton College"},{"$f":"IFERROR(INDEX(C68:C75, SMALL(IF(\"V\"=F68:F75, ROW(F68:F75)-MIN(ROW(F68:F75))+1, \"\"), ROW() -67 )), \"\")","v":""},{"$f":"IFERROR(INDEX(D68:D75, SMALL(IF(\"V\"=F68:F75, ROW(F68:F75)-MIN(ROW(F68:F75))+1, \"\"), ROW() -67 )), \"\")","v":"17-52681"},{"$f":"IFERROR(INDEX(E68:E75, SMALL(IF(\"V\"=F68:F75, ROW(F68:F75)-MIN(ROW(F68:F75))+1, \"\"), ROW() -67 )), \"\")","v":"River VanVeghel"},{"$f":"IFERROR(INDEX(B68:B75, SMALL(IF(ISNUMBER(SEARCH(\"JV1\",F68:F75)), ROW(F68:F75)-MIN(ROW(F68:F75))+1, \"\"), ROW() -67 )), \"\")","v":""},{"$f":"IFERROR(INDEX(C68:C75, SMALL(IF(ISNUMBER(SEARCH(\"JV1\",F68:F75)), ROW(F68:F75)-MIN(ROW(F68:F75))+1, \"\"), ROW() -67 )), \"\")","v":""},{"$f":"IFERROR(INDEX(D68:D75, SMALL(IF(ISNUMBER(SEARCH(\"JV1\",F68:F75)), ROW(F68:F75)-MIN(ROW(F68:F75))+1, \"\"), ROW() -67 )), \"\")","v":""},{"$f":"IFERROR(INDEX(E68:E75, SMALL(IF(ISNUMBER(SEARCH(\"JV1\",F68:F75)), ROW(F68:F75)-MIN(ROW(F68:F75))+1, \"\"), ROW() -67 )), \"\")","v":""},{"$f":"IFERROR(INDEX(B68:B75, SMALL(IF(ISNUMBER(SEARCH(\"JV2\",F68:F75)), ROW(F68:F75)-MIN(ROW(F68:F75))+1, \"\"), ROW() -67 )), \"\")","v":""},{"$f":"IFERROR(INDEX(C68:C75, SMALL(IF(ISNUMBER(SEARCH(\"JV2\",F68:F75)), ROW(F68:F75)-MIN(ROW(F68:F75))+1, \"\"), ROW() -67 )), \"\")","v":""},{"$f":"IFERROR(INDEX(D68:D75, SMALL(IF(ISNUMBER(SEARCH(\"JV2\",F68:F75)), ROW(F68:F75)-MIN(ROW(F68:F75))+1, \"\"), ROW() -67 )), \"\")","v":""},{"$f":"IFERROR(INDEX(E68:E75, SMALL(IF(ISNUMBER(SEARCH(\"JV2\",F68:F75)), ROW(F68:F75)-MIN(ROW(F68:F75))+1, \"\"), ROW() -67 )), \"\")","v":""}]
[null,"Culver-Stockton College",null,"20-36931","Mateo Gonzalez"," ",null,4352.0,null,false,{"$nulls":17},{"$f":"IFERROR(INDEX(B68:B75, SMALL(IF(\"V\"=F68:F75, ROW(F68:F75)-MIN(ROW(F68:F75))+1, \"\"), ROW() -67 )), \"\")","v":"Culver-Stockton College"},{"$f":"IFERROR(INDEX(C68:C75, SMALL(IF(\"V\"=F68:F75, ROW(F68:F75)-MIN(ROW(F68:F75))+1, \"\"), ROW() -67 )), \"\")","v":""},{"$f":"IFERROR(INDEX(D68:D75, SMALL(IF(\"V\"=F68:F75, ROW(F68:F75)-MIN(ROW(F68:F75))+1, \"\"), ROW() -67 )), \"\")","v":"17-37893"},{"$f":"IFERROR(INDEX(E68:E75, SMALL(IF(\"V\"=F68:F75, ROW(F68:F75)-MIN(ROW(F68:F75))+1, \"\"), ROW() -67 )), \"\")","v":"Zachary Lantz"},{"$f":"IFERROR(INDEX(B68:B75, SMALL(IF(ISNUMBER(SEARCH(\"JV1\",F68:F75)), ROW(F68:F75)-MIN(ROW(F68:F75))+1, \"\"), ROW() -67 )), \"\")","v":""},{"$f":"IFERROR(INDEX(C68:C75, SMALL(IF(ISNUMBER(SEARCH(\"JV1\",F68:F75)), ROW(F68:F75)-MIN(ROW(F68:F75))+1, \"\"), ROW() -67 )), \"\")","v":""},{"$f":"IFERROR(INDEX(D68:D75, SMALL(IF(ISNUMBER(SEARCH(\"JV1\",F68:F75)), ROW(F68:F75)-MIN(ROW(F68:F75))+1, \"\"), ROW() -67 )), \"\")","v":""},{"$f":"IFERROR(INDEX(E68:E75, SMALL(IF(ISNUMBER(SEARCH(\"JV1\",F68:F75)), ROW(F68:F75)-MIN(ROW(F68:F75))+1, \"\"), ROW() -67 )), \"\")","v":""},{"$f":"IFERROR(INDEX(B68:B75, SMALL(IF(ISNUMBER(SEARCH(\"JV2\",F68:F75)), ROW(F68:F75)-MIN(ROW(F68:F75))+1, \"\"), ROW() -67 )), \"\")","v":""},{"$f":"IFERROR(INDEX(C68:C75, SMALL(IF(ISNUMBER(SEARCH(\"JV2\",F68:F75)), ROW(F68:F75)-MIN(ROW(F68:F75))+1, \"\"), ROW() -67 )), \"\")","v":""},{"$f":"IFERROR(INDEX(D68:D75, SMALL(IF(ISNUMBER(SEARCH(\"JV2\",F68:F75)), ROW(F68:F75)-MIN(ROW(F68:F75))+1, \"\"), ROW() -67 )), \"\")","v":""},{"$f":"IFERROR(INDEX(E68:E75, SMALL(IF(ISNUMBER(SEARCH(\"JV2\",F68:F75)), ROW(F68:F75)-MIN(ROW(F68:F75))+1, \"\"), ROW() -67 )), \"\")","v":""}]
[null,"Culver-Stockton College",null,"17-52681","River VanVeghel","V",null,4352.0,null,false,{"$nulls":17},{"$f":"IFERROR(INDEX(B68:B75, SMALL(IF(\"V\"=F68:F75, ROW(F68:F75)-MIN(ROW(F68:F75))+1, \"\"), ROW() -67 )), \"\")","v":""},{"$f":"IFERROR(INDEX(C68:C75, SMALL(IF(\"V\"=F68:F75, ROW(F68:F75)-MIN(ROW(F68:F75))+1, \"\"), ROW() -67 )), \"\")","v":""},{"$f":"IFERROR(INDEX(D68:D75, SMALL(IF(\"V\"=F68:F75, ROW(F68:F75)-MIN(ROW(F68:F75))+1, \"\"), ROW() -67 )), \"\")","v":""},{"$f":"IFERROR(INDEX(E68:E75, SMALL(IF(\"V\"=F68:F75, ROW(F68:F75)-MIN(ROW(F68:F75))+1, \"\"), ROW() -67 )), \"\")","v":""},{"$f":"IFERROR(INDEX(B68:B75, SMALL(IF(ISNUMBER(SEARCH(\"JV1\",F68:F75)), ROW(F68:F75)-MIN(ROW(F68:F75))+1, \"\"), ROW() -67 )), \"\")","v":""},{"$f":"IFERROR(INDEX(C68:C75, SMALL(IF(ISNUMBER(SEARCH(\"JV1\",F68:F75)), ROW(F68:F75)-MIN(ROW(F68:F75))+1, \"\"), ROW() -67 )), \"\")","v":""},{"$f":"IFERROR(INDEX(D68:D75, SMALL(IF(ISNUMBER(SEARCH(\"JV1\",F68:F75)), ROW(F68:F75)-MIN(ROW(F68:F75))+1, \"\"), ROW() -67 )), \"\")","v":""},{"$f":"IFERROR(INDEX(E68:E75, SMALL(IF(ISNUMBER(SEARCH(\"JV1\",F68:F75)), ROW(F68:F75)-MIN(ROW(F68:F75))+1, \"\"), ROW() -67 )), \"\")","v":""},{"$f":"IFERROR(INDEX(B68:B75, SMALL(IF(ISNUMBER(SEARCH(\"JV2\",F68:F75)), ROW(F68:F75)-MIN(ROW(F68:F75))+1, \"\"), ROW() -67 )), \"\")","v":""},{"$f":"IFERROR(INDEX(C68:C75, SMALL(IF(ISNUMBER(SEARCH(\"JV2\",F68:F75)), ROW(F68:F75)-MIN(ROW(F68:F75))+1, \"\"), ROW() -67 )), \"\")","v":""},{"$f":"IFERROR(INDEX(D68:D75, SMALL(IF(ISNUMBER(SEARCH(\"JV2\",F68:F75)), ROW(F68:F75)-MIN(ROW(F68:F75))+1, \"\"), ROW() -67 )), \"\")","v":""},{"$f":"IFERROR(INDEX(E68:E75, SMALL(IF(ISNUMBER(SEARCH(\"JV2\",F68:F75)), ROW(F68:F75)-MIN(ROW(F68:F75))+1, \"\"), ROW() -67 )), \"\")","v":""}]
[null,"Culver-Stockton College",null,"17-37893","Zachary Lantz","V",null,4352.0,null,false,{"$nulls":17},{"$f":"IFERROR(INDEX(B68:B75, SMALL(IF(\"V\"=F68:F75, ROW(F68:F75)-MIN(ROW(F68:F75))+1, \"\"), ROW() -67 )), \"\")","v":""},{"$f":"IFERROR(INDEX(C68:C75, SMALL(IF(\"V\"=F68:F75, ROW(F68:F75)-MIN(ROW(F68:F75))+1, \"\"), ROW() -67 )), \"\")","v":""},{"$f":"IFERROR(INDEX(D68:D75, SMALL(IF(\"V\"=F68:F75, ROW(F68:F75)-MIN(ROW(F68:F75))+1, \"\"), ROW() -67 )), \"\")","v":""},{"$f":"IFERROR(INDEX(E68:E75, SMALL(IF(\"V\"=F68:F75, ROW(F68:F75)-MIN(ROW(F68:F75))+1, \"\"), ROW() -67 )), \"\")","v":""},{"$f":"IFERROR(INDEX(B68:B75, SMALL(IF(ISNUMBER(SEARCH(\"JV1\",F68:F75)), ROW(F68:F75)-MIN(ROW(F68:F75))+1, \"\"), ROW() -67 )), \"\")","v":""},{"$f":"IFERROR(INDEX(C68:C75, SMALL(IF(ISNUMBER(SEARCH(\"JV1\",F68:F75)), ROW(F68:F75)-MIN(ROW(F68:F75))+1, \"\"), ROW() -67 )), \"\")","v":""},{"$f":"IFERROR(INDEX(D68:D75, SMALL(IF(ISNUMBER(SEARCH(\"JV1\",F68:F75)), ROW(F68:F75)-MIN(ROW(F68:F75))+1, \"\"), ROW() -67 )), \"\")","v":""},{"$f":"IFERROR(INDEX(E68:E75, SMALL(IF(ISNUMBER(SEARCH(\"JV1\",F68:F75)), ROW(F68:F75)-MIN(ROW(F68:F75))+1, \"\"), ROW() -67 )), \"\")","v":""},{"$f":"IFERROR(INDEX(B68:B75, SMALL(IF(ISNUMBER(SEARCH(\"JV2\",F68:F75)), ROW(F68:F75)-MIN(ROW(F68:F75))+1, \"\"), ROW() -67 )), \"\")","v":""},{"$f":"IFERROR(INDEX(C68:C75, SMALL(IF(ISNUMBER(SEARCH(\"JV2\",F68:F75)), ROW(F68:F75)-MIN(ROW(F68:F75))+1, \"\"), ROW() -67 )), \"\")","v":""},{"$f":"IFERROR(INDEX(D68:D75, SMALL(IF(ISNUMBER(SEARCH(\"JV2\",F68:F75)), ROW(F68:F75)-MIN(ROW(F68:F75))+1, \"\"), ROW() -67 )), \"\")","v":""},{"$f":"IFERROR(INDEX(E68:E75, SMALL(IF(ISNUMBER(SEARCH(\"JV2\",F68:F75)), ROW(F68:F75)-MIN(ROW(F68:F75))+1, \"\"), ROW() -67 )), \"\")","v":""}]
[null,"Dallas Baptist University",null,""," "," ",null,4304.0,null,false,{"$nulls":17},{"$f":"IFERROR(INDEX(B76:B83, SMALL(IF(\"V\"=F76:F83, ROW(F76:F83)-MIN(ROW(F76:F83))+1, \"\"), ROW() -75 )), \"\")","v":"Dallas Baptist University"},{"$f":"IFERROR(INDEX(C76:C83, SMALL(IF(\"V\"=F76:F83, ROW(F76:F83)-MIN(ROW(F76:F83))+1, \"\"), ROW() -75 )), \"\")","v":""},{"$f":"IFERROR(INDEX(D76:D83, SMALL(IF(\"V\"=F76:F83, ROW(F76:F83)-MIN(ROW(F76:F83))+1, \"\"), ROW() -75 )), \"\")","v":"22-23714"},{"$f":"IFERROR(INDEX(E76:E83, SMALL(IF(\"V\"=F76:F83, ROW(F76:F83)-MIN(ROW(F76:F83))+1, \"\"), ROW() -75 )), \"\")","v":"Elijah Roberts"},{"$f":"IFERROR(INDEX(B76:B83, SMALL(IF(ISNUMBER(SEARCH(\"JV1\",F76:F83)), ROW(F76:F83)-MIN(ROW(F76:F83))+1, \"\"), ROW() -75 )), \"\")","v":""},{"$f":"IFERROR(INDEX(C76:C83, SMALL(IF(ISNUMBER(SEARCH(\"JV1\",F76:F83)), ROW(F76:F83)-MIN(ROW(F76:F83))+1, \"\"), ROW() -75 )), \"\")","v":""},{"$f":"IFERROR(INDEX(D76:D83, SMALL(IF(ISNUMBER(SEARCH(\"JV1\",F76:F83)), ROW(F76:F83)-MIN(ROW(F76:F83))+1, \"\"), ROW() -75 )), \"\")","v":""},{"$f":"IFERROR(INDEX(E76:E83, SMALL(IF(ISNUMBER(SEARCH(\"JV1\",F76:F83)), ROW(F76:F83)-MIN(ROW(F76:F83))+1, \"\"), ROW() -75 )), \"\")","v":""},{"$f":"IFERROR(INDEX(B76:B83, SMALL(IF(ISNUMBER(SEARCH(\"JV2\",F76:F83)), ROW(F76:F83)-MIN(ROW(F76:F83))+1, \"\"), ROW() -75 )), \"\")","v":""},{"$f":"IFERROR(INDEX(C76:C83, SMALL(IF(ISNUMBER(SEARCH(\"JV2\",F76:F83)), ROW(F76:F83)-MIN(ROW(F76:F83))+1, \"\"), ROW() -75 )), \"\")","v":""},{"$f":"IFERROR(INDEX(D76:D83, SMALL(IF(ISNUMBER(SEARCH(\"JV2\",F76:F83)), ROW(F76:F83)-MIN(ROW(F76:F83))+1, \"\"), ROW() -75 )), \"\")","v":""},{"$f":"IFERROR(INDEX(E76:E83, SMALL(IF(ISNUMBER(SEARCH(\"JV2\",F76:F83)), ROW(F76:F83)-MIN(ROW(F76:F83))+1, \"\"), ROW() -75 )), \"\")","v":""}]
[null,"Dallas Baptist University",null,"22-23714","Elijah Roberts","V",null,4304.0,null,false,{"$nulls":17},{"$f":"IFERROR(INDEX(B76:B83, SMALL(IF(\"V\"=F76:F83, ROW(F76:F83)-MIN(ROW(F76:F83))+1, \"\"), ROW() -75 )), \"\")","v":"Dallas Baptist University"},{"$f":"IFERROR(INDEX(C76:C83, SMALL(IF(\"V\"=F76:F83, ROW(F76:F83)-MIN(ROW(F76:F83))+1, \"\"), ROW() -75 )), \"\")","v":""},{"$f":"IFERROR(INDEX(D76:D83, SMALL(IF(\"V\"=F76:F83, ROW(F76:F83)-MIN(ROW(F76:F83))+1, \"\"), ROW() -75 )), \"\")","v":"22-23707"},{"$f":"IFERROR(INDEX(E76:E83, SMALL(IF(\"V\"=F76:F83, ROW(F76:F83)-MIN(ROW(F76:F83))+1, \"\"), ROW() -75 )), \"\")","v":"Jonathan Wallace"},{"$f":"IFERROR(INDEX(B76:B83, SMALL(IF(ISNUMBER(SEARCH(\"JV1\",F76:F83)), ROW(F76:F83)-MIN(ROW(F76:F83))+1, \"\"), ROW() -75 )), \"\")","v":""},{"$f":"IFERROR(INDEX(C76:C83, SMALL(IF(ISNUMBER(SEARCH(\"JV1\",F76:F83)), ROW(F76:F83)-MIN(ROW(F76:F83))+1, \"\"), ROW() -75 )), \"\")","v":""},{"$f":"IFERROR(INDEX(D76:D83, SMALL(IF(ISNUMBER(SEARCH(\"JV1\",F76:F83)), ROW(F76:F83)-MIN(ROW(F76:F83))+1, \"\"), ROW() -75 )), \"\")","v":""},{"$f":"IFERROR(INDEX(E76:E83, SMALL(IF(ISNUMBER(SEARCH(\"JV1\",F76:F83)), ROW(F76:F83)-MIN(ROW(F76:F83))+1, \"\"), ROW() -75 )), \"\")","v":""},{"$f":"IFERROR(INDEX(B76:B83, SMALL(IF(ISNUMBER(SEARCH(\"JV2\",F76:F83)), ROW(F76:F83)-MIN(ROW(F76:F83))+1, \"\"), ROW() -75 )), \"\")","v":""},{"$f":"IFERROR(INDEX(C76:C83, SMALL(IF(ISNUMBER(SEARCH(\"JV2\",F76:F83)), ROW(F76:F83)-MIN(ROW(F76:F83))+1, \"\"), ROW() -75 )), \"\")","v":""},{"$f":"IFERROR(INDEX(D76:D83, SMALL(IF(ISNUMBER(SEARCH(\"JV2\",F76:F83)), ROW(F76:F83)-MIN(ROW(F76:F83))+1, \"\"), ROW() -75 )), \"\")","v":""},{"$f":"IFERROR(INDEX(E76:E83, SMALL(IF(ISNUMBER(SEARCH(\"JV2\",F76:F83)), ROW(F76:F83)-MIN(ROW(F76:F83))+1, \"\"), ROW() -75 )), \"\")","v":""}]
[null,"Dallas Baptist University",null,"22-23707","Jonathan Wallace","V",null,4304.0,null,false,{"$nulls":17},{"$f":"IFERROR(INDEX(B76:B83, SMALL(IF(\"V\"=F76:F83, ROW(F76:F83)-MIN(ROW(F76:F83))+1, \"\"), ROW() -75 )), \"\")","v":"Dallas Baptist University"},{"$f":"IFERROR(INDEX(C76:C83, SMALL(IF(\"V\"=F76:F83, ROW(F76:F83)-MIN(ROW(F76:F83))+1, \"\"), ROW() -75 )), \"\")","v":""},{"$f":"IFERROR(INDEX(D76:D83, SMALL(IF(\"V\"=F76:F83, ROW(F76:F83)-MIN(ROW(F76:F83))+1, \"\"), ROW() -75 )), \"\")","v":"22-23704"},{"$f":"IFERROR(INDEX(E76:E83, SMALL(IF(\"V\"=F76:F83, ROW(F76:F83)-MIN(ROW(F76:F83))+1, \"\"), ROW() -75 )), \"\")","v":"Justin Wallace"},{"$f":"IFERROR(INDEX(B76:B83, SMALL(IF(ISNUMBER(SEARCH(\"JV1\",F76:F83)), ROW(F76:F83)-MIN(ROW(F76:F83))+1, \"\"), ROW() -75 )), \"\")","v":""},{"$f":"IFERROR(INDEX(C76:C83, SMALL(IF(ISNUMBER(SEARCH(\"JV1\",F76:F83)), ROW(F76:F83)-MIN(ROW(F76:F83))+1, \"\"), ROW() -75 )), \"\")","v":""},{"$f":"IFERROR(INDEX(D76:D83, SMALL(IF(ISNUMBER(SEARCH(\"JV1\",F76:F83)), ROW(F76:F83)-MIN(ROW(F76:F83))+1, \"\"), ROW() -75 )), \"\")","v":""},{"$f":"IFERROR(INDEX(E76:E83, SMALL(IF(ISNUMBER(SEARCH(\"JV1\",F76:F83)), ROW(F76:F83)-MIN(ROW(F76:F83))+1, \"\"), ROW() -75 )), \"\")","v":""},{"$f":"IFERROR(INDEX(B76:B83, SMALL(IF(ISNUMBER(SEARCH(\"JV2\",F76:F83)), ROW(F76:F83)-MIN(ROW(F76:F83))+1, \"\"), ROW() -75 )), \"\")","v":""},{"$f":"IFERROR(INDEX(C76:C83, SMALL(IF(ISNUMBER(SEARCH(\"JV2\",F76:F83)), ROW(F76:F83)-MIN(ROW(F76:F83))+1, \"\"), ROW() -75 )), \"\")","v":""},{"$f":"IFERROR(INDEX(D76:D83, SMALL(IF(ISNUMBER(SEARCH(\"JV2\",F76:F83)), ROW(F76:F83)-MIN(ROW(F76:F83))+1, \"\"), ROW() -75 )), \"\")","v":""},{"$f":"IFERROR(INDEX(E76:E83, SMALL(IF(ISNUMBER(SEARCH(\"JV2\",F76:F83)), ROW(F76:F83)-MIN(ROW(F76:F83))+1, \"\"), ROW() -75 )), \"\")","v":""}]
[null,"Dallas Baptist University",null,"22-23704","Justin Wallace","V",null,4304.0,null,false,{"$nulls":17},{"$f":"IFERROR(INDEX(B76:B83, SMALL(IF(\"V\"=F76:F83, ROW(F76:F83)-MIN(ROW(F76:F83))+1, \"\"), ROW() -75 )), \"\")","v":"Dallas Baptist University"},{"$f":"IFERROR(INDEX(C76:C83, SMALL(IF(\"V\"=F76:F83, ROW(F76:F83)-MIN(ROW(F76:F83))+1, \"\"), ROW() -75 )), \"\")","v":""},{"$f":"IFERROR(INDEX(D76:D83, SMALL(IF(\"V\"=F76:F83, ROW(F76:F83)-MIN(ROW(F76:F83))+1, \"\"), ROW() -75 )), \"\")","v":"11-484627"},{"$f":"IFERROR(INDEX(E76:E83, SMALL(IF(\"V\"=F76:F83, ROW(F76:F83)-MIN(ROW(F76:F83))+1, \"\"), ROW() -75 )), \"\")","v":"Kari Beyer"},{"$f":"IFERROR(INDEX(B76:B83, SMALL(IF(ISNUMBER(SEARCH(\"JV1\",F76:F83)), ROW(F76:F83)-MIN(ROW(F76:F83))+1, \"\"), ROW() -75 )), \"\")","v":""},{"$f":"IFERROR(INDEX(C76:C83, SMALL(IF(ISNUMBER(SEARCH(\"JV1\",F76:F83)), ROW(F76:F83)-MIN(ROW(F76:F83))+1, \"\"), ROW() -75 )), \"\")","v":""},{"$f":"IFERROR(INDEX(D76:D83, SMALL(IF(ISNUMBER(SEARCH(\"JV1\",F76:F83)), ROW(F76:F83)-MIN(ROW(F76:F83))+1, \"\"), ROW() -75 )), \"\")","v":""},{"$f":"IFERROR(INDEX(E76:E83, SMALL(IF(ISNUMBER(SEARCH(\"JV1\",F76:F83)), ROW(F76:F83)-MIN(ROW(F76:F83))+1, \"\"), ROW() -75 )), \"\")","v":""},{"$f":"IFERROR(INDEX(B76:B83, SMALL(IF(ISNUMBER(SEARCH(\"JV2\",F76:F83)), ROW(F76:F83)-MIN(ROW(F76:F83))+1, \"\"), ROW() -75 )), \"\")","v":""},{"$f":"IFERROR(INDEX(C76:C83, SMALL(IF(ISNUMBER(SEARCH(\"JV2\",F76:F83)), ROW(F76:F83)-MIN(ROW(F76:F83))+1, \"\"), ROW() -75 )), \"\")","v":""},{"$f":"IFERROR(INDEX(D76:D83, SMALL(IF(ISNUMBER(SEARCH(\"JV2\",F76:F83)), ROW(F76:F83)-MIN(ROW(F76:F83))+1, \"\"), ROW() -75 )), \"\")","v":""},{"$f":"IFERROR(INDEX(E76:E83, SMALL(IF(ISNUMBER(SEARCH(\"JV2\",F76:F83)), ROW(F76:F83)-MIN(ROW(F76:F83))+1, \"\"), ROW() -75 )), \"\")","v":""}]
[null,"Dallas Baptist University",null,"11-484627","Kari Beyer","V",null,4304.0,null,false,{"$nulls":17},{"$f":"IFERROR(INDEX(B76:B83, SMALL(IF(\"V\"=F76:F83, ROW(F76:F83)-MIN(ROW(F76:F83))+1, \"\"), ROW() -75 )), \"\")","v":"Dallas Baptist University"},{"$f":"IFERROR(INDEX(C76:C83, SMALL(IF(\"V\"=F76:F83, ROW(F76:F83)-MIN(ROW(F76:F83))+1, \"\"), ROW() -75 )), \"\")","v":""},{"$f":"IFERROR(INDEX(D76:D83, SMALL(IF(\"V\"=F76:F83, ROW(F76:F83)-MIN(ROW(F76:F83))+1, \"\"), ROW() -75 )), \"\")","v":"22-23712"},{"$f":"IFERROR(INDEX(E76:E83, SMALL(IF(\"V\"=F76:F83, ROW(F76:F83)-MIN(ROW(F76:F83))+1, \"\"), ROW() -75 )), \"\")","v":"Katrina Smith"},{"$f":"IFERROR(INDEX(B76:B83, SMALL(IF(ISNUMBER(SEARCH(\"JV1\",F76:F83)), ROW(F76:F83)-MIN(ROW(F76:F83))+1, \"\"), ROW() -75 )), \"\")","v":""},{"$f":"IFERROR(INDEX(C76:C83, SMALL(IF(ISNUMBER(SEARCH(\"JV1\",F76:F83)), ROW(F76:F83)-MIN(ROW(F76:F83))+1, \"\"), ROW() -75 )), \"\")","v":""},{"$f":"IFERROR(INDEX(D76:D83, SMALL(IF(ISNUMBER(SEARCH(\"JV1\",F76:F83)), ROW(F76:F83)-MIN(ROW(F76:F83))+1, \"\"), ROW() -75 )), \"\")","v":""},{"$f":"IFERROR(INDEX(E76:E83, SMALL(IF(ISNUMBER(SEARCH(\"JV1\",F76:F83)), ROW(F76:F83)-MIN(ROW(F76:F83))+1, \"\"), ROW() -75 )), \"\")","v":""},{"$f":"IFERROR(INDEX(B76:B83, SMALL(IF(ISNUMBER(SEARCH(\"JV2\",F76:F83)), ROW(F76:F83)-MIN(ROW(F76:F83))+1, \"\"), ROW() -75 )), \"\")","v":""},{"$f":"IFERROR(INDEX(C76:C83, SMALL(IF(ISNUMBER(SEARCH(\"JV2\",F76:F83)), ROW(F76:F83)-MIN(ROW(F76:F83))+1, \"\"), ROW() -75 )), \"\")","v":""},{"$f":"IFERROR(INDEX(D76:D83, SMALL(IF(ISNUMBER(SEARCH(\"JV2\",F76:F83)), ROW(F76:F83)-MIN(ROW(F76:F83))+1, \"\"), ROW() -75 )), \"\")","v":""},{"$f":"IFERROR(INDEX(E76:E83, SMALL(IF(ISNUMBER(SEARCH(\"JV2\",F76:F83)), ROW(F76:F83)-MIN(ROW(F76:F83))+1, \"\"), ROW() -75 )), \"\")","v":""}]
[null,"Dallas Baptist University",null,"22-23712","Katrina Smith","V",null,4304.0,null,false,{"$nulls":17},{"$f":"IFERROR(INDEX(B76:B83, SMALL(IF(\"V\"=F76:F83, ROW(F76:F83)-MIN(ROW(F76:F83))+1, \"\"), ROW() -75 )), \"\")","v":"Dallas Baptist University"},{"$f":"IFERROR(INDEX(C76:C83, SMALL(IF(\"V\"=F76:F83, ROW(F76:F83)-MIN(ROW(F76:F83))+1, \"\"), ROW() -75 )), \"\")","v":""},{"$f":"IFERROR(INDEX(D76:D83, SMALL(IF(\"V\"=F76:F83, ROW(F76:F83)-MIN(ROW(F76:F83))+1, \"\"), ROW() -75 )), \"\")","v":"11-777155"},{"$f":"IFERROR(INDEX(E76:E83, SMALL(IF(\"V\"=F76:F83, ROW(F76:F83)-MIN(ROW(F76:F83))+1, \"\"), ROW() -75 )), \"\")","v":"Paul Marquez"},{"$f":"IFERROR(INDEX(B76:B83, SMALL(IF(ISNUMBER(SEARCH(\"JV1\",F76:F83)), ROW(F76:F83)-MIN(ROW(F76:F83))+1, \"\"), ROW() -75 )), \"\")","v":""},{"$f":"IFERROR(INDEX(C76:C83, SMALL(IF(ISNUMBER(SEARCH(\"JV1\",F76:F83)), ROW(F76:F83)-MIN(ROW(F76:F83))+1, \"\"), ROW() -75 )), \"\")","v":""},{"$f":"IFERROR(INDEX(D76:D83, SMALL(IF(ISNUMBER(SEARCH(\"JV1\",F76:F83)), ROW(F76:F83)-MIN(ROW(F76:F83))+1, \"\"), ROW() -75 )), \"\")","v":""},{"$f":"IFERROR(INDEX(E76:E83, SMALL(IF(ISNUMBER(SEARCH(\"JV1\",F76:F83)), ROW(F76:F83)-MIN(ROW(F76:F83))+1, \"\"), ROW() -75 )), \"\")","v":""},{"$f":"IFERROR(INDEX(B76:B83, SMALL(IF(ISNUMBER(SEARCH(\"JV2\",F76:F83)), ROW(F76:F83)-MIN(ROW(F76:F83))+1, \"\"), ROW() -75 )), \"\")","v":""},{"$f":"IFERROR(INDEX(C76:C83, SMALL(IF(ISNUMBER(SEARCH(\"JV2\",F76:F83)), ROW(F76:F83)-MIN(ROW(F76:F83))+1, \"\"), ROW() -75 )), \"\")","v":""},{"$f":"IFERROR(INDEX(D76:D83, SMALL(IF(ISNUMBER(SEARCH(\"JV2\",F76:F83)), ROW(F76:F83)-MIN(ROW(F76:F83))+1, \"\"), ROW() -75 )), \"\")","v":""},{"$f":"IFERROR(INDEX(E76:E83, SMALL(IF(ISNUMBER(SEARCH(\"JV2\",F76:F83)), ROW(F76:F83)-MIN(ROW(F76:F83))+1, \"\"), ROW() -75 )), \"\")","v":""}]
[null,"Dallas Baptist University",null,"11-777155","Paul Marquez","V",null,4304.0,null,false,{"$nulls":17},{"$f":"IFERROR(INDEX(B76:B83, SMALL(IF(\"V\"=F76:F83, ROW(F76:F83)-MIN(ROW(F76:F83))+1, \"\"), ROW() -75 )), \"\")","v":"Dallas Baptist University"},{"$f":"IFERROR(INDEX(C76:C83, SMALL(IF(\"V\"=F76:F83, ROW(F76:F83)-MIN(ROW(F76:F83))+1, \"\"), ROW() -75 )), \"\")","v":""},{"$f":"IFERROR(INDEX(D76:D83, SMALL(IF(\"V\"=F76:F83, ROW(F76:F83)-MIN(ROW(F76:F83))+1, \"\"), ROW() -75 )), \"\")","v":"22-23718"},{"$f":"IFERROR(INDEX(E76:E83, SMALL(IF(\"V\"=F76:F83, ROW(F76:F83)-MIN(ROW(F76:F83))+1, \"\"), ROW() -75 )), \"\")","v":"Peter Coniaris"},{"$f":"IFERROR(INDEX(B76:B83, SMALL(IF(ISNUMBER(SEARCH(\"JV1\",F76:F83)), ROW(F76:F83)-MIN(ROW(F76:F83))+1, \"\"), ROW() -75 )), \"\")","v":""},{"$f":"IFERROR(INDEX(C76:C83, SMALL(IF(ISNUMBER(SEARCH(\"JV1\",F76:F83)), ROW(F76:F83)-MIN(ROW(F76:F83))+1, \"\"), ROW() -75 )), \"\")","v":""},{"$f":"IFERROR(INDEX(D76:D83, SMALL(IF(ISNUMBER(SEARCH(\"JV1\",F76:F83)), ROW(F76:F83)-MIN(ROW(F76:F83))+1, \"\"), ROW() -75 )), \"\")","v":""},{"$f":"IFERROR(INDEX(E76:E83, SMALL(IF(ISNUMBER(SEARCH(\"JV1\",F76:F83)), ROW(F76:F83)-MIN(ROW(F76:F83))+1, \"\"), ROW() -75 )), \"\")","v":""},{"$f":"IFERROR(INDEX(B76:B83, SMALL(IF(ISNUMBER(SEARCH(\"JV2\",F76:F83)), ROW(F76:F83)-MIN(ROW(F76:F83))+1, \"\"), ROW() -75 )), \"\")","v":""},{"$f":"IFERROR(INDEX(C76:C83, SMALL(IF(ISNUMBER(SEARCH(\"JV2\",F76:F83)), ROW(F76:F83)-MIN(ROW(F76:F83))+1, \"\"), ROW() -75 )), \"\")","v":""},{"$f":"IFERROR(INDEX(D76:D83, SMALL(IF(ISNUMBER(SEARCH(\"JV2\",F76:F83)), ROW(F76:F83)-MIN(ROW(F76:F83))+1, \"\"), ROW() -75 )), \"\")","v":""},{"$f":"IFERROR(INDEX(E76:E83, SMALL(IF(ISNUMBER(SEARCH(\"JV2\",F76:F83)), ROW(F76:F83)-MIN(ROW(F76:F83))+1, \"\"), ROW() -75 )), \"\")","v":""}]
[null,"Dallas Baptist University",null,"22-23718","Peter Coniaris","V",null,4304.0,null,false,{"$nulls":17},{"$f":"IFERROR(INDEX(B76:B83, SMALL(IF(\"V\"=F76:F83, ROW(F76:F83)-MIN(ROW(F76:F83))+1, \"\"), ROW() -75 )), \"\")","v":""},{"$f":"IFERROR(INDEX(C76:C83, SMALL(IF(\"V\"=F76:F83, ROW(F76:F83)-MIN(ROW(F76:F83))+1, \"\"), ROW() -75 )), \"\")","v":""},{"$f":"IFERROR(INDEX(D76:D83, SMALL(IF(\"V\"=F76:F83, ROW(F76:F83)-MIN(ROW(F76:F83))+1, \"\"), ROW() -75 )), \"\")","v":""},{"$f":"IFERROR(INDEX(E76:E83, SMALL(IF(\"V\"=F76:F83, ROW(F76:F83)-MIN(ROW(F76:F83))+1, \"\"), ROW() -75 )), \"\")","v":""},{"$f":"IFERROR(INDEX(B76:B83, SMALL(IF(ISNUMBER(SEARCH(\"JV1\",F76:F83)), ROW(F76:F83)-MIN(ROW(F76:F83))+1, \"\"), ROW() -75 )), \"\")","v":""},{"$f":"IFERROR(INDEX(C76:C83, SMALL(IF(ISNUMBER(SEARCH(\"JV1\",F76:F83)), ROW(F76:F83)-MIN(ROW(F76:F83))+1, \"\"), ROW() -75 )), \"\")","v":""},{"$f":"IFERROR(INDEX(D76:D83, SMALL(IF(ISNUMBER(SEARCH(\"JV1\",F76:F83)), ROW(F76:F83)-MIN(ROW(F76:F83))+1, \"\"), ROW() -75 )), \"\")","v":""},{"$f":"IFERROR(INDEX(E76:E83, SMALL(IF(ISNUMBER(SEARCH(\"JV1\",F76:F83)), ROW(F76:F83)-MIN(ROW(F76:F83))+1, \"\"), ROW() -75 )), \"\")","v":""},{"$f":"IFERROR(INDEX(B76:B83, SMALL(IF(ISNUMBER(SEARCH(\"JV2\",F76:F83)), ROW(F76:F83)-MIN(ROW(F76:F83))+1, \"\"), ROW() -75 )), \"\")","v":""},{"$f":"IFERROR(INDEX(C76:C83, SMALL(IF(ISNUMBER(SEARCH(\"JV2\",F76:F83)), ROW(F76:F83)-MIN(ROW(F76:F83))+1, \"\"), ROW() -75 )), \"\")","v":""},{"$f":"IFERROR(INDEX(D76:D83, SMALL(IF(ISNUMBER(SEARCH(\"JV2\",F76:F83)), ROW(F76:F83)-MIN(ROW(F76:F83))+1, \"\"), ROW() -75 )), \"\")","v":""},{"$f":"IFERROR(INDEX(E76:E83, SMALL(IF(ISNUMBER(SEARCH(\"JV2\",F76:F83)), ROW(F76:F83)-MIN(ROW(F76:F83))+1, \"\"), ROW() -75 )), \"\")","v":""}]
[null,"Drury University",null,"11-499796","Ammon Janey","V",null,4379.0,null,false,{"$nulls":17},{"$f":"IFERROR(INDEX(B84:B92, SMALL(IF(\"V\"=F84:F92, ROW(F84:F92)-MIN(ROW(F84:F92))+1, \"\"), ROW() -83 )), \"\")","v":"Drury University"},{"$f":"IFERROR(INDEX(C84:C92, SMALL(IF(\"V\"=F84:F92, ROW(F84:F92)-MIN(ROW(F84:F92))+1, \"\"), ROW() -83 )), \"\")","v":""},{"$f":"IFERROR(INDEX(D84:D92, SMALL(IF(\"V\"=F84:F92, ROW(F84:F92)-MIN(ROW(F84:F92))+1, \"\"), ROW() -83 )), \"\")","v":"11-499796"},{"$f":"IFERROR(INDEX(E84:E92, SMALL(IF(\"V\"=F84:F92, ROW(F84:F92)-MIN(ROW(F84:F92))+1, \"\"), ROW() -83 )), \"\")","v":"Ammon Janey"},{"$f":"IFERROR(INDEX(B84:B92, SMALL(IF(ISNUMBER(SEARCH(\"JV1\",F84:F92)), ROW(F84:F92)-MIN(ROW(F84:F92))+1, \"\"), ROW() -83 )), \"\")","v":""},{"$f":"IFERROR(INDEX(C84:C92, SMALL(IF(ISNUMBER(SEARCH(\"JV1\",F84:F92)), ROW(F84:F92)-MIN(ROW(F84:F92))+1, \"\"), ROW() -83 )), \"\")","v":""},{"$f":"IFERROR(INDEX(D84:D92, SMALL(IF(ISNUMBER(SEARCH(\"JV1\",F84:F92)), ROW(F84:F92)-MIN(ROW(F84:F92))+1, \"\"), ROW() -83 )), \"\")","v":""},{"$f":"IFERROR(INDEX(E84:E92, SMALL(IF(ISNUMBER(SEARCH(\"JV1\",F84:F92)), ROW(F84:F92)-MIN(ROW(F84:F92))+1, \"\"), ROW() -83 )), \"\")","v":""},{"$f":"IFERROR(INDEX(B84:B92, SMALL(IF(ISNUMBER(SEARCH(\"JV2\",F84:F92)), ROW(F84:F92)-MIN(ROW(F84:F92))+1, \"\"), ROW() -83 )), \"\")","v":""},{"$f":"IFERROR(INDEX(C84:C92, SMALL(IF(ISNUMBER(SEARCH(\"JV2\",F84:F92)), ROW(F84:F92)-MIN(ROW(F84:F92))+1, \"\"), ROW() -83 )), \"\")","v":""},{"$f":"IFERROR(INDEX(D84:D92, SMALL(IF(ISNUMBER(SEARCH(\"JV2\",F84:F92)), ROW(F84:F92)-MIN(ROW(F84:F92))+1, \"\"), ROW() -83 )), \"\")","v":""},{"$f":"IFERROR(INDEX(E84:E92, SMALL(IF(ISNUMBER(SEARCH(\"JV2\",F84:F92)), ROW(F84:F92)-MIN(ROW(F84:F92))+1, \"\"), ROW() -83 )), \"\")","v":""}]
[null,"Drury University",null,"11-375377","Brandon Lacy","V",null,4379.0,null,false,{"$nulls":17},{"$f":"IFERROR(INDEX(B84:B92, SMALL(IF(\"V\"=F84:F92, ROW(F84:F92)-MIN(ROW(F84:F92))+1, \"\"), ROW() -83 )), \"\")","v":"Drury University"},{"$f":"IFERROR(INDEX(C84:C92, SMALL(IF(\"V\"=F84:F92, ROW(F84:F92)-MIN(ROW(F84:F92))+1, \"\"), ROW() -83 )), \"\")","v":""},{"$f":"IFERROR(INDEX(D84:D92, SMALL(IF(\"V\"=F84:F92, ROW(F84:F92)-MIN(ROW(F84:F92))+1, \"\"), ROW() -83 )), \"\")","v":"11-375377"},{"$f":"IFERROR(INDEX(E84:E92, SMALL(IF(\"V\"=F84:F92, ROW(F84:F92)-MIN(ROW(F84:F92))+1, \"\"), ROW() -83 )), \"\")","v":"Brandon Lacy"},{"$f":"IFERROR(INDEX(B84:B92, SMALL(IF(ISNUMBER(SEARCH(\"JV1\",F84:F92)), ROW(F84:F92)-MIN(ROW(F84:F92))+1, \"\"), ROW() -83 )), \"\")","v":""},{"$f":"IFERROR(INDEX(C84:C92, SMALL(IF(ISNUMBER(SEARCH(\"JV1\",F84:F92)), ROW(F84:F92)-MIN(ROW(F84:F92))+1, \"\"), ROW() -83 )), \"\")","v":""},{"$f":"IFERROR(INDEX(D84:D92, SMALL(IF(ISNUMBER(SEARCH(\"JV1\",F84:F92)), ROW(F84:F92)-MIN(ROW(F84:F92))+1, \"\"), ROW() -83 )), \"\")","v":""},{"$f":"IFERROR(INDEX(E84:E92, SMALL(IF(ISNUMBER(SEARCH(\"JV1\",F84:F92)), ROW(F84:F92)-MIN(ROW(F84:F92))+1, \"\"), ROW() -83 )), \"\")","v":""},{"$f":"IFERROR(INDEX(B84:B92, SMALL(IF(ISNUMBER(SEARCH(\"JV2\",F84:F92)), ROW(F84:F92)-MIN(ROW(F84:F92))+1, \"\"), ROW() -83 )), \"\")","v":""},{"$f":"IFERROR(INDEX(C84:C92, SMALL(IF(ISNUMBER(SEARCH(\"JV2\",F84:F92)), ROW(F84:F92)-MIN(ROW(F84:F92))+1, \"\"), ROW() -83 )), \"\")","v":""},{"$f":"IFERROR(INDEX(D84:D92, SMALL(IF(ISNUMBER(SEARCH(\"JV2\",F84:F92)), ROW(F84:F92)-MIN(ROW(F84:F92))+1, \"\"), ROW() -83 )), \"\")","v":""},{"$f":"IFERROR(INDEX(E84:E92, SMALL(IF(ISNUMBER(SEARCH(\"JV2\",F84:F92)), ROW(F84:F92)-MIN(ROW(F84:F92))+1, \"\"), ROW() -83 )), \"\")","v":""}]
[null,"Drury University",null,"8845-26727","Glen Sills","V",null,4379.0,null,false,{"$nulls":17},{"$f":"IFERROR(INDEX(B84:B92, SMALL(IF(\"V\"=F84:F92, ROW(F84:F92)-MIN(ROW(F84:F92))+1, \"\"), ROW() -83 )), \"\")","v":"Drury University"},{"$f":"IFERROR(INDEX(C84:C92, SMALL(IF(\"V\"=F84:F92, ROW(F84:F92)-MIN(ROW(F84:F92))+1, \"\"), ROW() -83 )), \"\")","v":""},{"$f":"IFERROR(INDEX(D84:D92, SMALL(IF(\"V\"=F84:F92, ROW(F84:F92)-MIN(ROW(F84:F92))+1, \"\"), ROW() -83 )), \"\")","v":"8845-26727"},{"$f":"IFERROR(INDEX(E84:E92, SMALL(IF(\"V\"=F84:F92, ROW(F84:F92)-MIN(ROW(F84:F92))+1, \"\"), ROW() -83 )), \"\")","v":"Glen Sills"},{"$f":"IFERROR(INDEX(B84:B92, SMALL(IF(ISNUMBER(SEARCH(\"JV1\",F84:F92)), ROW(F84:F92)-MIN(ROW(F84:F92))+1, \"\"), ROW() -83 )), \"\")","v":""},{"$f":"IFERROR(INDEX(C84:C92, SMALL(IF(ISNUMBER(SEARCH(\"JV1\",F84:F92)), ROW(F84:F92)-MIN(ROW(F84:F92))+1, \"\"), ROW() -83 )), \"\")","v":""},{"$f":"IFERROR(INDEX(D84:D92, SMALL(IF(ISNUMBER(SEARCH(\"JV1\",F84:F92)), ROW(F84:F92)-MIN(ROW(F84:F92))+1, \"\"), ROW() -83 )), \"\")","v":""},{"$f":"IFERROR(INDEX(E84:E92, SMALL(IF(ISNUMBER(SEARCH(\"JV1\",F84:F92)), ROW(F84:F92)-MIN(ROW(F84:F92))+1, \"\"), ROW() -83 )), \"\")","v":""},{"$f":"IFERROR(INDEX(B84:B92, SMALL(IF(ISNUMBER(SEARCH(\"JV2\",F84:F92)), ROW(F84:F92)-MIN(ROW(F84:F92))+1, \"\"), ROW() -83 )), \"\")","v":""},{"$f":"IFERROR(INDEX(C84:C92, SMALL(IF(ISNUMBER(SEARCH(\"JV2\",F84:F92)), ROW(F84:F92)-MIN(ROW(F84:F92))+1, \"\"), ROW() -83 )), \"\")","v":""},{"$f":"IFERROR(INDEX(D84:D92, SMALL(IF(ISNUMBER(SEARCH(\"JV2\",F84:F92)), ROW(F84:F92)-MIN(ROW(F84:F92))+1, \"\"), ROW() -83 )), \"\")","v":""},{"$f":"IFERROR(INDEX(E84:E92, SMALL(IF(ISNUMBER(SEARCH(\"JV2\",F84:F92)), ROW(F84:F92)-MIN(ROW(F84:F92))+1, \"\"), ROW() -83 )), \"\")","v":""}]
[null,"Drury University",null,"11-29144","Haden Barbee","V",null,4379.0,null,false,{"$nulls":17},{"$f":"IFERROR(INDEX(B84:B92, SMALL(IF(\"V\"=F84:F92, ROW(F84:F92)-MIN(ROW(F84:F92))+1, \"\"), ROW() -83 )), \"\")","v":"Drury University"},{"$f":"IFERROR(INDEX(C84:C92, SMALL(IF(\"V\"=F84:F92, ROW(F84:F92)-MIN(ROW(F84:F92))+1, \"\"), ROW() -83 )), \"\")","v":""},{"$f":"IFERROR(INDEX(D84:D92, SMALL(IF(\"V\"=F84:F92, ROW(F84:F92)-MIN(ROW(F84:F92))+1, \"\"), ROW() -83 )), \"\")","v":"11-29144"},{"$f":"IFERROR(INDEX(E84:E92, SMALL(IF(\"V\"=F84:F92, ROW(F84:F92)-MIN(ROW(F84:F92))+1, \"\"), ROW() -83 )), \"\")","v":"Haden Barbee"},{"$f":"IFERROR(INDEX(B84:B92, SMALL(IF(ISNUMBER(SEARCH(\"JV1\",F84:F92)), ROW(F84:F92)-MIN(ROW(F84:F92))+1, \"\"), ROW() -83 )), \"\")","v":""},{"$f":"IFERROR(INDEX(C84:C92, SMALL(IF(ISNUMBER(SEARCH(\"JV1\",F84:F92)), ROW(F84:F92)-MIN(ROW(F84:F92))+1, \"\"), ROW() -83 )), \"\")","v":""},{"$f":"IFERROR(INDEX(D84:D92, SMALL(IF(ISNUMBER(SEARCH(\"JV1\",F84:F92)), ROW(F84:F92)-MIN(ROW(F84:F92))+1, \"\"), ROW() -83 )), \"\")","v":""},{"$f":"IFERROR(INDEX(E84:E92, SMALL(IF(ISNUMBER(SEARCH(\"JV1\",F84:F92)), ROW(F84:F92)-MIN(ROW(F84:F92))+1, \"\"), ROW() -83 )), \"\")","v":""},{"$f":"IFERROR(INDEX(B84:B92, SMALL(IF(ISNUMBER(SEARCH(\"JV2\",F84:F92)), ROW(F84:F92)-MIN(ROW(F84:F92))+1, \"\"), ROW() -83 )), \"\")","v":""},{"$f":"IFERROR(INDEX(C84:C92, SMALL(IF(ISNUMBER(SEARCH(\"JV2\",F84:F92)), ROW(F84:F92)-MIN(ROW(F84:F92))+1, \"\"), ROW() -83 )), \"\")","v":""},{"$f":"IFERROR(INDEX(D84:D92, SMALL(IF(ISNUMBER(SEARCH(\"JV2\",F84:F92)), ROW(F84:F92)-MIN(ROW(F84:F92))+1, \"\"), ROW() -83 )), \"\")","v":""},{"$f":"IFERROR(INDEX(E84:E92, SMALL(IF(ISNUMBER(SEARCH(\"JV2\",F84:F92)), ROW(F84:F92)-MIN(ROW(F84:F92))+1, \"\"), ROW() -83 )), \"\")","v":""}]
[null,"Drury University",null,"11-111286","Jeremy Vanost","V",null,4379.0,null,false,{"$nulls":17},{"$f":"IFERROR(INDEX(B84:B92, SMALL(IF(\"V\"=F84:F92, ROW(F84:F92)-MIN(ROW(F84:F92))+1, \"\"), ROW() -83 )), \"\")","v":"Drury University"},{"$f":"IFERROR(INDEX(C84:C92, SMALL(IF(\"V\"=F84:F92, ROW(F84:F92)-MIN(ROW(F84:F92))+1, \"\"), ROW() -83 )), \"\")","v":""},{"$f":"IFERROR(INDEX(D84:D92, SMALL(IF(\"V\"=F84:F92, ROW(F84:F92)-MIN(ROW(F84:F92))+1, \"\"), ROW() -83 )), \"\")","v":"11-111286"},{"$f":"IFERROR(INDEX(E84:E92, SMALL(IF(\"V\"=F84:F92, ROW(F84:F92)-MIN(ROW(F84:F92))+1, \"\"), ROW() -83 )), \"\")","v":"Jeremy Vanost"},{"$f":"IFERROR(INDEX(B84:B92, SMALL(IF(ISNUMBER(SEARCH(\"JV1\",F84:F92)), ROW(F84:F92)-MIN(ROW(F84:F92))+1, \"\"), ROW() -83 )), \"\")","v":""},{"$f":"IFERROR(INDEX(C84:C92, SMALL(IF(ISNUMBER(SEARCH(\"JV1\",F84:F92)), ROW(F84:F92)-MIN(ROW(F84:F92))+1, \"\"), ROW() -83 )), \"\")","v":""},{"$f":"IFERROR(INDEX(D84:D92, SMALL(IF(ISNUMBER(SEARCH(\"JV1\",F84:F92)), ROW(F84:F92)-MIN(ROW(F84:F92))+1, \"\"), ROW() -83 )), \"\")","v":""},{"$f":"IFERROR(INDEX(E84:E92, SMALL(IF(ISNUMBER(SEARCH(\"JV1\",F84:F92)), ROW(F84:F92)-MIN(ROW(F84:F92))+1, \"\"), ROW() -83 )), \"\")","v":""},{"$f":"IFERROR(INDEX(B84:B92, SMALL(IF(ISNUMBER(SEARCH(\"JV2\",F84:F92)), ROW(F84:F92)-MIN(ROW(F84:F92))+1, \"\"), ROW() -83 )), \"\")","v":""},{"$f":"IFERROR(INDEX(C84:C92, SMALL(IF(ISNUMBER(SEARCH(\"JV2\",F84:F92)), ROW(F84:F92)-MIN(ROW(F84:F92))+1, \"\"), ROW() -83 )), \"\")","v":""},{"$f":"IFERROR(INDEX(D84:D92, SMALL(IF(ISNUMBER(SEARCH(\"JV2\",F84:F92)), ROW(F84:F92)-MIN(ROW(F84:F92))+1, \"\"), ROW() -83 )), \"\")","v":""},{"$f":"IFERROR(INDEX(E84:E92, SMALL(IF(ISNUMBER(SEARCH(\"JV2\",F84:F92)), ROW(F84:F92)-MIN(ROW(F84:F92))+1, \"\"), ROW() -83 )), \"\")","v":""}]
[null,"Drury University",null,"18-82246","Jordan McConnell","V",null,4379.0,null,false,{"$nulls":17},{"$f":"IFERROR(INDEX(B84:B92, SMALL(IF(\"V\"=F84:F92, ROW(F84:F92)-MIN(ROW(F84:F92))+1, \"\"), ROW() -83 )), \"\")","v":"Drury University"},{"$f":"IFERROR(INDEX(C84:C92, SMALL(IF(\"V\"=F84:F92, ROW(F84:F92)-MIN(ROW(F84:F92))+1, \"\"), ROW() -83 )), \"\")","v":""},{"$f":"IFERROR(INDEX(D84:D92, SMALL(IF(\"V\"=F84:F92, ROW(F84:F92)-MIN(ROW(F84:F92))+1, \"\"), ROW() -83 )), \"\")","v":"18-82246"},{"$f":"IFERROR(INDEX(E84:E92, SMALL(IF(\"V\"=F84:F92, ROW(F84:F92)-MIN(ROW(F84:F92))+1, \"\"), ROW() -83 )), \"\")","v":"Jordan McConnell"},{"$f":"IFERROR(INDEX(B84:B92, SMALL(IF(ISNUMBER(SEARCH(\"JV1\",F84:F92)), ROW(F84:F92)-MIN(ROW(F84:F92))+1, \"\"), ROW() -83 )), \"\")","v":""},{"$f":"IFERROR(INDEX(C84:C92, SMALL(IF(ISNUMBER(SEARCH(\"JV1\",F84:F92)), ROW(F84:F92)-MIN(ROW(F84:F92))+1, \"\"), ROW() -83 )), \"\")","v":""},{"$f":"IFERROR(INDEX(D84:D92, SMALL(IF(ISNUMBER(SEARCH(\"JV1\",F84:F92)), ROW(F84:F92)-MIN(ROW(F84:F92))+1, \"\"), ROW() -83 )), \"\")","v":""},{"$f":"IFERROR(INDEX(E84:E92, SMALL(IF(ISNUMBER(SEARCH(\"JV1\",F84:F92)), ROW(F84:F92)-MIN(ROW(F84:F92))+1, \"\"), ROW() -83 )), \"\")","v":""},{"$f":"IFERROR(INDEX(B84:B92, SMALL(IF(ISNUMBER(SEARCH(\"JV2\",F84:F92)), ROW(F84:F92)-MIN(ROW(F84:F92))+1, \"\"), ROW() -83 )), \"\")","v":""},{"$f":"IFERROR(INDEX(C84:C92, SMALL(IF(ISNUMBER(SEARCH(\"JV2\",F84:F92)), ROW(F84:F92)-MIN(ROW(F84:F92))+1, \"\"), ROW() -83 )), \"\")","v":""},{"$f":"IFERROR(INDEX(D84:D92, SMALL(IF(ISNUMBER(SEARCH(\"JV2\",F84:F92)), ROW(F84:F92)-MIN(ROW(F84:F92))+1, \"\"), ROW() -83 )), \"\")","v":""},{"$f":"IFERROR(INDEX(E84:E92, SMALL(IF(ISNUMBER(SEARCH(\"JV2\",F84:F92)), ROW(F84:F92)-MIN(ROW(F84:F92))+1, \"\"), ROW() -83 )), \"\")","v":""}]
[null,"Drury University",null,"15-187758","Julian Fisher"," ",null,4379.0,null,false,{"$nulls":17},{"$f":"IFERROR(INDEX(B84:B92, SMALL(IF(\"V\"=F84:F92, ROW(F84:F92)-MIN(ROW(F84:F92))+1, \"\"), ROW() -83 )), \"\")","v":"Drury University"},{"$f":"IFERROR(INDEX(C84:C92, SMALL(IF(\"V\"=F84:F92, ROW(F84:F92)-MIN(ROW(F84:F92))+1, \"\"), ROW() -83 )), \"\")","v":""},{"$f":"IFERROR(INDEX(D84:D92, SMALL(IF(\"V\"=F84:F92, ROW(F84:F92)-MIN(ROW(F84:F92))+1, \"\"), ROW() -83 )), \"\")","v":"18-27844"},{"$f":"IFERROR(INDEX(E84:E92, SMALL(IF(\"V\"=F84:F92, ROW(F84:F92)-MIN(ROW(F84:F92))+1, \"\"), ROW() -83 )), \"\")","v":"Quinten Schulte"},{"$f":"IFERROR(INDEX(B84:B92, SMALL(IF(ISNUMBER(SEARCH(\"JV1\",F84:F92)), ROW(F84:F92)-MIN(ROW(F84:F92))+1, \"\"), ROW() -83 )), \"\")","v":""},{"$f":"IFERROR(INDEX(C84:C92, SMALL(IF(ISNUMBER(SEARCH(\"JV1\",F84:F92)), ROW(F84:F92)-MIN(ROW(F84:F92))+1, \"\"), ROW() -83 )), \"\")","v":""},{"$f":"IFERROR(INDEX(D84:D92, SMALL(IF(ISNUMBER(SEARCH(\"JV1\",F84:F92)), ROW(F84:F92)-MIN(ROW(F84:F92))+1, \"\"), ROW() -83 )), \"\")","v":""},{"$f":"IFERROR(INDEX(E84:E92, SMALL(IF(ISNUMBER(SEARCH(\"JV1\",F84:F92)), ROW(F84:F92)-MIN(ROW(F84:F92))+1, \"\"), ROW() -83 )), \"\")","v":""},{"$f":"IFERROR(INDEX(B84:B92, SMALL(IF(ISNUMBER(SEARCH(\"JV2\",F84:F92)), ROW(F84:F92)-MIN(ROW(F84:F92))+1, \"\"), ROW() -83 )), \"\")","v":""},{"$f":"IFERROR(INDEX(C84:C92, SMALL(IF(ISNUMBER(SEARCH(\"JV2\",F84:F92)), ROW(F84:F92)-MIN(ROW(F84:F92))+1, \"\"), ROW() -83 )), \"\")","v":""},{"$f":"IFERROR(INDEX(D84:D92, SMALL(IF(ISNUMBER(SEARCH(\"JV2\",F84:F92)), ROW(F84:F92)-MIN(ROW(F84:F92))+1, \"\"), ROW() -83 )), \"\")","v":""},{"$f":"IFERROR(INDEX(E84:E92, SMALL(IF(ISNUMBER(SEARCH(\"JV2\",F84:F92)), ROW(F84:F92)-MIN(ROW(F84:F92))+1, \"\"), ROW() -83 )), \"\")","v":""}]
[null,"Drury University",null,"18-27844","Quinten Schulte","V",null,4379.0,null,false,{"$nulls":17},{"$f":"IFERROR(INDEX(B84:B92, SMALL(IF(\"V\"=F84:F92, ROW(F84:F92)-MIN(ROW(F84:F92))+1, \"\"), ROW() -83 )), \"\")","v":"Drury University"},{"$f":"IFERROR(INDEX(C84:C92, SMALL(IF(\"V\"=F84:F92, ROW(F84:F92)-MIN(ROW(F84:F92))+1, \"\"), ROW() -83 )), \"\")","v":""},{"$f":"IFERROR(INDEX(D84:D92, SMALL(IF(\"V\"=F84:F92, ROW(F84:F92)-MIN(ROW(F84:F92))+1, \"\"), ROW() -83 )), \"\")","v":"9129-614"},{"$f":"IFERROR(INDEX(E84:E92, SMALL(IF(\"V\"=F84:F92, ROW(F84:F92)-MIN(ROW(F84:F92))+1, \"\"), ROW() -83 )), \"\")","v":"Zacary Barbee"},{"$f":"IFERROR(INDEX(B84:B92, SMALL(IF(ISNUMBER(SEARCH(\"JV1\",F84:F92)), ROW(F84:F92)-MIN(ROW(F84:F92))+1, \"\"), ROW() -83 )), \"\")","v":""},{"$f":"IFERROR(INDEX(C84:C92, SMALL(IF(ISNUMBER(SEARCH(\"JV1\",F84:F92)), ROW(F84:F92)-MIN(ROW(F84:F92))+1, \"\"), ROW() -83 )), \"\")","v":""},{"$f":"IFERROR(INDEX(D84:D92, SMALL(IF(ISNUMBER(SEARCH(\"JV1\",F84:F92)), ROW(F84:F92)-MIN(ROW(F84:F92))+1, \"\"), ROW() -83 )), \"\")","v":""},{"$f":"IFERROR(INDEX(E84:E92, SMALL(IF(ISNUMBER(SEARCH(\"JV1\",F84:F92)), ROW(F84:F92)-MIN(ROW(F84:F92))+1, \"\"), ROW() -83 )), \"\")","v":""},{"$f":"IFERROR(INDEX(B84:B92, SMALL(IF(ISNUMBER(SEARCH(\"JV2\",F84:F92)), ROW(F84:F92)-MIN(ROW(F84:F92))+1, \"\"), ROW() -83 )), \"\")","v":""},{"$f":"IFERROR(INDEX(C84:C92, SMALL(IF(ISNUMBER(SEARCH(\"JV2\",F84:F92)), ROW(F84:F92)-MIN(ROW(F84:F92))+1, \"\"), ROW() -83 )), \"\")","v":""},{"$f":"IFERROR(INDEX(D84:D92, SMALL(IF(ISNUMBER(SEARCH(\"JV2\",F84:F92)), ROW(F84:F92)-MIN(ROW(F84:F92))+1, \"\"), ROW() -83 )), \"\")","v":""},{"$f":"IFERROR(INDEX(E84:E92, SMALL(IF(ISNUMBER(SEARCH(\"JV2\",F84:F92)), ROW(F84:F92)-MIN(ROW(F84:F92))+1, \"\"), ROW() -83 )), \"\")","v":""}]
[null,"Drury University",null,"9129-614","Zacary Barbee","V",null,4379.0,null,false]
[null,"Grand View University",null,"17-40277","Alex Knoshaug"," ",null,3743.0,null,false,{"$nulls":17},{"$f":"IFERROR(INDEX(B93:B113, SMALL(IF(\"V\"=F93:F113, ROW(F93:F113)-MIN(ROW(F93:F113))+1, \"\"), ROW() -92 )), \"\")","v":"Grand View University"},{"$f":"IFERROR(INDEX(C93:C113, SMALL(IF(\"V\"=F93:F113, ROW(F93:F113)-MIN(ROW(F93:F113))+1, \"\"), ROW() -92 )), \"\")","v":""},{"$f":"IFERROR(INDEX(D93:D113, SMALL(IF(\"V\"=F93:F113, ROW(F93:F113)-MIN(ROW(F93:F113))+1, \"\"), ROW() -92 )), \"\")","v":"11-389770"},{"$f":"IFERROR(INDEX(E93:E113, SMALL(IF(\"V\"=F93:F113, ROW(F93:F113)-MIN(ROW(F93:F113))+1, \"\"), ROW() -92 )), \"\")","v":"Andru Wilder"},{"$f":"IFERROR(INDEX(B93:B113, SMALL(IF(ISNUMBER(SEARCH(\"JV1\",F93:F113)), ROW(F93:F113)-MIN(ROW(F93:F113))+1, \"\"), ROW() -92 )), \"\")","v":""},{"$f":"IFERROR(INDEX(C93:C113, SMALL(IF(ISNUMBER(SEARCH(\"JV1\",F93:F113)), ROW(F93:F113)-MIN(ROW(F93:F113))+1, \"\"), ROW() -92 )), \"\")","v":""},{"$f":"IFERROR(INDEX(D93:D113, SMALL(IF(ISNUMBER(SEARCH(\"JV1\",F93:F113)), ROW(F93:F113)-MIN(ROW(F93:F113))+1, \"\"), ROW() -92 )), \"\")","v":""},{"$f":"IFERROR(INDEX(E93:E113, SMALL(IF(ISNUMBER(SEARCH(\"JV1\",F93:F113)), ROW(F93:F113)-MIN(ROW(F93:F113))+1, \"\"), ROW() -92 )), \"\")","v":""},{"$f":"IFERROR(INDEX(B93:B113, SMALL(IF(ISNUMBER(SEARCH(\"JV2\",F93:F113)), ROW(F93:F113)-MIN(ROW(F93:F113))+1, \"\"), ROW() -92 )), \"\")","v":""},{"$f":"IFERROR(INDEX(C93:C113, SMALL(IF(ISNUMBER(SEARCH(\"JV2\",F93:F113)), ROW(F93:F113)-MIN(ROW(F93:F113))+1, \"\"), ROW() -92 )), \"\")","v":""},{"$f":"IFERROR(INDEX(D93:D113, SMALL(IF(ISNUMBER(SEARCH(\"JV2\",F93:F113)), ROW(F93:F113)-MIN(ROW(F93:F113))+1, \"\"), ROW() -92 )), \"\")","v":""},{"$f":"IFERROR(INDEX(E93:E113, SMALL(IF(ISNUMBER(SEARCH(\"JV2\",F93:F113)), ROW(F93:F113)-MIN(ROW(F93:F113))+1, \"\"), ROW() -92 )), \"\")","v":""}]
[null,"Grand View University",null,"11-389770","Andru Wilder","V",null,3743.0,null,false,{"$nulls":17},{"$f":"IFERROR(INDEX(B93:B113, SMALL(IF(\"V\"=F93:F113, ROW(F93:F113)-MIN(ROW(F93:F113))+1, \"\"), ROW() -92 )), \"\")","v":"Grand View University"},{"$f":"IFERROR(INDEX(C93:C113, SMALL(IF(\"V\"=F93:F113, ROW(F93:F113)-MIN(ROW(F93:F113))+1, \"\"), ROW() -92 )), \"\")","v":""},{"$f":"IFERROR(INDEX(D93:D113, SMALL(IF(\"V\"=F93:F113, ROW(F93:F113)-MIN(ROW(F93:F113))+1, \"\"), ROW() -92 )), \"\")","v":"11-295590"},{"$f":"IFERROR(INDEX(E93:E113, SMALL(IF(\"V\"=F93:F113, ROW(F93:F113)-MIN(ROW(F93:F113))+1, \"\"), ROW() -92 )), \"\")","v":"Brayden Fishel"},{"$f":"IFERROR(INDEX(B93:B113, SMALL(IF(ISNUMBER(SEARCH(\"JV1\",F93:F113)), ROW(F93:F113)-MIN(ROW(F93:F113))+1, \"\"), ROW() -92 )), \"\")","v":""},{"$f":"IFERROR(INDEX(C93:C113, SMALL(IF(ISNUMBER(SEARCH(\"JV1\",F93:F113)), ROW(F93:F113)-MIN(ROW(F93:F113))+1, \"\"), ROW() -92 )), \"\")","v":""},{"$f":"IFERROR(INDEX(D93:D113, SMALL(IF(ISNUMBER(SEARCH(\"JV1\",F93:F113)), ROW(F93:F113)-MIN(ROW(F93:F113))+1, \"\"), ROW() -92 )), \"\")","v":""},{"$f":"IFERROR(INDEX(E93:E113, SMALL(IF(ISNUMBER(SEARCH(\"JV1\",F93:F113)), ROW(F93:F113)-MIN(ROW(F93:F113))+1, \"\"), ROW() -92 )), \"\")","v":""},{"$f":"IFERROR(INDEX(B93:B113, SMALL(IF(ISNUMBER(SEARCH(\"JV2\",F93:F113)), ROW(F93:F113)-MIN(ROW(F93:F113))+1, \"\"), ROW() -92 )), \"\")","v":""},{"$f":"IFERROR(INDEX(C93:C113, SMALL(IF(ISNUMBER(SEARCH(\"JV2\",F93:F113)), ROW(F93:F113)-MIN(ROW(F93:F113))+1, \"\"), ROW() -92 )), \"\")","v":""},{"$f":"IFERROR(INDEX(D93:D113, SMALL(IF(ISNUMBER(SEARCH(\"JV2\",F93:F113)), ROW(F93:F113)-MIN(ROW(F93:F113))+1, \"\"), ROW() -92 )), \"\")","v":""},{"$f":"IFERROR(INDEX(E93:E113, SMALL(IF(ISNUMBER(SEARCH(\"JV2\",F93:F113)), ROW(F93:F113)-MIN(ROW(F93:F113))+1, \"\"), ROW() -92 )), \"\")","v":""}]
[null,"Grand View University",null,"11-44997","Benjamin Melcher"," ",null,3743.0,null,false,{"$nulls":17},{"$f":"IFERROR(INDEX(B93:B113, SMALL(IF(\"V\"=F93:F113, ROW(F93:F113)-MIN(ROW(F93:F113))+1, \"\"), ROW() -92 )), \"\")","v":"Grand View University"},{"$f":"IFERROR(INDEX(C93:C113, SMALL(IF(\"V\"=F93:F113, ROW(F93:F113)-MIN(ROW(F93:F113))+1, \"\"), ROW() -92 )), \"\")","v":""},{"$f":"IFERROR(INDEX(D93:D113, SMALL(IF(\"V\"=F93:F113, ROW(F93:F113)-MIN(ROW(F93:F113))+1, \"\"), ROW() -92 )), \"\")","v":"11-742664"},{"$f":"IFERROR(INDEX(E93:E113, SMALL(IF(\"V\"=F93:F113, ROW(F93:F113)-MIN(ROW(F93:F113))+1, \"\"), ROW() -92 )), \"\")","v":"Caden Ziegler"},{"$f":"IFERROR(INDEX(B93:B113, SMALL(IF(ISNUMBER(SEARCH(\"JV1\",F93:F113)), ROW(F93:F113)-MIN(ROW(F93:F113))+1, \"\"), ROW() -92 )), \"\")","v":""},{"$f":"IFERROR(INDEX(C93:C113, SMALL(IF(ISNUMBER(SEARCH(\"JV1\",F93:F113)), ROW(F93:F113)-MIN(ROW(F93:F113))+1, \"\"), ROW() -92 )), \"\")","v":""},{"$f":"IFERROR(INDEX(D93:D113, SMALL(IF(ISNUMBER(SEARCH(\"JV1\",F93:F113)), ROW(F93:F113)-MIN(ROW(F93:F113))+1, \"\"), ROW() -92 )), \"\")","v":""},{"$f":"IFERROR(INDEX(E93:E113, SMALL(IF(ISNUMBER(SEARCH(\"JV1\",F93:F113)), ROW(F93:F113)-MIN(ROW(F93:F113))+1, \"\"), ROW() -92 )), \"\")","v":""},{"$f":"IFERROR(INDEX(B93:B113, SMALL(IF(ISNUMBER(SEARCH(\"JV2\",F93:F113)), ROW(F93:F113)-MIN(ROW(F93:F113))+1, \"\"), ROW() -92 )), \"\")","v":""},{"$f":"IFERROR(INDEX(C93:C113, SMALL(IF(ISNUMBER(SEARCH(\"JV2\",F93:F113)), ROW(F93:F113)-MIN(ROW(F93:F113))+1, \"\"), ROW() -92 )), \"\")","v":""},{"$f":"IFERROR(INDEX(D93:D113, SMALL(IF(ISNUMBER(SEARCH(\"JV2\",F93:F113)), ROW(F93:F113)-MIN(ROW(F93:F113))+1, \"\"), ROW() -92 )), \"\")","v":""},{"$f":"IFERROR(INDEX(E93:E113, SMALL(IF(ISNUMBER(SEARCH(\"JV2\",F93:F113)), ROW(F93:F113)-MIN(ROW(F93:F113))+1, \"\"), ROW() -92 )), \"\")","v":""}]
[null,"Grand View University",null,"11-569567","Brandon Nakaoka"," ",null,3743.0,null,false,{"$nulls":17},{"$f":"IFERROR(INDEX(B93:B113, SMALL(IF(\"V\"=F93:F113, ROW(F93:F113)-MIN(ROW(F93:F113))+1, \"\"), ROW() -92 )), \"\")","v":"Grand View University"},{"$f":"IFERROR(INDEX(C93:C113, SMALL(IF(\"V\"=F93:F113, ROW(F93:F113)-MIN(ROW(F93:F113))+1, \"\"), ROW() -92 )), \"\")","v":""},{"$f":"IFERROR(INDEX(D93:D113, SMALL(IF(\"V\"=F93:F113, ROW(F93:F113)-MIN(ROW(F93:F113))+1, \"\"), ROW() -92 )), \"\")","v":"11-227599"},{"$f":"IFERROR(INDEX(E93:E113, SMALL(IF(\"V\"=F93:F113, ROW(F93:F113)-MIN(ROW(F93:F113))+1, \"\"), ROW() -92 )), \"\")","v":"Derek Baucom"},{"$f":"IFERROR(INDEX(B93:B113, SMALL(IF(ISNUMBER(SEARCH(\"JV1\",F93:F113)), ROW(F93:F113)-MIN(ROW(F93:F113))+1, \"\"), ROW() -92 )), \"\")","v":""},{"$f":"IFERROR(INDEX(C93:C113, SMALL(IF(ISNUMBER(SEARCH(\"JV1\",F93:F113)), ROW(F93:F113)-MIN(ROW(F93:F113))+1, \"\"), ROW() -92 )), \"\")","v":""},{"$f":"IFERROR(INDEX(D93:D113, SMALL(IF(ISNUMBER(SEARCH(\"JV1\",F93:F113)), ROW(F93:F113)-MIN(ROW(F93:F113))+1, \"\"), ROW() -92 )), \"\")","v":""},{"$f":"IFERROR(INDEX(E93:E113, SMALL(IF(ISNUMBER(SEARCH(\"JV1\",F93:F113)), ROW(F93:F113)-MIN(ROW(F93:F113))+1, \"\"), ROW() -92 )), \"\")","v":""},{"$f":"IFERROR(INDEX(B93:B113, SMALL(IF(ISNUMBER(SEARCH(\"JV2\",F93:F113)), ROW(F93:F113)-MIN(ROW(F93:F113))+1, \"\"), ROW() -92 )), \"\")","v":""},{"$f":"IFERROR(INDEX(C93:C113, SMALL(IF(ISNUMBER(SEARCH(\"JV2\",F93:F113)), ROW(F93:F113)-MIN(ROW(F93:F113))+1, \"\"), ROW() -92 )), \"\")","v":""},{"$f":"IFERROR(INDEX(D93:D113, SMALL(IF(ISNUMBER(SEARCH(\"JV2\",F93:F113)), ROW(F93:F113)-MIN(ROW(F93:F113))+1, \"\"), ROW() -92 )), \"\")","v":""},{"$f":"IFERROR(INDEX(E93:E113, SMALL(IF(ISNUMBER(SEARCH(\"JV2\",F93:F113)), ROW(F93:F113)-MIN(ROW(F93:F113))+1, \"\"), ROW() -92 )), \"\")","v":""}]
[null,"Grand View University",null,"11-295590","Brayden Fishel","V",null,3743.0,null,false,{"$nulls":17},{"$f":"IFERROR(INDEX(B93:B113, SMALL(IF(\"V\"=F93:F113, ROW(F93:F113)-MIN(ROW(F93:F113))+1, \"\"), ROW() -92 )), \"\")","v":"Grand View University"},{"$f":"IFERROR(INDEX(C93:C113, SMALL(IF(\"V\"=F93:F113, ROW(F93:F113)-MIN(ROW(F93:F113))+1, \"\"), ROW() -92 )), \"\")","v":""},{"$f":"IFERROR(INDEX(D93:D113, SMALL(IF(\"V\"=F93:F113, ROW(F93:F113)-MIN(ROW(F93:F113))+1, \"\"), ROW() -92 )), \"\")","v":"9138-8600"},{"$f":"IFERROR(INDEX(E93:E113, SMALL(IF(\"V\"=F93:F113, ROW(F93:F113)-MIN(ROW(F93:F113))+1, \"\"), ROW() -92 )), \"\")","v":"Johnathan Hemmingsen"},{"$f":"IFERROR(INDEX(B93:B113, SMALL(IF(ISNUMBER(SEARCH(\"JV1\",F93:F113)), ROW(F93:F113)-MIN(ROW(F93:F113))+1, \"\"), ROW() -92 )), \"\")","v":""},{"$f":"IFERROR(INDEX(C93:C113, SMALL(IF(ISNUMBER(SEARCH(\"JV1\",F93:F113)), ROW(F93:F113)-MIN(ROW(F93:F113))+1, \"\"), ROW() -92 )), \"\")","v":""},{"$f":"IFERROR(INDEX(D93:D113, SMALL(IF(ISNUMBER(SEARCH(\"JV1\",F93:F113)), ROW(F93:F113)-MIN(ROW(F93:F113))+1, \"\"), ROW() -92 )), \"\")","v":""},{"$f":"IFERROR(INDEX(E93:E113, SMALL(IF(ISNUMBER(SEARCH(\"JV1\",F93:F113)), ROW(F93:F113)-MIN(ROW(F93:F113))+1, \"\"), ROW() -92 )), \"\")","v":""},{"$f":"IFERROR(INDEX(B93:B113, SMALL(IF(ISNUMBER(SEARCH(\"JV2\",F93:F113)), ROW(F93:F113)-MIN(ROW(F93:F113))+1, \"\"), ROW() -92 )), \"\")","v":""},{"$f":"IFERROR(INDEX(C93:C113, SMALL(IF(ISNUMBER(SEARCH(\"JV2\",F93:F113)), ROW(F93:F113)-MIN(ROW(F93:F113))+1, \"\"), ROW() -92 )), \"\")","v":""},{"$f":"IFERROR(INDEX(D93:D113, SMALL(IF(ISNUMBER(SEARCH(\"JV2\",F93:F113)), ROW(F93:F113)-MIN(ROW(F93:F113))+1, \"\"), ROW() -92 )), \"\")","v":""},{"$f":"IFERROR(INDEX(E93:E113, SMALL(IF(ISNUMBER(SEARCH(\"JV2\",F93:F113)), ROW(F93:F113)-MIN(ROW(F93:F113))+1, \"\"), ROW() -92 )), \"\")","v":""}]
[null,"Grand View University",null,"11-742664","Caden Ziegler","V",null,3743.0,null,false,{"$nulls":17},{"$f":"IFERROR(INDEX(B93:B113, SMALL(IF(\"V\"=F93:F113, ROW(F93:F113)-MIN(ROW(F93:F113))+1, \"\"), ROW() -92 )), \"\")","v":"Grand View University"},{"$f":"IFERROR(INDEX(C93:C113, SMALL(IF(\"V\"=F93:F113, ROW(F93:F113)-MIN(ROW(F93:F113))+1, \"\"), ROW() -92 )), \"\")","v":""},{"$f":"IFERROR(INDEX(D93:D113, SMALL(IF(\"V\"=F93:F113, ROW(F93:F113)-MIN(ROW(F93:F113))+1, \"\"), ROW() -92 )), \"\")","v":"5860-323"},{"$f":"IFERROR(INDEX(E93:E113, SMALL(IF(\"V\"=F93:F113, ROW(F93:F113)-MIN(ROW(F93:F113))+1, \"\"), ROW() -92 )), \"\")","v":"Lucas Kramer"},{"$f":"IFERROR(INDEX(B93:B113, SMALL(IF(ISNUMBER(SEARCH(\"JV1\",F93:F113)), ROW(F93:F113)-MIN(ROW(F93:F113))+1, \"\"), ROW() -92 )), \"\")","v":""},{"$f":"IFERROR(INDEX(C93:C113, SMALL(IF(ISNUMBER(SEARCH(\"JV1\",F93:F113)), ROW(F93:F113)-MIN(ROW(F93:F113))+1, \"\"), ROW() -92 )), \"\")","v":""},{"$f":"IFERROR(INDEX(D93:D113, SMALL(IF(ISNUMBER(SEARCH(\"JV1\",F93:F113)), ROW(F93:F113)-MIN(ROW(F93:F113))+1, \"\"), ROW() -92 )), \"\")","v":""},{"$f":"IFERROR(INDEX(E93:E113, SMALL(IF(ISNUMBER(SEARCH(\"JV1\",F93:F113)), ROW(F93:F113)-MIN(ROW(F93:F113))+1, \"\"), ROW() -92 )), \"\")","v":""},{"$f":"IFERROR(INDEX(B93:B113, SMALL(IF(ISNUMBER(SEARCH(\"JV2\",F93:F113)), ROW(F93:F113)-MIN(ROW(F93:F113))+1, \"\"), ROW() -92 )), \"\")","v":""},{"$f":"IFERROR(INDEX(C93:C113, SMALL(IF(ISNUMBER(SEARCH(\"JV2\",F93:F113)), ROW(F93:F113)-MIN(ROW(F93:F113))+1, \"\"), ROW() -92 )), \"\")","v":""},{"$f":"IFERROR(INDEX(D93:D113, SMALL(IF(ISNUMBER(SEARCH(\"JV2\",F93:F113)), ROW(F93:F113)-MIN(ROW(F93:F113))+1, \"\"), ROW() -92 )), \"\")","v":""},{"$f":"IFERROR(INDEX(E93:E113, SMALL(IF(ISNUMBER(SEARCH(\"JV2\",F93:F113)), ROW(F93:F113)-MIN(ROW(F93:F113))+1, \"\"), ROW() -92 )), \"\")","v":""}]
[null,"Grand View University",null,"15-194051","Camrey Cavan"," ",null,3743.0,null,false,{"$nulls":17},{"$f":"IFERROR(INDEX(B93:B113, SMALL(IF(\"V\"=F93:F113, ROW(F93:F113)-MIN(ROW(F93:F113))+1, \"\"), ROW() -92 )), \"\")","v":"Grand View University"},{"$f":"IFERROR(INDEX(C93:C113, SMALL(IF(\"V\"=F93:F113, ROW(F93:F113)-MIN(ROW(F93:F113))+1, \"\"), ROW() -92 )), \"\")","v":""},{"$f":"IFERROR(INDEX(D93:D113, SMALL(IF(\"V\"=F93:F113, ROW(F93:F113)-MIN(ROW(F93:F113))+1, \"\"), ROW() -92 )), \"\")","v":"5689-4652"},{"$f":"IFERROR(INDEX(E93:E113, SMALL(IF(\"V\"=F93:F113, ROW(F93:F113)-MIN(ROW(F93:F113))+1, \"\"), ROW() -92 )), \"\")","v":"Nicholas Prochnow"},{"$f":"IFERROR(INDEX(B93:B113, SMALL(IF(ISNUMBER(SEARCH(\"JV1\",F93:F113)), ROW(F93:F113)-MIN(ROW(F93:F113))+1, \"\"), ROW() -92 )), \"\")","v":""},{"$f":"IFERROR(INDEX(C93:C113, SMALL(IF(ISNUMBER(SEARCH(\"JV1\",F93:F113)), ROW(F93:F113)-MIN(ROW(F93:F113))+1, \"\"), ROW() -92 )), \"\")","v":""},{"$f":"IFERROR(INDEX(D93:D113, SMALL(IF(ISNUMBER(SEARCH(\"JV1\",F93:F113)), ROW(F93:F113)-MIN(ROW(F93:F113))+1, \"\"), ROW() -92 )), \"\")","v":""},{"$f":"IFERROR(INDEX(E93:E113, SMALL(IF(ISNUMBER(SEARCH(\"JV1\",F93:F113)), ROW(F93:F113)-MIN(ROW(F93:F113))+1, \"\"), ROW() -92 )), \"\")","v":""},{"$f":"IFERROR(INDEX(B93:B113, SMALL(IF(ISNUMBER(SEARCH(\"JV2\",F93:F113)), ROW(F93:F113)-MIN(ROW(F93:F113))+1, \"\"), ROW() -92 )), \"\")","v":""},{"$f":"IFERROR(INDEX(C93:C113, SMALL(IF(ISNUMBER(SEARCH(\"JV2\",F93:F113)), ROW(F93:F113)-MIN(ROW(F93:F113))+1, \"\"), ROW() -92 )), \"\")","v":""},{"$f":"IFERROR(INDEX(D93:D113, SMALL(IF(ISNUMBER(SEARCH(\"JV2\",F93:F113)), ROW(F93:F113)-MIN(ROW(F93:F113))+1, \"\"), ROW() -92 )), \"\")","v":""},{"$f":"IFERROR(INDEX(E93:E113, SMALL(IF(ISNUMBER(SEARCH(\"JV2\",F93:F113)), ROW(F93:F113)-MIN(ROW(F93:F113))+1, \"\"), ROW() -92 )), \"\")","v":""}]
[null,"Grand View University",null,"11-259917","Chase Stonestreet"," ",null,3743.0,null,false,{"$nulls":17},{"$f":"IFERROR(INDEX(B93:B113, SMALL(IF(\"V\"=F93:F113, ROW(F93:F113)-MIN(ROW(F93:F113))+1, \"\"), ROW() -92 )), \"\")","v":"Grand View University"},{"$f":"IFERROR(INDEX(C93:C113, SMALL(IF(\"V\"=F93:F113, ROW(F93:F113)-MIN(ROW(F93:F113))+1, \"\"), ROW() -92 )), \"\")","v":""},{"$f":"IFERROR(INDEX(D93:D113, SMALL(IF(\"V\"=F93:F113, ROW(F93:F113)-MIN(ROW(F93:F113))+1, \"\"), ROW() -92 )), \"\")","v":"9138-8601"},{"$f":"IFERROR(INDEX(E93:E113, SMALL(IF(\"V\"=F93:F113, ROW(F93:F113)-MIN(ROW(F93:F113))+1, \"\"), ROW() -92 )), \"\")","v":"Tim Lincoln"},{"$f":"IFERROR(INDEX(B93:B113, SMALL(IF(ISNUMBER(SEARCH(\"JV1\",F93:F113)), ROW(F93:F113)-MIN(ROW(F93:F113))+1, \"\"), ROW() -92 )), \"\")","v":""},{"$f":"IFERROR(INDEX(C93:C113, SMALL(IF(ISNUMBER(SEARCH(\"JV1\",F93:F113)), ROW(F93:F113)-MIN(ROW(F93:F113))+1, \"\"), ROW() -92 )), \"\")","v":""},{"$f":"IFERROR(INDEX(D93:D113, SMALL(IF(ISNUMBER(SEARCH(\"JV1\",F93:F113)), ROW(F93:F113)-MIN(ROW(F93:F113))+1, \"\"), ROW() -92 )), \"\")","v":""},{"$f":"IFERROR(INDEX(E93:E113, SMALL(IF(ISNUMBER(SEARCH(\"JV1\",F93:F113)), ROW(F93:F113)-MIN(ROW(F93:F113))+1, \"\"), ROW() -92 )), \"\")","v":""},{"$f":"IFERROR(INDEX(B93:B113, SMALL(IF(ISNUMBER(SEARCH(\"JV2\",F93:F113)), ROW(F93:F113)-MIN(ROW(F93:F113))+1, \"\"), ROW() -92 )), \"\")","v":""},{"$f":"IFERROR(INDEX(C93:C113, SMALL(IF(ISNUMBER(SEARCH(\"JV2\",F93:F113)), ROW(F93:F113)-MIN(ROW(F93:F113))+1, \"\"), ROW() -92 )), \"\")","v":""},{"$f":"IFERROR(INDEX(D93:D113, SMALL(IF(ISNUMBER(SEARCH(\"JV2\",F93:F113)), ROW(F93:F113)-MIN(ROW(F93:F113))+1, \"\"), ROW() -92 )), \"\")","v":""},{"$f":"IFERROR(INDEX(E93:E113, SMALL(IF(ISNUMBER(SEARCH(\"JV2\",F93:F113)), ROW(F93:F113)-MIN(ROW(F93:F113))+1, \"\"), ROW() -92 )), \"\")","v":""}]
[null,"Grand View University",null,"11-227599","Derek Baucom","V",null,3743.0,null,false]
[null,"Grand View University",null,"11-260073","Dominick Judge"," ",null,3743.0,null,false]
[null,"Grand View University",null,"21-88052","Ethan Simpson"," ",null,3743.0,null,false]
[null,"Grand View University",null,"5849-84","Hunter Shannon"," ",null,3743.0,null,false]
[null,"Grand View University",null,"9138-8600","Johnathan Hemmingsen","V",null,3743.0,null,false]
[null,"Grand View University",null,"11-230185","Jonathan Featherston"," ",null,3743.0,null,false]
[null,"Grand View University",null,"11-278083","Joshua Baker"," ",null,3743.0,null,false]
[null,"Grand View University",null,"15-149463","Kory Ludden"," ",null,3743.0,null,false]
[null,"Grand View University",null,"5860-323","Lucas Kramer","V",null,3743.0,null,false]
[null,"Grand View University",null,"16-164014","Maxwell Martin"," ",null,3743.0,null,false]
[null,"Grand View University",null,"5689-4652","Nicholas Prochnow","V",null,3743.0,null,false]
[null,"Grand View University",null,"9138-8601","Tim Lincoln","V",null,3743.0,null,false]
[null,"Grand View University",null,"17-67823","William Putney",null,null,3743.0,null,false]
[null,"Hastings College",null,"19-81177","Aiden Wong"," ",null,4331.0,null,false,{"$nulls":17},{"$f":"IFERROR(INDEX(B114:B128, SMALL(IF(\"V\"=F114:F128, ROW(F114:F128)-MIN(ROW(F114:F128))+1, \"\"), ROW() -113 )), \"\")","v":"Hastings College"},{"$f":"IFERROR(INDEX(C114:C128, SMALL(IF(\"V\"=F114:F128, ROW(F114:F128)-MIN(ROW(F114:F128))+1, \"\"), ROW() -113 )), \"\")","v":""},{"$f":"IFERROR(INDEX(D114:D128, SMALL(IF(\"V\"=F114:F128, ROW(F114:F128)-MIN(ROW(F114:F128))+1, \"\"), ROW() -113 )), \"\")","v":"6238-1210"},{"$f":"IFERROR(INDEX(E114:E128, SMALL(IF(\"V\"=F114:F128, ROW(F114:F128)-MIN(ROW(F114:F128))+1, \"\"), ROW() -113 )), \"\")","v":"Anthony Hernandez"},{"$f":"IFERROR(INDEX(B114:B128, SMALL(IF(ISNUMBER(SEARCH(\"JV1\",F114:F128)), ROW(F114:F128)-MIN(ROW(F114:F128))+1, \"\"), ROW() -113 )), \"\")","v":"Hastings College"},{"$f":"IFERROR(INDEX(C114:C128, SMALL(IF(ISNUMBER(SEARCH(\"JV1\",F114:F128)), ROW(F114:F128)-MIN(ROW(F114:F128))+1, \"\"), ROW() -113 )), \"\")","v":""},{"$f":"IFERROR(INDEX(D114:D128, SMALL(IF(ISNUMBER(SEARCH(\"JV1\",F114:F128)), ROW(F114:F128)-MIN(ROW(F114:F128))+1, \"\"), ROW() -113 )), \"\")","v":"20-20962"},{"$f":"IFERROR(INDEX(E114:E128, SMALL(IF(ISNUMBER(SEARCH(\"JV1\",F114:F128)), ROW(F114:F128)-MIN(ROW(F114:F128))+1, \"\"), ROW() -113 )), \"\")","v":"Alex Gomez"},{"$f":"IFERROR(INDEX(B114:B128, SMALL(IF(ISNUMBER(SEARCH(\"JV2\",F114:F128)), ROW(F114:F128)-MIN(ROW(F114:F128))+1, \"\"), ROW() -113 )), \"\")","v":""},{"$f":"IFERROR(INDEX(C114:C128, SMALL(IF(ISNUMBER(SEARCH(\"JV2\",F114:F128)), ROW(F114:F128)-MIN(ROW(F114:F128))+1, \"\"), ROW() -113 )), \"\")","v":""},{"$f":"IFERROR(INDEX(D114:D128, SMALL(IF(ISNUMBER(SEARCH(\"JV2\",F114:F128)), ROW(F114:F128)-MIN(ROW(F114:F128))+1, \"\"), ROW() -113 )), \"\")","v":""},{"$f":"IFERROR(INDEX(E114:E128, SMALL(IF(ISNUMBER(SEARCH(\"JV2\",F114:F128)), ROW(F114:F128)-MIN(ROW(F114:F128))+1, \"\"), ROW() -113 )), \"\")","v":""}]
[null,"Hastings College",null,"20-20962","Alex Gomez","JV1",null,4331.0,null,false,{"$nulls":17},{"$f":"IFERROR(INDEX(B114:B128, SMALL(IF(\"V\"=F114:F128, ROW(F114:F128)-MIN(ROW(F114:F128))+1, \"\"), ROW() -113 )), \"\")","v":"Hastings College"},{"$f":"IFERROR(INDEX(C114:C128, SMALL(IF(\"V\"=F114:F128, ROW(F114:F128)-MIN(ROW(F114:F128))+1, \"\"), ROW() -113 )), \"\")","v":""},{"$f":"IFERROR(INDEX(D114:D128, SMALL(IF(\"V\"=F114:F128, ROW(F114:F128)-MIN(ROW(F114:F128))+1, \"\"), ROW() -113 )), \"\")","v":"8219-74921"},{"$f":"IFERROR(INDEX(E114:E128, SMALL(IF(\"V\"=F114:F128, ROW(F114:F128)-MIN(ROW(F114:F128))+1, \"\"), ROW() -113 )), \"\")","v":"Brady Kaufmann"},{"$f":"IFERROR(INDEX(B114:B128, SMALL(IF(ISNUMBER(SEARCH(\"JV1\",F114:F128)), ROW(F114:F128)-MIN(ROW(F114:F128))+1, \"\"), ROW() -113 )), \"\")","v":"Hastings College"},{"$f":"IFERROR(INDEX(C114:C128, SMALL(IF(ISNUMBER(SEARCH(\"JV1\",F114:F128)), ROW(F114:F128)-MIN(ROW(F114:F128))+1, \"\"), ROW() -113 )), \"\")","v":""},{"$f":"IFERROR(INDEX(D114:D128, SMALL(IF(ISNUMBER(SEARCH(\"JV1\",F114:F128)), ROW(F114:F128)-MIN(ROW(F114:F128))+1, \"\"), ROW() -113 )), \"\")","v":"11-607179"},{"$f":"IFERROR(INDEX(E114:E128, SMALL(IF(ISNUMBER(SEARCH(\"JV1\",F114:F128)), ROW(F114:F128)-MIN(ROW(F114:F128))+1, \"\"), ROW() -113 )), \"\")","v":"Brandon Engels"},{"$f":"IFERROR(INDEX(B114:B128, SMALL(IF(ISNUMBER(SEARCH(\"JV2\",F114:F128)), ROW(F114:F128)-MIN(ROW(F114:F128))+1, \"\"), ROW() -113 )), \"\")","v":""},{"$f":"IFERROR(INDEX(C114:C128, SMALL(IF(ISNUMBER(SEARCH(\"JV2\",F114:F128)), ROW(F114:F128)-MIN(ROW(F114:F128))+1, \"\"), ROW() -113 )), \"\")","v":""},{"$f":"IFERROR(INDEX(D114:D128, SMALL(IF(ISNUMBER(SEARCH(\"JV2\",F114:F128)), ROW(F114:F128)-MIN(ROW(F114:F128))+1, \"\"), ROW() -113 )), \"\")","v":""},{"$f":"IFERROR(INDEX(E114:E128, SMALL(IF(ISNUMBER(SEARCH(\"JV2\",F114:F128)), ROW(F114:F128)-MIN(ROW(F114:F128))+1, \"\"), ROW() -113 )), \"\")","v":""}]
[null,"Hastings College",null,"6238-1210","Anthony Hernandez","V",null,4331.0,null,false,{"$nulls":17},{"$f":"IFERROR(INDEX(B114:B128, SMALL(IF(\"V\"=F114:F128, ROW(F114:F128)-MIN(ROW(F114:F128))+1, \"\"), ROW() -113 )), \"\")","v":"Hastings College"},{"$f":"IFERROR(INDEX(C114:C128, SMALL(IF(\"V\"=F114:F128, ROW(F114:F128)-MIN(ROW(F114:F128))+1, \"\"), ROW() -113 )), \"\")","v":""},{"$f":"IFERROR(INDEX(D114:D128, SMALL(IF(\"V\"=F114:F128, ROW(F114:F128)-MIN(ROW(F114:F128))+1, \"\"), ROW() -113 )), \"\")","v":"11-672708"},{"$f":"IFERROR(INDEX(E114:E128, SMALL(IF(\"V\"=F114:F128, ROW(F114:F128)-MIN(ROW(F114:F128))+1, \"\"), ROW() -113 )), \"\")","v":"Kenneth High"},{"$f":"IFERROR(INDEX(B114:B128, SMALL(IF(ISNUMBER(SEARCH(\"JV1\",F114:F128)), ROW(F114:F128)-MIN(ROW(F114:F128))+1, \"\"), ROW() -113 )), \"\")","v":"Hastings College"},{"$f":"IFERROR(INDEX(C114:C128, SMALL(IF(ISNUMBER(SEARCH(\"JV1\",F114:F128)), ROW(F114:F128)-MIN(ROW(F114:F128))+1, \"\"), ROW() -113 )), \"\")","v":""},{"$f":"IFERROR(INDEX(D114:D128, SMALL(IF(ISNUMBER(SEARCH(\"JV1\",F114:F128)), ROW(F114:F128)-MIN(ROW(F114:F128))+1, \"\"), ROW() -113 )), \"\")","v":"11-120329"},{"$f":"IFERROR(INDEX(E114:E128, SMALL(IF(ISNUMBER(SEARCH(\"JV1\",F114:F128)), ROW(F114:F128)-MIN(ROW(F114:F128))+1, \"\"), ROW() -113 )), \"\")","v":"Carstin Olson"},{"$f":"IFERROR(INDEX(B114:B128, SMALL(IF(ISNUMBER(SEARCH(\"JV2\",F114:F128)), ROW(F114:F128)-MIN(ROW(F114:F128))+1, \"\"), ROW() -113 )), \"\")","v":""},{"$f":"IFERROR(INDEX(C114:C128, SMALL(IF(ISNUMBER(SEARCH(\"JV2\",F114:F128)), ROW(F114:F128)-MIN(ROW(F114:F128))+1, \"\"), ROW() -113 )), \"\")","v":""},{"$f":"IFERROR(INDEX(D114:D128, SMALL(IF(ISNUMBER(SEARCH(\"JV2\",F114:F128)), ROW(F114:F128)-MIN(ROW(F114:F128))+1, \"\"), ROW() -113 )), \"\")","v":""},{"$f":"IFERROR(INDEX(E114:E128, SMALL(IF(ISNUMBER(SEARCH(\"JV2\",F114:F128)), ROW(F114:F128)-MIN(ROW(F114:F128))+1, \"\"), ROW() -113 )), \"\")","v":""}]
[null,"Hastings College",null,"8219-74921","Brady Kaufmann","V",null,4331.0,null,false,{"$nulls":17},{"$f":"IFERROR(INDEX(B114:B128, SMALL(IF(\"V\"=F114:F128, ROW(F114:F128)-MIN(ROW(F114:F128))+1, \"\"), ROW() -113 )), \"\")","v":"Hastings College"},{"$f":"IFERROR(INDEX(C114:C128, SMALL(IF(\"V\"=F114:F128, ROW(F114:F128)-MIN(ROW(F114:F128))+1, \"\"), ROW() -113 )), \"\")","v":""},{"$f":"IFERROR(INDEX(D114:D128, SMALL(IF(\"V\"=F114:F128, ROW(F114:F128)-MIN(ROW(F114:F128))+1, \"\"), ROW() -113 )), \"\")","v":"17-60831"},{"$f":"IFERROR(INDEX(E114:E128, SMALL(IF(\"V\"=F114:F128, ROW(F114:F128)-MIN(ROW(F114:F128))+1, \"\"), ROW() -113 )), \"\")","v":"Paul Baker"},{"$f":"IFERROR(INDEX(B114:B128, SMALL(IF(ISNUMBER(SEARCH(\"JV1\",F114:F128)), ROW(F114:F128)-MIN(ROW(F114:F128))+1, \"\"), ROW() -113 )), \"\")","v":"Hastings College"},{"$f":"IFERROR(INDEX(C114:C128, SMALL(IF(ISNUMBER(SEARCH(\"JV1\",F114:F128)), ROW(F114:F128)-MIN(ROW(F114:F128))+1, \"\"), ROW() -113 )), \"\")","v":""},{"$f":"IFERROR(INDEX(D114:D128, SMALL(IF(ISNUMBER(SEARCH(\"JV1\",F114:F128)), ROW(F114:F128)-MIN(ROW(F114:F128))+1, \"\"), ROW() -113 )), \"\")","v":"11-748575"},{"$f":"IFERROR(INDEX(E114:E128, SMALL(IF(ISNUMBER(SEARCH(\"JV1\",F114:F128)), ROW(F114:F128)-MIN(ROW(F114:F128))+1, \"\"), ROW() -113 )), \"\")","v":"Maxx Uecker"},{"$f":"IFERROR(INDEX(B114:B128, SMALL(IF(ISNUMBER(SEARCH(\"JV2\",F114:F128)), ROW(F114:F128)-MIN(ROW(F114:F128))+1, \"\"), ROW() -113 )), \"\")","v":""},{"$f":"IFERROR(INDEX(C114:C128, SMALL(IF(ISNUMBER(SEARCH(\"JV2\",F114:F128)), ROW(F114:F128)-MIN(ROW(F114:F128))+1, \"\"), ROW() -113 )), \"\")","v":""},{"$f":"IFERROR(INDEX(D114:D128, SMALL(IF(ISNUMBER(SEARCH(\"JV2\",F114:F128)), ROW(F114:F128)-MIN(ROW(F114:F128))+1, \"\"), ROW() -113 )), \"\")","v":""},{"$f":"IFERROR(INDEX(E114:E128, SMALL(IF(ISNUMBER(SEARCH(\"JV2\",F114:F128)), ROW(F114:F128)-MIN(ROW(F114:F128))+1, \"\"), ROW() -113 )), \"\")","v":""}]
[null,"Hastings College",null,"11-607179","Brandon Engels","JV1",null,4331.0,null,false,{"$nulls":17},{"$f":"IFERROR(INDEX(B114:B128, SMALL(IF(\"V\"=F114:F128, ROW(F114:F128)-MIN(ROW(F114:F128))+1, \"\"), ROW() -113 )), \"\")","v":"Hastings College"},{"$f":"IFERROR(INDEX(C114:C128, SMALL(IF(\"V\"=F114:F128, ROW(F114:F128)-MIN(ROW(F114:F128))+1, \"\"), ROW() -113 )), \"\")","v":""},{"$f":"IFERROR(INDEX(D114:D128, SMALL(IF(\"V\"=F114:F128, ROW(F114:F128)-MIN(ROW(F114:F128))+1, \"\"), ROW() -113 )), \"\")","v":"8813-4825"},{"$f":"IFERROR(INDEX(E114:E128, SMALL(IF(\"V\"=F114:F128, ROW(F114:F128)-MIN(ROW(F114:F128))+1, \"\"), ROW() -113 )), \"\")","v":"Tyler Call"},{"$f":"IFERROR(INDEX(B114:B128, SMALL(IF(ISNUMBER(SEARCH(\"JV1\",F114:F128)), ROW(F114:F128)-MIN(ROW(F114:F128))+1, \"\"), ROW() -113 )), \"\")","v":"Hastings College"},{"$f":"IFERROR(INDEX(C114:C128, SMALL(IF(ISNUMBER(SEARCH(\"JV1\",F114:F128)), ROW(F114:F128)-MIN(ROW(F114:F128))+1, \"\"), ROW() -113 )), \"\")","v":""},{"$f":"IFERROR(INDEX(D114:D128, SMALL(IF(ISNUMBER(SEARCH(\"JV1\",F114:F128)), ROW(F114:F128)-MIN(ROW(F114:F128))+1, \"\"), ROW() -113 )), \"\")","v":"11-429466"},{"$f":"IFERROR(INDEX(E114:E128, SMALL(IF(ISNUMBER(SEARCH(\"JV1\",F114:F128)), ROW(F114:F128)-MIN(ROW(F114:F128))+1, \"\"), ROW() -113 )), \"\")","v":"Nathan Stinemates"},{"$f":"IFERROR(INDEX(B114:B128, SMALL(IF(ISNUMBER(SEARCH(\"JV2\",F114:F128)), ROW(F114:F128)-MIN(ROW(F114:F128))+1, \"\"), ROW() -113 )), \"\")","v":""},{"$f":"IFERROR(INDEX(C114:C128, SMALL(IF(ISNUMBER(SEARCH(\"JV2\",F114:F128)), ROW(F114:F128)-MIN(ROW(F114:F128))+1, \"\"), ROW() -113 )), \"\")","v":""},{"$f":"IFERROR(INDEX(D114:D128, SMALL(IF(ISNUMBER(SEARCH(\"JV2\",F114:F128)), ROW(F114:F128)-MIN(ROW(F114:F128))+1, \"\"), ROW() -113 )), \"\")","v":""},{"$f":"IFERROR(INDEX(E114:E128, SMALL(IF(ISNUMBER(SEARCH(\"JV2\",F114:F128)), ROW(F114:F128)-MIN(ROW(F114:F128))+1, \"\"), ROW() -113 )), \"\")","v":""}]
[null,"Hastings College",null,"11-120329","Carstin Olson","JV1",null,4331.0,null,false,{"$nulls":17},{"$f":"IFERROR(INDEX(B114:B128, SMALL(IF(\"V\"=F114:F128, ROW(F114:F128)-MIN(ROW(F114:F128))+1, \"\"), ROW() -113 )), \"\")","v":"Hastings College"},{"$f":"IFERROR(INDEX(C114:C128, SMALL(IF(\"V\"=F114:F128, ROW(F114:F128)-MIN(ROW(F114:F128))+1, \"\"), ROW() -113 )), \"\")","v":""},{"$f":"IFERROR(INDEX(D114:D128, SMALL(IF(\"V\"=F114:F128, ROW(F114:F128)-MIN(ROW(F114:F128))+1, \"\"), ROW() -113 )), \"\")","v":"11-104668"},{"$f":"IFERROR(INDEX(E114:E128, SMALL(IF(\"V\"=F114:F128, ROW(F114:F128)-MIN(ROW(F114:F128))+1, \"\"), ROW() -113 )), \"\")","v":"Tyler Seeley"},{"$f":"IFERROR(INDEX(B114:B128, SMALL(IF(ISNUMBER(SEARCH(\"JV1\",F114:F128)), ROW(F114:F128)-MIN(ROW(F114:F128))+1, \"\"), ROW() -113 )), \"\")","v":"Hastings College"},{"$f":"IFERROR(INDEX(C114:C128, SMALL(IF(ISNUMBER(SEARCH(\"JV1\",F114:F128)), ROW(F114:F128)-MIN(ROW(F114:F128))+1, \"\"), ROW() -113 )), \"\")","v":""},{"$f":"IFERROR(INDEX(D114:D128, SMALL(IF(ISNUMBER(SEARCH(\"JV1\",F114:F128)), ROW(F114:F128)-MIN(ROW(F114:F128))+1, \"\"), ROW() -113 )), \"\")","v":"11-317301"},{"$f":"IFERROR(INDEX(E114:E128, SMALL(IF(ISNUMBER(SEARCH(\"JV1\",F114:F128)), ROW(F114:F128)-MIN(ROW(F114:F128))+1, \"\"), ROW() -113 )), \"\")","v":"Will Wallace"},{"$f":"IFERROR(INDEX(B114:B128, SMALL(IF(ISNUMBER(SEARCH(\"JV2\",F114:F128)), ROW(F114:F128)-MIN(ROW(F114:F128))+1, \"\"), ROW() -113 )), \"\")","v":""},{"$f":"IFERROR(INDEX(C114:C128, SMALL(IF(ISNUMBER(SEARCH(\"JV2\",F114:F128)), ROW(F114:F128)-MIN(ROW(F114:F128))+1, \"\"), ROW() -113 )), \"\")","v":""},{"$f":"IFERROR(INDEX(D114:D128, SMALL(IF(ISNUMBER(SEARCH(\"JV2\",F114:F128)), ROW(F114:F128)-MIN(ROW(F114:F128))+1, \"\"), ROW() -113 )), \"\")","v":""},{"$f":"IFERROR(INDEX(E114:E128, SMALL(IF(ISNUMBER(SEARCH(\"JV2\",F114:F128)), ROW(F114:F128)-MIN(ROW(F114:F128))+1, \"\"), ROW() -113 )), \"\")","v":""}]
[null,"Hastings College",null,"22-4020","Isaac Smith"," ",null,4331.0,null,false,{"$nulls":17},{"$f":"IFERROR(INDEX(B114:B128, SMALL(IF(\"V\"=F114:F128, ROW(F114:F128)-MIN(ROW(F114:F128))+1, \"\"), ROW() -113 )), \"\")","v":"Hastings College"},{"$f":"IFERROR(INDEX(C114:C128, SMALL(IF(\"V\"=F114:F128, ROW(F114:F128)-MIN(ROW(F114:F128))+1, \"\"), ROW() -113 )), \"\")","v":""},{"$f":"IFERROR(INDEX(D114:D128, SMALL(IF(\"V\"=F114:F128, ROW(F114:F128)-MIN(ROW(F114:F128))+1, \"\"), ROW() -113 )), \"\")","v":"11-102582"},{"$f":"IFERROR(INDEX(E114:E128, SMALL(IF(\"V\"=F114:F128, ROW(F114:F128)-MIN(ROW(F114:F128))+1, \"\"), ROW() -113 )), \"\")","v":"Winton Gassmann"},{"$f":"IFERROR(INDEX(B114:B128, SMALL(IF(ISNUMBER(SEARCH(\"JV1\",F114:F128)), ROW(F114:F128)-MIN(ROW(F114:F128))+1, \"\"), ROW() -113 )), \"\")","v":""},{"$f":"IFERROR(INDEX(C114:C128, SMALL(IF(ISNUMBER(SEARCH(\"JV1\",F114:F128)), ROW(F114:F128)-MIN(ROW(F114:F128))+1, \"\"), ROW() -113 )), \"\")","v":""},{"$f":"IFERROR(INDEX(D114:D128, SMALL(IF(ISNUMBER(SEARCH(\"JV1\",F114:F128)), ROW(F114:F128)-MIN(ROW(F114:F128))+1, \"\"), ROW() -113 )), \"\")","v":""},{"$f":"IFERROR(INDEX(E114:E128, SMALL(IF(ISNUMBER(SEARCH(\"JV1\",F114:F128)), ROW(F114:F128)-MIN(ROW(F114:F128))+1, \"\"), ROW() -113 )), \"\")","v":""},{"$f":"IFERROR(INDEX(B114:B128, SMALL(IF(ISNUMBER(SEARCH(\"JV2\",F114:F128)), ROW(F114:F128)-MIN(ROW(F114:F128))+1, \"\"), ROW() -113 )), \"\")","v":""},{"$f":"IFERROR(INDEX(C114:C128, SMALL(IF(ISNUMBER(SEARCH(\"JV2\",F114:F128)), ROW(F114:F128)-MIN(ROW(F114:F128))+1, \"\"), ROW() -113 )), \"\")","v":""},{"$f":"IFERROR(INDEX(D114:D128, SMALL(IF(ISNUMBER(SEARCH(\"JV2\",F114:F128)), ROW(F114:F128)-MIN(ROW(F114:F128))+1, \"\"), ROW() -113 )), \"\")","v":""},{"$f":"IFERROR(INDEX(E114:E128, SMALL(IF(ISNUMBER(SEARCH(\"JV2\",F114:F128)), ROW(F114:F128)-MIN(ROW(F114:F128))+1, \"\"), ROW() -113 )), \"\")","v":""}]
[null,"Hastings College",null,"11-672708","Kenneth High","V",null,4331.0,null,false,{"$nulls":17},{"$f":"IFERROR(INDEX(B114:B128, SMALL(IF(\"V\"=F114:F128, ROW(F114:F128)-MIN(ROW(F114:F128))+1, \"\"), ROW() -113 )), \"\")","v":""},{"$f":"IFERROR(INDEX(C114:C128, SMALL(IF(\"V\"=F114:F128, ROW(F114:F128)-MIN(ROW(F114:F128))+1, \"\"), ROW() -113 )), \"\")","v":""},{"$f":"IFERROR(INDEX(D114:D128, SMALL(IF(\"V\"=F114:F128, ROW(F114:F128)-MIN(ROW(F114:F128))+1, \"\"), ROW() -113 )), \"\")","v":""},{"$f":"IFERROR(INDEX(E114:E128, SMALL(IF(\"V\"=F114:F128, ROW(F114:F128)-MIN(ROW(F114:F128))+1, \"\"), ROW() -113 )), \"\")","v":""},{"$f":"IFERROR(INDEX(B114:B128, SMALL(IF(ISNUMBER(SEARCH(\"JV1\",F114:F128)), ROW(F114:F128)-MIN(ROW(F114:F128))+1, \"\"), ROW() -113 )), \"\")","v":""},{"$f":"IFERROR(INDEX(C114:C128, SMALL(IF(ISNUMBER(SEARCH(\"JV1\",F114:F128)), ROW(F114:F128)-MIN(ROW(F114:F128))+1, \"\"), ROW() -113 )), \"\")","v":""},{"$f":"IFERROR(INDEX(D114:D128, SMALL(IF(ISNUMBER(SEARCH(\"JV1\",F114:F128)), ROW(F114:F128)-MIN(ROW(F114:F128))+1, \"\"), ROW() -113 )), \"\")","v":""},{"$f":"IFERROR(INDEX(E114:E128, SMALL(IF(ISNUMBER(SEARCH(\"JV1\",F114:F128)), ROW(F114:F128)-MIN(ROW(F114:F128))+1, \"\"), ROW() -113 )), \"\")","v":""},{"$f":"IFERROR(INDEX(B114:B128, SMALL(IF(ISNUMBER(SEARCH(\"JV2\",F114:F128)), ROW(F114:F128)-MIN(ROW(F114:F128))+1, \"\"), ROW() -113 )), \"\")","v":""},{"$f":"IFERROR(INDEX(C114:C128, SMALL(IF(ISNUMBER(SEARCH(\"JV2\",F114:F128)), ROW(F114:F128)-MIN(ROW(F114:F128))+1, \"\"), ROW() -113 )), \"\")","v":""},{"$f":"IFERROR(INDEX(D114:D128, SMALL(IF(ISNUMBER(SEARCH(\"JV2\",F114:F128)), ROW(F114:F128)-MIN(ROW(F114:F128))+1, \"\"), ROW() -113 )), \"\")","v":""},{"$f":"IFERROR(INDEX(E114:E128, SMALL(IF(ISNUMBER(SEARCH(\"JV2\",F114:F128)), ROW(F114:F128)-MIN(ROW(F114:F128))+1, \"\"), ROW() -113 )), \"\")","v":""}]
[null,"Hastings College",null,"11-748575","Maxx Uecker","JV1",null,4331.0,null,false]
[null,"Hastings College",null,"11-429466","Nathan Stinemates","JV1",null,4331.0,null,false]
[null,"Hastings College",null,"17-60831","Paul Baker","V",null,4331.0,null,false]
[null,"Hastings College",null,"8813-4825","Tyler Call","V",null,4331.0,null,false]
[null,"Hastings College",null,"11-104668","Tyler Seeley","V",null,4331.0,null,false]
[null,"Hastings College",null,"11-317301","Will Wallace","JV1",null,4331.0,null,false]
[null,"Hastings College",null,"11-102582","Winton Gassmann","V",null,4331.0,null,false]
[null,"Iowa Central Community College",null,"8162-56713","Braedon Gehrke"," ",null,4158.0,null,false,{"$nulls":17},{"$f":"IFERROR(INDEX(B129:B142, SMALL(IF(\"V\"=F129:F142, ROW(F129:F142)-MIN(ROW(F129:F142))+1, \"\"), ROW() -128 )), \"\")","v":"Iowa Central Community College"},{"$f":"IFERROR(INDEX(C129:C142, SMALL(IF(\"V\"=F129:F142, ROW(F129:F142)-MIN(ROW(F129:F142))+1, \"\"), ROW() -128 )), \"\")","v":""},{"$f":"IFERROR(INDEX(D129:D142, SMALL(IF(\"V\"=F129:F142, ROW(F129:F142)-MIN(ROW(F129:F142))+1, \"\"), ROW() -128 )), \"\")","v":"11-123571"},{"$f":"IFERROR(INDEX(E129:E142, SMALL(IF(\"V\"=F129:F142, ROW(F129:F142)-MIN(ROW(F129:F142))+1, \"\"), ROW() -128 )), \"\")","v":"Dawson Weber"},{"$f":"IFERROR(INDEX(B129:B142, SMALL(IF(ISNUMBER(SEARCH(\"JV1\",F129:F142)), ROW(F129:F142)-MIN(ROW(F129:F142))+1, \"\"), ROW() -128 )), \"\")","v":""},{"$f":"IFERROR(INDEX(C129:C142, SMALL(IF(ISNUMBER(SEARCH(\"JV1\",F129:F142)), ROW(F129:F142)-MIN(ROW(F129:F142))+1, \"\"), ROW() -128 )), \"\")","v":""},{"$f":"IFERROR(INDEX(D129:D142, SMALL(IF(ISNUMBER(SEARCH(\"JV1\",F129:F142)), ROW(F129:F142)-MIN(ROW(F129:F142))+1, \"\"), ROW() -128 )), \"\")","v":""},{"$f":"IFERROR(INDEX(E129:E142, SMALL(IF(ISNUMBER(SEARCH(\"JV1\",F129:F142)), ROW(F129:F142)-MIN(ROW(F129:F142))+1, \"\"), ROW() -128 )), \"\")","v":""},{"$f":"IFERROR(INDEX(B129:B142, SMALL(IF(ISNUMBER(SEARCH(\"JV2\",F129:F142)), ROW(F129:F142)-MIN(ROW(F129:F142))+1, \"\"), ROW() -128 )), \"\")","v":""},{"$f":"IFERROR(INDEX(C129:C142, SMALL(IF(ISNUMBER(SEARCH(\"JV2\",F129:F142)), ROW(F129:F142)-MIN(ROW(F129:F142))+1, \"\"), ROW() -128 )), \"\")","v":""},{"$f":"IFERROR(INDEX(D129:D142, SMALL(IF(ISNUMBER(SEARCH(\"JV2\",F129:F142)), ROW(F129:F142)-MIN(ROW(F129:F142))+1, \"\"), ROW() -128 )), \"\")","v":""},{"$f":"IFERROR(INDEX(E129:E142, SMALL(IF(ISNUMBER(SEARCH(\"JV2\",F129:F142)), ROW(F129:F142)-MIN(ROW(F129:F142))+1, \"\"), ROW() -128 )), \"\")","v":""}]
[null,"Iowa Central Community College",null,"11-123571","Dawson Weber","V",null,4158.0,null,false,{"$nulls":17},{"$f":"IFERROR(INDEX(B129:B142, SMALL(IF(\"V\"=F129:F142, ROW(F129:F142)-MIN(ROW(F129:F142))+1, \"\"), ROW() -128 )), \"\")","v":"Iowa Central Community College"},{"$f":"IFERROR(INDEX(C129:C142, SMALL(IF(\"V\"=F129:F142, ROW(F129:F142)-MIN(ROW(F129:F142))+1, \"\"), ROW() -128 )), \"\")","v":""},{"$f":"IFERROR(INDEX(D129:D142, SMALL(IF(\"V\"=F129:F142, ROW(F129:F142)-MIN(ROW(F129:F142))+1, \"\"), ROW() -128 )), \"\")","v":"15-118474"},{"$f":"IFERROR(INDEX(E129:E142, SMALL(IF(\"V\"=F129:F142, ROW(F129:F142)-MIN(ROW(F129:F142))+1, \"\"), ROW() -128 )), \"\")","v":"Easton Lee"},{"$f":"IFERROR(INDEX(B129:B142, SMALL(IF(ISNUMBER(SEARCH(\"JV1\",F129:F142)), ROW(F129:F142)-MIN(ROW(F129:F142))+1, \"\"), ROW() -128 )), \"\")","v":""},{"$f":"IFERROR(INDEX(C129:C142, SMALL(IF(ISNUMBER(SEARCH(\"JV1\",F129:F142)), ROW(F129:F142)-MIN(ROW(F129:F142))+1, \"\"), ROW() -128 )), \"\")","v":""},{"$f":"IFERROR(INDEX(D129:D142, SMALL(IF(ISNUMBER(SEARCH(\"JV1\",F129:F142)), ROW(F129:F142)-MIN(ROW(F129:F142))+1, \"\"), ROW() -128 )), \"\")","v":""},{"$f":"IFERROR(INDEX(E129:E142, SMALL(IF(ISNUMBER(SEARCH(\"JV1\",F129:F142)), ROW(F129:F142)-MIN(ROW(F129:F142))+1, \"\"), ROW() -128 )), \"\")","v":""},{"$f":"IFERROR(INDEX(B129:B142, SMALL(IF(ISNUMBER(SEARCH(\"JV2\",F129:F142)), ROW(F129:F142)-MIN(ROW(F129:F142))+1, \"\"), ROW() -128 )), \"\")","v":""},{"$f":"IFERROR(INDEX(C129:C142, SMALL(IF(ISNUMBER(SEARCH(\"JV2\",F129:F142)), ROW(F129:F142)-MIN(ROW(F129:F142))+1, \"\"), ROW() -128 )), \"\")","v":""},{"$f":"IFERROR(INDEX(D129:D142, SMALL(IF(ISNUMBER(SEARCH(\"JV2\",F129:F142)), ROW(F129:F142)-MIN(ROW(F129:F142))+1, \"\"), ROW() -128 )), \"\")","v":""},{"$f":"IFERROR(INDEX(E129:E142, SMALL(IF(ISNUMBER(SEARCH(\"JV2\",F129:F142)), ROW(F129:F142)-MIN(ROW(F129:F142))+1, \"\"), ROW() -128 )), \"\")","v":""}]
[null,"Iowa Central Community College",null,"15-118474","Easton Lee","V",null,4158.0,null,false,{"$nulls":17},{"$f":"IFERROR(INDEX(B129:B142, SMALL(IF(\"V\"=F129:F142, ROW(F129:F142)-MIN(ROW(F129:F142))+1, \"\"), ROW() -128 )), \"\")","v":"Iowa Central Community College"},{"$f":"IFERROR(INDEX(C129:C142, SMALL(IF(\"V\"=F129:F142, ROW(F129:F142)-MIN(ROW(F129:F142))+1, \"\"), ROW() -128 )), \"\")","v":""},{"$f":"IFERROR(INDEX(D129:D142, SMALL(IF(\"V\"=F129:F142, ROW(F129:F142)-MIN(ROW(F129:F142))+1, \"\"), ROW() -128 )), \"\")","v":"6987-998"},{"$f":"IFERROR(INDEX(E129:E142, SMALL(IF(\"V\"=F129:F142, ROW(F129:F142)-MIN(ROW(F129:F142))+1, \"\"), ROW() -128 )), \"\")","v":"Jacob Kraft"},{"$f":"IFERROR(INDEX(B129:B142, SMALL(IF(ISNUMBER(SEARCH(\"JV1\",F129:F142)), ROW(F129:F142)-MIN(ROW(F129:F142))+1, \"\"), ROW() -128 )), \"\")","v":""},{"$f":"IFERROR(INDEX(C129:C142, SMALL(IF(ISNUMBER(SEARCH(\"JV1\",F129:F142)), ROW(F129:F142)-MIN(ROW(F129:F142))+1, \"\"), ROW() -128 )), \"\")","v":""},{"$f":"IFERROR(INDEX(D129:D142, SMALL(IF(ISNUMBER(SEARCH(\"JV1\",F129:F142)), ROW(F129:F142)-MIN(ROW(F129:F142))+1, \"\"), ROW() -128 )), \"\")","v":""},{"$f":"IFERROR(INDEX(E129:E142, SMALL(IF(ISNUMBER(SEARCH(\"JV1\",F129:F142)), ROW(F129:F142)-MIN(ROW(F129:F142))+1, \"\"), ROW() -128 )), \"\")","v":""},{"$f":"IFERROR(INDEX(B129:B142, SMALL(IF(ISNUMBER(SEARCH(\"JV2\",F129:F142)), ROW(F129:F142)-MIN(ROW(F129:F142))+1, \"\"), ROW() -128 )), \"\")","v":""},{"$f":"IFERROR(INDEX(C129:C142, SMALL(IF(ISNUMBER(SEARCH(\"JV2\",F129:F142)), ROW(F129:F142)-MIN(ROW(F129:F142))+1, \"\"), ROW() -128 )), \"\")","v":""},{"$f":"IFERROR(INDEX(D129:D142, SMALL(IF(ISNUMBER(SEARCH(\"JV2\",F129:F142)), ROW(F129:F142)-MIN(ROW(F129:F142))+1, \"\"), ROW() -128 )), \"\")","v":""},{"$f":"IFERROR(INDEX(E129:E142, SMALL(IF(ISNUMBER(SEARCH(\"JV2\",F129:F142)), ROW(F129:F142)-MIN(ROW(F129:F142))+1, \"\"), ROW() -128 )), \"\")","v":""}]
[null,"Iowa Central Community College",null,"15-176771","Ethan Schlapkohl"," ",null,4158.0,null,false,{"$nulls":17},{"$f":"IFERROR(INDEX(B129:B142, SMALL(IF(\"V\"=F129:F142, ROW(F129:F142)-MIN(ROW(F129:F142))+1, \"\"), ROW() -128 )), \"\")","v":"Iowa Central Community College"},{"$f":"IFERROR(INDEX(C129:C142, SMALL(IF(\"V\"=F129:F142, ROW(F129:F142)-MIN(ROW(F129:F142))+1, \"\"), ROW() -128 )), \"\")","v":""},{"$f":"IFERROR(INDEX(D129:D142, SMALL(IF(\"V\"=F129:F142, ROW(F129:F142)-MIN(ROW(F129:F142))+1, \"\"), ROW() -128 )), \"\")","v":"8731-3049"},{"$f":"IFERROR(INDEX(E129:E142, SMALL(IF(\"V\"=F129:F142, ROW(F129:F142)-MIN(ROW(F129:F142))+1, \"\"), ROW() -128 )), \"\")","v":"Justin Graves"},{"$f":"IFERROR(INDEX(B129:B142, SMALL(IF(ISNUMBER(SEARCH(\"JV1\",F129:F142)), ROW(F129:F142)-MIN(ROW(F129:F142))+1, \"\"), ROW() -128 )), \"\")","v":""},{"$f":"IFERROR(INDEX(C129:C142, SMALL(IF(ISNUMBER(SEARCH(\"JV1\",F129:F142)), ROW(F129:F142)-MIN(ROW(F129:F142))+1, \"\"), ROW() -128 )), \"\")","v":""},{"$f":"IFERROR(INDEX(D129:D142, SMALL(IF(ISNUMBER(SEARCH(\"JV1\",F129:F142)), ROW(F129:F142)-MIN(ROW(F129:F142))+1, \"\"), ROW() -128 )), \"\")","v":""},{"$f":"IFERROR(INDEX(E129:E142, SMALL(IF(ISNUMBER(SEARCH(\"JV1\",F129:F142)), ROW(F129:F142)-MIN(ROW(F129:F142))+1, \"\"), ROW() -128 )), \"\")","v":""},{"$f":"IFERROR(INDEX(B129:B142, SMALL(IF(ISNUMBER(SEARCH(\"JV2\",F129:F142)), ROW(F129:F142)-MIN(ROW(F129:F142))+1, \"\"), ROW() -128 )), \"\")","v":""},{"$f":"IFERROR(INDEX(C129:C142, SMALL(IF(ISNUMBER(SEARCH(\"JV2\",F129:F142)), ROW(F129:F142)-MIN(ROW(F129:F142))+1, \"\"), ROW() -128 )), \"\")","v":""},{"$f":"IFERROR(INDEX(D129:D142, SMALL(IF(ISNUMBER(SEARCH(\"JV2\",F129:F142)), ROW(F129:F142)-MIN(ROW(F129:F142))+1, \"\"), ROW() -128 )), \"\")","v":""},{"$f":"IFERROR(INDEX(E129:E142, SMALL(IF(ISNUMBER(SEARCH(\"JV2\",F129:F142)), ROW(F129:F142)-MIN(ROW(F129:F142))+1, \"\"), ROW() -128 )), \"\")","v":""}]
[null,"Iowa Central Community College",null,"17-42595","Ian Ackerson"," ",null,4158.0,null,false,{"$nulls":17},{"$f":"IFERROR(INDEX(B129:B142, SMALL(IF(\"V\"=F129:F142, ROW(F129:F142)-MIN(ROW(F129:F142))+1, \"\"), ROW() -128 )), \"\")","v":"Iowa Central Community College"},{"$f":"IFERROR(INDEX(C129:C142, SMALL(IF(\"V\"=F129:F142, ROW(F129:F142)-MIN(ROW(F129:F142))+1, \"\"), ROW() -128 )), \"\")","v":""},{"$f":"IFERROR(INDEX(D129:D142, SMALL(IF(\"V\"=F129:F142, ROW(F129:F142)-MIN(ROW(F129:F142))+1, \"\"), ROW() -128 )), \"\")","v":"11-241684"},{"$f":"IFERROR(INDEX(E129:E142, SMALL(IF(\"V\"=F129:F142, ROW(F129:F142)-MIN(ROW(F129:F142))+1, \"\"), ROW() -128 )), \"\")","v":"Lucas Campbell"},{"$f":"IFERROR(INDEX(B129:B142, SMALL(IF(ISNUMBER(SEARCH(\"JV1\",F129:F142)), ROW(F129:F142)-MIN(ROW(F129:F142))+1, \"\"), ROW() -128 )), \"\")","v":""},{"$f":"IFERROR(INDEX(C129:C142, SMALL(IF(ISNUMBER(SEARCH(\"JV1\",F129:F142)), ROW(F129:F142)-MIN(ROW(F129:F142))+1, \"\"), ROW() -128 )), \"\")","v":""},{"$f":"IFERROR(INDEX(D129:D142, SMALL(IF(ISNUMBER(SEARCH(\"JV1\",F129:F142)), ROW(F129:F142)-MIN(ROW(F129:F142))+1, \"\"), ROW() -128 )), \"\")","v":""},{"$f":"IFERROR(INDEX(E129:E142, SMALL(IF(ISNUMBER(SEARCH(\"JV1\",F129:F142)), ROW(F129:F142)-MIN(ROW(F129:F142))+1, \"\"), ROW() -128 )), \"\")","v":""},{"$f":"IFERROR(INDEX(B129:B142, SMALL(IF(ISNUMBER(SEARCH(\"JV2\",F129:F142)), ROW(F129:F142)-MIN(ROW(F129:F142))+1, \"\"), ROW() -128 )), \"\")","v":""},{"$f":"IFERROR(INDEX(C129:C142, SMALL(IF(ISNUMBER(SEARCH(\"JV2\",F129:F142)), ROW(F129:F142)-MIN(ROW(F129:F142))+1, \"\"), ROW() -128 )), \"\")","v":""},{"$f":"IFERROR(INDEX(D129:D142, SMALL(IF(ISNUMBER(SEARCH(\"JV2\",F129:F142)), ROW(F129:F142)-MIN(ROW(F129:F142))+1, \"\"), ROW() -128 )), \"\")","v":""},{"$f":"IFERROR(INDEX(E129:E142, SMALL(IF(ISNUMBER(SEARCH(\"JV2\",F129:F142)), ROW(F129:F142)-MIN(ROW(F129:F142))+1, \"\"), ROW() -128 )), \"\")","v":""}]
[null,"Iowa Central Community College",null,"6987-998","Jacob Kraft","V",null,4158.0,null,false,{"$nulls":17},{"$f":"IFERROR(INDEX(B129:B142, SMALL(IF(\"V\"=F129:F142, ROW(F129:F142)-MIN(ROW(F129:F142))+1, \"\"), ROW() -128 )), \"\")","v":"Iowa Central Community College"},{"$f":"IFERROR(INDEX(C129:C142, SMALL(IF(\"V\"=F129:F142, ROW(F129:F142)-MIN(ROW(F129:F142))+1, \"\"), ROW() -128 )), \"\")","v":""},{"$f":"IFERROR(INDEX(D129:D142, SMALL(IF(\"V\"=F129:F142, ROW(F129:F142)-MIN(ROW(F129:F142))+1, \"\"), ROW() -128 )), \"\")","v":"19-52211"},{"$f":"IFERROR(INDEX(E129:E142, SMALL(IF(\"V\"=F129:F142, ROW(F129:F142)-MIN(ROW(F129:F142))+1, \"\"), ROW() -128 )), \"\")","v":"Nathan Swanson"},{"$f":"IFERROR(INDEX(B129:B142, SMALL(IF(ISNUMBER(SEARCH(\"JV1\",F129:F142)), ROW(F129:F142)-MIN(ROW(F129:F142))+1, \"\"), ROW() -128 )), \"\")","v":""},{"$f":"IFERROR(INDEX(C129:C142, SMALL(IF(ISNUMBER(SEARCH(\"JV1\",F129:F142)), ROW(F129:F142)-MIN(ROW(F129:F142))+1, \"\"), ROW() -128 )), \"\")","v":""},{"$f":"IFERROR(INDEX(D129:D142, SMALL(IF(ISNUMBER(SEARCH(\"JV1\",F129:F142)), ROW(F129:F142)-MIN(ROW(F129:F142))+1, \"\"), ROW() -128 )), \"\")","v":""},{"$f":"IFERROR(INDEX(E129:E142, SMALL(IF(ISNUMBER(SEARCH(\"JV1\",F129:F142)), ROW(F129:F142)-MIN(ROW(F129:F142))+1, \"\"), ROW() -128 )), \"\")","v":""},{"$f":"IFERROR(INDEX(B129:B142, SMALL(IF(ISNUMBER(SEARCH(\"JV2\",F129:F142)), ROW(F129:F142)-MIN(ROW(F129:F142))+1, \"\"), ROW() -128 )), \"\")","v":""},{"$f":"IFERROR(INDEX(C129:C142, SMALL(IF(ISNUMBER(SEARCH(\"JV2\",F129:F142)), ROW(F129:F142)-MIN(ROW(F129:F142))+1, \"\"), ROW() -128 )), \"\")","v":""},{"$f":"IFERROR(INDEX(D129:D142, SMALL(IF(ISNUMBER(SEARCH(\"JV2\",F129:F142)), ROW(F129:F142)-MIN(ROW(F129:F142))+1, \"\"), ROW() -128 )), \"\")","v":""},{"$f":"IFERROR(INDEX(E129:E142, SMALL(IF(ISNUMBER(SEARCH(\"JV2\",F129:F142)), ROW(F129:F142)-MIN(ROW(F129:F142))+1, \"\"), ROW() -128 )), \"\")","v":""}]
[null,"Iowa Central Community College",null,"22-30289","Jacob Munz"," ",null,4158.0,null,false,{"$nulls":17},{"$f":"IFERROR(INDEX(B129:B142, SMALL(IF(\"V\"=F129:F142, ROW(F129:F142)-MIN(ROW(F129:F142))+1, \"\"), ROW() -128 )), \"\")","v":"Iowa Central Community College"},{"$f":"IFERROR(INDEX(C129:C142, SMALL(IF(\"V\"=F129:F142, ROW(F129:F142)-MIN(ROW(F129:F142))+1, \"\"), ROW() -128 )), \"\")","v":""},{"$f":"IFERROR(INDEX(D129:D142, SMALL(IF(\"V\"=F129:F142, ROW(F129:F142)-MIN(ROW(F129:F142))+1, \"\"), ROW() -128 )), \"\")","v":"17-29871"},{"$f":"IFERROR(INDEX(E129:E142, SMALL(IF(\"V\"=F129:F142, ROW(F129:F142)-MIN(ROW(F129:F142))+1, \"\"), ROW() -128 )), \"\")","v":"Steven Stone"},{"$f":"IFERROR(INDEX(B129:B142, SMALL(IF(ISNUMBER(SEARCH(\"JV1\",F129:F142)), ROW(F129:F142)-MIN(ROW(F129:F142))+1, \"\"), ROW() -128 )), \"\")","v":""},{"$f":"IFERROR(INDEX(C129:C142, SMALL(IF(ISNUMBER(SEARCH(\"JV1\",F129:F142)), ROW(F129:F142)-MIN(ROW(F129:F142))+1, \"\"), ROW() -128 )), \"\")","v":""},{"$f":"IFERROR(INDEX(D129:D142, SMALL(IF(ISNUMBER(SEARCH(\"JV1\",F129:F142)), ROW(F129:F142)-MIN(ROW(F129:F142))+1, \"\"), ROW() -128 )), \"\")","v":""},{"$f":"IFERROR(INDEX(E129:E142, SMALL(IF(ISNUMBER(SEARCH(\"JV1\",F129:F142)), ROW(F129:F142)-MIN(ROW(F129:F142))+1, \"\"), ROW() -128 )), \"\")","v":""},{"$f":"IFERROR(INDEX(B129:B142, SMALL(IF(ISNUMBER(SEARCH(\"JV2\",F129:F142)), ROW(F129:F142)-MIN(ROW(F129:F142))+1, \"\"), ROW() -128 )), \"\")","v":""},{"$f":"IFERROR(INDEX(C129:C142, SMALL(IF(ISNUMBER(SEARCH(\"JV2\",F129:F142)), ROW(F129:F142)-MIN(ROW(F129:F142))+1, \"\"), ROW() -128 )), \"\")","v":""},{"$f":"IFERROR(INDEX(D129:D142, SMALL(IF(ISNUMBER(SEARCH(\"JV2\",F129:F142)), ROW(F129:F142)-MIN(ROW(F129:F142))+1, \"\"), ROW() -128 )), \"\")","v":""},{"$f":"IFERROR(INDEX(E129:E142, SMALL(IF(ISNUMBER(SEARCH(\"JV2\",F129:F142)), ROW(F129:F142)-MIN(ROW(F129:F142))+1, \"\"), ROW() -128 )), \"\")","v":""}]
[null,"Iowa Central Community College",null,"11-387778","Justin Fulton",null,null,4158.0,null,false,{"$nulls":17},{"$f":"IFERROR(INDEX(B129:B142, SMALL(IF(\"V\"=F129:F142, ROW(F129:F142)-MIN(ROW(F129:F142))+1, \"\"), ROW() -128 )), \"\")","v":"Iowa Central Community College"},{"$f":"IFERROR(INDEX(C129:C142, SMALL(IF(\"V\"=F129:F142, ROW(F129:F142)-MIN(ROW(F129:F142))+1, \"\"), ROW() -128 )), \"\")","v":""},{"$f":"IFERROR(INDEX(D129:D142, SMALL(IF(\"V\"=F129:F142, ROW(F129:F142)-MIN(ROW(F129:F142))+1, \"\"), ROW() -128 )), \"\")","v":"18-88391"},{"$f":"IFERROR(INDEX(E129:E142, SMALL(IF(\"V\"=F129:F142, ROW(F129:F142)-MIN(ROW(F129:F142))+1, \"\"), ROW() -128 )), \"\")","v":"Tyler Whitner"},{"$f":"IFERROR(INDEX(B129:B142, SMALL(IF(ISNUMBER(SEARCH(\"JV1\",F129:F142)), ROW(F129:F142)-MIN(ROW(F129:F142))+1, \"\"), ROW() -128 )), \"\")","v":""},{"$f":"IFERROR(INDEX(C129:C142, SMALL(IF(ISNUMBER(SEARCH(\"JV1\",F129:F142)), ROW(F129:F142)-MIN(ROW(F129:F142))+1, \"\"), ROW() -128 )), \"\")","v":""},{"$f":"IFERROR(INDEX(D129:D142, SMALL(IF(ISNUMBER(SEARCH(\"JV1\",F129:F142)), ROW(F129:F142)-MIN(ROW(F129:F142))+1, \"\"), ROW() -128 )), \"\")","v":""},{"$f":"IFERROR(INDEX(E129:E142, SMALL(IF(ISNUMBER(SEARCH(\"JV1\",F129:F142)), ROW(F129:F142)-MIN(ROW(F129:F142))+1, \"\"), ROW() -128 )), \"\")","v":""},{"$f":"IFERROR(INDEX(B129:B142, SMALL(IF(ISNUMBER(SEARCH(\"JV2\",F129:F142)), ROW(F129:F142)-MIN(ROW(F129:F142))+1, \"\"), ROW() -128 )), \"\")","v":""},{"$f":"IFERROR(INDEX(C129:C142, SMALL(IF(ISNUMBER(SEARCH(\"JV2\",F129:F142)), ROW(F129:F142)-MIN(ROW(F129:F142))+1, \"\"), ROW() -128 )), \"\")","v":""},{"$f":"IFERROR(INDEX(D129:D142, SMALL(IF(ISNUMBER(SEARCH(\"JV2\",F129:F142)), ROW(F129:F142)-MIN(ROW(F129:F142))+1, \"\"), ROW() -128 )), \"\")","v":""},{"$f":"IFERROR(INDEX(E129:E142, SMALL(IF(ISNUMBER(SEARCH(\"JV2\",F129:F142)), ROW(F129:F142)-MIN(ROW(F129:F142))+1, \"\"), ROW() -128 )), \"\")","v":""}]
[null,"Iowa Central Community College",null,"8731-3049","Justin Graves","V",null,4158.0,null,false]
[null,"Iowa Central Community College",null,"11-241684","Lucas Campbell","v",null,4158.0,null,false]
[null,"Iowa Central Community College",null,"11-503053","Mason Will",null,null,4158.0,null,false]
[null,"Iowa Central Community College",null,"19-52211","Nathan Swanson","V",null,4158.0,null,false]
[null,"Iowa Central Community College",null,"17-29871","Steven Stone","V",null,4158.0,null,false]
[null,"Iowa Central Community College",null,"18-88391","Tyler Whitner","v",null,4158.0,null,false]
[null,"Iowa Western Community College",null,"11-374010","Addison Deboer",null,null,4463.0,null,false,{"$nulls":17},{"$f":"IFERROR(INDEX(B143:B156, SMALL(IF(\"V\"=F143:F156, ROW(F143:F156)-MIN(ROW(F143:F156))+1, \"\"), ROW() -142 )), \"\")","v":"Iowa Western Community College"},{"$f":"IFERROR(INDEX(C143:C156, SMALL(IF(\"V\"=F143:F156, ROW(F143:F156)-MIN(ROW(F143:F156))+1, \"\"), ROW() -142 )), \"\")","v":""},{"$f":"IFERROR(INDEX(D143:D156, SMALL(IF(\"V\"=F143:F156, ROW(F143:F156)-MIN(ROW(F143:F156))+1, \"\"), ROW() -142 )), \"\")","v":"7914-26313"},{"$f":"IFERROR(INDEX(E143:E156, SMALL(IF(\"V\"=F143:F156, ROW(F143:F156)-MIN(ROW(F143:F156))+1, \"\"), ROW() -142 )), \"\")","v":"Andrew Chavarria"},{"$f":"IFERROR(INDEX(B143:B156, SMALL(IF(ISNUMBER(SEARCH(\"JV1\",F143:F156)), ROW(F143:F156)-MIN(ROW(F143:F156))+1, \"\"), ROW() -142 )), \"\")","v":""},{"$f":"IFERROR(INDEX(C143:C156, SMALL(IF(ISNUMBER(SEARCH(\"JV1\",F143:F156)), ROW(F143:F156)-MIN(ROW(F143:F156))+1, \"\"), ROW() -142 )), \"\")","v":""},{"$f":"IFERROR(INDEX(D143:D156, SMALL(IF(ISNUMBER(SEARCH(\"JV1\",F143:F156)), ROW(F143:F156)-MIN(ROW(F143:F156))+1, \"\"), ROW() -142 )), \"\")","v":""},{"$f":"IFERROR(INDEX(E143:E156, SMALL(IF(ISNUMBER(SEARCH(\"JV1\",F143:F156)), ROW(F143:F156)-MIN(ROW(F143:F156))+1, \"\"), ROW() -142 )), \"\")","v":""},{"$f":"IFERROR(INDEX(B143:B156, SMALL(IF(ISNUMBER(SEARCH(\"JV2\",F143:F156)), ROW(F143:F156)-MIN(ROW(F143:F156))+1, \"\"), ROW() -142 )), \"\")","v":""},{"$f":"IFERROR(INDEX(C143:C156, SMALL(IF(ISNUMBER(SEARCH(\"JV2\",F143:F156)), ROW(F143:F156)-MIN(ROW(F143:F156))+1, \"\"), ROW() -142 )), \"\")","v":""},{"$f":"IFERROR(INDEX(D143:D156, SMALL(IF(ISNUMBER(SEARCH(\"JV2\",F143:F156)), ROW(F143:F156)-MIN(ROW(F143:F156))+1, \"\"), ROW() -142 )), \"\")","v":""},{"$f":"IFERROR(INDEX(E143:E156, SMALL(IF(ISNUMBER(SEARCH(\"JV2\",F143:F156)), ROW(F143:F156)-MIN(ROW(F143:F156))+1, \"\"), ROW() -142 )), \"\")","v":""}]
[null,"Iowa Western Community College",null,"7914-26313","Andrew Chavarria","V",null,4463.0,null,false,{"$nulls":17},{"$f":"IFERROR(INDEX(B143:B156, SMALL(IF(\"V\"=F143:F156, ROW(F143:F156)-MIN(ROW(F143:F156))+1, \"\"), ROW() -142 )), \"\")","v":"Iowa Western Community College"},{"$f":"IFERROR(INDEX(C143:C156, SMALL(IF(\"V\"=F143:F156, ROW(F143:F156)-MIN(ROW(F143:F156))+1, \"\"), ROW() -142 )), \"\")","v":""},{"$f":"IFERROR(INDEX(D143:D156, SMALL(IF(\"V\"=F143:F156, ROW(F143:F156)-MIN(ROW(F143:F156))+1, \"\"), ROW() -142 )), \"\")","v":"7914-660"},{"$f":"IFERROR(INDEX(E143:E156, SMALL(IF(\"V\"=F143:F156, ROW(F143:F156)-MIN(ROW(F143:F156))+1, \"\"), ROW() -142 )), \"\")","v":"Andrew Hall"},{"$f":"IFERROR(INDEX(B143:B156, SMALL(IF(ISNUMBER(SEARCH(\"JV1\",F143:F156)), ROW(F143:F156)-MIN(ROW(F143:F156))+1, \"\"), ROW() -142 )), \"\")","v":""},{"$f":"IFERROR(INDEX(C143:C156, SMALL(IF(ISNUMBER(SEARCH(\"JV1\",F143:F156)), ROW(F143:F156)-MIN(ROW(F143:F156))+1, \"\"), ROW() -142 )), \"\")","v":""},{"$f":"IFERROR(INDEX(D143:D156, SMALL(IF(ISNUMBER(SEARCH(\"JV1\",F143:F156)), ROW(F143:F156)-MIN(ROW(F143:F156))+1, \"\"), ROW() -142 )), \"\")","v":""},{"$f":"IFERROR(INDEX(E143:E156, SMALL(IF(ISNUMBER(SEARCH(\"JV1\",F143:F156)), ROW(F143:F156)-MIN(ROW(F143:F156))+1, \"\"), ROW() -142 )), \"\")","v":""},{"$f":"IFERROR(INDEX(B143:B156, SMALL(IF(ISNUMBER(SEARCH(\"JV2\",F143:F156)), ROW(F143:F156)-MIN(ROW(F143:F156))+1, \"\"), ROW() -142 )), \"\")","v":""},{"$f":"IFERROR(INDEX(C143:C156, SMALL(IF(ISNUMBER(SEARCH(\"JV2\",F143:F156)), ROW(F143:F156)-MIN(ROW(F143:F156))+1, \"\"), ROW() -142 )), \"\")","v":""},{"$f":"IFERROR(INDEX(D143:D156, SMALL(IF(ISNUMBER(SEARCH(\"JV2\",F143:F156)), ROW(F143:F156)-MIN(ROW(F143:F156))+1, \"\"), ROW() -142 )), \"\")","v":""},{"$f":"IFERROR(INDEX(E143:E156, SMALL(IF(ISNUMBER(SEARCH(\"JV2\",F143:F156)), ROW(F143:F156)-MIN(ROW(F143:F156))+1, \"\"), ROW() -142 )), \"\")","v":""}]
[null,"Iowa Western Community College",null,"7914-660","Andrew Hall","V",null,4463.0,null,false,{"$nulls":17},{"$f":"IFERROR(INDEX(B143:B156, SMALL(IF(\"V\"=F143:F156, ROW(F143:F156)-MIN(ROW(F143:F156))+1, \"\"), ROW() -142 )), \"\")","v":"Iowa Western Community College"},{"$f":"IFERROR(INDEX(C143:C156, SMALL(IF(\"V\"=F143:F156, ROW(F143:F156)-MIN(ROW(F143:F156))+1, \"\"), ROW() -142 )), \"\")","v":""},{"$f":"IFERROR(INDEX(D143:D156, SMALL(IF(\"V\"=F143:F156, ROW(F143:F156)-MIN(ROW(F143:F156))+1, \"\"), ROW() -142 )), \"\")","v":"20-5362"},{"$f":"IFERROR(INDEX(E143:E156, SMALL(IF(\"V\"=F143:F156, ROW(F143:F156)-MIN(ROW(F143:F156))+1, \"\"), ROW() -142 )), \"\")","v":"Brandon Savino"},{"$f":"IFERROR(INDEX(B143:B156, SMALL(IF(ISNUMBER(SEARCH(\"JV1\",F143:F156)), ROW(F143:F156)-MIN(ROW(F143:F156))+1, \"\"), ROW() -142 )), \"\")","v":""},{"$f":"IFERROR(INDEX(C143:C156, SMALL(IF(ISNUMBER(SEARCH(\"JV1\",F143:F156)), ROW(F143:F156)-MIN(ROW(F143:F156))+1, \"\"), ROW() -142 )), \"\")","v":""},{"$f":"IFERROR(INDEX(D143:D156, SMALL(IF(ISNUMBER(SEARCH(\"JV1\",F143:F156)), ROW(F143:F156)-MIN(ROW(F143:F156))+1, \"\"), ROW() -142 )), \"\")","v":""},{"$f":"IFERROR(INDEX(E143:E156, SMALL(IF(ISNUMBER(SEARCH(\"JV1\",F143:F156)), ROW(F143:F156)-MIN(ROW(F143:F156))+1, \"\"), ROW() -142 )), \"\")","v":""},{"$f":"IFERROR(INDEX(B143:B156, SMALL(IF(ISNUMBER(SEARCH(\"JV2\",F143:F156)), ROW(F143:F156)-MIN(ROW(F143:F156))+1, \"\"), ROW() -142 )), \"\")","v":""},{"$f":"IFERROR(INDEX(C143:C156, SMALL(IF(ISNUMBER(SEARCH(\"JV2\",F143:F156)), ROW(F143:F156)-MIN(ROW(F143:F156))+1, \"\"), ROW() -142 )), \"\")","v":""},{"$f":"IFERROR(INDEX(D143:D156, SMALL(IF(ISNUMBER(SEARCH(\"JV2\",F143:F156)), ROW(F143:F156)-MIN(ROW(F143:F156))+1, \"\"), ROW() -142 )), \"\")","v":""},{"$f":"IFERROR(INDEX(E143:E156, SMALL(IF(ISNUMBER(SEARCH(\"JV2\",F143:F156)), ROW(F143:F156)-MIN(ROW(F143:F156))+1, \"\"), ROW() -142 )), \"\")","v":""}]
[null,"Iowa Western Community College",null,"20-5362","Brandon Savino","V",null,4463.0,null,false,{"$nulls":17},{"$f":"IFERROR(INDEX(B143:B156, SMALL(IF(\"V\"=F143:F156, ROW(F143:F156)-MIN(ROW(F143:F156))+1, \"\"), ROW() -142 )), \"\")","v":"Iowa Western Community College"},{"$f":"IFERROR(INDEX(C143:C156, SMALL(IF(\"V\"=F143:F156, ROW(F143:F156)-MIN(ROW(F143:F156))+1, \"\"), ROW() -142 )), \"\")","v":""},{"$f":"IFERROR(INDEX(D143:D156, SMALL(IF(\"V\"=F143:F156, ROW(F143:F156)-MIN(ROW(F143:F156))+1, \"\"), ROW() -142 )), \"\")","v":"20-9086"},{"$f":"IFERROR(INDEX(E143:E156, SMALL(IF(\"V\"=F143:F156, ROW(F143:F156)-MIN(ROW(F143:F156))+1, \"\"), ROW() -142 )), \"\")","v":"Cameron Brundage"},{"$f":"IFERROR(INDEX(B143:B156, SMALL(IF(ISNUMBER(SEARCH(\"JV1\",F143:F156)), ROW(F143:F156)-MIN(ROW(F143:F156))+1, \"\"), ROW() -142 )), \"\")","v":""},{"$f":"IFERROR(INDEX(C143:C156, SMALL(IF(ISNUMBER(SEARCH(\"JV1\",F143:F156)), ROW(F143:F156)-MIN(ROW(F143:F156))+1, \"\"), ROW() -142 )), \"\")","v":""},{"$f":"IFERROR(INDEX(D143:D156, SMALL(IF(ISNUMBER(SEARCH(\"JV1\",F143:F156)), ROW(F143:F156)-MIN(ROW(F143:F156))+1, \"\"), ROW() -142 )), \"\")","v":""},{"$f":"IFERROR(INDEX(E143:E156, SMALL(IF(ISNUMBER(SEARCH(\"JV1\",F143:F156)), ROW(F143:F156)-MIN(ROW(F143:F156))+1, \"\"), ROW() -142 )), \"\")","v":""},{"$f":"IFERROR(INDEX(B143:B156, SMALL(IF(ISNUMBER(SEARCH(\"JV2\",F143:F156)), ROW(F143:F156)-MIN(ROW(F143:F156))+1, \"\"), ROW() -142 )), \"\")","v":""},{"$f":"IFERROR(INDEX(C143:C156, SMALL(IF(ISNUMBER(SEARCH(\"JV2\",F143:F156)), ROW(F143:F156)-MIN(ROW(F143:F156))+1, \"\"), ROW() -142 )), \"\")","v":""},{"$f":"IFERROR(INDEX(D143:D156, SMALL(IF(ISNUMBER(SEARCH(\"JV2\",F143:F156)), ROW(F143:F156)-MIN(ROW(F143:F156))+1, \"\"), ROW() -142 )), \"\")","v":""},{"$f":"IFERROR(INDEX(E143:E156, SMALL(IF(ISNUMBER(SEARCH(\"JV2\",F143:F156)), ROW(F143:F156)-MIN(ROW(F143:F156))+1, \"\"), ROW() -142 )), \"\")","v":""}]
[null,"Iowa Western Community College",null,"20-9086","Cameron Brundage","v",null,4463.0,null,false,{"$nulls":17},{"$f":"IFERROR(INDEX(B143:B156, SMALL(IF(\"V\"=F143:F156, ROW(F143:F156)-MIN(ROW(F143:F156))+1, \"\"), ROW() -142 )), \"\")","v":"Iowa Western Community College"},{"$f":"IFERROR(INDEX(C143:C156, SMALL(IF(\"V\"=F143:F156, ROW(F143:F156)-MIN(ROW(F143:F156))+1, \"\"), ROW() -142 )), \"\")","v":""},{"$f":"IFERROR(INDEX(D143:D156, SMALL(IF(\"V\"=F143:F156, ROW(F143:F156)-MIN(ROW(F143:F156))+1, \"\"), ROW() -142 )), \"\")","v":"15-118730"},{"$f":"IFERROR(INDEX(E143:E156, SMALL(IF(\"V\"=F143:F156, ROW(F143:F156)-MIN(ROW(F143:F156))+1, \"\"), ROW() -142 )), \"\")","v":"Chandler Scott"},{"$f":"IFERROR(INDEX(B143:B156, SMALL(IF(ISNUMBER(SEARCH(\"JV1\",F143:F156)), ROW(F143:F156)-MIN(ROW(F143:F156))+1, \"\"), ROW() -142 )), \"\")","v":""},{"$f":"IFERROR(INDEX(C143:C156, SMALL(IF(ISNUMBER(SEARCH(\"JV1\",F143:F156)), ROW(F143:F156)-MIN(ROW(F143:F156))+1, \"\"), ROW() -142 )), \"\")","v":""},{"$f":"IFERROR(INDEX(D143:D156, SMALL(IF(ISNUMBER(SEARCH(\"JV1\",F143:F156)), ROW(F143:F156)-MIN(ROW(F143:F156))+1, \"\"), ROW() -142 )), \"\")","v":""},{"$f":"IFERROR(INDEX(E143:E156, SMALL(IF(ISNUMBER(SEARCH(\"JV1\",F143:F156)), ROW(F143:F156)-MIN(ROW(F143:F156))+1, \"\"), ROW() -142 )), \"\")","v":""},{"$f":"IFERROR(INDEX(B143:B156, SMALL(IF(ISNUMBER(SEARCH(\"JV2\",F143:F156)), ROW(F143:F156)-MIN(ROW(F143:F156))+1, \"\"), ROW() -142 )), \"\")","v":""},{"$f":"IFERROR(INDEX(C143:C156, SMALL(IF(ISNUMBER(SEARCH(\"JV2\",F143:F156)), ROW(F143:F156)-MIN(ROW(F143:F156))+1, \"\"), ROW() -142 )), \"\")","v":""},{"$f":"IFERROR(INDEX(D143:D156, SMALL(IF(ISNUMBER(SEARCH(\"JV2\",F143:F156)), ROW(F143:F156)-MIN(ROW(F143:F156))+1, \"\"), ROW() -142 )), \"\")","v":""},{"$f":"IFERROR(INDEX(E143:E156, SMALL(IF(ISNUMBER(SEARCH(\"JV2\",F143:F156)), ROW(F143:F156)-MIN(ROW(F143:F156))+1, \"\"), ROW() -142 )), \"\")","v":""}]
[null,"Iowa Western Community College",null,"17-56860","Carter James",null,null,4463.0,null,false,{"$nulls":17},{"$f":"IFERROR(INDEX(B143:B156, SMALL(IF(\"V\"=F143:F156, ROW(F143:F156)-MIN(ROW(F143:F156))+1, \"\"), ROW() -142 )), \"\")","v":"Iowa Western Community College"},{"$f":"IFERROR(INDEX(C143:C156, SMALL(IF(\"V\"=F143:F156, ROW(F143:F156)-MIN(ROW(F143:F156))+1, \"\"), ROW() -142 )), \"\")","v":""},{"$f":"IFERROR(INDEX(D143:D156, SMALL(IF(\"V\"=F143:F156, ROW(F143:F156)-MIN(ROW(F143:F156))+1, \"\"), ROW() -142 )), \"\")","v":"11-513100"},{"$f":"IFERROR(INDEX(E143:E156, SMALL(IF(\"V\"=F143:F156, ROW(F143:F156)-MIN(ROW(F143:F156))+1, \"\"), ROW() -142 )), \"\")","v":"Kaleb Anderson"},{"$f":"IFERROR(INDEX(B143:B156, SMALL(IF(ISNUMBER(SEARCH(\"JV1\",F143:F156)), ROW(F143:F156)-MIN(ROW(F143:F156))+1, \"\"), ROW() -142 )), \"\")","v":""},{"$f":"IFERROR(INDEX(C143:C156, SMALL(IF(ISNUMBER(SEARCH(\"JV1\",F143:F156)), ROW(F143:F156)-MIN(ROW(F143:F156))+1, \"\"), ROW() -142 )), \"\")","v":""},{"$f":"IFERROR(INDEX(D143:D156, SMALL(IF(ISNUMBER(SEARCH(\"JV1\",F143:F156)), ROW(F143:F156)-MIN(ROW(F143:F156))+1, \"\"), ROW() -142 )), \"\")","v":""},{"$f":"IFERROR(INDEX(E143:E156, SMALL(IF(ISNUMBER(SEARCH(\"JV1\",F143:F156)), ROW(F143:F156)-MIN(ROW(F143:F156))+1, \"\"), ROW() -142 )), \"\")","v":""},{"$f":"IFERROR(INDEX(B143:B156, SMALL(IF(ISNUMBER(SEARCH(\"JV2\",F143:F156)), ROW(F143:F156)-MIN(ROW(F143:F156))+1, \"\"), ROW() -142 )), \"\")","v":""},{"$f":"IFERROR(INDEX(C143:C156, SMALL(IF(ISNUMBER(SEARCH(\"JV2\",F143:F156)), ROW(F143:F156)-MIN(ROW(F143:F156))+1, \"\"), ROW() -142 )), \"\")","v":""},{"$f":"IFERROR(INDEX(D143:D156, SMALL(IF(ISNUMBER(SEARCH(\"JV2\",F143:F156)), ROW(F143:F156)-MIN(ROW(F143:F156))+1, \"\"), ROW() -142 )), \"\")","v":""},{"$f":"IFERROR(INDEX(E143:E156, SMALL(IF(ISNUMBER(SEARCH(\"JV2\",F143:F156)), ROW(F143:F156)-MIN(ROW(F143:F156))+1, \"\"), ROW() -142 )), \"\")","v":""}]
[null,"Iowa Western Community College",null,"15-118730","Chandler Scott","v",null,4463.0,null,false,{"$nulls":17},{"$f":"IFERROR(INDEX(B143:B156, SMALL(IF(\"V\"=F143:F156, ROW(F143:F156)-MIN(ROW(F143:F156))+1, \"\"), ROW() -142 )), \"\")","v":"Iowa Western Community College"},{"$f":"IFERROR(INDEX(C143:C156, SMALL(IF(\"V\"=F143:F156, ROW(F143:F156)-MIN(ROW(F143:F156))+1, \"\"), ROW() -142 )), \"\")","v":""},{"$f":"IFERROR(INDEX(D143:D156, SMALL(IF(\"V\"=F143:F156, ROW(F143:F156)-MIN(ROW(F143:F156))+1, \"\"), ROW() -142 )), \"\")","v":"8128-4496"},{"$f":"IFERROR(INDEX(E143:E156, SMALL(IF(\"V\"=F143:F156, ROW(F143:F156)-MIN(ROW(F143:F156))+1, \"\"), ROW() -142 )), \"\")","v":"Mason Sterkel"},{"$f":"IFERROR(INDEX(B143:B156, SMALL(IF(ISNUMBER(SEARCH(\"JV1\",F143:F156)), ROW(F143:F156)-MIN(ROW(F143:F156))+1, \"\"), ROW() -142 )), \"\")","v":""},{"$f":"IFERROR(INDEX(C143:C156, SMALL(IF(ISNUMBER(SEARCH(\"JV1\",F143:F156)), ROW(F143:F156)-MIN(ROW(F143:F156))+1, \"\"), ROW() -142 )), \"\")","v":""},{"$f":"IFERROR(INDEX(D143:D156, SMALL(IF(ISNUMBER(SEARCH(\"JV1\",F143:F156)), ROW(F143:F156)-MIN(ROW(F143:F156))+1, \"\"), ROW() -142 )), \"\")","v":""},{"$f":"IFERROR(INDEX(E143:E156, SMALL(IF(ISNUMBER(SEARCH(\"JV1\",F143:F156)), ROW(F143:F156)-MIN(ROW(F143:F156))+1, \"\"), ROW() -142 )), \"\")","v":""},{"$f":"IFERROR(INDEX(B143:B156, SMALL(IF(ISNUMBER(SEARCH(\"JV2\",F143:F156)), ROW(F143:F156)-MIN(ROW(F143:F156))+1, \"\"), ROW() -142 )), \"\")","v":""},{"$f":"IFERROR(INDEX(C143:C156, SMALL(IF(ISNUMBER(SEARCH(\"JV2\",F143:F156)), ROW(F143:F156)-MIN(ROW(F143:F156))+1, \"\"), ROW() -142 )), \"\")","v":""},{"$f":"IFERROR(INDEX(D143:D156, SMALL(IF(ISNUMBER(SEARCH(\"JV2\",F143:F156)), ROW(F143:F156)-MIN(ROW(F143:F156))+1, \"\"), ROW() -142 )), \"\")","v":""},{"$f":"IFERROR(INDEX(E143:E156, SMALL(IF(ISNUMBER(SEARCH(\"JV2\",F143:F156)), ROW(F143:F156)-MIN(ROW(F143:F156))+1, \"\"), ROW() -142 )), \"\")","v":""}]
[null,"Iowa Western Community College",null,"11-517457","Christian Miller"," ",null,4463.0,null,false,{"$nulls":17},{"$f":"IFERROR(INDEX(B143:B156, SMALL(IF(\"V\"=F143:F156, ROW(F143:F156)-MIN(ROW(F143:F156))+1, \"\"), ROW() -142 )), \"\")","v":"Iowa Western Community College"},{"$f":"IFERROR(INDEX(C143:C156, SMALL(IF(\"V\"=F143:F156, ROW(F143:F156)-MIN(ROW(F143:F156))+1, \"\"), ROW() -142 )), \"\")","v":""},{"$f":"IFERROR(INDEX(D143:D156, SMALL(IF(\"V\"=F143:F156, ROW(F143:F156)-MIN(ROW(F143:F156))+1, \"\"), ROW() -142 )), \"\")","v":"19-85485"},{"$f":"IFERROR(INDEX(E143:E156, SMALL(IF(\"V\"=F143:F156, ROW(F143:F156)-MIN(ROW(F143:F156))+1, \"\"), ROW() -142 )), \"\")","v":"Zane Cairo"},{"$f":"IFERROR(INDEX(B143:B156, SMALL(IF(ISNUMBER(SEARCH(\"JV1\",F143:F156)), ROW(F143:F156)-MIN(ROW(F143:F156))+1, \"\"), ROW() -142 )), \"\")","v":""},{"$f":"IFERROR(INDEX(C143:C156, SMALL(IF(ISNUMBER(SEARCH(\"JV1\",F143:F156)), ROW(F143:F156)-MIN(ROW(F143:F156))+1, \"\"), ROW() -142 )), \"\")","v":""},{"$f":"IFERROR(INDEX(D143:D156, SMALL(IF(ISNUMBER(SEARCH(\"JV1\",F143:F156)), ROW(F143:F156)-MIN(ROW(F143:F156))+1, \"\"), ROW() -142 )), \"\")","v":""},{"$f":"IFERROR(INDEX(E143:E156, SMALL(IF(ISNUMBER(SEARCH(\"JV1\",F143:F156)), ROW(F143:F156)-MIN(ROW(F143:F156))+1, \"\"), ROW() -142 )), \"\")","v":""},{"$f":"IFERROR(INDEX(B143:B156, SMALL(IF(ISNUMBER(SEARCH(\"JV2\",F143:F156)), ROW(F143:F156)-MIN(ROW(F143:F156))+1, \"\"), ROW() -142 )), \"\")","v":""},{"$f":"IFERROR(INDEX(C143:C156, SMALL(IF(ISNUMBER(SEARCH(\"JV2\",F143:F156)), ROW(F143:F156)-MIN(ROW(F143:F156))+1, \"\"), ROW() -142 )), \"\")","v":""},{"$f":"IFERROR(INDEX(D143:D156, SMALL(IF(ISNUMBER(SEARCH(\"JV2\",F143:F156)), ROW(F143:F156)-MIN(ROW(F143:F156))+1, \"\"), ROW() -142 )), \"\")","v":""},{"$f":"IFERROR(INDEX(E143:E156, SMALL(IF(ISNUMBER(SEARCH(\"JV2\",F143:F156)), ROW(F143:F156)-MIN(ROW(F143:F156))+1, \"\"), ROW() -142 )), \"\")","v":""}]
[null,"Iowa Western Community College",null,"18-63489","Grady Dodge",null,null,4463.0,null,false]
[null,"Iowa Western Community College",null,"11-513100","Kaleb Anderson","v",null,4463.0,null,false]
[null,"Iowa Western Community College",null,"7914-2876","Logan Kuker",null,null,4463.0,null,false]
[null,"Iowa Western Community College",null,"8128-4496","Mason Sterkel","v",null,4463.0,null,false]
[null,"Iowa Western Community College",null,"11-406531","Max Schuster",null,null,4463.0,null,false]
[null,"Iowa Western Community College",null,"19-85485","Zane Cairo","v",null,4463.0,null,false]
[null,"Kansas ,University Of",null,"19-11395","Anthony Hudson","JV1",null,2329.0,null,false,{"$nulls":17},{"$f":"IFERROR(INDEX(B157:B168, SMALL(IF(\"V\"=F157:F168, ROW(F157:F168)-MIN(ROW(F157:F168))+1, \"\"), ROW() -156 )), \"\")","v":"Kansas ,University Of"},{"$f":"IFERROR(INDEX(C157:C168, SMALL(IF(\"V\"=F157:F168, ROW(F157:F168)-MIN(ROW(F157:F168))+1, \"\"), ROW() -156 )), \"\")","v":""},{"$f":"IFERROR(INDEX(D157:D168, SMALL(IF(\"V\"=F157:F168, ROW(F157:F168)-MIN(ROW(F157:F168))+1, \"\"), ROW() -156 )), \"\")","v":"20-50265"},{"$f":"IFERROR(INDEX(E157:E168, SMALL(IF(\"V\"=F157:F168, ROW(F157:F168)-MIN(ROW(F157:F168))+1, \"\"), ROW() -156 )), \"\")","v":"Brady Aebersold"},{"$f":"IFERROR(INDEX(B157:B168, SMALL(IF(ISNUMBER(SEARCH(\"JV1\",F157:F168)), ROW(F157:F168)-MIN(ROW(F157:F168))+1, \"\"), ROW() -156 )), \"\")","v":"Kansas ,University Of"},{"$f":"IFERROR(INDEX(C157:C168, SMALL(IF(ISNUMBER(SEARCH(\"JV1\",F157:F168)), ROW(F157:F168)-MIN(ROW(F157:F168))+1, \"\"), ROW() -156 )), \"\")","v":""},{"$f":"IFERROR(INDEX(D157:D168, SMALL(IF(ISNUMBER(SEARCH(\"JV1\",F157:F168)), ROW(F157:F168)-MIN(ROW(F157:F168))+1, \"\"), ROW() -156 )), \"\")","v":"19-11395"},{"$f":"IFERROR(INDEX(E157:E168, SMALL(IF(ISNUMBER(SEARCH(\"JV1\",F157:F168)), ROW(F157:F168)-MIN(ROW(F157:F168))+1, \"\"), ROW() -156 )), \"\")","v":"Anthony Hudson"},{"$f":"IFERROR(INDEX(B157:B168, SMALL(IF(ISNUMBER(SEARCH(\"JV2\",F157:F168)), ROW(F157:F168)-MIN(ROW(F157:F168))+1, \"\"), ROW() -156 )), \"\")","v":""},{"$f":"IFERROR(INDEX(C157:C168, SMALL(IF(ISNUMBER(SEARCH(\"JV2\",F157:F168)), ROW(F157:F168)-MIN(ROW(F157:F168))+1, \"\"), ROW() -156 )), \"\")","v":""},{"$f":"IFERROR(INDEX(D157:D168, SMALL(IF(ISNUMBER(SEARCH(\"JV2\",F157:F168)), ROW(F157:F168)-MIN(ROW(F157:F168))+1, \"\"), ROW() -156 )), \"\")","v":""},{"$f":"IFERROR(INDEX(E157:E168, SMALL(IF(ISNUMBER(SEARCH(\"JV2\",F157:F168)), ROW(F157:F168)-MIN(ROW(F157:F168))+1, \"\"), ROW() -156 )), \"\")","v":""}]
[null,"Kansas ,University Of",null,"16-162899","Benjamin Weinzirl","JV1",null,2329.0,null,false,{"$nulls":17},{"$f":"IFERROR(INDEX(B157:B168, SMALL(IF(\"V\"=F157:F168, ROW(F157:F168)-MIN(ROW(F157:F168))+1, \"\"), ROW() -156 )), \"\")","v":"Kansas ,University Of"},{"$f":"IFERROR(INDEX(C157:C168, SMALL(IF(\"V\"=F157:F168, ROW(F157:F168)-MIN(ROW(F157:F168))+1, \"\"), ROW() -156 )), \"\")","v":""},{"$f":"IFERROR(INDEX(D157:D168, SMALL(IF(\"V\"=F157:F168, ROW(F157:F168)-MIN(ROW(F157:F168))+1, \"\"), ROW() -156 )), \"\")","v":"11-489693"},{"$f":"IFERROR(INDEX(E157:E168, SMALL(IF(\"V\"=F157:F168, ROW(F157:F168)-MIN(ROW(F157:F168))+1, \"\"), ROW() -156 )), \"\")","v":"Chase Milledge"},{"$f":"IFERROR(INDEX(B157:B168, SMALL(IF(ISNUMBER(SEARCH(\"JV1\",F157:F168)), ROW(F157:F168)-MIN(ROW(F157:F168))+1, \"\"), ROW() -156 )), \"\")","v":"Kansas ,University Of"},{"$f":"IFERROR(INDEX(C157:C168, SMALL(IF(ISNUMBER(SEARCH(\"JV1\",F157:F168)), ROW(F157:F168)-MIN(ROW(F157:F168))+1, \"\"), ROW() -156 )), \"\")","v":""},{"$f":"IFERROR(INDEX(D157:D168, SMALL(IF(ISNUMBER(SEARCH(\"JV1\",F157:F168)), ROW(F157:F168)-MIN(ROW(F157:F168))+1, \"\"), ROW() -156 )), \"\")","v":"16-162899"},{"$f":"IFERROR(INDEX(E157:E168, SMALL(IF(ISNUMBER(SEARCH(\"JV1\",F157:F168)), ROW(F157:F168)-MIN(ROW(F157:F168))+1, \"\"), ROW() -156 )), \"\")","v":"Benjamin Weinzirl"},{"$f":"IFERROR(INDEX(B157:B168, SMALL(IF(ISNUMBER(SEARCH(\"JV2\",F157:F168)), ROW(F157:F168)-MIN(ROW(F157:F168))+1, \"\"), ROW() -156 )), \"\")","v":""},{"$f":"IFERROR(INDEX(C157:C168, SMALL(IF(ISNUMBER(SEARCH(\"JV2\",F157:F168)), ROW(F157:F168)-MIN(ROW(F157:F168))+1, \"\"), ROW() -156 )), \"\")","v":""},{"$f":"IFERROR(INDEX(D157:D168, SMALL(IF(ISNUMBER(SEARCH(\"JV2\",F157:F168)), ROW(F157:F168)-MIN(ROW(F157:F168))+1, \"\"), ROW() -156 )), \"\")","v":""},{"$f":"IFERROR(INDEX(E157:E168, SMALL(IF(ISNUMBER(SEARCH(\"JV2\",F157:F168)), ROW(F157:F168)-MIN(ROW(F157:F168))+1, \"\"), ROW() -156 )), \"\")","v":""}]
[null,"Kansas ,University Of",null,"20-50265","Brady Aebersold","v",null,2329.0,null,false,{"$nulls":17},{"$f":"IFERROR(INDEX(B157:B168, SMALL(IF(\"V\"=F157:F168, ROW(F157:F168)-MIN(ROW(F157:F168))+1, \"\"), ROW() -156 )), \"\")","v":"Kansas ,University Of"},{"$f":"IFERROR(INDEX(C157:C168, SMALL(IF(\"V\"=F157:F168, ROW(F157:F168)-MIN(ROW(F157:F168))+1, \"\"), ROW() -156 )), \"\")","v":""},{"$f":"IFERROR(INDEX(D157:D168, SMALL(IF(\"V\"=F157:F168, ROW(F157:F168)-MIN(ROW(F157:F168))+1, \"\"), ROW() -156 )), \"\")","v":"19-11396"},{"$f":"IFERROR(INDEX(E157:E168, SMALL(IF(\"V\"=F157:F168, ROW(F157:F168)-MIN(ROW(F157:F168))+1, \"\"), ROW() -156 )), \"\")","v":"John Kane"},{"$f":"IFERROR(INDEX(B157:B168, SMALL(IF(ISNUMBER(SEARCH(\"JV1\",F157:F168)), ROW(F157:F168)-MIN(ROW(F157:F168))+1, \"\"), ROW() -156 )), \"\")","v":"Kansas ,University Of"},{"$f":"IFERROR(INDEX(C157:C168, SMALL(IF(ISNUMBER(SEARCH(\"JV1\",F157:F168)), ROW(F157:F168)-MIN(ROW(F157:F168))+1, \"\"), ROW() -156 )), \"\")","v":""},{"$f":"IFERROR(INDEX(D157:D168, SMALL(IF(ISNUMBER(SEARCH(\"JV1\",F157:F168)), ROW(F157:F168)-MIN(ROW(F157:F168))+1, \"\"), ROW() -156 )), \"\")","v":"11-595310"},{"$f":"IFERROR(INDEX(E157:E168, SMALL(IF(ISNUMBER(SEARCH(\"JV1\",F157:F168)), ROW(F157:F168)-MIN(ROW(F157:F168))+1, \"\"), ROW() -156 )), \"\")","v":"Cameryn Wheeler"},{"$f":"IFERROR(INDEX(B157:B168, SMALL(IF(ISNUMBER(SEARCH(\"JV2\",F157:F168)), ROW(F157:F168)-MIN(ROW(F157:F168))+1, \"\"), ROW() -156 )), \"\")","v":""},{"$f":"IFERROR(INDEX(C157:C168, SMALL(IF(ISNUMBER(SEARCH(\"JV2\",F157:F168)), ROW(F157:F168)-MIN(ROW(F157:F168))+1, \"\"), ROW() -156 )), \"\")","v":""},{"$f":"IFERROR(INDEX(D157:D168, SMALL(IF(ISNUMBER(SEARCH(\"JV2\",F157:F168)), ROW(F157:F168)-MIN(ROW(F157:F168))+1, \"\"), ROW() -156 )), \"\")","v":""},{"$f":"IFERROR(INDEX(E157:E168, SMALL(IF(ISNUMBER(SEARCH(\"JV2\",F157:F168)), ROW(F157:F168)-MIN(ROW(F157:F168))+1, \"\"), ROW() -156 )), \"\")","v":""}]
[null,"Kansas ,University Of",null,"11-595310","Cameryn Wheeler","JV1",null,2329.0,null,false,{"$nulls":17},{"$f":"IFERROR(INDEX(B157:B168, SMALL(IF(\"V\"=F157:F168, ROW(F157:F168)-MIN(ROW(F157:F168))+1, \"\"), ROW() -156 )), \"\")","v":"Kansas ,University Of"},{"$f":"IFERROR(INDEX(C157:C168, SMALL(IF(\"V\"=F157:F168, ROW(F157:F168)-MIN(ROW(F157:F168))+1, \"\"), ROW() -156 )), \"\")","v":""},{"$f":"IFERROR(INDEX(D157:D168, SMALL(IF(\"V\"=F157:F168, ROW(F157:F168)-MIN(ROW(F157:F168))+1, \"\"), ROW() -156 )), \"\")","v":"22-27350"},{"$f":"IFERROR(INDEX(E157:E168, SMALL(IF(\"V\"=F157:F168, ROW(F157:F168)-MIN(ROW(F157:F168))+1, \"\"), ROW() -156 )), \"\")","v":"Mory Ashenberg"},{"$f":"IFERROR(INDEX(B157:B168, SMALL(IF(ISNUMBER(SEARCH(\"JV1\",F157:F168)), ROW(F157:F168)-MIN(ROW(F157:F168))+1, \"\"), ROW() -156 )), \"\")","v":"Kansas ,University Of"},{"$f":"IFERROR(INDEX(C157:C168, SMALL(IF(ISNUMBER(SEARCH(\"JV1\",F157:F168)), ROW(F157:F168)-MIN(ROW(F157:F168))+1, \"\"), ROW() -156 )), \"\")","v":""},{"$f":"IFERROR(INDEX(D157:D168, SMALL(IF(ISNUMBER(SEARCH(\"JV1\",F157:F168)), ROW(F157:F168)-MIN(ROW(F157:F168))+1, \"\"), ROW() -156 )), \"\")","v":"11-469451"},{"$f":"IFERROR(INDEX(E157:E168, SMALL(IF(ISNUMBER(SEARCH(\"JV1\",F157:F168)), ROW(F157:F168)-MIN(ROW(F157:F168))+1, \"\"), ROW() -156 )), \"\")","v":"Daniel Moser"},{"$f":"IFERROR(INDEX(B157:B168, SMALL(IF(ISNUMBER(SEARCH(\"JV2\",F157:F168)), ROW(F157:F168)-MIN(ROW(F157:F168))+1, \"\"), ROW() -156 )), \"\")","v":""},{"$f":"IFERROR(INDEX(C157:C168, SMALL(IF(ISNUMBER(SEARCH(\"JV2\",F157:F168)), ROW(F157:F168)-MIN(ROW(F157:F168))+1, \"\"), ROW() -156 )), \"\")","v":""},{"$f":"IFERROR(INDEX(D157:D168, SMALL(IF(ISNUMBER(SEARCH(\"JV2\",F157:F168)), ROW(F157:F168)-MIN(ROW(F157:F168))+1, \"\"), ROW() -156 )), \"\")","v":""},{"$f":"IFERROR(INDEX(E157:E168, SMALL(IF(ISNUMBER(SEARCH(\"JV2\",F157:F168)), ROW(F157:F168)-MIN(ROW(F157:F168))+1, \"\"), ROW() -156 )), \"\")","v":""}]
[null,"Kansas ,University Of",null,"11-489693","Chase Milledge","v",null,2329.0,null,false,{"$nulls":17},{"$f":"IFERROR(INDEX(B157:B168, SMALL(IF(\"V\"=F157:F168, ROW(F157:F168)-MIN(ROW(F157:F168))+1, \"\"), ROW() -156 )), \"\")","v":"Kansas ,University Of"},{"$f":"IFERROR(INDEX(C157:C168, SMALL(IF(\"V\"=F157:F168, ROW(F157:F168)-MIN(ROW(F157:F168))+1, \"\"), ROW() -156 )), \"\")","v":""},{"$f":"IFERROR(INDEX(D157:D168, SMALL(IF(\"V\"=F157:F168, ROW(F157:F168)-MIN(ROW(F157:F168))+1, \"\"), ROW() -156 )), \"\")","v":"19-83040"},{"$f":"IFERROR(INDEX(E157:E168, SMALL(IF(\"V\"=F157:F168, ROW(F157:F168)-MIN(ROW(F157:F168))+1, \"\"), ROW() -156 )), \"\")","v":"Patrick Bloomer"},{"$f":"IFERROR(INDEX(B157:B168, SMALL(IF(ISNUMBER(SEARCH(\"JV1\",F157:F168)), ROW(F157:F168)-MIN(ROW(F157:F168))+1, \"\"), ROW() -156 )), \"\")","v":"Kansas ,University Of"},{"$f":"IFERROR(INDEX(C157:C168, SMALL(IF(ISNUMBER(SEARCH(\"JV1\",F157:F168)), ROW(F157:F168)-MIN(ROW(F157:F168))+1, \"\"), ROW() -156 )), \"\")","v":""},{"$f":"IFERROR(INDEX(D157:D168, SMALL(IF(ISNUMBER(SEARCH(\"JV1\",F157:F168)), ROW(F157:F168)-MIN(ROW(F157:F168))+1, \"\"), ROW() -156 )), \"\")","v":"20-25203"},{"$f":"IFERROR(INDEX(E157:E168, SMALL(IF(ISNUMBER(SEARCH(\"JV1\",F157:F168)), ROW(F157:F168)-MIN(ROW(F157:F168))+1, \"\"), ROW() -156 )), \"\")","v":"Kellen McGowan"},{"$f":"IFERROR(INDEX(B157:B168, SMALL(IF(ISNUMBER(SEARCH(\"JV2\",F157:F168)), ROW(F157:F168)-MIN(ROW(F157:F168))+1, \"\"), ROW() -156 )), \"\")","v":""},{"$f":"IFERROR(INDEX(C157:C168, SMALL(IF(ISNUMBER(SEARCH(\"JV2\",F157:F168)), ROW(F157:F168)-MIN(ROW(F157:F168))+1, \"\"), ROW() -156 )), \"\")","v":""},{"$f":"IFERROR(INDEX(D157:D168, SMALL(IF(ISNUMBER(SEARCH(\"JV2\",F157:F168)), ROW(F157:F168)-MIN(ROW(F157:F168))+1, \"\"), ROW() -156 )), \"\")","v":""},{"$f":"IFERROR(INDEX(E157:E168, SMALL(IF(ISNUMBER(SEARCH(\"JV2\",F157:F168)), ROW(F157:F168)-MIN(ROW(F157:F168))+1, \"\"), ROW() -156 )), \"\")","v":""}]
[null,"Kansas ,University Of",null,"11-469451","Daniel Moser","JV1",null,2329.0,null,false,{"$nulls":17},{"$f":"IFERROR(INDEX(B157:B168, SMALL(IF(\"V\"=F157:F168, ROW(F157:F168)-MIN(ROW(F157:F168))+1, \"\"), ROW() -156 )), \"\")","v":"Kansas ,University Of"},{"$f":"IFERROR(INDEX(C157:C168, SMALL(IF(\"V\"=F157:F168, ROW(F157:F168)-MIN(ROW(F157:F168))+1, \"\"), ROW() -156 )), \"\")","v":""},{"$f":"IFERROR(INDEX(D157:D168, SMALL(IF(\"V\"=F157:F168, ROW(F157:F168)-MIN(ROW(F157:F168))+1, \"\"), ROW() -156 )), \"\")","v":"11-348802"},{"$f":"IFERROR(INDEX(E157:E168, SMALL(IF(\"V\"=F157:F168, ROW(F157:F168)-MIN(ROW(F157:F168))+1, \"\"), ROW() -156 )), \"\")","v":"Preston Pacheco"},{"$f":"IFERROR(INDEX(B157:B168, SMALL(IF(ISNUMBER(SEARCH(\"JV1\",F157:F168)), ROW(F157:F168)-MIN(ROW(F157:F168))+1, \"\"), ROW() -156 )), \"\")","v":""},{"$f":"IFERROR(INDEX(C157:C168, SMALL(IF(ISNUMBER(SEARCH(\"JV1\",F157:F168)), ROW(F157:F168)-MIN(ROW(F157:F168))+1, \"\"), ROW() -156 )), \"\")","v":""},{"$f":"IFERROR(INDEX(D157:D168, SMALL(IF(ISNUMBER(SEARCH(\"JV1\",F157:F168)), ROW(F157:F168)-MIN(ROW(F157:F168))+1, \"\"), ROW() -156 )), \"\")","v":""},{"$f":"IFERROR(INDEX(E157:E168, SMALL(IF(ISNUMBER(SEARCH(\"JV1\",F157:F168)), ROW(F157:F168)-MIN(ROW(F157:F168))+1, \"\"), ROW() -156 )), \"\")","v":""},{"$f":"IFERROR(INDEX(B157:B168, SMALL(IF(ISNUMBER(SEARCH(\"JV2\",F157:F168)), ROW(F157:F168)-MIN(ROW(F157:F168))+1, \"\"), ROW() -156 )), \"\")","v":""},{"$f":"IFERROR(INDEX(C157:C168, SMALL(IF(ISNUMBER(SEARCH(\"JV2\",F157:F168)), ROW(F157:F168)-MIN(ROW(F157:F168))+1, \"\"), ROW() -156 )), \"\")","v":""},{"$f":"IFERROR(INDEX(D157:D168, SMALL(IF(ISNUMBER(SEARCH(\"JV2\",F157:F168)), ROW(F157:F168)-MIN(ROW(F157:F168))+1, \"\"), ROW() -156 )), \"\")","v":""},{"$f":"IFERROR(INDEX(E157:E168, SMALL(IF(ISNUMBER(SEARCH(\"JV2\",F157:F168)), ROW(F157:F168)-MIN(ROW(F157:F168))+1, \"\"), ROW() -156 )), \"\")","v":""}]
[null,"Kansas ,University Of",null,"19-11396","John Kane","v",null,2329.0,null,false,{"$nulls":17},{"$f":"IFERROR(INDEX(B157:B168, SMALL(IF(\"V\"=F157:F168, ROW(F157:F168)-MIN(ROW(F157:F168))+1, \"\"), ROW() -156 )), \"\")","v":""},{"$f":"IFERROR(INDEX(C157:C168, SMALL(IF(\"V\"=F157:F168, ROW(F157:F168)-MIN(ROW(F157:F168))+1, \"\"), ROW() -156 )), \"\")","v":""},{"$f":"IFERROR(INDEX(D157:D168, SMALL(IF(\"V\"=F157:F168, ROW(F157:F168)-MIN(ROW(F157:F168))+1, \"\"), ROW() -156 )), \"\")","v":""},{"$f":"IFERROR(INDEX(E157:E168, SMALL(IF(\"V\"=F157:F168, ROW(F157:F168)-MIN(ROW(F157:F168))+1, \"\"), ROW() -156 )), \"\")","v":""},{"$f":"IFERROR(INDEX(B157:B168, SMALL(IF(ISNUMBER(SEARCH(\"JV1\",F157:F168)), ROW(F157:F168)-MIN(ROW(F157:F168))+1, \"\"), ROW() -156 )), \"\")","v":""},{"$f":"IFERROR(INDEX(C157:C168, SMALL(IF(ISNUMBER(SEARCH(\"JV1\",F157:F168)), ROW(F157:F168)-MIN(ROW(F157:F168))+1, \"\"), ROW() -156 )), \"\")","v":""},{"$f":"IFERROR(INDEX(D157:D168, SMALL(IF(ISNUMBER(SEARCH(\"JV1\",F157:F168)), ROW(F157:F168)-MIN(ROW(F157:F168))+1, \"\"), ROW() -156 )), \"\")","v":""},{"$f":"IFERROR(INDEX(E157:E168, SMALL(IF(ISNUMBER(SEARCH(\"JV1\",F157:F168)), ROW(F157:F168)-MIN(ROW(F157:F168))+1, \"\"), ROW() -156 )), \"\")","v":""},{"$f":"IFERROR(INDEX(B157:B168, SMALL(IF(ISNUMBER(SEARCH(\"JV2\",F157:F168)), ROW(F157:F168)-MIN(ROW(F157:F168))+1, \"\"), ROW() -156 )), \"\")","v":""},{"$f":"IFERROR(INDEX(C157:C168, SMALL(IF(ISNUMBER(SEARCH(\"JV2\",F157:F168)), ROW(F157:F168)-MIN(ROW(F157:F168))+1, \"\"), ROW() -156 )), \"\")","v":""},{"$f":"IFERROR(INDEX(D157:D168, SMALL(IF(ISNUMBER(SEARCH(\"JV2\",F157:F168)), ROW(F157:F168)-MIN(ROW(F157:F168))+1, \"\"), ROW() -156 )), \"\")","v":""},{"$f":"IFERROR(INDEX(E157:E168, SMALL(IF(ISNUMBER(SEARCH(\"JV2\",F157:F168)), ROW(F157:F168)-MIN(ROW(F157:F168))+1, \"\"), ROW() -156 )), \"\")","v":""}]
[null,"Kansas ,University Of",null,"20-40944","Joseph Nordling",null,null,2329.0,null,false,{"$nulls":17},{"$f":"IFERROR(INDEX(B157:B168, SMALL(IF(\"V\"=F157:F168, ROW(F157:F168)-MIN(ROW(F157:F168))+1, \"\"), ROW() -156 )), \"\")","v":""},{"$f":"IFERROR(INDEX(C157:C168, SMALL(IF(\"V\"=F157:F168, ROW(F157:F168)-MIN(ROW(F157:F168))+1, \"\"), ROW() -156 )), \"\")","v":""},{"$f":"IFERROR(INDEX(D157:D168, SMALL(IF(\"V\"=F157:F168, ROW(F157:F168)-MIN(ROW(F157:F168))+1, \"\"), ROW() -156 )), \"\")","v":""},{"$f":"IFERROR(INDEX(E157:E168, SMALL(IF(\"V\"=F157:F168, ROW(F157:F168)-MIN(ROW(F157:F168))+1, \"\"), ROW() -156 )), \"\")","v":""},{"$f":"IFERROR(INDEX(B157:B168, SMALL(IF(ISNUMBER(SEARCH(\"JV1\",F157:F168)), ROW(F157:F168)-MIN(ROW(F157:F168))+1, \"\"), ROW() -156 )), \"\")","v":""},{"$f":"IFERROR(INDEX(C157:C168, SMALL(IF(ISNUMBER(SEARCH(\"JV1\",F157:F168)), ROW(F157:F168)-MIN(ROW(F157:F168))+1, \"\"), ROW() -156 )), \"\")","v":""},{"$f":"IFERROR(INDEX(D157:D168, SMALL(IF(ISNUMBER(SEARCH(\"JV1\",F157:F168)), ROW(F157:F168)-MIN(ROW(F157:F168))+1, \"\"), ROW() -156 )), \"\")","v":""},{"$f":"IFERROR(INDEX(E157:E168, SMALL(IF(ISNUMBER(SEARCH(\"JV1\",F157:F168)), ROW(F157:F168)-MIN(ROW(F157:F168))+1, \"\"), ROW() -156 )), \"\")","v":""},{"$f":"IFERROR(INDEX(B157:B168, SMALL(IF(ISNUMBER(SEARCH(\"JV2\",F157:F168)), ROW(F157:F168)-MIN(ROW(F157:F168))+1, \"\"), ROW() -156 )), \"\")","v":""},{"$f":"IFERROR(INDEX(C157:C168, SMALL(IF(ISNUMBER(SEARCH(\"JV2\",F157:F168)), ROW(F157:F168)-MIN(ROW(F157:F168))+1, \"\"), ROW() -156 )), \"\")","v":""},{"$f":"IFERROR(INDEX(D157:D168, SMALL(IF(ISNUMBER(SEARCH(\"JV2\",F157:F168)), ROW(F157:F168)-MIN(ROW(F157:F168))+1, \"\"), ROW() -156 )), \"\")","v":""},{"$f":"IFERROR(INDEX(E157:E168, SMALL(IF(ISNUMBER(SEARCH(\"JV2\",F157:F168)), ROW(F157:F168)-MIN(ROW(F157:F168))+1, \"\"), ROW() -156 )), \"\")","v":""}]
[null,"Kansas ,University Of",null,"20-25203","Kellen McGowan","JV1",null,2329.0,null,false]
[null,"Kansas ,University Of",null,"22-27350","Mory Ashenberg","V",null,2329.0,null,false]
[null,"Kansas ,University Of",null,"19-83040","Patrick Bloomer","V",null,2329.0,null,false]
[null,"Kansas ,University Of",null,"11-348802","Preston Pacheco","v",null,2329.0,null,false]
[null,"Kansas State University",null,"931-90109","Alex Morphy",null,null,4450.0,null,false,{"$nulls":17},{"$f":"IFERROR(INDEX(B169:B185, SMALL(IF(\"V\"=F169:F185, ROW(F169:F185)-MIN(ROW(F169:F185))+1, \"\"), ROW() -168 )), \"\")","v":"Kansas State University"},{"$f":"IFERROR(INDEX(C169:C185, SMALL(IF(\"V\"=F169:F185, ROW(F169:F185)-MIN(ROW(F169:F185))+1, \"\"), ROW() -168 )), \"\")","v":""},{"$f":"IFERROR(INDEX(D169:D185, SMALL(IF(\"V\"=F169:F185, ROW(F169:F185)-MIN(ROW(F169:F185))+1, \"\"), ROW() -168 )), \"\")","v":"22-16685"},{"$f":"IFERROR(INDEX(E169:E185, SMALL(IF(\"V\"=F169:F185, ROW(F169:F185)-MIN(ROW(F169:F185))+1, \"\"), ROW() -168 )), \"\")","v":"Braden Maltz"},{"$f":"IFERROR(INDEX(B169:B185, SMALL(IF(ISNUMBER(SEARCH(\"JV1\",F169:F185)), ROW(F169:F185)-MIN(ROW(F169:F185))+1, \"\"), ROW() -168 )), \"\")","v":""},{"$f":"IFERROR(INDEX(C169:C185, SMALL(IF(ISNUMBER(SEARCH(\"JV1\",F169:F185)), ROW(F169:F185)-MIN(ROW(F169:F185))+1, \"\"), ROW() -168 )), \"\")","v":""},{"$f":"IFERROR(INDEX(D169:D185, SMALL(IF(ISNUMBER(SEARCH(\"JV1\",F169:F185)), ROW(F169:F185)-MIN(ROW(F169:F185))+1, \"\"), ROW() -168 )), \"\")","v":""},{"$f":"IFERROR(INDEX(E169:E185, SMALL(IF(ISNUMBER(SEARCH(\"JV1\",F169:F185)), ROW(F169:F185)-MIN(ROW(F169:F185))+1, \"\"), ROW() -168 )), \"\")","v":""},{"$f":"IFERROR(INDEX(B169:B185, SMALL(IF(ISNUMBER(SEARCH(\"JV2\",F169:F185)), ROW(F169:F185)-MIN(ROW(F169:F185))+1, \"\"), ROW() -168 )), \"\")","v":""},{"$f":"IFERROR(INDEX(C169:C185, SMALL(IF(ISNUMBER(SEARCH(\"JV2\",F169:F185)), ROW(F169:F185)-MIN(ROW(F169:F185))+1, \"\"), ROW() -168 )), \"\")","v":""},{"$f":"IFERROR(INDEX(D169:D185, SMALL(IF(ISNUMBER(SEARCH(\"JV2\",F169:F185)), ROW(F169:F185)-MIN(ROW(F169:F185))+1, \"\"), ROW() -168 )), \"\")","v":""},{"$f":"IFERROR(INDEX(E169:E185, SMALL(IF(ISNUMBER(SEARCH(\"JV2\",F169:F185)), ROW(F169:F185)-MIN(ROW(F169:F185))+1, \"\"), ROW() -168 )), \"\")","v":""}]
[null,"Kansas State University",null,"22-16685","Braden Maltz","V",null,4450.0,null,false,{"$nulls":17},{"$f":"IFERROR(INDEX(B169:B185, SMALL(IF(\"V\"=F169:F185, ROW(F169:F185)-MIN(ROW(F169:F185))+1, \"\"), ROW() -168 )), \"\")","v":"Kansas State University"},{"$f":"IFERROR(INDEX(C169:C185, SMALL(IF(\"V\"=F169:F185, ROW(F169:F185)-MIN(ROW(F169:F185))+1, \"\"), ROW() -168 )), \"\")","v":""},{"$f":"IFERROR(INDEX(D169:D185, SMALL(IF(\"V\"=F169:F185, ROW(F169:F185)-MIN(ROW(F169:F185))+1, \"\"), ROW() -168 )), \"\")","v":"19-85683"},{"$f":"IFERROR(INDEX(E169:E185, SMALL(IF(\"V\"=F169:F185, ROW(F169:F185)-MIN(ROW(F169:F185))+1, \"\"), ROW() -168 )), \"\")","v":"Brady Cline"},{"$f":"IFERROR(INDEX(B169:B185, SMALL(IF(ISNUMBER(SEARCH(\"JV1\",F169:F185)), ROW(F169:F185)-MIN(ROW(F169:F185))+1, \"\"), ROW() -168 )), \"\")","v":""},{"$f":"IFERROR(INDEX(C169:C185, SMALL(IF(ISNUMBER(SEARCH(\"JV1\",F169:F185)), ROW(F169:F185)-MIN(ROW(F169:F185))+1, \"\"), ROW() -168 )), \"\")","v":""},{"$f":"IFERROR(INDEX(D169:D185, SMALL(IF(ISNUMBER(SEARCH(\"JV1\",F169:F185)), ROW(F169:F185)-MIN(ROW(F169:F185))+1, \"\"), ROW() -168 )), \"\")","v":""},{"$f":"IFERROR(INDEX(E169:E185, SMALL(IF(ISNUMBER(SEARCH(\"JV1\",F169:F185)), ROW(F169:F185)-MIN(ROW(F169:F185))+1, \"\"), ROW() -168 )), \"\")","v":""},{"$f":"IFERROR(INDEX(B169:B185, SMALL(IF(ISNUMBER(SEARCH(\"JV2\",F169:F185)), ROW(F169:F185)-MIN(ROW(F169:F185))+1, \"\"), ROW() -168 )), \"\")","v":""},{"$f":"IFERROR(INDEX(C169:C185, SMALL(IF(ISNUMBER(SEARCH(\"JV2\",F169:F185)), ROW(F169:F185)-MIN(ROW(F169:F185))+1, \"\"), ROW() -168 )), \"\")","v":""},{"$f":"IFERROR(INDEX(D169:D185, SMALL(IF(ISNUMBER(SEARCH(\"JV2\",F169:F185)), ROW(F169:F185)-MIN(ROW(F169:F185))+1, \"\"), ROW() -168 )), \"\")","v":""},{"$f":"IFERROR(INDEX(E169:E185, SMALL(IF(ISNUMBER(SEARCH(\"JV2\",F169:F185)), ROW(F169:F185)-MIN(ROW(F169:F185))+1, \"\"), ROW() -168 )), \"\")","v":""}]
[null,"Kansas State University",null,"19-85683","Brady Cline","V",null,4450.0,null,false,{"$nulls":17},{"$f":"IFERROR(INDEX(B169:B185, SMALL(IF(\"V\"=F169:F185, ROW(F169:F185)-MIN(ROW(F169:F185))+1, \"\"), ROW() -168 )), \"\")","v":"Kansas State University"},{"$f":"IFERROR(INDEX(C169:C185, SMALL(IF(\"V\"=F169:F185, ROW(F169:F185)-MIN(ROW(F169:F185))+1, \"\"), ROW() -168 )), \"\")","v":""},{"$f":"IFERROR(INDEX(D169:D185, SMALL(IF(\"V\"=F169:F185, ROW(F169:F185)-MIN(ROW(F169:F185))+1, \"\"), ROW() -168 )), \"\")","v":"11-90659"},{"$f":"IFERROR(INDEX(E169:E185, SMALL(IF(\"V\"=F169:F185, ROW(F169:F185)-MIN(ROW(F169:F185))+1, \"\"), ROW() -168 )), \"\")","v":"Cameron Kotwitz"},{"$f":"IFERROR(INDEX(B169:B185, SMALL(IF(ISNUMBER(SEARCH(\"JV1\",F169:F185)), ROW(F169:F185)-MIN(ROW(F169:F185))+1, \"\"), ROW() -168 )), \"\")","v":""},{"$f":"IFERROR(INDEX(C169:C185, SMALL(IF(ISNUMBER(SEARCH(\"JV1\",F169:F185)), ROW(F169:F185)-MIN(ROW(F169:F185))+1, \"\"), ROW() -168 )), \"\")","v":""},{"$f":"IFERROR(INDEX(D169:D185, SMALL(IF(ISNUMBER(SEARCH(\"JV1\",F169:F185)), ROW(F169:F185)-MIN(ROW(F169:F185))+1, \"\"), ROW() -168 )), \"\")","v":""},{"$f":"IFERROR(INDEX(E169:E185, SMALL(IF(ISNUMBER(SEARCH(\"JV1\",F169:F185)), ROW(F169:F185)-MIN(ROW(F169:F185))+1, \"\"), ROW() -168 )), \"\")","v":""},{"$f":"IFERROR(INDEX(B169:B185, SMALL(IF(ISNUMBER(SEARCH(\"JV2\",F169:F185)), ROW(F169:F185)-MIN(ROW(F169:F185))+1, \"\"), ROW() -168 )), \"\")","v":""},{"$f":"IFERROR(INDEX(C169:C185, SMALL(IF(ISNUMBER(SEARCH(\"JV2\",F169:F185)), ROW(F169:F185)-MIN(ROW(F169:F185))+1, \"\"), ROW() -168 )), \"\")","v":""},{"$f":"IFERROR(INDEX(D169:D185, SMALL(IF(ISNUMBER(SEARCH(\"JV2\",F169:F185)), ROW(F169:F185)-MIN(ROW(F169:F185))+1, \"\"), ROW() -168 )), \"\")","v":""},{"$f":"IFERROR(INDEX(E169:E185, SMALL(IF(ISNUMBER(SEARCH(\"JV2\",F169:F185)), ROW(F169:F185)-MIN(ROW(F169:F185))+1, \"\"), ROW() -168 )), \"\")","v":""}]
[null,"Kansas State University",null,"11-90659","Cameron Kotwitz","v",null,4450.0,null,false,{"$nulls":17},{"$f":"IFERROR(INDEX(B169:B185, SMALL(IF(\"V\"=F169:F185, ROW(F169:F185)-MIN(ROW(F169:F185))+1, \"\"), ROW() -168 )), \"\")","v":"Kansas State University"},{"$f":"IFERROR(INDEX(C169:C185, SMALL(IF(\"V\"=F169:F185, ROW(F169:F185)-MIN(ROW(F169:F185))+1, \"\"), ROW() -168 )), \"\")","v":""},{"$f":"IFERROR(INDEX(D169:D185, SMALL(IF(\"V\"=F169:F185, ROW(F169:F185)-MIN(ROW(F169:F185))+1, \"\"), ROW() -168 )), \"\")","v":"21-24464"},{"$f":"IFERROR(INDEX(E169:E185, SMALL(IF(\"V\"=F169:F185, ROW(F169:F185)-MIN(ROW(F169:F185))+1, \"\"), ROW() -168 )), \"\")","v":"Carter Schaffer"},{"$f":"IFERROR(INDEX(B169:B185, SMALL(IF(ISNUMBER(SEARCH(\"JV1\",F169:F185)), ROW(F169:F185)-MIN(ROW(F169:F185))+1, \"\"), ROW() -168 )), \"\")","v":""},{"$f":"IFERROR(INDEX(C169:C185, SMALL(IF(ISNUMBER(SEARCH(\"JV1\",F169:F185)), ROW(F169:F185)-MIN(ROW(F169:F185))+1, \"\"), ROW() -168 )), \"\")","v":""},{"$f":"IFERROR(INDEX(D169:D185, SMALL(IF(ISNUMBER(SEARCH(\"JV1\",F169:F185)), ROW(F169:F185)-MIN(ROW(F169:F185))+1, \"\"), ROW() -168 )), \"\")","v":""},{"$f":"IFERROR(INDEX(E169:E185, SMALL(IF(ISNUMBER(SEARCH(\"JV1\",F169:F185)), ROW(F169:F185)-MIN(ROW(F169:F185))+1, \"\"), ROW() -168 )), \"\")","v":""},{"$f":"IFERROR(INDEX(B169:B185, SMALL(IF(ISNUMBER(SEARCH(\"JV2\",F169:F185)), ROW(F169:F185)-MIN(ROW(F169:F185))+1, \"\"), ROW() -168 )), \"\")","v":""},{"$f":"IFERROR(INDEX(C169:C185, SMALL(IF(ISNUMBER(SEARCH(\"JV2\",F169:F185)), ROW(F169:F185)-MIN(ROW(F169:F185))+1, \"\"), ROW() -168 )), \"\")","v":""},{"$f":"IFERROR(INDEX(D169:D185, SMALL(IF(ISNUMBER(SEARCH(\"JV2\",F169:F185)), ROW(F169:F185)-MIN(ROW(F169:F185))+1, \"\"), ROW() -168 )), \"\")","v":""},{"$f":"IFERROR(INDEX(E169:E185, SMALL(IF(ISNUMBER(SEARCH(\"JV2\",F169:F185)), ROW(F169:F185)-MIN(ROW(F169:F185))+1, \"\"), ROW() -168 )), \"\")","v":""}]
[null,"Kansas State University",null,"19-37440","Carson Toews",null,null,4450.0,null,false,{"$nulls":17},{"$f":"IFERROR(INDEX(B169:B185, SMALL(IF(\"V\"=F169:F185, ROW(F169:F185)-MIN(ROW(F169:F185))+1, \"\"), ROW() -168 )), \"\")","v":"Kansas State University"},{"$f":"IFERROR(INDEX(C169:C185, SMALL(IF(\"V\"=F169:F185, ROW(F169:F185)-MIN(ROW(F169:F185))+1, \"\"), ROW() -168 )), \"\")","v":""},{"$f":"IFERROR(INDEX(D169:D185, SMALL(IF(\"V\"=F169:F185, ROW(F169:F185)-MIN(ROW(F169:F185))+1, \"\"), ROW() -168 )), \"\")","v":"11-275379"},{"$f":"IFERROR(INDEX(E169:E185, SMALL(IF(\"V\"=F169:F185, ROW(F169:F185)-MIN(ROW(F169:F185))+1, \"\"), ROW() -168 )), \"\")","v":"Devin Morelock"},{"$f":"IFERROR(INDEX(B169:B185, SMALL(IF(ISNUMBER(SEARCH(\"JV1\",F169:F185)), ROW(F169:F185)-MIN(ROW(F169:F185))+1, \"\"), ROW() -168 )), \"\")","v":""},{"$f":"IFERROR(INDEX(C169:C185, SMALL(IF(ISNUMBER(SEARCH(\"JV1\",F169:F185)), ROW(F169:F185)-MIN(ROW(F169:F185))+1, \"\"), ROW() -168 )), \"\")","v":""},{"$f":"IFERROR(INDEX(D169:D185, SMALL(IF(ISNUMBER(SEARCH(\"JV1\",F169:F185)), ROW(F169:F185)-MIN(ROW(F169:F185))+1, \"\"), ROW() -168 )), \"\")","v":""},{"$f":"IFERROR(INDEX(E169:E185, SMALL(IF(ISNUMBER(SEARCH(\"JV1\",F169:F185)), ROW(F169:F185)-MIN(ROW(F169:F185))+1, \"\"), ROW() -168 )), \"\")","v":""},{"$f":"IFERROR(INDEX(B169:B185, SMALL(IF(ISNUMBER(SEARCH(\"JV2\",F169:F185)), ROW(F169:F185)-MIN(ROW(F169:F185))+1, \"\"), ROW() -168 )), \"\")","v":""},{"$f":"IFERROR(INDEX(C169:C185, SMALL(IF(ISNUMBER(SEARCH(\"JV2\",F169:F185)), ROW(F169:F185)-MIN(ROW(F169:F185))+1, \"\"), ROW() -168 )), \"\")","v":""},{"$f":"IFERROR(INDEX(D169:D185, SMALL(IF(ISNUMBER(SEARCH(\"JV2\",F169:F185)), ROW(F169:F185)-MIN(ROW(F169:F185))+1, \"\"), ROW() -168 )), \"\")","v":""},{"$f":"IFERROR(INDEX(E169:E185, SMALL(IF(ISNUMBER(SEARCH(\"JV2\",F169:F185)), ROW(F169:F185)-MIN(ROW(F169:F185))+1, \"\"), ROW() -168 )), \"\")","v":""}]
[null,"Kansas State University",null,"21-24464","Carter Schaffer","v",null,4450.0,null,false,{"$nulls":17},{"$f":"IFERROR(INDEX(B169:B185, SMALL(IF(\"V\"=F169:F185, ROW(F169:F185)-MIN(ROW(F169:F185))+1, \"\"), ROW() -168 )), \"\")","v":"Kansas State University"},{"$f":"IFERROR(INDEX(C169:C185, SMALL(IF(\"V\"=F169:F185, ROW(F169:F185)-MIN(ROW(F169:F185))+1, \"\"), ROW() -168 )), \"\")","v":""},{"$f":"IFERROR(INDEX(D169:D185, SMALL(IF(\"V\"=F169:F185, ROW(F169:F185)-MIN(ROW(F169:F185))+1, \"\"), ROW() -168 )), \"\")","v":"15-107222"},{"$f":"IFERROR(INDEX(E169:E185, SMALL(IF(\"V\"=F169:F185, ROW(F169:F185)-MIN(ROW(F169:F185))+1, \"\"), ROW() -168 )), \"\")","v":"Joe Tillery"},{"$f":"IFERROR(INDEX(B169:B185, SMALL(IF(ISNUMBER(SEARCH(\"JV1\",F169:F185)), ROW(F169:F185)-MIN(ROW(F169:F185))+1, \"\"), ROW() -168 )), \"\")","v":""},{"$f":"IFERROR(INDEX(C169:C185, SMALL(IF(ISNUMBER(SEARCH(\"JV1\",F169:F185)), ROW(F169:F185)-MIN(ROW(F169:F185))+1, \"\"), ROW() -168 )), \"\")","v":""},{"$f":"IFERROR(INDEX(D169:D185, SMALL(IF(ISNUMBER(SEARCH(\"JV1\",F169:F185)), ROW(F169:F185)-MIN(ROW(F169:F185))+1, \"\"), ROW() -168 )), \"\")","v":""},{"$f":"IFERROR(INDEX(E169:E185, SMALL(IF(ISNUMBER(SEARCH(\"JV1\",F169:F185)), ROW(F169:F185)-MIN(ROW(F169:F185))+1, \"\"), ROW() -168 )), \"\")","v":""},{"$f":"IFERROR(INDEX(B169:B185, SMALL(IF(ISNUMBER(SEARCH(\"JV2\",F169:F185)), ROW(F169:F185)-MIN(ROW(F169:F185))+1, \"\"), ROW() -168 )), \"\")","v":""},{"$f":"IFERROR(INDEX(C169:C185, SMALL(IF(ISNUMBER(SEARCH(\"JV2\",F169:F185)), ROW(F169:F185)-MIN(ROW(F169:F185))+1, \"\"), ROW() -168 )), \"\")","v":""},{"$f":"IFERROR(INDEX(D169:D185, SMALL(IF(ISNUMBER(SEARCH(\"JV2\",F169:F185)), ROW(F169:F185)-MIN(ROW(F169:F185))+1, \"\"), ROW() -168 )), \"\")","v":""},{"$f":"IFERROR(INDEX(E169:E185, SMALL(IF(ISNUMBER(SEARCH(\"JV2\",F169:F185)), ROW(F169:F185)-MIN(ROW(F169:F185))+1, \"\"), ROW() -168 )), \"\")","v":""}]
[null,"Kansas State University",null,"11-320626","Cody Bourbon"," ",null,4450.0,null,false,{"$nulls":17},{"$f":"IFERROR(INDEX(B169:B185, SMALL(IF(\"V\"=F169:F185, ROW(F169:F185)-MIN(ROW(F169:F185))+1, \"\"), ROW() -168 )), \"\")","v":"Kansas State University"},{"$f":"IFERROR(INDEX(C169:C185, SMALL(IF(\"V\"=F169:F185, ROW(F169:F185)-MIN(ROW(F169:F185))+1, \"\"), ROW() -168 )), \"\")","v":""},{"$f":"IFERROR(INDEX(D169:D185, SMALL(IF(\"V\"=F169:F185, ROW(F169:F185)-MIN(ROW(F169:F185))+1, \"\"), ROW() -168 )), \"\")","v":"17-101586"},{"$f":"IFERROR(INDEX(E169:E185, SMALL(IF(\"V\"=F169:F185, ROW(F169:F185)-MIN(ROW(F169:F185))+1, \"\"), ROW() -168 )), \"\")","v":"Luke Belvin"},{"$f":"IFERROR(INDEX(B169:B185, SMALL(IF(ISNUMBER(SEARCH(\"JV1\",F169:F185)), ROW(F169:F185)-MIN(ROW(F169:F185))+1, \"\"), ROW() -168 )), \"\")","v":""},{"$f":"IFERROR(INDEX(C169:C185, SMALL(IF(ISNUMBER(SEARCH(\"JV1\",F169:F185)), ROW(F169:F185)-MIN(ROW(F169:F185))+1, \"\"), ROW() -168 )), \"\")","v":""},{"$f":"IFERROR(INDEX(D169:D185, SMALL(IF(ISNUMBER(SEARCH(\"JV1\",F169:F185)), ROW(F169:F185)-MIN(ROW(F169:F185))+1, \"\"), ROW() -168 )), \"\")","v":""},{"$f":"IFERROR(INDEX(E169:E185, SMALL(IF(ISNUMBER(SEARCH(\"JV1\",F169:F185)), ROW(F169:F185)-MIN(ROW(F169:F185))+1, \"\"), ROW() -168 )), \"\")","v":""},{"$f":"IFERROR(INDEX(B169:B185, SMALL(IF(ISNUMBER(SEARCH(\"JV2\",F169:F185)), ROW(F169:F185)-MIN(ROW(F169:F185))+1, \"\"), ROW() -168 )), \"\")","v":""},{"$f":"IFERROR(INDEX(C169:C185, SMALL(IF(ISNUMBER(SEARCH(\"JV2\",F169:F185)), ROW(F169:F185)-MIN(ROW(F169:F185))+1, \"\"), ROW() -168 )), \"\")","v":""},{"$f":"IFERROR(INDEX(D169:D185, SMALL(IF(ISNUMBER(SEARCH(\"JV2\",F169:F185)), ROW(F169:F185)-MIN(ROW(F169:F185))+1, \"\"), ROW() -168 )), \"\")","v":""},{"$f":"IFERROR(INDEX(E169:E185, SMALL(IF(ISNUMBER(SEARCH(\"JV2\",F169:F185)), ROW(F169:F185)-MIN(ROW(F169:F185))+1, \"\"), ROW() -168 )), \"\")","v":""}]
[null,"Kansas State University",null,"11-647912","Connor Martin",null,null,4450.0,null,false,{"$nulls":17},{"$f":"IFERROR(INDEX(B169:B185, SMALL(IF(\"V\"=F169:F185, ROW(F169:F185)-MIN(ROW(F169:F185))+1, \"\"), ROW() -168 )), \"\")","v":""},{"$f":"IFERROR(INDEX(C169:C185, SMALL(IF(\"V\"=F169:F185, ROW(F169:F185)-MIN(ROW(F169:F185))+1, \"\"), ROW() -168 )), \"\")","v":""},{"$f":"IFERROR(INDEX(D169:D185, SMALL(IF(\"V\"=F169:F185, ROW(F169:F185)-MIN(ROW(F169:F185))+1, \"\"), ROW() -168 )), \"\")","v":""},{"$f":"IFERROR(INDEX(E169:E185, SMALL(IF(\"V\"=F169:F185, ROW(F169:F185)-MIN(ROW(F169:F185))+1, \"\"), ROW() -168 )), \"\")","v":""},{"$f":"IFERROR(INDEX(B169:B185, SMALL(IF(ISNUMBER(SEARCH(\"JV1\",F169:F185)), ROW(F169:F185)-MIN(ROW(F169:F185))+1, \"\"), ROW() -168 )), \"\")","v":""},{"$f":"IFERROR(INDEX(C169:C185, SMALL(IF(ISNUMBER(SEARCH(\"JV1\",F169:F185)), ROW(F169:F185)-MIN(ROW(F169:F185))+1, \"\"), ROW() -168 )), \"\")","v":""},{"$f":"IFERROR(INDEX(D169:D185, SMALL(IF(ISNUMBER(SEARCH(\"JV1\",F169:F185)), ROW(F169:F185)-MIN(ROW(F169:F185))+1, \"\"), ROW() -168 )), \"\")","v":""},{"$f":"IFERROR(INDEX(E169:E185, SMALL(IF(ISNUMBER(SEARCH(\"JV1\",F169:F185)), ROW(F169:F185)-MIN(ROW(F169:F185))+1, \"\"), ROW() -168 )), \"\")","v":""},{"$f":"IFERROR(INDEX(B169:B185, SMALL(IF(ISNUMBER(SEARCH(\"JV2\",F169:F185)), ROW(F169:F185)-MIN(ROW(F169:F185))+1, \"\"), ROW() -168 )), \"\")","v":""},{"$f":"IFERROR(INDEX(C169:C185, SMALL(IF(ISNUMBER(SEARCH(\"JV2\",F169:F185)), ROW(F169:F185)-MIN(ROW(F169:F185))+1, \"\"), ROW() -168 )), \"\")","v":""},{"$f":"IFERROR(INDEX(D169:D185, SMALL(IF(ISNUMBER(SEARCH(\"JV2\",F169:F185)), ROW(F169:F185)-MIN(ROW(F169:F185))+1, \"\"), ROW() -168 )), \"\")","v":""},{"$f":"IFERROR(INDEX(E169:E185, SMALL(IF(ISNUMBER(SEARCH(\"JV2\",F169:F185)), ROW(F169:F185)-MIN(ROW(F169:F185))+1, \"\"), ROW() -168 )), \"\")","v":""}]
[null,"Kansas State University",null,"11-275379","Devin Morelock","v",null,4450.0,null,false]
[null,"Kansas State University",null,"8599-78256","Hunter Billings"," ",null,4450.0,null,false]
[null,"Kansas State University",null,"11-485773","Jacob Kilgore"," ",null,4450.0,null,false]
[null,"Kansas State University",null,"22-16695","James Finlen",null,null,4450.0,null,false]
[null,"Kansas State University",null,"15-107222","Joe Tillery","v",null,4450.0,null,false]
[null,"Kansas State University",null,"22-16696","Justin House",null,null,4450.0,null,false]
[null,"Kansas State University",null,"17-101586","Luke Belvin","v",null,4450.0,null,false]
[null,"Kansas State University",null,"15-191063","Paul Brandt"," ",null,4450.0,null,false]
[null,"Kansas State University",null,"11-653831","Robby Clausel"," ",null,4450.0,null,false]
[null,"Kansas Wesleyan University",null,"16-163630","Alec Elskamp","V",null,4430.0,null,false,{"$nulls":17},{"$f":"IFERROR(INDEX(B186:B196, SMALL(IF(\"V\"=F186:F196, ROW(F186:F196)-MIN(ROW(F186:F196))+1, \"\"), ROW() -185 )), \"\")","v":"Kansas Wesleyan University"},{"$f":"IFERROR(INDEX(C186:C196, SMALL(IF(\"V\"=F186:F196, ROW(F186:F196)-MIN(ROW(F186:F196))+1, \"\"), ROW() -185 )), \"\")","v":""},{"$f":"IFERROR(INDEX(D186:D196, SMALL(IF(\"V\"=F186:F196, ROW(F186:F196)-MIN(ROW(F186:F196))+1, \"\"), ROW() -185 )), \"\")","v":"16-163630"},{"$f":"IFERROR(INDEX(E186:E196, SMALL(IF(\"V\"=F186:F196, ROW(F186:F196)-MIN(ROW(F186:F196))+1, \"\"), ROW() -185 )), \"\")","v":"Alec Elskamp"},{"$f":"IFERROR(INDEX(B186:B196, SMALL(IF(ISNUMBER(SEARCH(\"JV1\",F186:F196)), ROW(F186:F196)-MIN(ROW(F186:F196))+1, \"\"), ROW() -185 )), \"\")","v":""},{"$f":"IFERROR(INDEX(C186:C196, SMALL(IF(ISNUMBER(SEARCH(\"JV1\",F186:F196)), ROW(F186:F196)-MIN(ROW(F186:F196))+1, \"\"), ROW() -185 )), \"\")","v":""},{"$f":"IFERROR(INDEX(D186:D196, SMALL(IF(ISNUMBER(SEARCH(\"JV1\",F186:F196)), ROW(F186:F196)-MIN(ROW(F186:F196))+1, \"\"), ROW() -185 )), \"\")","v":""},{"$f":"IFERROR(INDEX(E186:E196, SMALL(IF(ISNUMBER(SEARCH(\"JV1\",F186:F196)), ROW(F186:F196)-MIN(ROW(F186:F196))+1, \"\"), ROW() -185 )), \"\")","v":""},{"$f":"IFERROR(INDEX(B186:B196, SMALL(IF(ISNUMBER(SEARCH(\"JV2\",F186:F196)), ROW(F186:F196)-MIN(ROW(F186:F196))+1, \"\"), ROW() -185 )), \"\")","v":""},{"$f":"IFERROR(INDEX(C186:C196, SMALL(IF(ISNUMBER(SEARCH(\"JV2\",F186:F196)), ROW(F186:F196)-MIN(ROW(F186:F196))+1, \"\"), ROW() -185 )), \"\")","v":""},{"$f":"IFERROR(INDEX(D186:D196, SMALL(IF(ISNUMBER(SEARCH(\"JV2\",F186:F196)), ROW(F186:F196)-MIN(ROW(F186:F196))+1, \"\"), ROW() -185 )), \"\")","v":""},{"$f":"IFERROR(INDEX(E186:E196, SMALL(IF(ISNUMBER(SEARCH(\"JV2\",F186:F196)), ROW(F186:F196)-MIN(ROW(F186:F196))+1, \"\"), ROW() -185 )), \"\")","v":""}]
[null,"Kansas Wesleyan University",null,"5900-25891","Andrew Fonseca","V",null,4430.0,null,false,{"$nulls":17},{"$f":"IFERROR(INDEX(B186:B196, SMALL(IF(\"V\"=F186:F196, ROW(F186:F196)-MIN(ROW(F186:F196))+1, \"\"), ROW() -185 )), \"\")","v":"Kansas Wesleyan University"},{"$f":"IFERROR(INDEX(C186:C196, SMALL(IF(\"V\"=F186:F196, ROW(F186:F196)-MIN(ROW(F186:F196))+1, \"\"), ROW() -185 )), \"\")","v":""},{"$f":"IFERROR(INDEX(D186:D196, SMALL(IF(\"V\"=F186:F196, ROW(F186:F196)-MIN(ROW(F186:F196))+1, \"\"), ROW() -185 )), \"\")","v":"5900-25891"},{"$f":"IFERROR(INDEX(E186:E196, SMALL(IF(\"V\"=F186:F196, ROW(F186:F196)-MIN(ROW(F186:F196))+1, \"\"), ROW() -185 )), \"\")","v":"Andrew Fonseca"},{"$f":"IFERROR(INDEX(B186:B196, SMALL(IF(ISNUMBER(SEARCH(\"JV1\",F186:F196)), ROW(F186:F196)-MIN(ROW(F186:F196))+1, \"\"), ROW() -185 )), \"\")","v":""},{"$f":"IFERROR(INDEX(C186:C196, SMALL(IF(ISNUMBER(SEARCH(\"JV1\",F186:F196)), ROW(F186:F196)-MIN(ROW(F186:F196))+1, \"\"), ROW() -185 )), \"\")","v":""},{"$f":"IFERROR(INDEX(D186:D196, SMALL(IF(ISNUMBER(SEARCH(\"JV1\",F186:F196)), ROW(F186:F196)-MIN(ROW(F186:F196))+1, \"\"), ROW() -185 )), \"\")","v":""},{"$f":"IFERROR(INDEX(E186:E196, SMALL(IF(ISNUMBER(SEARCH(\"JV1\",F186:F196)), ROW(F186:F196)-MIN(ROW(F186:F196))+1, \"\"), ROW() -185 )), \"\")","v":""},{"$f":"IFERROR(INDEX(B186:B196, SMALL(IF(ISNUMBER(SEARCH(\"JV2\",F186:F196)), ROW(F186:F196)-MIN(ROW(F186:F196))+1, \"\"), ROW() -185 )), \"\")","v":""},{"$f":"IFERROR(INDEX(C186:C196, SMALL(IF(ISNUMBER(SEARCH(\"JV2\",F186:F196)), ROW(F186:F196)-MIN(ROW(F186:F196))+1, \"\"), ROW() -185 )), \"\")","v":""},{"$f":"IFERROR(INDEX(D186:D196, SMALL(IF(ISNUMBER(SEARCH(\"JV2\",F186:F196)), ROW(F186:F196)-MIN(ROW(F186:F196))+1, \"\"), ROW() -185 )), \"\")","v":""},{"$f":"IFERROR(INDEX(E186:E196, SMALL(IF(ISNUMBER(SEARCH(\"JV2\",F186:F196)), ROW(F186:F196)-MIN(ROW(F186:F196))+1, \"\"), ROW() -185 )), \"\")","v":""}]
[null,"Kansas Wesleyan University",null,"11-543266","Andrew Froetschner"," ",null,4430.0,null,false,{"$nulls":17},{"$f":"IFERROR(INDEX(B186:B196, SMALL(IF(\"V\"=F186:F196, ROW(F186:F196)-MIN(ROW(F186:F196))+1, \"\"), ROW() -185 )), \"\")","v":"Kansas Wesleyan University"},{"$f":"IFERROR(INDEX(C186:C196, SMALL(IF(\"V\"=F186:F196, ROW(F186:F196)-MIN(ROW(F186:F196))+1, \"\"), ROW() -185 )), \"\")","v":""},{"$f":"IFERROR(INDEX(D186:D196, SMALL(IF(\"V\"=F186:F196, ROW(F186:F196)-MIN(ROW(F186:F196))+1, \"\"), ROW() -185 )), \"\")","v":"18-94173"},{"$f":"IFERROR(INDEX(E186:E196, SMALL(IF(\"V\"=F186:F196, ROW(F186:F196)-MIN(ROW(F186:F196))+1, \"\"), ROW() -185 )), \"\")","v":"Jackson Penny"},{"$f":"IFERROR(INDEX(B186:B196, SMALL(IF(ISNUMBER(SEARCH(\"JV1\",F186:F196)), ROW(F186:F196)-MIN(ROW(F186:F196))+1, \"\"), ROW() -185 )), \"\")","v":""},{"$f":"IFERROR(INDEX(C186:C196, SMALL(IF(ISNUMBER(SEARCH(\"JV1\",F186:F196)), ROW(F186:F196)-MIN(ROW(F186:F196))+1, \"\"), ROW() -185 )), \"\")","v":""},{"$f":"IFERROR(INDEX(D186:D196, SMALL(IF(ISNUMBER(SEARCH(\"JV1\",F186:F196)), ROW(F186:F196)-MIN(ROW(F186:F196))+1, \"\"), ROW() -185 )), \"\")","v":""},{"$f":"IFERROR(INDEX(E186:E196, SMALL(IF(ISNUMBER(SEARCH(\"JV1\",F186:F196)), ROW(F186:F196)-MIN(ROW(F186:F196))+1, \"\"), ROW() -185 )), \"\")","v":""},{"$f":"IFERROR(INDEX(B186:B196, SMALL(IF(ISNUMBER(SEARCH(\"JV2\",F186:F196)), ROW(F186:F196)-MIN(ROW(F186:F196))+1, \"\"), ROW() -185 )), \"\")","v":""},{"$f":"IFERROR(INDEX(C186:C196, SMALL(IF(ISNUMBER(SEARCH(\"JV2\",F186:F196)), ROW(F186:F196)-MIN(ROW(F186:F196))+1, \"\"), ROW() -185 )), \"\")","v":""},{"$f":"IFERROR(INDEX(D186:D196, SMALL(IF(ISNUMBER(SEARCH(\"JV2\",F186:F196)), ROW(F186:F196)-MIN(ROW(F186:F196))+1, \"\"), ROW() -185 )), \"\")","v":""},{"$f":"IFERROR(INDEX(E186:E196, SMALL(IF(ISNUMBER(SEARCH(\"JV2\",F186:F196)), ROW(F186:F196)-MIN(ROW(F186:F196))+1, \"\"), ROW() -185 )), \"\")","v":""}]
[null,"Kansas Wesleyan University",null,"21-20530","Conner Kirby"," ",null,4430.0,null,false,{"$nulls":17},{"$f":"IFERROR(INDEX(B186:B196, SMALL(IF(\"V\"=F186:F196, ROW(F186:F196)-MIN(ROW(F186:F196))+1, \"\"), ROW() -185 )), \"\")","v":"Kansas Wesleyan University"},{"$f":"IFERROR(INDEX(C186:C196, SMALL(IF(\"V\"=F186:F196, ROW(F186:F196)-MIN(ROW(F186:F196))+1, \"\"), ROW() -185 )), \"\")","v":""},{"$f":"IFERROR(INDEX(D186:D196, SMALL(IF(\"V\"=F186:F196, ROW(F186:F196)-MIN(ROW(F186:F196))+1, \"\"), ROW() -185 )), \"\")","v":"17-80840"},{"$f":"IFERROR(INDEX(E186:E196, SMALL(IF(\"V\"=F186:F196, ROW(F186:F196)-MIN(ROW(F186:F196))+1, \"\"), ROW() -185 )), \"\")","v":"Landon Hodge"},{"$f":"IFERROR(INDEX(B186:B196, SMALL(IF(ISNUMBER(SEARCH(\"JV1\",F186:F196)), ROW(F186:F196)-MIN(ROW(F186:F196))+1, \"\"), ROW() -185 )), \"\")","v":""},{"$f":"IFERROR(INDEX(C186:C196, SMALL(IF(ISNUMBER(SEARCH(\"JV1\",F186:F196)), ROW(F186:F196)-MIN(ROW(F186:F196))+1, \"\"), ROW() -185 )), \"\")","v":""},{"$f":"IFERROR(INDEX(D186:D196, SMALL(IF(ISNUMBER(SEARCH(\"JV1\",F186:F196)), ROW(F186:F196)-MIN(ROW(F186:F196))+1, \"\"), ROW() -185 )), \"\")","v":""},{"$f":"IFERROR(INDEX(E186:E196, SMALL(IF(ISNUMBER(SEARCH(\"JV1\",F186:F196)), ROW(F186:F196)-MIN(ROW(F186:F196))+1, \"\"), ROW() -185 )), \"\")","v":""},{"$f":"IFERROR(INDEX(B186:B196, SMALL(IF(ISNUMBER(SEARCH(\"JV2\",F186:F196)), ROW(F186:F196)-MIN(ROW(F186:F196))+1, \"\"), ROW() -185 )), \"\")","v":""},{"$f":"IFERROR(INDEX(C186:C196, SMALL(IF(ISNUMBER(SEARCH(\"JV2\",F186:F196)), ROW(F186:F196)-MIN(ROW(F186:F196))+1, \"\"), ROW() -185 )), \"\")","v":""},{"$f":"IFERROR(INDEX(D186:D196, SMALL(IF(ISNUMBER(SEARCH(\"JV2\",F186:F196)), ROW(F186:F196)-MIN(ROW(F186:F196))+1, \"\"), ROW() -185 )), \"\")","v":""},{"$f":"IFERROR(INDEX(E186:E196, SMALL(IF(ISNUMBER(SEARCH(\"JV2\",F186:F196)), ROW(F186:F196)-MIN(ROW(F186:F196))+1, \"\"), ROW() -185 )), \"\")","v":""}]
[null,"Kansas Wesleyan University",null,"18-94173","Jackson Penny","V",null,4430.0,null,false,{"$nulls":17},{"$f":"IFERROR(INDEX(B186:B196, SMALL(IF(\"V\"=F186:F196, ROW(F186:F196)-MIN(ROW(F186:F196))+1, \"\"), ROW() -185 )), \"\")","v":"Kansas Wesleyan University"},{"$f":"IFERROR(INDEX(C186:C196, SMALL(IF(\"V\"=F186:F196, ROW(F186:F196)-MIN(ROW(F186:F196))+1, \"\"), ROW() -185 )), \"\")","v":""},{"$f":"IFERROR(INDEX(D186:D196, SMALL(IF(\"V\"=F186:F196, ROW(F186:F196)-MIN(ROW(F186:F196))+1, \"\"), ROW() -185 )), \"\")","v":"11-762339"},{"$f":"IFERROR(INDEX(E186:E196, SMALL(IF(\"V\"=F186:F196, ROW(F186:F196)-MIN(ROW(F186:F196))+1, \"\"), ROW() -185 )), \"\")","v":"Landon Jones"},{"$f":"IFERROR(INDEX(B186:B196, SMALL(IF(ISNUMBER(SEARCH(\"JV1\",F186:F196)), ROW(F186:F196)-MIN(ROW(F186:F196))+1, \"\"), ROW() -185 )), \"\")","v":""},{"$f":"IFERROR(INDEX(C186:C196, SMALL(IF(ISNUMBER(SEARCH(\"JV1\",F186:F196)), ROW(F186:F196)-MIN(ROW(F186:F196))+1, \"\"), ROW() -185 )), \"\")","v":""},{"$f":"IFERROR(INDEX(D186:D196, SMALL(IF(ISNUMBER(SEARCH(\"JV1\",F186:F196)), ROW(F186:F196)-MIN(ROW(F186:F196))+1, \"\"), ROW() -185 )), \"\")","v":""},{"$f":"IFERROR(INDEX(E186:E196, SMALL(IF(ISNUMBER(SEARCH(\"JV1\",F186:F196)), ROW(F186:F196)-MIN(ROW(F186:F196))+1, \"\"), ROW() -185 )), \"\")","v":""},{"$f":"IFERROR(INDEX(B186:B196, SMALL(IF(ISNUMBER(SEARCH(\"JV2\",F186:F196)), ROW(F186:F196)-MIN(ROW(F186:F196))+1, \"\"), ROW() -185 )), \"\")","v":""},{"$f":"IFERROR(INDEX(C186:C196, SMALL(IF(ISNUMBER(SEARCH(\"JV2\",F186:F196)), ROW(F186:F196)-MIN(ROW(F186:F196))+1, \"\"), ROW() -185 )), \"\")","v":""},{"$f":"IFERROR(INDEX(D186:D196, SMALL(IF(ISNUMBER(SEARCH(\"JV2\",F186:F196)), ROW(F186:F196)-MIN(ROW(F186:F196))+1, \"\"), ROW() -185 )), \"\")","v":""},{"$f":"IFERROR(INDEX(E186:E196, SMALL(IF(ISNUMBER(SEARCH(\"JV2\",F186:F196)), ROW(F186:F196)-MIN(ROW(F186:F196))+1, \"\"), ROW() -185 )), \"\")","v":""}]
[null,"Kansas Wesleyan University",null,"17-80840","Landon Hodge","V",null,4430.0,null,false,{"$nulls":17},{"$f":"IFERROR(INDEX(B186:B196, SMALL(IF(\"V\"=F186:F196, ROW(F186:F196)-MIN(ROW(F186:F196))+1, \"\"), ROW() -185 )), \"\")","v":"Kansas Wesleyan University"},{"$f":"IFERROR(INDEX(C186:C196, SMALL(IF(\"V\"=F186:F196, ROW(F186:F196)-MIN(ROW(F186:F196))+1, \"\"), ROW() -185 )), \"\")","v":""},{"$f":"IFERROR(INDEX(D186:D196, SMALL(IF(\"V\"=F186:F196, ROW(F186:F196)-MIN(ROW(F186:F196))+1, \"\"), ROW() -185 )), \"\")","v":"6507-11452"},{"$f":"IFERROR(INDEX(E186:E196, SMALL(IF(\"V\"=F186:F196, ROW(F186:F196)-MIN(ROW(F186:F196))+1, \"\"), ROW() -185 )), \"\")","v":"Seth Baratz"},{"$f":"IFERROR(INDEX(B186:B196, SMALL(IF(ISNUMBER(SEARCH(\"JV1\",F186:F196)), ROW(F186:F196)-MIN(ROW(F186:F196))+1, \"\"), ROW() -185 )), \"\")","v":""},{"$f":"IFERROR(INDEX(C186:C196, SMALL(IF(ISNUMBER(SEARCH(\"JV1\",F186:F196)), ROW(F186:F196)-MIN(ROW(F186:F196))+1, \"\"), ROW() -185 )), \"\")","v":""},{"$f":"IFERROR(INDEX(D186:D196, SMALL(IF(ISNUMBER(SEARCH(\"JV1\",F186:F196)), ROW(F186:F196)-MIN(ROW(F186:F196))+1, \"\"), ROW() -185 )), \"\")","v":""},{"$f":"IFERROR(INDEX(E186:E196, SMALL(IF(ISNUMBER(SEARCH(\"JV1\",F186:F196)), ROW(F186:F196)-MIN(ROW(F186:F196))+1, \"\"), ROW() -185 )), \"\")","v":""},{"$f":"IFERROR(INDEX(B186:B196, SMALL(IF(ISNUMBER(SEARCH(\"JV2\",F186:F196)), ROW(F186:F196)-MIN(ROW(F186:F196))+1, \"\"), ROW() -185 )), \"\")","v":""},{"$f":"IFERROR(INDEX(C186:C196, SMALL(IF(ISNUMBER(SEARCH(\"JV2\",F186:F196)), ROW(F186:F196)-MIN(ROW(F186:F196))+1, \"\"), ROW() -185 )), \"\")","v":""},{"$f":"IFERROR(INDEX(D186:D196, SMALL(IF(ISNUMBER(SEARCH(\"JV2\",F186:F196)), ROW(F186:F196)-MIN(ROW(F186:F196))+1, \"\"), ROW() -185 )), \"\")","v":""},{"$f":"IFERROR(INDEX(E186:E196, SMALL(IF(ISNUMBER(SEARCH(\"JV2\",F186:F196)), ROW(F186:F196)-MIN(ROW(F186:F196))+1, \"\"), ROW() -185 )), \"\")","v":""}]
[null,"Kansas Wesleyan University",null,"11-762339","Landon Jones","V",null,4430.0,null,false,{"$nulls":17},{"$f":"IFERROR(INDEX(B186:B196, SMALL(IF(\"V\"=F186:F196, ROW(F186:F196)-MIN(ROW(F186:F196))+1, \"\"), ROW() -185 )), \"\")","v":"Kansas Wesleyan University"},{"$f":"IFERROR(INDEX(C186:C196, SMALL(IF(\"V\"=F186:F196, ROW(F186:F196)-MIN(ROW(F186:F196))+1, \"\"), ROW() -185 )), \"\")","v":""},{"$f":"IFERROR(INDEX(D186:D196, SMALL(IF(\"V\"=F186:F196, ROW(F186:F196)-MIN(ROW(F186:F196))+1, \"\"), ROW() -185 )), \"\")","v":"5900-23606"},{"$f":"IFERROR(INDEX(E186:E196, SMALL(IF(\"V\"=F186:F196, ROW(F186:F196)-MIN(ROW(F186:F196))+1, \"\"), ROW() -185 )), \"\")","v":"Taylor Miller"},{"$f":"IFERROR(INDEX(B186:B196, SMALL(IF(ISNUMBER(SEARCH(\"JV1\",F186:F196)), ROW(F186:F196)-MIN(ROW(F186:F196))+1, \"\"), ROW() -185 )), \"\")","v":""},{"$f":"IFERROR(INDEX(C186:C196, SMALL(IF(ISNUMBER(SEARCH(\"JV1\",F186:F196)), ROW(F186:F196)-MIN(ROW(F186:F196))+1, \"\"), ROW() -185 )), \"\")","v":""},{"$f":"IFERROR(INDEX(D186:D196, SMALL(IF(ISNUMBER(SEARCH(\"JV1\",F186:F196)), ROW(F186:F196)-MIN(ROW(F186:F196))+1, \"\"), ROW() -185 )), \"\")","v":""},{"$f":"IFERROR(INDEX(E186:E196, SMALL(IF(ISNUMBER(SEARCH(\"JV1\",F186:F196)), ROW(F186:F196)-MIN(ROW(F186:F196))+1, \"\"), ROW() -185 )), \"\")","v":""},{"$f":"IFERROR(INDEX(B186:B196, SMALL(IF(ISNUMBER(SEARCH(\"JV2\",F186:F196)), ROW(F186:F196)-MIN(ROW(F186:F196))+1, \"\"), ROW() -185 )), \"\")","v":""},{"$f":"IFERROR(INDEX(C186:C196, SMALL(IF(ISNUMBER(SEARCH(\"JV2\",F186:F196)), ROW(F186:F196)-MIN(ROW(F186:F196))+1, \"\"), ROW() -185 )), \"\")","v":""},{"$f":"IFERROR(INDEX(D186:D196, SMALL(IF(ISNUMBER(SEARCH(\"JV2\",F186:F196)), ROW(F186:F196)-MIN(ROW(F186:F196))+1, \"\"), ROW() -185 )), \"\")","v":""},{"$f":"IFERROR(INDEX(E186:E196, SMALL(IF(ISNUMBER(SEARCH(\"JV2\",F186:F196)), ROW(F186:F196)-MIN(ROW(F186:F196))+1, \"\"), ROW() -185 )), \"\")","v":""}]
[null,"Kansas Wesleyan University",null,"11-474211","Nathan Reyes"," ",null,4430.0,null,false,{"$nulls":17},{"$f":"IFERROR(INDEX(B186:B196, SMALL(IF(\"V\"=F186:F196, ROW(F186:F196)-MIN(ROW(F186:F196))+1, \"\"), ROW() -185 )), \"\")","v":"Kansas Wesleyan University"},{"$f":"IFERROR(INDEX(C186:C196, SMALL(IF(\"V\"=F186:F196, ROW(F186:F196)-MIN(ROW(F186:F196))+1, \"\"), ROW() -185 )), \"\")","v":""},{"$f":"IFERROR(INDEX(D186:D196, SMALL(IF(\"V\"=F186:F196, ROW(F186:F196)-MIN(ROW(F186:F196))+1, \"\"), ROW() -185 )), \"\")","v":"11-617695"},{"$f":"IFERROR(INDEX(E186:E196, SMALL(IF(\"V\"=F186:F196, ROW(F186:F196)-MIN(ROW(F186:F196))+1, \"\"), ROW() -185 )), \"\")","v":"Taylor Wiley"},{"$f":"IFERROR(INDEX(B186:B196, SMALL(IF(ISNUMBER(SEARCH(\"JV1\",F186:F196)), ROW(F186:F196)-MIN(ROW(F186:F196))+1, \"\"), ROW() -185 )), \"\")","v":""},{"$f":"IFERROR(INDEX(C186:C196, SMALL(IF(ISNUMBER(SEARCH(\"JV1\",F186:F196)), ROW(F186:F196)-MIN(ROW(F186:F196))+1, \"\"), ROW() -185 )), \"\")","v":""},{"$f":"IFERROR(INDEX(D186:D196, SMALL(IF(ISNUMBER(SEARCH(\"JV1\",F186:F196)), ROW(F186:F196)-MIN(ROW(F186:F196))+1, \"\"), ROW() -185 )), \"\")","v":""},{"$f":"IFERROR(INDEX(E186:E196, SMALL(IF(ISNUMBER(SEARCH(\"JV1\",F186:F196)), ROW(F186:F196)-MIN(ROW(F186:F196))+1, \"\"), ROW() -185 )), \"\")","v":""},{"$f":"IFERROR(INDEX(B186:B196, SMALL(IF(ISNUMBER(SEARCH(\"JV2\",F186:F196)), ROW(F186:F196)-MIN(ROW(F186:F196))+1, \"\"), ROW() -185 )), \"\")","v":""},{"$f":"IFERROR(INDEX(C186:C196, SMALL(IF(ISNUMBER(SEARCH(\"JV2\",F186:F196)), ROW(F186:F196)-MIN(ROW(F186:F196))+1, \"\"), ROW() -185 )), \"\")","v":""},{"$f":"IFERROR(INDEX(D186:D196, SMALL(IF(ISNUMBER(SEARCH(\"JV2\",F186:F196)), ROW(F186:F196)-MIN(ROW(F186:F196))+1, \"\"), ROW() -185 )), \"\")","v":""},{"$f":"IFERROR(INDEX(E186:E196, SMALL(IF(ISNUMBER(SEARCH(\"JV2\",F186:F196)), ROW(F186:F196)-MIN(ROW(F186:F196))+1, \"\"), ROW() -185 )), \"\")","v":""}]
[null,"Kansas Wesleyan University",null,"6507-11452","Seth Baratz","V",null,4430.0,null,false]
[null,"Kansas Wesleyan University",null,"5900-23606","Taylor Miller","V",null,4430.0,null,false]
[null,"Kansas Wesleyan University",null,"11-617695","Taylor Wiley","V",null,4430.0,null,false]
[null,"Lindenwood University",null,"6455-5561","Andrew Sacks","V",null,1537.0,null,false,{"$nulls":17},{"$f":"IFERROR(INDEX(B197:B218, SMALL(IF(\"V\"=F197:F218, ROW(F197:F218)-MIN(ROW(F197:F218))+1, \"\"), ROW() -196 )), \"\")","v":"Lindenwood University"},{"$f":"IFERROR(INDEX(C197:C218, SMALL(IF(\"V\"=F197:F218, ROW(F197:F218)-MIN(ROW(F197:F218))+1, \"\"), ROW() -196 )), \"\")","v":""},{"$f":"IFERROR(INDEX(D197:D218, SMALL(IF(\"V\"=F197:F218, ROW(F197:F218)-MIN(ROW(F197:F218))+1, \"\"), ROW() -196 )), \"\")","v":"6455-5561"},{"$f":"IFERROR(INDEX(E197:E218, SMALL(IF(\"V\"=F197:F218, ROW(F197:F218)-MIN(ROW(F197:F218))+1, \"\"), ROW() -196 )), \"\")","v":"Andrew Sacks"},{"$f":"IFERROR(INDEX(B197:B218, SMALL(IF(ISNUMBER(SEARCH(\"JV1\",F197:F218)), ROW(F197:F218)-MIN(ROW(F197:F218))+1, \"\"), ROW() -196 )), \"\")","v":"Lindenwood University"},{"$f":"IFERROR(INDEX(C197:C218, SMALL(IF(ISNUMBER(SEARCH(\"JV1\",F197:F218)), ROW(F197:F218)-MIN(ROW(F197:F218))+1, \"\"), ROW() -196 )), \"\")","v":""},{"$f":"IFERROR(INDEX(D197:D218, SMALL(IF(ISNUMBER(SEARCH(\"JV1\",F197:F218)), ROW(F197:F218)-MIN(ROW(F197:F218))+1, \"\"), ROW() -196 )), \"\")","v":"11-645936"},{"$f":"IFERROR(INDEX(E197:E218, SMALL(IF(ISNUMBER(SEARCH(\"JV1\",F197:F218)), ROW(F197:F218)-MIN(ROW(F197:F218))+1, \"\"), ROW() -196 )), \"\")","v":"Caleb Horton"},{"$f":"IFERROR(INDEX(B197:B218, SMALL(IF(ISNUMBER(SEARCH(\"JV2\",F197:F218)), ROW(F197:F218)-MIN(ROW(F197:F218))+1, \"\"), ROW() -196 )), \"\")","v":""},{"$f":"IFERROR(INDEX(C197:C218, SMALL(IF(ISNUMBER(SEARCH(\"JV2\",F197:F218)), ROW(F197:F218)-MIN(ROW(F197:F218))+1, \"\"), ROW() -196 )), \"\")","v":""},{"$f":"IFERROR(INDEX(D197:D218, SMALL(IF(ISNUMBER(SEARCH(\"JV2\",F197:F218)), ROW(F197:F218)-MIN(ROW(F197:F218))+1, \"\"), ROW() -196 )), \"\")","v":""},{"$f":"IFERROR(INDEX(E197:E218, SMALL(IF(ISNUMBER(SEARCH(\"JV2\",F197:F218)), ROW(F197:F218)-MIN(ROW(F197:F218))+1, \"\"), ROW() -196 )), \"\")","v":""}]
[null,"Lindenwood University",null,"11-305608","Blake Reiger","V",null,1537.0,null,false,{"$nulls":17},{"$f":"IFERROR(INDEX(B197:B218, SMALL(IF(\"V\"=F197:F218, ROW(F197:F218)-MIN(ROW(F197:F218))+1, \"\"), ROW() -196 )), \"\")","v":"Lindenwood University"},{"$f":"IFERROR(INDEX(C197:C218, SMALL(IF(\"V\"=F197:F218, ROW(F197:F218)-MIN(ROW(F197:F218))+1, \"\"), ROW() -196 )), \"\")","v":""},{"$f":"IFERROR(INDEX(D197:D218, SMALL(IF(\"V\"=F197:F218, ROW(F197:F218)-MIN(ROW(F197:F218))+1, \"\"), ROW() -196 )), \"\")","v":"11-305608"},{"$f":"IFERROR(INDEX(E197:E218, SMALL(IF(\"V\"=F197:F218, ROW(F197:F218)-MIN(ROW(F197:F218))+1, \"\"), ROW() -196 )), \"\")","v":"Blake Reiger"},{"$f":"IFERROR(INDEX(B197:B218, SMALL(IF(ISNUMBER(SEARCH(\"JV1\",F197:F218)), ROW(F197:F218)-MIN(ROW(F197:F218))+1, \"\"), ROW() -196 )), \"\")","v":"Lindenwood University"},{"$f":"IFERROR(INDEX(C197:C218, SMALL(IF(ISNUMBER(SEARCH(\"JV1\",F197:F218)), ROW(F197:F218)-MIN(ROW(F197:F218))+1, \"\"), ROW() -196 )), \"\")","v":""},{"$f":"IFERROR(INDEX(D197:D218, SMALL(IF(ISNUMBER(SEARCH(\"JV1\",F197:F218)), ROW(F197:F218)-MIN(ROW(F197:F218))+1, \"\"), ROW() -196 )), \"\")","v":"6933-7657"},{"$f":"IFERROR(INDEX(E197:E218, SMALL(IF(ISNUMBER(SEARCH(\"JV1\",F197:F218)), ROW(F197:F218)-MIN(ROW(F197:F218))+1, \"\"), ROW() -196 )), \"\")","v":"Daniel Liddle"},{"$f":"IFERROR(INDEX(B197:B218, SMALL(IF(ISNUMBER(SEARCH(\"JV2\",F197:F218)), ROW(F197:F218)-MIN(ROW(F197:F218))+1, \"\"), ROW() -196 )), \"\")","v":""},{"$f":"IFERROR(INDEX(C197:C218, SMALL(IF(ISNUMBER(SEARCH(\"JV2\",F197:F218)), ROW(F197:F218)-MIN(ROW(F197:F218))+1, \"\"), ROW() -196 )), \"\")","v":""},{"$f":"IFERROR(INDEX(D197:D218, SMALL(IF(ISNUMBER(SEARCH(\"JV2\",F197:F218)), ROW(F197:F218)-MIN(ROW(F197:F218))+1, \"\"), ROW() -196 )), \"\")","v":""},{"$f":"IFERROR(INDEX(E197:E218, SMALL(IF(ISNUMBER(SEARCH(\"JV2\",F197:F218)), ROW(F197:F218)-MIN(ROW(F197:F218))+1, \"\"), ROW() -196 )), \"\")","v":""}]
[null,"Lindenwood University",null,"11-645936","Caleb Horton","JV1",null,1537.0,null,false,{"$nulls":17},{"$f":"IFERROR(INDEX(B197:B218, SMALL(IF(\"V\"=F197:F218, ROW(F197:F218)-MIN(ROW(F197:F218))+1, \"\"), ROW() -196 )), \"\")","v":"Lindenwood University"},{"$f":"IFERROR(INDEX(C197:C218, SMALL(IF(\"V\"=F197:F218, ROW(F197:F218)-MIN(ROW(F197:F218))+1, \"\"), ROW() -196 )), \"\")","v":""},{"$f":"IFERROR(INDEX(D197:D218, SMALL(IF(\"V\"=F197:F218, ROW(F197:F218)-MIN(ROW(F197:F218))+1, \"\"), ROW() -196 )), \"\")","v":"8482-467"},{"$f":"IFERROR(INDEX(E197:E218, SMALL(IF(\"V\"=F197:F218, ROW(F197:F218)-MIN(ROW(F197:F218))+1, \"\"), ROW() -196 )), \"\")","v":"Garrett Jolly"},{"$f":"IFERROR(INDEX(B197:B218, SMALL(IF(ISNUMBER(SEARCH(\"JV1\",F197:F218)), ROW(F197:F218)-MIN(ROW(F197:F218))+1, \"\"), ROW() -196 )), \"\")","v":"Lindenwood University"},{"$f":"IFERROR(INDEX(C197:C218, SMALL(IF(ISNUMBER(SEARCH(\"JV1\",F197:F218)), ROW(F197:F218)-MIN(ROW(F197:F218))+1, \"\"), ROW() -196 )), \"\")","v":""},{"$f":"IFERROR(INDEX(D197:D218, SMALL(IF(ISNUMBER(SEARCH(\"JV1\",F197:F218)), ROW(F197:F218)-MIN(ROW(F197:F218))+1, \"\"), ROW() -196 )), \"\")","v":"20-54170"},{"$f":"IFERROR(INDEX(E197:E218, SMALL(IF(ISNUMBER(SEARCH(\"JV1\",F197:F218)), ROW(F197:F218)-MIN(ROW(F197:F218))+1, \"\"), ROW() -196 )), \"\")","v":"Elijah Barnes"},{"$f":"IFERROR(INDEX(B197:B218, SMALL(IF(ISNUMBER(SEARCH(\"JV2\",F197:F218)), ROW(F197:F218)-MIN(ROW(F197:F218))+1, \"\"), ROW() -196 )), \"\")","v":""},{"$f":"IFERROR(INDEX(C197:C218, SMALL(IF(ISNUMBER(SEARCH(\"JV2\",F197:F218)), ROW(F197:F218)-MIN(ROW(F197:F218))+1, \"\"), ROW() -196 )), \"\")","v":""},{"$f":"IFERROR(INDEX(D197:D218, SMALL(IF(ISNUMBER(SEARCH(\"JV2\",F197:F218)), ROW(F197:F218)-MIN(ROW(F197:F218))+1, \"\"), ROW() -196 )), \"\")","v":""},{"$f":"IFERROR(INDEX(E197:E218, SMALL(IF(ISNUMBER(SEARCH(\"JV2\",F197:F218)), ROW(F197:F218)-MIN(ROW(F197:F218))+1, \"\"), ROW() -196 )), \"\")","v":""}]
[null,"Lindenwood University",null,"18-48013","Callum Stewart"," ",null,1537.0,null,false,{"$nulls":17},{"$f":"IFERROR(INDEX(B197:B218, SMALL(IF(\"V\"=F197:F218, ROW(F197:F218)-MIN(ROW(F197:F218))+1, \"\"), ROW() -196 )), \"\")","v":"Lindenwood University"},{"$f":"IFERROR(INDEX(C197:C218, SMALL(IF(\"V\"=F197:F218, ROW(F197:F218)-MIN(ROW(F197:F218))+1, \"\"), ROW() -196 )), \"\")","v":""},{"$f":"IFERROR(INDEX(D197:D218, SMALL(IF(\"V\"=F197:F218, ROW(F197:F218)-MIN(ROW(F197:F218))+1, \"\"), ROW() -196 )), \"\")","v":"11-719508"},{"$f":"IFERROR(INDEX(E197:E218, SMALL(IF(\"V\"=F197:F218, ROW(F197:F218)-MIN(ROW(F197:F218))+1, \"\"), ROW() -196 )), \"\")","v":"Jared Felipa"},{"$f":"IFERROR(INDEX(B197:B218, SMALL(IF(ISNUMBER(SEARCH(\"JV1\",F197:F218)), ROW(F197:F218)-MIN(ROW(F197:F218))+1, \"\"), ROW() -196 )), \"\")","v":"Lindenwood University"},{"$f":"IFERROR(INDEX(C197:C218, SMALL(IF(ISNUMBER(SEARCH(\"JV1\",F197:F218)), ROW(F197:F218)-MIN(ROW(F197:F218))+1, \"\"), ROW() -196 )), \"\")","v":""},{"$f":"IFERROR(INDEX(D197:D218, SMALL(IF(ISNUMBER(SEARCH(\"JV1\",F197:F218)), ROW(F197:F218)-MIN(ROW(F197:F218))+1, \"\"), ROW() -196 )), \"\")","v":"7914-19385"},{"$f":"IFERROR(INDEX(E197:E218, SMALL(IF(ISNUMBER(SEARCH(\"JV1\",F197:F218)), ROW(F197:F218)-MIN(ROW(F197:F218))+1, \"\"), ROW() -196 )), \"\")","v":"Emmaunel McPherson"},{"$f":"IFERROR(INDEX(B197:B218, SMALL(IF(ISNUMBER(SEARCH(\"JV2\",F197:F218)), ROW(F197:F218)-MIN(ROW(F197:F218))+1, \"\"), ROW() -196 )), \"\")","v":""},{"$f":"IFERROR(INDEX(C197:C218, SMALL(IF(ISNUMBER(SEARCH(\"JV2\",F197:F218)), ROW(F197:F218)-MIN(ROW(F197:F218))+1, \"\"), ROW() -196 )), \"\")","v":""},{"$f":"IFERROR(INDEX(D197:D218, SMALL(IF(ISNUMBER(SEARCH(\"JV2\",F197:F218)), ROW(F197:F218)-MIN(ROW(F197:F218))+1, \"\"), ROW() -196 )), \"\")","v":""},{"$f":"IFERROR(INDEX(E197:E218, SMALL(IF(ISNUMBER(SEARCH(\"JV2\",F197:F218)), ROW(F197:F218)-MIN(ROW(F197:F218))+1, \"\"), ROW() -196 )), \"\")","v":""}]
[null,"Lindenwood University",null,"11-422992","Christian Lanan"," ",null,1537.0,null,false,{"$nulls":17},{"$f":"IFERROR(INDEX(B197:B218, SMALL(IF(\"V\"=F197:F218, ROW(F197:F218)-MIN(ROW(F197:F218))+1, \"\"), ROW() -196 )), \"\")","v":"Lindenwood University"},{"$f":"IFERROR(INDEX(C197:C218, SMALL(IF(\"V\"=F197:F218, ROW(F197:F218)-MIN(ROW(F197:F218))+1, \"\"), ROW() -196 )), \"\")","v":""},{"$f":"IFERROR(INDEX(D197:D218, SMALL(IF(\"V\"=F197:F218, ROW(F197:F218)-MIN(ROW(F197:F218))+1, \"\"), ROW() -196 )), \"\")","v":"7063-2626"},{"$f":"IFERROR(INDEX(E197:E218, SMALL(IF(\"V\"=F197:F218, ROW(F197:F218)-MIN(ROW(F197:F218))+1, \"\"), ROW() -196 )), \"\")","v":"Javier Muniz Vega"},{"$f":"IFERROR(INDEX(B197:B218, SMALL(IF(ISNUMBER(SEARCH(\"JV1\",F197:F218)), ROW(F197:F218)-MIN(ROW(F197:F218))+1, \"\"), ROW() -196 )), \"\")","v":"Lindenwood University"},{"$f":"IFERROR(INDEX(C197:C218, SMALL(IF(ISNUMBER(SEARCH(\"JV1\",F197:F218)), ROW(F197:F218)-MIN(ROW(F197:F218))+1, \"\"), ROW() -196 )), \"\")","v":""},{"$f":"IFERROR(INDEX(D197:D218, SMALL(IF(ISNUMBER(SEARCH(\"JV1\",F197:F218)), ROW(F197:F218)-MIN(ROW(F197:F218))+1, \"\"), ROW() -196 )), \"\")","v":"16-147279"},{"$f":"IFERROR(INDEX(E197:E218, SMALL(IF(ISNUMBER(SEARCH(\"JV1\",F197:F218)), ROW(F197:F218)-MIN(ROW(F197:F218))+1, \"\"), ROW() -196 )), \"\")","v":"Graham Mortimore"},{"$f":"IFERROR(INDEX(B197:B218, SMALL(IF(ISNUMBER(SEARCH(\"JV2\",F197:F218)), ROW(F197:F218)-MIN(ROW(F197:F218))+1, \"\"), ROW() -196 )), \"\")","v":""},{"$f":"IFERROR(INDEX(C197:C218, SMALL(IF(ISNUMBER(SEARCH(\"JV2\",F197:F218)), ROW(F197:F218)-MIN(ROW(F197:F218))+1, \"\"), ROW() -196 )), \"\")","v":""},{"$f":"IFERROR(INDEX(D197:D218, SMALL(IF(ISNUMBER(SEARCH(\"JV2\",F197:F218)), ROW(F197:F218)-MIN(ROW(F197:F218))+1, \"\"), ROW() -196 )), \"\")","v":""},{"$f":"IFERROR(INDEX(E197:E218, SMALL(IF(ISNUMBER(SEARCH(\"JV2\",F197:F218)), ROW(F197:F218)-MIN(ROW(F197:F218))+1, \"\"), ROW() -196 )), \"\")","v":""}]
[null,"Lindenwood University",null,"8663-27327","Dalton Kemp"," ",null,1537.0,null,false,{"$nulls":17},{"$f":"IFERROR(INDEX(B197:B218, SMALL(IF(\"V\"=F197:F218, ROW(F197:F218)-MIN(ROW(F197:F218))+1, \"\"), ROW() -196 )), \"\")","v":"Lindenwood University"},{"$f":"IFERROR(INDEX(C197:C218, SMALL(IF(\"V\"=F197:F218, ROW(F197:F218)-MIN(ROW(F197:F218))+1, \"\"), ROW() -196 )), \"\")","v":""},{"$f":"IFERROR(INDEX(D197:D218, SMALL(IF(\"V\"=F197:F218, ROW(F197:F218)-MIN(ROW(F197:F218))+1, \"\"), ROW() -196 )), \"\")","v":"11-364326"},{"$f":"IFERROR(INDEX(E197:E218, SMALL(IF(\"V\"=F197:F218, ROW(F197:F218)-MIN(ROW(F197:F218))+1, \"\"), ROW() -196 )), \"\")","v":"Michael Anderson"},{"$f":"IFERROR(INDEX(B197:B218, SMALL(IF(ISNUMBER(SEARCH(\"JV1\",F197:F218)), ROW(F197:F218)-MIN(ROW(F197:F218))+1, \"\"), ROW() -196 )), \"\")","v":"Lindenwood University"},{"$f":"IFERROR(INDEX(C197:C218, SMALL(IF(ISNUMBER(SEARCH(\"JV1\",F197:F218)), ROW(F197:F218)-MIN(ROW(F197:F218))+1, \"\"), ROW() -196 )), \"\")","v":""},{"$f":"IFERROR(INDEX(D197:D218, SMALL(IF(ISNUMBER(SEARCH(\"JV1\",F197:F218)), ROW(F197:F218)-MIN(ROW(F197:F218))+1, \"\"), ROW() -196 )), \"\")","v":"11-678471"},{"$f":"IFERROR(INDEX(E197:E218, SMALL(IF(ISNUMBER(SEARCH(\"JV1\",F197:F218)), ROW(F197:F218)-MIN(ROW(F197:F218))+1, \"\"), ROW() -196 )), \"\")","v":"Hunter Pirtle"},{"$f":"IFERROR(INDEX(B197:B218, SMALL(IF(ISNUMBER(SEARCH(\"JV2\",F197:F218)), ROW(F197:F218)-MIN(ROW(F197:F218))+1, \"\"), ROW() -196 )), \"\")","v":""},{"$f":"IFERROR(INDEX(C197:C218, SMALL(IF(ISNUMBER(SEARCH(\"JV2\",F197:F218)), ROW(F197:F218)-MIN(ROW(F197:F218))+1, \"\"), ROW() -196 )), \"\")","v":""},{"$f":"IFERROR(INDEX(D197:D218, SMALL(IF(ISNUMBER(SEARCH(\"JV2\",F197:F218)), ROW(F197:F218)-MIN(ROW(F197:F218))+1, \"\"), ROW() -196 )), \"\")","v":""},{"$f":"IFERROR(INDEX(E197:E218, SMALL(IF(ISNUMBER(SEARCH(\"JV2\",F197:F218)), ROW(F197:F218)-MIN(ROW(F197:F218))+1, \"\"), ROW() -196 )), \"\")","v":""}]
[null,"Lindenwood University",null,"6933-7657","Daniel Liddle","JV1",null,1537.0,null,false,{"$nulls":17},{"$f":"IFERROR(INDEX(B197:B218, SMALL(IF(\"V\"=F197:F218, ROW(F197:F218)-MIN(ROW(F197:F218))+1, \"\"), ROW() -196 )), \"\")","v":"Lindenwood University"},{"$f":"IFERROR(INDEX(C197:C218, SMALL(IF(\"V\"=F197:F218, ROW(F197:F218)-MIN(ROW(F197:F218))+1, \"\"), ROW() -196 )), \"\")","v":""},{"$f":"IFERROR(INDEX(D197:D218, SMALL(IF(\"V\"=F197:F218, ROW(F197:F218)-MIN(ROW(F197:F218))+1, \"\"), ROW() -196 )), \"\")","v":"22-16969"},{"$f":"IFERROR(INDEX(E197:E218, SMALL(IF(\"V\"=F197:F218, ROW(F197:F218)-MIN(ROW(F197:F218))+1, \"\"), ROW() -196 )), \"\")","v":"Rolando Ng"},{"$f":"IFERROR(INDEX(B197:B218, SMALL(IF(ISNUMBER(SEARCH(\"JV1\",F197:F218)), ROW(F197:F218)-MIN(ROW(F197:F218))+1, \"\"), ROW() -196 )), \"\")","v":"Lindenwood University"},{"$f":"IFERROR(INDEX(C197:C218, SMALL(IF(ISNUMBER(SEARCH(\"JV1\",F197:F218)), ROW(F197:F218)-MIN(ROW(F197:F218))+1, \"\"), ROW() -196 )), \"\")","v":""},{"$f":"IFERROR(INDEX(D197:D218, SMALL(IF(ISNUMBER(SEARCH(\"JV1\",F197:F218)), ROW(F197:F218)-MIN(ROW(F197:F218))+1, \"\"), ROW() -196 )), \"\")","v":"21-12175"},{"$f":"IFERROR(INDEX(E197:E218, SMALL(IF(ISNUMBER(SEARCH(\"JV1\",F197:F218)), ROW(F197:F218)-MIN(ROW(F197:F218))+1, \"\"), ROW() -196 )), \"\")","v":"Juan Pablo Aguirre Moreno"},{"$f":"IFERROR(INDEX(B197:B218, SMALL(IF(ISNUMBER(SEARCH(\"JV2\",F197:F218)), ROW(F197:F218)-MIN(ROW(F197:F218))+1, \"\"), ROW() -196 )), \"\")","v":""},{"$f":"IFERROR(INDEX(C197:C218, SMALL(IF(ISNUMBER(SEARCH(\"JV2\",F197:F218)), ROW(F197:F218)-MIN(ROW(F197:F218))+1, \"\"), ROW() -196 )), \"\")","v":""},{"$f":"IFERROR(INDEX(D197:D218, SMALL(IF(ISNUMBER(SEARCH(\"JV2\",F197:F218)), ROW(F197:F218)-MIN(ROW(F197:F218))+1, \"\"), ROW() -196 )), \"\")","v":""},{"$f":"IFERROR(INDEX(E197:E218, SMALL(IF(ISNUMBER(SEARCH(\"JV2\",F197:F218)), ROW(F197:F218)-MIN(ROW(F197:F218))+1, \"\"), ROW() -196 )), \"\")","v":""}]
[null,"Lindenwood University",null,"20-54170","Elijah Barnes","JV1",null,1537.0,null,false,{"$nulls":17},{"$f":"IFERROR(INDEX(B197:B218, SMALL(IF(\"V\"=F197:F218, ROW(F197:F218)-MIN(ROW(F197:F218))+1, \"\"), ROW() -196 )), \"\")","v":"Lindenwood University"},{"$f":"IFERROR(INDEX(C197:C218, SMALL(IF(\"V\"=F197:F218, ROW(F197:F218)-MIN(ROW(F197:F218))+1, \"\"), ROW() -196 )), \"\")","v":""},{"$f":"IFERROR(INDEX(D197:D218, SMALL(IF(\"V\"=F197:F218, ROW(F197:F218)-MIN(ROW(F197:F218))+1, \"\"), ROW() -196 )), \"\")","v":"11-120819"},{"$f":"IFERROR(INDEX(E197:E218, SMALL(IF(\"V\"=F197:F218, ROW(F197:F218)-MIN(ROW(F197:F218))+1, \"\"), ROW() -196 )), \"\")","v":"Troy Owens"},{"$f":"IFERROR(INDEX(B197:B218, SMALL(IF(ISNUMBER(SEARCH(\"JV1\",F197:F218)), ROW(F197:F218)-MIN(ROW(F197:F218))+1, \"\"), ROW() -196 )), \"\")","v":"Lindenwood University"},{"$f":"IFERROR(INDEX(C197:C218, SMALL(IF(ISNUMBER(SEARCH(\"JV1\",F197:F218)), ROW(F197:F218)-MIN(ROW(F197:F218))+1, \"\"), ROW() -196 )), \"\")","v":""},{"$f":"IFERROR(INDEX(D197:D218, SMALL(IF(ISNUMBER(SEARCH(\"JV1\",F197:F218)), ROW(F197:F218)-MIN(ROW(F197:F218))+1, \"\"), ROW() -196 )), \"\")","v":"16-86758"},{"$f":"IFERROR(INDEX(E197:E218, SMALL(IF(ISNUMBER(SEARCH(\"JV1\",F197:F218)), ROW(F197:F218)-MIN(ROW(F197:F218))+1, \"\"), ROW() -196 )), \"\")","v":"Nate O'Connell"},{"$f":"IFERROR(INDEX(B197:B218, SMALL(IF(ISNUMBER(SEARCH(\"JV2\",F197:F218)), ROW(F197:F218)-MIN(ROW(F197:F218))+1, \"\"), ROW() -196 )), \"\")","v":""},{"$f":"IFERROR(INDEX(C197:C218, SMALL(IF(ISNUMBER(SEARCH(\"JV2\",F197:F218)), ROW(F197:F218)-MIN(ROW(F197:F218))+1, \"\"), ROW() -196 )), \"\")","v":""},{"$f":"IFERROR(INDEX(D197:D218, SMALL(IF(ISNUMBER(SEARCH(\"JV2\",F197:F218)), ROW(F197:F218)-MIN(ROW(F197:F218))+1, \"\"), ROW() -196 )), \"\")","v":""},{"$f":"IFERROR(INDEX(E197:E218, SMALL(IF(ISNUMBER(SEARCH(\"JV2\",F197:F218)), ROW(F197:F218)-MIN(ROW(F197:F218))+1, \"\"), ROW() -196 )), \"\")","v":""}]
[null,"Lindenwood University",null,"7914-19385","Emmaunel McPherson","JV1",null,1537.0,null,false]
[null,"Lindenwood University",null,"15-152685","Garrett Dunsmore"," ",null,1537.0,null,false]
[null,"Lindenwood University",null,"8482-467","Garrett Jolly","V",null,1537.0,null,false]
[null,"Lindenwood University",null,"16-147279","Graham Mortimore","JV1",null,1537.0,null,false]
[null,"Lindenwood University",null,"11-678471","Hunter Pirtle","JV1",null,1537.0,null,false]
[null,"Lindenwood University",null,"11-719508","Jared Felipa","V",null,1537.0,null,false]
[null,"Lindenwood University",null,"7063-2626","Javier Muniz Vega","V",null,1537.0,null,false]
[null,"Lindenwood University",null,"21-12175","Juan Pablo Aguirre Moreno","JV1",null,1537.0,null,false]
[null,"Lindenwood University",null,"11-364326","Michael Anderson","V",null,1537.0,null,false]
[null,"Lindenwood University",null,"16-86758","Nate O'Connell","JV1",null,1537.0,null,false]
[null,"Lindenwood University",null,"22-16969","Rolando Ng","V",null,1537.0,null,false]
[null,"Lindenwood University",null,"8572-19024","Sean Jerome"," ",null,1537.0,null,false]
[null,"Lindenwood University",null,"6507-11246","Spencer Engelby"," ",null,1537.0,null,false]
[null,"Lindenwood University",null,"11-120819","Troy Owens","V",null,1537.0,null,false]
[null,"Missouri Valley College",null,"20-48261","Blake Paulhamus","v",null,4521.0,null,false,{"$nulls":17},{"$f":"IFERROR(INDEX(B219:B230, SMALL(IF(\"V\"=F219:F230, ROW(F219:F230)-MIN(ROW(F219:F230))+1, \"\"), ROW() -218 )), \"\")","v":"Missouri Valley College"},{"$f":"IFERROR(INDEX(C219:C230, SMALL(IF(\"V\"=F219:F230, ROW(F219:F230)-MIN(ROW(F219:F230))+1, \"\"), ROW() -218 )), \"\")","v":""},{"$f":"IFERROR(INDEX(D219:D230, SMALL(IF(\"V\"=F219:F230, ROW(F219:F230)-MIN(ROW(F219:F230))+1, \"\"), ROW() -218 )), \"\")","v":"20-48261"},{"$f":"IFERROR(INDEX(E219:E230, SMALL(IF(\"V\"=F219:F230, ROW(F219:F230)-MIN(ROW(F219:F230))+1, \"\"), ROW() -218 )), \"\")","v":"Blake Paulhamus"},{"$f":"IFERROR(INDEX(B219:B230, SMALL(IF(ISNUMBER(SEARCH(\"JV1\",F219:F230)), ROW(F219:F230)-MIN(ROW(F219:F230))+1, \"\"), ROW() -218 )), \"\")","v":""},{"$f":"IFERROR(INDEX(C219:C230, SMALL(IF(ISNUMBER(SEARCH(\"JV1\",F219:F230)), ROW(F219:F230)-MIN(ROW(F219:F230))+1, \"\"), ROW() -218 )), \"\")","v":""},{"$f":"IFERROR(INDEX(D219:D230, SMALL(IF(ISNUMBER(SEARCH(\"JV1\",F219:F230)), ROW(F219:F230)-MIN(ROW(F219:F230))+1, \"\"), ROW() -218 )), \"\")","v":""},{"$f":"IFERROR(INDEX(E219:E230, SMALL(IF(ISNUMBER(SEARCH(\"JV1\",F219:F230)), ROW(F219:F230)-MIN(ROW(F219:F230))+1, \"\"), ROW() -218 )), \"\")","v":""},{"$f":"IFERROR(INDEX(B219:B230, SMALL(IF(ISNUMBER(SEARCH(\"JV2\",F219:F230)), ROW(F219:F230)-MIN(ROW(F219:F230))+1, \"\"), ROW() -218 )), \"\")","v":""},{"$f":"IFERROR(INDEX(C219:C230, SMALL(IF(ISNUMBER(SEARCH(\"JV2\",F219:F230)), ROW(F219:F230)-MIN(ROW(F219:F230))+1, \"\"), ROW() -218 )), \"\")","v":""},{"$f":"IFERROR(INDEX(D219:D230, SMALL(IF(ISNUMBER(SEARCH(\"JV2\",F219:F230)), ROW(F219:F230)-MIN(ROW(F219:F230))+1, \"\"), ROW() -218 )), \"\")","v":""},{"$f":"IFERROR(INDEX(E219:E230, SMALL(IF(ISNUMBER(SEARCH(\"JV2\",F219:F230)), ROW(F219:F230)-MIN(ROW(F219:F230))+1, \"\"), ROW() -218 )), \"\")","v":""}]
[null,"Missouri Valley College",null,"16-52396","Caleb Kearl"," ",null,4521.0,null,false,{"$nulls":17},{"$f":"IFERROR(INDEX(B219:B230, SMALL(IF(\"V\"=F219:F230, ROW(F219:F230)-MIN(ROW(F219:F230))+1, \"\"), ROW() -218 )), \"\")","v":"Missouri Valley College"},{"$f":"IFERROR(INDEX(C219:C230, SMALL(IF(\"V\"=F219:F230, ROW(F219:F230)-MIN(ROW(F219:F230))+1, \"\"), ROW() -218 )), \"\")","v":""},{"$f":"IFERROR(INDEX(D219:D230, SMALL(IF(\"V\"=F219:F230, ROW(F219:F230)-MIN(ROW(F219:F230))+1, \"\"), ROW() -218 )), \"\")","v":"7914-9005"},{"$f":"IFERROR(INDEX(E219:E230, SMALL(IF(\"V\"=F219:F230, ROW(F219:F230)-MIN(ROW(F219:F230))+1, \"\"), ROW() -218 )), \"\")","v":"Guy Mapstone"},{"$f":"IFERROR(INDEX(B219:B230, SMALL(IF(ISNUMBER(SEARCH(\"JV1\",F219:F230)), ROW(F219:F230)-MIN(ROW(F219:F230))+1, \"\"), ROW() -218 )), \"\")","v":""},{"$f":"IFERROR(INDEX(C219:C230, SMALL(IF(ISNUMBER(SEARCH(\"JV1\",F219:F230)), ROW(F219:F230)-MIN(ROW(F219:F230))+1, \"\"), ROW() -218 )), \"\")","v":""},{"$f":"IFERROR(INDEX(D219:D230, SMALL(IF(ISNUMBER(SEARCH(\"JV1\",F219:F230)), ROW(F219:F230)-MIN(ROW(F219:F230))+1, \"\"), ROW() -218 )), \"\")","v":""},{"$f":"IFERROR(INDEX(E219:E230, SMALL(IF(ISNUMBER(SEARCH(\"JV1\",F219:F230)), ROW(F219:F230)-MIN(ROW(F219:F230))+1, \"\"), ROW() -218 )), \"\")","v":""},{"$f":"IFERROR(INDEX(B219:B230, SMALL(IF(ISNUMBER(SEARCH(\"JV2\",F219:F230)), ROW(F219:F230)-MIN(ROW(F219:F230))+1, \"\"), ROW() -218 )), \"\")","v":""},{"$f":"IFERROR(INDEX(C219:C230, SMALL(IF(ISNUMBER(SEARCH(\"JV2\",F219:F230)), ROW(F219:F230)-MIN(ROW(F219:F230))+1, \"\"), ROW() -218 )), \"\")","v":""},{"$f":"IFERROR(INDEX(D219:D230, SMALL(IF(ISNUMBER(SEARCH(\"JV2\",F219:F230)), ROW(F219:F230)-MIN(ROW(F219:F230))+1, \"\"), ROW() -218 )), \"\")","v":""},{"$f":"IFERROR(INDEX(E219:E230, SMALL(IF(ISNUMBER(SEARCH(\"JV2\",F219:F230)), ROW(F219:F230)-MIN(ROW(F219:F230))+1, \"\"), ROW() -218 )), \"\")","v":""}]
[null,"Missouri Valley College",null,"7914-9005","Guy Mapstone","v",null,4521.0,null,false,{"$nulls":17},{"$f":"IFERROR(INDEX(B219:B230, SMALL(IF(\"V\"=F219:F230, ROW(F219:F230)-MIN(ROW(F219:F230))+1, \"\"), ROW() -218 )), \"\")","v":"Missouri Valley College"},{"$f":"IFERROR(INDEX(C219:C230, SMALL(IF(\"V\"=F219:F230, ROW(F219:F230)-MIN(ROW(F219:F230))+1, \"\"), ROW() -218 )), \"\")","v":""},{"$f":"IFERROR(INDEX(D219:D230, SMALL(IF(\"V\"=F219:F230, ROW(F219:F230)-MIN(ROW(F219:F230))+1, \"\"), ROW() -218 )), \"\")","v":"16-67827"},{"$f":"IFERROR(INDEX(E219:E230, SMALL(IF(\"V\"=F219:F230, ROW(F219:F230)-MIN(ROW(F219:F230))+1, \"\"), ROW() -218 )), \"\")","v":"Jayden Briggs"},{"$f":"IFERROR(INDEX(B219:B230, SMALL(IF(ISNUMBER(SEARCH(\"JV1\",F219:F230)), ROW(F219:F230)-MIN(ROW(F219:F230))+1, \"\"), ROW() -218 )), \"\")","v":""},{"$f":"IFERROR(INDEX(C219:C230, SMALL(IF(ISNUMBER(SEARCH(\"JV1\",F219:F230)), ROW(F219:F230)-MIN(ROW(F219:F230))+1, \"\"), ROW() -218 )), \"\")","v":""},{"$f":"IFERROR(INDEX(D219:D230, SMALL(IF(ISNUMBER(SEARCH(\"JV1\",F219:F230)), ROW(F219:F230)-MIN(ROW(F219:F230))+1, \"\"), ROW() -218 )), \"\")","v":""},{"$f":"IFERROR(INDEX(E219:E230, SMALL(IF(ISNUMBER(SEARCH(\"JV1\",F219:F230)), ROW(F219:F230)-MIN(ROW(F219:F230))+1, \"\"), ROW() -218 )), \"\")","v":""},{"$f":"IFERROR(INDEX(B219:B230, SMALL(IF(ISNUMBER(SEARCH(\"JV2\",F219:F230)), ROW(F219:F230)-MIN(ROW(F219:F230))+1, \"\"), ROW() -218 )), \"\")","v":""},{"$f":"IFERROR(INDEX(C219:C230, SMALL(IF(ISNUMBER(SEARCH(\"JV2\",F219:F230)), ROW(F219:F230)-MIN(ROW(F219:F230))+1, \"\"), ROW() -218 )), \"\")","v":""},{"$f":"IFERROR(INDEX(D219:D230, SMALL(IF(ISNUMBER(SEARCH(\"JV2\",F219:F230)), ROW(F219:F230)-MIN(ROW(F219:F230))+1, \"\"), ROW() -218 )), \"\")","v":""},{"$f":"IFERROR(INDEX(E219:E230, SMALL(IF(ISNUMBER(SEARCH(\"JV2\",F219:F230)), ROW(F219:F230)-MIN(ROW(F219:F230))+1, \"\"), ROW() -218 )), \"\")","v":""}]
[null,"Missouri Valley College",null,"16-67827","Jayden Briggs","v",null,4521.0,null,false,{"$nulls":17},{"$f":"IFERROR(INDEX(B219:B230, SMALL(IF(\"V\"=F219:F230, ROW(F219:F230)-MIN(ROW(F219:F230))+1, \"\"), ROW() -218 )), \"\")","v":"Missouri Valley College"},{"$f":"IFERROR(INDEX(C219:C230, SMALL(IF(\"V\"=F219:F230, ROW(F219:F230)-MIN(ROW(F219:F230))+1, \"\"), ROW() -218 )), \"\")","v":""},{"$f":"IFERROR(INDEX(D219:D230, SMALL(IF(\"V\"=F219:F230, ROW(F219:F230)-MIN(ROW(F219:F230))+1, \"\"), ROW() -218 )), \"\")","v":"18-11862"},{"$f":"IFERROR(INDEX(E219:E230, SMALL(IF(\"V\"=F219:F230, ROW(F219:F230)-MIN(ROW(F219:F230))+1, \"\"), ROW() -218 )), \"\")","v":"Jessi Stem"},{"$f":"IFERROR(INDEX(B219:B230, SMALL(IF(ISNUMBER(SEARCH(\"JV1\",F219:F230)), ROW(F219:F230)-MIN(ROW(F219:F230))+1, \"\"), ROW() -218 )), \"\")","v":""},{"$f":"IFERROR(INDEX(C219:C230, SMALL(IF(ISNUMBER(SEARCH(\"JV1\",F219:F230)), ROW(F219:F230)-MIN(ROW(F219:F230))+1, \"\"), ROW() -218 )), \"\")","v":""},{"$f":"IFERROR(INDEX(D219:D230, SMALL(IF(ISNUMBER(SEARCH(\"JV1\",F219:F230)), ROW(F219:F230)-MIN(ROW(F219:F230))+1, \"\"), ROW() -218 )), \"\")","v":""},{"$f":"IFERROR(INDEX(E219:E230, SMALL(IF(ISNUMBER(SEARCH(\"JV1\",F219:F230)), ROW(F219:F230)-MIN(ROW(F219:F230))+1, \"\"), ROW() -218 )), \"\")","v":""},{"$f":"IFERROR(INDEX(B219:B230, SMALL(IF(ISNUMBER(SEARCH(\"JV2\",F219:F230)), ROW(F219:F230)-MIN(ROW(F219:F230))+1, \"\"), ROW() -218 )), \"\")","v":""},{"$f":"IFERROR(INDEX(C219:C230, SMALL(IF(ISNUMBER(SEARCH(\"JV2\",F219:F230)), ROW(F219:F230)-MIN(ROW(F219:F230))+1, \"\"), ROW() -218 )), \"\")","v":""},{"$f":"IFERROR(INDEX(D219:D230, SMALL(IF(ISNUMBER(SEARCH(\"JV2\",F219:F230)), ROW(F219:F230)-MIN(ROW(F219:F230))+1, \"\"), ROW() -218 )), \"\")","v":""},{"$f":"IFERROR(INDEX(E219:E230, SMALL(IF(ISNUMBER(SEARCH(\"JV2\",F219:F230)), ROW(F219:F230)-MIN(ROW(F219:F230))+1, \"\"), ROW() -218 )), \"\")","v":""}]
[null,"Missouri Valley College",null,"20-26178","Jaylan Bartels"," ",null,4521.0,null,false,{"$nulls":17},{"$f":"IFERROR(INDEX(B219:B230, SMALL(IF(\"V\"=F219:F230, ROW(F219:F230)-MIN(ROW(F219:F230))+1, \"\"), ROW() -218 )), \"\")","v":"Missouri Valley College"},{"$f":"IFERROR(INDEX(C219:C230, SMALL(IF(\"V\"=F219:F230, ROW(F219:F230)-MIN(ROW(F219:F230))+1, \"\"), ROW() -218 )), \"\")","v":""},{"$f":"IFERROR(INDEX(D219:D230, SMALL(IF(\"V\"=F219:F230, ROW(F219:F230)-MIN(ROW(F219:F230))+1, \"\"), ROW() -218 )), \"\")","v":"20-39192"},{"$f":"IFERROR(INDEX(E219:E230, SMALL(IF(\"V\"=F219:F230, ROW(F219:F230)-MIN(ROW(F219:F230))+1, \"\"), ROW() -218 )), \"\")","v":"Landon Woeltje"},{"$f":"IFERROR(INDEX(B219:B230, SMALL(IF(ISNUMBER(SEARCH(\"JV1\",F219:F230)), ROW(F219:F230)-MIN(ROW(F219:F230))+1, \"\"), ROW() -218 )), \"\")","v":""},{"$f":"IFERROR(INDEX(C219:C230, SMALL(IF(ISNUMBER(SEARCH(\"JV1\",F219:F230)), ROW(F219:F230)-MIN(ROW(F219:F230))+1, \"\"), ROW() -218 )), \"\")","v":""},{"$f":"IFERROR(INDEX(D219:D230, SMALL(IF(ISNUMBER(SEARCH(\"JV1\",F219:F230)), ROW(F219:F230)-MIN(ROW(F219:F230))+1, \"\"), ROW() -218 )), \"\")","v":""},{"$f":"IFERROR(INDEX(E219:E230, SMALL(IF(ISNUMBER(SEARCH(\"JV1\",F219:F230)), ROW(F219:F230)-MIN(ROW(F219:F230))+1, \"\"), ROW() -218 )), \"\")","v":""},{"$f":"IFERROR(INDEX(B219:B230, SMALL(IF(ISNUMBER(SEARCH(\"JV2\",F219:F230)), ROW(F219:F230)-MIN(ROW(F219:F230))+1, \"\"), ROW() -218 )), \"\")","v":""},{"$f":"IFERROR(INDEX(C219:C230, SMALL(IF(ISNUMBER(SEARCH(\"JV2\",F219:F230)), ROW(F219:F230)-MIN(ROW(F219:F230))+1, \"\"), ROW() -218 )), \"\")","v":""},{"$f":"IFERROR(INDEX(D219:D230, SMALL(IF(ISNUMBER(SEARCH(\"JV2\",F219:F230)), ROW(F219:F230)-MIN(ROW(F219:F230))+1, \"\"), ROW() -218 )), \"\")","v":""},{"$f":"IFERROR(INDEX(E219:E230, SMALL(IF(ISNUMBER(SEARCH(\"JV2\",F219:F230)), ROW(F219:F230)-MIN(ROW(F219:F230))+1, \"\"), ROW() -218 )), \"\")","v":""}]
[null,"Missouri Valley College",null,"18-11862","Jessi Stem","v",null,4521.0,null,false,{"$nulls":17},{"$f":"IFERROR(INDEX(B219:B230, SMALL(IF(\"V\"=F219:F230, ROW(F219:F230)-MIN(ROW(F219:F230))+1, \"\"), ROW() -218 )), \"\")","v":"Missouri Valley College"},{"$f":"IFERROR(INDEX(C219:C230, SMALL(IF(\"V\"=F219:F230, ROW(F219:F230)-MIN(ROW(F219:F230))+1, \"\"), ROW() -218 )), \"\")","v":""},{"$f":"IFERROR(INDEX(D219:D230, SMALL(IF(\"V\"=F219:F230, ROW(F219:F230)-MIN(ROW(F219:F230))+1, \"\"), ROW() -218 )), \"\")","v":"16-139103"},{"$f":"IFERROR(INDEX(E219:E230, SMALL(IF(\"V\"=F219:F230, ROW(F219:F230)-MIN(ROW(F219:F230))+1, \"\"), ROW() -218 )), \"\")","v":"Nate Moser"},{"$f":"IFERROR(INDEX(B219:B230, SMALL(IF(ISNUMBER(SEARCH(\"JV1\",F219:F230)), ROW(F219:F230)-MIN(ROW(F219:F230))+1, \"\"), ROW() -218 )), \"\")","v":""},{"$f":"IFERROR(INDEX(C219:C230, SMALL(IF(ISNUMBER(SEARCH(\"JV1\",F219:F230)), ROW(F219:F230)-MIN(ROW(F219:F230))+1, \"\"), ROW() -218 )), \"\")","v":""},{"$f":"IFERROR(INDEX(D219:D230, SMALL(IF(ISNUMBER(SEARCH(\"JV1\",F219:F230)), ROW(F219:F230)-MIN(ROW(F219:F230))+1, \"\"), ROW() -218 )), \"\")","v":""},{"$f":"IFERROR(INDEX(E219:E230, SMALL(IF(ISNUMBER(SEARCH(\"JV1\",F219:F230)), ROW(F219:F230)-MIN(ROW(F219:F230))+1, \"\"), ROW() -218 )), \"\")","v":""},{"$f":"IFERROR(INDEX(B219:B230, SMALL(IF(ISNUMBER(SEARCH(\"JV2\",F219:F230)), ROW(F219:F230)-MIN(ROW(F219:F230))+1, \"\"), ROW() -218 )), \"\")","v":""},{"$f":"IFERROR(INDEX(C219:C230, SMALL(IF(ISNUMBER(SEARCH(\"JV2\",F219:F230)), ROW(F219:F230)-MIN(ROW(F219:F230))+1, \"\"), ROW() -218 )), \"\")","v":""},{"$f":"IFERROR(INDEX(D219:D230, SMALL(IF(ISNUMBER(SEARCH(\"JV2\",F219:F230)), ROW(F219:F230)-MIN(ROW(F219:F230))+1, \"\"), ROW() -218 )), \"\")","v":""},{"$f":"IFERROR(INDEX(E219:E230, SMALL(IF(ISNUMBER(SEARCH(\"JV2\",F219:F230)), ROW(F219:F230)-MIN(ROW(F219:F230))+1, \"\"), ROW() -218 )), \"\")","v":""}]
[null,"Missouri Valley College",null,"16-172292","Kayla Cowell"," ",null,4521.0,null,false,{"$nulls":17},{"$f":"IFERROR(INDEX(B219:B230, SMALL(IF(\"V\"=F219:F230, ROW(F219:F230)-MIN(ROW(F219:F230))+1, \"\"), ROW() -218 )), \"\")","v":"Missouri Valley College"},{"$f":"IFERROR(INDEX(C219:C230, SMALL(IF(\"V\"=F219:F230, ROW(F219:F230)-MIN(ROW(F219:F230))+1, \"\"), ROW() -218 )), \"\")","v":""},{"$f":"IFERROR(INDEX(D219:D230, SMALL(IF(\"V\"=F219:F230, ROW(F219:F230)-MIN(ROW(F219:F230))+1, \"\"), ROW() -218 )), \"\")","v":"11-460695"},{"$f":"IFERROR(INDEX(E219:E230, SMALL(IF(\"V\"=F219:F230, ROW(F219:F230)-MIN(ROW(F219:F230))+1, \"\"), ROW() -218 )), \"\")","v":"Nicholas Miles"},{"$f":"IFERROR(INDEX(B219:B230, SMALL(IF(ISNUMBER(SEARCH(\"JV1\",F219:F230)), ROW(F219:F230)-MIN(ROW(F219:F230))+1, \"\"), ROW() -218 )), \"\")","v":""},{"$f":"IFERROR(INDEX(C219:C230, SMALL(IF(ISNUMBER(SEARCH(\"JV1\",F219:F230)), ROW(F219:F230)-MIN(ROW(F219:F230))+1, \"\"), ROW() -218 )), \"\")","v":""},{"$f":"IFERROR(INDEX(D219:D230, SMALL(IF(ISNUMBER(SEARCH(\"JV1\",F219:F230)), ROW(F219:F230)-MIN(ROW(F219:F230))+1, \"\"), ROW() -218 )), \"\")","v":""},{"$f":"IFERROR(INDEX(E219:E230, SMALL(IF(ISNUMBER(SEARCH(\"JV1\",F219:F230)), ROW(F219:F230)-MIN(ROW(F219:F230))+1, \"\"), ROW() -218 )), \"\")","v":""},{"$f":"IFERROR(INDEX(B219:B230, SMALL(IF(ISNUMBER(SEARCH(\"JV2\",F219:F230)), ROW(F219:F230)-MIN(ROW(F219:F230))+1, \"\"), ROW() -218 )), \"\")","v":""},{"$f":"IFERROR(INDEX(C219:C230, SMALL(IF(ISNUMBER(SEARCH(\"JV2\",F219:F230)), ROW(F219:F230)-MIN(ROW(F219:F230))+1, \"\"), ROW() -218 )), \"\")","v":""},{"$f":"IFERROR(INDEX(D219:D230, SMALL(IF(ISNUMBER(SEARCH(\"JV2\",F219:F230)), ROW(F219:F230)-MIN(ROW(F219:F230))+1, \"\"), ROW() -218 )), \"\")","v":""},{"$f":"IFERROR(INDEX(E219:E230, SMALL(IF(ISNUMBER(SEARCH(\"JV2\",F219:F230)), ROW(F219:F230)-MIN(ROW(F219:F230))+1, \"\"), ROW() -218 )), \"\")","v":""}]
[null,"Missouri Valley College",null,"20-39192","Landon Woeltje","v",null,4521.0,null,false,{"$nulls":17},{"$f":"IFERROR(INDEX(B219:B230, SMALL(IF(\"V\"=F219:F230, ROW(F219:F230)-MIN(ROW(F219:F230))+1, \"\"), ROW() -218 )), \"\")","v":"Missouri Valley College"},{"$f":"IFERROR(INDEX(C219:C230, SMALL(IF(\"V\"=F219:F230, ROW(F219:F230)-MIN(ROW(F219:F230))+1, \"\"), ROW() -218 )), \"\")","v":""},{"$f":"IFERROR(INDEX(D219:D230, SMALL(IF(\"V\"=F219:F230, ROW(F219:F230)-MIN(ROW(F219:F230))+1, \"\"), ROW() -218 )), \"\")","v":"11-540859"},{"$f":"IFERROR(INDEX(E219:E230, SMALL(IF(\"V\"=F219:F230, ROW(F219:F230)-MIN(ROW(F219:F230))+1, \"\"), ROW() -218 )), \"\")","v":"Wyatt Grunwald"},{"$f":"IFERROR(INDEX(B219:B230, SMALL(IF(ISNUMBER(SEARCH(\"JV1\",F219:F230)), ROW(F219:F230)-MIN(ROW(F219:F230))+1, \"\"), ROW() -218 )), \"\")","v":""},{"$f":"IFERROR(INDEX(C219:C230, SMALL(IF(ISNUMBER(SEARCH(\"JV1\",F219:F230)), ROW(F219:F230)-MIN(ROW(F219:F230))+1, \"\"), ROW() -218 )), \"\")","v":""},{"$f":"IFERROR(INDEX(D219:D230, SMALL(IF(ISNUMBER(SEARCH(\"JV1\",F219:F230)), ROW(F219:F230)-MIN(ROW(F219:F230))+1, \"\"), ROW() -218 )), \"\")","v":""},{"$f":"IFERROR(INDEX(E219:E230, SMALL(IF(ISNUMBER(SEARCH(\"JV1\",F219:F230)), ROW(F219:F230)-MIN(ROW(F219:F230))+1, \"\"), ROW() -218 )), \"\")","v":""},{"$f":"IFERROR(INDEX(B219:B230, SMALL(IF(ISNUMBER(SEARCH(\"JV2\",F219:F230)), ROW(F219:F230)-MIN(ROW(F219:F230))+1, \"\"), ROW() -218 )), \"\")","v":""},{"$f":"IFERROR(INDEX(C219:C230, SMALL(IF(ISNUMBER(SEARCH(\"JV2\",F219:F230)), ROW(F219:F230)-MIN(ROW(F219:F230))+1, \"\"), ROW() -218 )), \"\")","v":""},{"$f":"IFERROR(INDEX(D219:D230, SMALL(IF(ISNUMBER(SEARCH(\"JV2\",F219:F230)), ROW(F219:F230)-MIN(ROW(F219:F230))+1, \"\"), ROW() -218 )), \"\")","v":""},{"$f":"IFERROR(INDEX(E219:E230, SMALL(IF(ISNUMBER(SEARCH(\"JV2\",F219:F230)), ROW(F219:F230)-MIN(ROW(F219:F230))+1, \"\"), ROW() -218 )), \"\")","v":""}]
[null,"Missouri Valley College",null,"16-139103","Nate Moser","v",null,4521.0,null,false]
[null,"Missouri Valley College",null,"11-460695","Nicholas Miles","v",null,4521.0,null,false]
[null,"Missouri Valley College",null,"21-24054","Sergio Lasheras Cobos"," ",null,4521.0,null,false]
[null,"Missouri Valley College",null,"11-540859","Wyatt Grunwald","v",null,4521.0,null,false]
[null,"Mount Mercy University",null,"11-742397","Alex Pike"," ",null,3943.0,null,false,{"$nulls":17},{"$f":"IFERROR(INDEX(B231:B253, SMALL(IF(\"V\"=F231:F253, ROW(F231:F253)-MIN(ROW(F231:F253))+1, \"\"), ROW() -230 )), \"\")","v":"Mount Mercy University"},{"$f":"IFERROR(INDEX(C231:C253, SMALL(IF(\"V\"=F231:F253, ROW(F231:F253)-MIN(ROW(F231:F253))+1, \"\"), ROW() -230 )), \"\")","v":""},{"$f":"IFERROR(INDEX(D231:D253, SMALL(IF(\"V\"=F231:F253, ROW(F231:F253)-MIN(ROW(F231:F253))+1, \"\"), ROW() -230 )), \"\")","v":"11-626689"},{"$f":"IFERROR(INDEX(E231:E253, SMALL(IF(\"V\"=F231:F253, ROW(F231:F253)-MIN(ROW(F231:F253))+1, \"\"), ROW() -230 )), \"\")","v":"Andrei Tacorda"},{"$f":"IFERROR(INDEX(B231:B253, SMALL(IF(ISNUMBER(SEARCH(\"JV1\",F231:F253)), ROW(F231:F253)-MIN(ROW(F231:F253))+1, \"\"), ROW() -230 )), \"\")","v":""},{"$f":"IFERROR(INDEX(C231:C253, SMALL(IF(ISNUMBER(SEARCH(\"JV1\",F231:F253)), ROW(F231:F253)-MIN(ROW(F231:F253))+1, \"\"), ROW() -230 )), \"\")","v":""},{"$f":"IFERROR(INDEX(D231:D253, SMALL(IF(ISNUMBER(SEARCH(\"JV1\",F231:F253)), ROW(F231:F253)-MIN(ROW(F231:F253))+1, \"\"), ROW() -230 )), \"\")","v":""},{"$f":"IFERROR(INDEX(E231:E253, SMALL(IF(ISNUMBER(SEARCH(\"JV1\",F231:F253)), ROW(F231:F253)-MIN(ROW(F231:F253))+1, \"\"), ROW() -230 )), \"\")","v":""},{"$f":"IFERROR(INDEX(B231:B253, SMALL(IF(ISNUMBER(SEARCH(\"JV2\",F231:F253)), ROW(F231:F253)-MIN(ROW(F231:F253))+1, \"\"), ROW() -230 )), \"\")","v":""},{"$f":"IFERROR(INDEX(C231:C253, SMALL(IF(ISNUMBER(SEARCH(\"JV2\",F231:F253)), ROW(F231:F253)-MIN(ROW(F231:F253))+1, \"\"), ROW() -230 )), \"\")","v":""},{"$f":"IFERROR(INDEX(D231:D253, SMALL(IF(ISNUMBER(SEARCH(\"JV2\",F231:F253)), ROW(F231:F253)-MIN(ROW(F231:F253))+1, \"\"), ROW() -230 )), \"\")","v":""},{"$f":"IFERROR(INDEX(E231:E253, SMALL(IF(ISNUMBER(SEARCH(\"JV2\",F231:F253)), ROW(F231:F253)-MIN(ROW(F231:F253))+1, \"\"), ROW() -230 )), \"\")","v":""}]
[null,"Mount Mercy University",null,"11-626689","Andrei Tacorda","v",null,3943.0,null,false,{"$nulls":17},{"$f":"IFERROR(INDEX(B231:B253, SMALL(IF(\"V\"=F231:F253, ROW(F231:F253)-MIN(ROW(F231:F253))+1, \"\"), ROW() -230 )), \"\")","v":"Mount Mercy University"},{"$f":"IFERROR(INDEX(C231:C253, SMALL(IF(\"V\"=F231:F253, ROW(F231:F253)-MIN(ROW(F231:F253))+1, \"\"), ROW() -230 )), \"\")","v":""},{"$f":"IFERROR(INDEX(D231:D253, SMALL(IF(\"V\"=F231:F253, ROW(F231:F253)-MIN(ROW(F231:F253))+1, \"\"), ROW() -230 )), \"\")","v":"11-258258"},{"$f":"IFERROR(INDEX(E231:E253, SMALL(IF(\"V\"=F231:F253, ROW(F231:F253)-MIN(ROW(F231:F253))+1, \"\"), ROW() -230 )), \"\")","v":"Brandon Bohn"},{"$f":"IFERROR(INDEX(B231:B253, SMALL(IF(ISNUMBER(SEARCH(\"JV1\",F231:F253)), ROW(F231:F253)-MIN(ROW(F231:F253))+1, \"\"), ROW() -230 )), \"\")","v":""},{"$f":"IFERROR(INDEX(C231:C253, SMALL(IF(ISNUMBER(SEARCH(\"JV1\",F231:F253)), ROW(F231:F253)-MIN(ROW(F231:F253))+1, \"\"), ROW() -230 )), \"\")","v":""},{"$f":"IFERROR(INDEX(D231:D253, SMALL(IF(ISNUMBER(SEARCH(\"JV1\",F231:F253)), ROW(F231:F253)-MIN(ROW(F231:F253))+1, \"\"), ROW() -230 )), \"\")","v":""},{"$f":"IFERROR(INDEX(E231:E253, SMALL(IF(ISNUMBER(SEARCH(\"JV1\",F231:F253)), ROW(F231:F253)-MIN(ROW(F231:F253))+1, \"\"), ROW() -230 )), \"\")","v":""},{"$f":"IFERROR(INDEX(B231:B253, SMALL(IF(ISNUMBER(SEARCH(\"JV2\",F231:F253)), ROW(F231:F253)-MIN(ROW(F231:F253))+1, \"\"), ROW() -230 )), \"\")","v":""},{"$f":"IFERROR(INDEX(C231:C253, SMALL(IF(ISNUMBER(SEARCH(\"JV2\",F231:F253)), ROW(F231:F253)-MIN(ROW(F231:F253))+1, \"\"), ROW() -230 )), \"\")","v":""},{"$f":"IFERROR(INDEX(D231:D253, SMALL(IF(ISNUMBER(SEARCH(\"JV2\",F231:F253)), ROW(F231:F253)-MIN(ROW(F231:F253))+1, \"\"), ROW() -230 )), \"\")","v":""},{"$f":"IFERROR(INDEX(E231:E253, SMALL(IF(ISNUMBER(SEARCH(\"JV2\",F231:F253)), ROW(F231:F253)-MIN(ROW(F231:F253))+1, \"\"), ROW() -230 )), \"\")","v":""}]
[null,"Mount Mercy University",null,"11-258258","Brandon Bohn","v",null,3943.0,null,false,{"$nulls":17},{"$f":"IFERROR(INDEX(B231:B253, SMALL(IF(\"V\"=F231:F253, ROW(F231:F253)-MIN(ROW(F231:F253))+1, \"\"), ROW() -230 )), \"\")","v":"Mount Mercy University"},{"$f":"IFERROR(INDEX(C231:C253, SMALL(IF(\"V\"=F231:F253, ROW(F231:F253)-MIN(ROW(F231:F253))+1, \"\"), ROW() -230 )), \"\")","v":""},{"$f":"IFERROR(INDEX(D231:D253, SMALL(IF(\"V\"=F231:F253, ROW(F231:F253)-MIN(ROW(F231:F253))+1, \"\"), ROW() -230 )), \"\")","v":"7914-17584"},{"$f":"IFERROR(INDEX(E231:E253, SMALL(IF(\"V\"=F231:F253, ROW(F231:F253)-MIN(ROW(F231:F253))+1, \"\"), ROW() -230 )), \"\")","v":"Brett Lloyd"},{"$f":"IFERROR(INDEX(B231:B253, SMALL(IF(ISNUMBER(SEARCH(\"JV1\",F231:F253)), ROW(F231:F253)-MIN(ROW(F231:F253))+1, \"\"), ROW() -230 )), \"\")","v":""},{"$f":"IFERROR(INDEX(C231:C253, SMALL(IF(ISNUMBER(SEARCH(\"JV1\",F231:F253)), ROW(F231:F253)-MIN(ROW(F231:F253))+1, \"\"), ROW() -230 )), \"\")","v":""},{"$f":"IFERROR(INDEX(D231:D253, SMALL(IF(ISNUMBER(SEARCH(\"JV1\",F231:F253)), ROW(F231:F253)-MIN(ROW(F231:F253))+1, \"\"), ROW() -230 )), \"\")","v":""},{"$f":"IFERROR(INDEX(E231:E253, SMALL(IF(ISNUMBER(SEARCH(\"JV1\",F231:F253)), ROW(F231:F253)-MIN(ROW(F231:F253))+1, \"\"), ROW() -230 )), \"\")","v":""},{"$f":"IFERROR(INDEX(B231:B253, SMALL(IF(ISNUMBER(SEARCH(\"JV2\",F231:F253)), ROW(F231:F253)-MIN(ROW(F231:F253))+1, \"\"), ROW() -230 )), \"\")","v":""},{"$f":"IFERROR(INDEX(C231:C253, SMALL(IF(ISNUMBER(SEARCH(\"JV2\",F231:F253)), ROW(F231:F253)-MIN(ROW(F231:F253))+1, \"\"), ROW() -230 )), \"\")","v":""},{"$f":"IFERROR(INDEX(D231:D253, SMALL(IF(ISNUMBER(SEARCH(\"JV2\",F231:F253)), ROW(F231:F253)-MIN(ROW(F231:F253))+1, \"\"), ROW() -230 )), \"\")","v":""},{"$f":"IFERROR(INDEX(E231:E253, SMALL(IF(ISNUMBER(SEARCH(\"JV2\",F231:F253)), ROW(F231:F253)-MIN(ROW(F231:F253))+1, \"\"), ROW() -230 )), \"\")","v":""}]
[null,"Mount Mercy University",null,"7914-17584","Brett Lloyd","v",null,3943.0,null,false,{"$nulls":17},{"$f":"IFERROR(INDEX(B231:B253, SMALL(IF(\"V\"=F231:F253, ROW(F231:F253)-MIN(ROW(F231:F253))+1, \"\"), ROW() -230 )), \"\")","v":"Mount Mercy University"},{"$f":"IFERROR(INDEX(C231:C253, SMALL(IF(\"V\"=F231:F253, ROW(F231:F253)-MIN(ROW(F231:F253))+1, \"\"), ROW() -230 )), \"\")","v":""},{"$f":"IFERROR(INDEX(D231:D253, SMALL(IF(\"V\"=F231:F253, ROW(F231:F253)-MIN(ROW(F231:F253))+1, \"\"), ROW() -230 )), \"\")","v":"11-537531"},{"$f":"IFERROR(INDEX(E231:E253, SMALL(IF(\"V\"=F231:F253, ROW(F231:F253)-MIN(ROW(F231:F253))+1, \"\"), ROW() -230 )), \"\")","v":"Clayton Reid"},{"$f":"IFERROR(INDEX(B231:B253, SMALL(IF(ISNUMBER(SEARCH(\"JV1\",F231:F253)), ROW(F231:F253)-MIN(ROW(F231:F253))+1, \"\"), ROW() -230 )), \"\")","v":""},{"$f":"IFERROR(INDEX(C231:C253, SMALL(IF(ISNUMBER(SEARCH(\"JV1\",F231:F253)), ROW(F231:F253)-MIN(ROW(F231:F253))+1, \"\"), ROW() -230 )), \"\")","v":""},{"$f":"IFERROR(INDEX(D231:D253, SMALL(IF(ISNUMBER(SEARCH(\"JV1\",F231:F253)), ROW(F231:F253)-MIN(ROW(F231:F253))+1, \"\"), ROW() -230 )), \"\")","v":""},{"$f":"IFERROR(INDEX(E231:E253, SMALL(IF(ISNUMBER(SEARCH(\"JV1\",F231:F253)), ROW(F231:F253)-MIN(ROW(F231:F253))+1, \"\"), ROW() -230 )), \"\")","v":""},{"$f":"IFERROR(INDEX(B231:B253, SMALL(IF(ISNUMBER(SEARCH(\"JV2\",F231:F253)), ROW(F231:F253)-MIN(ROW(F231:F253))+1, \"\"), ROW() -230 )), \"\")","v":""},{"$f":"IFERROR(INDEX(C231:C253, SMALL(IF(ISNUMBER(SEARCH(\"JV2\",F231:F253)), ROW(F231:F253)-MIN(ROW(F231:F253))+1, \"\"), ROW() -230 )), \"\")","v":""},{"$f":"IFERROR(INDEX(D231:D253, SMALL(IF(ISNUMBER(SEARCH(\"JV2\",F231:F253)), ROW(F231:F253)-MIN(ROW(F231:F253))+1, \"\"), ROW() -230 )), \"\")","v":""},{"$f":"IFERROR(INDEX(E231:E253, SMALL(IF(ISNUMBER(SEARCH(\"JV2\",F231:F253)), ROW(F231:F253)-MIN(ROW(F231:F253))+1, \"\"), ROW() -230 )), \"\")","v":""}]
[null,"Mount Mercy University",null,"7914-15301","Casey Suchor"," ",null,3943.0,null,false,{"$nulls":17},{"$f":"IFERROR(INDEX(B231:B253, SMALL(IF(\"V\"=F231:F253, ROW(F231:F253)-MIN(ROW(F231:F253))+1, \"\"), ROW() -230 )), \"\")","v":"Mount Mercy University"},{"$f":"IFERROR(INDEX(C231:C253, SMALL(IF(\"V\"=F231:F253, ROW(F231:F253)-MIN(ROW(F231:F253))+1, \"\"), ROW() -230 )), \"\")","v":""},{"$f":"IFERROR(INDEX(D231:D253, SMALL(IF(\"V\"=F231:F253, ROW(F231:F253)-MIN(ROW(F231:F253))+1, \"\"), ROW() -230 )), \"\")","v":"11-365628"},{"$f":"IFERROR(INDEX(E231:E253, SMALL(IF(\"V\"=F231:F253, ROW(F231:F253)-MIN(ROW(F231:F253))+1, \"\"), ROW() -230 )), \"\")","v":"Harley Shene"},{"$f":"IFERROR(INDEX(B231:B253, SMALL(IF(ISNUMBER(SEARCH(\"JV1\",F231:F253)), ROW(F231:F253)-MIN(ROW(F231:F253))+1, \"\"), ROW() -230 )), \"\")","v":""},{"$f":"IFERROR(INDEX(C231:C253, SMALL(IF(ISNUMBER(SEARCH(\"JV1\",F231:F253)), ROW(F231:F253)-MIN(ROW(F231:F253))+1, \"\"), ROW() -230 )), \"\")","v":""},{"$f":"IFERROR(INDEX(D231:D253, SMALL(IF(ISNUMBER(SEARCH(\"JV1\",F231:F253)), ROW(F231:F253)-MIN(ROW(F231:F253))+1, \"\"), ROW() -230 )), \"\")","v":""},{"$f":"IFERROR(INDEX(E231:E253, SMALL(IF(ISNUMBER(SEARCH(\"JV1\",F231:F253)), ROW(F231:F253)-MIN(ROW(F231:F253))+1, \"\"), ROW() -230 )), \"\")","v":""},{"$f":"IFERROR(INDEX(B231:B253, SMALL(IF(ISNUMBER(SEARCH(\"JV2\",F231:F253)), ROW(F231:F253)-MIN(ROW(F231:F253))+1, \"\"), ROW() -230 )), \"\")","v":""},{"$f":"IFERROR(INDEX(C231:C253, SMALL(IF(ISNUMBER(SEARCH(\"JV2\",F231:F253)), ROW(F231:F253)-MIN(ROW(F231:F253))+1, \"\"), ROW() -230 )), \"\")","v":""},{"$f":"IFERROR(INDEX(D231:D253, SMALL(IF(ISNUMBER(SEARCH(\"JV2\",F231:F253)), ROW(F231:F253)-MIN(ROW(F231:F253))+1, \"\"), ROW() -230 )), \"\")","v":""},{"$f":"IFERROR(INDEX(E231:E253, SMALL(IF(ISNUMBER(SEARCH(\"JV2\",F231:F253)), ROW(F231:F253)-MIN(ROW(F231:F253))+1, \"\"), ROW() -230 )), \"\")","v":""}]
[null,"Mount Mercy University",null,"11-537531","Clayton Reid","v",null,3943.0,null,false,{"$nulls":17},{"$f":"IFERROR(INDEX(B231:B253, SMALL(IF(\"V\"=F231:F253, ROW(F231:F253)-MIN(ROW(F231:F253))+1, \"\"), ROW() -230 )), \"\")","v":"Mount Mercy University"},{"$f":"IFERROR(INDEX(C231:C253, SMALL(IF(\"V\"=F231:F253, ROW(F231:F253)-MIN(ROW(F231:F253))+1, \"\"), ROW() -230 )), \"\")","v":""},{"$f":"IFERROR(INDEX(D231:D253, SMALL(IF(\"V\"=F231:F253, ROW(F231:F253)-MIN(ROW(F231:F253))+1, \"\"), ROW() -230 )), \"\")","v":"17-67876"},{"$f":"IFERROR(INDEX(E231:E253, SMALL(IF(\"V\"=F231:F253, ROW(F231:F253)-MIN(ROW(F231:F253))+1, \"\"), ROW() -230 )), \"\")","v":"Jonah Musial"},{"$f":"IFERROR(INDEX(B231:B253, SMALL(IF(ISNUMBER(SEARCH(\"JV1\",F231:F253)), ROW(F231:F253)-MIN(ROW(F231:F253))+1, \"\"), ROW() -230 )), \"\")","v":""},{"$f":"IFERROR(INDEX(C231:C253, SMALL(IF(ISNUMBER(SEARCH(\"JV1\",F231:F253)), ROW(F231:F253)-MIN(ROW(F231:F253))+1, \"\"), ROW() -230 )), \"\")","v":""},{"$f":"IFERROR(INDEX(D231:D253, SMALL(IF(ISNUMBER(SEARCH(\"JV1\",F231:F253)), ROW(F231:F253)-MIN(ROW(F231:F253))+1, \"\"), ROW() -230 )), \"\")","v":""},{"$f":"IFERROR(INDEX(E231:E253, SMALL(IF(ISNUMBER(SEARCH(\"JV1\",F231:F253)), ROW(F231:F253)-MIN(ROW(F231:F253))+1, \"\"), ROW() -230 )), \"\")","v":""},{"$f":"IFERROR(INDEX(B231:B253, SMALL(IF(ISNUMBER(SEARCH(\"JV2\",F231:F253)), ROW(F231:F253)-MIN(ROW(F231:F253))+1, \"\"), ROW() -230 )), \"\")","v":""},{"$f":"IFERROR(INDEX(C231:C253, SMALL(IF(ISNUMBER(SEARCH(\"JV2\",F231:F253)), ROW(F231:F253)-MIN(ROW(F231:F253))+1, \"\"), ROW() -230 )), \"\")","v":""},{"$f":"IFERROR(INDEX(D231:D253, SMALL(IF(ISNUMBER(SEARCH(\"JV2\",F231:F253)), ROW(F231:F253)-MIN(ROW(F231:F253))+1, \"\"), ROW() -230 )), \"\")","v":""},{"$f":"IFERROR(INDEX(E231:E253, SMALL(IF(ISNUMBER(SEARCH(\"JV2\",F231:F253)), ROW(F231:F253)-MIN(ROW(F231:F253))+1, \"\"), ROW() -230 )), \"\")","v":""}]
[null,"Mount Mercy University",null,"11-618808","Gage Knutson"," ",null,3943.0,null,false,{"$nulls":17},{"$f":"IFERROR(INDEX(B231:B253, SMALL(IF(\"V\"=F231:F253, ROW(F231:F253)-MIN(ROW(F231:F253))+1, \"\"), ROW() -230 )), \"\")","v":"Mount Mercy University"},{"$f":"IFERROR(INDEX(C231:C253, SMALL(IF(\"V\"=F231:F253, ROW(F231:F253)-MIN(ROW(F231:F253))+1, \"\"), ROW() -230 )), \"\")","v":""},{"$f":"IFERROR(INDEX(D231:D253, SMALL(IF(\"V\"=F231:F253, ROW(F231:F253)-MIN(ROW(F231:F253))+1, \"\"), ROW() -230 )), \"\")","v":"5617-3547"},{"$f":"IFERROR(INDEX(E231:E253, SMALL(IF(\"V\"=F231:F253, ROW(F231:F253)-MIN(ROW(F231:F253))+1, \"\"), ROW() -230 )), \"\")","v":"Kai Yamada"},{"$f":"IFERROR(INDEX(B231:B253, SMALL(IF(ISNUMBER(SEARCH(\"JV1\",F231:F253)), ROW(F231:F253)-MIN(ROW(F231:F253))+1, \"\"), ROW() -230 )), \"\")","v":""},{"$f":"IFERROR(INDEX(C231:C253, SMALL(IF(ISNUMBER(SEARCH(\"JV1\",F231:F253)), ROW(F231:F253)-MIN(ROW(F231:F253))+1, \"\"), ROW() -230 )), \"\")","v":""},{"$f":"IFERROR(INDEX(D231:D253, SMALL(IF(ISNUMBER(SEARCH(\"JV1\",F231:F253)), ROW(F231:F253)-MIN(ROW(F231:F253))+1, \"\"), ROW() -230 )), \"\")","v":""},{"$f":"IFERROR(INDEX(E231:E253, SMALL(IF(ISNUMBER(SEARCH(\"JV1\",F231:F253)), ROW(F231:F253)-MIN(ROW(F231:F253))+1, \"\"), ROW() -230 )), \"\")","v":""},{"$f":"IFERROR(INDEX(B231:B253, SMALL(IF(ISNUMBER(SEARCH(\"JV2\",F231:F253)), ROW(F231:F253)-MIN(ROW(F231:F253))+1, \"\"), ROW() -230 )), \"\")","v":""},{"$f":"IFERROR(INDEX(C231:C253, SMALL(IF(ISNUMBER(SEARCH(\"JV2\",F231:F253)), ROW(F231:F253)-MIN(ROW(F231:F253))+1, \"\"), ROW() -230 )), \"\")","v":""},{"$f":"IFERROR(INDEX(D231:D253, SMALL(IF(ISNUMBER(SEARCH(\"JV2\",F231:F253)), ROW(F231:F253)-MIN(ROW(F231:F253))+1, \"\"), ROW() -230 )), \"\")","v":""},{"$f":"IFERROR(INDEX(E231:E253, SMALL(IF(ISNUMBER(SEARCH(\"JV2\",F231:F253)), ROW(F231:F253)-MIN(ROW(F231:F253))+1, \"\"), ROW() -230 )), \"\")","v":""}]
[null,"Mount Mercy University",null,"17-12717","Gavin Winkler"," ",null,3943.0,null,false,{"$nulls":17},{"$f":"IFERROR(INDEX(B231:B253, SMALL(IF(\"V\"=F231:F253, ROW(F231:F253)-MIN(ROW(F231:F253))+1, \"\"), ROW() -230 )), \"\")","v":""},{"$f":"IFERROR(INDEX(C231:C253, SMALL(IF(\"V\"=F231:F253, ROW(F231:F253)-MIN(ROW(F231:F253))+1, \"\"), ROW() -230 )), \"\")","v":""},{"$f":"IFERROR(INDEX(D231:D253, SMALL(IF(\"V\"=F231:F253, ROW(F231:F253)-MIN(ROW(F231:F253))+1, \"\"), ROW() -230 )), \"\")","v":""},{"$f":"IFERROR(INDEX(E231:E253, SMALL(IF(\"V\"=F231:F253, ROW(F231:F253)-MIN(ROW(F231:F253))+1, \"\"), ROW() -230 )), \"\")","v":""},{"$f":"IFERROR(INDEX(B231:B253, SMALL(IF(ISNUMBER(SEARCH(\"JV1\",F231:F253)), ROW(F231:F253)-MIN(ROW(F231:F253))+1, \"\"), ROW() -230 )), \"\")","v":""},{"$f":"IFERROR(INDEX(C231:C253, SMALL(IF(ISNUMBER(SEARCH(\"JV1\",F231:F253)), ROW(F231:F253)-MIN(ROW(F231:F253))+1, \"\"), ROW() -230 )), \"\")","v":""},{"$f":"IFERROR(INDEX(D231:D253, SMALL(IF(ISNUMBER(SEARCH(\"JV1\",F231:F253)), ROW(F231:F253)-MIN(ROW(F231:F253))+1, \"\"), ROW() -230 )), \"\")","v":""},{"$f":"IFERROR(INDEX(E231:E253, SMALL(IF(ISNUMBER(SEARCH(\"JV1\",F231:F253)), ROW(F231:F253)-MIN(ROW(F231:F253))+1, \"\"), ROW() -230 )), \"\")","v":""},{"$f":"IFERROR(INDEX(B231:B253, SMALL(IF(ISNUMBER(SEARCH(\"JV2\",F231:F253)), ROW(F231:F253)-MIN(ROW(F231:F253))+1, \"\"), ROW() -230 )), \"\")","v":""},{"$f":"IFERROR(INDEX(C231:C253, SMALL(IF(ISNUMBER(SEARCH(\"JV2\",F231:F253)), ROW(F231:F253)-MIN(ROW(F231:F253))+1, \"\"), ROW() -230 )), \"\")","v":""},{"$f":"IFERROR(INDEX(D231:D253, SMALL(IF(ISNUMBER(SEARCH(\"JV2\",F231:F253)), ROW(F231:F253)-MIN(ROW(F231:F253))+1, \"\"), ROW() -230 )), \"\")","v":""},{"$f":"IFERROR(INDEX(E231:E253, SMALL(IF(ISNUMBER(SEARCH(\"JV2\",F231:F253)), ROW(F231:F253)-MIN(ROW(F231:F253))+1, \"\"), ROW() -230 )), \"\")","v":""}]
[null,"Mount Mercy University",null,"11-58952","Gregory Suthers"," ",null,3943.0,null,false]
[null,"Mount Mercy University",null,"11-365628","Harley Shene","v",null,3943.0,null,false]
[null,"Mount Mercy University",null,"8254-12129","Hunter Bower"," ",null,3943.0,null,false]
[null,"Mount Mercy University",null,"11-401440","Ian Dohan"," ",null,3943.0,null,false]
[null,"Mount Mercy University",null,"17-67876","Jonah Musial","v",null,3943.0,null,false]
[null,"Mount Mercy University",null,"6633-4426","Joshua Zilk"," ",null,3943.0,null,false]
[null,"Mount Mercy University",null,"5617-3547","Kai Yamada","v",null,3943.0,null,false]
[null,"Mount Mercy University",null,"7914-32587","Kyle Rosenberg"," ",null,3943.0,null,false]
[null,"Mount Mercy University",null,"17-56869","Logan Farmer"," ",null,3943.0,null,false]
[null,"Mount Mercy University",null,"17-34821","Luis Lugo"," ",null,3943.0,null,false]
[null,"Mount Mercy University",null,"11-403445","Nathan Schram"," ",null,3943.0,null,false]
[null,"Mount Mercy University",null,"11-225259","Nile Franz"," ",null,3943.0,null,false]
[null,"Mount Mercy University",null,"5689-4081","Owen Jones"," ",null,3943.0,null,false]
[null,"Mount Mercy University",null,"16-47023","Teagan Merta"," ",null,3943.0,null,false]
[null,"Mount Mercy University",null,"7914-8964","Tom Burns"," ",null,3943.0,null,false]
[null,"Nebraska ,University Of",null,"17-8","Aaron Wickland","v",null,2347.0,null,false,{"$nulls":17},{"$f":"IFERROR(INDEX(B254:B267, SMALL(IF(\"V\"=F254:F267, ROW(F254:F267)-MIN(ROW(F254:F267))+1, \"\"), ROW() -253 )), \"\")","v":"Nebraska ,University Of"},{"$f":"IFERROR(INDEX(C254:C267, SMALL(IF(\"V\"=F254:F267, ROW(F254:F267)-MIN(ROW(F254:F267))+1, \"\"), ROW() -253 )), \"\")","v":""},{"$f":"IFERROR(INDEX(D254:D267, SMALL(IF(\"V\"=F254:F267, ROW(F254:F267)-MIN(ROW(F254:F267))+1, \"\"), ROW() -253 )), \"\")","v":"17-8"},{"$f":"IFERROR(INDEX(E254:E267, SMALL(IF(\"V\"=F254:F267, ROW(F254:F267)-MIN(ROW(F254:F267))+1, \"\"), ROW() -253 )), \"\")","v":"Aaron Wickland"},{"$f":"IFERROR(INDEX(B254:B267, SMALL(IF(ISNUMBER(SEARCH(\"JV1\",F254:F267)), ROW(F254:F267)-MIN(ROW(F254:F267))+1, \"\"), ROW() -253 )), \"\")","v":""},{"$f":"IFERROR(INDEX(C254:C267, SMALL(IF(ISNUMBER(SEARCH(\"JV1\",F254:F267)), ROW(F254:F267)-MIN(ROW(F254:F267))+1, \"\"), ROW() -253 )), \"\")","v":""},{"$f":"IFERROR(INDEX(D254:D267, SMALL(IF(ISNUMBER(SEARCH(\"JV1\",F254:F267)), ROW(F254:F267)-MIN(ROW(F254:F267))+1, \"\"), ROW() -253 )), \"\")","v":""},{"$f":"IFERROR(INDEX(E254:E267, SMALL(IF(ISNUMBER(SEARCH(\"JV1\",F254:F267)), ROW(F254:F267)-MIN(ROW(F254:F267))+1, \"\"), ROW() -253 )), \"\")","v":""},{"$f":"IFERROR(INDEX(B254:B267, SMALL(IF(ISNUMBER(SEARCH(\"JV2\",F254:F267)), ROW(F254:F267)-MIN(ROW(F254:F267))+1, \"\"), ROW() -253 )), \"\")","v":""},{"$f":"IFERROR(INDEX(C254:C267, SMALL(IF(ISNUMBER(SEARCH(\"JV2\",F254:F267)), ROW(F254:F267)-MIN(ROW(F254:F267))+1, \"\"), ROW() -253 )), \"\")","v":""},{"$f":"IFERROR(INDEX(D254:D267, SMALL(IF(ISNUMBER(SEARCH(\"JV2\",F254:F267)), ROW(F254:F267)-MIN(ROW(F254:F267))+1, \"\"), ROW() -253 )), \"\")","v":""},{"$f":"IFERROR(INDEX(E254:E267, SMALL(IF(ISNUMBER(SEARCH(\"JV2\",F254:F267)), ROW(F254:F267)-MIN(ROW(F254:F267))+1, \"\"), ROW() -253 )), \"\")","v":""}]
[null,"Nebraska ,University Of",null,"15-131663","Alexander Schnieders","v",null,2347.0,null,false,{"$nulls":17},{"$f":"IFERROR(INDEX(B254:B267, SMALL(IF(\"V\"=F254:F267, ROW(F254:F267)-MIN(ROW(F254:F267))+1, \"\"), ROW() -253 )), \"\")","v":"Nebraska ,University Of"},{"$f":"IFERROR(INDEX(C254:C267, SMALL(IF(\"V\"=F254:F267, ROW(F254:F267)-MIN(ROW(F254:F267))+1, \"\"), ROW() -253 )), \"\")","v":""},{"$f":"IFERROR(INDEX(D254:D267, SMALL(IF(\"V\"=F254:F267, ROW(F254:F267)-MIN(ROW(F254:F267))+1, \"\"), ROW() -253 )), \"\")","v":"15-131663"},{"$f":"IFERROR(INDEX(E254:E267, SMALL(IF(\"V\"=F254:F267, ROW(F254:F267)-MIN(ROW(F254:F267))+1, \"\"), ROW() -253 )), \"\")","v":"Alexander Schnieders"},{"$f":"IFERROR(INDEX(B254:B267, SMALL(IF(ISNUMBER(SEARCH(\"JV1\",F254:F267)), ROW(F254:F267)-MIN(ROW(F254:F267))+1, \"\"), ROW() -253 )), \"\")","v":""},{"$f":"IFERROR(INDEX(C254:C267, SMALL(IF(ISNUMBER(SEARCH(\"JV1\",F254:F267)), ROW(F254:F267)-MIN(ROW(F254:F267))+1, \"\"), ROW() -253 )), \"\")","v":""},{"$f":"IFERROR(INDEX(D254:D267, SMALL(IF(ISNUMBER(SEARCH(\"JV1\",F254:F267)), ROW(F254:F267)-MIN(ROW(F254:F267))+1, \"\"), ROW() -253 )), \"\")","v":""},{"$f":"IFERROR(INDEX(E254:E267, SMALL(IF(ISNUMBER(SEARCH(\"JV1\",F254:F267)), ROW(F254:F267)-MIN(ROW(F254:F267))+1, \"\"), ROW() -253 )), \"\")","v":""},{"$f":"IFERROR(INDEX(B254:B267, SMALL(IF(ISNUMBER(SEARCH(\"JV2\",F254:F267)), ROW(F254:F267)-MIN(ROW(F254:F267))+1, \"\"), ROW() -253 )), \"\")","v":""},{"$f":"IFERROR(INDEX(C254:C267, SMALL(IF(ISNUMBER(SEARCH(\"JV2\",F254:F267)), ROW(F254:F267)-MIN(ROW(F254:F267))+1, \"\"), ROW() -253 )), \"\")","v":""},{"$f":"IFERROR(INDEX(D254:D267, SMALL(IF(ISNUMBER(SEARCH(\"JV2\",F254:F267)), ROW(F254:F267)-MIN(ROW(F254:F267))+1, \"\"), ROW() -253 )), \"\")","v":""},{"$f":"IFERROR(INDEX(E254:E267, SMALL(IF(ISNUMBER(SEARCH(\"JV2\",F254:F267)), ROW(F254:F267)-MIN(ROW(F254:F267))+1, \"\"), ROW() -253 )), \"\")","v":""}]
[null,"Nebraska ,University Of",null,"11-626566","Alexis Wuestewald","v",null,2347.0,null,false,{"$nulls":17},{"$f":"IFERROR(INDEX(B254:B267, SMALL(IF(\"V\"=F254:F267, ROW(F254:F267)-MIN(ROW(F254:F267))+1, \"\"), ROW() -253 )), \"\")","v":"Nebraska ,University Of"},{"$f":"IFERROR(INDEX(C254:C267, SMALL(IF(\"V\"=F254:F267, ROW(F254:F267)-MIN(ROW(F254:F267))+1, \"\"), ROW() -253 )), \"\")","v":""},{"$f":"IFERROR(INDEX(D254:D267, SMALL(IF(\"V\"=F254:F267, ROW(F254:F267)-MIN(ROW(F254:F267))+1, \"\"), ROW() -253 )), \"\")","v":"11-626566"},{"$f":"IFERROR(INDEX(E254:E267, SMALL(IF(\"V\"=F254:F267, ROW(F254:F267)-MIN(ROW(F254:F267))+1, \"\"), ROW() -253 )), \"\")","v":"Alexis Wuestewald"},{"$f":"IFERROR(INDEX(B254:B267, SMALL(IF(ISNUMBER(SEARCH(\"JV1\",F254:F267)), ROW(F254:F267)-MIN(ROW(F254:F267))+1, \"\"), ROW() -253 )), \"\")","v":""},{"$f":"IFERROR(INDEX(C254:C267, SMALL(IF(ISNUMBER(SEARCH(\"JV1\",F254:F267)), ROW(F254:F267)-MIN(ROW(F254:F267))+1, \"\"), ROW() -253 )), \"\")","v":""},{"$f":"IFERROR(INDEX(D254:D267, SMALL(IF(ISNUMBER(SEARCH(\"JV1\",F254:F267)), ROW(F254:F267)-MIN(ROW(F254:F267))+1, \"\"), ROW() -253 )), \"\")","v":""},{"$f":"IFERROR(INDEX(E254:E267, SMALL(IF(ISNUMBER(SEARCH(\"JV1\",F254:F267)), ROW(F254:F267)-MIN(ROW(F254:F267))+1, \"\"), ROW() -253 )), \"\")","v":""},{"$f":"IFERROR(INDEX(B254:B267, SMALL(IF(ISNUMBER(SEARCH(\"JV2\",F254:F267)), ROW(F254:F267)-MIN(ROW(F254:F267))+1, \"\"), ROW() -253 )), \"\")","v":""},{"$f":"IFERROR(INDEX(C254:C267, SMALL(IF(ISNUMBER(SEARCH(\"JV2\",F254:F267)), ROW(F254:F267)-MIN(ROW(F254:F267))+1, \"\"), ROW() -253 )), \"\")","v":""},{"$f":"IFERROR(INDEX(D254:D267, SMALL(IF(ISNUMBER(SEARCH(\"JV2\",F254:F267)), ROW(F254:F267)-MIN(ROW(F254:F267))+1, \"\"), ROW() -253 )), \"\")","v":""},{"$f":"IFERROR(INDEX(E254:E267, SMALL(IF(ISNUMBER(SEARCH(\"JV2\",F254:F267)), ROW(F254:F267)-MIN(ROW(F254:F267))+1, \"\"), ROW() -253 )), \"\")","v":""}]
[null,"Nebraska ,University Of",null,"11-654953","Ashton Pohlmann","v",null,2347.0,null,false,{"$nulls":17},{"$f":"IFERROR(INDEX(B254:B267, SMALL(IF(\"V\"=F254:F267, ROW(F254:F267)-MIN(ROW(F254:F267))+1, \"\"), ROW() -253 )), \"\")","v":"Nebraska ,University Of"},{"$f":"IFERROR(INDEX(C254:C267, SMALL(IF(\"V\"=F254:F267, ROW(F254:F267)-MIN(ROW(F254:F267))+1, \"\"), ROW() -253 )), \"\")","v":""},{"$f":"IFERROR(INDEX(D254:D267, SMALL(IF(\"V\"=F254:F267, ROW(F254:F267)-MIN(ROW(F254:F267))+1, \"\"), ROW() -253 )), \"\")","v":"11-654953"},{"$f":"IFERROR(INDEX(E254:E267, SMALL(IF(\"V\"=F254:F267, ROW(F254:F267)-MIN(ROW(F254:F267))+1, \"\"), ROW() -253 )), \"\")","v":"Ashton Pohlmann"},{"$f":"IFERROR(INDEX(B254:B267, SMALL(IF(ISNUMBER(SEARCH(\"JV1\",F254:F267)), ROW(F254:F267)-MIN(ROW(F254:F267))+1, \"\"), ROW() -253 )), \"\")","v":""},{"$f":"IFERROR(INDEX(C254:C267, SMALL(IF(ISNUMBER(SEARCH(\"JV1\",F254:F267)), ROW(F254:F267)-MIN(ROW(F254:F267))+1, \"\"), ROW() -253 )), \"\")","v":""},{"$f":"IFERROR(INDEX(D254:D267, SMALL(IF(ISNUMBER(SEARCH(\"JV1\",F254:F267)), ROW(F254:F267)-MIN(ROW(F254:F267))+1, \"\"), ROW() -253 )), \"\")","v":""},{"$f":"IFERROR(INDEX(E254:E267, SMALL(IF(ISNUMBER(SEARCH(\"JV1\",F254:F267)), ROW(F254:F267)-MIN(ROW(F254:F267))+1, \"\"), ROW() -253 )), \"\")","v":""},{"$f":"IFERROR(INDEX(B254:B267, SMALL(IF(ISNUMBER(SEARCH(\"JV2\",F254:F267)), ROW(F254:F267)-MIN(ROW(F254:F267))+1, \"\"), ROW() -253 )), \"\")","v":""},{"$f":"IFERROR(INDEX(C254:C267, SMALL(IF(ISNUMBER(SEARCH(\"JV2\",F254:F267)), ROW(F254:F267)-MIN(ROW(F254:F267))+1, \"\"), ROW() -253 )), \"\")","v":""},{"$f":"IFERROR(INDEX(D254:D267, SMALL(IF(ISNUMBER(SEARCH(\"JV2\",F254:F267)), ROW(F254:F267)-MIN(ROW(F254:F267))+1, \"\"), ROW() -253 )), \"\")","v":""},{"$f":"IFERROR(INDEX(E254:E267, SMALL(IF(ISNUMBER(SEARCH(\"JV2\",F254:F267)), ROW(F254:F267)-MIN(ROW(F254:F267))+1, \"\"), ROW() -253 )), \"\")","v":""}]
[null,"Nebraska ,University Of",null,"15-144205","Daniel Hirstein"," ",null,2347.0,null,false,{"$nulls":17},{"$f":"IFERROR(INDEX(B254:B267, SMALL(IF(\"V\"=F254:F267, ROW(F254:F267)-MIN(ROW(F254:F267))+1, \"\"), ROW() -253 )), \"\")","v":"Nebraska ,University Of"},{"$f":"IFERROR(INDEX(C254:C267, SMALL(IF(\"V\"=F254:F267, ROW(F254:F267)-MIN(ROW(F254:F267))+1, \"\"), ROW() -253 )), \"\")","v":""},{"$f":"IFERROR(INDEX(D254:D267, SMALL(IF(\"V\"=F254:F267, ROW(F254:F267)-MIN(ROW(F254:F267))+1, \"\"), ROW() -253 )), \"\")","v":"11-79337"},{"$f":"IFERROR(INDEX(E254:E267, SMALL(IF(\"V\"=F254:F267, ROW(F254:F267)-MIN(ROW(F254:F267))+1, \"\"), ROW() -253 )), \"\")","v":"Emma Bowes"},{"$f":"IFERROR(INDEX(B254:B267, SMALL(IF(ISNUMBER(SEARCH(\"JV1\",F254:F267)), ROW(F254:F267)-MIN(ROW(F254:F267))+1, \"\"), ROW() -253 )), \"\")","v":""},{"$f":"IFERROR(INDEX(C254:C267, SMALL(IF(ISNUMBER(SEARCH(\"JV1\",F254:F267)), ROW(F254:F267)-MIN(ROW(F254:F267))+1, \"\"), ROW() -253 )), \"\")","v":""},{"$f":"IFERROR(INDEX(D254:D267, SMALL(IF(ISNUMBER(SEARCH(\"JV1\",F254:F267)), ROW(F254:F267)-MIN(ROW(F254:F267))+1, \"\"), ROW() -253 )), \"\")","v":""},{"$f":"IFERROR(INDEX(E254:E267, SMALL(IF(ISNUMBER(SEARCH(\"JV1\",F254:F267)), ROW(F254:F267)-MIN(ROW(F254:F267))+1, \"\"), ROW() -253 )), \"\")","v":""},{"$f":"IFERROR(INDEX(B254:B267, SMALL(IF(ISNUMBER(SEARCH(\"JV2\",F254:F267)), ROW(F254:F267)-MIN(ROW(F254:F267))+1, \"\"), ROW() -253 )), \"\")","v":""},{"$f":"IFERROR(INDEX(C254:C267, SMALL(IF(ISNUMBER(SEARCH(\"JV2\",F254:F267)), ROW(F254:F267)-MIN(ROW(F254:F267))+1, \"\"), ROW() -253 )), \"\")","v":""},{"$f":"IFERROR(INDEX(D254:D267, SMALL(IF(ISNUMBER(SEARCH(\"JV2\",F254:F267)), ROW(F254:F267)-MIN(ROW(F254:F267))+1, \"\"), ROW() -253 )), \"\")","v":""},{"$f":"IFERROR(INDEX(E254:E267, SMALL(IF(ISNUMBER(SEARCH(\"JV2\",F254:F267)), ROW(F254:F267)-MIN(ROW(F254:F267))+1, \"\"), ROW() -253 )), \"\")","v":""}]
[null,"Nebraska ,University Of",null,"11-79337","Emma Bowes","v",null,2347.0,null,false,{"$nulls":17},{"$f":"IFERROR(INDEX(B254:B267, SMALL(IF(\"V\"=F254:F267, ROW(F254:F267)-MIN(ROW(F254:F267))+1, \"\"), ROW() -253 )), \"\")","v":"Nebraska ,University Of"},{"$f":"IFERROR(INDEX(C254:C267, SMALL(IF(\"V\"=F254:F267, ROW(F254:F267)-MIN(ROW(F254:F267))+1, \"\"), ROW() -253 )), \"\")","v":""},{"$f":"IFERROR(INDEX(D254:D267, SMALL(IF(\"V\"=F254:F267, ROW(F254:F267)-MIN(ROW(F254:F267))+1, \"\"), ROW() -253 )), \"\")","v":"7914-15647"},{"$f":"IFERROR(INDEX(E254:E267, SMALL(IF(\"V\"=F254:F267, ROW(F254:F267)-MIN(ROW(F254:F267))+1, \"\"), ROW() -253 )), \"\")","v":"Isaac Young"},{"$f":"IFERROR(INDEX(B254:B267, SMALL(IF(ISNUMBER(SEARCH(\"JV1\",F254:F267)), ROW(F254:F267)-MIN(ROW(F254:F267))+1, \"\"), ROW() -253 )), \"\")","v":""},{"$f":"IFERROR(INDEX(C254:C267, SMALL(IF(ISNUMBER(SEARCH(\"JV1\",F254:F267)), ROW(F254:F267)-MIN(ROW(F254:F267))+1, \"\"), ROW() -253 )), \"\")","v":""},{"$f":"IFERROR(INDEX(D254:D267, SMALL(IF(ISNUMBER(SEARCH(\"JV1\",F254:F267)), ROW(F254:F267)-MIN(ROW(F254:F267))+1, \"\"), ROW() -253 )), \"\")","v":""},{"$f":"IFERROR(INDEX(E254:E267, SMALL(IF(ISNUMBER(SEARCH(\"JV1\",F254:F267)), ROW(F254:F267)-MIN(ROW(F254:F267))+1, \"\"), ROW() -253 )), \"\")","v":""},{"$f":"IFERROR(INDEX(B254:B267, SMALL(IF(ISNUMBER(SEARCH(\"JV2\",F254:F267)), ROW(F254:F267)-MIN(ROW(F254:F267))+1, \"\"), ROW() -253 )), \"\")","v":""},{"$f":"IFERROR(INDEX(C254:C267, SMALL(IF(ISNUMBER(SEARCH(\"JV2\",F254:F267)), ROW(F254:F267)-MIN(ROW(F254:F267))+1, \"\"), ROW() -253 )), \"\")","v":""},{"$f":"IFERROR(INDEX(D254:D267, SMALL(IF(ISNUMBER(SEARCH(\"JV2\",F254:F267)), ROW(F254:F267)-MIN(ROW(F254:F267))+1, \"\"), ROW() -253 )), \"\")","v":""},{"$f":"IFERROR(INDEX(E254:E267, SMALL(IF(ISNUMBER(SEARCH(\"JV2\",F254:F267)), ROW(F254:F267)-MIN(ROW(F254:F267))+1, \"\"), ROW() -253 )), \"\")","v":""}]
[null,"Nebraska ,University Of",null,"22-14051","Fletcher Hovendick"," ",null,2347.0,null,false,{"$nulls":17},{"$f":"IFERROR(INDEX(B254:B267, SMALL(IF(\"V\"=F254:F267, ROW(F254:F267)-MIN(ROW(F254:F267))+1, \"\"), ROW() -253 )), \"\")","v":"Nebraska ,University Of"},{"$f":"IFERROR(INDEX(C254:C267, SMALL(IF(\"V\"=F254:F267, ROW(F254:F267)-MIN(ROW(F254:F267))+1, \"\"), ROW() -253 )), \"\")","v":""},{"$f":"IFERROR(INDEX(D254:D267, SMALL(IF(\"V\"=F254:F267, ROW(F254:F267)-MIN(ROW(F254:F267))+1, \"\"), ROW() -253 )), \"\")","v":"11-400668"},{"$f":"IFERROR(INDEX(E254:E267, SMALL(IF(\"V\"=F254:F267, ROW(F254:F267)-MIN(ROW(F254:F267))+1, \"\"), ROW() -253 )), \"\")","v":"Joshua Quaas"},{"$f":"IFERROR(INDEX(B254:B267, SMALL(IF(ISNUMBER(SEARCH(\"JV1\",F254:F267)), ROW(F254:F267)-MIN(ROW(F254:F267))+1, \"\"), ROW() -253 )), \"\")","v":""},{"$f":"IFERROR(INDEX(C254:C267, SMALL(IF(ISNUMBER(SEARCH(\"JV1\",F254:F267)), ROW(F254:F267)-MIN(ROW(F254:F267))+1, \"\"), ROW() -253 )), \"\")","v":""},{"$f":"IFERROR(INDEX(D254:D267, SMALL(IF(ISNUMBER(SEARCH(\"JV1\",F254:F267)), ROW(F254:F267)-MIN(ROW(F254:F267))+1, \"\"), ROW() -253 )), \"\")","v":""},{"$f":"IFERROR(INDEX(E254:E267, SMALL(IF(ISNUMBER(SEARCH(\"JV1\",F254:F267)), ROW(F254:F267)-MIN(ROW(F254:F267))+1, \"\"), ROW() -253 )), \"\")","v":""},{"$f":"IFERROR(INDEX(B254:B267, SMALL(IF(ISNUMBER(SEARCH(\"JV2\",F254:F267)), ROW(F254:F267)-MIN(ROW(F254:F267))+1, \"\"), ROW() -253 )), \"\")","v":""},{"$f":"IFERROR(INDEX(C254:C267, SMALL(IF(ISNUMBER(SEARCH(\"JV2\",F254:F267)), ROW(F254:F267)-MIN(ROW(F254:F267))+1, \"\"), ROW() -253 )), \"\")","v":""},{"$f":"IFERROR(INDEX(D254:D267, SMALL(IF(ISNUMBER(SEARCH(\"JV2\",F254:F267)), ROW(F254:F267)-MIN(ROW(F254:F267))+1, \"\"), ROW() -253 )), \"\")","v":""},{"$f":"IFERROR(INDEX(E254:E267, SMALL(IF(ISNUMBER(SEARCH(\"JV2\",F254:F267)), ROW(F254:F267)-MIN(ROW(F254:F267))+1, \"\"), ROW() -253 )), \"\")","v":""}]
[null,"Nebraska ,University Of",null,"7914-15647","Isaac Young","v",null,2347.0,null,false,{"$nulls":17},{"$f":"IFERROR(INDEX(B254:B267, SMALL(IF(\"V\"=F254:F267, ROW(F254:F267)-MIN(ROW(F254:F267))+1, \"\"), ROW() -253 )), \"\")","v":"Nebraska ,University Of"},{"$f":"IFERROR(INDEX(C254:C267, SMALL(IF(\"V\"=F254:F267, ROW(F254:F267)-MIN(ROW(F254:F267))+1, \"\"), ROW() -253 )), \"\")","v":""},{"$f":"IFERROR(INDEX(D254:D267, SMALL(IF(\"V\"=F254:F267, ROW(F254:F267)-MIN(ROW(F254:F267))+1, \"\"), ROW() -253 )), \"\")","v":"9562-18261"},{"$f":"IFERROR(INDEX(E254:E267, SMALL(IF(\"V\"=F254:F267, ROW(F254:F267)-MIN(ROW(F254:F267))+1, \"\"), ROW() -253 )), \"\")","v":"Malcolm Saltzman"},{"$f":"IFERROR(INDEX(B254:B267, SMALL(IF(ISNUMBER(SEARCH(\"JV1\",F254:F267)), ROW(F254:F267)-MIN(ROW(F254:F267))+1, \"\"), ROW() -253 )), \"\")","v":""},{"$f":"IFERROR(INDEX(C254:C267, SMALL(IF(ISNUMBER(SEARCH(\"JV1\",F254:F267)), ROW(F254:F267)-MIN(ROW(F254:F267))+1, \"\"), ROW() -253 )), \"\")","v":""},{"$f":"IFERROR(INDEX(D254:D267, SMALL(IF(ISNUMBER(SEARCH(\"JV1\",F254:F267)), ROW(F254:F267)-MIN(ROW(F254:F267))+1, \"\"), ROW() -253 )), \"\")","v":""},{"$f":"IFERROR(INDEX(E254:E267, SMALL(IF(ISNUMBER(SEARCH(\"JV1\",F254:F267)), ROW(F254:F267)-MIN(ROW(F254:F267))+1, \"\"), ROW() -253 )), \"\")","v":""},{"$f":"IFERROR(INDEX(B254:B267, SMALL(IF(ISNUMBER(SEARCH(\"JV2\",F254:F267)), ROW(F254:F267)-MIN(ROW(F254:F267))+1, \"\"), ROW() -253 )), \"\")","v":""},{"$f":"IFERROR(INDEX(C254:C267, SMALL(IF(ISNUMBER(SEARCH(\"JV2\",F254:F267)), ROW(F254:F267)-MIN(ROW(F254:F267))+1, \"\"), ROW() -253 )), \"\")","v":""},{"$f":"IFERROR(INDEX(D254:D267, SMALL(IF(ISNUMBER(SEARCH(\"JV2\",F254:F267)), ROW(F254:F267)-MIN(ROW(F254:F267))+1, \"\"), ROW() -253 )), \"\")","v":""},{"$f":"IFERROR(INDEX(E254:E267, SMALL(IF(ISNUMBER(SEARCH(\"JV2\",F254:F267)), ROW(F254:F267)-MIN(ROW(F254:F267))+1, \"\"), ROW() -253 )), \"\")","v":""}]
[null,"Nebraska ,University Of",null,"22-13955","Jason Miller"," ",null,2347.0,null,false]
[null,"Nebraska ,University Of",null,"11-400668","Joshua Quaas","v",null,2347.0,null,false]
[null,"Nebraska ,University Of",null,"9562-18261","Malcolm Saltzman","v",null,2347.0,null,false]
[null,"Nebraska ,University Of",null,"22-14282","Owen Strazdas"," ",null,2347.0,null,false]
[null,"Nebraska ,University Of",null,"22-13965","Winter Muffley"," ",null,2347.0,null,false]
[null,"Nebraska ,University Of",null,"22-14283","Zaiden De La O"," ",null,2347.0,null,false]
[null,"Newman University",null,"17-101622","Blake Albers","JV1",null,2524.0,null,false,{"$nulls":17},{"$f":"IFERROR(INDEX(B268:B286, SMALL(IF(\"V\"=F268:F286, ROW(F268:F286)-MIN(ROW(F268:F286))+1, \"\"), ROW() -267 )), \"\")","v":"Newman University"},{"$f":"IFERROR(INDEX(C268:C286, SMALL(IF(\"V\"=F268:F286, ROW(F268:F286)-MIN(ROW(F268:F286))+1, \"\"), ROW() -267 )), \"\")","v":""},{"$f":"IFERROR(INDEX(D268:D286, SMALL(IF(\"V\"=F268:F286, ROW(F268:F286)-MIN(ROW(F268:F286))+1, \"\"), ROW() -267 )), \"\")","v":"5617-3699"},{"$f":"IFERROR(INDEX(E268:E286, SMALL(IF(\"V\"=F268:F286, ROW(F268:F286)-MIN(ROW(F268:F286))+1, \"\"), ROW() -267 )), \"\")","v":"Chasten Pojas"},{"$f":"IFERROR(INDEX(B268:B286, SMALL(IF(ISNUMBER(SEARCH(\"JV1\",F268:F286)), ROW(F268:F286)-MIN(ROW(F268:F286))+1, \"\"), ROW() -267 )), \"\")","v":"Newman University"},{"$f":"IFERROR(INDEX(C268:C286, SMALL(IF(ISNUMBER(SEARCH(\"JV1\",F268:F286)), ROW(F268:F286)-MIN(ROW(F268:F286))+1, \"\"), ROW() -267 )), \"\")","v":""},{"$f":"IFERROR(INDEX(D268:D286, SMALL(IF(ISNUMBER(SEARCH(\"JV1\",F268:F286)), ROW(F268:F286)-MIN(ROW(F268:F286))+1, \"\"), ROW() -267 )), \"\")","v":"17-101622"},{"$f":"IFERROR(INDEX(E268:E286, SMALL(IF(ISNUMBER(SEARCH(\"JV1\",F268:F286)), ROW(F268:F286)-MIN(ROW(F268:F286))+1, \"\"), ROW() -267 )), \"\")","v":"Blake Albers"},{"$f":"IFERROR(INDEX(B268:B286, SMALL(IF(ISNUMBER(SEARCH(\"JV2\",F268:F286)), ROW(F268:F286)-MIN(ROW(F268:F286))+1, \"\"), ROW() -267 )), \"\")","v":"Newman University"},{"$f":"IFERROR(INDEX(C268:C286, SMALL(IF(ISNUMBER(SEARCH(\"JV2\",F268:F286)), ROW(F268:F286)-MIN(ROW(F268:F286))+1, \"\"), ROW() -267 )), \"\")","v":""},{"$f":"IFERROR(INDEX(D268:D286, SMALL(IF(ISNUMBER(SEARCH(\"JV2\",F268:F286)), ROW(F268:F286)-MIN(ROW(F268:F286))+1, \"\"), ROW() -267 )), \"\")","v":"7914-24637"},{"$f":"IFERROR(INDEX(E268:E286, SMALL(IF(ISNUMBER(SEARCH(\"JV2\",F268:F286)), ROW(F268:F286)-MIN(ROW(F268:F286))+1, \"\"), ROW() -267 )), \"\")","v":"Chavous Kuamo'O-Malama"}]
[null,"Newman University",null,"5617-3699","Chasten Pojas","V",null,2524.0,null,false,{"$nulls":17},{"$f":"IFERROR(INDEX(B268:B286, SMALL(IF(\"V\"=F268:F286, ROW(F268:F286)-MIN(ROW(F268:F286))+1, \"\"), ROW() -267 )), \"\")","v":"Newman University"},{"$f":"IFERROR(INDEX(C268:C286, SMALL(IF(\"V\"=F268:F286, ROW(F268:F286)-MIN(ROW(F268:F286))+1, \"\"), ROW() -267 )), \"\")","v":""},{"$f":"IFERROR(INDEX(D268:D286, SMALL(IF(\"V\"=F268:F286, ROW(F268:F286)-MIN(ROW(F268:F286))+1, \"\"), ROW() -267 )), \"\")","v":"8259-42274"},{"$f":"IFERROR(INDEX(E268:E286, SMALL(IF(\"V\"=F268:F286, ROW(F268:F286)-MIN(ROW(F268:F286))+1, \"\"), ROW() -267 )), \"\")","v":"Jayson Palacios"},{"$f":"IFERROR(INDEX(B268:B286, SMALL(IF(ISNUMBER(SEARCH(\"JV1\",F268:F286)), ROW(F268:F286)-MIN(ROW(F268:F286))+1, \"\"), ROW() -267 )), \"\")","v":"Newman University"},{"$f":"IFERROR(INDEX(C268:C286, SMALL(IF(ISNUMBER(SEARCH(\"JV1\",F268:F286)), ROW(F268:F286)-MIN(ROW(F268:F286))+1, \"\"), ROW() -267 )), \"\")","v":""},{"$f":"IFERROR(INDEX(D268:D286, SMALL(IF(ISNUMBER(SEARCH(\"JV1\",F268:F286)), ROW(F268:F286)-MIN(ROW(F268:F286))+1, \"\"), ROW() -267 )), \"\")","v":"18-90181"},{"$f":"IFERROR(INDEX(E268:E286, SMALL(IF(ISNUMBER(SEARCH(\"JV1\",F268:F286)), ROW(F268:F286)-MIN(ROW(F268:F286))+1, \"\"), ROW() -267 )), \"\")","v":"Cole Munley"},{"$f":"IFERROR(INDEX(B268:B286, SMALL(IF(ISNUMBER(SEARCH(\"JV2\",F268:F286)), ROW(F268:F286)-MIN(ROW(F268:F286))+1, \"\"), ROW() -267 )), \"\")","v":"Newman University"},{"$f":"IFERROR(INDEX(C268:C286, SMALL(IF(ISNUMBER(SEARCH(\"JV2\",F268:F286)), ROW(F268:F286)-MIN(ROW(F268:F286))+1, \"\"), ROW() -267 )), \"\")","v":""},{"$f":"IFERROR(INDEX(D268:D286, SMALL(IF(ISNUMBER(SEARCH(\"JV2\",F268:F286)), ROW(F268:F286)-MIN(ROW(F268:F286))+1, \"\"), ROW() -267 )), \"\")","v":"11-625840"},{"$f":"IFERROR(INDEX(E268:E286, SMALL(IF(ISNUMBER(SEARCH(\"JV2\",F268:F286)), ROW(F268:F286)-MIN(ROW(F268:F286))+1, \"\"), ROW() -267 )), \"\")","v":"Kyler Stockstill"}]
[null,"Newman University",null,"7914-24637","Chavous Kuamo'O-Malama","jv2",null,2524.0,null,false,{"$nulls":17},{"$f":"IFERROR(INDEX(B268:B286, SMALL(IF(\"V\"=F268:F286, ROW(F268:F286)-MIN(ROW(F268:F286))+1, \"\"), ROW() -267 )), \"\")","v":"Newman University"},{"$f":"IFERROR(INDEX(C268:C286, SMALL(IF(\"V\"=F268:F286, ROW(F268:F286)-MIN(ROW(F268:F286))+1, \"\"), ROW() -267 )), \"\")","v":""},{"$f":"IFERROR(INDEX(D268:D286, SMALL(IF(\"V\"=F268:F286, ROW(F268:F286)-MIN(ROW(F268:F286))+1, \"\"), ROW() -267 )), \"\")","v":"15-8308"},{"$f":"IFERROR(INDEX(E268:E286, SMALL(IF(\"V\"=F268:F286, ROW(F268:F286)-MIN(ROW(F268:F286))+1, \"\"), ROW() -267 )), \"\")","v":"Noah Akiona"},{"$f":"IFERROR(INDEX(B268:B286, SMALL(IF(ISNUMBER(SEARCH(\"JV1\",F268:F286)), ROW(F268:F286)-MIN(ROW(F268:F286))+1, \"\"), ROW() -267 )), \"\")","v":"Newman University"},{"$f":"IFERROR(INDEX(C268:C286, SMALL(IF(ISNUMBER(SEARCH(\"JV1\",F268:F286)), ROW(F268:F286)-MIN(ROW(F268:F286))+1, \"\"), ROW() -267 )), \"\")","v":""},{"$f":"IFERROR(INDEX(D268:D286, SMALL(IF(ISNUMBER(SEARCH(\"JV1\",F268:F286)), ROW(F268:F286)-MIN(ROW(F268:F286))+1, \"\"), ROW() -267 )), \"\")","v":"18-48073"},{"$f":"IFERROR(INDEX(E268:E286, SMALL(IF(ISNUMBER(SEARCH(\"JV1\",F268:F286)), ROW(F268:F286)-MIN(ROW(F268:F286))+1, \"\"), ROW() -267 )), \"\")","v":"Cooper Watkins"},{"$f":"IFERROR(INDEX(B268:B286, SMALL(IF(ISNUMBER(SEARCH(\"JV2\",F268:F286)), ROW(F268:F286)-MIN(ROW(F268:F286))+1, \"\"), ROW() -267 )), \"\")","v":"Newman University"},{"$f":"IFERROR(INDEX(C268:C286, SMALL(IF(ISNUMBER(SEARCH(\"JV2\",F268:F286)), ROW(F268:F286)-MIN(ROW(F268:F286))+1, \"\"), ROW() -267 )), \"\")","v":""},{"$f":"IFERROR(INDEX(D268:D286, SMALL(IF(ISNUMBER(SEARCH(\"JV2\",F268:F286)), ROW(F268:F286)-MIN(ROW(F268:F286))+1, \"\"), ROW() -267 )), \"\")","v":"11-460910"},{"$f":"IFERROR(INDEX(E268:E286, SMALL(IF(ISNUMBER(SEARCH(\"JV2\",F268:F286)), ROW(F268:F286)-MIN(ROW(F268:F286))+1, \"\"), ROW() -267 )), \"\")","v":"Lawton Simons"}]
[null,"Newman University",null,"18-90181","Cole Munley","JV1",null,2524.0,null,false,{"$nulls":17},{"$f":"IFERROR(INDEX(B268:B286, SMALL(IF(\"V\"=F268:F286, ROW(F268:F286)-MIN(ROW(F268:F286))+1, \"\"), ROW() -267 )), \"\")","v":"Newman University"},{"$f":"IFERROR(INDEX(C268:C286, SMALL(IF(\"V\"=F268:F286, ROW(F268:F286)-MIN(ROW(F268:F286))+1, \"\"), ROW() -267 )), \"\")","v":""},{"$f":"IFERROR(INDEX(D268:D286, SMALL(IF(\"V\"=F268:F286, ROW(F268:F286)-MIN(ROW(F268:F286))+1, \"\"), ROW() -267 )), \"\")","v":"11-487407"},{"$f":"IFERROR(INDEX(E268:E286, SMALL(IF(\"V\"=F268:F286, ROW(F268:F286)-MIN(ROW(F268:F286))+1, \"\"), ROW() -267 )), \"\")","v":"Peyton Montgomery"},{"$f":"IFERROR(INDEX(B268:B286, SMALL(IF(ISNUMBER(SEARCH(\"JV1\",F268:F286)), ROW(F268:F286)-MIN(ROW(F268:F286))+1, \"\"), ROW() -267 )), \"\")","v":"Newman University"},{"$f":"IFERROR(INDEX(C268:C286, SMALL(IF(ISNUMBER(SEARCH(\"JV1\",F268:F286)), ROW(F268:F286)-MIN(ROW(F268:F286))+1, \"\"), ROW() -267 )), \"\")","v":""},{"$f":"IFERROR(INDEX(D268:D286, SMALL(IF(ISNUMBER(SEARCH(\"JV1\",F268:F286)), ROW(F268:F286)-MIN(ROW(F268:F286))+1, \"\"), ROW() -267 )), \"\")","v":"11-366233"},{"$f":"IFERROR(INDEX(E268:E286, SMALL(IF(ISNUMBER(SEARCH(\"JV1\",F268:F286)), ROW(F268:F286)-MIN(ROW(F268:F286))+1, \"\"), ROW() -267 )), \"\")","v":"Devon Urbano"},{"$f":"IFERROR(INDEX(B268:B286, SMALL(IF(ISNUMBER(SEARCH(\"JV2\",F268:F286)), ROW(F268:F286)-MIN(ROW(F268:F286))+1, \"\"), ROW() -267 )), \"\")","v":"Newman University"},{"$f":"IFERROR(INDEX(C268:C286, SMALL(IF(ISNUMBER(SEARCH(\"JV2\",F268:F286)), ROW(F268:F286)-MIN(ROW(F268:F286))+1, \"\"), ROW() -267 )), \"\")","v":""},{"$f":"IFERROR(INDEX(D268:D286, SMALL(IF(ISNUMBER(SEARCH(\"JV2\",F268:F286)), ROW(F268:F286)-MIN(ROW(F268:F286))+1, \"\"), ROW() -267 )), \"\")","v":"11-550328"},{"$f":"IFERROR(INDEX(E268:E286, SMALL(IF(ISNUMBER(SEARCH(\"JV2\",F268:F286)), ROW(F268:F286)-MIN(ROW(F268:F286))+1, \"\"), ROW() -267 )), \"\")","v":"Nathan Galicia"}]
[null,"Newman University",null,"18-48073","Cooper Watkins","JV1",null,2524.0,null,false,{"$nulls":17},{"$f":"IFERROR(INDEX(B268:B286, SMALL(IF(\"V\"=F268:F286, ROW(F268:F286)-MIN(ROW(F268:F286))+1, \"\"), ROW() -267 )), \"\")","v":"Newman University"},{"$f":"IFERROR(INDEX(C268:C286, SMALL(IF(\"V\"=F268:F286, ROW(F268:F286)-MIN(ROW(F268:F286))+1, \"\"), ROW() -267 )), \"\")","v":""},{"$f":"IFERROR(INDEX(D268:D286, SMALL(IF(\"V\"=F268:F286, ROW(F268:F286)-MIN(ROW(F268:F286))+1, \"\"), ROW() -267 )), \"\")","v":"11-186329"},{"$f":"IFERROR(INDEX(E268:E286, SMALL(IF(\"V\"=F268:F286, ROW(F268:F286)-MIN(ROW(F268:F286))+1, \"\"), ROW() -267 )), \"\")","v":"Silas Limes"},{"$f":"IFERROR(INDEX(B268:B286, SMALL(IF(ISNUMBER(SEARCH(\"JV1\",F268:F286)), ROW(F268:F286)-MIN(ROW(F268:F286))+1, \"\"), ROW() -267 )), \"\")","v":"Newman University"},{"$f":"IFERROR(INDEX(C268:C286, SMALL(IF(ISNUMBER(SEARCH(\"JV1\",F268:F286)), ROW(F268:F286)-MIN(ROW(F268:F286))+1, \"\"), ROW() -267 )), \"\")","v":""},{"$f":"IFERROR(INDEX(D268:D286, SMALL(IF(ISNUMBER(SEARCH(\"JV1\",F268:F286)), ROW(F268:F286)-MIN(ROW(F268:F286))+1, \"\"), ROW() -267 )), \"\")","v":"9115-2715"},{"$f":"IFERROR(INDEX(E268:E286, SMALL(IF(ISNUMBER(SEARCH(\"JV1\",F268:F286)), ROW(F268:F286)-MIN(ROW(F268:F286))+1, \"\"), ROW() -267 )), \"\")","v":"James McIver"},{"$f":"IFERROR(INDEX(B268:B286, SMALL(IF(ISNUMBER(SEARCH(\"JV2\",F268:F286)), ROW(F268:F286)-MIN(ROW(F268:F286))+1, \"\"), ROW() -267 )), \"\")","v":"Newman University"},{"$f":"IFERROR(INDEX(C268:C286, SMALL(IF(ISNUMBER(SEARCH(\"JV2\",F268:F286)), ROW(F268:F286)-MIN(ROW(F268:F286))+1, \"\"), ROW() -267 )), \"\")","v":""},{"$f":"IFERROR(INDEX(D268:D286, SMALL(IF(ISNUMBER(SEARCH(\"JV2\",F268:F286)), ROW(F268:F286)-MIN(ROW(F268:F286))+1, \"\"), ROW() -267 )), \"\")","v":"21-1165"},{"$f":"IFERROR(INDEX(E268:E286, SMALL(IF(ISNUMBER(SEARCH(\"JV2\",F268:F286)), ROW(F268:F286)-MIN(ROW(F268:F286))+1, \"\"), ROW() -267 )), \"\")","v":"Zachery Boh"}]
[null,"Newman University",null,"11-366233","Devon Urbano","JV1",null,2524.0,null,false,{"$nulls":17},{"$f":"IFERROR(INDEX(B268:B286, SMALL(IF(\"V\"=F268:F286, ROW(F268:F286)-MIN(ROW(F268:F286))+1, \"\"), ROW() -267 )), \"\")","v":"Newman University"},{"$f":"IFERROR(INDEX(C268:C286, SMALL(IF(\"V\"=F268:F286, ROW(F268:F286)-MIN(ROW(F268:F286))+1, \"\"), ROW() -267 )), \"\")","v":""},{"$f":"IFERROR(INDEX(D268:D286, SMALL(IF(\"V\"=F268:F286, ROW(F268:F286)-MIN(ROW(F268:F286))+1, \"\"), ROW() -267 )), \"\")","v":"8921-2363"},{"$f":"IFERROR(INDEX(E268:E286, SMALL(IF(\"V\"=F268:F286, ROW(F268:F286)-MIN(ROW(F268:F286))+1, \"\"), ROW() -267 )), \"\")","v":"William Day"},{"$f":"IFERROR(INDEX(B268:B286, SMALL(IF(ISNUMBER(SEARCH(\"JV1\",F268:F286)), ROW(F268:F286)-MIN(ROW(F268:F286))+1, \"\"), ROW() -267 )), \"\")","v":"Newman University"},{"$f":"IFERROR(INDEX(C268:C286, SMALL(IF(ISNUMBER(SEARCH(\"JV1\",F268:F286)), ROW(F268:F286)-MIN(ROW(F268:F286))+1, \"\"), ROW() -267 )), \"\")","v":""},{"$f":"IFERROR(INDEX(D268:D286, SMALL(IF(ISNUMBER(SEARCH(\"JV1\",F268:F286)), ROW(F268:F286)-MIN(ROW(F268:F286))+1, \"\"), ROW() -267 )), \"\")","v":"11-78128"},{"$f":"IFERROR(INDEX(E268:E286, SMALL(IF(ISNUMBER(SEARCH(\"JV1\",F268:F286)), ROW(F268:F286)-MIN(ROW(F268:F286))+1, \"\"), ROW() -267 )), \"\")","v":"Matthew Reed"},{"$f":"IFERROR(INDEX(B268:B286, SMALL(IF(ISNUMBER(SEARCH(\"JV2\",F268:F286)), ROW(F268:F286)-MIN(ROW(F268:F286))+1, \"\"), ROW() -267 )), \"\")","v":""},{"$f":"IFERROR(INDEX(C268:C286, SMALL(IF(ISNUMBER(SEARCH(\"JV2\",F268:F286)), ROW(F268:F286)-MIN(ROW(F268:F286))+1, \"\"), ROW() -267 )), \"\")","v":""},{"$f":"IFERROR(INDEX(D268:D286, SMALL(IF(ISNUMBER(SEARCH(\"JV2\",F268:F286)), ROW(F268:F286)-MIN(ROW(F268:F286))+1, \"\"), ROW() -267 )), \"\")","v":""},{"$f":"IFERROR(INDEX(E268:E286, SMALL(IF(ISNUMBER(SEARCH(\"JV2\",F268:F286)), ROW(F268:F286)-MIN(ROW(F268:F286))+1, \"\"), ROW() -267 )), \"\")","v":""}]
[null,"Newman University",null,"11-595539","Elijah Bryant"," ",null,2524.0,null,false,{"$nulls":17},{"$f":"IFERROR(INDEX(B268:B286, SMALL(IF(\"V\"=F268:F286, ROW(F268:F286)-MIN(ROW(F268:F286))+1, \"\"), ROW() -267 )), \"\")","v":"Newman University"},{"$f":"IFERROR(INDEX(C268:C286, SMALL(IF(\"V\"=F268:F286, ROW(F268:F286)-MIN(ROW(F268:F286))+1, \"\"), ROW() -267 )), \"\")","v":""},{"$f":"IFERROR(INDEX(D268:D286, SMALL(IF(\"V\"=F268:F286, ROW(F268:F286)-MIN(ROW(F268:F286))+1, \"\"), ROW() -267 )), \"\")","v":"11-659944"},{"$f":"IFERROR(INDEX(E268:E286, SMALL(IF(\"V\"=F268:F286, ROW(F268:F286)-MIN(ROW(F268:F286))+1, \"\"), ROW() -267 )), \"\")","v":"Zachary Smullen"},{"$f":"IFERROR(INDEX(B268:B286, SMALL(IF(ISNUMBER(SEARCH(\"JV1\",F268:F286)), ROW(F268:F286)-MIN(ROW(F268:F286))+1, \"\"), ROW() -267 )), \"\")","v":""},{"$f":"IFERROR(INDEX(C268:C286, SMALL(IF(ISNUMBER(SEARCH(\"JV1\",F268:F286)), ROW(F268:F286)-MIN(ROW(F268:F286))+1, \"\"), ROW() -267 )), \"\")","v":""},{"$f":"IFERROR(INDEX(D268:D286, SMALL(IF(ISNUMBER(SEARCH(\"JV1\",F268:F286)), ROW(F268:F286)-MIN(ROW(F268:F286))+1, \"\"), ROW() -267 )), \"\")","v":""},{"$f":"IFERROR(INDEX(E268:E286, SMALL(IF(ISNUMBER(SEARCH(\"JV1\",F268:F286)), ROW(F268:F286)-MIN(ROW(F268:F286))+1, \"\"), ROW() -267 )), \"\")","v":""},{"$f":"IFERROR(INDEX(B268:B286, SMALL(IF(ISNUMBER(SEARCH(\"JV2\",F268:F286)), ROW(F268:F286)-MIN(ROW(F268:F286))+1, \"\"), ROW() -267 )), \"\")","v":""},{"$f":"IFERROR(INDEX(C268:C286, SMALL(IF(ISNUMBER(SEARCH(\"JV2\",F268:F286)), ROW(F268:F286)-MIN(ROW(F268:F286))+1, \"\"), ROW() -267 )), \"\")","v":""},{"$f":"IFERROR(INDEX(D268:D286, SMALL(IF(ISNUMBER(SEARCH(\"JV2\",F268:F286)), ROW(F268:F286)-MIN(ROW(F268:F286))+1, \"\"), ROW() -267 )), \"\")","v":""},{"$f":"IFERROR(INDEX(E268:E286, SMALL(IF(ISNUMBER(SEARCH(\"JV2\",F268:F286)), ROW(F268:F286)-MIN(ROW(F268:F286))+1, \"\"), ROW() -267 )), \"\")","v":""}]
[null,"Newman University",null,"9115-2715","James McIver","JV1",null,2524.0,null,false,{"$nulls":17},{"$f":"IFERROR(INDEX(B268:B286, SMALL(IF(\"V\"=F268:F286, ROW(F268:F286)-MIN(ROW(F268:F286))+1, \"\"), ROW() -267 )), \"\")","v":""},{"$f":"IFERROR(INDEX(C268:C286, SMALL(IF(\"V\"=F268:F286, ROW(F268:F286)-MIN(ROW(F268:F286))+1, \"\"), ROW() -267 )), \"\")","v":""},{"$f":"IFERROR(INDEX(D268:D286, SMALL(IF(\"V\"=F268:F286, ROW(F268:F286)-MIN(ROW(F268:F286))+1, \"\"), ROW() -267 )), \"\")","v":""},{"$f":"IFERROR(INDEX(E268:E286, SMALL(IF(\"V\"=F268:F286, ROW(F268:F286)-MIN(ROW(F268:F286))+1, \"\"), ROW() -267 )), \"\")","v":""},{"$f":"IFERROR(INDEX(B268:B286, SMALL(IF(ISNUMBER(SEARCH(\"JV1\",F268:F286)), ROW(F268:F286)-MIN(ROW(F268:F286))+1, \"\"), ROW() -267 )), \"\")","v":""},{"$f":"IFERROR(INDEX(C268:C286, SMALL(IF(ISNUMBER(SEARCH(\"JV1\",F268:F286)), ROW(F268:F286)-MIN(ROW(F268:F286))+1, \"\"), ROW() -267 )), \"\")","v":""},{"$f":"IFERROR(INDEX(D268:D286, SMALL(IF(ISNUMBER(SEARCH(\"JV1\",F268:F286)), ROW(F268:F286)-MIN(ROW(F268:F286))+1, \"\"), ROW() -267 )), \"\")","v":""},{"$f":"IFERROR(INDEX(E268:E286, SMALL(IF(ISNUMBER(SEARCH(\"JV1\",F268:F286)), ROW(F268:F286)-MIN(ROW(F268:F286))+1, \"\"), ROW() -267 )), \"\")","v":""},{"$f":"IFERROR(INDEX(B268:B286, SMALL(IF(ISNUMBER(SEARCH(\"JV2\",F268:F286)), ROW(F268:F286)-MIN(ROW(F268:F286))+1, \"\"), ROW() -267 )), \"\")","v":""},{"$f":"IFERROR(INDEX(C268:C286, SMALL(IF(ISNUMBER(SEARCH(\"JV2\",F268:F286)), ROW(F268:F286)-MIN(ROW(F268:F286))+1, \"\"), ROW() -267 )), \"\")","v":""},{"$f":"IFERROR(INDEX(D268:D286, SMALL(IF(ISNUMBER(SEARCH(\"JV2\",F268:F286)), ROW(F268:F286)-MIN(ROW(F268:F286))+1, \"\"), ROW() -267 )), \"\")","v":""},{"$f":"IFERROR(INDEX(E268:E286, SMALL(IF(ISNUMBER(SEARCH(\"JV2\",F268:F286)), ROW(F268:F286)-MIN(ROW(F268:F286))+1, \"\"), ROW() -267 )), \"\")","v":""}]
[null,"Newman University",null,"8259-42274","Jayson Palacios","V",null,2524.0,null,false]
[null,"Newman University",null,"11-625840","Kyler Stockstill","jv2",null,2524.0,null,false]
[null,"Newman University",null,"11-460910","Lawton Simons","jv2",null,2524.0,null,false]
[null,"Newman University",null,"11-78128","Matthew Reed","JV1",null,2524.0,null,false]
[null,"Newman University",null,"11-550328","Nathan Galicia","jv2",null,2524.0,null,false]
[null,"Newman University",null,"15-8308","Noah Akiona","V",null,2524.0,null,false]
[null,"Newman University",null,"11-487407","Peyton Montgomery","V",null,2524.0,null,false]
[null,"Newman University",null,"11-186329","Silas Limes","V",null,2524.0,null,false]
[null,"Newman University",null,"8921-2363","William Day","V",null,2524.0,null,false]
[null,"Newman University",null,"11-659944","Zachary Smullen","V",null,2524.0,null,false]
[null,"Newman University",null,"21-1165","Zachery Boh","jv2",null,2524.0,null,false]
[null,"Oklahoma Christian University",null,"15-57483","Ashton Holladay","V",null,4467.0,null,false,{"$nulls":17},{"$f":"IFERROR(INDEX(B287:B310, SMALL(IF(\"V\"=F287:F310, ROW(F287:F310)-MIN(ROW(F287:F310))+1, \"\"), ROW() -286 )), \"\")","v":"Oklahoma Christian University"},{"$f":"IFERROR(INDEX(C287:C310, SMALL(IF(\"V\"=F287:F310, ROW(F287:F310)-MIN(ROW(F287:F310))+1, \"\"), ROW() -286 )), \"\")","v":""},{"$f":"IFERROR(INDEX(D287:D310, SMALL(IF(\"V\"=F287:F310, ROW(F287:F310)-MIN(ROW(F287:F310))+1, \"\"), ROW() -286 )), \"\")","v":"15-57483"},{"$f":"IFERROR(INDEX(E287:E310, SMALL(IF(\"V\"=F287:F310, ROW(F287:F310)-MIN(ROW(F287:F310))+1, \"\"), ROW() -286 )), \"\")","v":"Ashton Holladay"},{"$f":"IFERROR(INDEX(B287:B310, SMALL(IF(ISNUMBER(SEARCH(\"JV1\",F287:F310)), ROW(F287:F310)-MIN(ROW(F287:F310))+1, \"\"), ROW() -286 )), \"\")","v":"Oklahoma Christian University"},{"$f":"IFERROR(INDEX(C287:C310, SMALL(IF(ISNUMBER(SEARCH(\"JV1\",F287:F310)), ROW(F287:F310)-MIN(ROW(F287:F310))+1, \"\"), ROW() -286 )), \"\")","v":""},{"$f":"IFERROR(INDEX(D287:D310, SMALL(IF(ISNUMBER(SEARCH(\"JV1\",F287:F310)), ROW(F287:F310)-MIN(ROW(F287:F310))+1, \"\"), ROW() -286 )), \"\")","v":"21-47554"},{"$f":"IFERROR(INDEX(E287:E310, SMALL(IF(ISNUMBER(SEARCH(\"JV1\",F287:F310)), ROW(F287:F310)-MIN(ROW(F287:F310))+1, \"\"), ROW() -286 )), \"\")","v":"Benicio Lara"},{"$f":"IFERROR(INDEX(B287:B310, SMALL(IF(ISNUMBER(SEARCH(\"JV2\",F287:F310)), ROW(F287:F310)-MIN(ROW(F287:F310))+1, \"\"), ROW() -286 )), \"\")","v":""},{"$f":"IFERROR(INDEX(C287:C310, SMALL(IF(ISNUMBER(SEARCH(\"JV2\",F287:F310)), ROW(F287:F310)-MIN(ROW(F287:F310))+1, \"\"), ROW() -286 )), \"\")","v":""},{"$f":"IFERROR(INDEX(D287:D310, SMALL(IF(ISNUMBER(SEARCH(\"JV2\",F287:F310)), ROW(F287:F310)-MIN(ROW(F287:F310))+1, \"\"), ROW() -286 )), \"\")","v":""},{"$f":"IFERROR(INDEX(E287:E310, SMALL(IF(ISNUMBER(SEARCH(\"JV2\",F287:F310)), ROW(F287:F310)-MIN(ROW(F287:F310))+1, \"\"), ROW() -286 )), \"\")","v":""}]
[null,"Oklahoma Christian University",null,"21-47554","Benicio Lara","JV1",null,4467.0,null,false,{"$nulls":17},{"$f":"IFERROR(INDEX(B287:B310, SMALL(IF(\"V\"=F287:F310, ROW(F287:F310)-MIN(ROW(F287:F310))+1, \"\"), ROW() -286 )), \"\")","v":"Oklahoma Christian University"},{"$f":"IFERROR(INDEX(C287:C310, SMALL(IF(\"V\"=F287:F310, ROW(F287:F310)-MIN(ROW(F287:F310))+1, \"\"), ROW() -286 )), \"\")","v":""},{"$f":"IFERROR(INDEX(D287:D310, SMALL(IF(\"V\"=F287:F310, ROW(F287:F310)-MIN(ROW(F287:F310))+1, \"\"), ROW() -286 )), \"\")","v":"8138-10890"},{"$f":"IFERROR(INDEX(E287:E310, SMALL(IF(\"V\"=F287:F310, ROW(F287:F310)-MIN(ROW(F287:F310))+1, \"\"), ROW() -286 )), \"\")","v":"C. J. Petrin"},{"$f":"IFERROR(INDEX(B287:B310, SMALL(IF(ISNUMBER(SEARCH(\"JV1\",F287:F310)), ROW(F287:F310)-MIN(ROW(F287:F310))+1, \"\"), ROW() -286 )), \"\")","v":"Oklahoma Christian University"},{"$f":"IFERROR(INDEX(C287:C310, SMALL(IF(ISNUMBER(SEARCH(\"JV1\",F287:F310)), ROW(F287:F310)-MIN(ROW(F287:F310))+1, \"\"), ROW() -286 )), \"\")","v":""},{"$f":"IFERROR(INDEX(D287:D310, SMALL(IF(ISNUMBER(SEARCH(\"JV1\",F287:F310)), ROW(F287:F310)-MIN(ROW(F287:F310))+1, \"\"), ROW() -286 )), \"\")","v":"19-57818"},{"$f":"IFERROR(INDEX(E287:E310, SMALL(IF(ISNUMBER(SEARCH(\"JV1\",F287:F310)), ROW(F287:F310)-MIN(ROW(F287:F310))+1, \"\"), ROW() -286 )), \"\")","v":"Caleb Kelley"},{"$f":"IFERROR(INDEX(B287:B310, SMALL(IF(ISNUMBER(SEARCH(\"JV2\",F287:F310)), ROW(F287:F310)-MIN(ROW(F287:F310))+1, \"\"), ROW() -286 )), \"\")","v":""},{"$f":"IFERROR(INDEX(C287:C310, SMALL(IF(ISNUMBER(SEARCH(\"JV2\",F287:F310)), ROW(F287:F310)-MIN(ROW(F287:F310))+1, \"\"), ROW() -286 )), \"\")","v":""},{"$f":"IFERROR(INDEX(D287:D310, SMALL(IF(ISNUMBER(SEARCH(\"JV2\",F287:F310)), ROW(F287:F310)-MIN(ROW(F287:F310))+1, \"\"), ROW() -286 )), \"\")","v":""},{"$f":"IFERROR(INDEX(E287:E310, SMALL(IF(ISNUMBER(SEARCH(\"JV2\",F287:F310)), ROW(F287:F310)-MIN(ROW(F287:F310))+1, \"\"), ROW() -286 )), \"\")","v":""}]
[null,"Oklahoma Christian University",null,"8138-10890","C. J. Petrin","V",null,4467.0,null,false,{"$nulls":17},{"$f":"IFERROR(INDEX(B287:B310, SMALL(IF(\"V\"=F287:F310, ROW(F287:F310)-MIN(ROW(F287:F310))+1, \"\"), ROW() -286 )), \"\")","v":"Oklahoma Christian University"},{"$f":"IFERROR(INDEX(C287:C310, SMALL(IF(\"V\"=F287:F310, ROW(F287:F310)-MIN(ROW(F287:F310))+1, \"\"), ROW() -286 )), \"\")","v":""},{"$f":"IFERROR(INDEX(D287:D310, SMALL(IF(\"V\"=F287:F310, ROW(F287:F310)-MIN(ROW(F287:F310))+1, \"\"), ROW() -286 )), \"\")","v":"11-151757"},{"$f":"IFERROR(INDEX(E287:E310, SMALL(IF(\"V\"=F287:F310, ROW(F287:F310)-MIN(ROW(F287:F310))+1, \"\"), ROW() -286 )), \"\")","v":"Connor Fleming"},{"$f":"IFERROR(INDEX(B287:B310, SMALL(IF(ISNUMBER(SEARCH(\"JV1\",F287:F310)), ROW(F287:F310)-MIN(ROW(F287:F310))+1, \"\"), ROW() -286 )), \"\")","v":"Oklahoma Christian University"},{"$f":"IFERROR(INDEX(C287:C310, SMALL(IF(ISNUMBER(SEARCH(\"JV1\",F287:F310)), ROW(F287:F310)-MIN(ROW(F287:F310))+1, \"\"), ROW() -286 )), \"\")","v":""},{"$f":"IFERROR(INDEX(D287:D310, SMALL(IF(ISNUMBER(SEARCH(\"JV1\",F287:F310)), ROW(F287:F310)-MIN(ROW(F287:F310))+1, \"\"), ROW() -286 )), \"\")","v":"11-506954"},{"$f":"IFERROR(INDEX(E287:E310, SMALL(IF(ISNUMBER(SEARCH(\"JV1\",F287:F310)), ROW(F287:F310)-MIN(ROW(F287:F310))+1, \"\"), ROW() -286 )), \"\")","v":"Carter Robinson"},{"$f":"IFERROR(INDEX(B287:B310, SMALL(IF(ISNUMBER(SEARCH(\"JV2\",F287:F310)), ROW(F287:F310)-MIN(ROW(F287:F310))+1, \"\"), ROW() -286 )), \"\")","v":""},{"$f":"IFERROR(INDEX(C287:C310, SMALL(IF(ISNUMBER(SEARCH(\"JV2\",F287:F310)), ROW(F287:F310)-MIN(ROW(F287:F310))+1, \"\"), ROW() -286 )), \"\")","v":""},{"$f":"IFERROR(INDEX(D287:D310, SMALL(IF(ISNUMBER(SEARCH(\"JV2\",F287:F310)), ROW(F287:F310)-MIN(ROW(F287:F310))+1, \"\"), ROW() -286 )), \"\")","v":""},{"$f":"IFERROR(INDEX(E287:E310, SMALL(IF(ISNUMBER(SEARCH(\"JV2\",F287:F310)), ROW(F287:F310)-MIN(ROW(F287:F310))+1, \"\"), ROW() -286 )), \"\")","v":""}]
[null,"Oklahoma Christian University",null,"19-57818","Caleb Kelley","JV1",null,4467.0,null,false,{"$nulls":17},{"$f":"IFERROR(INDEX(B287:B310, SMALL(IF(\"V\"=F287:F310, ROW(F287:F310)-MIN(ROW(F287:F310))+1, \"\"), ROW() -286 )), \"\")","v":"Oklahoma Christian University"},{"$f":"IFERROR(INDEX(C287:C310, SMALL(IF(\"V\"=F287:F310, ROW(F287:F310)-MIN(ROW(F287:F310))+1, \"\"), ROW() -286 )), \"\")","v":""},{"$f":"IFERROR(INDEX(D287:D310, SMALL(IF(\"V\"=F287:F310, ROW(F287:F310)-MIN(ROW(F287:F310))+1, \"\"), ROW() -286 )), \"\")","v":"21-4507"},{"$f":"IFERROR(INDEX(E287:E310, SMALL(IF(\"V\"=F287:F310, ROW(F287:F310)-MIN(ROW(F287:F310))+1, \"\"), ROW() -286 )), \"\")","v":"Israel Reveles"},{"$f":"IFERROR(INDEX(B287:B310, SMALL(IF(ISNUMBER(SEARCH(\"JV1\",F287:F310)), ROW(F287:F310)-MIN(ROW(F287:F310))+1, \"\"), ROW() -286 )), \"\")","v":"Oklahoma Christian University"},{"$f":"IFERROR(INDEX(C287:C310, SMALL(IF(ISNUMBER(SEARCH(\"JV1\",F287:F310)), ROW(F287:F310)-MIN(ROW(F287:F310))+1, \"\"), ROW() -286 )), \"\")","v":""},{"$f":"IFERROR(INDEX(D287:D310, SMALL(IF(ISNUMBER(SEARCH(\"JV1\",F287:F310)), ROW(F287:F310)-MIN(ROW(F287:F310))+1, \"\"), ROW() -286 )), \"\")","v":"17-15383"},{"$f":"IFERROR(INDEX(E287:E310, SMALL(IF(ISNUMBER(SEARCH(\"JV1\",F287:F310)), ROW(F287:F310)-MIN(ROW(F287:F310))+1, \"\"), ROW() -286 )), \"\")","v":"Dalton Smith"},{"$f":"IFERROR(INDEX(B287:B310, SMALL(IF(ISNUMBER(SEARCH(\"JV2\",F287:F310)), ROW(F287:F310)-MIN(ROW(F287:F310))+1, \"\"), ROW() -286 )), \"\")","v":""},{"$f":"IFERROR(INDEX(C287:C310, SMALL(IF(ISNUMBER(SEARCH(\"JV2\",F287:F310)), ROW(F287:F310)-MIN(ROW(F287:F310))+1, \"\"), ROW() -286 )), \"\")","v":""},{"$f":"IFERROR(INDEX(D287:D310, SMALL(IF(ISNUMBER(SEARCH(\"JV2\",F287:F310)), ROW(F287:F310)-MIN(ROW(F287:F310))+1, \"\"), ROW() -286 )), \"\")","v":""},{"$f":"IFERROR(INDEX(E287:E310, SMALL(IF(ISNUMBER(SEARCH(\"JV2\",F287:F310)), ROW(F287:F310)-MIN(ROW(F287:F310))+1, \"\"), ROW() -286 )), \"\")","v":""}]
[null,"Oklahoma Christian University",null,"18-94930","Cameron Georgia"," ",null,4467.0,null,false,{"$nulls":17},{"$f":"IFERROR(INDEX(B287:B310, SMALL(IF(\"V\"=F287:F310, ROW(F287:F310)-MIN(ROW(F287:F310))+1, \"\"), ROW() -286 )), \"\")","v":"Oklahoma Christian University"},{"$f":"IFERROR(INDEX(C287:C310, SMALL(IF(\"V\"=F287:F310, ROW(F287:F310)-MIN(ROW(F287:F310))+1, \"\"), ROW() -286 )), \"\")","v":""},{"$f":"IFERROR(INDEX(D287:D310, SMALL(IF(\"V\"=F287:F310, ROW(F287:F310)-MIN(ROW(F287:F310))+1, \"\"), ROW() -286 )), \"\")","v":"18-58159"},{"$f":"IFERROR(INDEX(E287:E310, SMALL(IF(\"V\"=F287:F310, ROW(F287:F310)-MIN(ROW(F287:F310))+1, \"\"), ROW() -286 )), \"\")","v":"Jake DeVoe"},{"$f":"IFERROR(INDEX(B287:B310, SMALL(IF(ISNUMBER(SEARCH(\"JV1\",F287:F310)), ROW(F287:F310)-MIN(ROW(F287:F310))+1, \"\"), ROW() -286 )), \"\")","v":"Oklahoma Christian University"},{"$f":"IFERROR(INDEX(C287:C310, SMALL(IF(ISNUMBER(SEARCH(\"JV1\",F287:F310)), ROW(F287:F310)-MIN(ROW(F287:F310))+1, \"\"), ROW() -286 )), \"\")","v":""},{"$f":"IFERROR(INDEX(D287:D310, SMALL(IF(ISNUMBER(SEARCH(\"JV1\",F287:F310)), ROW(F287:F310)-MIN(ROW(F287:F310))+1, \"\"), ROW() -286 )), \"\")","v":"6507-8681"},{"$f":"IFERROR(INDEX(E287:E310, SMALL(IF(ISNUMBER(SEARCH(\"JV1\",F287:F310)), ROW(F287:F310)-MIN(ROW(F287:F310))+1, \"\"), ROW() -286 )), \"\")","v":"James Jackson"},{"$f":"IFERROR(INDEX(B287:B310, SMALL(IF(ISNUMBER(SEARCH(\"JV2\",F287:F310)), ROW(F287:F310)-MIN(ROW(F287:F310))+1, \"\"), ROW() -286 )), \"\")","v":""},{"$f":"IFERROR(INDEX(C287:C310, SMALL(IF(ISNUMBER(SEARCH(\"JV2\",F287:F310)), ROW(F287:F310)-MIN(ROW(F287:F310))+1, \"\"), ROW() -286 )), \"\")","v":""},{"$f":"IFERROR(INDEX(D287:D310, SMALL(IF(ISNUMBER(SEARCH(\"JV2\",F287:F310)), ROW(F287:F310)-MIN(ROW(F287:F310))+1, \"\"), ROW() -286 )), \"\")","v":""},{"$f":"IFERROR(INDEX(E287:E310, SMALL(IF(ISNUMBER(SEARCH(\"JV2\",F287:F310)), ROW(F287:F310)-MIN(ROW(F287:F310))+1, \"\"), ROW() -286 )), \"\")","v":""}]
[null,"Oklahoma Christian University",null,"11-506954","Carter Robinson","JV1",null,4467.0,null,false,{"$nulls":17},{"$f":"IFERROR(INDEX(B287:B310, SMALL(IF(\"V\"=F287:F310, ROW(F287:F310)-MIN(ROW(F287:F310))+1, \"\"), ROW() -286 )), \"\")","v":"Oklahoma Christian University"},{"$f":"IFERROR(INDEX(C287:C310, SMALL(IF(\"V\"=F287:F310, ROW(F287:F310)-MIN(ROW(F287:F310))+1, \"\"), ROW() -286 )), \"\")","v":""},{"$f":"IFERROR(INDEX(D287:D310, SMALL(IF(\"V\"=F287:F310, ROW(F287:F310)-MIN(ROW(F287:F310))+1, \"\"), ROW() -286 )), \"\")","v":"5743-5157"},{"$f":"IFERROR(INDEX(E287:E310, SMALL(IF(\"V\"=F287:F310, ROW(F287:F310)-MIN(ROW(F287:F310))+1, \"\"), ROW() -286 )), \"\")","v":"Leotis Johnson"},{"$f":"IFERROR(INDEX(B287:B310, SMALL(IF(ISNUMBER(SEARCH(\"JV1\",F287:F310)), ROW(F287:F310)-MIN(ROW(F287:F310))+1, \"\"), ROW() -286 )), \"\")","v":"Oklahoma Christian University"},{"$f":"IFERROR(INDEX(C287:C310, SMALL(IF(ISNUMBER(SEARCH(\"JV1\",F287:F310)), ROW(F287:F310)-MIN(ROW(F287:F310))+1, \"\"), ROW() -286 )), \"\")","v":""},{"$f":"IFERROR(INDEX(D287:D310, SMALL(IF(ISNUMBER(SEARCH(\"JV1\",F287:F310)), ROW(F287:F310)-MIN(ROW(F287:F310))+1, \"\"), ROW() -286 )), \"\")","v":"11-400036"},{"$f":"IFERROR(INDEX(E287:E310, SMALL(IF(ISNUMBER(SEARCH(\"JV1\",F287:F310)), ROW(F287:F310)-MIN(ROW(F287:F310))+1, \"\"), ROW() -286 )), \"\")","v":"Jaylon Jackson"},{"$f":"IFERROR(INDEX(B287:B310, SMALL(IF(ISNUMBER(SEARCH(\"JV2\",F287:F310)), ROW(F287:F310)-MIN(ROW(F287:F310))+1, \"\"), ROW() -286 )), \"\")","v":""},{"$f":"IFERROR(INDEX(C287:C310, SMALL(IF(ISNUMBER(SEARCH(\"JV2\",F287:F310)), ROW(F287:F310)-MIN(ROW(F287:F310))+1, \"\"), ROW() -286 )), \"\")","v":""},{"$f":"IFERROR(INDEX(D287:D310, SMALL(IF(ISNUMBER(SEARCH(\"JV2\",F287:F310)), ROW(F287:F310)-MIN(ROW(F287:F310))+1, \"\"), ROW() -286 )), \"\")","v":""},{"$f":"IFERROR(INDEX(E287:E310, SMALL(IF(ISNUMBER(SEARCH(\"JV2\",F287:F310)), ROW(F287:F310)-MIN(ROW(F287:F310))+1, \"\"), ROW() -286 )), \"\")","v":""}]
[null,"Oklahoma Christian University",null,"11-151757","Connor Fleming","V",null,4467.0,null,false,{"$nulls":17},{"$f":"IFERROR(INDEX(B287:B310, SMALL(IF(\"V\"=F287:F310, ROW(F287:F310)-MIN(ROW(F287:F310))+1, \"\"), ROW() -286 )), \"\")","v":"Oklahoma Christian University"},{"$f":"IFERROR(INDEX(C287:C310, SMALL(IF(\"V\"=F287:F310, ROW(F287:F310)-MIN(ROW(F287:F310))+1, \"\"), ROW() -286 )), \"\")","v":""},{"$f":"IFERROR(INDEX(D287:D310, SMALL(IF(\"V\"=F287:F310, ROW(F287:F310)-MIN(ROW(F287:F310))+1, \"\"), ROW() -286 )), \"\")","v":"15-20464"},{"$f":"IFERROR(INDEX(E287:E310, SMALL(IF(\"V\"=F287:F310, ROW(F287:F310)-MIN(ROW(F287:F310))+1, \"\"), ROW() -286 )), \"\")","v":"Nathan Curnutt"},{"$f":"IFERROR(INDEX(B287:B310, SMALL(IF(ISNUMBER(SEARCH(\"JV1\",F287:F310)), ROW(F287:F310)-MIN(ROW(F287:F310))+1, \"\"), ROW() -286 )), \"\")","v":"Oklahoma Christian University"},{"$f":"IFERROR(INDEX(C287:C310, SMALL(IF(ISNUMBER(SEARCH(\"JV1\",F287:F310)), ROW(F287:F310)-MIN(ROW(F287:F310))+1, \"\"), ROW() -286 )), \"\")","v":""},{"$f":"IFERROR(INDEX(D287:D310, SMALL(IF(ISNUMBER(SEARCH(\"JV1\",F287:F310)), ROW(F287:F310)-MIN(ROW(F287:F310))+1, \"\"), ROW() -286 )), \"\")","v":"22-1764"},{"$f":"IFERROR(INDEX(E287:E310, SMALL(IF(ISNUMBER(SEARCH(\"JV1\",F287:F310)), ROW(F287:F310)-MIN(ROW(F287:F310))+1, \"\"), ROW() -286 )), \"\")","v":"Joshua Drouin"},{"$f":"IFERROR(INDEX(B287:B310, SMALL(IF(ISNUMBER(SEARCH(\"JV2\",F287:F310)), ROW(F287:F310)-MIN(ROW(F287:F310))+1, \"\"), ROW() -286 )), \"\")","v":""},{"$f":"IFERROR(INDEX(C287:C310, SMALL(IF(ISNUMBER(SEARCH(\"JV2\",F287:F310)), ROW(F287:F310)-MIN(ROW(F287:F310))+1, \"\"), ROW() -286 )), \"\")","v":""},{"$f":"IFERROR(INDEX(D287:D310, SMALL(IF(ISNUMBER(SEARCH(\"JV2\",F287:F310)), ROW(F287:F310)-MIN(ROW(F287:F310))+1, \"\"), ROW() -286 )), \"\")","v":""},{"$f":"IFERROR(INDEX(E287:E310, SMALL(IF(ISNUMBER(SEARCH(\"JV2\",F287:F310)), ROW(F287:F310)-MIN(ROW(F287:F310))+1, \"\"), ROW() -286 )), \"\")","v":""}]
[null,"Oklahoma Christian University",null,"17-15383","Dalton Smith","JV1",null,4467.0,null,false,{"$nulls":17},{"$f":"IFERROR(INDEX(B287:B310, SMALL(IF(\"V\"=F287:F310, ROW(F287:F310)-MIN(ROW(F287:F310))+1, \"\"), ROW() -286 )), \"\")","v":"Oklahoma Christian University"},{"$f":"IFERROR(INDEX(C287:C310, SMALL(IF(\"V\"=F287:F310, ROW(F287:F310)-MIN(ROW(F287:F310))+1, \"\"), ROW() -286 )), \"\")","v":""},{"$f":"IFERROR(INDEX(D287:D310, SMALL(IF(\"V\"=F287:F310, ROW(F287:F310)-MIN(ROW(F287:F310))+1, \"\"), ROW() -286 )), \"\")","v":"11-610746"},{"$f":"IFERROR(INDEX(E287:E310, SMALL(IF(\"V\"=F287:F310, ROW(F287:F310)-MIN(ROW(F287:F310))+1, \"\"), ROW() -286 )), \"\")","v":"Trey Maloy"},{"$f":"IFERROR(INDEX(B287:B310, SMALL(IF(ISNUMBER(SEARCH(\"JV1\",F287:F310)), ROW(F287:F310)-MIN(ROW(F287:F310))+1, \"\"), ROW() -286 )), \"\")","v":"Oklahoma Christian University"},{"$f":"IFERROR(INDEX(C287:C310, SMALL(IF(ISNUMBER(SEARCH(\"JV1\",F287:F310)), ROW(F287:F310)-MIN(ROW(F287:F310))+1, \"\"), ROW() -286 )), \"\")","v":""},{"$f":"IFERROR(INDEX(D287:D310, SMALL(IF(ISNUMBER(SEARCH(\"JV1\",F287:F310)), ROW(F287:F310)-MIN(ROW(F287:F310))+1, \"\"), ROW() -286 )), \"\")","v":"16-86986"},{"$f":"IFERROR(INDEX(E287:E310, SMALL(IF(ISNUMBER(SEARCH(\"JV1\",F287:F310)), ROW(F287:F310)-MIN(ROW(F287:F310))+1, \"\"), ROW() -286 )), \"\")","v":"Travis Sorola"},{"$f":"IFERROR(INDEX(B287:B310, SMALL(IF(ISNUMBER(SEARCH(\"JV2\",F287:F310)), ROW(F287:F310)-MIN(ROW(F287:F310))+1, \"\"), ROW() -286 )), \"\")","v":""},{"$f":"IFERROR(INDEX(C287:C310, SMALL(IF(ISNUMBER(SEARCH(\"JV2\",F287:F310)), ROW(F287:F310)-MIN(ROW(F287:F310))+1, \"\"), ROW() -286 )), \"\")","v":""},{"$f":"IFERROR(INDEX(D287:D310, SMALL(IF(ISNUMBER(SEARCH(\"JV2\",F287:F310)), ROW(F287:F310)-MIN(ROW(F287:F310))+1, \"\"), ROW() -286 )), \"\")","v":""},{"$f":"IFERROR(INDEX(E287:E310, SMALL(IF(ISNUMBER(SEARCH(\"JV2\",F287:F310)), ROW(F287:F310)-MIN(ROW(F287:F310))+1, \"\"), ROW() -286 )), \"\")","v":""}]
[null,"Oklahoma Christian University",null,"19-61678","Dylan Fowler"," ",null,4467.0,null,false]
[null,"Oklahoma Christian University",null,"18-88537","Gabe Jeter"," ",null,4467.0,null,false]
[null,"Oklahoma Christian University",null,"21-4507","Israel Reveles","V",null,4467.0,null,false]
[null,"Oklahoma Christian University",null,"18-58159","Jake DeVoe","V",null,4467.0,null,false]
[null,"Oklahoma Christian University",null,"6507-8681","James Jackson","JV1",null,4467.0,null,false]
[null,"Oklahoma Christian University",null,"11-400036","Jaylon Jackson","JV1",null,4467.0,null,false]
[null,"Oklahoma Christian University",null,"22-1764","Joshua Drouin","JV1",null,4467.0,null,false]
[null,"Oklahoma Christian University",null,"5743-5157","Leotis Johnson","V",null,4467.0,null,false]
[null,"Oklahoma Christian University",null,"16-66966","Leyton Green"," ",null,4467.0,null,false]
[null,"Oklahoma Christian University",null,"15-20464","Nathan Curnutt","V",null,4467.0,null,false]
[null,"Oklahoma Christian University",null,"7914-29444","Nathan Eaton"," ",null,4467.0,null,false]
[null,"Oklahoma Christian University",null,"8688-35914","Nicholas Carmona"," ",null,4467.0,null,false]
[null,"Oklahoma Christian University",null,"16-28123","Peyton Jowers"," ",null,4467.0,null,false]
[null,"Oklahoma Christian University",null,"11-455453","Taylor Bryant"," ",null,4467.0,null,false]
[null,"Oklahoma Christian University",null,"16-86986","Travis Sorola","JV1",null,4467.0,null,false]
[null,"Oklahoma Christian University",null,"11-610746","Trey Maloy","V",null,4467.0,null,false]
[null,"Oklahoma State University",null,"11-412059","Alleyn Campbell","V",null,2438.0,null,false,{"$nulls":17},{"$f":"IFERROR(INDEX(B311:B323, SMALL(IF(\"V\"=F311:F323, ROW(F311:F323)-MIN(ROW(F311:F323))+1, \"\"), ROW() -310 )), \"\")","v":"Oklahoma State University"},{"$f":"IFERROR(INDEX(C311:C323, SMALL(IF(\"V\"=F311:F323, ROW(F311:F323)-MIN(ROW(F311:F323))+1, \"\"), ROW() -310 )), \"\")","v":""},{"$f":"IFERROR(INDEX(D311:D323, SMALL(IF(\"V\"=F311:F323, ROW(F311:F323)-MIN(ROW(F311:F323))+1, \"\"), ROW() -310 )), \"\")","v":"11-412059"},{"$f":"IFERROR(INDEX(E311:E323, SMALL(IF(\"V\"=F311:F323, ROW(F311:F323)-MIN(ROW(F311:F323))+1, \"\"), ROW() -310 )), \"\")","v":"Alleyn Campbell"},{"$f":"IFERROR(INDEX(B311:B323, SMALL(IF(ISNUMBER(SEARCH(\"JV1\",F311:F323)), ROW(F311:F323)-MIN(ROW(F311:F323))+1, \"\"), ROW() -310 )), \"\")","v":""},{"$f":"IFERROR(INDEX(C311:C323, SMALL(IF(ISNUMBER(SEARCH(\"JV1\",F311:F323)), ROW(F311:F323)-MIN(ROW(F311:F323))+1, \"\"), ROW() -310 )), \"\")","v":""},{"$f":"IFERROR(INDEX(D311:D323, SMALL(IF(ISNUMBER(SEARCH(\"JV1\",F311:F323)), ROW(F311:F323)-MIN(ROW(F311:F323))+1, \"\"), ROW() -310 )), \"\")","v":""},{"$f":"IFERROR(INDEX(E311:E323, SMALL(IF(ISNUMBER(SEARCH(\"JV1\",F311:F323)), ROW(F311:F323)-MIN(ROW(F311:F323))+1, \"\"), ROW() -310 )), \"\")","v":""},{"$f":"IFERROR(INDEX(B311:B323, SMALL(IF(ISNUMBER(SEARCH(\"JV2\",F311:F323)), ROW(F311:F323)-MIN(ROW(F311:F323))+1, \"\"), ROW() -310 )), \"\")","v":""},{"$f":"IFERROR(INDEX(C311:C323, SMALL(IF(ISNUMBER(SEARCH(\"JV2\",F311:F323)), ROW(F311:F323)-MIN(ROW(F311:F323))+1, \"\"), ROW() -310 )), \"\")","v":""},{"$f":"IFERROR(INDEX(D311:D323, SMALL(IF(ISNUMBER(SEARCH(\"JV2\",F311:F323)), ROW(F311:F323)-MIN(ROW(F311:F323))+1, \"\"), ROW() -310 )), \"\")","v":""},{"$f":"IFERROR(INDEX(E311:E323, SMALL(IF(ISNUMBER(SEARCH(\"JV2\",F311:F323)), ROW(F311:F323)-MIN(ROW(F311:F323))+1, \"\"), ROW() -310 )), \"\")","v":""}]
[null,"Oklahoma State University",null,"22-22130","Angel Carrillo","V",null,2438.0,null,false,{"$nulls":17},{"$f":"IFERROR(INDEX(B311:B323, SMALL(IF(\"V\"=F311:F323, ROW(F311:F323)-MIN(ROW(F311:F323))+1, \"\"), ROW() -310 )), \"\")","v":"Oklahoma State University"},{"$f":"IFERROR(INDEX(C311:C323, SMALL(IF(\"V\"=F311:F323, ROW(F311:F323)-MIN(ROW(F311:F323))+1, \"\"), ROW() -310 )), \"\")","v":""},{"$f":"IFERROR(INDEX(D311:D323, SMALL(IF(\"V\"=F311:F323, ROW(F311:F323)-MIN(ROW(F311:F323))+1, \"\"), ROW() -310 )), \"\")","v":"22-22130"},{"$f":"IFERROR(INDEX(E311:E323, SMALL(IF(\"V\"=F311:F323, ROW(F311:F323)-MIN(ROW(F311:F323))+1, \"\"), ROW() -310 )), \"\")","v":"Angel Carrillo"},{"$f":"IFERROR(INDEX(B311:B323, SMALL(IF(ISNUMBER(SEARCH(\"JV1\",F311:F323)), ROW(F311:F323)-MIN(ROW(F311:F323))+1, \"\"), ROW() -310 )), \"\")","v":""},{"$f":"IFERROR(INDEX(C311:C323, SMALL(IF(ISNUMBER(SEARCH(\"JV1\",F311:F323)), ROW(F311:F323)-MIN(ROW(F311:F323))+1, \"\"), ROW() -310 )), \"\")","v":""},{"$f":"IFERROR(INDEX(D311:D323, SMALL(IF(ISNUMBER(SEARCH(\"JV1\",F311:F323)), ROW(F311:F323)-MIN(ROW(F311:F323))+1, \"\"), ROW() -310 )), \"\")","v":""},{"$f":"IFERROR(INDEX(E311:E323, SMALL(IF(ISNUMBER(SEARCH(\"JV1\",F311:F323)), ROW(F311:F323)-MIN(ROW(F311:F323))+1, \"\"), ROW() -310 )), \"\")","v":""},{"$f":"IFERROR(INDEX(B311:B323, SMALL(IF(ISNUMBER(SEARCH(\"JV2\",F311:F323)), ROW(F311:F323)-MIN(ROW(F311:F323))+1, \"\"), ROW() -310 )), \"\")","v":""},{"$f":"IFERROR(INDEX(C311:C323, SMALL(IF(ISNUMBER(SEARCH(\"JV2\",F311:F323)), ROW(F311:F323)-MIN(ROW(F311:F323))+1, \"\"), ROW() -310 )), \"\")","v":""},{"$f":"IFERROR(INDEX(D311:D323, SMALL(IF(ISNUMBER(SEARCH(\"JV2\",F311:F323)), ROW(F311:F323)-MIN(ROW(F311:F323))+1, \"\"), ROW() -310 )), \"\")","v":""},{"$f":"IFERROR(INDEX(E311:E323, SMALL(IF(ISNUMBER(SEARCH(\"JV2\",F311:F323)), ROW(F311:F323)-MIN(ROW(F311:F323))+1, \"\"), ROW() -310 )), \"\")","v":""}]
[null,"Oklahoma State University",null,"6507-11202","Chase Horsley","V",null,2438.0,null,false,{"$nulls":17},{"$f":"IFERROR(INDEX(B311:B323, SMALL(IF(\"V\"=F311:F323, ROW(F311:F323)-MIN(ROW(F311:F323))+1, \"\"), ROW() -310 )), \"\")","v":"Oklahoma State University"},{"$f":"IFERROR(INDEX(C311:C323, SMALL(IF(\"V\"=F311:F323, ROW(F311:F323)-MIN(ROW(F311:F323))+1, \"\"), ROW() -310 )), \"\")","v":""},{"$f":"IFERROR(INDEX(D311:D323, SMALL(IF(\"V\"=F311:F323, ROW(F311:F323)-MIN(ROW(F311:F323))+1, \"\"), ROW() -310 )), \"\")","v":"6507-11202"},{"$f":"IFERROR(INDEX(E311:E323, SMALL(IF(\"V\"=F311:F323, ROW(F311:F323)-MIN(ROW(F311:F323))+1, \"\"), ROW() -310 )), \"\")","v":"Chase Horsley"},{"$f":"IFERROR(INDEX(B311:B323, SMALL(IF(ISNUMBER(SEARCH(\"JV1\",F311:F323)), ROW(F311:F323)-MIN(ROW(F311:F323))+1, \"\"), ROW() -310 )), \"\")","v":""},{"$f":"IFERROR(INDEX(C311:C323, SMALL(IF(ISNUMBER(SEARCH(\"JV1\",F311:F323)), ROW(F311:F323)-MIN(ROW(F311:F323))+1, \"\"), ROW() -310 )), \"\")","v":""},{"$f":"IFERROR(INDEX(D311:D323, SMALL(IF(ISNUMBER(SEARCH(\"JV1\",F311:F323)), ROW(F311:F323)-MIN(ROW(F311:F323))+1, \"\"), ROW() -310 )), \"\")","v":""},{"$f":"IFERROR(INDEX(E311:E323, SMALL(IF(ISNUMBER(SEARCH(\"JV1\",F311:F323)), ROW(F311:F323)-MIN(ROW(F311:F323))+1, \"\"), ROW() -310 )), \"\")","v":""},{"$f":"IFERROR(INDEX(B311:B323, SMALL(IF(ISNUMBER(SEARCH(\"JV2\",F311:F323)), ROW(F311:F323)-MIN(ROW(F311:F323))+1, \"\"), ROW() -310 )), \"\")","v":""},{"$f":"IFERROR(INDEX(C311:C323, SMALL(IF(ISNUMBER(SEARCH(\"JV2\",F311:F323)), ROW(F311:F323)-MIN(ROW(F311:F323))+1, \"\"), ROW() -310 )), \"\")","v":""},{"$f":"IFERROR(INDEX(D311:D323, SMALL(IF(ISNUMBER(SEARCH(\"JV2\",F311:F323)), ROW(F311:F323)-MIN(ROW(F311:F323))+1, \"\"), ROW() -310 )), \"\")","v":""},{"$f":"IFERROR(INDEX(E311:E323, SMALL(IF(ISNUMBER(SEARCH(\"JV2\",F311:F323)), ROW(F311:F323)-MIN(ROW(F311:F323))+1, \"\"), ROW() -310 )), \"\")","v":""}]
[null,"Oklahoma State University",null,"11-412060","Collen Campbell","V",null,2438.0,null,false,{"$nulls":17},{"$f":"IFERROR(INDEX(B311:B323, SMALL(IF(\"V\"=F311:F323, ROW(F311:F323)-MIN(ROW(F311:F323))+1, \"\"), ROW() -310 )), \"\")","v":"Oklahoma State University"},{"$f":"IFERROR(INDEX(C311:C323, SMALL(IF(\"V\"=F311:F323, ROW(F311:F323)-MIN(ROW(F311:F323))+1, \"\"), ROW() -310 )), \"\")","v":""},{"$f":"IFERROR(INDEX(D311:D323, SMALL(IF(\"V\"=F311:F323, ROW(F311:F323)-MIN(ROW(F311:F323))+1, \"\"), ROW() -310 )), \"\")","v":"11-412060"},{"$f":"IFERROR(INDEX(E311:E323, SMALL(IF(\"V\"=F311:F323, ROW(F311:F323)-MIN(ROW(F311:F323))+1, \"\"), ROW() -310 )), \"\")","v":"Collen Campbell"},{"$f":"IFERROR(INDEX(B311:B323, SMALL(IF(ISNUMBER(SEARCH(\"JV1\",F311:F323)), ROW(F311:F323)-MIN(ROW(F311:F323))+1, \"\"), ROW() -310 )), \"\")","v":""},{"$f":"IFERROR(INDEX(C311:C323, SMALL(IF(ISNUMBER(SEARCH(\"JV1\",F311:F323)), ROW(F311:F323)-MIN(ROW(F311:F323))+1, \"\"), ROW() -310 )), \"\")","v":""},{"$f":"IFERROR(INDEX(D311:D323, SMALL(IF(ISNUMBER(SEARCH(\"JV1\",F311:F323)), ROW(F311:F323)-MIN(ROW(F311:F323))+1, \"\"), ROW() -310 )), \"\")","v":""},{"$f":"IFERROR(INDEX(E311:E323, SMALL(IF(ISNUMBER(SEARCH(\"JV1\",F311:F323)), ROW(F311:F323)-MIN(ROW(F311:F323))+1, \"\"), ROW() -310 )), \"\")","v":""},{"$f":"IFERROR(INDEX(B311:B323, SMALL(IF(ISNUMBER(SEARCH(\"JV2\",F311:F323)), ROW(F311:F323)-MIN(ROW(F311:F323))+1, \"\"), ROW() -310 )), \"\")","v":""},{"$f":"IFERROR(INDEX(C311:C323, SMALL(IF(ISNUMBER(SEARCH(\"JV2\",F311:F323)), ROW(F311:F323)-MIN(ROW(F311:F323))+1, \"\"), ROW() -310 )), \"\")","v":""},{"$f":"IFERROR(INDEX(D311:D323, SMALL(IF(ISNUMBER(SEARCH(\"JV2\",F311:F323)), ROW(F311:F323)-MIN(ROW(F311:F323))+1, \"\"), ROW() -310 )), \"\")","v":""},{"$f":"IFERROR(INDEX(E311:E323, SMALL(IF(ISNUMBER(SEARCH(\"JV2\",F311:F323)), ROW(F311:F323)-MIN(ROW(F311:F323))+1, \"\"), ROW() -310 )), \"\")","v":""}]
[null,"Oklahoma State University",null,"11-704413","Dakota Doctor"," ",null,2438.0,null,false,{"$nulls":17},{"$f":"IFERROR(INDEX(B311:B323, SMALL(IF(\"V\"=F311:F323, ROW(F311:F323)-MIN(ROW(F311:F323))+1, \"\"), ROW() -310 )), \"\")","v":"Oklahoma State University"},{"$f":"IFERROR(INDEX(C311:C323, SMALL(IF(\"V\"=F311:F323, ROW(F311:F323)-MIN(ROW(F311:F323))+1, \"\"), ROW() -310 )), \"\")","v":""},{"$f":"IFERROR(INDEX(D311:D323, SMALL(IF(\"V\"=F311:F323, ROW(F311:F323)-MIN(ROW(F311:F323))+1, \"\"), ROW() -310 )), \"\")","v":"22-17669"},{"$f":"IFERROR(INDEX(E311:E323, SMALL(IF(\"V\"=F311:F323, ROW(F311:F323)-MIN(ROW(F311:F323))+1, \"\"), ROW() -310 )), \"\")","v":"Hunter Richards"},{"$f":"IFERROR(INDEX(B311:B323, SMALL(IF(ISNUMBER(SEARCH(\"JV1\",F311:F323)), ROW(F311:F323)-MIN(ROW(F311:F323))+1, \"\"), ROW() -310 )), \"\")","v":""},{"$f":"IFERROR(INDEX(C311:C323, SMALL(IF(ISNUMBER(SEARCH(\"JV1\",F311:F323)), ROW(F311:F323)-MIN(ROW(F311:F323))+1, \"\"), ROW() -310 )), \"\")","v":""},{"$f":"IFERROR(INDEX(D311:D323, SMALL(IF(ISNUMBER(SEARCH(\"JV1\",F311:F323)), ROW(F311:F323)-MIN(ROW(F311:F323))+1, \"\"), ROW() -310 )), \"\")","v":""},{"$f":"IFERROR(INDEX(E311:E323, SMALL(IF(ISNUMBER(SEARCH(\"JV1\",F311:F323)), ROW(F311:F323)-MIN(ROW(F311:F323))+1, \"\"), ROW() -310 )), \"\")","v":""},{"$f":"IFERROR(INDEX(B311:B323, SMALL(IF(ISNUMBER(SEARCH(\"JV2\",F311:F323)), ROW(F311:F323)-MIN(ROW(F311:F323))+1, \"\"), ROW() -310 )), \"\")","v":""},{"$f":"IFERROR(INDEX(C311:C323, SMALL(IF(ISNUMBER(SEARCH(\"JV2\",F311:F323)), ROW(F311:F323)-MIN(ROW(F311:F323))+1, \"\"), ROW() -310 )), \"\")","v":""},{"$f":"IFERROR(INDEX(D311:D323, SMALL(IF(ISNUMBER(SEARCH(\"JV2\",F311:F323)), ROW(F311:F323)-MIN(ROW(F311:F323))+1, \"\"), ROW() -310 )), \"\")","v":""},{"$f":"IFERROR(INDEX(E311:E323, SMALL(IF(ISNUMBER(SEARCH(\"JV2\",F311:F323)), ROW(F311:F323)-MIN(ROW(F311:F323))+1, \"\"), ROW() -310 )), \"\")","v":""}]
[null,"Oklahoma State University",null,"21-65683","Garrison Stebens"," ",null,2438.0,null,false,{"$nulls":17},{"$f":"IFERROR(INDEX(B311:B323, SMALL(IF(\"V\"=F311:F323, ROW(F311:F323)-MIN(ROW(F311:F323))+1, \"\"), ROW() -310 )), \"\")","v":"Oklahoma State University"},{"$f":"IFERROR(INDEX(C311:C323, SMALL(IF(\"V\"=F311:F323, ROW(F311:F323)-MIN(ROW(F311:F323))+1, \"\"), ROW() -310 )), \"\")","v":""},{"$f":"IFERROR(INDEX(D311:D323, SMALL(IF(\"V\"=F311:F323, ROW(F311:F323)-MIN(ROW(F311:F323))+1, \"\"), ROW() -310 )), \"\")","v":"11-317456"},{"$f":"IFERROR(INDEX(E311:E323, SMALL(IF(\"V\"=F311:F323, ROW(F311:F323)-MIN(ROW(F311:F323))+1, \"\"), ROW() -310 )), \"\")","v":"Jacob Johns"},{"$f":"IFERROR(INDEX(B311:B323, SMALL(IF(ISNUMBER(SEARCH(\"JV1\",F311:F323)), ROW(F311:F323)-MIN(ROW(F311:F323))+1, \"\"), ROW() -310 )), \"\")","v":""},{"$f":"IFERROR(INDEX(C311:C323, SMALL(IF(ISNUMBER(SEARCH(\"JV1\",F311:F323)), ROW(F311:F323)-MIN(ROW(F311:F323))+1, \"\"), ROW() -310 )), \"\")","v":""},{"$f":"IFERROR(INDEX(D311:D323, SMALL(IF(ISNUMBER(SEARCH(\"JV1\",F311:F323)), ROW(F311:F323)-MIN(ROW(F311:F323))+1, \"\"), ROW() -310 )), \"\")","v":""},{"$f":"IFERROR(INDEX(E311:E323, SMALL(IF(ISNUMBER(SEARCH(\"JV1\",F311:F323)), ROW(F311:F323)-MIN(ROW(F311:F323))+1, \"\"), ROW() -310 )), \"\")","v":""},{"$f":"IFERROR(INDEX(B311:B323, SMALL(IF(ISNUMBER(SEARCH(\"JV2\",F311:F323)), ROW(F311:F323)-MIN(ROW(F311:F323))+1, \"\"), ROW() -310 )), \"\")","v":""},{"$f":"IFERROR(INDEX(C311:C323, SMALL(IF(ISNUMBER(SEARCH(\"JV2\",F311:F323)), ROW(F311:F323)-MIN(ROW(F311:F323))+1, \"\"), ROW() -310 )), \"\")","v":""},{"$f":"IFERROR(INDEX(D311:D323, SMALL(IF(ISNUMBER(SEARCH(\"JV2\",F311:F323)), ROW(F311:F323)-MIN(ROW(F311:F323))+1, \"\"), ROW() -310 )), \"\")","v":""},{"$f":"IFERROR(INDEX(E311:E323, SMALL(IF(ISNUMBER(SEARCH(\"JV2\",F311:F323)), ROW(F311:F323)-MIN(ROW(F311:F323))+1, \"\"), ROW() -310 )), \"\")","v":""}]
[null,"Oklahoma State University",null,"22-17669","Hunter Richards","V",null,2438.0,null,false,{"$nulls":17},{"$f":"IFERROR(INDEX(B311:B323, SMALL(IF(\"V\"=F311:F323, ROW(F311:F323)-MIN(ROW(F311:F323))+1, \"\"), ROW() -310 )), \"\")","v":"Oklahoma State University"},{"$f":"IFERROR(INDEX(C311:C323, SMALL(IF(\"V\"=F311:F323, ROW(F311:F323)-MIN(ROW(F311:F323))+1, \"\"), ROW() -310 )), \"\")","v":""},{"$f":"IFERROR(INDEX(D311:D323, SMALL(IF(\"V\"=F311:F323, ROW(F311:F323)-MIN(ROW(F311:F323))+1, \"\"), ROW() -310 )), \"\")","v":"17-107448"},{"$f":"IFERROR(INDEX(E311:E323, SMALL(IF(\"V\"=F311:F323, ROW(F311:F323)-MIN(ROW(F311:F323))+1, \"\"), ROW() -310 )), \"\")","v":"Mason Martin"},{"$f":"IFERROR(INDEX(B311:B323, SMALL(IF(ISNUMBER(SEARCH(\"JV1\",F311:F323)), ROW(F311:F323)-MIN(ROW(F311:F323))+1, \"\"), ROW() -310 )), \"\")","v":""},{"$f":"IFERROR(INDEX(C311:C323, SMALL(IF(ISNUMBER(SEARCH(\"JV1\",F311:F323)), ROW(F311:F323)-MIN(ROW(F311:F323))+1, \"\"), ROW() -310 )), \"\")","v":""},{"$f":"IFERROR(INDEX(D311:D323, SMALL(IF(ISNUMBER(SEARCH(\"JV1\",F311:F323)), ROW(F311:F323)-MIN(ROW(F311:F323))+1, \"\"), ROW() -310 )), \"\")","v":""},{"$f":"IFERROR(INDEX(E311:E323, SMALL(IF(ISNUMBER(SEARCH(\"JV1\",F311:F323)), ROW(F311:F323)-MIN(ROW(F311:F323))+1, \"\"), ROW() -310 )), \"\")","v":""},{"$f":"IFERROR(INDEX(B311:B323, SMALL(IF(ISNUMBER(SEARCH(\"JV2\",F311:F323)), ROW(F311:F323)-MIN(ROW(F311:F323))+1, \"\"), ROW() -310 )), \"\")","v":""},{"$f":"IFERROR(INDEX(C311:C323, SMALL(IF(ISNUMBER(SEARCH(\"JV2\",F311:F323)), ROW(F311:F323)-MIN(ROW(F311:F323))+1, \"\"), ROW() -310 )), \"\")","v":""},{"$f":"IFERROR(INDEX(D311:D323, SMALL(IF(ISNUMBER(SEARCH(\"JV2\",F311:F323)), ROW(F311:F323)-MIN(ROW(F311:F323))+1, \"\"), ROW() -310 )), \"\")","v":""},{"$f":"IFERROR(INDEX(E311:E323, SMALL(IF(ISNUMBER(SEARCH(\"JV2\",F311:F323)), ROW(F311:F323)-MIN(ROW(F311:F323))+1, \"\"), ROW() -310 )), \"\")","v":""}]
[null,"Oklahoma State University",null,"9030-9169","Jacob Brennan"," ",null,2438.0,null,false,{"$nulls":17},{"$f":"IFERROR(INDEX(B311:B323, SMALL(IF(\"V\"=F311:F323, ROW(F311:F323)-MIN(ROW(F311:F323))+1, \"\"), ROW() -310 )), \"\")","v":"Oklahoma State University"},{"$f":"IFERROR(INDEX(C311:C323, SMALL(IF(\"V\"=F311:F323, ROW(F311:F323)-MIN(ROW(F311:F323))+1, \"\"), ROW() -310 )), \"\")","v":""},{"$f":"IFERROR(INDEX(D311:D323, SMALL(IF(\"V\"=F311:F323, ROW(F311:F323)-MIN(ROW(F311:F323))+1, \"\"), ROW() -310 )), \"\")","v":"6507-11763"},{"$f":"IFERROR(INDEX(E311:E323, SMALL(IF(\"V\"=F311:F323, ROW(F311:F323)-MIN(ROW(F311:F323))+1, \"\"), ROW() -310 )), \"\")","v":"Zach Hathaway"},{"$f":"IFERROR(INDEX(B311:B323, SMALL(IF(ISNUMBER(SEARCH(\"JV1\",F311:F323)), ROW(F311:F323)-MIN(ROW(F311:F323))+1, \"\"), ROW() -310 )), \"\")","v":""},{"$f":"IFERROR(INDEX(C311:C323, SMALL(IF(ISNUMBER(SEARCH(\"JV1\",F311:F323)), ROW(F311:F323)-MIN(ROW(F311:F323))+1, \"\"), ROW() -310 )), \"\")","v":""},{"$f":"IFERROR(INDEX(D311:D323, SMALL(IF(ISNUMBER(SEARCH(\"JV1\",F311:F323)), ROW(F311:F323)-MIN(ROW(F311:F323))+1, \"\"), ROW() -310 )), \"\")","v":""},{"$f":"IFERROR(INDEX(E311:E323, SMALL(IF(ISNUMBER(SEARCH(\"JV1\",F311:F323)), ROW(F311:F323)-MIN(ROW(F311:F323))+1, \"\"), ROW() -310 )), \"\")","v":""},{"$f":"IFERROR(INDEX(B311:B323, SMALL(IF(ISNUMBER(SEARCH(\"JV2\",F311:F323)), ROW(F311:F323)-MIN(ROW(F311:F323))+1, \"\"), ROW() -310 )), \"\")","v":""},{"$f":"IFERROR(INDEX(C311:C323, SMALL(IF(ISNUMBER(SEARCH(\"JV2\",F311:F323)), ROW(F311:F323)-MIN(ROW(F311:F323))+1, \"\"), ROW() -310 )), \"\")","v":""},{"$f":"IFERROR(INDEX(D311:D323, SMALL(IF(ISNUMBER(SEARCH(\"JV2\",F311:F323)), ROW(F311:F323)-MIN(ROW(F311:F323))+1, \"\"), ROW() -310 )), \"\")","v":""},{"$f":"IFERROR(INDEX(E311:E323, SMALL(IF(ISNUMBER(SEARCH(\"JV2\",F311:F323)), ROW(F311:F323)-MIN(ROW(F311:F323))+1, \"\"), ROW() -310 )), \"\")","v":""}]
[null,"Oklahoma State University",null,"11-317456","Jacob Johns","V",null,2438.0,null,false]
[null,"Oklahoma State University",null,"8661-10593","Jacob Martin"," ",null,2438.0,null,false]
[null,"Oklahoma State University",null,"22-17674","Luke Epperson"," ",null,2438.0,null,false]
[null,"Oklahoma State University",null,"17-107448","Mason Martin","V",null,2438.0,null,false]
[null,"Oklahoma State University",null,"6507-11763","Zach Hathaway","V",null,2438.0,null,false]
[null,"Ottawa University (KS)",null,"8756-13138","Brendan Iaulualo","V",null,4459.0,null,false,{"$nulls":17},{"$f":"IFERROR(INDEX(B324:B336, SMALL(IF(\"V\"=F324:F336, ROW(F324:F336)-MIN(ROW(F324:F336))+1, \"\"), ROW() -323 )), \"\")","v":"Ottawa University (KS)"},{"$f":"IFERROR(INDEX(C324:C336, SMALL(IF(\"V\"=F324:F336, ROW(F324:F336)-MIN(ROW(F324:F336))+1, \"\"), ROW() -323 )), \"\")","v":""},{"$f":"IFERROR(INDEX(D324:D336, SMALL(IF(\"V\"=F324:F336, ROW(F324:F336)-MIN(ROW(F324:F336))+1, \"\"), ROW() -323 )), \"\")","v":"8756-13138"},{"$f":"IFERROR(INDEX(E324:E336, SMALL(IF(\"V\"=F324:F336, ROW(F324:F336)-MIN(ROW(F324:F336))+1, \"\"), ROW() -323 )), \"\")","v":"Brendan Iaulualo"},{"$f":"IFERROR(INDEX(B324:B336, SMALL(IF(ISNUMBER(SEARCH(\"JV1\",F324:F336)), ROW(F324:F336)-MIN(ROW(F324:F336))+1, \"\"), ROW() -323 )), \"\")","v":"Ottawa University (KS)"},{"$f":"IFERROR(INDEX(C324:C336, SMALL(IF(ISNUMBER(SEARCH(\"JV1\",F324:F336)), ROW(F324:F336)-MIN(ROW(F324:F336))+1, \"\"), ROW() -323 )), \"\")","v":""},{"$f":"IFERROR(INDEX(D324:D336, SMALL(IF(ISNUMBER(SEARCH(\"JV1\",F324:F336)), ROW(F324:F336)-MIN(ROW(F324:F336))+1, \"\"), ROW() -323 )), \"\")","v":"11-663062"},{"$f":"IFERROR(INDEX(E324:E336, SMALL(IF(ISNUMBER(SEARCH(\"JV1\",F324:F336)), ROW(F324:F336)-MIN(ROW(F324:F336))+1, \"\"), ROW() -323 )), \"\")","v":"Cole Clough"},{"$f":"IFERROR(INDEX(B324:B336, SMALL(IF(ISNUMBER(SEARCH(\"JV2\",F324:F336)), ROW(F324:F336)-MIN(ROW(F324:F336))+1, \"\"), ROW() -323 )), \"\")","v":""},{"$f":"IFERROR(INDEX(C324:C336, SMALL(IF(ISNUMBER(SEARCH(\"JV2\",F324:F336)), ROW(F324:F336)-MIN(ROW(F324:F336))+1, \"\"), ROW() -323 )), \"\")","v":""},{"$f":"IFERROR(INDEX(D324:D336, SMALL(IF(ISNUMBER(SEARCH(\"JV2\",F324:F336)), ROW(F324:F336)-MIN(ROW(F324:F336))+1, \"\"), ROW() -323 )), \"\")","v":""},{"$f":"IFERROR(INDEX(E324:E336, SMALL(IF(ISNUMBER(SEARCH(\"JV2\",F324:F336)), ROW(F324:F336)-MIN(ROW(F324:F336))+1, \"\"), ROW() -323 )), \"\")","v":""}]
[null,"Ottawa University (KS)",null,"11-663062","Cole Clough","JV1",null,4459.0,null,false,{"$nulls":17},{"$f":"IFERROR(INDEX(B324:B336, SMALL(IF(\"V\"=F324:F336, ROW(F324:F336)-MIN(ROW(F324:F336))+1, \"\"), ROW() -323 )), \"\")","v":"Ottawa University (KS)"},{"$f":"IFERROR(INDEX(C324:C336, SMALL(IF(\"V\"=F324:F336, ROW(F324:F336)-MIN(ROW(F324:F336))+1, \"\"), ROW() -323 )), \"\")","v":""},{"$f":"IFERROR(INDEX(D324:D336, SMALL(IF(\"V\"=F324:F336, ROW(F324:F336)-MIN(ROW(F324:F336))+1, \"\"), ROW() -323 )), \"\")","v":"5900-23017"},{"$f":"IFERROR(INDEX(E324:E336, SMALL(IF(\"V\"=F324:F336, ROW(F324:F336)-MIN(ROW(F324:F336))+1, \"\"), ROW() -323 )), \"\")","v":"Jared Freed"},{"$f":"IFERROR(INDEX(B324:B336, SMALL(IF(ISNUMBER(SEARCH(\"JV1\",F324:F336)), ROW(F324:F336)-MIN(ROW(F324:F336))+1, \"\"), ROW() -323 )), \"\")","v":"Ottawa University (KS)"},{"$f":"IFERROR(INDEX(C324:C336, SMALL(IF(ISNUMBER(SEARCH(\"JV1\",F324:F336)), ROW(F324:F336)-MIN(ROW(F324:F336))+1, \"\"), ROW() -323 )), \"\")","v":""},{"$f":"IFERROR(INDEX(D324:D336, SMALL(IF(ISNUMBER(SEARCH(\"JV1\",F324:F336)), ROW(F324:F336)-MIN(ROW(F324:F336))+1, \"\"), ROW() -323 )), \"\")","v":"11-629159"},{"$f":"IFERROR(INDEX(E324:E336, SMALL(IF(ISNUMBER(SEARCH(\"JV1\",F324:F336)), ROW(F324:F336)-MIN(ROW(F324:F336))+1, \"\"), ROW() -323 )), \"\")","v":"Ian Carpenter"},{"$f":"IFERROR(INDEX(B324:B336, SMALL(IF(ISNUMBER(SEARCH(\"JV2\",F324:F336)), ROW(F324:F336)-MIN(ROW(F324:F336))+1, \"\"), ROW() -323 )), \"\")","v":""},{"$f":"IFERROR(INDEX(C324:C336, SMALL(IF(ISNUMBER(SEARCH(\"JV2\",F324:F336)), ROW(F324:F336)-MIN(ROW(F324:F336))+1, \"\"), ROW() -323 )), \"\")","v":""},{"$f":"IFERROR(INDEX(D324:D336, SMALL(IF(ISNUMBER(SEARCH(\"JV2\",F324:F336)), ROW(F324:F336)-MIN(ROW(F324:F336))+1, \"\"), ROW() -323 )), \"\")","v":""},{"$f":"IFERROR(INDEX(E324:E336, SMALL(IF(ISNUMBER(SEARCH(\"JV2\",F324:F336)), ROW(F324:F336)-MIN(ROW(F324:F336))+1, \"\"), ROW() -323 )), \"\")","v":""}]
[null,"Ottawa University (KS)",null,"11-629159","Ian Carpenter","JV1",null,4459.0,null,false,{"$nulls":17},{"$f":"IFERROR(INDEX(B324:B336, SMALL(IF(\"V\"=F324:F336, ROW(F324:F336)-MIN(ROW(F324:F336))+1, \"\"), ROW() -323 )), \"\")","v":"Ottawa University (KS)"},{"$f":"IFERROR(INDEX(C324:C336, SMALL(IF(\"V\"=F324:F336, ROW(F324:F336)-MIN(ROW(F324:F336))+1, \"\"), ROW() -323 )), \"\")","v":""},{"$f":"IFERROR(INDEX(D324:D336, SMALL(IF(\"V\"=F324:F336, ROW(F324:F336)-MIN(ROW(F324:F336))+1, \"\"), ROW() -323 )), \"\")","v":"8608-3907"},{"$f":"IFERROR(INDEX(E324:E336, SMALL(IF(\"V\"=F324:F336, ROW(F324:F336)-MIN(ROW(F324:F336))+1, \"\"), ROW() -323 )), \"\")","v":"Jerry Jennings"},{"$f":"IFERROR(INDEX(B324:B336, SMALL(IF(ISNUMBER(SEARCH(\"JV1\",F324:F336)), ROW(F324:F336)-MIN(ROW(F324:F336))+1, \"\"), ROW() -323 )), \"\")","v":"Ottawa University (KS)"},{"$f":"IFERROR(INDEX(C324:C336, SMALL(IF(ISNUMBER(SEARCH(\"JV1\",F324:F336)), ROW(F324:F336)-MIN(ROW(F324:F336))+1, \"\"), ROW() -323 )), \"\")","v":""},{"$f":"IFERROR(INDEX(D324:D336, SMALL(IF(ISNUMBER(SEARCH(\"JV1\",F324:F336)), ROW(F324:F336)-MIN(ROW(F324:F336))+1, \"\"), ROW() -323 )), \"\")","v":"18-65090"},{"$f":"IFERROR(INDEX(E324:E336, SMALL(IF(ISNUMBER(SEARCH(\"JV1\",F324:F336)), ROW(F324:F336)-MIN(ROW(F324:F336))+1, \"\"), ROW() -323 )), \"\")","v":"Josh King"},{"$f":"IFERROR(INDEX(B324:B336, SMALL(IF(ISNUMBER(SEARCH(\"JV2\",F324:F336)), ROW(F324:F336)-MIN(ROW(F324:F336))+1, \"\"), ROW() -323 )), \"\")","v":""},{"$f":"IFERROR(INDEX(C324:C336, SMALL(IF(ISNUMBER(SEARCH(\"JV2\",F324:F336)), ROW(F324:F336)-MIN(ROW(F324:F336))+1, \"\"), ROW() -323 )), \"\")","v":""},{"$f":"IFERROR(INDEX(D324:D336, SMALL(IF(ISNUMBER(SEARCH(\"JV2\",F324:F336)), ROW(F324:F336)-MIN(ROW(F324:F336))+1, \"\"), ROW() -323 )), \"\")","v":""},{"$f":"IFERROR(INDEX(E324:E336, SMALL(IF(ISNUMBER(SEARCH(\"JV2\",F324:F336)), ROW(F324:F336)-MIN(ROW(F324:F336))+1, \"\"), ROW() -323 )), \"\")","v":""}]
[null,"Ottawa University (KS)",null,"5900-23017","Jared Freed","V",null,4459.0,null,false,{"$nulls":17},{"$f":"IFERROR(INDEX(B324:B336, SMALL(IF(\"V\"=F324:F336, ROW(F324:F336)-MIN(ROW(F324:F336))+1, \"\"), ROW() -323 )), \"\")","v":"Ottawa University (KS)"},{"$f":"IFERROR(INDEX(C324:C336, SMALL(IF(\"V\"=F324:F336, ROW(F324:F336)-MIN(ROW(F324:F336))+1, \"\"), ROW() -323 )), \"\")","v":""},{"$f":"IFERROR(INDEX(D324:D336, SMALL(IF(\"V\"=F324:F336, ROW(F324:F336)-MIN(ROW(F324:F336))+1, \"\"), ROW() -323 )), \"\")","v":"5900-20916"},{"$f":"IFERROR(INDEX(E324:E336, SMALL(IF(\"V\"=F324:F336, ROW(F324:F336)-MIN(ROW(F324:F336))+1, \"\"), ROW() -323 )), \"\")","v":"Kristopher Quidachay"},{"$f":"IFERROR(INDEX(B324:B336, SMALL(IF(ISNUMBER(SEARCH(\"JV1\",F324:F336)), ROW(F324:F336)-MIN(ROW(F324:F336))+1, \"\"), ROW() -323 )), \"\")","v":"Ottawa University (KS)"},{"$f":"IFERROR(INDEX(C324:C336, SMALL(IF(ISNUMBER(SEARCH(\"JV1\",F324:F336)), ROW(F324:F336)-MIN(ROW(F324:F336))+1, \"\"), ROW() -323 )), \"\")","v":""},{"$f":"IFERROR(INDEX(D324:D336, SMALL(IF(ISNUMBER(SEARCH(\"JV1\",F324:F336)), ROW(F324:F336)-MIN(ROW(F324:F336))+1, \"\"), ROW() -323 )), \"\")","v":"19-44138"},{"$f":"IFERROR(INDEX(E324:E336, SMALL(IF(ISNUMBER(SEARCH(\"JV1\",F324:F336)), ROW(F324:F336)-MIN(ROW(F324:F336))+1, \"\"), ROW() -323 )), \"\")","v":"Joshua Bauder"},{"$f":"IFERROR(INDEX(B324:B336, SMALL(IF(ISNUMBER(SEARCH(\"JV2\",F324:F336)), ROW(F324:F336)-MIN(ROW(F324:F336))+1, \"\"), ROW() -323 )), \"\")","v":""},{"$f":"IFERROR(INDEX(C324:C336, SMALL(IF(ISNUMBER(SEARCH(\"JV2\",F324:F336)), ROW(F324:F336)-MIN(ROW(F324:F336))+1, \"\"), ROW() -323 )), \"\")","v":""},{"$f":"IFERROR(INDEX(D324:D336, SMALL(IF(ISNUMBER(SEARCH(\"JV2\",F324:F336)), ROW(F324:F336)-MIN(ROW(F324:F336))+1, \"\"), ROW() -323 )), \"\")","v":""},{"$f":"IFERROR(INDEX(E324:E336, SMALL(IF(ISNUMBER(SEARCH(\"JV2\",F324:F336)), ROW(F324:F336)-MIN(ROW(F324:F336))+1, \"\"), ROW() -323 )), \"\")","v":""}]
[null,"Ottawa University (KS)",null,"8608-3907","Jerry Jennings","v",null,4459.0,null,false,{"$nulls":17},{"$f":"IFERROR(INDEX(B324:B336, SMALL(IF(\"V\"=F324:F336, ROW(F324:F336)-MIN(ROW(F324:F336))+1, \"\"), ROW() -323 )), \"\")","v":"Ottawa University (KS)"},{"$f":"IFERROR(INDEX(C324:C336, SMALL(IF(\"V\"=F324:F336, ROW(F324:F336)-MIN(ROW(F324:F336))+1, \"\"), ROW() -323 )), \"\")","v":""},{"$f":"IFERROR(INDEX(D324:D336, SMALL(IF(\"V\"=F324:F336, ROW(F324:F336)-MIN(ROW(F324:F336))+1, \"\"), ROW() -323 )), \"\")","v":"5900-23216"},{"$f":"IFERROR(INDEX(E324:E336, SMALL(IF(\"V\"=F324:F336, ROW(F324:F336)-MIN(ROW(F324:F336))+1, \"\"), ROW() -323 )), \"\")","v":"Kyle Lovell"},{"$f":"IFERROR(INDEX(B324:B336, SMALL(IF(ISNUMBER(SEARCH(\"JV1\",F324:F336)), ROW(F324:F336)-MIN(ROW(F324:F336))+1, \"\"), ROW() -323 )), \"\")","v":"Ottawa University (KS)"},{"$f":"IFERROR(INDEX(C324:C336, SMALL(IF(ISNUMBER(SEARCH(\"JV1\",F324:F336)), ROW(F324:F336)-MIN(ROW(F324:F336))+1, \"\"), ROW() -323 )), \"\")","v":""},{"$f":"IFERROR(INDEX(D324:D336, SMALL(IF(ISNUMBER(SEARCH(\"JV1\",F324:F336)), ROW(F324:F336)-MIN(ROW(F324:F336))+1, \"\"), ROW() -323 )), \"\")","v":"16-124170"},{"$f":"IFERROR(INDEX(E324:E336, SMALL(IF(ISNUMBER(SEARCH(\"JV1\",F324:F336)), ROW(F324:F336)-MIN(ROW(F324:F336))+1, \"\"), ROW() -323 )), \"\")","v":"Justin Weddige"},{"$f":"IFERROR(INDEX(B324:B336, SMALL(IF(ISNUMBER(SEARCH(\"JV2\",F324:F336)), ROW(F324:F336)-MIN(ROW(F324:F336))+1, \"\"), ROW() -323 )), \"\")","v":""},{"$f":"IFERROR(INDEX(C324:C336, SMALL(IF(ISNUMBER(SEARCH(\"JV2\",F324:F336)), ROW(F324:F336)-MIN(ROW(F324:F336))+1, \"\"), ROW() -323 )), \"\")","v":""},{"$f":"IFERROR(INDEX(D324:D336, SMALL(IF(ISNUMBER(SEARCH(\"JV2\",F324:F336)), ROW(F324:F336)-MIN(ROW(F324:F336))+1, \"\"), ROW() -323 )), \"\")","v":""},{"$f":"IFERROR(INDEX(E324:E336, SMALL(IF(ISNUMBER(SEARCH(\"JV2\",F324:F336)), ROW(F324:F336)-MIN(ROW(F324:F336))+1, \"\"), ROW() -323 )), \"\")","v":""}]
[null,"Ottawa University (KS)",null,"18-65090","Josh King","JV1",null,4459.0,null,false,{"$nulls":17},{"$f":"IFERROR(INDEX(B324:B336, SMALL(IF(\"V\"=F324:F336, ROW(F324:F336)-MIN(ROW(F324:F336))+1, \"\"), ROW() -323 )), \"\")","v":"Ottawa University (KS)"},{"$f":"IFERROR(INDEX(C324:C336, SMALL(IF(\"V\"=F324:F336, ROW(F324:F336)-MIN(ROW(F324:F336))+1, \"\"), ROW() -323 )), \"\")","v":""},{"$f":"IFERROR(INDEX(D324:D336, SMALL(IF(\"V\"=F324:F336, ROW(F324:F336)-MIN(ROW(F324:F336))+1, \"\"), ROW() -323 )), \"\")","v":"5900-26017"},{"$f":"IFERROR(INDEX(E324:E336, SMALL(IF(\"V\"=F324:F336, ROW(F324:F336)-MIN(ROW(F324:F336))+1, \"\"), ROW() -323 )), \"\")","v":"Spencer Giffin"},{"$f":"IFERROR(INDEX(B324:B336, SMALL(IF(ISNUMBER(SEARCH(\"JV1\",F324:F336)), ROW(F324:F336)-MIN(ROW(F324:F336))+1, \"\"), ROW() -323 )), \"\")","v":"Ottawa University (KS)"},{"$f":"IFERROR(INDEX(C324:C336, SMALL(IF(ISNUMBER(SEARCH(\"JV1\",F324:F336)), ROW(F324:F336)-MIN(ROW(F324:F336))+1, \"\"), ROW() -323 )), \"\")","v":""},{"$f":"IFERROR(INDEX(D324:D336, SMALL(IF(ISNUMBER(SEARCH(\"JV1\",F324:F336)), ROW(F324:F336)-MIN(ROW(F324:F336))+1, \"\"), ROW() -323 )), \"\")","v":"8216-1716"},{"$f":"IFERROR(INDEX(E324:E336, SMALL(IF(ISNUMBER(SEARCH(\"JV1\",F324:F336)), ROW(F324:F336)-MIN(ROW(F324:F336))+1, \"\"), ROW() -323 )), \"\")","v":"Kaden Whitehurst"},{"$f":"IFERROR(INDEX(B324:B336, SMALL(IF(ISNUMBER(SEARCH(\"JV2\",F324:F336)), ROW(F324:F336)-MIN(ROW(F324:F336))+1, \"\"), ROW() -323 )), \"\")","v":""},{"$f":"IFERROR(INDEX(C324:C336, SMALL(IF(ISNUMBER(SEARCH(\"JV2\",F324:F336)), ROW(F324:F336)-MIN(ROW(F324:F336))+1, \"\"), ROW() -323 )), \"\")","v":""},{"$f":"IFERROR(INDEX(D324:D336, SMALL(IF(ISNUMBER(SEARCH(\"JV2\",F324:F336)), ROW(F324:F336)-MIN(ROW(F324:F336))+1, \"\"), ROW() -323 )), \"\")","v":""},{"$f":"IFERROR(INDEX(E324:E336, SMALL(IF(ISNUMBER(SEARCH(\"JV2\",F324:F336)), ROW(F324:F336)-MIN(ROW(F324:F336))+1, \"\"), ROW() -323 )), \"\")","v":""}]
[null,"Ottawa University (KS)",null,"19-44138","Joshua Bauder","JV1",null,4459.0,null,false,{"$nulls":17},{"$f":"IFERROR(INDEX(B324:B336, SMALL(IF(\"V\"=F324:F336, ROW(F324:F336)-MIN(ROW(F324:F336))+1, \"\"), ROW() -323 )), \"\")","v":"Ottawa University (KS)"},{"$f":"IFERROR(INDEX(C324:C336, SMALL(IF(\"V\"=F324:F336, ROW(F324:F336)-MIN(ROW(F324:F336))+1, \"\"), ROW() -323 )), \"\")","v":""},{"$f":"IFERROR(INDEX(D324:D336, SMALL(IF(\"V\"=F324:F336, ROW(F324:F336)-MIN(ROW(F324:F336))+1, \"\"), ROW() -323 )), \"\")","v":"11-677214"},{"$f":"IFERROR(INDEX(E324:E336, SMALL(IF(\"V\"=F324:F336, ROW(F324:F336)-MIN(ROW(F324:F336))+1, \"\"), ROW() -323 )), \"\")","v":"Wesley Outman"},{"$f":"IFERROR(INDEX(B324:B336, SMALL(IF(ISNUMBER(SEARCH(\"JV1\",F324:F336)), ROW(F324:F336)-MIN(ROW(F324:F336))+1, \"\"), ROW() -323 )), \"\")","v":""},{"$f":"IFERROR(INDEX(C324:C336, SMALL(IF(ISNUMBER(SEARCH(\"JV1\",F324:F336)), ROW(F324:F336)-MIN(ROW(F324:F336))+1, \"\"), ROW() -323 )), \"\")","v":""},{"$f":"IFERROR(INDEX(D324:D336, SMALL(IF(ISNUMBER(SEARCH(\"JV1\",F324:F336)), ROW(F324:F336)-MIN(ROW(F324:F336))+1, \"\"), ROW() -323 )), \"\")","v":""},{"$f":"IFERROR(INDEX(E324:E336, SMALL(IF(ISNUMBER(SEARCH(\"JV1\",F324:F336)), ROW(F324:F336)-MIN(ROW(F324:F336))+1, \"\"), ROW() -323 )), \"\")","v":""},{"$f":"IFERROR(INDEX(B324:B336, SMALL(IF(ISNUMBER(SEARCH(\"JV2\",F324:F336)), ROW(F324:F336)-MIN(ROW(F324:F336))+1, \"\"), ROW() -323 )), \"\")","v":""},{"$f":"IFERROR(INDEX(C324:C336, SMALL(IF(ISNUMBER(SEARCH(\"JV2\",F324:F336)), ROW(F324:F336)-MIN(ROW(F324:F336))+1, \"\"), ROW() -323 )), \"\")","v":""},{"$f":"IFERROR(INDEX(D324:D336, SMALL(IF(ISNUMBER(SEARCH(\"JV2\",F324:F336)), ROW(F324:F336)-MIN(ROW(F324:F336))+1, \"\"), ROW() -323 )), \"\")","v":""},{"$f":"IFERROR(INDEX(E324:E336, SMALL(IF(ISNUMBER(SEARCH(\"JV2\",F324:F336)), ROW(F324:F336)-MIN(ROW(F324:F336))+1, \"\"), ROW() -323 )), \"\")","v":""}]
[null,"Ottawa University (KS)",null,"16-124170","Justin Weddige","JV1",null,4459.0,null,false,{"$nulls":17},{"$f":"IFERROR(INDEX(B324:B336, SMALL(IF(\"V\"=F324:F336, ROW(F324:F336)-MIN(ROW(F324:F336))+1, \"\"), ROW() -323 )), \"\")","v":""},{"$f":"IFERROR(INDEX(C324:C336, SMALL(IF(\"V\"=F324:F336, ROW(F324:F336)-MIN(ROW(F324:F336))+1, \"\"), ROW() -323 )), \"\")","v":""},{"$f":"IFERROR(INDEX(D324:D336, SMALL(IF(\"V\"=F324:F336, ROW(F324:F336)-MIN(ROW(F324:F336))+1, \"\"), ROW() -323 )), \"\")","v":""},{"$f":"IFERROR(INDEX(E324:E336, SMALL(IF(\"V\"=F324:F336, ROW(F324:F336)-MIN(ROW(F324:F336))+1, \"\"), ROW() -323 )), \"\")","v":""},{"$f":"IFERROR(INDEX(B324:B336, SMALL(IF(ISNUMBER(SEARCH(\"JV1\",F324:F336)), ROW(F324:F336)-MIN(ROW(F324:F336))+1, \"\"), ROW() -323 )), \"\")","v":""},{"$f":"IFERROR(INDEX(C324:C336, SMALL(IF(ISNUMBER(SEARCH(\"JV1\",F324:F336)), ROW(F324:F336)-MIN(ROW(F324:F336))+1, \"\"), ROW() -323 )), \"\")","v":""},{"$f":"IFERROR(INDEX(D324:D336, SMALL(IF(ISNUMBER(SEARCH(\"JV1\",F324:F336)), ROW(F324:F336)-MIN(ROW(F324:F336))+1, \"\"), ROW() -323 )), \"\")","v":""},{"$f":"IFERROR(INDEX(E324:E336, SMALL(IF(ISNUMBER(SEARCH(\"JV1\",F324:F336)), ROW(F324:F336)-MIN(ROW(F324:F336))+1, \"\"), ROW() -323 )), \"\")","v":""},{"$f":"IFERROR(INDEX(B324:B336, SMALL(IF(ISNUMBER(SEARCH(\"JV2\",F324:F336)), ROW(F324:F336)-MIN(ROW(F324:F336))+1, \"\"), ROW() -323 )), \"\")","v":""},{"$f":"IFERROR(INDEX(C324:C336, SMALL(IF(ISNUMBER(SEARCH(\"JV2\",F324:F336)), ROW(F324:F336)-MIN(ROW(F324:F336))+1, \"\"), ROW() -323 )), \"\")","v":""},{"$f":"IFERROR(INDEX(D324:D336, SMALL(IF(ISNUMBER(SEARCH(\"JV2\",F324:F336)), ROW(F324:F336)-MIN(ROW(F324:F336))+1, \"\"), ROW() -323 )), \"\")","v":""},{"$f":"IFERROR(INDEX(E324:E336, SMALL(IF(ISNUMBER(SEARCH(\"JV2\",F324:F336)), ROW(F324:F336)-MIN(ROW(F324:F336))+1, \"\"), ROW() -323 )), \"\")","v":""}]
[null,"Ottawa University (KS)",null,"8216-1716","Kaden Whitehurst","JV1",null,4459.0,null,false]
[null,"Ottawa University (KS)",null,"5900-20916","Kristopher Quidachay","v",null,4459.0,null,false]
[null,"Ottawa University (KS)",null,"5900-23216","Kyle Lovell","v",null,4459.0,null,false]
[null,"Ottawa University (KS)",null,"5900-26017","Spencer Giffin","v",null,4459.0,null,false]
[null,"Ottawa University (KS)",null,"11-677214","Wesley Outman","v",null,4459.0,null,false]
[null,"Peru State College",null,"11-276735","Creyton Nisly","v",null,4491.0,null,false,{"$nulls":17},{"$f":"IFERROR(INDEX(B337:B346, SMALL(IF(\"V\"=F337:F346, ROW(F337:F346)-MIN(ROW(F337:F346))+1, \"\"), ROW() -336 )), \"\")","v":"Peru State College"},{"$f":"IFERROR(INDEX(C337:C346, SMALL(IF(\"V\"=F337:F346, ROW(F337:F346)-MIN(ROW(F337:F346))+1, \"\"), ROW() -336 )), \"\")","v":""},{"$f":"IFERROR(INDEX(D337:D346, SMALL(IF(\"V\"=F337:F346, ROW(F337:F346)-MIN(ROW(F337:F346))+1, \"\"), ROW() -336 )), \"\")","v":"11-276735"},{"$f":"IFERROR(INDEX(E337:E346, SMALL(IF(\"V\"=F337:F346, ROW(F337:F346)-MIN(ROW(F337:F346))+1, \"\"), ROW() -336 )), \"\")","v":"Creyton Nisly"},{"$f":"IFERROR(INDEX(B337:B346, SMALL(IF(ISNUMBER(SEARCH(\"JV1\",F337:F346)), ROW(F337:F346)-MIN(ROW(F337:F346))+1, \"\"), ROW() -336 )), \"\")","v":""},{"$f":"IFERROR(INDEX(C337:C346, SMALL(IF(ISNUMBER(SEARCH(\"JV1\",F337:F346)), ROW(F337:F346)-MIN(ROW(F337:F346))+1, \"\"), ROW() -336 )), \"\")","v":""},{"$f":"IFERROR(INDEX(D337:D346, SMALL(IF(ISNUMBER(SEARCH(\"JV1\",F337:F346)), ROW(F337:F346)-MIN(ROW(F337:F346))+1, \"\"), ROW() -336 )), \"\")","v":""},{"$f":"IFERROR(INDEX(E337:E346, SMALL(IF(ISNUMBER(SEARCH(\"JV1\",F337:F346)), ROW(F337:F346)-MIN(ROW(F337:F346))+1, \"\"), ROW() -336 )), \"\")","v":""},{"$f":"IFERROR(INDEX(B337:B346, SMALL(IF(ISNUMBER(SEARCH(\"JV2\",F337:F346)), ROW(F337:F346)-MIN(ROW(F337:F346))+1, \"\"), ROW() -336 )), \"\")","v":""},{"$f":"IFERROR(INDEX(C337:C346, SMALL(IF(ISNUMBER(SEARCH(\"JV2\",F337:F346)), ROW(F337:F346)-MIN(ROW(F337:F346))+1, \"\"), ROW() -336 )), \"\")","v":""},{"$f":"IFERROR(INDEX(D337:D346, SMALL(IF(ISNUMBER(SEARCH(\"JV2\",F337:F346)), ROW(F337:F346)-MIN(ROW(F337:F346))+1, \"\"), ROW() -336 )), \"\")","v":""},{"$f":"IFERROR(INDEX(E337:E346, SMALL(IF(ISNUMBER(SEARCH(\"JV2\",F337:F346)), ROW(F337:F346)-MIN(ROW(F337:F346))+1, \"\"), ROW() -336 )), \"\")","v":""}]
[null,"Peru State College",null,"7914-17029","Dane Conner","v",null,4491.0,null,false,{"$nulls":17},{"$f":"IFERROR(INDEX(B337:B346, SMALL(IF(\"V\"=F337:F346, ROW(F337:F346)-MIN(ROW(F337:F346))+1, \"\"), ROW() -336 )), \"\")","v":"Peru State College"},{"$f":"IFERROR(INDEX(C337:C346, SMALL(IF(\"V\"=F337:F346, ROW(F337:F346)-MIN(ROW(F337:F346))+1, \"\"), ROW() -336 )), \"\")","v":""},{"$f":"IFERROR(INDEX(D337:D346, SMALL(IF(\"V\"=F337:F346, ROW(F337:F346)-MIN(ROW(F337:F346))+1, \"\"), ROW() -336 )), \"\")","v":"7914-17029"},{"$f":"IFERROR(INDEX(E337:E346, SMALL(IF(\"V\"=F337:F346, ROW(F337:F346)-MIN(ROW(F337:F346))+1, \"\"), ROW() -336 )), \"\")","v":"Dane Conner"},{"$f":"IFERROR(INDEX(B337:B346, SMALL(IF(ISNUMBER(SEARCH(\"JV1\",F337:F346)), ROW(F337:F346)-MIN(ROW(F337:F346))+1, \"\"), ROW() -336 )), \"\")","v":""},{"$f":"IFERROR(INDEX(C337:C346, SMALL(IF(ISNUMBER(SEARCH(\"JV1\",F337:F346)), ROW(F337:F346)-MIN(ROW(F337:F346))+1, \"\"), ROW() -336 )), \"\")","v":""},{"$f":"IFERROR(INDEX(D337:D346, SMALL(IF(ISNUMBER(SEARCH(\"JV1\",F337:F346)), ROW(F337:F346)-MIN(ROW(F337:F346))+1, \"\"), ROW() -336 )), \"\")","v":""},{"$f":"IFERROR(INDEX(E337:E346, SMALL(IF(ISNUMBER(SEARCH(\"JV1\",F337:F346)), ROW(F337:F346)-MIN(ROW(F337:F346))+1, \"\"), ROW() -336 )), \"\")","v":""},{"$f":"IFERROR(INDEX(B337:B346, SMALL(IF(ISNUMBER(SEARCH(\"JV2\",F337:F346)), ROW(F337:F346)-MIN(ROW(F337:F346))+1, \"\"), ROW() -336 )), \"\")","v":""},{"$f":"IFERROR(INDEX(C337:C346, SMALL(IF(ISNUMBER(SEARCH(\"JV2\",F337:F346)), ROW(F337:F346)-MIN(ROW(F337:F346))+1, \"\"), ROW() -336 )), \"\")","v":""},{"$f":"IFERROR(INDEX(D337:D346, SMALL(IF(ISNUMBER(SEARCH(\"JV2\",F337:F346)), ROW(F337:F346)-MIN(ROW(F337:F346))+1, \"\"), ROW() -336 )), \"\")","v":""},{"$f":"IFERROR(INDEX(E337:E346, SMALL(IF(ISNUMBER(SEARCH(\"JV2\",F337:F346)), ROW(F337:F346)-MIN(ROW(F337:F346))+1, \"\"), ROW() -336 )), \"\")","v":""}]
[null,"Peru State College",null,"11-377455","Isaac Skalak","v",null,4491.0,null,false,{"$nulls":17},{"$f":"IFERROR(INDEX(B337:B346, SMALL(IF(\"V\"=F337:F346, ROW(F337:F346)-MIN(ROW(F337:F346))+1, \"\"), ROW() -336 )), \"\")","v":"Peru State College"},{"$f":"IFERROR(INDEX(C337:C346, SMALL(IF(\"V\"=F337:F346, ROW(F337:F346)-MIN(ROW(F337:F346))+1, \"\"), ROW() -336 )), \"\")","v":""},{"$f":"IFERROR(INDEX(D337:D346, SMALL(IF(\"V\"=F337:F346, ROW(F337:F346)-MIN(ROW(F337:F346))+1, \"\"), ROW() -336 )), \"\")","v":"11-377455"},{"$f":"IFERROR(INDEX(E337:E346, SMALL(IF(\"V\"=F337:F346, ROW(F337:F346)-MIN(ROW(F337:F346))+1, \"\"), ROW() -336 )), \"\")","v":"Isaac Skalak"},{"$f":"IFERROR(INDEX(B337:B346, SMALL(IF(ISNUMBER(SEARCH(\"JV1\",F337:F346)), ROW(F337:F346)-MIN(ROW(F337:F346))+1, \"\"), ROW() -336 )), \"\")","v":""},{"$f":"IFERROR(INDEX(C337:C346, SMALL(IF(ISNUMBER(SEARCH(\"JV1\",F337:F346)), ROW(F337:F346)-MIN(ROW(F337:F346))+1, \"\"), ROW() -336 )), \"\")","v":""},{"$f":"IFERROR(INDEX(D337:D346, SMALL(IF(ISNUMBER(SEARCH(\"JV1\",F337:F346)), ROW(F337:F346)-MIN(ROW(F337:F346))+1, \"\"), ROW() -336 )), \"\")","v":""},{"$f":"IFERROR(INDEX(E337:E346, SMALL(IF(ISNUMBER(SEARCH(\"JV1\",F337:F346)), ROW(F337:F346)-MIN(ROW(F337:F346))+1, \"\"), ROW() -336 )), \"\")","v":""},{"$f":"IFERROR(INDEX(B337:B346, SMALL(IF(ISNUMBER(SEARCH(\"JV2\",F337:F346)), ROW(F337:F346)-MIN(ROW(F337:F346))+1, \"\"), ROW() -336 )), \"\")","v":""},{"$f":"IFERROR(INDEX(C337:C346, SMALL(IF(ISNUMBER(SEARCH(\"JV2\",F337:F346)), ROW(F337:F346)-MIN(ROW(F337:F346))+1, \"\"), ROW() -336 )), \"\")","v":""},{"$f":"IFERROR(INDEX(D337:D346, SMALL(IF(ISNUMBER(SEARCH(\"JV2\",F337:F346)), ROW(F337:F346)-MIN(ROW(F337:F346))+1, \"\"), ROW() -336 )), \"\")","v":""},{"$f":"IFERROR(INDEX(E337:E346, SMALL(IF(ISNUMBER(SEARCH(\"JV2\",F337:F346)), ROW(F337:F346)-MIN(ROW(F337:F346))+1, \"\"), ROW() -336 )), \"\")","v":""}]
[null,"Peru State College",null,"18-73431","Jaden Merkel"," ",null,4491.0,null,false,{"$nulls":17},{"$f":"IFERROR(INDEX(B337:B346, SMALL(IF(\"V\"=F337:F346, ROW(F337:F346)-MIN(ROW(F337:F346))+1, \"\"), ROW() -336 )), \"\")","v":"Peru State College"},{"$f":"IFERROR(INDEX(C337:C346, SMALL(IF(\"V\"=F337:F346, ROW(F337:F346)-MIN(ROW(F337:F346))+1, \"\"), ROW() -336 )), \"\")","v":""},{"$f":"IFERROR(INDEX(D337:D346, SMALL(IF(\"V\"=F337:F346, ROW(F337:F346)-MIN(ROW(F337:F346))+1, \"\"), ROW() -336 )), \"\")","v":"20-53888"},{"$f":"IFERROR(INDEX(E337:E346, SMALL(IF(\"V\"=F337:F346, ROW(F337:F346)-MIN(ROW(F337:F346))+1, \"\"), ROW() -336 )), \"\")","v":"Jett Tolentino"},{"$f":"IFERROR(INDEX(B337:B346, SMALL(IF(ISNUMBER(SEARCH(\"JV1\",F337:F346)), ROW(F337:F346)-MIN(ROW(F337:F346))+1, \"\"), ROW() -336 )), \"\")","v":""},{"$f":"IFERROR(INDEX(C337:C346, SMALL(IF(ISNUMBER(SEARCH(\"JV1\",F337:F346)), ROW(F337:F346)-MIN(ROW(F337:F346))+1, \"\"), ROW() -336 )), \"\")","v":""},{"$f":"IFERROR(INDEX(D337:D346, SMALL(IF(ISNUMBER(SEARCH(\"JV1\",F337:F346)), ROW(F337:F346)-MIN(ROW(F337:F346))+1, \"\"), ROW() -336 )), \"\")","v":""},{"$f":"IFERROR(INDEX(E337:E346, SMALL(IF(ISNUMBER(SEARCH(\"JV1\",F337:F346)), ROW(F337:F346)-MIN(ROW(F337:F346))+1, \"\"), ROW() -336 )), \"\")","v":""},{"$f":"IFERROR(INDEX(B337:B346, SMALL(IF(ISNUMBER(SEARCH(\"JV2\",F337:F346)), ROW(F337:F346)-MIN(ROW(F337:F346))+1, \"\"), ROW() -336 )), \"\")","v":""},{"$f":"IFERROR(INDEX(C337:C346, SMALL(IF(ISNUMBER(SEARCH(\"JV2\",F337:F346)), ROW(F337:F346)-MIN(ROW(F337:F346))+1, \"\"), ROW() -336 )), \"\")","v":""},{"$f":"IFERROR(INDEX(D337:D346, SMALL(IF(ISNUMBER(SEARCH(\"JV2\",F337:F346)), ROW(F337:F346)-MIN(ROW(F337:F346))+1, \"\"), ROW() -336 )), \"\")","v":""},{"$f":"IFERROR(INDEX(E337:E346, SMALL(IF(ISNUMBER(SEARCH(\"JV2\",F337:F346)), ROW(F337:F346)-MIN(ROW(F337:F346))+1, \"\"), ROW() -336 )), \"\")","v":""}]
[null,"Peru State College",null,"6436-419","Jared Dramse"," ",null,4491.0,null,false,{"$nulls":17},{"$f":"IFERROR(INDEX(B337:B346, SMALL(IF(\"V\"=F337:F346, ROW(F337:F346)-MIN(ROW(F337:F346))+1, \"\"), ROW() -336 )), \"\")","v":"Peru State College"},{"$f":"IFERROR(INDEX(C337:C346, SMALL(IF(\"V\"=F337:F346, ROW(F337:F346)-MIN(ROW(F337:F346))+1, \"\"), ROW() -336 )), \"\")","v":""},{"$f":"IFERROR(INDEX(D337:D346, SMALL(IF(\"V\"=F337:F346, ROW(F337:F346)-MIN(ROW(F337:F346))+1, \"\"), ROW() -336 )), \"\")","v":"11-758428"},{"$f":"IFERROR(INDEX(E337:E346, SMALL(IF(\"V\"=F337:F346, ROW(F337:F346)-MIN(ROW(F337:F346))+1, \"\"), ROW() -336 )), \"\")","v":"Justin Brookens"},{"$f":"IFERROR(INDEX(B337:B346, SMALL(IF(ISNUMBER(SEARCH(\"JV1\",F337:F346)), ROW(F337:F346)-MIN(ROW(F337:F346))+1, \"\"), ROW() -336 )), \"\")","v":""},{"$f":"IFERROR(INDEX(C337:C346, SMALL(IF(ISNUMBER(SEARCH(\"JV1\",F337:F346)), ROW(F337:F346)-MIN(ROW(F337:F346))+1, \"\"), ROW() -336 )), \"\")","v":""},{"$f":"IFERROR(INDEX(D337:D346, SMALL(IF(ISNUMBER(SEARCH(\"JV1\",F337:F346)), ROW(F337:F346)-MIN(ROW(F337:F346))+1, \"\"), ROW() -336 )), \"\")","v":""},{"$f":"IFERROR(INDEX(E337:E346, SMALL(IF(ISNUMBER(SEARCH(\"JV1\",F337:F346)), ROW(F337:F346)-MIN(ROW(F337:F346))+1, \"\"), ROW() -336 )), \"\")","v":""},{"$f":"IFERROR(INDEX(B337:B346, SMALL(IF(ISNUMBER(SEARCH(\"JV2\",F337:F346)), ROW(F337:F346)-MIN(ROW(F337:F346))+1, \"\"), ROW() -336 )), \"\")","v":""},{"$f":"IFERROR(INDEX(C337:C346, SMALL(IF(ISNUMBER(SEARCH(\"JV2\",F337:F346)), ROW(F337:F346)-MIN(ROW(F337:F346))+1, \"\"), ROW() -336 )), \"\")","v":""},{"$f":"IFERROR(INDEX(D337:D346, SMALL(IF(ISNUMBER(SEARCH(\"JV2\",F337:F346)), ROW(F337:F346)-MIN(ROW(F337:F346))+1, \"\"), ROW() -336 )), \"\")","v":""},{"$f":"IFERROR(INDEX(E337:E346, SMALL(IF(ISNUMBER(SEARCH(\"JV2\",F337:F346)), ROW(F337:F346)-MIN(ROW(F337:F346))+1, \"\"), ROW() -336 )), \"\")","v":""}]
[null,"Peru State College",null,"20-53888","Jett Tolentino","v",null,4491.0,null,false,{"$nulls":17},{"$f":"IFERROR(INDEX(B337:B346, SMALL(IF(\"V\"=F337:F346, ROW(F337:F346)-MIN(ROW(F337:F346))+1, \"\"), ROW() -336 )), \"\")","v":"Peru State College"},{"$f":"IFERROR(INDEX(C337:C346, SMALL(IF(\"V\"=F337:F346, ROW(F337:F346)-MIN(ROW(F337:F346))+1, \"\"), ROW() -336 )), \"\")","v":""},{"$f":"IFERROR(INDEX(D337:D346, SMALL(IF(\"V\"=F337:F346, ROW(F337:F346)-MIN(ROW(F337:F346))+1, \"\"), ROW() -336 )), \"\")","v":"8232-944"},{"$f":"IFERROR(INDEX(E337:E346, SMALL(IF(\"V\"=F337:F346, ROW(F337:F346)-MIN(ROW(F337:F346))+1, \"\"), ROW() -336 )), \"\")","v":"Stephen Acton"},{"$f":"IFERROR(INDEX(B337:B346, SMALL(IF(ISNUMBER(SEARCH(\"JV1\",F337:F346)), ROW(F337:F346)-MIN(ROW(F337:F346))+1, \"\"), ROW() -336 )), \"\")","v":""},{"$f":"IFERROR(INDEX(C337:C346, SMALL(IF(ISNUMBER(SEARCH(\"JV1\",F337:F346)), ROW(F337:F346)-MIN(ROW(F337:F346))+1, \"\"), ROW() -336 )), \"\")","v":""},{"$f":"IFERROR(INDEX(D337:D346, SMALL(IF(ISNUMBER(SEARCH(\"JV1\",F337:F346)), ROW(F337:F346)-MIN(ROW(F337:F346))+1, \"\"), ROW() -336 )), \"\")","v":""},{"$f":"IFERROR(INDEX(E337:E346, SMALL(IF(ISNUMBER(SEARCH(\"JV1\",F337:F346)), ROW(F337:F346)-MIN(ROW(F337:F346))+1, \"\"), ROW() -336 )), \"\")","v":""},{"$f":"IFERROR(INDEX(B337:B346, SMALL(IF(ISNUMBER(SEARCH(\"JV2\",F337:F346)), ROW(F337:F346)-MIN(ROW(F337:F346))+1, \"\"), ROW() -336 )), \"\")","v":""},{"$f":"IFERROR(INDEX(C337:C346, SMALL(IF(ISNUMBER(SEARCH(\"JV2\",F337:F346)), ROW(F337:F346)-MIN(ROW(F337:F346))+1, \"\"), ROW() -336 )), \"\")","v":""},{"$f":"IFERROR(INDEX(D337:D346, SMALL(IF(ISNUMBER(SEARCH(\"JV2\",F337:F346)), ROW(F337:F346)-MIN(ROW(F337:F346))+1, \"\"), ROW() -336 )), \"\")","v":""},{"$f":"IFERROR(INDEX(E337:E346, SMALL(IF(ISNUMBER(SEARCH(\"JV2\",F337:F346)), ROW(F337:F346)-MIN(ROW(F337:F346))+1, \"\"), ROW() -336 )), \"\")","v":""}]
[null,"Peru State College",null,"11-758428","Justin Brookens","v",null,4491.0,null,false,{"$nulls":17},{"$f":"IFERROR(INDEX(B337:B346, SMALL(IF(\"V\"=F337:F346, ROW(F337:F346)-MIN(ROW(F337:F346))+1, \"\"), ROW() -336 )), \"\")","v":"Peru State College"},{"$f":"IFERROR(INDEX(C337:C346, SMALL(IF(\"V\"=F337:F346, ROW(F337:F346)-MIN(ROW(F337:F346))+1, \"\"), ROW() -336 )), \"\")","v":""},{"$f":"IFERROR(INDEX(D337:D346, SMALL(IF(\"V\"=F337:F346, ROW(F337:F346)-MIN(ROW(F337:F346))+1, \"\"), ROW() -336 )), \"\")","v":"11-713121"},{"$f":"IFERROR(INDEX(E337:E346, SMALL(IF(\"V\"=F337:F346, ROW(F337:F346)-MIN(ROW(F337:F346))+1, \"\"), ROW() -336 )), \"\")","v":"Wyatt Woodward"},{"$f":"IFERROR(INDEX(B337:B346, SMALL(IF(ISNUMBER(SEARCH(\"JV1\",F337:F346)), ROW(F337:F346)-MIN(ROW(F337:F346))+1, \"\"), ROW() -336 )), \"\")","v":""},{"$f":"IFERROR(INDEX(C337:C346, SMALL(IF(ISNUMBER(SEARCH(\"JV1\",F337:F346)), ROW(F337:F346)-MIN(ROW(F337:F346))+1, \"\"), ROW() -336 )), \"\")","v":""},{"$f":"IFERROR(INDEX(D337:D346, SMALL(IF(ISNUMBER(SEARCH(\"JV1\",F337:F346)), ROW(F337:F346)-MIN(ROW(F337:F346))+1, \"\"), ROW() -336 )), \"\")","v":""},{"$f":"IFERROR(INDEX(E337:E346, SMALL(IF(ISNUMBER(SEARCH(\"JV1\",F337:F346)), ROW(F337:F346)-MIN(ROW(F337:F346))+1, \"\"), ROW() -336 )), \"\")","v":""},{"$f":"IFERROR(INDEX(B337:B346, SMALL(IF(ISNUMBER(SEARCH(\"JV2\",F337:F346)), ROW(F337:F346)-MIN(ROW(F337:F346))+1, \"\"), ROW() -336 )), \"\")","v":""},{"$f":"IFERROR(INDEX(C337:C346, SMALL(IF(ISNUMBER(SEARCH(\"JV2\",F337:F346)), ROW(F337:F346)-MIN(ROW(F337:F346))+1, \"\"), ROW() -336 )), \"\")","v":""},{"$f":"IFERROR(INDEX(D337:D346, SMALL(IF(ISNUMBER(SEARCH(\"JV2\",F337:F346)), ROW(F337:F346)-MIN(ROW(F337:F346))+1, \"\"), ROW() -336 )), \"\")","v":""},{"$f":"IFERROR(INDEX(E337:E346, SMALL(IF(ISNUMBER(SEARCH(\"JV2\",F337:F346)), ROW(F337:F346)-MIN(ROW(F337:F346))+1, \"\"), ROW() -336 )), \"\")","v":""}]
[null,"Peru State College",null,"8232-944","Stephen Acton","v",null,4491.0,null,false,{"$nulls":17},{"$f":"IFERROR(INDEX(B337:B346, SMALL(IF(\"V\"=F337:F346, ROW(F337:F346)-MIN(ROW(F337:F346))+1, \"\"), ROW() -336 )), \"\")","v":"Peru State College"},{"$f":"IFERROR(INDEX(C337:C346, SMALL(IF(\"V\"=F337:F346, ROW(F337:F346)-MIN(ROW(F337:F346))+1, \"\"), ROW() -336 )), \"\")","v":""},{"$f":"IFERROR(INDEX(D337:D346, SMALL(IF(\"V\"=F337:F346, ROW(F337:F346)-MIN(ROW(F337:F346))+1, \"\"), ROW() -336 )), \"\")","v":"5900-26805"},{"$f":"IFERROR(INDEX(E337:E346, SMALL(IF(\"V\"=F337:F346, ROW(F337:F346)-MIN(ROW(F337:F346))+1, \"\"), ROW() -336 )), \"\")","v":"Zachary Phillips"},{"$f":"IFERROR(INDEX(B337:B346, SMALL(IF(ISNUMBER(SEARCH(\"JV1\",F337:F346)), ROW(F337:F346)-MIN(ROW(F337:F346))+1, \"\"), ROW() -336 )), \"\")","v":""},{"$f":"IFERROR(INDEX(C337:C346, SMALL(IF(ISNUMBER(SEARCH(\"JV1\",F337:F346)), ROW(F337:F346)-MIN(ROW(F337:F346))+1, \"\"), ROW() -336 )), \"\")","v":""},{"$f":"IFERROR(INDEX(D337:D346, SMALL(IF(ISNUMBER(SEARCH(\"JV1\",F337:F346)), ROW(F337:F346)-MIN(ROW(F337:F346))+1, \"\"), ROW() -336 )), \"\")","v":""},{"$f":"IFERROR(INDEX(E337:E346, SMALL(IF(ISNUMBER(SEARCH(\"JV1\",F337:F346)), ROW(F337:F346)-MIN(ROW(F337:F346))+1, \"\"), ROW() -336 )), \"\")","v":""},{"$f":"IFERROR(INDEX(B337:B346, SMALL(IF(ISNUMBER(SEARCH(\"JV2\",F337:F346)), ROW(F337:F346)-MIN(ROW(F337:F346))+1, \"\"), ROW() -336 )), \"\")","v":""},{"$f":"IFERROR(INDEX(C337:C346, SMALL(IF(ISNUMBER(SEARCH(\"JV2\",F337:F346)), ROW(F337:F346)-MIN(ROW(F337:F346))+1, \"\"), ROW() -336 )), \"\")","v":""},{"$f":"IFERROR(INDEX(D337:D346, SMALL(IF(ISNUMBER(SEARCH(\"JV2\",F337:F346)), ROW(F337:F346)-MIN(ROW(F337:F346))+1, \"\"), ROW() -336 )), \"\")","v":""},{"$f":"IFERROR(INDEX(E337:E346, SMALL(IF(ISNUMBER(SEARCH(\"JV2\",F337:F346)), ROW(F337:F346)-MIN(ROW(F337:F346))+1, \"\"), ROW() -336 )), \"\")","v":""}]
[null,"Peru State College",null,"11-713121","Wyatt Woodward","v",null,4491.0,null,false]
[null,"Peru State College",null,"5900-26805","Zachary Phillips","v",null,4491.0,null,false]
[null,"Quincy University",null,"11-479052","Anthony Lundy","V",null,4469.0,null,false,{"$nulls":17},{"$f":"IFERROR(INDEX(B347:B354, SMALL(IF(\"V\"=F347:F354, ROW(F347:F354)-MIN(ROW(F347:F354))+1, \"\"), ROW() -346 )), \"\")","v":"Quincy University"},{"$f":"IFERROR(INDEX(C347:C354, SMALL(IF(\"V\"=F347:F354, ROW(F347:F354)-MIN(ROW(F347:F354))+1, \"\"), ROW() -346 )), \"\")","v":""},{"$f":"IFERROR(INDEX(D347:D354, SMALL(IF(\"V\"=F347:F354, ROW(F347:F354)-MIN(ROW(F347:F354))+1, \"\"), ROW() -346 )), \"\")","v":"11-479052"},{"$f":"IFERROR(INDEX(E347:E354, SMALL(IF(\"V\"=F347:F354, ROW(F347:F354)-MIN(ROW(F347:F354))+1, \"\"), ROW() -346 )), \"\")","v":"Anthony Lundy"},{"$f":"IFERROR(INDEX(B347:B354, SMALL(IF(ISNUMBER(SEARCH(\"JV1\",F347:F354)), ROW(F347:F354)-MIN(ROW(F347:F354))+1, \"\"), ROW() -346 )), \"\")","v":""},{"$f":"IFERROR(INDEX(C347:C354, SMALL(IF(ISNUMBER(SEARCH(\"JV1\",F347:F354)), ROW(F347:F354)-MIN(ROW(F347:F354))+1, \"\"), ROW() -346 )), \"\")","v":""},{"$f":"IFERROR(INDEX(D347:D354, SMALL(IF(ISNUMBER(SEARCH(\"JV1\",F347:F354)), ROW(F347:F354)-MIN(ROW(F347:F354))+1, \"\"), ROW() -346 )), \"\")","v":""},{"$f":"IFERROR(INDEX(E347:E354, SMALL(IF(ISNUMBER(SEARCH(\"JV1\",F347:F354)), ROW(F347:F354)-MIN(ROW(F347:F354))+1, \"\"), ROW() -346 )), \"\")","v":""},{"$f":"IFERROR(INDEX(B347:B354, SMALL(IF(ISNUMBER(SEARCH(\"JV2\",F347:F354)), ROW(F347:F354)-MIN(ROW(F347:F354))+1, \"\"), ROW() -346 )), \"\")","v":""},{"$f":"IFERROR(INDEX(C347:C354, SMALL(IF(ISNUMBER(SEARCH(\"JV2\",F347:F354)), ROW(F347:F354)-MIN(ROW(F347:F354))+1, \"\"), ROW() -346 )), \"\")","v":""},{"$f":"IFERROR(INDEX(D347:D354, SMALL(IF(ISNUMBER(SEARCH(\"JV2\",F347:F354)), ROW(F347:F354)-MIN(ROW(F347:F354))+1, \"\"), ROW() -346 )), \"\")","v":""},{"$f":"IFERROR(INDEX(E347:E354, SMALL(IF(ISNUMBER(SEARCH(\"JV2\",F347:F354)), ROW(F347:F354)-MIN(ROW(F347:F354))+1, \"\"), ROW() -346 )), \"\")","v":""}]
[null,"Quincy University",null,"18-92281","Brenden Unseld","V",null,4469.0,null,false,{"$nulls":17},{"$f":"IFERROR(INDEX(B347:B354, SMALL(IF(\"V\"=F347:F354, ROW(F347:F354)-MIN(ROW(F347:F354))+1, \"\"), ROW() -346 )), \"\")","v":"Quincy University"},{"$f":"IFERROR(INDEX(C347:C354, SMALL(IF(\"V\"=F347:F354, ROW(F347:F354)-MIN(ROW(F347:F354))+1, \"\"), ROW() -346 )), \"\")","v":""},{"$f":"IFERROR(INDEX(D347:D354, SMALL(IF(\"V\"=F347:F354, ROW(F347:F354)-MIN(ROW(F347:F354))+1, \"\"), ROW() -346 )), \"\")","v":"18-92281"},{"$f":"IFERROR(INDEX(E347:E354, SMALL(IF(\"V\"=F347:F354, ROW(F347:F354)-MIN(ROW(F347:F354))+1, \"\"), ROW() -346 )), \"\")","v":"Brenden Unseld"},{"$f":"IFERROR(INDEX(B347:B354, SMALL(IF(ISNUMBER(SEARCH(\"JV1\",F347:F354)), ROW(F347:F354)-MIN(ROW(F347:F354))+1, \"\"), ROW() -346 )), \"\")","v":""},{"$f":"IFERROR(INDEX(C347:C354, SMALL(IF(ISNUMBER(SEARCH(\"JV1\",F347:F354)), ROW(F347:F354)-MIN(ROW(F347:F354))+1, \"\"), ROW() -346 )), \"\")","v":""},{"$f":"IFERROR(INDEX(D347:D354, SMALL(IF(ISNUMBER(SEARCH(\"JV1\",F347:F354)), ROW(F347:F354)-MIN(ROW(F347:F354))+1, \"\"), ROW() -346 )), \"\")","v":""},{"$f":"IFERROR(INDEX(E347:E354, SMALL(IF(ISNUMBER(SEARCH(\"JV1\",F347:F354)), ROW(F347:F354)-MIN(ROW(F347:F354))+1, \"\"), ROW() -346 )), \"\")","v":""},{"$f":"IFERROR(INDEX(B347:B354, SMALL(IF(ISNUMBER(SEARCH(\"JV2\",F347:F354)), ROW(F347:F354)-MIN(ROW(F347:F354))+1, \"\"), ROW() -346 )), \"\")","v":""},{"$f":"IFERROR(INDEX(C347:C354, SMALL(IF(ISNUMBER(SEARCH(\"JV2\",F347:F354)), ROW(F347:F354)-MIN(ROW(F347:F354))+1, \"\"), ROW() -346 )), \"\")","v":""},{"$f":"IFERROR(INDEX(D347:D354, SMALL(IF(ISNUMBER(SEARCH(\"JV2\",F347:F354)), ROW(F347:F354)-MIN(ROW(F347:F354))+1, \"\"), ROW() -346 )), \"\")","v":""},{"$f":"IFERROR(INDEX(E347:E354, SMALL(IF(ISNUMBER(SEARCH(\"JV2\",F347:F354)), ROW(F347:F354)-MIN(ROW(F347:F354))+1, \"\"), ROW() -346 )), \"\")","v":""}]
[null,"Quincy University",null,"11-479885","Caden Witt","V",null,4469.0,null,false,{"$nulls":17},{"$f":"IFERROR(INDEX(B347:B354, SMALL(IF(\"V\"=F347:F354, ROW(F347:F354)-MIN(ROW(F347:F354))+1, \"\"), ROW() -346 )), \"\")","v":"Quincy University"},{"$f":"IFERROR(INDEX(C347:C354, SMALL(IF(\"V\"=F347:F354, ROW(F347:F354)-MIN(ROW(F347:F354))+1, \"\"), ROW() -346 )), \"\")","v":""},{"$f":"IFERROR(INDEX(D347:D354, SMALL(IF(\"V\"=F347:F354, ROW(F347:F354)-MIN(ROW(F347:F354))+1, \"\"), ROW() -346 )), \"\")","v":"11-479885"},{"$f":"IFERROR(INDEX(E347:E354, SMALL(IF(\"V\"=F347:F354, ROW(F347:F354)-MIN(ROW(F347:F354))+1, \"\"), ROW() -346 )), \"\")","v":"Caden Witt"},{"$f":"IFERROR(INDEX(B347:B354, SMALL(IF(ISNUMBER(SEARCH(\"JV1\",F347:F354)), ROW(F347:F354)-MIN(ROW(F347:F354))+1, \"\"), ROW() -346 )), \"\")","v":""},{"$f":"IFERROR(INDEX(C347:C354, SMALL(IF(ISNUMBER(SEARCH(\"JV1\",F347:F354)), ROW(F347:F354)-MIN(ROW(F347:F354))+1, \"\"), ROW() -346 )), \"\")","v":""},{"$f":"IFERROR(INDEX(D347:D354, SMALL(IF(ISNUMBER(SEARCH(\"JV1\",F347:F354)), ROW(F347:F354)-MIN(ROW(F347:F354))+1, \"\"), ROW() -346 )), \"\")","v":""},{"$f":"IFERROR(INDEX(E347:E354, SMALL(IF(ISNUMBER(SEARCH(\"JV1\",F347:F354)), ROW(F347:F354)-MIN(ROW(F347:F354))+1, \"\"), ROW() -346 )), \"\")","v":""},{"$f":"IFERROR(INDEX(B347:B354, SMALL(IF(ISNUMBER(SEARCH(\"JV2\",F347:F354)), ROW(F347:F354)-MIN(ROW(F347:F354))+1, \"\"), ROW() -346 )), \"\")","v":""},{"$f":"IFERROR(INDEX(C347:C354, SMALL(IF(ISNUMBER(SEARCH(\"JV2\",F347:F354)), ROW(F347:F354)-MIN(ROW(F347:F354))+1, \"\"), ROW() -346 )), \"\")","v":""},{"$f":"IFERROR(INDEX(D347:D354, SMALL(IF(ISNUMBER(SEARCH(\"JV2\",F347:F354)), ROW(F347:F354)-MIN(ROW(F347:F354))+1, \"\"), ROW() -346 )), \"\")","v":""},{"$f":"IFERROR(INDEX(E347:E354, SMALL(IF(ISNUMBER(SEARCH(\"JV2\",F347:F354)), ROW(F347:F354)-MIN(ROW(F347:F354))+1, \"\"), ROW() -346 )), \"\")","v":""}]
[null,"Quincy University",null,"11-697151","Cayden Thoms","V",null,4469.0,null,false,{"$nulls":17},{"$f":"IFERROR(INDEX(B347:B354, SMALL(IF(\"V\"=F347:F354, ROW(F347:F354)-MIN(ROW(F347:F354))+1, \"\"), ROW() -346 )), \"\")","v":"Quincy University"},{"$f":"IFERROR(INDEX(C347:C354, SMALL(IF(\"V\"=F347:F354, ROW(F347:F354)-MIN(ROW(F347:F354))+1, \"\"), ROW() -346 )), \"\")","v":""},{"$f":"IFERROR(INDEX(D347:D354, SMALL(IF(\"V\"=F347:F354, ROW(F347:F354)-MIN(ROW(F347:F354))+1, \"\"), ROW() -346 )), \"\")","v":"11-697151"},{"$f":"IFERROR(INDEX(E347:E354, SMALL(IF(\"V\"=F347:F354, ROW(F347:F354)-MIN(ROW(F347:F354))+1, \"\"), ROW() -346 )), \"\")","v":"Cayden Thoms"},{"$f":"IFERROR(INDEX(B347:B354, SMALL(IF(ISNUMBER(SEARCH(\"JV1\",F347:F354)), ROW(F347:F354)-MIN(ROW(F347:F354))+1, \"\"), ROW() -346 )), \"\")","v":""},{"$f":"IFERROR(INDEX(C347:C354, SMALL(IF(ISNUMBER(SEARCH(\"JV1\",F347:F354)), ROW(F347:F354)-MIN(ROW(F347:F354))+1, \"\"), ROW() -346 )), \"\")","v":""},{"$f":"IFERROR(INDEX(D347:D354, SMALL(IF(ISNUMBER(SEARCH(\"JV1\",F347:F354)), ROW(F347:F354)-MIN(ROW(F347:F354))+1, \"\"), ROW() -346 )), \"\")","v":""},{"$f":"IFERROR(INDEX(E347:E354, SMALL(IF(ISNUMBER(SEARCH(\"JV1\",F347:F354)), ROW(F347:F354)-MIN(ROW(F347:F354))+1, \"\"), ROW() -346 )), \"\")","v":""},{"$f":"IFERROR(INDEX(B347:B354, SMALL(IF(ISNUMBER(SEARCH(\"JV2\",F347:F354)), ROW(F347:F354)-MIN(ROW(F347:F354))+1, \"\"), ROW() -346 )), \"\")","v":""},{"$f":"IFERROR(INDEX(C347:C354, SMALL(IF(ISNUMBER(SEARCH(\"JV2\",F347:F354)), ROW(F347:F354)-MIN(ROW(F347:F354))+1, \"\"), ROW() -346 )), \"\")","v":""},{"$f":"IFERROR(INDEX(D347:D354, SMALL(IF(ISNUMBER(SEARCH(\"JV2\",F347:F354)), ROW(F347:F354)-MIN(ROW(F347:F354))+1, \"\"), ROW() -346 )), \"\")","v":""},{"$f":"IFERROR(INDEX(E347:E354, SMALL(IF(ISNUMBER(SEARCH(\"JV2\",F347:F354)), ROW(F347:F354)-MIN(ROW(F347:F354))+1, \"\"), ROW() -346 )), \"\")","v":""}]
[null,"Quincy University",null,"16-162510","Connor Meegan","V",null,4469.0,null,false,{"$nulls":17},{"$f":"IFERROR(INDEX(B347:B354, SMALL(IF(\"V\"=F347:F354, ROW(F347:F354)-MIN(ROW(F347:F354))+1, \"\"), ROW() -346 )), \"\")","v":"Quincy University"},{"$f":"IFERROR(INDEX(C347:C354, SMALL(IF(\"V\"=F347:F354, ROW(F347:F354)-MIN(ROW(F347:F354))+1, \"\"), ROW() -346 )), \"\")","v":""},{"$f":"IFERROR(INDEX(D347:D354, SMALL(IF(\"V\"=F347:F354, ROW(F347:F354)-MIN(ROW(F347:F354))+1, \"\"), ROW() -346 )), \"\")","v":"16-162510"},{"$f":"IFERROR(INDEX(E347:E354, SMALL(IF(\"V\"=F347:F354, ROW(F347:F354)-MIN(ROW(F347:F354))+1, \"\"), ROW() -346 )), \"\")","v":"Connor Meegan"},{"$f":"IFERROR(INDEX(B347:B354, SMALL(IF(ISNUMBER(SEARCH(\"JV1\",F347:F354)), ROW(F347:F354)-MIN(ROW(F347:F354))+1, \"\"), ROW() -346 )), \"\")","v":""},{"$f":"IFERROR(INDEX(C347:C354, SMALL(IF(ISNUMBER(SEARCH(\"JV1\",F347:F354)), ROW(F347:F354)-MIN(ROW(F347:F354))+1, \"\"), ROW() -346 )), \"\")","v":""},{"$f":"IFERROR(INDEX(D347:D354, SMALL(IF(ISNUMBER(SEARCH(\"JV1\",F347:F354)), ROW(F347:F354)-MIN(ROW(F347:F354))+1, \"\"), ROW() -346 )), \"\")","v":""},{"$f":"IFERROR(INDEX(E347:E354, SMALL(IF(ISNUMBER(SEARCH(\"JV1\",F347:F354)), ROW(F347:F354)-MIN(ROW(F347:F354))+1, \"\"), ROW() -346 )), \"\")","v":""},{"$f":"IFERROR(INDEX(B347:B354, SMALL(IF(ISNUMBER(SEARCH(\"JV2\",F347:F354)), ROW(F347:F354)-MIN(ROW(F347:F354))+1, \"\"), ROW() -346 )), \"\")","v":""},{"$f":"IFERROR(INDEX(C347:C354, SMALL(IF(ISNUMBER(SEARCH(\"JV2\",F347:F354)), ROW(F347:F354)-MIN(ROW(F347:F354))+1, \"\"), ROW() -346 )), \"\")","v":""},{"$f":"IFERROR(INDEX(D347:D354, SMALL(IF(ISNUMBER(SEARCH(\"JV2\",F347:F354)), ROW(F347:F354)-MIN(ROW(F347:F354))+1, \"\"), ROW() -346 )), \"\")","v":""},{"$f":"IFERROR(INDEX(E347:E354, SMALL(IF(ISNUMBER(SEARCH(\"JV2\",F347:F354)), ROW(F347:F354)-MIN(ROW(F347:F354))+1, \"\"), ROW() -346 )), \"\")","v":""}]
[null,"Quincy University",null,"7914-29201","Lucas Forthofer","V",null,4469.0,null,false,{"$nulls":17},{"$f":"IFERROR(INDEX(B347:B354, SMALL(IF(\"V\"=F347:F354, ROW(F347:F354)-MIN(ROW(F347:F354))+1, \"\"), ROW() -346 )), \"\")","v":"Quincy University"},{"$f":"IFERROR(INDEX(C347:C354, SMALL(IF(\"V\"=F347:F354, ROW(F347:F354)-MIN(ROW(F347:F354))+1, \"\"), ROW() -346 )), \"\")","v":""},{"$f":"IFERROR(INDEX(D347:D354, SMALL(IF(\"V\"=F347:F354, ROW(F347:F354)-MIN(ROW(F347:F354))+1, \"\"), ROW() -346 )), \"\")","v":"7914-29201"},{"$f":"IFERROR(INDEX(E347:E354, SMALL(IF(\"V\"=F347:F354, ROW(F347:F354)-MIN(ROW(F347:F354))+1, \"\"), ROW() -346 )), \"\")","v":"Lucas Forthofer"},{"$f":"IFERROR(INDEX(B347:B354, SMALL(IF(ISNUMBER(SEARCH(\"JV1\",F347:F354)), ROW(F347:F354)-MIN(ROW(F347:F354))+1, \"\"), ROW() -346 )), \"\")","v":""},{"$f":"IFERROR(INDEX(C347:C354, SMALL(IF(ISNUMBER(SEARCH(\"JV1\",F347:F354)), ROW(F347:F354)-MIN(ROW(F347:F354))+1, \"\"), ROW() -346 )), \"\")","v":""},{"$f":"IFERROR(INDEX(D347:D354, SMALL(IF(ISNUMBER(SEARCH(\"JV1\",F347:F354)), ROW(F347:F354)-MIN(ROW(F347:F354))+1, \"\"), ROW() -346 )), \"\")","v":""},{"$f":"IFERROR(INDEX(E347:E354, SMALL(IF(ISNUMBER(SEARCH(\"JV1\",F347:F354)), ROW(F347:F354)-MIN(ROW(F347:F354))+1, \"\"), ROW() -346 )), \"\")","v":""},{"$f":"IFERROR(INDEX(B347:B354, SMALL(IF(ISNUMBER(SEARCH(\"JV2\",F347:F354)), ROW(F347:F354)-MIN(ROW(F347:F354))+1, \"\"), ROW() -346 )), \"\")","v":""},{"$f":"IFERROR(INDEX(C347:C354, SMALL(IF(ISNUMBER(SEARCH(\"JV2\",F347:F354)), ROW(F347:F354)-MIN(ROW(F347:F354))+1, \"\"), ROW() -346 )), \"\")","v":""},{"$f":"IFERROR(INDEX(D347:D354, SMALL(IF(ISNUMBER(SEARCH(\"JV2\",F347:F354)), ROW(F347:F354)-MIN(ROW(F347:F354))+1, \"\"), ROW() -346 )), \"\")","v":""},{"$f":"IFERROR(INDEX(E347:E354, SMALL(IF(ISNUMBER(SEARCH(\"JV2\",F347:F354)), ROW(F347:F354)-MIN(ROW(F347:F354))+1, \"\"), ROW() -346 )), \"\")","v":""}]
[null,"Quincy University",null,"20-20396","Nicholas Puente","V",null,4469.0,null,false,{"$nulls":17},{"$f":"IFERROR(INDEX(B347:B354, SMALL(IF(\"V\"=F347:F354, ROW(F347:F354)-MIN(ROW(F347:F354))+1, \"\"), ROW() -346 )), \"\")","v":"Quincy University"},{"$f":"IFERROR(INDEX(C347:C354, SMALL(IF(\"V\"=F347:F354, ROW(F347:F354)-MIN(ROW(F347:F354))+1, \"\"), ROW() -346 )), \"\")","v":""},{"$f":"IFERROR(INDEX(D347:D354, SMALL(IF(\"V\"=F347:F354, ROW(F347:F354)-MIN(ROW(F347:F354))+1, \"\"), ROW() -346 )), \"\")","v":"20-20396"},{"$f":"IFERROR(INDEX(E347:E354, SMALL(IF(\"V\"=F347:F354, ROW(F347:F354)-MIN(ROW(F347:F354))+1, \"\"), ROW() -346 )), \"\")","v":"Nicholas Puente"},{"$f":"IFERROR(INDEX(B347:B354, SMALL(IF(ISNUMBER(SEARCH(\"JV1\",F347:F354)), ROW(F347:F354)-MIN(ROW(F347:F354))+1, \"\"), ROW() -346 )), \"\")","v":""},{"$f":"IFERROR(INDEX(C347:C354, SMALL(IF(ISNUMBER(SEARCH(\"JV1\",F347:F354)), ROW(F347:F354)-MIN(ROW(F347:F354))+1, \"\"), ROW() -346 )), \"\")","v":""},{"$f":"IFERROR(INDEX(D347:D354, SMALL(IF(ISNUMBER(SEARCH(\"JV1\",F347:F354)), ROW(F347:F354)-MIN(ROW(F347:F354))+1, \"\"), ROW() -346 )), \"\")","v":""},{"$f":"IFERROR(INDEX(E347:E354, SMALL(IF(ISNUMBER(SEARCH(\"JV1\",F347:F354)), ROW(F347:F354)-MIN(ROW(F347:F354))+1, \"\"), ROW() -346 )), \"\")","v":""},{"$f":"IFERROR(INDEX(B347:B354, SMALL(IF(ISNUMBER(SEARCH(\"JV2\",F347:F354)), ROW(F347:F354)-MIN(ROW(F347:F354))+1, \"\"), ROW() -346 )), \"\")","v":""},{"$f":"IFERROR(INDEX(C347:C354, SMALL(IF(ISNUMBER(SEARCH(\"JV2\",F347:F354)), ROW(F347:F354)-MIN(ROW(F347:F354))+1, \"\"), ROW() -346 )), \"\")","v":""},{"$f":"IFERROR(INDEX(D347:D354, SMALL(IF(ISNUMBER(SEARCH(\"JV2\",F347:F354)), ROW(F347:F354)-MIN(ROW(F347:F354))+1, \"\"), ROW() -346 )), \"\")","v":""},{"$f":"IFERROR(INDEX(E347:E354, SMALL(IF(ISNUMBER(SEARCH(\"JV2\",F347:F354)), ROW(F347:F354)-MIN(ROW(F347:F354))+1, \"\"), ROW() -346 )), \"\")","v":""}]
[null,"Quincy University",null,"11-237083","Parker Lymenstull","V",null,4469.0,null,false,{"$nulls":17},{"$f":"IFERROR(INDEX(B347:B354, SMALL(IF(\"V\"=F347:F354, ROW(F347:F354)-MIN(ROW(F347:F354))+1, \"\"), ROW() -346 )), \"\")","v":"Quincy University"},{"$f":"IFERROR(INDEX(C347:C354, SMALL(IF(\"V\"=F347:F354, ROW(F347:F354)-MIN(ROW(F347:F354))+1, \"\"), ROW() -346 )), \"\")","v":""},{"$f":"IFERROR(INDEX(D347:D354, SMALL(IF(\"V\"=F347:F354, ROW(F347:F354)-MIN(ROW(F347:F354))+1, \"\"), ROW() -346 )), \"\")","v":"11-237083"},{"$f":"IFERROR(INDEX(E347:E354, SMALL(IF(\"V\"=F347:F354, ROW(F347:F354)-MIN(ROW(F347:F354))+1, \"\"), ROW() -346 )), \"\")","v":"Parker Lymenstull"},{"$f":"IFERROR(INDEX(B347:B354, SMALL(IF(ISNUMBER(SEARCH(\"JV1\",F347:F354)), ROW(F347:F354)-MIN(ROW(F347:F354))+1, \"\"), ROW() -346 )), \"\")","v":""},{"$f":"IFERROR(INDEX(C347:C354, SMALL(IF(ISNUMBER(SEARCH(\"JV1\",F347:F354)), ROW(F347:F354)-MIN(ROW(F347:F354))+1, \"\"), ROW() -346 )), \"\")","v":""},{"$f":"IFERROR(INDEX(D347:D354, SMALL(IF(ISNUMBER(SEARCH(\"JV1\",F347:F354)), ROW(F347:F354)-MIN(ROW(F347:F354))+1, \"\"), ROW() -346 )), \"\")","v":""},{"$f":"IFERROR(INDEX(E347:E354, SMALL(IF(ISNUMBER(SEARCH(\"JV1\",F347:F354)), ROW(F347:F354)-MIN(ROW(F347:F354))+1, \"\"), ROW() -346 )), \"\")","v":""},{"$f":"IFERROR(INDEX(B347:B354, SMALL(IF(ISNUMBER(SEARCH(\"JV2\",F347:F354)), ROW(F347:F354)-MIN(ROW(F347:F354))+1, \"\"), ROW() -346 )), \"\")","v":""},{"$f":"IFERROR(INDEX(C347:C354, SMALL(IF(ISNUMBER(SEARCH(\"JV2\",F347:F354)), ROW(F347:F354)-MIN(ROW(F347:F354))+1, \"\"), ROW() -346 )), \"\")","v":""},{"$f":"IFERROR(INDEX(D347:D354, SMALL(IF(ISNUMBER(SEARCH(\"JV2\",F347:F354)), ROW(F347:F354)-MIN(ROW(F347:F354))+1, \"\"), ROW() -346 )), \"\")","v":""},{"$f":"IFERROR(INDEX(E347:E354, SMALL(IF(ISNUMBER(SEARCH(\"JV2\",F347:F354)), ROW(F347:F354)-MIN(ROW(F347:F354))+1, \"\"), ROW() -346 )), \"\")","v":""}]
[null,"St. Ambrose University",null,"11-520526","Adam Kowalik"," ",null,3447.0,null,false,{"$nulls":17},{"$f":"IFERROR(INDEX(B355:B380, SMALL(IF(\"V\"=F355:F380, ROW(F355:F380)-MIN(ROW(F355:F380))+1, \"\"), ROW() -354 )), \"\")","v":"St. Ambrose University"},{"$f":"IFERROR(INDEX(C355:C380, SMALL(IF(\"V\"=F355:F380, ROW(F355:F380)-MIN(ROW(F355:F380))+1, \"\"), ROW() -354 )), \"\")","v":""},{"$f":"IFERROR(INDEX(D355:D380, SMALL(IF(\"V\"=F355:F380, ROW(F355:F380)-MIN(ROW(F355:F380))+1, \"\"), ROW() -354 )), \"\")","v":"15-185155"},{"$f":"IFERROR(INDEX(E355:E380, SMALL(IF(\"V\"=F355:F380, ROW(F355:F380)-MIN(ROW(F355:F380))+1, \"\"), ROW() -354 )), \"\")","v":"Ashton Yamasaki"},{"$f":"IFERROR(INDEX(B355:B380, SMALL(IF(ISNUMBER(SEARCH(\"JV1\",F355:F380)), ROW(F355:F380)-MIN(ROW(F355:F380))+1, \"\"), ROW() -354 )), \"\")","v":"St. Ambrose University"},{"$f":"IFERROR(INDEX(C355:C380, SMALL(IF(ISNUMBER(SEARCH(\"JV1\",F355:F380)), ROW(F355:F380)-MIN(ROW(F355:F380))+1, \"\"), ROW() -354 )), \"\")","v":""},{"$f":"IFERROR(INDEX(D355:D380, SMALL(IF(ISNUMBER(SEARCH(\"JV1\",F355:F380)), ROW(F355:F380)-MIN(ROW(F355:F380))+1, \"\"), ROW() -354 )), \"\")","v":"11-288359"},{"$f":"IFERROR(INDEX(E355:E380, SMALL(IF(ISNUMBER(SEARCH(\"JV1\",F355:F380)), ROW(F355:F380)-MIN(ROW(F355:F380))+1, \"\"), ROW() -354 )), \"\")","v":"Alexander Nolan"},{"$f":"IFERROR(INDEX(B355:B380, SMALL(IF(ISNUMBER(SEARCH(\"JV2\",F355:F380)), ROW(F355:F380)-MIN(ROW(F355:F380))+1, \"\"), ROW() -354 )), \"\")","v":""},{"$f":"IFERROR(INDEX(C355:C380, SMALL(IF(ISNUMBER(SEARCH(\"JV2\",F355:F380)), ROW(F355:F380)-MIN(ROW(F355:F380))+1, \"\"), ROW() -354 )), \"\")","v":""},{"$f":"IFERROR(INDEX(D355:D380, SMALL(IF(ISNUMBER(SEARCH(\"JV2\",F355:F380)), ROW(F355:F380)-MIN(ROW(F355:F380))+1, \"\"), ROW() -354 )), \"\")","v":""},{"$f":"IFERROR(INDEX(E355:E380, SMALL(IF(ISNUMBER(SEARCH(\"JV2\",F355:F380)), ROW(F355:F380)-MIN(ROW(F355:F380))+1, \"\"), ROW() -354 )), \"\")","v":""}]
[null,"St. Ambrose University",null,"11-288359","Alexander Nolan","JV1",null,3447.0,null,false,{"$nulls":17},{"$f":"IFERROR(INDEX(B355:B380, SMALL(IF(\"V\"=F355:F380, ROW(F355:F380)-MIN(ROW(F355:F380))+1, \"\"), ROW() -354 )), \"\")","v":"St. Ambrose University"},{"$f":"IFERROR(INDEX(C355:C380, SMALL(IF(\"V\"=F355:F380, ROW(F355:F380)-MIN(ROW(F355:F380))+1, \"\"), ROW() -354 )), \"\")","v":""},{"$f":"IFERROR(INDEX(D355:D380, SMALL(IF(\"V\"=F355:F380, ROW(F355:F380)-MIN(ROW(F355:F380))+1, \"\"), ROW() -354 )), \"\")","v":"11-81520"},{"$f":"IFERROR(INDEX(E355:E380, SMALL(IF(\"V\"=F355:F380, ROW(F355:F380)-MIN(ROW(F355:F380))+1, \"\"), ROW() -354 )), \"\")","v":"Cameron Crowe"},{"$f":"IFERROR(INDEX(B355:B380, SMALL(IF(ISNUMBER(SEARCH(\"JV1\",F355:F380)), ROW(F355:F380)-MIN(ROW(F355:F380))+1, \"\"), ROW() -354 )), \"\")","v":"St. Ambrose University"},{"$f":"IFERROR(INDEX(C355:C380, SMALL(IF(ISNUMBER(SEARCH(\"JV1\",F355:F380)), ROW(F355:F380)-MIN(ROW(F355:F380))+1, \"\"), ROW() -354 )), \"\")","v":""},{"$f":"IFERROR(INDEX(D355:D380, SMALL(IF(ISNUMBER(SEARCH(\"JV1\",F355:F380)), ROW(F355:F380)-MIN(ROW(F355:F380))+1, \"\"), ROW() -354 )), \"\")","v":"11-71264"},{"$f":"IFERROR(INDEX(E355:E380, SMALL(IF(ISNUMBER(SEARCH(\"JV1\",F355:F380)), ROW(F355:F380)-MIN(ROW(F355:F380))+1, \"\"), ROW() -354 )), \"\")","v":"Alton Barber"},{"$f":"IFERROR(INDEX(B355:B380, SMALL(IF(ISNUMBER(SEARCH(\"JV2\",F355:F380)), ROW(F355:F380)-MIN(ROW(F355:F380))+1, \"\"), ROW() -354 )), \"\")","v":""},{"$f":"IFERROR(INDEX(C355:C380, SMALL(IF(ISNUMBER(SEARCH(\"JV2\",F355:F380)), ROW(F355:F380)-MIN(ROW(F355:F380))+1, \"\"), ROW() -354 )), \"\")","v":""},{"$f":"IFERROR(INDEX(D355:D380, SMALL(IF(ISNUMBER(SEARCH(\"JV2\",F355:F380)), ROW(F355:F380)-MIN(ROW(F355:F380))+1, \"\"), ROW() -354 )), \"\")","v":""},{"$f":"IFERROR(INDEX(E355:E380, SMALL(IF(ISNUMBER(SEARCH(\"JV2\",F355:F380)), ROW(F355:F380)-MIN(ROW(F355:F380))+1, \"\"), ROW() -354 )), \"\")","v":""}]
[null,"St. Ambrose University",null,"11-71264","Alton Barber","JV1",null,3447.0,null,false,{"$nulls":17},{"$f":"IFERROR(INDEX(B355:B380, SMALL(IF(\"V\"=F355:F380, ROW(F355:F380)-MIN(ROW(F355:F380))+1, \"\"), ROW() -354 )), \"\")","v":"St. Ambrose University"},{"$f":"IFERROR(INDEX(C355:C380, SMALL(IF(\"V\"=F355:F380, ROW(F355:F380)-MIN(ROW(F355:F380))+1, \"\"), ROW() -354 )), \"\")","v":""},{"$f":"IFERROR(INDEX(D355:D380, SMALL(IF(\"V\"=F355:F380, ROW(F355:F380)-MIN(ROW(F355:F380))+1, \"\"), ROW() -354 )), \"\")","v":"11-377191"},{"$f":"IFERROR(INDEX(E355:E380, SMALL(IF(\"V\"=F355:F380, ROW(F355:F380)-MIN(ROW(F355:F380))+1, \"\"), ROW() -354 )), \"\")","v":"Jordan Monnens"},{"$f":"IFERROR(INDEX(B355:B380, SMALL(IF(ISNUMBER(SEARCH(\"JV1\",F355:F380)), ROW(F355:F380)-MIN(ROW(F355:F380))+1, \"\"), ROW() -354 )), \"\")","v":"St. Ambrose University"},{"$f":"IFERROR(INDEX(C355:C380, SMALL(IF(ISNUMBER(SEARCH(\"JV1\",F355:F380)), ROW(F355:F380)-MIN(ROW(F355:F380))+1, \"\"), ROW() -354 )), \"\")","v":""},{"$f":"IFERROR(INDEX(D355:D380, SMALL(IF(ISNUMBER(SEARCH(\"JV1\",F355:F380)), ROW(F355:F380)-MIN(ROW(F355:F380))+1, \"\"), ROW() -354 )), \"\")","v":"8947-49201"},{"$f":"IFERROR(INDEX(E355:E380, SMALL(IF(ISNUMBER(SEARCH(\"JV1\",F355:F380)), ROW(F355:F380)-MIN(ROW(F355:F380))+1, \"\"), ROW() -354 )), \"\")","v":"Anthony Mastroianni"},{"$f":"IFERROR(INDEX(B355:B380, SMALL(IF(ISNUMBER(SEARCH(\"JV2\",F355:F380)), ROW(F355:F380)-MIN(ROW(F355:F380))+1, \"\"), ROW() -354 )), \"\")","v":""},{"$f":"IFERROR(INDEX(C355:C380, SMALL(IF(ISNUMBER(SEARCH(\"JV2\",F355:F380)), ROW(F355:F380)-MIN(ROW(F355:F380))+1, \"\"), ROW() -354 )), \"\")","v":""},{"$f":"IFERROR(INDEX(D355:D380, SMALL(IF(ISNUMBER(SEARCH(\"JV2\",F355:F380)), ROW(F355:F380)-MIN(ROW(F355:F380))+1, \"\"), ROW() -354 )), \"\")","v":""},{"$f":"IFERROR(INDEX(E355:E380, SMALL(IF(ISNUMBER(SEARCH(\"JV2\",F355:F380)), ROW(F355:F380)-MIN(ROW(F355:F380))+1, \"\"), ROW() -354 )), \"\")","v":""}]
[null,"St. Ambrose University",null,"8947-49201","Anthony Mastroianni","JV1",null,3447.0,null,false,{"$nulls":17},{"$f":"IFERROR(INDEX(B355:B380, SMALL(IF(\"V\"=F355:F380, ROW(F355:F380)-MIN(ROW(F355:F380))+1, \"\"), ROW() -354 )), \"\")","v":"St. Ambrose University"},{"$f":"IFERROR(INDEX(C355:C380, SMALL(IF(\"V\"=F355:F380, ROW(F355:F380)-MIN(ROW(F355:F380))+1, \"\"), ROW() -354 )), \"\")","v":""},{"$f":"IFERROR(INDEX(D355:D380, SMALL(IF(\"V\"=F355:F380, ROW(F355:F380)-MIN(ROW(F355:F380))+1, \"\"), ROW() -354 )), \"\")","v":"11-450746"},{"$f":"IFERROR(INDEX(E355:E380, SMALL(IF(\"V\"=F355:F380, ROW(F355:F380)-MIN(ROW(F355:F380))+1, \"\"), ROW() -354 )), \"\")","v":"Justin Aboud"},{"$f":"IFERROR(INDEX(B355:B380, SMALL(IF(ISNUMBER(SEARCH(\"JV1\",F355:F380)), ROW(F355:F380)-MIN(ROW(F355:F380))+1, \"\"), ROW() -354 )), \"\")","v":"St. Ambrose University"},{"$f":"IFERROR(INDEX(C355:C380, SMALL(IF(ISNUMBER(SEARCH(\"JV1\",F355:F380)), ROW(F355:F380)-MIN(ROW(F355:F380))+1, \"\"), ROW() -354 )), \"\")","v":""},{"$f":"IFERROR(INDEX(D355:D380, SMALL(IF(ISNUMBER(SEARCH(\"JV1\",F355:F380)), ROW(F355:F380)-MIN(ROW(F355:F380))+1, \"\"), ROW() -354 )), \"\")","v":"11-395386"},{"$f":"IFERROR(INDEX(E355:E380, SMALL(IF(ISNUMBER(SEARCH(\"JV1\",F355:F380)), ROW(F355:F380)-MIN(ROW(F355:F380))+1, \"\"), ROW() -354 )), \"\")","v":"Brendan De Werth"},{"$f":"IFERROR(INDEX(B355:B380, SMALL(IF(ISNUMBER(SEARCH(\"JV2\",F355:F380)), ROW(F355:F380)-MIN(ROW(F355:F380))+1, \"\"), ROW() -354 )), \"\")","v":""},{"$f":"IFERROR(INDEX(C355:C380, SMALL(IF(ISNUMBER(SEARCH(\"JV2\",F355:F380)), ROW(F355:F380)-MIN(ROW(F355:F380))+1, \"\"), ROW() -354 )), \"\")","v":""},{"$f":"IFERROR(INDEX(D355:D380, SMALL(IF(ISNUMBER(SEARCH(\"JV2\",F355:F380)), ROW(F355:F380)-MIN(ROW(F355:F380))+1, \"\"), ROW() -354 )), \"\")","v":""},{"$f":"IFERROR(INDEX(E355:E380, SMALL(IF(ISNUMBER(SEARCH(\"JV2\",F355:F380)), ROW(F355:F380)-MIN(ROW(F355:F380))+1, \"\"), ROW() -354 )), \"\")","v":""}]
[null,"St. Ambrose University",null,"15-185155","Ashton Yamasaki","v",null,3447.0,null,false,{"$nulls":17},{"$f":"IFERROR(INDEX(B355:B380, SMALL(IF(\"V\"=F355:F380, ROW(F355:F380)-MIN(ROW(F355:F380))+1, \"\"), ROW() -354 )), \"\")","v":"St. Ambrose University"},{"$f":"IFERROR(INDEX(C355:C380, SMALL(IF(\"V\"=F355:F380, ROW(F355:F380)-MIN(ROW(F355:F380))+1, \"\"), ROW() -354 )), \"\")","v":""},{"$f":"IFERROR(INDEX(D355:D380, SMALL(IF(\"V\"=F355:F380, ROW(F355:F380)-MIN(ROW(F355:F380))+1, \"\"), ROW() -354 )), \"\")","v":"11-651099"},{"$f":"IFERROR(INDEX(E355:E380, SMALL(IF(\"V\"=F355:F380, ROW(F355:F380)-MIN(ROW(F355:F380))+1, \"\"), ROW() -354 )), \"\")","v":"Ryan Speer"},{"$f":"IFERROR(INDEX(B355:B380, SMALL(IF(ISNUMBER(SEARCH(\"JV1\",F355:F380)), ROW(F355:F380)-MIN(ROW(F355:F380))+1, \"\"), ROW() -354 )), \"\")","v":"St. Ambrose University"},{"$f":"IFERROR(INDEX(C355:C380, SMALL(IF(ISNUMBER(SEARCH(\"JV1\",F355:F380)), ROW(F355:F380)-MIN(ROW(F355:F380))+1, \"\"), ROW() -354 )), \"\")","v":""},{"$f":"IFERROR(INDEX(D355:D380, SMALL(IF(ISNUMBER(SEARCH(\"JV1\",F355:F380)), ROW(F355:F380)-MIN(ROW(F355:F380))+1, \"\"), ROW() -354 )), \"\")","v":"11-76593"},{"$f":"IFERROR(INDEX(E355:E380, SMALL(IF(ISNUMBER(SEARCH(\"JV1\",F355:F380)), ROW(F355:F380)-MIN(ROW(F355:F380))+1, \"\"), ROW() -354 )), \"\")","v":"Caleb Gillmore"},{"$f":"IFERROR(INDEX(B355:B380, SMALL(IF(ISNUMBER(SEARCH(\"JV2\",F355:F380)), ROW(F355:F380)-MIN(ROW(F355:F380))+1, \"\"), ROW() -354 )), \"\")","v":""},{"$f":"IFERROR(INDEX(C355:C380, SMALL(IF(ISNUMBER(SEARCH(\"JV2\",F355:F380)), ROW(F355:F380)-MIN(ROW(F355:F380))+1, \"\"), ROW() -354 )), \"\")","v":""},{"$f":"IFERROR(INDEX(D355:D380, SMALL(IF(ISNUMBER(SEARCH(\"JV2\",F355:F380)), ROW(F355:F380)-MIN(ROW(F355:F380))+1, \"\"), ROW() -354 )), \"\")","v":""},{"$f":"IFERROR(INDEX(E355:E380, SMALL(IF(ISNUMBER(SEARCH(\"JV2\",F355:F380)), ROW(F355:F380)-MIN(ROW(F355:F380))+1, \"\"), ROW() -354 )), \"\")","v":""}]
[null,"St. Ambrose University",null,"11-395386","Brendan De Werth","jv1",null,3447.0,null,false,{"$nulls":17},{"$f":"IFERROR(INDEX(B355:B380, SMALL(IF(\"V\"=F355:F380, ROW(F355:F380)-MIN(ROW(F355:F380))+1, \"\"), ROW() -354 )), \"\")","v":"St. Ambrose University"},{"$f":"IFERROR(INDEX(C355:C380, SMALL(IF(\"V\"=F355:F380, ROW(F355:F380)-MIN(ROW(F355:F380))+1, \"\"), ROW() -354 )), \"\")","v":""},{"$f":"IFERROR(INDEX(D355:D380, SMALL(IF(\"V\"=F355:F380, ROW(F355:F380)-MIN(ROW(F355:F380))+1, \"\"), ROW() -354 )), \"\")","v":"6058-4136"},{"$f":"IFERROR(INDEX(E355:E380, SMALL(IF(\"V\"=F355:F380, ROW(F355:F380)-MIN(ROW(F355:F380))+1, \"\"), ROW() -354 )), \"\")","v":"William Jones"},{"$f":"IFERROR(INDEX(B355:B380, SMALL(IF(ISNUMBER(SEARCH(\"JV1\",F355:F380)), ROW(F355:F380)-MIN(ROW(F355:F380))+1, \"\"), ROW() -354 )), \"\")","v":"St. Ambrose University"},{"$f":"IFERROR(INDEX(C355:C380, SMALL(IF(ISNUMBER(SEARCH(\"JV1\",F355:F380)), ROW(F355:F380)-MIN(ROW(F355:F380))+1, \"\"), ROW() -354 )), \"\")","v":""},{"$f":"IFERROR(INDEX(D355:D380, SMALL(IF(ISNUMBER(SEARCH(\"JV1\",F355:F380)), ROW(F355:F380)-MIN(ROW(F355:F380))+1, \"\"), ROW() -354 )), \"\")","v":"5816-1483"},{"$f":"IFERROR(INDEX(E355:E380, SMALL(IF(ISNUMBER(SEARCH(\"JV1\",F355:F380)), ROW(F355:F380)-MIN(ROW(F355:F380))+1, \"\"), ROW() -354 )), \"\")","v":"Corey Roth"},{"$f":"IFERROR(INDEX(B355:B380, SMALL(IF(ISNUMBER(SEARCH(\"JV2\",F355:F380)), ROW(F355:F380)-MIN(ROW(F355:F380))+1, \"\"), ROW() -354 )), \"\")","v":""},{"$f":"IFERROR(INDEX(C355:C380, SMALL(IF(ISNUMBER(SEARCH(\"JV2\",F355:F380)), ROW(F355:F380)-MIN(ROW(F355:F380))+1, \"\"), ROW() -354 )), \"\")","v":""},{"$f":"IFERROR(INDEX(D355:D380, SMALL(IF(ISNUMBER(SEARCH(\"JV2\",F355:F380)), ROW(F355:F380)-MIN(ROW(F355:F380))+1, \"\"), ROW() -354 )), \"\")","v":""},{"$f":"IFERROR(INDEX(E355:E380, SMALL(IF(ISNUMBER(SEARCH(\"JV2\",F355:F380)), ROW(F355:F380)-MIN(ROW(F355:F380))+1, \"\"), ROW() -354 )), \"\")","v":""}]
[null,"St. Ambrose University",null,"11-76593","Caleb Gillmore","jv1",null,3447.0,null,false,{"$nulls":17},{"$f":"IFERROR(INDEX(B355:B380, SMALL(IF(\"V\"=F355:F380, ROW(F355:F380)-MIN(ROW(F355:F380))+1, \"\"), ROW() -354 )), \"\")","v":"St. Ambrose University"},{"$f":"IFERROR(INDEX(C355:C380, SMALL(IF(\"V\"=F355:F380, ROW(F355:F380)-MIN(ROW(F355:F380))+1, \"\"), ROW() -354 )), \"\")","v":""},{"$f":"IFERROR(INDEX(D355:D380, SMALL(IF(\"V\"=F355:F380, ROW(F355:F380)-MIN(ROW(F355:F380))+1, \"\"), ROW() -354 )), \"\")","v":"11-628825"},{"$f":"IFERROR(INDEX(E355:E380, SMALL(IF(\"V\"=F355:F380, ROW(F355:F380)-MIN(ROW(F355:F380))+1, \"\"), ROW() -354 )), \"\")","v":"Zach Greim"},{"$f":"IFERROR(INDEX(B355:B380, SMALL(IF(ISNUMBER(SEARCH(\"JV1\",F355:F380)), ROW(F355:F380)-MIN(ROW(F355:F380))+1, \"\"), ROW() -354 )), \"\")","v":"St. Ambrose University"},{"$f":"IFERROR(INDEX(C355:C380, SMALL(IF(ISNUMBER(SEARCH(\"JV1\",F355:F380)), ROW(F355:F380)-MIN(ROW(F355:F380))+1, \"\"), ROW() -354 )), \"\")","v":""},{"$f":"IFERROR(INDEX(D355:D380, SMALL(IF(ISNUMBER(SEARCH(\"JV1\",F355:F380)), ROW(F355:F380)-MIN(ROW(F355:F380))+1, \"\"), ROW() -354 )), \"\")","v":"11-370860"},{"$f":"IFERROR(INDEX(E355:E380, SMALL(IF(ISNUMBER(SEARCH(\"JV1\",F355:F380)), ROW(F355:F380)-MIN(ROW(F355:F380))+1, \"\"), ROW() -354 )), \"\")","v":"Jorell Morris"},{"$f":"IFERROR(INDEX(B355:B380, SMALL(IF(ISNUMBER(SEARCH(\"JV2\",F355:F380)), ROW(F355:F380)-MIN(ROW(F355:F380))+1, \"\"), ROW() -354 )), \"\")","v":""},{"$f":"IFERROR(INDEX(C355:C380, SMALL(IF(ISNUMBER(SEARCH(\"JV2\",F355:F380)), ROW(F355:F380)-MIN(ROW(F355:F380))+1, \"\"), ROW() -354 )), \"\")","v":""},{"$f":"IFERROR(INDEX(D355:D380, SMALL(IF(ISNUMBER(SEARCH(\"JV2\",F355:F380)), ROW(F355:F380)-MIN(ROW(F355:F380))+1, \"\"), ROW() -354 )), \"\")","v":""},{"$f":"IFERROR(INDEX(E355:E380, SMALL(IF(ISNUMBER(SEARCH(\"JV2\",F355:F380)), ROW(F355:F380)-MIN(ROW(F355:F380))+1, \"\"), ROW() -354 )), \"\")","v":""}]
[null,"St. Ambrose University",null,"11-81520","Cameron Crowe","v",null,3447.0,null,false,{"$nulls":17},{"$f":"IFERROR(INDEX(B355:B380, SMALL(IF(\"V\"=F355:F380, ROW(F355:F380)-MIN(ROW(F355:F380))+1, \"\"), ROW() -354 )), \"\")","v":"St. Ambrose University"},{"$f":"IFERROR(INDEX(C355:C380, SMALL(IF(\"V\"=F355:F380, ROW(F355:F380)-MIN(ROW(F355:F380))+1, \"\"), ROW() -354 )), \"\")","v":""},{"$f":"IFERROR(INDEX(D355:D380, SMALL(IF(\"V\"=F355:F380, ROW(F355:F380)-MIN(ROW(F355:F380))+1, \"\"), ROW() -354 )), \"\")","v":"5895-18"},{"$f":"IFERROR(INDEX(E355:E380, SMALL(IF(\"V\"=F355:F380, ROW(F355:F380)-MIN(ROW(F355:F380))+1, \"\"), ROW() -354 )), \"\")","v":"Zack Denton"},{"$f":"IFERROR(INDEX(B355:B380, SMALL(IF(ISNUMBER(SEARCH(\"JV1\",F355:F380)), ROW(F355:F380)-MIN(ROW(F355:F380))+1, \"\"), ROW() -354 )), \"\")","v":"St. Ambrose University"},{"$f":"IFERROR(INDEX(C355:C380, SMALL(IF(ISNUMBER(SEARCH(\"JV1\",F355:F380)), ROW(F355:F380)-MIN(ROW(F355:F380))+1, \"\"), ROW() -354 )), \"\")","v":""},{"$f":"IFERROR(INDEX(D355:D380, SMALL(IF(ISNUMBER(SEARCH(\"JV1\",F355:F380)), ROW(F355:F380)-MIN(ROW(F355:F380))+1, \"\"), ROW() -354 )), \"\")","v":"16-71962"},{"$f":"IFERROR(INDEX(E355:E380, SMALL(IF(ISNUMBER(SEARCH(\"JV1\",F355:F380)), ROW(F355:F380)-MIN(ROW(F355:F380))+1, \"\"), ROW() -354 )), \"\")","v":"Justin Kennedy"},{"$f":"IFERROR(INDEX(B355:B380, SMALL(IF(ISNUMBER(SEARCH(\"JV2\",F355:F380)), ROW(F355:F380)-MIN(ROW(F355:F380))+1, \"\"), ROW() -354 )), \"\")","v":""},{"$f":"IFERROR(INDEX(C355:C380, SMALL(IF(ISNUMBER(SEARCH(\"JV2\",F355:F380)), ROW(F355:F380)-MIN(ROW(F355:F380))+1, \"\"), ROW() -354 )), \"\")","v":""},{"$f":"IFERROR(INDEX(D355:D380, SMALL(IF(ISNUMBER(SEARCH(\"JV2\",F355:F380)), ROW(F355:F380)-MIN(ROW(F355:F380))+1, \"\"), ROW() -354 )), \"\")","v":""},{"$f":"IFERROR(INDEX(E355:E380, SMALL(IF(ISNUMBER(SEARCH(\"JV2\",F355:F380)), ROW(F355:F380)-MIN(ROW(F355:F380))+1, \"\"), ROW() -354 )), \"\")","v":""}]
[null,"St. Ambrose University",null,"8682-999","Chance Swan"," ",null,3447.0,null,false]
[null,"St. Ambrose University",null,"11-281177","Chase Jamison"," ",null,3447.0,null,false]
[null,"St. Ambrose University",null,"5816-1483","Corey Roth","jv1",null,3447.0,null,false]
[null,"St. Ambrose University",null,"18-86912","Jackson Eadie"," ",null,3447.0,null,false]
[null,"St. Ambrose University",null,"11-377191","Jordan Monnens","v",null,3447.0,null,false]
[null,"St. Ambrose University",null,"11-370860","Jorell Morris","jv1",null,3447.0,null,false]
[null,"St. Ambrose University",null,"11-326136","Joshua Prowse"," ",null,3447.0,null,false]
[null,"St. Ambrose University",null,"11-450746","Justin Aboud","v",null,3447.0,null,false]
[null,"St. Ambrose University",null,"16-71962","Justin Kennedy","jv1",null,3447.0,null,false]
[null,"St. Ambrose University",null,"11-603558","Mitchel Guzzle"," ",null,3447.0,null,false]
[null,"St. Ambrose University",null,"11-651099","Ryan Speer","v",null,3447.0,null,false]
[null,"St. Ambrose University",null,"18-88847","Sebastian Einfeldt"," ",null,3447.0,null,false]
[null,"St. Ambrose University",null,"5873-777","Thomas Cutsforth"," ",null,3447.0,null,false]
[null,"St. Ambrose University",null,"6058-4136","William Jones","v",null,3447.0,null,false]
[null,"St. Ambrose University",null,"11-184778","William Young"," ",null,3447.0,null,false]
[null,"St. Ambrose University",null,"11-628825","Zach Greim","v",null,3447.0,null,false]
[null,"St. Ambrose University",null,"5895-18","Zack Denton","v",null,3447.0,null,false]
[null,"St. Ambrose University",null,"11-747448","Zackary Olkiewicz"," ",null,3447.0,null,false]
[null,"University Of Saint Mary",null,"22-1904","Braedon Robinson","v",null,4598.0,null,false,{"$nulls":17},{"$f":"IFERROR(INDEX(B381:B389, SMALL(IF(\"V\"=F381:F389, ROW(F381:F389)-MIN(ROW(F381:F389))+1, \"\"), ROW() -380 )), \"\")","v":"University Of Saint Mary"},{"$f":"IFERROR(INDEX(C381:C389, SMALL(IF(\"V\"=F381:F389, ROW(F381:F389)-MIN(ROW(F381:F389))+1, \"\"), ROW() -380 )), \"\")","v":""},{"$f":"IFERROR(INDEX(D381:D389, SMALL(IF(\"V\"=F381:F389, ROW(F381:F389)-MIN(ROW(F381:F389))+1, \"\"), ROW() -380 )), \"\")","v":"22-1904"},{"$f":"IFERROR(INDEX(E381:E389, SMALL(IF(\"V\"=F381:F389, ROW(F381:F389)-MIN(ROW(F381:F389))+1, \"\"), ROW() -380 )), \"\")","v":"Braedon Robinson"},{"$f":"IFERROR(INDEX(B381:B389, SMALL(IF(ISNUMBER(SEARCH(\"JV1\",F381:F389)), ROW(F381:F389)-MIN(ROW(F381:F389))+1, \"\"), ROW() -380 )), \"\")","v":""},{"$f":"IFERROR(INDEX(C381:C389, SMALL(IF(ISNUMBER(SEARCH(\"JV1\",F381:F389)), ROW(F381:F389)-MIN(ROW(F381:F389))+1, \"\"), ROW() -380 )), \"\")","v":""},{"$f":"IFERROR(INDEX(D381:D389, SMALL(IF(ISNUMBER(SEARCH(\"JV1\",F381:F389)), ROW(F381:F389)-MIN(ROW(F381:F389))+1, \"\"), ROW() -380 )), \"\")","v":""},{"$f":"IFERROR(INDEX(E381:E389, SMALL(IF(ISNUMBER(SEARCH(\"JV1\",F381:F389)), ROW(F381:F389)-MIN(ROW(F381:F389))+1, \"\"), ROW() -380 )), \"\")","v":""},{"$f":"IFERROR(INDEX(B381:B389, SMALL(IF(ISNUMBER(SEARCH(\"JV2\",F381:F389)), ROW(F381:F389)-MIN(ROW(F381:F389))+1, \"\"), ROW() -380 )), \"\")","v":""},{"$f":"IFERROR(INDEX(C381:C389, SMALL(IF(ISNUMBER(SEARCH(\"JV2\",F381:F389)), ROW(F381:F389)-MIN(ROW(F381:F389))+1, \"\"), ROW() -380 )), \"\")","v":""},{"$f":"IFERROR(INDEX(D381:D389, SMALL(IF(ISNUMBER(SEARCH(\"JV2\",F381:F389)), ROW(F381:F389)-MIN(ROW(F381:F389))+1, \"\"), ROW() -380 )), \"\")","v":""},{"$f":"IFERROR(INDEX(E381:E389, SMALL(IF(ISNUMBER(SEARCH(\"JV2\",F381:F389)), ROW(F381:F389)-MIN(ROW(F381:F389))+1, \"\"), ROW() -380 )), \"\")","v":""}]
[null,"University Of Saint Mary",null,"22-1905","Camden Schrickel","v",null,4598.0,null,false,{"$nulls":17},{"$f":"IFERROR(INDEX(B381:B389, SMALL(IF(\"V\"=F381:F389, ROW(F381:F389)-MIN(ROW(F381:F389))+1, \"\"), ROW() -380 )), \"\")","v":"University Of Saint Mary"},{"$f":"IFERROR(INDEX(C381:C389, SMALL(IF(\"V\"=F381:F389, ROW(F381:F389)-MIN(ROW(F381:F389))+1, \"\"), ROW() -380 )), \"\")","v":""},{"$f":"IFERROR(INDEX(D381:D389, SMALL(IF(\"V\"=F381:F389, ROW(F381:F389)-MIN(ROW(F381:F389))+1, \"\"), ROW() -380 )), \"\")","v":"22-1905"},{"$f":"IFERROR(INDEX(E381:E389, SMALL(IF(\"V\"=F381:F389, ROW(F381:F389)-MIN(ROW(F381:F389))+1, \"\"), ROW() -380 )), \"\")","v":"Camden Schrickel"},{"$f":"IFERROR(INDEX(B381:B389, SMALL(IF(ISNUMBER(SEARCH(\"JV1\",F381:F389)), ROW(F381:F389)-MIN(ROW(F381:F389))+1, \"\"), ROW() -380 )), \"\")","v":""},{"$f":"IFERROR(INDEX(C381:C389, SMALL(IF(ISNUMBER(SEARCH(\"JV1\",F381:F389)), ROW(F381:F389)-MIN(ROW(F381:F389))+1, \"\"), ROW() -380 )), \"\")","v":""},{"$f":"IFERROR(INDEX(D381:D389, SMALL(IF(ISNUMBER(SEARCH(\"JV1\",F381:F389)), ROW(F381:F389)-MIN(ROW(F381:F389))+1, \"\"), ROW() -380 )), \"\")","v":""},{"$f":"IFERROR(INDEX(E381:E389, SMALL(IF(ISNUMBER(SEARCH(\"JV1\",F381:F389)), ROW(F381:F389)-MIN(ROW(F381:F389))+1, \"\"), ROW() -380 )), \"\")","v":""},{"$f":"IFERROR(INDEX(B381:B389, SMALL(IF(ISNUMBER(SEARCH(\"JV2\",F381:F389)), ROW(F381:F389)-MIN(ROW(F381:F389))+1, \"\"), ROW() -380 )), \"\")","v":""},{"$f":"IFERROR(INDEX(C381:C389, SMALL(IF(ISNUMBER(SEARCH(\"JV2\",F381:F389)), ROW(F381:F389)-MIN(ROW(F381:F389))+1, \"\"), ROW() -380 )), \"\")","v":""},{"$f":"IFERROR(INDEX(D381:D389, SMALL(IF(ISNUMBER(SEARCH(\"JV2\",F381:F389)), ROW(F381:F389)-MIN(ROW(F381:F389))+1, \"\"), ROW() -380 )), \"\")","v":""},{"$f":"IFERROR(INDEX(E381:E389, SMALL(IF(ISNUMBER(SEARCH(\"JV2\",F381:F389)), ROW(F381:F389)-MIN(ROW(F381:F389))+1, \"\"), ROW() -380 )), \"\")","v":""}]
[null,"University Of Saint Mary",null,"21-57213","Christian Gray"," ",null,4598.0,null,false,{"$nulls":17},{"$f":"IFERROR(INDEX(B381:B389, SMALL(IF(\"V\"=F381:F389, ROW(F381:F389)-MIN(ROW(F381:F389))+1, \"\"), ROW() -380 )), \"\")","v":"University Of Saint Mary"},{"$f":"IFERROR(INDEX(C381:C389, SMALL(IF(\"V\"=F381:F389, ROW(F381:F389)-MIN(ROW(F381:F389))+1, \"\"), ROW() -380 )), \"\")","v":""},{"$f":"IFERROR(INDEX(D381:D389, SMALL(IF(\"V\"=F381:F389, ROW(F381:F389)-MIN(ROW(F381:F389))+1, \"\"), ROW() -380 )), \"\")","v":"18-48037"},{"$f":"IFERROR(INDEX(E381:E389, SMALL(IF(\"V\"=F381:F389, ROW(F381:F389)-MIN(ROW(F381:F389))+1, \"\"), ROW() -380 )), \"\")","v":"Dantoine Ballard"},{"$f":"IFERROR(INDEX(B381:B389, SMALL(IF(ISNUMBER(SEARCH(\"JV1\",F381:F389)), ROW(F381:F389)-MIN(ROW(F381:F389))+1, \"\"), ROW() -380 )), \"\")","v":""},{"$f":"IFERROR(INDEX(C381:C389, SMALL(IF(ISNUMBER(SEARCH(\"JV1\",F381:F389)), ROW(F381:F389)-MIN(ROW(F381:F389))+1, \"\"), ROW() -380 )), \"\")","v":""},{"$f":"IFERROR(INDEX(D381:D389, SMALL(IF(ISNUMBER(SEARCH(\"JV1\",F381:F389)), ROW(F381:F389)-MIN(ROW(F381:F389))+1, \"\"), ROW() -380 )), \"\")","v":""},{"$f":"IFERROR(INDEX(E381:E389, SMALL(IF(ISNUMBER(SEARCH(\"JV1\",F381:F389)), ROW(F381:F389)-MIN(ROW(F381:F389))+1, \"\"), ROW() -380 )), \"\")","v":""},{"$f":"IFERROR(INDEX(B381:B389, SMALL(IF(ISNUMBER(SEARCH(\"JV2\",F381:F389)), ROW(F381:F389)-MIN(ROW(F381:F389))+1, \"\"), ROW() -380 )), \"\")","v":""},{"$f":"IFERROR(INDEX(C381:C389, SMALL(IF(ISNUMBER(SEARCH(\"JV2\",F381:F389)), ROW(F381:F389)-MIN(ROW(F381:F389))+1, \"\"), ROW() -380 )), \"\")","v":""},{"$f":"IFERROR(INDEX(D381:D389, SMALL(IF(ISNUMBER(SEARCH(\"JV2\",F381:F389)), ROW(F381:F389)-MIN(ROW(F381:F389))+1, \"\"), ROW() -380 )), \"\")","v":""},{"$f":"IFERROR(INDEX(E381:E389, SMALL(IF(ISNUMBER(SEARCH(\"JV2\",F381:F389)), ROW(F381:F389)-MIN(ROW(F381:F389))+1, \"\"), ROW() -380 )), \"\")","v":""}]
[null,"University Of Saint Mary",null,"18-48037","Dantoine Ballard","v",null,4598.0,null,false,{"$nulls":17},{"$f":"IFERROR(INDEX(B381:B389, SMALL(IF(\"V\"=F381:F389, ROW(F381:F389)-MIN(ROW(F381:F389))+1, \"\"), ROW() -380 )), \"\")","v":"University Of Saint Mary"},{"$f":"IFERROR(INDEX(C381:C389, SMALL(IF(\"V\"=F381:F389, ROW(F381:F389)-MIN(ROW(F381:F389))+1, \"\"), ROW() -380 )), \"\")","v":""},{"$f":"IFERROR(INDEX(D381:D389, SMALL(IF(\"V\"=F381:F389, ROW(F381:F389)-MIN(ROW(F381:F389))+1, \"\"), ROW() -380 )), \"\")","v":"22-1902"},{"$f":"IFERROR(INDEX(E381:E389, SMALL(IF(\"V\"=F381:F389, ROW(F381:F389)-MIN(ROW(F381:F389))+1, \"\"), ROW() -380 )), \"\")","v":"Emilio Gutierrez"},{"$f":"IFERROR(INDEX(B381:B389, SMALL(IF(ISNUMBER(SEARCH(\"JV1\",F381:F389)), ROW(F381:F389)-MIN(ROW(F381:F389))+1, \"\"), ROW() -380 )), \"\")","v":""},{"$f":"IFERROR(INDEX(C381:C389, SMALL(IF(ISNUMBER(SEARCH(\"JV1\",F381:F389)), ROW(F381:F389)-MIN(ROW(F381:F389))+1, \"\"), ROW() -380 )), \"\")","v":""},{"$f":"IFERROR(INDEX(D381:D389, SMALL(IF(ISNUMBER(SEARCH(\"JV1\",F381:F389)), ROW(F381:F389)-MIN(ROW(F381:F389))+1, \"\"), ROW() -380 )), \"\")","v":""},{"$f":"IFERROR(INDEX(E381:E389, SMALL(IF(ISNUMBER(SEARCH(\"JV1\",F381:F389)), ROW(F381:F389)-MIN(ROW(F381:F389))+1, \"\"), ROW() -380 )), \"\")","v":""},{"$f":"IFERROR(INDEX(B381:B389, SMALL(IF(ISNUMBER(SEARCH(\"JV2\",F381:F389)), ROW(F381:F389)-MIN(ROW(F381:F389))+1, \"\"), ROW() -380 )), \"\")","v":""},{"$f":"IFERROR(INDEX(C381:C389, SMALL(IF(ISNUMBER(SEARCH(\"JV2\",F381:F389)), ROW(F381:F389)-MIN(ROW(F381:F389))+1, \"\"), ROW() -380 )), \"\")","v":""},{"$f":"IFERROR(INDEX(D381:D389, SMALL(IF(ISNUMBER(SEARCH(\"JV2\",F381:F389)), ROW(F381:F389)-MIN(ROW(F381:F389))+1, \"\"), ROW() -380 )), \"\")","v":""},{"$f":"IFERROR(INDEX(E381:E389, SMALL(IF(ISNUMBER(SEARCH(\"JV2\",F381:F389)), ROW(F381:F389)-MIN(ROW(F381:F389))+1, \"\"), ROW() -380 )), \"\")","v":""}]
[null,"University Of Saint Mary",null,"22-1902","Emilio Gutierrez","v",null,4598.0,null,false,{"$nulls":17},{"$f":"IFERROR(INDEX(B381:B389, SMALL(IF(\"V\"=F381:F389, ROW(F381:F389)-MIN(ROW(F381:F389))+1, \"\"), ROW() -380 )), \"\")","v":"University Of Saint Mary"},{"$f":"IFERROR(INDEX(C381:C389, SMALL(IF(\"V\"=F381:F389, ROW(F381:F389)-MIN(ROW(F381:F389))+1, \"\"), ROW() -380 )), \"\")","v":""},{"$f":"IFERROR(INDEX(D381:D389, SMALL(IF(\"V\"=F381:F389, ROW(F381:F389)-MIN(ROW(F381:F389))+1, \"\"), ROW() -380 )), \"\")","v":"11-207956"},{"$f":"IFERROR(INDEX(E381:E389, SMALL(IF(\"V\"=F381:F389, ROW(F381:F389)-MIN(ROW(F381:F389))+1, \"\"), ROW() -380 )), \"\")","v":"Jose Limon"},{"$f":"IFERROR(INDEX(B381:B389, SMALL(IF(ISNUMBER(SEARCH(\"JV1\",F381:F389)), ROW(F381:F389)-MIN(ROW(F381:F389))+1, \"\"), ROW() -380 )), \"\")","v":""},{"$f":"IFERROR(INDEX(C381:C389, SMALL(IF(ISNUMBER(SEARCH(\"JV1\",F381:F389)), ROW(F381:F389)-MIN(ROW(F381:F389))+1, \"\"), ROW() -380 )), \"\")","v":""},{"$f":"IFERROR(INDEX(D381:D389, SMALL(IF(ISNUMBER(SEARCH(\"JV1\",F381:F389)), ROW(F381:F389)-MIN(ROW(F381:F389))+1, \"\"), ROW() -380 )), \"\")","v":""},{"$f":"IFERROR(INDEX(E381:E389, SMALL(IF(ISNUMBER(SEARCH(\"JV1\",F381:F389)), ROW(F381:F389)-MIN(ROW(F381:F389))+1, \"\"), ROW() -380 )), \"\")","v":""},{"$f":"IFERROR(INDEX(B381:B389, SMALL(IF(ISNUMBER(SEARCH(\"JV2\",F381:F389)), ROW(F381:F389)-MIN(ROW(F381:F389))+1, \"\"), ROW() -380 )), \"\")","v":""},{"$f":"IFERROR(INDEX(C381:C389, SMALL(IF(ISNUMBER(SEARCH(\"JV2\",F381:F389)), ROW(F381:F389)-MIN(ROW(F381:F389))+1, \"\"), ROW() -380 )), \"\")","v":""},{"$f":"IFERROR(INDEX(D381:D389, SMALL(IF(ISNUMBER(SEARCH(\"JV2\",F381:F389)), ROW(F381:F389)-MIN(ROW(F381:F389))+1, \"\"), ROW() -380 )), \"\")","v":""},{"$f":"IFERROR(INDEX(E381:E389, SMALL(IF(ISNUMBER(SEARCH(\"JV2\",F381:F389)), ROW(F381:F389)-MIN(ROW(F381:F389))+1, \"\"), ROW() -380 )), \"\")","v":""}]
[null,"University Of Saint Mary",null,"11-207956","Jose Limon","v",null,4598.0,null,false,{"$nulls":17},{"$f":"IFERROR(INDEX(B381:B389, SMALL(IF(\"V\"=F381:F389, ROW(F381:F389)-MIN(ROW(F381:F389))+1, \"\"), ROW() -380 )), \"\")","v":"University Of Saint Mary"},{"$f":"IFERROR(INDEX(C381:C389, SMALL(IF(\"V\"=F381:F389, ROW(F381:F389)-MIN(ROW(F381:F389))+1, \"\"), ROW() -380 )), \"\")","v":""},{"$f":"IFERROR(INDEX(D381:D389, SMALL(IF(\"V\"=F381:F389, ROW(F381:F389)-MIN(ROW(F381:F389))+1, \"\"), ROW() -380 )), \"\")","v":"18-48027"},{"$f":"IFERROR(INDEX(E381:E389, SMALL(IF(\"V\"=F381:F389, ROW(F381:F389)-MIN(ROW(F381:F389))+1, \"\"), ROW() -380 )), \"\")","v":"Joshua Kacich"},{"$f":"IFERROR(INDEX(B381:B389, SMALL(IF(ISNUMBER(SEARCH(\"JV1\",F381:F389)), ROW(F381:F389)-MIN(ROW(F381:F389))+1, \"\"), ROW() -380 )), \"\")","v":""},{"$f":"IFERROR(INDEX(C381:C389, SMALL(IF(ISNUMBER(SEARCH(\"JV1\",F381:F389)), ROW(F381:F389)-MIN(ROW(F381:F389))+1, \"\"), ROW() -380 )), \"\")","v":""},{"$f":"IFERROR(INDEX(D381:D389, SMALL(IF(ISNUMBER(SEARCH(\"JV1\",F381:F389)), ROW(F381:F389)-MIN(ROW(F381:F389))+1, \"\"), ROW() -380 )), \"\")","v":""},{"$f":"IFERROR(INDEX(E381:E389, SMALL(IF(ISNUMBER(SEARCH(\"JV1\",F381:F389)), ROW(F381:F389)-MIN(ROW(F381:F389))+1, \"\"), ROW() -380 )), \"\")","v":""},{"$f":"IFERROR(INDEX(B381:B389, SMALL(IF(ISNUMBER(SEARCH(\"JV2\",F381:F389)), ROW(F381:F389)-MIN(ROW(F381:F389))+1, \"\"), ROW() -380 )), \"\")","v":""},{"$f":"IFERROR(INDEX(C381:C389, SMALL(IF(ISNUMBER(SEARCH(\"JV2\",F381:F389)), ROW(F381:F389)-MIN(ROW(F381:F389))+1, \"\"), ROW() -380 )), \"\")","v":""},{"$f":"IFERROR(INDEX(D381:D389, SMALL(IF(ISNUMBER(SEARCH(\"JV2\",F381:F389)), ROW(F381:F389)-MIN(ROW(F381:F389))+1, \"\"), ROW() -380 )), \"\")","v":""},{"$f":"IFERROR(INDEX(E381:E389, SMALL(IF(ISNUMBER(SEARCH(\"JV2\",F381:F389)), ROW(F381:F389)-MIN(ROW(F381:F389))+1, \"\"), ROW() -380 )), \"\")","v":""}]
[null,"University Of Saint Mary",null,"18-48027","Joshua Kacich","v",null,4598.0,null,false,{"$nulls":17},{"$f":"IFERROR(INDEX(B381:B389, SMALL(IF(\"V\"=F381:F389, ROW(F381:F389)-MIN(ROW(F381:F389))+1, \"\"), ROW() -380 )), \"\")","v":"University Of Saint Mary"},{"$f":"IFERROR(INDEX(C381:C389, SMALL(IF(\"V\"=F381:F389, ROW(F381:F389)-MIN(ROW(F381:F389))+1, \"\"), ROW() -380 )), \"\")","v":""},{"$f":"IFERROR(INDEX(D381:D389, SMALL(IF(\"V\"=F381:F389, ROW(F381:F389)-MIN(ROW(F381:F389))+1, \"\"), ROW() -380 )), \"\")","v":"21-470"},{"$f":"IFERROR(INDEX(E381:E389, SMALL(IF(\"V\"=F381:F389, ROW(F381:F389)-MIN(ROW(F381:F389))+1, \"\"), ROW() -380 )), \"\")","v":"Layne Riggs"},{"$f":"IFERROR(INDEX(B381:B389, SMALL(IF(ISNUMBER(SEARCH(\"JV1\",F381:F389)), ROW(F381:F389)-MIN(ROW(F381:F389))+1, \"\"), ROW() -380 )), \"\")","v":""},{"$f":"IFERROR(INDEX(C381:C389, SMALL(IF(ISNUMBER(SEARCH(\"JV1\",F381:F389)), ROW(F381:F389)-MIN(ROW(F381:F389))+1, \"\"), ROW() -380 )), \"\")","v":""},{"$f":"IFERROR(INDEX(D381:D389, SMALL(IF(ISNUMBER(SEARCH(\"JV1\",F381:F389)), ROW(F381:F389)-MIN(ROW(F381:F389))+1, \"\"), ROW() -380 )), \"\")","v":""},{"$f":"IFERROR(INDEX(E381:E389, SMALL(IF(ISNUMBER(SEARCH(\"JV1\",F381:F389)), ROW(F381:F389)-MIN(ROW(F381:F389))+1, \"\"), ROW() -380 )), \"\")","v":""},{"$f":"IFERROR(INDEX(B381:B389, SMALL(IF(ISNUMBER(SEARCH(\"JV2\",F381:F389)), ROW(F381:F389)-MIN(ROW(F381:F389))+1, \"\"), ROW() -380 )), \"\")","v":""},{"$f":"IFERROR(INDEX(C381:C389, SMALL(IF(ISNUMBER(SEARCH(\"JV2\",F381:F389)), ROW(F381:F389)-MIN(ROW(F381:F389))+1, \"\"), ROW() -380 )), \"\")","v":""},{"$f":"IFERROR(INDEX(D381:D389, SMALL(IF(ISNUMBER(SEARCH(\"JV2\",F381:F389)), ROW(F381:F389)-MIN(ROW(F381:F389))+1, \"\"), ROW() -380 )), \"\")","v":""},{"$f":"IFERROR(INDEX(E381:E389, SMALL(IF(ISNUMBER(SEARCH(\"JV2\",F381:F389)), ROW(F381:F389)-MIN(ROW(F381:F389))+1, \"\"), ROW() -380 )), \"\")","v":""}]
[null,"University Of Saint Mary",null,"21-470","Layne Riggs","v",null,4598.0,null,false,{"$nulls":17},{"$f":"IFERROR(INDEX(B381:B389, SMALL(IF(\"V\"=F381:F389, ROW(F381:F389)-MIN(ROW(F381:F389))+1, \"\"), ROW() -380 )), \"\")","v":"University Of Saint Mary"},{"$f":"IFERROR(INDEX(C381:C389, SMALL(IF(\"V\"=F381:F389, ROW(F381:F389)-MIN(ROW(F381:F389))+1, \"\"), ROW() -380 )), \"\")","v":""},{"$f":"IFERROR(INDEX(D381:D389, SMALL(IF(\"V\"=F381:F389, ROW(F381:F389)-MIN(ROW(F381:F389))+1, \"\"), ROW() -380 )), \"\")","v":"21-342"},{"$f":"IFERROR(INDEX(E381:E389, SMALL(IF(\"V\"=F381:F389, ROW(F381:F389)-MIN(ROW(F381:F389))+1, \"\"), ROW() -380 )), \"\")","v":"Ricardo Tello"},{"$f":"IFERROR(INDEX(B381:B389, SMALL(IF(ISNUMBER(SEARCH(\"JV1\",F381:F389)), ROW(F381:F389)-MIN(ROW(F381:F389))+1, \"\"), ROW() -380 )), \"\")","v":""},{"$f":"IFERROR(INDEX(C381:C389, SMALL(IF(ISNUMBER(SEARCH(\"JV1\",F381:F389)), ROW(F381:F389)-MIN(ROW(F381:F389))+1, \"\"), ROW() -380 )), \"\")","v":""},{"$f":"IFERROR(INDEX(D381:D389, SMALL(IF(ISNUMBER(SEARCH(\"JV1\",F381:F389)), ROW(F381:F389)-MIN(ROW(F381:F389))+1, \"\"), ROW() -380 )), \"\")","v":""},{"$f":"IFERROR(INDEX(E381:E389, SMALL(IF(ISNUMBER(SEARCH(\"JV1\",F381:F389)), ROW(F381:F389)-MIN(ROW(F381:F389))+1, \"\"), ROW() -380 )), \"\")","v":""},{"$f":"IFERROR(INDEX(B381:B389, SMALL(IF(ISNUMBER(SEARCH(\"JV2\",F381:F389)), ROW(F381:F389)-MIN(ROW(F381:F389))+1, \"\"), ROW() -380 )), \"\")","v":""},{"$f":"IFERROR(INDEX(C381:C389, SMALL(IF(ISNUMBER(SEARCH(\"JV2\",F381:F389)), ROW(F381:F389)-MIN(ROW(F381:F389))+1, \"\"), ROW() -380 )), \"\")","v":""},{"$f":"IFERROR(INDEX(D381:D389, SMALL(IF(ISNUMBER(SEARCH(\"JV2\",F381:F389)), ROW(F381:F389)-MIN(ROW(F381:F389))+1, \"\"), ROW() -380 )), \"\")","v":""},{"$f":"IFERROR(INDEX(E381:E389, SMALL(IF(ISNUMBER(SEARCH(\"JV2\",F381:F389)), ROW(F381:F389)-MIN(ROW(F381:F389))+1, \"\"), ROW() -380 )), \"\")","v":""}]
[null,"University Of Saint Mary",null,"21-342","Ricardo Tello","v",null,4598.0,null,false]
[null,"Waldorf University",null,"17-54702","Ben Bejblik"," ",null,3670.0,null,false,{"$nulls":17},{"$f":"IFERROR(INDEX(B390:B401, SMALL(IF(\"V\"=F390:F401, ROW(F390:F401)-MIN(ROW(F390:F401))+1, \"\"), ROW() -389 )), \"\")","v":"Waldorf University"},{"$f":"IFERROR(INDEX(C390:C401, SMALL(IF(\"V\"=F390:F401, ROW(F390:F401)-MIN(ROW(F390:F401))+1, \"\"), ROW() -389 )), \"\")","v":""},{"$f":"IFERROR(INDEX(D390:D401, SMALL(IF(\"V\"=F390:F401, ROW(F390:F401)-MIN(ROW(F390:F401))+1, \"\"), ROW() -389 )), \"\")","v":"11-701000"},{"$f":"IFERROR(INDEX(E390:E401, SMALL(IF(\"V\"=F390:F401, ROW(F390:F401)-MIN(ROW(F390:F401))+1, \"\"), ROW() -389 )), \"\")","v":"Bryson Randol"},{"$f":"IFERROR(INDEX(B390:B401, SMALL(IF(ISNUMBER(SEARCH(\"JV1\",F390:F401)), ROW(F390:F401)-MIN(ROW(F390:F401))+1, \"\"), ROW() -389 )), \"\")","v":""},{"$f":"IFERROR(INDEX(C390:C401, SMALL(IF(ISNUMBER(SEARCH(\"JV1\",F390:F401)), ROW(F390:F401)-MIN(ROW(F390:F401))+1, \"\"), ROW() -389 )), \"\")","v":""},{"$f":"IFERROR(INDEX(D390:D401, SMALL(IF(ISNUMBER(SEARCH(\"JV1\",F390:F401)), ROW(F390:F401)-MIN(ROW(F390:F401))+1, \"\"), ROW() -389 )), \"\")","v":""},{"$f":"IFERROR(INDEX(E390:E401, SMALL(IF(ISNUMBER(SEARCH(\"JV1\",F390:F401)), ROW(F390:F401)-MIN(ROW(F390:F401))+1, \"\"), ROW() -389 )), \"\")","v":""},{"$f":"IFERROR(INDEX(B390:B401, SMALL(IF(ISNUMBER(SEARCH(\"JV2\",F390:F401)), ROW(F390:F401)-MIN(ROW(F390:F401))+1, \"\"), ROW() -389 )), \"\")","v":""},{"$f":"IFERROR(INDEX(C390:C401, SMALL(IF(ISNUMBER(SEARCH(\"JV2\",F390:F401)), ROW(F390:F401)-MIN(ROW(F390:F401))+1, \"\"), ROW() -389 )), \"\")","v":""},{"$f":"IFERROR(INDEX(D390:D401, SMALL(IF(ISNUMBER(SEARCH(\"JV2\",F390:F401)), ROW(F390:F401)-MIN(ROW(F390:F401))+1, \"\"), ROW() -389 )), \"\")","v":""},{"$f":"IFERROR(INDEX(E390:E401, SMALL(IF(ISNUMBER(SEARCH(\"JV2\",F390:F401)), ROW(F390:F401)-MIN(ROW(F390:F401))+1, \"\"), ROW() -389 )), \"\")","v":""}]
[null,"Waldorf University",null,"11-701000","Bryson Randol","v",null,3670.0,null,false,{"$nulls":17},{"$f":"IFERROR(INDEX(B390:B401, SMALL(IF(\"V\"=F390:F401, ROW(F390:F401)-MIN(ROW(F390:F401))+1, \"\"), ROW() -389 )), \"\")","v":"Waldorf University"},{"$f":"IFERROR(INDEX(C390:C401, SMALL(IF(\"V\"=F390:F401, ROW(F390:F401)-MIN(ROW(F390:F401))+1, \"\"), ROW() -389 )), \"\")","v":""},{"$f":"IFERROR(INDEX(D390:D401, SMALL(IF(\"V\"=F390:F401, ROW(F390:F401)-MIN(ROW(F390:F401))+1, \"\"), ROW() -389 )), \"\")","v":"20-23769"},{"$f":"IFERROR(INDEX(E390:E401, SMALL(IF(\"V\"=F390:F401, ROW(F390:F401)-MIN(ROW(F390:F401))+1, \"\"), ROW() -389 )), \"\")","v":"Grant McClymont"},{"$f":"IFERROR(INDEX(B390:B401, SMALL(IF(ISNUMBER(SEARCH(\"JV1\",F390:F401)), ROW(F390:F401)-MIN(ROW(F390:F401))+1, \"\"), ROW() -389 )), \"\")","v":""},{"$f":"IFERROR(INDEX(C390:C401, SMALL(IF(ISNUMBER(SEARCH(\"JV1\",F390:F401)), ROW(F390:F401)-MIN(ROW(F390:F401))+1, \"\"), ROW() -389 )), \"\")","v":""},{"$f":"IFERROR(INDEX(D390:D401, SMALL(IF(ISNUMBER(SEARCH(\"JV1\",F390:F401)), ROW(F390:F401)-MIN(ROW(F390:F401))+1, \"\"), ROW() -389 )), \"\")","v":""},{"$f":"IFERROR(INDEX(E390:E401, SMALL(IF(ISNUMBER(SEARCH(\"JV1\",F390:F401)), ROW(F390:F401)-MIN(ROW(F390:F401))+1, \"\"), ROW() -389 )), \"\")","v":""},{"$f":"IFERROR(INDEX(B390:B401, SMALL(IF(ISNUMBER(SEARCH(\"JV2\",F390:F401)), ROW(F390:F401)-MIN(ROW(F390:F401))+1, \"\"), ROW() -389 )), \"\")","v":""},{"$f":"IFERROR(INDEX(C390:C401, SMALL(IF(ISNUMBER(SEARCH(\"JV2\",F390:F401)), ROW(F390:F401)-MIN(ROW(F390:F401))+1, \"\"), ROW() -389 )), \"\")","v":""},{"$f":"IFERROR(INDEX(D390:D401, SMALL(IF(ISNUMBER(SEARCH(\"JV2\",F390:F401)), ROW(F390:F401)-MIN(ROW(F390:F401))+1, \"\"), ROW() -389 )), \"\")","v":""},{"$f":"IFERROR(INDEX(E390:E401, SMALL(IF(ISNUMBER(SEARCH(\"JV2\",F390:F401)), ROW(F390:F401)-MIN(ROW(F390:F401))+1, \"\"), ROW() -389 )), \"\")","v":""}]
[null,"Waldorf University",null,"17-102235","Dalton Saba"," ",null,3670.0,null,false,{"$nulls":17},{"$f":"IFERROR(INDEX(B390:B401, SMALL(IF(\"V\"=F390:F401, ROW(F390:F401)-MIN(ROW(F390:F401))+1, \"\"), ROW() -389 )), \"\")","v":"Waldorf University"},{"$f":"IFERROR(INDEX(C390:C401, SMALL(IF(\"V\"=F390:F401, ROW(F390:F401)-MIN(ROW(F390:F401))+1, \"\"), ROW() -389 )), \"\")","v":""},{"$f":"IFERROR(INDEX(D390:D401, SMALL(IF(\"V\"=F390:F401, ROW(F390:F401)-MIN(ROW(F390:F401))+1, \"\"), ROW() -389 )), \"\")","v":"11-605053"},{"$f":"IFERROR(INDEX(E390:E401, SMALL(IF(\"V\"=F390:F401, ROW(F390:F401)-MIN(ROW(F390:F401))+1, \"\"), ROW() -389 )), \"\")","v":"Ian Templin"},{"$f":"IFERROR(INDEX(B390:B401, SMALL(IF(ISNUMBER(SEARCH(\"JV1\",F390:F401)), ROW(F390:F401)-MIN(ROW(F390:F401))+1, \"\"), ROW() -389 )), \"\")","v":""},{"$f":"IFERROR(INDEX(C390:C401, SMALL(IF(ISNUMBER(SEARCH(\"JV1\",F390:F401)), ROW(F390:F401)-MIN(ROW(F390:F401))+1, \"\"), ROW() -389 )), \"\")","v":""},{"$f":"IFERROR(INDEX(D390:D401, SMALL(IF(ISNUMBER(SEARCH(\"JV1\",F390:F401)), ROW(F390:F401)-MIN(ROW(F390:F401))+1, \"\"), ROW() -389 )), \"\")","v":""},{"$f":"IFERROR(INDEX(E390:E401, SMALL(IF(ISNUMBER(SEARCH(\"JV1\",F390:F401)), ROW(F390:F401)-MIN(ROW(F390:F401))+1, \"\"), ROW() -389 )), \"\")","v":""},{"$f":"IFERROR(INDEX(B390:B401, SMALL(IF(ISNUMBER(SEARCH(\"JV2\",F390:F401)), ROW(F390:F401)-MIN(ROW(F390:F401))+1, \"\"), ROW() -389 )), \"\")","v":""},{"$f":"IFERROR(INDEX(C390:C401, SMALL(IF(ISNUMBER(SEARCH(\"JV2\",F390:F401)), ROW(F390:F401)-MIN(ROW(F390:F401))+1, \"\"), ROW() -389 )), \"\")","v":""},{"$f":"IFERROR(INDEX(D390:D401, SMALL(IF(ISNUMBER(SEARCH(\"JV2\",F390:F401)), ROW(F390:F401)-MIN(ROW(F390:F401))+1, \"\"), ROW() -389 )), \"\")","v":""},{"$f":"IFERROR(INDEX(E390:E401, SMALL(IF(ISNUMBER(SEARCH(\"JV2\",F390:F401)), ROW(F390:F401)-MIN(ROW(F390:F401))+1, \"\"), ROW() -389 )), \"\")","v":""}]
[null,"Waldorf University",null,"20-23769","Grant McClymont","v",null,3670.0,null,false,{"$nulls":17},{"$f":"IFERROR(INDEX(B390:B401, SMALL(IF(\"V\"=F390:F401, ROW(F390:F401)-MIN(ROW(F390:F401))+1, \"\"), ROW() -389 )), \"\")","v":"Waldorf University"},{"$f":"IFERROR(INDEX(C390:C401, SMALL(IF(\"V\"=F390:F401, ROW(F390:F401)-MIN(ROW(F390:F401))+1, \"\"), ROW() -389 )), \"\")","v":""},{"$f":"IFERROR(INDEX(D390:D401, SMALL(IF(\"V\"=F390:F401, ROW(F390:F401)-MIN(ROW(F390:F401))+1, \"\"), ROW() -389 )), \"\")","v":"5712-982"},{"$f":"IFERROR(INDEX(E390:E401, SMALL(IF(\"V\"=F390:F401, ROW(F390:F401)-MIN(ROW(F390:F401))+1, \"\"), ROW() -389 )), \"\")","v":"Jacob Miner"},{"$f":"IFERROR(INDEX(B390:B401, SMALL(IF(ISNUMBER(SEARCH(\"JV1\",F390:F401)), ROW(F390:F401)-MIN(ROW(F390:F401))+1, \"\"), ROW() -389 )), \"\")","v":""},{"$f":"IFERROR(INDEX(C390:C401, SMALL(IF(ISNUMBER(SEARCH(\"JV1\",F390:F401)), ROW(F390:F401)-MIN(ROW(F390:F401))+1, \"\"), ROW() -389 )), \"\")","v":""},{"$f":"IFERROR(INDEX(D390:D401, SMALL(IF(ISNUMBER(SEARCH(\"JV1\",F390:F401)), ROW(F390:F401)-MIN(ROW(F390:F401))+1, \"\"), ROW() -389 )), \"\")","v":""},{"$f":"IFERROR(INDEX(E390:E401, SMALL(IF(ISNUMBER(SEARCH(\"JV1\",F390:F401)), ROW(F390:F401)-MIN(ROW(F390:F401))+1, \"\"), ROW() -389 )), \"\")","v":""},{"$f":"IFERROR(INDEX(B390:B401, SMALL(IF(ISNUMBER(SEARCH(\"JV2\",F390:F401)), ROW(F390:F401)-MIN(ROW(F390:F401))+1, \"\"), ROW() -389 )), \"\")","v":""},{"$f":"IFERROR(INDEX(C390:C401, SMALL(IF(ISNUMBER(SEARCH(\"JV2\",F390:F401)), ROW(F390:F401)-MIN(ROW(F390:F401))+1, \"\"), ROW() -389 )), \"\")","v":""},{"$f":"IFERROR(INDEX(D390:D401, SMALL(IF(ISNUMBER(SEARCH(\"JV2\",F390:F401)), ROW(F390:F401)-MIN(ROW(F390:F401))+1, \"\"), ROW() -389 )), \"\")","v":""},{"$f":"IFERROR(INDEX(E390:E401, SMALL(IF(ISNUMBER(SEARCH(\"JV2\",F390:F401)), ROW(F390:F401)-MIN(ROW(F390:F401))+1, \"\"), ROW() -389 )), \"\")","v":""}]
[null,"Waldorf University",null,"8756-11392","Harry Weigle"," ",null,3670.0,null,false,{"$nulls":17},{"$f":"IFERROR(INDEX(B390:B401, SMALL(IF(\"V\"=F390:F401, ROW(F390:F401)-MIN(ROW(F390:F401))+1, \"\"), ROW() -389 )), \"\")","v":"Waldorf University"},{"$f":"IFERROR(INDEX(C390:C401, SMALL(IF(\"V\"=F390:F401, ROW(F390:F401)-MIN(ROW(F390:F401))+1, \"\"), ROW() -389 )), \"\")","v":""},{"$f":"IFERROR(INDEX(D390:D401, SMALL(IF(\"V\"=F390:F401, ROW(F390:F401)-MIN(ROW(F390:F401))+1, \"\"), ROW() -389 )), \"\")","v":"22-1354"},{"$f":"IFERROR(INDEX(E390:E401, SMALL(IF(\"V\"=F390:F401, ROW(F390:F401)-MIN(ROW(F390:F401))+1, \"\"), ROW() -389 )), \"\")","v":"Joseph Walgenbach"},{"$f":"IFERROR(INDEX(B390:B401, SMALL(IF(ISNUMBER(SEARCH(\"JV1\",F390:F401)), ROW(F390:F401)-MIN(ROW(F390:F401))+1, \"\"), ROW() -389 )), \"\")","v":""},{"$f":"IFERROR(INDEX(C390:C401, SMALL(IF(ISNUMBER(SEARCH(\"JV1\",F390:F401)), ROW(F390:F401)-MIN(ROW(F390:F401))+1, \"\"), ROW() -389 )), \"\")","v":""},{"$f":"IFERROR(INDEX(D390:D401, SMALL(IF(ISNUMBER(SEARCH(\"JV1\",F390:F401)), ROW(F390:F401)-MIN(ROW(F390:F401))+1, \"\"), ROW() -389 )), \"\")","v":""},{"$f":"IFERROR(INDEX(E390:E401, SMALL(IF(ISNUMBER(SEARCH(\"JV1\",F390:F401)), ROW(F390:F401)-MIN(ROW(F390:F401))+1, \"\"), ROW() -389 )), \"\")","v":""},{"$f":"IFERROR(INDEX(B390:B401, SMALL(IF(ISNUMBER(SEARCH(\"JV2\",F390:F401)), ROW(F390:F401)-MIN(ROW(F390:F401))+1, \"\"), ROW() -389 )), \"\")","v":""},{"$f":"IFERROR(INDEX(C390:C401, SMALL(IF(ISNUMBER(SEARCH(\"JV2\",F390:F401)), ROW(F390:F401)-MIN(ROW(F390:F401))+1, \"\"), ROW() -389 )), \"\")","v":""},{"$f":"IFERROR(INDEX(D390:D401, SMALL(IF(ISNUMBER(SEARCH(\"JV2\",F390:F401)), ROW(F390:F401)-MIN(ROW(F390:F401))+1, \"\"), ROW() -389 )), \"\")","v":""},{"$f":"IFERROR(INDEX(E390:E401, SMALL(IF(ISNUMBER(SEARCH(\"JV2\",F390:F401)), ROW(F390:F401)-MIN(ROW(F390:F401))+1, \"\"), ROW() -389 )), \"\")","v":""}]
[null,"Waldorf University",null,"11-605053","Ian Templin","v",null,3670.0,null,false,{"$nulls":17},{"$f":"IFERROR(INDEX(B390:B401, SMALL(IF(\"V\"=F390:F401, ROW(F390:F401)-MIN(ROW(F390:F401))+1, \"\"), ROW() -389 )), \"\")","v":"Waldorf University"},{"$f":"IFERROR(INDEX(C390:C401, SMALL(IF(\"V\"=F390:F401, ROW(F390:F401)-MIN(ROW(F390:F401))+1, \"\"), ROW() -389 )), \"\")","v":""},{"$f":"IFERROR(INDEX(D390:D401, SMALL(IF(\"V\"=F390:F401, ROW(F390:F401)-MIN(ROW(F390:F401))+1, \"\"), ROW() -389 )), \"\")","v":"11-69054"},{"$f":"IFERROR(INDEX(E390:E401, SMALL(IF(\"V\"=F390:F401, ROW(F390:F401)-MIN(ROW(F390:F401))+1, \"\"), ROW() -389 )), \"\")","v":"Ryan Kaufman"},{"$f":"IFERROR(INDEX(B390:B401, SMALL(IF(ISNUMBER(SEARCH(\"JV1\",F390:F401)), ROW(F390:F401)-MIN(ROW(F390:F401))+1, \"\"), ROW() -389 )), \"\")","v":""},{"$f":"IFERROR(INDEX(C390:C401, SMALL(IF(ISNUMBER(SEARCH(\"JV1\",F390:F401)), ROW(F390:F401)-MIN(ROW(F390:F401))+1, \"\"), ROW() -389 )), \"\")","v":""},{"$f":"IFERROR(INDEX(D390:D401, SMALL(IF(ISNUMBER(SEARCH(\"JV1\",F390:F401)), ROW(F390:F401)-MIN(ROW(F390:F401))+1, \"\"), ROW() -389 )), \"\")","v":""},{"$f":"IFERROR(INDEX(E390:E401, SMALL(IF(ISNUMBER(SEARCH(\"JV1\",F390:F401)), ROW(F390:F401)-MIN(ROW(F390:F401))+1, \"\"), ROW() -389 )), \"\")","v":""},{"$f":"IFERROR(INDEX(B390:B401, SMALL(IF(ISNUMBER(SEARCH(\"JV2\",F390:F401)), ROW(F390:F401)-MIN(ROW(F390:F401))+1, \"\"), ROW() -389 )), \"\")","v":""},{"$f":"IFERROR(INDEX(C390:C401, SMALL(IF(ISNUMBER(SEARCH(\"JV2\",F390:F401)), ROW(F390:F401)-MIN(ROW(F390:F401))+1, \"\"), ROW() -389 )), \"\")","v":""},{"$f":"IFERROR(INDEX(D390:D401, SMALL(IF(ISNUMBER(SEARCH(\"JV2\",F390:F401)), ROW(F390:F401)-MIN(ROW(F390:F401))+1, \"\"), ROW() -389 )), \"\")","v":""},{"$f":"IFERROR(INDEX(E390:E401, SMALL(IF(ISNUMBER(SEARCH(\"JV2\",F390:F401)), ROW(F390:F401)-MIN(ROW(F390:F401))+1, \"\"), ROW() -389 )), \"\")","v":""}]
[null,"Waldorf University",null,"5712-982","Jacob Miner","v",null,3670.0,null,false,{"$nulls":17},{"$f":"IFERROR(INDEX(B390:B401, SMALL(IF(\"V\"=F390:F401, ROW(F390:F401)-MIN(ROW(F390:F401))+1, \"\"), ROW() -389 )), \"\")","v":"Waldorf University"},{"$f":"IFERROR(INDEX(C390:C401, SMALL(IF(\"V\"=F390:F401, ROW(F390:F401)-MIN(ROW(F390:F401))+1, \"\"), ROW() -389 )), \"\")","v":""},{"$f":"IFERROR(INDEX(D390:D401, SMALL(IF(\"V\"=F390:F401, ROW(F390:F401)-MIN(ROW(F390:F401))+1, \"\"), ROW() -389 )), \"\")","v":"6419-842"},{"$f":"IFERROR(INDEX(E390:E401, SMALL(IF(\"V\"=F390:F401, ROW(F390:F401)-MIN(ROW(F390:F401))+1, \"\"), ROW() -389 )), \"\")","v":"Tyler Harlow"},{"$f":"IFERROR(INDEX(B390:B401, SMALL(IF(ISNUMBER(SEARCH(\"JV1\",F390:F401)), ROW(F390:F401)-MIN(ROW(F390:F401))+1, \"\"), ROW() -389 )), \"\")","v":""},{"$f":"IFERROR(INDEX(C390:C401, SMALL(IF(ISNUMBER(SEARCH(\"JV1\",F390:F401)), ROW(F390:F401)-MIN(ROW(F390:F401))+1, \"\"), ROW() -389 )), \"\")","v":""},{"$f":"IFERROR(INDEX(D390:D401, SMALL(IF(ISNUMBER(SEARCH(\"JV1\",F390:F401)), ROW(F390:F401)-MIN(ROW(F390:F401))+1, \"\"), ROW() -389 )), \"\")","v":""},{"$f":"IFERROR(INDEX(E390:E401, SMALL(IF(ISNUMBER(SEARCH(\"JV1\",F390:F401)), ROW(F390:F401)-MIN(ROW(F390:F401))+1, \"\"), ROW() -389 )), \"\")","v":""},{"$f":"IFERROR(INDEX(B390:B401, SMALL(IF(ISNUMBER(SEARCH(\"JV2\",F390:F401)), ROW(F390:F401)-MIN(ROW(F390:F401))+1, \"\"), ROW() -389 )), \"\")","v":""},{"$f":"IFERROR(INDEX(C390:C401, SMALL(IF(ISNUMBER(SEARCH(\"JV2\",F390:F401)), ROW(F390:F401)-MIN(ROW(F390:F401))+1, \"\"), ROW() -389 )), \"\")","v":""},{"$f":"IFERROR(INDEX(D390:D401, SMALL(IF(ISNUMBER(SEARCH(\"JV2\",F390:F401)), ROW(F390:F401)-MIN(ROW(F390:F401))+1, \"\"), ROW() -389 )), \"\")","v":""},{"$f":"IFERROR(INDEX(E390:E401, SMALL(IF(ISNUMBER(SEARCH(\"JV2\",F390:F401)), ROW(F390:F401)-MIN(ROW(F390:F401))+1, \"\"), ROW() -389 )), \"\")","v":""}]
[null,"Waldorf University",null,"22-1354","Joseph Walgenbach","v",null,3670.0,null,false,{"$nulls":17},{"$f":"IFERROR(INDEX(B390:B401, SMALL(IF(\"V\"=F390:F401, ROW(F390:F401)-MIN(ROW(F390:F401))+1, \"\"), ROW() -389 )), \"\")","v":"Waldorf University"},{"$f":"IFERROR(INDEX(C390:C401, SMALL(IF(\"V\"=F390:F401, ROW(F390:F401)-MIN(ROW(F390:F401))+1, \"\"), ROW() -389 )), \"\")","v":""},{"$f":"IFERROR(INDEX(D390:D401, SMALL(IF(\"V\"=F390:F401, ROW(F390:F401)-MIN(ROW(F390:F401))+1, \"\"), ROW() -389 )), \"\")","v":"11-49205"},{"$f":"IFERROR(INDEX(E390:E401, SMALL(IF(\"V\"=F390:F401, ROW(F390:F401)-MIN(ROW(F390:F401))+1, \"\"), ROW() -389 )), \"\")","v":"Tyler Lacher-Hambor"},{"$f":"IFERROR(INDEX(B390:B401, SMALL(IF(ISNUMBER(SEARCH(\"JV1\",F390:F401)), ROW(F390:F401)-MIN(ROW(F390:F401))+1, \"\"), ROW() -389 )), \"\")","v":""},{"$f":"IFERROR(INDEX(C390:C401, SMALL(IF(ISNUMBER(SEARCH(\"JV1\",F390:F401)), ROW(F390:F401)-MIN(ROW(F390:F401))+1, \"\"), ROW() -389 )), \"\")","v":""},{"$f":"IFERROR(INDEX(D390:D401, SMALL(IF(ISNUMBER(SEARCH(\"JV1\",F390:F401)), ROW(F390:F401)-MIN(ROW(F390:F401))+1, \"\"), ROW() -389 )), \"\")","v":""},{"$f":"IFERROR(INDEX(E390:E401, SMALL(IF(ISNUMBER(SEARCH(\"JV1\",F390:F401)), ROW(F390:F401)-MIN(ROW(F390:F401))+1, \"\"), ROW() -389 )), \"\")","v":""},{"$f":"IFERROR(INDEX(B390:B401, SMALL(IF(ISNUMBER(SEARCH(\"JV2\",F390:F401)), ROW(F390:F401)-MIN(ROW(F390:F401))+1, \"\"), ROW() -389 )), \"\")","v":""},{"$f":"IFERROR(INDEX(C390:C401, SMALL(IF(ISNUMBER(SEARCH(\"JV2\",F390:F401)), ROW(F390:F401)-MIN(ROW(F390:F401))+1, \"\"), ROW() -389 )), \"\")","v":""},{"$f":"IFERROR(INDEX(D390:D401, SMALL(IF(ISNUMBER(SEARCH(\"JV2\",F390:F401)), ROW(F390:F401)-MIN(ROW(F390:F401))+1, \"\"), ROW() -389 )), \"\")","v":""},{"$f":"IFERROR(INDEX(E390:E401, SMALL(IF(ISNUMBER(SEARCH(\"JV2\",F390:F401)), ROW(F390:F401)-MIN(ROW(F390:F401))+1, \"\"), ROW() -389 )), \"\")","v":""}]
[null,"Waldorf University",null,"17-22857","Richard Garrett"," ",null,3670.0,null,false]
[null,"Waldorf University",null,"11-69054","Ryan Kaufman","v",null,3670.0,null,false]
[null,"Waldorf University",null,"6419-842","Tyler Harlow","v",null,3670.0,null,false]
[null,"Waldorf University",null,"11-49205","Tyler Lacher-Hambor","v",null,3670.0,null,false]
[null,"West Texas A&M University",null,"16-154902","Ginna Holzman","v",null,2391.0,null,false,{"$nulls":17},{"$f":"IFERROR(INDEX(B402:B409, SMALL(IF(\"V\"=F402:F409, ROW(F402:F409)-MIN(ROW(F402:F409))+1, \"\"), ROW() -401 )), \"\")","v":"West Texas A&M University"},{"$f":"IFERROR(INDEX(C402:C409, SMALL(IF(\"V\"=F402:F409, ROW(F402:F409)-MIN(ROW(F402:F409))+1, \"\"), ROW() -401 )), \"\")","v":""},{"$f":"IFERROR(INDEX(D402:D409, SMALL(IF(\"V\"=F402:F409, ROW(F402:F409)-MIN(ROW(F402:F409))+1, \"\"), ROW() -401 )), \"\")","v":"16-154902"},{"$f":"IFERROR(INDEX(E402:E409, SMALL(IF(\"V\"=F402:F409, ROW(F402:F409)-MIN(ROW(F402:F409))+1, \"\"), ROW() -401 )), \"\")","v":"Ginna Holzman"},{"$f":"IFERROR(INDEX(B402:B409, SMALL(IF(ISNUMBER(SEARCH(\"JV1\",F402:F409)), ROW(F402:F409)-MIN(ROW(F402:F409))+1, \"\"), ROW() -401 )), \"\")","v":""},{"$f":"IFERROR(INDEX(C402:C409, SMALL(IF(ISNUMBER(SEARCH(\"JV1\",F402:F409)), ROW(F402:F409)-MIN(ROW(F402:F409))+1, \"\"), ROW() -401 )), \"\")","v":""},{"$f":"IFERROR(INDEX(D402:D409, SMALL(IF(ISNUMBER(SEARCH(\"JV1\",F402:F409)), ROW(F402:F409)-MIN(ROW(F402:F409))+1, \"\"), ROW() -401 )), \"\")","v":""},{"$f":"IFERROR(INDEX(E402:E409, SMALL(IF(ISNUMBER(SEARCH(\"JV1\",F402:F409)), ROW(F402:F409)-MIN(ROW(F402:F409))+1, \"\"), ROW() -401 )), \"\")","v":""},{"$f":"IFERROR(INDEX(B402:B409, SMALL(IF(ISNUMBER(SEARCH(\"JV2\",F402:F409)), ROW(F402:F409)-MIN(ROW(F402:F409))+1, \"\"), ROW() -401 )), \"\")","v":""},{"$f":"IFERROR(INDEX(C402:C409, SMALL(IF(ISNUMBER(SEARCH(\"JV2\",F402:F409)), ROW(F402:F409)-MIN(ROW(F402:F409))+1, \"\"), ROW() -401 )), \"\")","v":""},{"$f":"IFERROR(INDEX(D402:D409, SMALL(IF(ISNUMBER(SEARCH(\"JV2\",F402:F409)), ROW(F402:F409)-MIN(ROW(F402:F409))+1, \"\"), ROW() -401 )), \"\")","v":""},{"$f":"IFERROR(INDEX(E402:E409, SMALL(IF(ISNUMBER(SEARCH(\"JV2\",F402:F409)), ROW(F402:F409)-MIN(ROW(F402:F409))+1, \"\"), ROW() -401 )), \"\")","v":""}]
[null,"West Texas A&M University",null,"8216-1672","Jacob Griffin","v",null,2391.0,null,false,{"$nulls":17},{"$f":"IFERROR(INDEX(B402:B409, SMALL(IF(\"V\"=F402:F409, ROW(F402:F409)-MIN(ROW(F402:F409))+1, \"\"), ROW() -401 )), \"\")","v":"West Texas A&M University"},{"$f":"IFERROR(INDEX(C402:C409, SMALL(IF(\"V\"=F402:F409, ROW(F402:F409)-MIN(ROW(F402:F409))+1, \"\"), ROW() -401 )), \"\")","v":""},{"$f":"IFERROR(INDEX(D402:D409, SMALL(IF(\"V\"=F402:F409, ROW(F402:F409)-MIN(ROW(F402:F409))+1, \"\"), ROW() -401 )), \"\")","v":"8216-1672"},{"$f":"IFERROR(INDEX(E402:E409, SMALL(IF(\"V\"=F402:F409, ROW(F402:F409)-MIN(ROW(F402:F409))+1, \"\"), ROW() -401 )), \"\")","v":"Jacob Griffin"},{"$f":"IFERROR(INDEX(B402:B409, SMALL(IF(ISNUMBER(SEARCH(\"JV1\",F402:F409)), ROW(F402:F409)-MIN(ROW(F402:F409))+1, \"\"), ROW() -401 )), \"\")","v":""},{"$f":"IFERROR(INDEX(C402:C409, SMALL(IF(ISNUMBER(SEARCH(\"JV1\",F402:F409)), ROW(F402:F409)-MIN(ROW(F402:F409))+1, \"\"), ROW() -401 )), \"\")","v":""},{"$f":"IFERROR(INDEX(D402:D409, SMALL(IF(ISNUMBER(SEARCH(\"JV1\",F402:F409)), ROW(F402:F409)-MIN(ROW(F402:F409))+1, \"\"), ROW() -401 )), \"\")","v":""},{"$f":"IFERROR(INDEX(E402:E409, SMALL(IF(ISNUMBER(SEARCH(\"JV1\",F402:F409)), ROW(F402:F409)-MIN(ROW(F402:F409))+1, \"\"), ROW() -401 )), \"\")","v":""},{"$f":"IFERROR(INDEX(B402:B409, SMALL(IF(ISNUMBER(SEARCH(\"JV2\",F402:F409)), ROW(F402:F409)-MIN(ROW(F402:F409))+1, \"\"), ROW() -401 )), \"\")","v":""},{"$f":"IFERROR(INDEX(C402:C409, SMALL(IF(ISNUMBER(SEARCH(\"JV2\",F402:F409)), ROW(F402:F409)-MIN(ROW(F402:F409))+1, \"\"), ROW() -401 )), \"\")","v":""},{"$f":"IFERROR(INDEX(D402:D409, SMALL(IF(ISNUMBER(SEARCH(\"JV2\",F402:F409)), ROW(F402:F409)-MIN(ROW(F402:F409))+1, \"\"), ROW() -401 )), \"\")","v":""},{"$f":"IFERROR(INDEX(E402:E409, SMALL(IF(ISNUMBER(SEARCH(\"JV2\",F402:F409)), ROW(F402:F409)-MIN(ROW(F402:F409))+1, \"\"), ROW() -401 )), \"\")","v":""}]
[null,"West Texas A&M University",null,"21-61926","Lillynn Lewis","v",null,2391.0,null,false,{"$nulls":17},{"$f":"IFERROR(INDEX(B402:B409, SMALL(IF(\"V\"=F402:F409, ROW(F402:F409)-MIN(ROW(F402:F409))+1, \"\"), ROW() -401 )), \"\")","v":"West Texas A&M University"},{"$f":"IFERROR(INDEX(C402:C409, SMALL(IF(\"V\"=F402:F409, ROW(F402:F409)-MIN(ROW(F402:F409))+1, \"\"), ROW() -401 )), \"\")","v":""},{"$f":"IFERROR(INDEX(D402:D409, SMALL(IF(\"V\"=F402:F409, ROW(F402:F409)-MIN(ROW(F402:F409))+1, \"\"), ROW() -401 )), \"\")","v":"21-61926"},{"$f":"IFERROR(INDEX(E402:E409, SMALL(IF(\"V\"=F402:F409, ROW(F402:F409)-MIN(ROW(F402:F409))+1, \"\"), ROW() -401 )), \"\")","v":"Lillynn Lewis"},{"$f":"IFERROR(INDEX(B402:B409, SMALL(IF(ISNUMBER(SEARCH(\"JV1\",F402:F409)), ROW(F402:F409)-MIN(ROW(F402:F409))+1, \"\"), ROW() -401 )), \"\")","v":""},{"$f":"IFERROR(INDEX(C402:C409, SMALL(IF(ISNUMBER(SEARCH(\"JV1\",F402:F409)), ROW(F402:F409)-MIN(ROW(F402:F409))+1, \"\"), ROW() -401 )), \"\")","v":""},{"$f":"IFERROR(INDEX(D402:D409, SMALL(IF(ISNUMBER(SEARCH(\"JV1\",F402:F409)), ROW(F402:F409)-MIN(ROW(F402:F409))+1, \"\"), ROW() -401 )), \"\")","v":""},{"$f":"IFERROR(INDEX(E402:E409, SMALL(IF(ISNUMBER(SEARCH(\"JV1\",F402:F409)), ROW(F402:F409)-MIN(ROW(F402:F409))+1, \"\"), ROW() -401 )), \"\")","v":""},{"$f":"IFERROR(INDEX(B402:B409, SMALL(IF(ISNUMBER(SEARCH(\"JV2\",F402:F409)), ROW(F402:F409)-MIN(ROW(F402:F409))+1, \"\"), ROW() -401 )), \"\")","v":""},{"$f":"IFERROR(INDEX(C402:C409, SMALL(IF(ISNUMBER(SEARCH(\"JV2\",F402:F409)), ROW(F402:F409)-MIN(ROW(F402:F409))+1, \"\"), ROW() -401 )), \"\")","v":""},{"$f":"IFERROR(INDEX(D402:D409, SMALL(IF(ISNUMBER(SEARCH(\"JV2\",F402:F409)), ROW(F402:F409)-MIN(ROW(F402:F409))+1, \"\"), ROW() -401 )), \"\")","v":""},{"$f":"IFERROR(INDEX(E402:E409, SMALL(IF(ISNUMBER(SEARCH(\"JV2\",F402:F409)), ROW(F402:F409)-MIN(ROW(F402:F409))+1, \"\"), ROW() -401 )), \"\")","v":""}]
[null,"West Texas A&M University",null,"21-14229","Paizley Madrigal","v",null,2391.0,null,false,{"$nulls":17},{"$f":"IFERROR(INDEX(B402:B409, SMALL(IF(\"V\"=F402:F409, ROW(F402:F409)-MIN(ROW(F402:F409))+1, \"\"), ROW() -401 )), \"\")","v":"West Texas A&M University"},{"$f":"IFERROR(INDEX(C402:C409, SMALL(IF(\"V\"=F402:F409, ROW(F402:F409)-MIN(ROW(F402:F409))+1, \"\"), ROW() -401 )), \"\")","v":""},{"$f":"IFERROR(INDEX(D402:D409, SMALL(IF(\"V\"=F402:F409, ROW(F402:F409)-MIN(ROW(F402:F409))+1, \"\"), ROW() -401 )), \"\")","v":"21-14229"},{"$f":"IFERROR(INDEX(E402:E409, SMALL(IF(\"V\"=F402:F409, ROW(F402:F409)-MIN(ROW(F402:F409))+1, \"\"), ROW() -401 )), \"\")","v":"Paizley Madrigal"},{"$f":"IFERROR(INDEX(B402:B409, SMALL(IF(ISNUMBER(SEARCH(\"JV1\",F402:F409)), ROW(F402:F409)-MIN(ROW(F402:F409))+1, \"\"), ROW() -401 )), \"\")","v":""},{"$f":"IFERROR(INDEX(C402:C409, SMALL(IF(ISNUMBER(SEARCH(\"JV1\",F402:F409)), ROW(F402:F409)-MIN(ROW(F402:F409))+1, \"\"), ROW() -401 )), \"\")","v":""},{"$f":"IFERROR(INDEX(D402:D409, SMALL(IF(ISNUMBER(SEARCH(\"JV1\",F402:F409)), ROW(F402:F409)-MIN(ROW(F402:F409))+1, \"\"), ROW() -401 )), \"\")","v":""},{"$f":"IFERROR(INDEX(E402:E409, SMALL(IF(ISNUMBER(SEARCH(\"JV1\",F402:F409)), ROW(F402:F409)-MIN(ROW(F402:F409))+1, \"\"), ROW() -401 )), \"\")","v":""},{"$f":"IFERROR(INDEX(B402:B409, SMALL(IF(ISNUMBER(SEARCH(\"JV2\",F402:F409)), ROW(F402:F409)-MIN(ROW(F402:F409))+1, \"\"), ROW() -401 )), \"\")","v":""},{"$f":"IFERROR(INDEX(C402:C409, SMALL(IF(ISNUMBER(SEARCH(\"JV2\",F402:F409)), ROW(F402:F409)-MIN(ROW(F402:F409))+1, \"\"), ROW() -401 )), \"\")","v":""},{"$f":"IFERROR(INDEX(D402:D409, SMALL(IF(ISNUMBER(SEARCH(\"JV2\",F402:F409)), ROW(F402:F409)-MIN(ROW(F402:F409))+1, \"\"), ROW() -401 )), \"\")","v":""},{"$f":"IFERROR(INDEX(E402:E409, SMALL(IF(ISNUMBER(SEARCH(\"JV2\",F402:F409)), ROW(F402:F409)-MIN(ROW(F402:F409))+1, \"\"), ROW() -401 )), \"\")","v":""}]
[null,"West Texas A&M University",null,"18-64855","Peyton Stokes","v",null,2391.0,null,false,{"$nulls":17},{"$f":"IFERROR(INDEX(B402:B409, SMALL(IF(\"V\"=F402:F409, ROW(F402:F409)-MIN(ROW(F402:F409))+1, \"\"), ROW() -401 )), \"\")","v":"West Texas A&M University"},{"$f":"IFERROR(INDEX(C402:C409, SMALL(IF(\"V\"=F402:F409, ROW(F402:F409)-MIN(ROW(F402:F409))+1, \"\"), ROW() -401 )), \"\")","v":""},{"$f":"IFERROR(INDEX(D402:D409, SMALL(IF(\"V\"=F402:F409, ROW(F402:F409)-MIN(ROW(F402:F409))+1, \"\"), ROW() -401 )), \"\")","v":"18-64855"},{"$f":"IFERROR(INDEX(E402:E409, SMALL(IF(\"V\"=F402:F409, ROW(F402:F409)-MIN(ROW(F402:F409))+1, \"\"), ROW() -401 )), \"\")","v":"Peyton Stokes"},{"$f":"IFERROR(INDEX(B402:B409, SMALL(IF(ISNUMBER(SEARCH(\"JV1\",F402:F409)), ROW(F402:F409)-MIN(ROW(F402:F409))+1, \"\"), ROW() -401 )), \"\")","v":""},{"$f":"IFERROR(INDEX(C402:C409, SMALL(IF(ISNUMBER(SEARCH(\"JV1\",F402:F409)), ROW(F402:F409)-MIN(ROW(F402:F409))+1, \"\"), ROW() -401 )), \"\")","v":""},{"$f":"IFERROR(INDEX(D402:D409, SMALL(IF(ISNUMBER(SEARCH(\"JV1\",F402:F409)), ROW(F402:F409)-MIN(ROW(F402:F409))+1, \"\"), ROW() -401 )), \"\")","v":""},{"$f":"IFERROR(INDEX(E402:E409, SMALL(IF(ISNUMBER(SEARCH(\"JV1\",F402:F409)), ROW(F402:F409)-MIN(ROW(F402:F409))+1, \"\"), ROW() -401 )), \"\")","v":""},{"$f":"IFERROR(INDEX(B402:B409, SMALL(IF(ISNUMBER(SEARCH(\"JV2\",F402:F409)), ROW(F402:F409)-MIN(ROW(F402:F409))+1, \"\"), ROW() -401 )), \"\")","v":""},{"$f":"IFERROR(INDEX(C402:C409, SMALL(IF(ISNUMBER(SEARCH(\"JV2\",F402:F409)), ROW(F402:F409)-MIN(ROW(F402:F409))+1, \"\"), ROW() -401 )), \"\")","v":""},{"$f":"IFERROR(INDEX(D402:D409, SMALL(IF(ISNUMBER(SEARCH(\"JV2\",F402:F409)), ROW(F402:F409)-MIN(ROW(F402:F409))+1, \"\"), ROW() -401 )), \"\")","v":""},{"$f":"IFERROR(INDEX(E402:E409, SMALL(IF(ISNUMBER(SEARCH(\"JV2\",F402:F409)), ROW(F402:F409)-MIN(ROW(F402:F409))+1, \"\"), ROW() -401 )), \"\")","v":""}]
[null,"West Texas A&M University",null,"6161-280","Preston Downard","v",null,2391.0,null,false,{"$nulls":17},{"$f":"IFERROR(INDEX(B402:B409, SMALL(IF(\"V\"=F402:F409, ROW(F402:F409)-MIN(ROW(F402:F409))+1, \"\"), ROW() -401 )), \"\")","v":"West Texas A&M University"},{"$f":"IFERROR(INDEX(C402:C409, SMALL(IF(\"V\"=F402:F409, ROW(F402:F409)-MIN(ROW(F402:F409))+1, \"\"), ROW() -401 )), \"\")","v":""},{"$f":"IFERROR(INDEX(D402:D409, SMALL(IF(\"V\"=F402:F409, ROW(F402:F409)-MIN(ROW(F402:F409))+1, \"\"), ROW() -401 )), \"\")","v":"6161-280"},{"$f":"IFERROR(INDEX(E402:E409, SMALL(IF(\"V\"=F402:F409, ROW(F402:F409)-MIN(ROW(F402:F409))+1, \"\"), ROW() -401 )), \"\")","v":"Preston Downard"},{"$f":"IFERROR(INDEX(B402:B409, SMALL(IF(ISNUMBER(SEARCH(\"JV1\",F402:F409)), ROW(F402:F409)-MIN(ROW(F402:F409))+1, \"\"), ROW() -401 )), \"\")","v":""},{"$f":"IFERROR(INDEX(C402:C409, SMALL(IF(ISNUMBER(SEARCH(\"JV1\",F402:F409)), ROW(F402:F409)-MIN(ROW(F402:F409))+1, \"\"), ROW() -401 )), \"\")","v":""},{"$f":"IFERROR(INDEX(D402:D409, SMALL(IF(ISNUMBER(SEARCH(\"JV1\",F402:F409)), ROW(F402:F409)-MIN(ROW(F402:F409))+1, \"\"), ROW() -401 )), \"\")","v":""},{"$f":"IFERROR(INDEX(E402:E409, SMALL(IF(ISNUMBER(SEARCH(\"JV1\",F402:F409)), ROW(F402:F409)-MIN(ROW(F402:F409))+1, \"\"), ROW() -401 )), \"\")","v":""},{"$f":"IFERROR(INDEX(B402:B409, SMALL(IF(ISNUMBER(SEARCH(\"JV2\",F402:F409)), ROW(F402:F409)-MIN(ROW(F402:F409))+1, \"\"), ROW() -401 )), \"\")","v":""},{"$f":"IFERROR(INDEX(C402:C409, SMALL(IF(ISNUMBER(SEARCH(\"JV2\",F402:F409)), ROW(F402:F409)-MIN(ROW(F402:F409))+1, \"\"), ROW() -401 )), \"\")","v":""},{"$f":"IFERROR(INDEX(D402:D409, SMALL(IF(ISNUMBER(SEARCH(\"JV2\",F402:F409)), ROW(F402:F409)-MIN(ROW(F402:F409))+1, \"\"), ROW() -401 )), \"\")","v":""},{"$f":"IFERROR(INDEX(E402:E409, SMALL(IF(ISNUMBER(SEARCH(\"JV2\",F402:F409)), ROW(F402:F409)-MIN(ROW(F402:F409))+1, \"\"), ROW() -401 )), \"\")","v":""}]
[null,"West Texas A&M University",null,"22-22927","Rodrigo Lomana"," ",null,2391.0,null,false,{"$nulls":17},{"$f":"IFERROR(INDEX(B402:B409, SMALL(IF(\"V\"=F402:F409, ROW(F402:F409)-MIN(ROW(F402:F409))+1, \"\"), ROW() -401 )), \"\")","v":"West Texas A&M University"},{"$f":"IFERROR(INDEX(C402:C409, SMALL(IF(\"V\"=F402:F409, ROW(F402:F409)-MIN(ROW(F402:F409))+1, \"\"), ROW() -401 )), \"\")","v":""},{"$f":"IFERROR(INDEX(D402:D409, SMALL(IF(\"V\"=F402:F409, ROW(F402:F409)-MIN(ROW(F402:F409))+1, \"\"), ROW() -401 )), \"\")","v":"15-83216"},{"$f":"IFERROR(INDEX(E402:E409, SMALL(IF(\"V\"=F402:F409, ROW(F402:F409)-MIN(ROW(F402:F409))+1, \"\"), ROW() -401 )), \"\")","v":"Will Davis"},{"$f":"IFERROR(INDEX(B402:B409, SMALL(IF(ISNUMBER(SEARCH(\"JV1\",F402:F409)), ROW(F402:F409)-MIN(ROW(F402:F409))+1, \"\"), ROW() -401 )), \"\")","v":""},{"$f":"IFERROR(INDEX(C402:C409, SMALL(IF(ISNUMBER(SEARCH(\"JV1\",F402:F409)), ROW(F402:F409)-MIN(ROW(F402:F409))+1, \"\"), ROW() -401 )), \"\")","v":""},{"$f":"IFERROR(INDEX(D402:D409, SMALL(IF(ISNUMBER(SEARCH(\"JV1\",F402:F409)), ROW(F402:F409)-MIN(ROW(F402:F409))+1, \"\"), ROW() -401 )), \"\")","v":""},{"$f":"IFERROR(INDEX(E402:E409, SMALL(IF(ISNUMBER(SEARCH(\"JV1\",F402:F409)), ROW(F402:F409)-MIN(ROW(F402:F409))+1, \"\"), ROW() -401 )), \"\")","v":""},{"$f":"IFERROR(INDEX(B402:B409, SMALL(IF(ISNUMBER(SEARCH(\"JV2\",F402:F409)), ROW(F402:F409)-MIN(ROW(F402:F409))+1, \"\"), ROW() -401 )), \"\")","v":""},{"$f":"IFERROR(INDEX(C402:C409, SMALL(IF(ISNUMBER(SEARCH(\"JV2\",F402:F409)), ROW(F402:F409)-MIN(ROW(F402:F409))+1, \"\"), ROW() -401 )), \"\")","v":""},{"$f":"IFERROR(INDEX(D402:D409, SMALL(IF(ISNUMBER(SEARCH(\"JV2\",F402:F409)), ROW(F402:F409)-MIN(ROW(F402:F409))+1, \"\"), ROW() -401 )), \"\")","v":""},{"$f":"IFERROR(INDEX(E402:E409, SMALL(IF(ISNUMBER(SEARCH(\"JV2\",F402:F409)), ROW(F402:F409)-MIN(ROW(F402:F409))+1, \"\"), ROW() -401 )), \"\")","v":""}]
[null,"West Texas A&M University",null,"15-83216","Will Davis","v",null,2391.0,null,false,{"$nulls":17},{"$f":"IFERROR(INDEX(B402:B409, SMALL(IF(\"V\"=F402:F409, ROW(F402:F409)-MIN(ROW(F402:F409))+1, \"\"), ROW() -401 )), \"\")","v":""},{"$f":"IFERROR(INDEX(C402:C409, SMALL(IF(\"V\"=F402:F409, ROW(F402:F409)-MIN(ROW(F402:F409))+1, \"\"), ROW() -401 )), \"\")","v":""},{"$f":"IFERROR(INDEX(D402:D409, SMALL(IF(\"V\"=F402:F409, ROW(F402:F409)-MIN(ROW(F402:F409))+1, \"\"), ROW() -401 )), \"\")","v":""},{"$f":"IFERROR(INDEX(E402:E409, SMALL(IF(\"V\"=F402:F409, ROW(F402:F409)-MIN(ROW(F402:F409))+1, \"\"), ROW() -401 )), \"\")","v":""},{"$f":"IFERROR(INDEX(B402:B409, SMALL(IF(ISNUMBER(SEARCH(\"JV1\",F402:F409)), ROW(F402:F409)-MIN(ROW(F402:F409))+1, \"\"), ROW() -401 )), \"\")","v":""},{"$f":"IFERROR(INDEX(C402:C409, SMALL(IF(ISNUMBER(SEARCH(\"JV1\",F402:F409)), ROW(F402:F409)-MIN(ROW(F402:F409))+1, \"\"), ROW() -401 )), \"\")","v":""},{"$f":"IFERROR(INDEX(D402:D409, SMALL(IF(ISNUMBER(SEARCH(\"JV1\",F402:F409)), ROW(F402:F409)-MIN(ROW(F402:F409))+1, \"\"), ROW() -401 )), \"\")","v":""},{"$f":"IFERROR(INDEX(E402:E409, SMALL(IF(ISNUMBER(SEARCH(\"JV1\",F402:F409)), ROW(F402:F409)-MIN(ROW(F402:F409))+1, \"\"), ROW() -401 )), \"\")","v":""},{"$f":"IFERROR(INDEX(B402:B409, SMALL(IF(ISNUMBER(SEARCH(\"JV2\",F402:F409)), ROW(F402:F409)-MIN(ROW(F402:F409))+1, \"\"), ROW() -401 )), \"\")","v":""},{"$f":"IFERROR(INDEX(C402:C409, SMALL(IF(ISNUMBER(SEARCH(\"JV2\",F402:F409)), ROW(F402:F409)-MIN(ROW(F402:F409))+1, \"\"), ROW() -401 )), \"\")","v":""},{"$f":"IFERROR(INDEX(D402:D409, SMALL(IF(ISNUMBER(SEARCH(\"JV2\",F402:F409)), ROW(F402:F409)-MIN(ROW(F402:F409))+1, \"\"), ROW() -401 )), \"\")","v":""},{"$f":"IFERROR(INDEX(E402:E409, SMALL(IF(ISNUMBER(SEARCH(\"JV2\",F402:F409)), ROW(F402:F409)-MIN(ROW(F402:F409))+1, \"\"), ROW() -401 )), \"\")","v":""}]
[null,"Wichita State University",null,"11-553047","Aidan Baker","jv2",null,1.0,null,false,{"$nulls":17},{"$f":"IFERROR(INDEX(B410:B427, SMALL(IF(\"V\"=F410:F427, ROW(F410:F427)-MIN(ROW(F410:F427))+1, \"\"), ROW() -409 )), \"\")","v":"Wichita State University"},{"$f":"IFERROR(INDEX(C410:C427, SMALL(IF(\"V\"=F410:F427, ROW(F410:F427)-MIN(ROW(F410:F427))+1, \"\"), ROW() -409 )), \"\")","v":""},{"$f":"IFERROR(INDEX(D410:D427, SMALL(IF(\"V\"=F410:F427, ROW(F410:F427)-MIN(ROW(F410:F427))+1, \"\"), ROW() -409 )), \"\")","v":"5984-243"},{"$f":"IFERROR(INDEX(E410:E427, SMALL(IF(\"V\"=F410:F427, ROW(F410:F427)-MIN(ROW(F410:F427))+1, \"\"), ROW() -409 )), \"\")","v":"Alec Keplinger"},{"$f":"IFERROR(INDEX(B410:B427, SMALL(IF(ISNUMBER(SEARCH(\"JV1\",F410:F427)), ROW(F410:F427)-MIN(ROW(F410:F427))+1, \"\"), ROW() -409 )), \"\")","v":"Wichita State University"},{"$f":"IFERROR(INDEX(C410:C427, SMALL(IF(ISNUMBER(SEARCH(\"JV1\",F410:F427)), ROW(F410:F427)-MIN(ROW(F410:F427))+1, \"\"), ROW() -409 )), \"\")","v":""},{"$f":"IFERROR(INDEX(D410:D427, SMALL(IF(ISNUMBER(SEARCH(\"JV1\",F410:F427)), ROW(F410:F427)-MIN(ROW(F410:F427))+1, \"\"), ROW() -409 )), \"\")","v":"11-719521"},{"$f":"IFERROR(INDEX(E410:E427, SMALL(IF(ISNUMBER(SEARCH(\"JV1\",F410:F427)), ROW(F410:F427)-MIN(ROW(F410:F427))+1, \"\"), ROW() -409 )), \"\")","v":"Brandon Caruso"},{"$f":"IFERROR(INDEX(B410:B427, SMALL(IF(ISNUMBER(SEARCH(\"JV2\",F410:F427)), ROW(F410:F427)-MIN(ROW(F410:F427))+1, \"\"), ROW() -409 )), \"\")","v":"Wichita State University"},{"$f":"IFERROR(INDEX(C410:C427, SMALL(IF(ISNUMBER(SEARCH(\"JV2\",F410:F427)), ROW(F410:F427)-MIN(ROW(F410:F427))+1, \"\"), ROW() -409 )), \"\")","v":""},{"$f":"IFERROR(INDEX(D410:D427, SMALL(IF(ISNUMBER(SEARCH(\"JV2\",F410:F427)), ROW(F410:F427)-MIN(ROW(F410:F427))+1, \"\"), ROW() -409 )), \"\")","v":"11-553047"},{"$f":"IFERROR(INDEX(E410:E427, SMALL(IF(ISNUMBER(SEARCH(\"JV2\",F410:F427)), ROW(F410:F427)-MIN(ROW(F410:F427))+1, \"\"), ROW() -409 )), \"\")","v":"Aidan Baker"}]
[null,"Wichita State University",null,"5984-243","Alec Keplinger","V",null,1.0,null,false,{"$nulls":17},{"$f":"IFERROR(INDEX(B410:B427, SMALL(IF(\"V\"=F410:F427, ROW(F410:F427)-MIN(ROW(F410:F427))+1, \"\"), ROW() -409 )), \"\")","v":"Wichita State University"},{"$f":"IFERROR(INDEX(C410:C427, SMALL(IF(\"V\"=F410:F427, ROW(F410:F427)-MIN(ROW(F410:F427))+1, \"\"), ROW() -409 )), \"\")","v":""},{"$f":"IFERROR(INDEX(D410:D427, SMALL(IF(\"V\"=F410:F427, ROW(F410:F427)-MIN(ROW(F410:F427))+1, \"\"), ROW() -409 )), \"\")","v":"5900-25321"},{"$f":"IFERROR(INDEX(E410:E427, SMALL(IF(\"V\"=F410:F427, ROW(F410:F427)-MIN(ROW(F410:F427))+1, \"\"), ROW() -409 )), \"\")","v":"Brandon Bonta"},{"$f":"IFERROR(INDEX(B410:B427, SMALL(IF(ISNUMBER(SEARCH(\"JV1\",F410:F427)), ROW(F410:F427)-MIN(ROW(F410:F427))+1, \"\"), ROW() -409 )), \"\")","v":"Wichita State University"},{"$f":"IFERROR(INDEX(C410:C427, SMALL(IF(ISNUMBER(SEARCH(\"JV1\",F410:F427)), ROW(F410:F427)-MIN(ROW(F410:F427))+1, \"\"), ROW() -409 )), \"\")","v":""},{"$f":"IFERROR(INDEX(D410:D427, SMALL(IF(ISNUMBER(SEARCH(\"JV1\",F410:F427)), ROW(F410:F427)-MIN(ROW(F410:F427))+1, \"\"), ROW() -409 )), \"\")","v":"5900-27892"},{"$f":"IFERROR(INDEX(E410:E427, SMALL(IF(ISNUMBER(SEARCH(\"JV1\",F410:F427)), ROW(F410:F427)-MIN(ROW(F410:F427))+1, \"\"), ROW() -409 )), \"\")","v":"Brandon Collins"},{"$f":"IFERROR(INDEX(B410:B427, SMALL(IF(ISNUMBER(SEARCH(\"JV2\",F410:F427)), ROW(F410:F427)-MIN(ROW(F410:F427))+1, \"\"), ROW() -409 )), \"\")","v":"Wichita State University"},{"$f":"IFERROR(INDEX(C410:C427, SMALL(IF(ISNUMBER(SEARCH(\"JV2\",F410:F427)), ROW(F410:F427)-MIN(ROW(F410:F427))+1, \"\"), ROW() -409 )), \"\")","v":""},{"$f":"IFERROR(INDEX(D410:D427, SMALL(IF(ISNUMBER(SEARCH(\"JV2\",F410:F427)), ROW(F410:F427)-MIN(ROW(F410:F427))+1, \"\"), ROW() -409 )), \"\")","v":"8599-56155"},{"$f":"IFERROR(INDEX(E410:E427, SMALL(IF(ISNUMBER(SEARCH(\"JV2\",F410:F427)), ROW(F410:F427)-MIN(ROW(F410:F427))+1, \"\"), ROW() -409 )), \"\")","v":"Alex Harms"}]
[null,"Wichita State University",null,"8599-56155","Alex Harms","jv2",null,1.0,null,false,{"$nulls":17},{"$f":"IFERROR(INDEX(B410:B427, SMALL(IF(\"V\"=F410:F427, ROW(F410:F427)-MIN(ROW(F410:F427))+1, \"\"), ROW() -409 )), \"\")","v":"Wichita State University"},{"$f":"IFERROR(INDEX(C410:C427, SMALL(IF(\"V\"=F410:F427, ROW(F410:F427)-MIN(ROW(F410:F427))+1, \"\"), ROW() -409 )), \"\")","v":""},{"$f":"IFERROR(INDEX(D410:D427, SMALL(IF(\"V\"=F410:F427, ROW(F410:F427)-MIN(ROW(F410:F427))+1, \"\"), ROW() -409 )), \"\")","v":"11-459860"},{"$f":"IFERROR(INDEX(E410:E427, SMALL(IF(\"V\"=F410:F427, ROW(F410:F427)-MIN(ROW(F410:F427))+1, \"\"), ROW() -409 )), \"\")","v":"David Hayes"},{"$f":"IFERROR(INDEX(B410:B427, SMALL(IF(ISNUMBER(SEARCH(\"JV1\",F410:F427)), ROW(F410:F427)-MIN(ROW(F410:F427))+1, \"\"), ROW() -409 )), \"\")","v":"Wichita State University"},{"$f":"IFERROR(INDEX(C410:C427, SMALL(IF(ISNUMBER(SEARCH(\"JV1\",F410:F427)), ROW(F410:F427)-MIN(ROW(F410:F427))+1, \"\"), ROW() -409 )), \"\")","v":""},{"$f":"IFERROR(INDEX(D410:D427, SMALL(IF(ISNUMBER(SEARCH(\"JV1\",F410:F427)), ROW(F410:F427)-MIN(ROW(F410:F427))+1, \"\"), ROW() -409 )), \"\")","v":"7914-45013"},{"$f":"IFERROR(INDEX(E410:E427, SMALL(IF(ISNUMBER(SEARCH(\"JV1\",F410:F427)), ROW(F410:F427)-MIN(ROW(F410:F427))+1, \"\"), ROW() -409 )), \"\")","v":"Carter Street"},{"$f":"IFERROR(INDEX(B410:B427, SMALL(IF(ISNUMBER(SEARCH(\"JV2\",F410:F427)), ROW(F410:F427)-MIN(ROW(F410:F427))+1, \"\"), ROW() -409 )), \"\")","v":"Wichita State University"},{"$f":"IFERROR(INDEX(C410:C427, SMALL(IF(ISNUMBER(SEARCH(\"JV2\",F410:F427)), ROW(F410:F427)-MIN(ROW(F410:F427))+1, \"\"), ROW() -409 )), \"\")","v":""},{"$f":"IFERROR(INDEX(D410:D427, SMALL(IF(ISNUMBER(SEARCH(\"JV2\",F410:F427)), ROW(F410:F427)-MIN(ROW(F410:F427))+1, \"\"), ROW() -409 )), \"\")","v":"11-88267"},{"$f":"IFERROR(INDEX(E410:E427, SMALL(IF(ISNUMBER(SEARCH(\"JV2\",F410:F427)), ROW(F410:F427)-MIN(ROW(F410:F427))+1, \"\"), ROW() -409 )), \"\")","v":"Brady Jennings"}]
[null,"Wichita State University",null,"11-88267","Brady Jennings","jv2",null,1.0,null,false,{"$nulls":17},{"$f":"IFERROR(INDEX(B410:B427, SMALL(IF(\"V\"=F410:F427, ROW(F410:F427)-MIN(ROW(F410:F427))+1, \"\"), ROW() -409 )), \"\")","v":"Wichita State University"},{"$f":"IFERROR(INDEX(C410:C427, SMALL(IF(\"V\"=F410:F427, ROW(F410:F427)-MIN(ROW(F410:F427))+1, \"\"), ROW() -409 )), \"\")","v":""},{"$f":"IFERROR(INDEX(D410:D427, SMALL(IF(\"V\"=F410:F427, ROW(F410:F427)-MIN(ROW(F410:F427))+1, \"\"), ROW() -409 )), \"\")","v":"5717-1804"},{"$f":"IFERROR(INDEX(E410:E427, SMALL(IF(\"V\"=F410:F427, ROW(F410:F427)-MIN(ROW(F410:F427))+1, \"\"), ROW() -409 )), \"\")","v":"Nicholas Sommer"},{"$f":"IFERROR(INDEX(B410:B427, SMALL(IF(ISNUMBER(SEARCH(\"JV1\",F410:F427)), ROW(F410:F427)-MIN(ROW(F410:F427))+1, \"\"), ROW() -409 )), \"\")","v":"Wichita State University"},{"$f":"IFERROR(INDEX(C410:C427, SMALL(IF(ISNUMBER(SEARCH(\"JV1\",F410:F427)), ROW(F410:F427)-MIN(ROW(F410:F427))+1, \"\"), ROW() -409 )), \"\")","v":""},{"$f":"IFERROR(INDEX(D410:D427, SMALL(IF(ISNUMBER(SEARCH(\"JV1\",F410:F427)), ROW(F410:F427)-MIN(ROW(F410:F427))+1, \"\"), ROW() -409 )), \"\")","v":"5900-26986"},{"$f":"IFERROR(INDEX(E410:E427, SMALL(IF(ISNUMBER(SEARCH(\"JV1\",F410:F427)), ROW(F410:F427)-MIN(ROW(F410:F427))+1, \"\"), ROW() -409 )), \"\")","v":"Samuel Calderon"},{"$f":"IFERROR(INDEX(B410:B427, SMALL(IF(ISNUMBER(SEARCH(\"JV2\",F410:F427)), ROW(F410:F427)-MIN(ROW(F410:F427))+1, \"\"), ROW() -409 )), \"\")","v":"Wichita State University"},{"$f":"IFERROR(INDEX(C410:C427, SMALL(IF(ISNUMBER(SEARCH(\"JV2\",F410:F427)), ROW(F410:F427)-MIN(ROW(F410:F427))+1, \"\"), ROW() -409 )), \"\")","v":""},{"$f":"IFERROR(INDEX(D410:D427, SMALL(IF(ISNUMBER(SEARCH(\"JV2\",F410:F427)), ROW(F410:F427)-MIN(ROW(F410:F427))+1, \"\"), ROW() -409 )), \"\")","v":"7914-43393"},{"$f":"IFERROR(INDEX(E410:E427, SMALL(IF(ISNUMBER(SEARCH(\"JV2\",F410:F427)), ROW(F410:F427)-MIN(ROW(F410:F427))+1, \"\"), ROW() -409 )), \"\")","v":"Louis Luna"}]
[null,"Wichita State University",null,"5900-25321","Brandon Bonta","V",null,1.0,null,false,{"$nulls":17},{"$f":"IFERROR(INDEX(B410:B427, SMALL(IF(\"V\"=F410:F427, ROW(F410:F427)-MIN(ROW(F410:F427))+1, \"\"), ROW() -409 )), \"\")","v":"Wichita State University"},{"$f":"IFERROR(INDEX(C410:C427, SMALL(IF(\"V\"=F410:F427, ROW(F410:F427)-MIN(ROW(F410:F427))+1, \"\"), ROW() -409 )), \"\")","v":""},{"$f":"IFERROR(INDEX(D410:D427, SMALL(IF(\"V\"=F410:F427, ROW(F410:F427)-MIN(ROW(F410:F427))+1, \"\"), ROW() -409 )), \"\")","v":"8072-7714"},{"$f":"IFERROR(INDEX(E410:E427, SMALL(IF(\"V\"=F410:F427, ROW(F410:F427)-MIN(ROW(F410:F427))+1, \"\"), ROW() -409 )), \"\")","v":"Ryan Barnes"},{"$f":"IFERROR(INDEX(B410:B427, SMALL(IF(ISNUMBER(SEARCH(\"JV1\",F410:F427)), ROW(F410:F427)-MIN(ROW(F410:F427))+1, \"\"), ROW() -409 )), \"\")","v":"Wichita State University"},{"$f":"IFERROR(INDEX(C410:C427, SMALL(IF(ISNUMBER(SEARCH(\"JV1\",F410:F427)), ROW(F410:F427)-MIN(ROW(F410:F427))+1, \"\"), ROW() -409 )), \"\")","v":""},{"$f":"IFERROR(INDEX(D410:D427, SMALL(IF(ISNUMBER(SEARCH(\"JV1\",F410:F427)), ROW(F410:F427)-MIN(ROW(F410:F427))+1, \"\"), ROW() -409 )), \"\")","v":"5617-4286"},{"$f":"IFERROR(INDEX(E410:E427, SMALL(IF(ISNUMBER(SEARCH(\"JV1\",F410:F427)), ROW(F410:F427)-MIN(ROW(F410:F427))+1, \"\"), ROW() -409 )), \"\")","v":"Zachary Leshikar"},{"$f":"IFERROR(INDEX(B410:B427, SMALL(IF(ISNUMBER(SEARCH(\"JV2\",F410:F427)), ROW(F410:F427)-MIN(ROW(F410:F427))+1, \"\"), ROW() -409 )), \"\")","v":"Wichita State University"},{"$f":"IFERROR(INDEX(C410:C427, SMALL(IF(ISNUMBER(SEARCH(\"JV2\",F410:F427)), ROW(F410:F427)-MIN(ROW(F410:F427))+1, \"\"), ROW() -409 )), \"\")","v":""},{"$f":"IFERROR(INDEX(D410:D427, SMALL(IF(ISNUMBER(SEARCH(\"JV2\",F410:F427)), ROW(F410:F427)-MIN(ROW(F410:F427))+1, \"\"), ROW() -409 )), \"\")","v":"8219-86694"},{"$f":"IFERROR(INDEX(E410:E427, SMALL(IF(ISNUMBER(SEARCH(\"JV2\",F410:F427)), ROW(F410:F427)-MIN(ROW(F410:F427))+1, \"\"), ROW() -409 )), \"\")","v":"Marcus Cole"}]
[null,"Wichita State University",null,"11-719521","Brandon Caruso","jv1",null,1.0,null,false,{"$nulls":17},{"$f":"IFERROR(INDEX(B410:B427, SMALL(IF(\"V\"=F410:F427, ROW(F410:F427)-MIN(ROW(F410:F427))+1, \"\"), ROW() -409 )), \"\")","v":"Wichita State University"},{"$f":"IFERROR(INDEX(C410:C427, SMALL(IF(\"V\"=F410:F427, ROW(F410:F427)-MIN(ROW(F410:F427))+1, \"\"), ROW() -409 )), \"\")","v":""},{"$f":"IFERROR(INDEX(D410:D427, SMALL(IF(\"V\"=F410:F427, ROW(F410:F427)-MIN(ROW(F410:F427))+1, \"\"), ROW() -409 )), \"\")","v":"8845-13565"},{"$f":"IFERROR(INDEX(E410:E427, SMALL(IF(\"V\"=F410:F427, ROW(F410:F427)-MIN(ROW(F410:F427))+1, \"\"), ROW() -409 )), \"\")","v":"Spencer Robarge"},{"$f":"IFERROR(INDEX(B410:B427, SMALL(IF(ISNUMBER(SEARCH(\"JV1\",F410:F427)), ROW(F410:F427)-MIN(ROW(F410:F427))+1, \"\"), ROW() -409 )), \"\")","v":""},{"$f":"IFERROR(INDEX(C410:C427, SMALL(IF(ISNUMBER(SEARCH(\"JV1\",F410:F427)), ROW(F410:F427)-MIN(ROW(F410:F427))+1, \"\"), ROW() -409 )), \"\")","v":""},{"$f":"IFERROR(INDEX(D410:D427, SMALL(IF(ISNUMBER(SEARCH(\"JV1\",F410:F427)), ROW(F410:F427)-MIN(ROW(F410:F427))+1, \"\"), ROW() -409 )), \"\")","v":""},{"$f":"IFERROR(INDEX(E410:E427, SMALL(IF(ISNUMBER(SEARCH(\"JV1\",F410:F427)), ROW(F410:F427)-MIN(ROW(F410:F427))+1, \"\"), ROW() -409 )), \"\")","v":""},{"$f":"IFERROR(INDEX(B410:B427, SMALL(IF(ISNUMBER(SEARCH(\"JV2\",F410:F427)), ROW(F410:F427)-MIN(ROW(F410:F427))+1, \"\"), ROW() -409 )), \"\")","v":"Wichita State University"},{"$f":"IFERROR(INDEX(C410:C427, SMALL(IF(ISNUMBER(SEARCH(\"JV2\",F410:F427)), ROW(F410:F427)-MIN(ROW(F410:F427))+1, \"\"), ROW() -409 )), \"\")","v":""},{"$f":"IFERROR(INDEX(D410:D427, SMALL(IF(ISNUMBER(SEARCH(\"JV2\",F410:F427)), ROW(F410:F427)-MIN(ROW(F410:F427))+1, \"\"), ROW() -409 )), \"\")","v":"17-34053"},{"$f":"IFERROR(INDEX(E410:E427, SMALL(IF(ISNUMBER(SEARCH(\"JV2\",F410:F427)), ROW(F410:F427)-MIN(ROW(F410:F427))+1, \"\"), ROW() -409 )), \"\")","v":"Ty'un Mattison"}]
[null,"Wichita State University",null,"5900-27892","Brandon Collins","jv1",null,1.0,null,false,{"$nulls":17},{"$f":"IFERROR(INDEX(B410:B427, SMALL(IF(\"V\"=F410:F427, ROW(F410:F427)-MIN(ROW(F410:F427))+1, \"\"), ROW() -409 )), \"\")","v":"Wichita State University"},{"$f":"IFERROR(INDEX(C410:C427, SMALL(IF(\"V\"=F410:F427, ROW(F410:F427)-MIN(ROW(F410:F427))+1, \"\"), ROW() -409 )), \"\")","v":""},{"$f":"IFERROR(INDEX(D410:D427, SMALL(IF(\"V\"=F410:F427, ROW(F410:F427)-MIN(ROW(F410:F427))+1, \"\"), ROW() -409 )), \"\")","v":"8019-45865"},{"$f":"IFERROR(INDEX(E410:E427, SMALL(IF(\"V\"=F410:F427, ROW(F410:F427)-MIN(ROW(F410:F427))+1, \"\"), ROW() -409 )), \"\")","v":"Terrance (T.J.) Rock"},{"$f":"IFERROR(INDEX(B410:B427, SMALL(IF(ISNUMBER(SEARCH(\"JV1\",F410:F427)), ROW(F410:F427)-MIN(ROW(F410:F427))+1, \"\"), ROW() -409 )), \"\")","v":""},{"$f":"IFERROR(INDEX(C410:C427, SMALL(IF(ISNUMBER(SEARCH(\"JV1\",F410:F427)), ROW(F410:F427)-MIN(ROW(F410:F427))+1, \"\"), ROW() -409 )), \"\")","v":""},{"$f":"IFERROR(INDEX(D410:D427, SMALL(IF(ISNUMBER(SEARCH(\"JV1\",F410:F427)), ROW(F410:F427)-MIN(ROW(F410:F427))+1, \"\"), ROW() -409 )), \"\")","v":""},{"$f":"IFERROR(INDEX(E410:E427, SMALL(IF(ISNUMBER(SEARCH(\"JV1\",F410:F427)), ROW(F410:F427)-MIN(ROW(F410:F427))+1, \"\"), ROW() -409 )), \"\")","v":""},{"$f":"IFERROR(INDEX(B410:B427, SMALL(IF(ISNUMBER(SEARCH(\"JV2\",F410:F427)), ROW(F410:F427)-MIN(ROW(F410:F427))+1, \"\"), ROW() -409 )), \"\")","v":""},{"$f":"IFERROR(INDEX(C410:C427, SMALL(IF(ISNUMBER(SEARCH(\"JV2\",F410:F427)), ROW(F410:F427)-MIN(ROW(F410:F427))+1, \"\"), ROW() -409 )), \"\")","v":""},{"$f":"IFERROR(INDEX(D410:D427, SMALL(IF(ISNUMBER(SEARCH(\"JV2\",F410:F427)), ROW(F410:F427)-MIN(ROW(F410:F427))+1, \"\"), ROW() -409 )), \"\")","v":""},{"$f":"IFERROR(INDEX(E410:E427, SMALL(IF(ISNUMBER(SEARCH(\"JV2\",F410:F427)), ROW(F410:F427)-MIN(ROW(F410:F427))+1, \"\"), ROW() -409 )), \"\")","v":""}]
[null,"Wichita State University",null,"7914-45013","Carter Street","jv1",null,1.0,null,false,{"$nulls":17},{"$f":"IFERROR(INDEX(B410:B427, SMALL(IF(\"V\"=F410:F427, ROW(F410:F427)-MIN(ROW(F410:F427))+1, \"\"), ROW() -409 )), \"\")","v":""},{"$f":"IFERROR(INDEX(C410:C427, SMALL(IF(\"V\"=F410:F427, ROW(F410:F427)-MIN(ROW(F410:F427))+1, \"\"), ROW() -409 )), \"\")","v":""},{"$f":"IFERROR(INDEX(D410:D427, SMALL(IF(\"V\"=F410:F427, ROW(F410:F427)-MIN(ROW(F410:F427))+1, \"\"), ROW() -409 )), \"\")","v":""},{"$f":"IFERROR(INDEX(E410:E427, SMALL(IF(\"V\"=F410:F427, ROW(F410:F427)-MIN(ROW(F410:F427))+1, \"\"), ROW() -409 )), \"\")","v":""},{"$f":"IFERROR(INDEX(B410:B427, SMALL(IF(ISNUMBER(SEARCH(\"JV1\",F410:F427)), ROW(F410:F427)-MIN(ROW(F410:F427))+1, \"\"), ROW() -409 )), \"\")","v":""},{"$f":"IFERROR(INDEX(C410:C427, SMALL(IF(ISNUMBER(SEARCH(\"JV1\",F410:F427)), ROW(F410:F427)-MIN(ROW(F410:F427))+1, \"\"), ROW() -409 )), \"\")","v":""},{"$f":"IFERROR(INDEX(D410:D427, SMALL(IF(ISNUMBER(SEARCH(\"JV1\",F410:F427)), ROW(F410:F427)-MIN(ROW(F410:F427))+1, \"\"), ROW() -409 )), \"\")","v":""},{"$f":"IFERROR(INDEX(E410:E427, SMALL(IF(ISNUMBER(SEARCH(\"JV1\",F410:F427)), ROW(F410:F427)-MIN(ROW(F410:F427))+1, \"\"), ROW() -409 )), \"\")","v":""},{"$f":"IFERROR(INDEX(B410:B427, SMALL(IF(ISNUMBER(SEARCH(\"JV2\",F410:F427)), ROW(F410:F427)-MIN(ROW(F410:F427))+1, \"\"), ROW() -409 )), \"\")","v":""},{"$f":"IFERROR(INDEX(C410:C427, SMALL(IF(ISNUMBER(SEARCH(\"JV2\",F410:F427)), ROW(F410:F427)-MIN(ROW(F410:F427))+1, \"\"), ROW() -409 )), \"\")","v":""},{"$f":"IFERROR(INDEX(D410:D427, SMALL(IF(ISNUMBER(SEARCH(\"JV2\",F410:F427)), ROW(F410:F427)-MIN(ROW(F410:F427))+1, \"\"), ROW() -409 )), \"\")","v":""},{"$f":"IFERROR(INDEX(E410:E427, SMALL(IF(ISNUMBER(SEARCH(\"JV2\",F410:F427)), ROW(F410:F427)-MIN(ROW(F410:F427))+1, \"\"), ROW() -409 )), \"\")","v":""}]
[null,"Wichita State University",null,"11-459860","David Hayes","V",null,1.0,null,false]
[null,"Wichita State University",null,"7914-43393","Louis Luna","jv2",null,1.0,null,false]
[null,"Wichita State University",null,"8219-86694","Marcus Cole","jv2",null,1.0,null,false]
[null,"Wichita State University",null,"5717-1804","Nicholas Sommer","V",null,1.0,null,false]
[null,"Wichita State University",null,"8072-7714","Ryan Barnes","V",null,1.0,null,false]
[null,"Wichita State University",null,"5900-26986","Samuel Calderon","jv1",null,1.0,null,false]
[null,"Wichita State University",null,"8845-13565","Spencer Robarge","V",null,1.0,null,false]
[null,"Wichita State University",null,"8019-45865","Terrance (T.J.) Rock","V",null,1.0,null,false]
[null,"Wichita State University",null,"17-34053","Ty'un Mattison","jv2",null,1.0,null,false]
[null,"Wichita State University",null,"5617-4286","Zachary Leshikar","jv1",null,1.0,null,false]
[null,"William Penn University",null,"11-132521","Blaise Hubler"," ",null,3431.0,null,false,{"$nulls":17},{"$f":"IFERROR(INDEX(B428:B448, SMALL(IF(\"V\"=F428:F448, ROW(F428:F448)-MIN(ROW(F428:F448))+1, \"\"), ROW() -427 )), \"\")","v":"William Penn University"},{"$f":"IFERROR(INDEX(C428:C448, SMALL(IF(\"V\"=F428:F448, ROW(F428:F448)-MIN(ROW(F428:F448))+1, \"\"), ROW() -427 )), \"\")","v":""},{"$f":"IFERROR(INDEX(D428:D448, SMALL(IF(\"V\"=F428:F448, ROW(F428:F448)-MIN(ROW(F428:F448))+1, \"\"), ROW() -427 )), \"\")","v":"8223-85672"},{"$f":"IFERROR(INDEX(E428:E448, SMALL(IF(\"V\"=F428:F448, ROW(F428:F448)-MIN(ROW(F428:F448))+1, \"\"), ROW() -427 )), \"\")","v":"Bryce Keykal"},{"$f":"IFERROR(INDEX(B428:B448, SMALL(IF(ISNUMBER(SEARCH(\"JV1\",F428:F448)), ROW(F428:F448)-MIN(ROW(F428:F448))+1, \"\"), ROW() -427 )), \"\")","v":""},{"$f":"IFERROR(INDEX(C428:C448, SMALL(IF(ISNUMBER(SEARCH(\"JV1\",F428:F448)), ROW(F428:F448)-MIN(ROW(F428:F448))+1, \"\"), ROW() -427 )), \"\")","v":""},{"$f":"IFERROR(INDEX(D428:D448, SMALL(IF(ISNUMBER(SEARCH(\"JV1\",F428:F448)), ROW(F428:F448)-MIN(ROW(F428:F448))+1, \"\"), ROW() -427 )), \"\")","v":""},{"$f":"IFERROR(INDEX(E428:E448, SMALL(IF(ISNUMBER(SEARCH(\"JV1\",F428:F448)), ROW(F428:F448)-MIN(ROW(F428:F448))+1, \"\"), ROW() -427 )), \"\")","v":""},{"$f":"IFERROR(INDEX(B428:B448, SMALL(IF(ISNUMBER(SEARCH(\"JV2\",F428:F448)), ROW(F428:F448)-MIN(ROW(F428:F448))+1, \"\"), ROW() -427 )), \"\")","v":""},{"$f":"IFERROR(INDEX(C428:C448, SMALL(IF(ISNUMBER(SEARCH(\"JV2\",F428:F448)), ROW(F428:F448)-MIN(ROW(F428:F448))+1, \"\"), ROW() -427 )), \"\")","v":""},{"$f":"IFERROR(INDEX(D428:D448, SMALL(IF(ISNUMBER(SEARCH(\"JV2\",F428:F448)), ROW(F428:F448)-MIN(ROW(F428:F448))+1, \"\"), ROW() -427 )), \"\")","v":""},{"$f":"IFERROR(INDEX(E428:E448, SMALL(IF(ISNUMBER(SEARCH(\"JV2\",F428:F448)), ROW(F428:F448)-MIN(ROW(F428:F448))+1, \"\"), ROW() -427 )), \"\")","v":""}]
[null,"William Penn University",null,"8223-85672","Bryce Keykal","v",null,3431.0,null,false,{"$nulls":17},{"$f":"IFERROR(INDEX(B428:B448, SMALL(IF(\"V\"=F428:F448, ROW(F428:F448)-MIN(ROW(F428:F448))+1, \"\"), ROW() -427 )), \"\")","v":"William Penn University"},{"$f":"IFERROR(INDEX(C428:C448, SMALL(IF(\"V\"=F428:F448, ROW(F428:F448)-MIN(ROW(F428:F448))+1, \"\"), ROW() -427 )), \"\")","v":""},{"$f":"IFERROR(INDEX(D428:D448, SMALL(IF(\"V\"=F428:F448, ROW(F428:F448)-MIN(ROW(F428:F448))+1, \"\"), ROW() -427 )), \"\")","v":"5822-1038"},{"$f":"IFERROR(INDEX(E428:E448, SMALL(IF(\"V\"=F428:F448, ROW(F428:F448)-MIN(ROW(F428:F448))+1, \"\"), ROW() -427 )), \"\")","v":"Caleb Sterbenz"},{"$f":"IFERROR(INDEX(B428:B448, SMALL(IF(ISNUMBER(SEARCH(\"JV1\",F428:F448)), ROW(F428:F448)-MIN(ROW(F428:F448))+1, \"\"), ROW() -427 )), \"\")","v":""},{"$f":"IFERROR(INDEX(C428:C448, SMALL(IF(ISNUMBER(SEARCH(\"JV1\",F428:F448)), ROW(F428:F448)-MIN(ROW(F428:F448))+1, \"\"), ROW() -427 )), \"\")","v":""},{"$f":"IFERROR(INDEX(D428:D448, SMALL(IF(ISNUMBER(SEARCH(\"JV1\",F428:F448)), ROW(F428:F448)-MIN(ROW(F428:F448))+1, \"\"), ROW() -427 )), \"\")","v":""},{"$f":"IFERROR(INDEX(E428:E448, SMALL(IF(ISNUMBER(SEARCH(\"JV1\",F428:F448)), ROW(F428:F448)-MIN(ROW(F428:F448))+1, \"\"), ROW() -427 )), \"\")","v":""},{"$f":"IFERROR(INDEX(B428:B448, SMALL(IF(ISNUMBER(SEARCH(\"JV2\",F428:F448)), ROW(F428:F448)-MIN(ROW(F428:F448))+1, \"\"), ROW() -427 )), \"\")","v":""},{"$f":"IFERROR(INDEX(C428:C448, SMALL(IF(ISNUMBER(SEARCH(\"JV2\",F428:F448)), ROW(F428:F448)-MIN(ROW(F428:F448))+1, \"\"), ROW() -427 )), \"\")","v":""},{"$f":"IFERROR(INDEX(D428:D448, SMALL(IF(ISNUMBER(SEARCH(\"JV2\",F428:F448)), ROW(F428:F448)-MIN(ROW(F428:F448))+1, \"\"), ROW() -427 )), \"\")","v":""},{"$f":"IFERROR(INDEX(E428:E448, SMALL(IF(ISNUMBER(SEARCH(\"JV2\",F428:F448)), ROW(F428:F448)-MIN(ROW(F428:F448))+1, \"\"), ROW() -427 )), \"\")","v":""}]
[null,"William Penn University",null,"5822-1038","Caleb Sterbenz","v",null,3431.0,null,false,{"$nulls":17},{"$f":"IFERROR(INDEX(B428:B448, SMALL(IF(\"V\"=F428:F448, ROW(F428:F448)-MIN(ROW(F428:F448))+1, \"\"), ROW() -427 )), \"\")","v":"William Penn University"},{"$f":"IFERROR(INDEX(C428:C448, SMALL(IF(\"V\"=F428:F448, ROW(F428:F448)-MIN(ROW(F428:F448))+1, \"\"), ROW() -427 )), \"\")","v":""},{"$f":"IFERROR(INDEX(D428:D448, SMALL(IF(\"V\"=F428:F448, ROW(F428:F448)-MIN(ROW(F428:F448))+1, \"\"), ROW() -427 )), \"\")","v":"22-20754"},{"$f":"IFERROR(INDEX(E428:E448, SMALL(IF(\"V\"=F428:F448, ROW(F428:F448)-MIN(ROW(F428:F448))+1, \"\"), ROW() -427 )), \"\")","v":"Conor Fetherston"},{"$f":"IFERROR(INDEX(B428:B448, SMALL(IF(ISNUMBER(SEARCH(\"JV1\",F428:F448)), ROW(F428:F448)-MIN(ROW(F428:F448))+1, \"\"), ROW() -427 )), \"\")","v":""},{"$f":"IFERROR(INDEX(C428:C448, SMALL(IF(ISNUMBER(SEARCH(\"JV1\",F428:F448)), ROW(F428:F448)-MIN(ROW(F428:F448))+1, \"\"), ROW() -427 )), \"\")","v":""},{"$f":"IFERROR(INDEX(D428:D448, SMALL(IF(ISNUMBER(SEARCH(\"JV1\",F428:F448)), ROW(F428:F448)-MIN(ROW(F428:F448))+1, \"\"), ROW() -427 )), \"\")","v":""},{"$f":"IFERROR(INDEX(E428:E448, SMALL(IF(ISNUMBER(SEARCH(\"JV1\",F428:F448)), ROW(F428:F448)-MIN(ROW(F428:F448))+1, \"\"), ROW() -427 )), \"\")","v":""},{"$f":"IFERROR(INDEX(B428:B448, SMALL(IF(ISNUMBER(SEARCH(\"JV2\",F428:F448)), ROW(F428:F448)-MIN(ROW(F428:F448))+1, \"\"), ROW() -427 )), \"\")","v":""},{"$f":"IFERROR(INDEX(C428:C448, SMALL(IF(ISNUMBER(SEARCH(\"JV2\",F428:F448)), ROW(F428:F448)-MIN(ROW(F428:F448))+1, \"\"), ROW() -427 )), \"\")","v":""},{"$f":"IFERROR(INDEX(D428:D448, SMALL(IF(ISNUMBER(SEARCH(\"JV2\",F428:F448)), ROW(F428:F448)-MIN(ROW(F428:F448))+1, \"\"), ROW() -427 )), \"\")","v":""},{"$f":"IFERROR(INDEX(E428:E448, SMALL(IF(ISNUMBER(SEARCH(\"JV2\",F428:F448)), ROW(F428:F448)-MIN(ROW(F428:F448))+1, \"\"), ROW() -427 )), \"\")","v":""}]
[null,"William Penn University",null,"15-28200","Carter Boley"," ",null,3431.0,null,false,{"$nulls":17},{"$f":"IFERROR(INDEX(B428:B448, SMALL(IF(\"V\"=F428:F448, ROW(F428:F448)-MIN(ROW(F428:F448))+1, \"\"), ROW() -427 )), \"\")","v":"William Penn University"},{"$f":"IFERROR(INDEX(C428:C448, SMALL(IF(\"V\"=F428:F448, ROW(F428:F448)-MIN(ROW(F428:F448))+1, \"\"), ROW() -427 )), \"\")","v":""},{"$f":"IFERROR(INDEX(D428:D448, SMALL(IF(\"V\"=F428:F448, ROW(F428:F448)-MIN(ROW(F428:F448))+1, \"\"), ROW() -427 )), \"\")","v":"5873-792"},{"$f":"IFERROR(INDEX(E428:E448, SMALL(IF(\"V\"=F428:F448, ROW(F428:F448)-MIN(ROW(F428:F448))+1, \"\"), ROW() -427 )), \"\")","v":"Garraty Richmond"},{"$f":"IFERROR(INDEX(B428:B448, SMALL(IF(ISNUMBER(SEARCH(\"JV1\",F428:F448)), ROW(F428:F448)-MIN(ROW(F428:F448))+1, \"\"), ROW() -427 )), \"\")","v":""},{"$f":"IFERROR(INDEX(C428:C448, SMALL(IF(ISNUMBER(SEARCH(\"JV1\",F428:F448)), ROW(F428:F448)-MIN(ROW(F428:F448))+1, \"\"), ROW() -427 )), \"\")","v":""},{"$f":"IFERROR(INDEX(D428:D448, SMALL(IF(ISNUMBER(SEARCH(\"JV1\",F428:F448)), ROW(F428:F448)-MIN(ROW(F428:F448))+1, \"\"), ROW() -427 )), \"\")","v":""},{"$f":"IFERROR(INDEX(E428:E448, SMALL(IF(ISNUMBER(SEARCH(\"JV1\",F428:F448)), ROW(F428:F448)-MIN(ROW(F428:F448))+1, \"\"), ROW() -427 )), \"\")","v":""},{"$f":"IFERROR(INDEX(B428:B448, SMALL(IF(ISNUMBER(SEARCH(\"JV2\",F428:F448)), ROW(F428:F448)-MIN(ROW(F428:F448))+1, \"\"), ROW() -427 )), \"\")","v":""},{"$f":"IFERROR(INDEX(C428:C448, SMALL(IF(ISNUMBER(SEARCH(\"JV2\",F428:F448)), ROW(F428:F448)-MIN(ROW(F428:F448))+1, \"\"), ROW() -427 )), \"\")","v":""},{"$f":"IFERROR(INDEX(D428:D448, SMALL(IF(ISNUMBER(SEARCH(\"JV2\",F428:F448)), ROW(F428:F448)-MIN(ROW(F428:F448))+1, \"\"), ROW() -427 )), \"\")","v":""},{"$f":"IFERROR(INDEX(E428:E448, SMALL(IF(ISNUMBER(SEARCH(\"JV2\",F428:F448)), ROW(F428:F448)-MIN(ROW(F428:F448))+1, \"\"), ROW() -427 )), \"\")","v":""}]
[null,"William Penn University",null,"6796-1940","Coleton Jacobson"," ",null,3431.0,null,false,{"$nulls":17},{"$f":"IFERROR(INDEX(B428:B448, SMALL(IF(\"V\"=F428:F448, ROW(F428:F448)-MIN(ROW(F428:F448))+1, \"\"), ROW() -427 )), \"\")","v":"William Penn University"},{"$f":"IFERROR(INDEX(C428:C448, SMALL(IF(\"V\"=F428:F448, ROW(F428:F448)-MIN(ROW(F428:F448))+1, \"\"), ROW() -427 )), \"\")","v":""},{"$f":"IFERROR(INDEX(D428:D448, SMALL(IF(\"V\"=F428:F448, ROW(F428:F448)-MIN(ROW(F428:F448))+1, \"\"), ROW() -427 )), \"\")","v":"5853-217"},{"$f":"IFERROR(INDEX(E428:E448, SMALL(IF(\"V\"=F428:F448, ROW(F428:F448)-MIN(ROW(F428:F448))+1, \"\"), ROW() -427 )), \"\")","v":"Jake Cook"},{"$f":"IFERROR(INDEX(B428:B448, SMALL(IF(ISNUMBER(SEARCH(\"JV1\",F428:F448)), ROW(F428:F448)-MIN(ROW(F428:F448))+1, \"\"), ROW() -427 )), \"\")","v":""},{"$f":"IFERROR(INDEX(C428:C448, SMALL(IF(ISNUMBER(SEARCH(\"JV1\",F428:F448)), ROW(F428:F448)-MIN(ROW(F428:F448))+1, \"\"), ROW() -427 )), \"\")","v":""},{"$f":"IFERROR(INDEX(D428:D448, SMALL(IF(ISNUMBER(SEARCH(\"JV1\",F428:F448)), ROW(F428:F448)-MIN(ROW(F428:F448))+1, \"\"), ROW() -427 )), \"\")","v":""},{"$f":"IFERROR(INDEX(E428:E448, SMALL(IF(ISNUMBER(SEARCH(\"JV1\",F428:F448)), ROW(F428:F448)-MIN(ROW(F428:F448))+1, \"\"), ROW() -427 )), \"\")","v":""},{"$f":"IFERROR(INDEX(B428:B448, SMALL(IF(ISNUMBER(SEARCH(\"JV2\",F428:F448)), ROW(F428:F448)-MIN(ROW(F428:F448))+1, \"\"), ROW() -427 )), \"\")","v":""},{"$f":"IFERROR(INDEX(C428:C448, SMALL(IF(ISNUMBER(SEARCH(\"JV2\",F428:F448)), ROW(F428:F448)-MIN(ROW(F428:F448))+1, \"\"), ROW() -427 )), \"\")","v":""},{"$f":"IFERROR(INDEX(D428:D448, SMALL(IF(ISNUMBER(SEARCH(\"JV2\",F428:F448)), ROW(F428:F448)-MIN(ROW(F428:F448))+1, \"\"), ROW() -427 )), \"\")","v":""},{"$f":"IFERROR(INDEX(E428:E448, SMALL(IF(ISNUMBER(SEARCH(\"JV2\",F428:F448)), ROW(F428:F448)-MIN(ROW(F428:F448))+1, \"\"), ROW() -427 )), \"\")","v":""}]
[null,"William Penn University",null,"11-247244","Connor Rissi"," ",null,3431.0,null,false,{"$nulls":17},{"$f":"IFERROR(INDEX(B428:B448, SMALL(IF(\"V\"=F428:F448, ROW(F428:F448)-MIN(ROW(F428:F448))+1, \"\"), ROW() -427 )), \"\")","v":"William Penn University"},{"$f":"IFERROR(INDEX(C428:C448, SMALL(IF(\"V\"=F428:F448, ROW(F428:F448)-MIN(ROW(F428:F448))+1, \"\"), ROW() -427 )), \"\")","v":""},{"$f":"IFERROR(INDEX(D428:D448, SMALL(IF(\"V\"=F428:F448, ROW(F428:F448)-MIN(ROW(F428:F448))+1, \"\"), ROW() -427 )), \"\")","v":"11-102941"},{"$f":"IFERROR(INDEX(E428:E448, SMALL(IF(\"V\"=F428:F448, ROW(F428:F448)-MIN(ROW(F428:F448))+1, \"\"), ROW() -427 )), \"\")","v":"Jared Smith"},{"$f":"IFERROR(INDEX(B428:B448, SMALL(IF(ISNUMBER(SEARCH(\"JV1\",F428:F448)), ROW(F428:F448)-MIN(ROW(F428:F448))+1, \"\"), ROW() -427 )), \"\")","v":""},{"$f":"IFERROR(INDEX(C428:C448, SMALL(IF(ISNUMBER(SEARCH(\"JV1\",F428:F448)), ROW(F428:F448)-MIN(ROW(F428:F448))+1, \"\"), ROW() -427 )), \"\")","v":""},{"$f":"IFERROR(INDEX(D428:D448, SMALL(IF(ISNUMBER(SEARCH(\"JV1\",F428:F448)), ROW(F428:F448)-MIN(ROW(F428:F448))+1, \"\"), ROW() -427 )), \"\")","v":""},{"$f":"IFERROR(INDEX(E428:E448, SMALL(IF(ISNUMBER(SEARCH(\"JV1\",F428:F448)), ROW(F428:F448)-MIN(ROW(F428:F448))+1, \"\"), ROW() -427 )), \"\")","v":""},{"$f":"IFERROR(INDEX(B428:B448, SMALL(IF(ISNUMBER(SEARCH(\"JV2\",F428:F448)), ROW(F428:F448)-MIN(ROW(F428:F448))+1, \"\"), ROW() -427 )), \"\")","v":""},{"$f":"IFERROR(INDEX(C428:C448, SMALL(IF(ISNUMBER(SEARCH(\"JV2\",F428:F448)), ROW(F428:F448)-MIN(ROW(F428:F448))+1, \"\"), ROW() -427 )), \"\")","v":""},{"$f":"IFERROR(INDEX(D428:D448, SMALL(IF(ISNUMBER(SEARCH(\"JV2\",F428:F448)), ROW(F428:F448)-MIN(ROW(F428:F448))+1, \"\"), ROW() -427 )), \"\")","v":""},{"$f":"IFERROR(INDEX(E428:E448, SMALL(IF(ISNUMBER(SEARCH(\"JV2\",F428:F448)), ROW(F428:F448)-MIN(ROW(F428:F448))+1, \"\"), ROW() -427 )), \"\")","v":""}]
[null,"William Penn University",null,"22-20754","Conor Fetherston","v",null,3431.0,null,false,{"$nulls":17},{"$f":"IFERROR(INDEX(B428:B448, SMALL(IF(\"V\"=F428:F448, ROW(F428:F448)-MIN(ROW(F428:F448))+1, \"\"), ROW() -427 )), \"\")","v":"William Penn University"},{"$f":"IFERROR(INDEX(C428:C448, SMALL(IF(\"V\"=F428:F448, ROW(F428:F448)-MIN(ROW(F428:F448))+1, \"\"), ROW() -427 )), \"\")","v":""},{"$f":"IFERROR(INDEX(D428:D448, SMALL(IF(\"V\"=F428:F448, ROW(F428:F448)-MIN(ROW(F428:F448))+1, \"\"), ROW() -427 )), \"\")","v":"5853-303"},{"$f":"IFERROR(INDEX(E428:E448, SMALL(IF(\"V\"=F428:F448, ROW(F428:F448)-MIN(ROW(F428:F448))+1, \"\"), ROW() -427 )), \"\")","v":"Kody Sapp"},{"$f":"IFERROR(INDEX(B428:B448, SMALL(IF(ISNUMBER(SEARCH(\"JV1\",F428:F448)), ROW(F428:F448)-MIN(ROW(F428:F448))+1, \"\"), ROW() -427 )), \"\")","v":""},{"$f":"IFERROR(INDEX(C428:C448, SMALL(IF(ISNUMBER(SEARCH(\"JV1\",F428:F448)), ROW(F428:F448)-MIN(ROW(F428:F448))+1, \"\"), ROW() -427 )), \"\")","v":""},{"$f":"IFERROR(INDEX(D428:D448, SMALL(IF(ISNUMBER(SEARCH(\"JV1\",F428:F448)), ROW(F428:F448)-MIN(ROW(F428:F448))+1, \"\"), ROW() -427 )), \"\")","v":""},{"$f":"IFERROR(INDEX(E428:E448, SMALL(IF(ISNUMBER(SEARCH(\"JV1\",F428:F448)), ROW(F428:F448)-MIN(ROW(F428:F448))+1, \"\"), ROW() -427 )), \"\")","v":""},{"$f":"IFERROR(INDEX(B428:B448, SMALL(IF(ISNUMBER(SEARCH(\"JV2\",F428:F448)), ROW(F428:F448)-MIN(ROW(F428:F448))+1, \"\"), ROW() -427 )), \"\")","v":""},{"$f":"IFERROR(INDEX(C428:C448, SMALL(IF(ISNUMBER(SEARCH(\"JV2\",F428:F448)), ROW(F428:F448)-MIN(ROW(F428:F448))+1, \"\"), ROW() -427 )), \"\")","v":""},{"$f":"IFERROR(INDEX(D428:D448, SMALL(IF(ISNUMBER(SEARCH(\"JV2\",F428:F448)), ROW(F428:F448)-MIN(ROW(F428:F448))+1, \"\"), ROW() -427 )), \"\")","v":""},{"$f":"IFERROR(INDEX(E428:E448, SMALL(IF(ISNUMBER(SEARCH(\"JV2\",F428:F448)), ROW(F428:F448)-MIN(ROW(F428:F448))+1, \"\"), ROW() -427 )), \"\")","v":""}]
[null,"William Penn University",null,"11-169517","Cooper Huston"," ",null,3431.0,null,false,{"$nulls":17},{"$f":"IFERROR(INDEX(B428:B448, SMALL(IF(\"V\"=F428:F448, ROW(F428:F448)-MIN(ROW(F428:F448))+1, \"\"), ROW() -427 )), \"\")","v":"William Penn University"},{"$f":"IFERROR(INDEX(C428:C448, SMALL(IF(\"V\"=F428:F448, ROW(F428:F448)-MIN(ROW(F428:F448))+1, \"\"), ROW() -427 )), \"\")","v":""},{"$f":"IFERROR(INDEX(D428:D448, SMALL(IF(\"V\"=F428:F448, ROW(F428:F448)-MIN(ROW(F428:F448))+1, \"\"), ROW() -427 )), \"\")","v":"17-85693"},{"$f":"IFERROR(INDEX(E428:E448, SMALL(IF(\"V\"=F428:F448, ROW(F428:F448)-MIN(ROW(F428:F448))+1, \"\"), ROW() -427 )), \"\")","v":"Spencer Fleming"},{"$f":"IFERROR(INDEX(B428:B448, SMALL(IF(ISNUMBER(SEARCH(\"JV1\",F428:F448)), ROW(F428:F448)-MIN(ROW(F428:F448))+1, \"\"), ROW() -427 )), \"\")","v":""},{"$f":"IFERROR(INDEX(C428:C448, SMALL(IF(ISNUMBER(SEARCH(\"JV1\",F428:F448)), ROW(F428:F448)-MIN(ROW(F428:F448))+1, \"\"), ROW() -427 )), \"\")","v":""},{"$f":"IFERROR(INDEX(D428:D448, SMALL(IF(ISNUMBER(SEARCH(\"JV1\",F428:F448)), ROW(F428:F448)-MIN(ROW(F428:F448))+1, \"\"), ROW() -427 )), \"\")","v":""},{"$f":"IFERROR(INDEX(E428:E448, SMALL(IF(ISNUMBER(SEARCH(\"JV1\",F428:F448)), ROW(F428:F448)-MIN(ROW(F428:F448))+1, \"\"), ROW() -427 )), \"\")","v":""},{"$f":"IFERROR(INDEX(B428:B448, SMALL(IF(ISNUMBER(SEARCH(\"JV2\",F428:F448)), ROW(F428:F448)-MIN(ROW(F428:F448))+1, \"\"), ROW() -427 )), \"\")","v":""},{"$f":"IFERROR(INDEX(C428:C448, SMALL(IF(ISNUMBER(SEARCH(\"JV2\",F428:F448)), ROW(F428:F448)-MIN(ROW(F428:F448))+1, \"\"), ROW() -427 )), \"\")","v":""},{"$f":"IFERROR(INDEX(D428:D448, SMALL(IF(ISNUMBER(SEARCH(\"JV2\",F428:F448)), ROW(F428:F448)-MIN(ROW(F428:F448))+1, \"\"), ROW() -427 )), \"\")","v":""},{"$f":"IFERROR(INDEX(E428:E448, SMALL(IF(ISNUMBER(SEARCH(\"JV2\",F428:F448)), ROW(F428:F448)-MIN(ROW(F428:F448))+1, \"\"), ROW() -427 )), \"\")","v":""}]
[null,"William Penn University",null,"11-92567","Ethan Zieglowsky"," ",null,3431.0,null,false]
[null,"William Penn University",null,"17-58153","Garett Wolkenhauer"," ",null,3431.0,null,false]
[null,"William Penn University",null,"5873-792","Garraty Richmond","v",null,3431.0,null,false]
[null,"William Penn University",null,"5853-217","Jake Cook","v",null,3431.0,null,false]
[null,"William Penn University",null,"11-102941","Jared Smith","v",null,3431.0,null,false]
[null,"William Penn University",null,"5712-894","Jayson Miner"," ",null,3431.0,null,false]
[null,"William Penn University",null,"5853-303","Kody Sapp","v",null,3431.0,null,false]
[null,"William Penn University",null,"5401-79","Marcus Yamada"," ",null,3431.0,null,false]
[null,"William Penn University",null,"8756-13177","Nathaniel Hansen"," ",null,3431.0,null,false]
[null,"William Penn University",null,"16-145642","Reiley Freeman"," ",null,3431.0,null,false]
[null,"William Penn University",null,"5816-1476","Robert Dostal"," ",null,3431.0,null,false]
[null,"William Penn University",null,"17-85693","Spencer Fleming","v",null,3431.0,null,false]
[null,"William Penn University",null,"11-301245","Terryk Bellinger"," ",null,3431.0,null,false]
[null,"William Woods University",null,""," "," ",null,4611.0,null,false,{"$nulls":17},{"$f":"IFERROR(INDEX(B449:B456, SMALL(IF(\"V\"=F449:F456, ROW(F449:F456)-MIN(ROW(F449:F456))+1, \"\"), ROW() -448 )), \"\")","v":"William Woods University"},{"$f":"IFERROR(INDEX(C449:C456, SMALL(IF(\"V\"=F449:F456, ROW(F449:F456)-MIN(ROW(F449:F456))+1, \"\"), ROW() -448 )), \"\")","v":""},{"$f":"IFERROR(INDEX(D449:D456, SMALL(IF(\"V\"=F449:F456, ROW(F449:F456)-MIN(ROW(F449:F456))+1, \"\"), ROW() -448 )), \"\")","v":"11-451268"},{"$f":"IFERROR(INDEX(E449:E456, SMALL(IF(\"V\"=F449:F456, ROW(F449:F456)-MIN(ROW(F449:F456))+1, \"\"), ROW() -448 )), \"\")","v":"Braden Lallier"},{"$f":"IFERROR(INDEX(B449:B456, SMALL(IF(ISNUMBER(SEARCH(\"JV1\",F449:F456)), ROW(F449:F456)-MIN(ROW(F449:F456))+1, \"\"), ROW() -448 )), \"\")","v":""},{"$f":"IFERROR(INDEX(C449:C456, SMALL(IF(ISNUMBER(SEARCH(\"JV1\",F449:F456)), ROW(F449:F456)-MIN(ROW(F449:F456))+1, \"\"), ROW() -448 )), \"\")","v":""},{"$f":"IFERROR(INDEX(D449:D456, SMALL(IF(ISNUMBER(SEARCH(\"JV1\",F449:F456)), ROW(F449:F456)-MIN(ROW(F449:F456))+1, \"\"), ROW() -448 )), \"\")","v":""},{"$f":"IFERROR(INDEX(E449:E456, SMALL(IF(ISNUMBER(SEARCH(\"JV1\",F449:F456)), ROW(F449:F456)-MIN(ROW(F449:F456))+1, \"\"), ROW() -448 )), \"\")","v":""},{"$f":"IFERROR(INDEX(B449:B456, SMALL(IF(ISNUMBER(SEARCH(\"JV2\",F449:F456)), ROW(F449:F456)-MIN(ROW(F449:F456))+1, \"\"), ROW() -448 )), \"\")","v":""},{"$f":"IFERROR(INDEX(C449:C456, SMALL(IF(ISNUMBER(SEARCH(\"JV2\",F449:F456)), ROW(F449:F456)-MIN(ROW(F449:F456))+1, \"\"), ROW() -448 )), \"\")","v":""},{"$f":"IFERROR(INDEX(D449:D456, SMALL(IF(ISNUMBER(SEARCH(\"JV2\",F449:F456)), ROW(F449:F456)-MIN(ROW(F449:F456))+1, \"\"), ROW() -448 )), \"\")","v":""},{"$f":"IFERROR(INDEX(E449:E456, SMALL(IF(ISNUMBER(SEARCH(\"JV2\",F449:F456)), ROW(F449:F456)-MIN(ROW(F449:F456))+1, \"\"), ROW() -448 )), \"\")","v":""}]
[null,"William Woods University",null,"5707-1668","Andrew Weir"," ",null,4611.0,null,false,{"$nulls":17},{"$f":"IFERROR(INDEX(B449:B456, SMALL(IF(\"V\"=F449:F456, ROW(F449:F456)-MIN(ROW(F449:F456))+1, \"\"), ROW() -448 )), \"\")","v":"William Woods University"},{"$f":"IFERROR(INDEX(C449:C456, SMALL(IF(\"V\"=F449:F456, ROW(F449:F456)-MIN(ROW(F449:F456))+1, \"\"), ROW() -448 )), \"\")","v":""},{"$f":"IFERROR(INDEX(D449:D456, SMALL(IF(\"V\"=F449:F456, ROW(F449:F456)-MIN(ROW(F449:F456))+1, \"\"), ROW() -448 )), \"\")","v":"11-301300"},{"$f":"IFERROR(INDEX(E449:E456, SMALL(IF(\"V\"=F449:F456, ROW(F449:F456)-MIN(ROW(F449:F456))+1, \"\"), ROW() -448 )), \"\")","v":"Christian Merrick"},{"$f":"IFERROR(INDEX(B449:B456, SMALL(IF(ISNUMBER(SEARCH(\"JV1\",F449:F456)), ROW(F449:F456)-MIN(ROW(F449:F456))+1, \"\"), ROW() -448 )), \"\")","v":""},{"$f":"IFERROR(INDEX(C449:C456, SMALL(IF(ISNUMBER(SEARCH(\"JV1\",F449:F456)), ROW(F449:F456)-MIN(ROW(F449:F456))+1, \"\"), ROW() -448 )), \"\")","v":""},{"$f":"IFERROR(INDEX(D449:D456, SMALL(IF(ISNUMBER(SEARCH(\"JV1\",F449:F456)), ROW(F449:F456)-MIN(ROW(F449:F456))+1, \"\"), ROW() -448 )), \"\")","v":""},{"$f":"IFERROR(INDEX(E449:E456, SMALL(IF(ISNUMBER(SEARCH(\"JV1\",F449:F456)), ROW(F449:F456)-MIN(ROW(F449:F456))+1, \"\"), ROW() -448 )), \"\")","v":""},{"$f":"IFERROR(INDEX(B449:B456, SMALL(IF(ISNUMBER(SEARCH(\"JV2\",F449:F456)), ROW(F449:F456)-MIN(ROW(F449:F456))+1, \"\"), ROW() -448 )), \"\")","v":""},{"$f":"IFERROR(INDEX(C449:C456, SMALL(IF(ISNUMBER(SEARCH(\"JV2\",F449:F456)), ROW(F449:F456)-MIN(ROW(F449:F456))+1, \"\"), ROW() -448 )), \"\")","v":""},{"$f":"IFERROR(INDEX(D449:D456, SMALL(IF(ISNUMBER(SEARCH(\"JV2\",F449:F456)), ROW(F449:F456)-MIN(ROW(F449:F456))+1, \"\"), ROW() -448 )), \"\")","v":""},{"$f":"IFERROR(INDEX(E449:E456, SMALL(IF(ISNUMBER(SEARCH(\"JV2\",F449:F456)), ROW(F449:F456)-MIN(ROW(F449:F456))+1, \"\"), ROW() -448 )), \"\")","v":""}]
[null,"William Woods University",null,"11-451268","Braden Lallier","v",null,4611.0,null,false,{"$nulls":17},{"$f":"IFERROR(INDEX(B449:B456, SMALL(IF(\"V\"=F449:F456, ROW(F449:F456)-MIN(ROW(F449:F456))+1, \"\"), ROW() -448 )), \"\")","v":"William Woods University"},{"$f":"IFERROR(INDEX(C449:C456, SMALL(IF(\"V\"=F449:F456, ROW(F449:F456)-MIN(ROW(F449:F456))+1, \"\"), ROW() -448 )), \"\")","v":""},{"$f":"IFERROR(INDEX(D449:D456, SMALL(IF(\"V\"=F449:F456, ROW(F449:F456)-MIN(ROW(F449:F456))+1, \"\"), ROW() -448 )), \"\")","v":"17-18636"},{"$f":"IFERROR(INDEX(E449:E456, SMALL(IF(\"V\"=F449:F456, ROW(F449:F456)-MIN(ROW(F449:F456))+1, \"\"), ROW() -448 )), \"\")","v":"Christopher Little"},{"$f":"IFERROR(INDEX(B449:B456, SMALL(IF(ISNUMBER(SEARCH(\"JV1\",F449:F456)), ROW(F449:F456)-MIN(ROW(F449:F456))+1, \"\"), ROW() -448 )), \"\")","v":""},{"$f":"IFERROR(INDEX(C449:C456, SMALL(IF(ISNUMBER(SEARCH(\"JV1\",F449:F456)), ROW(F449:F456)-MIN(ROW(F449:F456))+1, \"\"), ROW() -448 )), \"\")","v":""},{"$f":"IFERROR(INDEX(D449:D456, SMALL(IF(ISNUMBER(SEARCH(\"JV1\",F449:F456)), ROW(F449:F456)-MIN(ROW(F449:F456))+1, \"\"), ROW() -448 )), \"\")","v":""},{"$f":"IFERROR(INDEX(E449:E456, SMALL(IF(ISNUMBER(SEARCH(\"JV1\",F449:F456)), ROW(F449:F456)-MIN(ROW(F449:F456))+1, \"\"), ROW() -448 )), \"\")","v":""},{"$f":"IFERROR(INDEX(B449:B456, SMALL(IF(ISNUMBER(SEARCH(\"JV2\",F449:F456)), ROW(F449:F456)-MIN(ROW(F449:F456))+1, \"\"), ROW() -448 )), \"\")","v":""},{"$f":"IFERROR(INDEX(C449:C456, SMALL(IF(ISNUMBER(SEARCH(\"JV2\",F449:F456)), ROW(F449:F456)-MIN(ROW(F449:F456))+1, \"\"), ROW() -448 )), \"\")","v":""},{"$f":"IFERROR(INDEX(D449:D456, SMALL(IF(ISNUMBER(SEARCH(\"JV2\",F449:F456)), ROW(F449:F456)-MIN(ROW(F449:F456))+1, \"\"), ROW() -448 )), \"\")","v":""},{"$f":"IFERROR(INDEX(E449:E456, SMALL(IF(ISNUMBER(SEARCH(\"JV2\",F449:F456)), ROW(F449:F456)-MIN(ROW(F449:F456))+1, \"\"), ROW() -448 )), \"\")","v":""}]
[null,"William Woods University",null,"11-301300","Christian Merrick","v",null,4611.0,null,false,{"$nulls":17},{"$f":"IFERROR(INDEX(B449:B456, SMALL(IF(\"V\"=F449:F456, ROW(F449:F456)-MIN(ROW(F449:F456))+1, \"\"), ROW() -448 )), \"\")","v":"William Woods University"},{"$f":"IFERROR(INDEX(C449:C456, SMALL(IF(\"V\"=F449:F456, ROW(F449:F456)-MIN(ROW(F449:F456))+1, \"\"), ROW() -448 )), \"\")","v":""},{"$f":"IFERROR(INDEX(D449:D456, SMALL(IF(\"V\"=F449:F456, ROW(F449:F456)-MIN(ROW(F449:F456))+1, \"\"), ROW() -448 )), \"\")","v":"11-100889"},{"$f":"IFERROR(INDEX(E449:E456, SMALL(IF(\"V\"=F449:F456, ROW(F449:F456)-MIN(ROW(F449:F456))+1, \"\"), ROW() -448 )), \"\")","v":"Kaden McDow"},{"$f":"IFERROR(INDEX(B449:B456, SMALL(IF(ISNUMBER(SEARCH(\"JV1\",F449:F456)), ROW(F449:F456)-MIN(ROW(F449:F456))+1, \"\"), ROW() -448 )), \"\")","v":""},{"$f":"IFERROR(INDEX(C449:C456, SMALL(IF(ISNUMBER(SEARCH(\"JV1\",F449:F456)), ROW(F449:F456)-MIN(ROW(F449:F456))+1, \"\"), ROW() -448 )), \"\")","v":""},{"$f":"IFERROR(INDEX(D449:D456, SMALL(IF(ISNUMBER(SEARCH(\"JV1\",F449:F456)), ROW(F449:F456)-MIN(ROW(F449:F456))+1, \"\"), ROW() -448 )), \"\")","v":""},{"$f":"IFERROR(INDEX(E449:E456, SMALL(IF(ISNUMBER(SEARCH(\"JV1\",F449:F456)), ROW(F449:F456)-MIN(ROW(F449:F456))+1, \"\"), ROW() -448 )), \"\")","v":""},{"$f":"IFERROR(INDEX(B449:B456, SMALL(IF(ISNUMBER(SEARCH(\"JV2\",F449:F456)), ROW(F449:F456)-MIN(ROW(F449:F456))+1, \"\"), ROW() -448 )), \"\")","v":""},{"$f":"IFERROR(INDEX(C449:C456, SMALL(IF(ISNUMBER(SEARCH(\"JV2\",F449:F456)), ROW(F449:F456)-MIN(ROW(F449:F456))+1, \"\"), ROW() -448 )), \"\")","v":""},{"$f":"IFERROR(INDEX(D449:D456, SMALL(IF(ISNUMBER(SEARCH(\"JV2\",F449:F456)), ROW(F449:F456)-MIN(ROW(F449:F456))+1, \"\"), ROW() -448 )), \"\")","v":""},{"$f":"IFERROR(INDEX(E449:E456, SMALL(IF(ISNUMBER(SEARCH(\"JV2\",F449:F456)), ROW(F449:F456)-MIN(ROW(F449:F456))+1, \"\"), ROW() -448 )), \"\")","v":""}]
[null,"William Woods University",null,"17-18636","Christopher Little","v",null,4611.0,null,false,{"$nulls":17},{"$f":"IFERROR(INDEX(B449:B456, SMALL(IF(\"V\"=F449:F456, ROW(F449:F456)-MIN(ROW(F449:F456))+1, \"\"), ROW() -448 )), \"\")","v":"William Woods University"},{"$f":"IFERROR(INDEX(C449:C456, SMALL(IF(\"V\"=F449:F456, ROW(F449:F456)-MIN(ROW(F449:F456))+1, \"\"), ROW() -448 )), \"\")","v":""},{"$f":"IFERROR(INDEX(D449:D456, SMALL(IF(\"V\"=F449:F456, ROW(F449:F456)-MIN(ROW(F449:F456))+1, \"\"), ROW() -448 )), \"\")","v":"11-661049"},{"$f":"IFERROR(INDEX(E449:E456, SMALL(IF(\"V\"=F449:F456, ROW(F449:F456)-MIN(ROW(F449:F456))+1, \"\"), ROW() -448 )), \"\")","v":"Matthew Lennox"},{"$f":"IFERROR(INDEX(B449:B456, SMALL(IF(ISNUMBER(SEARCH(\"JV1\",F449:F456)), ROW(F449:F456)-MIN(ROW(F449:F456))+1, \"\"), ROW() -448 )), \"\")","v":""},{"$f":"IFERROR(INDEX(C449:C456, SMALL(IF(ISNUMBER(SEARCH(\"JV1\",F449:F456)), ROW(F449:F456)-MIN(ROW(F449:F456))+1, \"\"), ROW() -448 )), \"\")","v":""},{"$f":"IFERROR(INDEX(D449:D456, SMALL(IF(ISNUMBER(SEARCH(\"JV1\",F449:F456)), ROW(F449:F456)-MIN(ROW(F449:F456))+1, \"\"), ROW() -448 )), \"\")","v":""},{"$f":"IFERROR(INDEX(E449:E456, SMALL(IF(ISNUMBER(SEARCH(\"JV1\",F449:F456)), ROW(F449:F456)-MIN(ROW(F449:F456))+1, \"\"), ROW() -448 )), \"\")","v":""},{"$f":"IFERROR(INDEX(B449:B456, SMALL(IF(ISNUMBER(SEARCH(\"JV2\",F449:F456)), ROW(F449:F456)-MIN(ROW(F449:F456))+1, \"\"), ROW() -448 )), \"\")","v":""},{"$f":"IFERROR(INDEX(C449:C456, SMALL(IF(ISNUMBER(SEARCH(\"JV2\",F449:F456)), ROW(F449:F456)-MIN(ROW(F449:F456))+1, \"\"), ROW() -448 )), \"\")","v":""},{"$f":"IFERROR(INDEX(D449:D456, SMALL(IF(ISNUMBER(SEARCH(\"JV2\",F449:F456)), ROW(F449:F456)-MIN(ROW(F449:F456))+1, \"\"), ROW() -448 )), \"\")","v":""},{"$f":"IFERROR(INDEX(E449:E456, SMALL(IF(ISNUMBER(SEARCH(\"JV2\",F449:F456)), ROW(F449:F456)-MIN(ROW(F449:F456))+1, \"\"), ROW() -448 )), \"\")","v":""}]
[null,"William Woods University",null,"11-100889","Kaden McDow","v",null,4611.0,null,false,{"$nulls":17},{"$f":"IFERROR(INDEX(B449:B456, SMALL(IF(\"V\"=F449:F456, ROW(F449:F456)-MIN(ROW(F449:F456))+1, \"\"), ROW() -448 )), \"\")","v":"William Woods University"},{"$f":"IFERROR(INDEX(C449:C456, SMALL(IF(\"V\"=F449:F456, ROW(F449:F456)-MIN(ROW(F449:F456))+1, \"\"), ROW() -448 )), \"\")","v":""},{"$f":"IFERROR(INDEX(D449:D456, SMALL(IF(\"V\"=F449:F456, ROW(F449:F456)-MIN(ROW(F449:F456))+1, \"\"), ROW() -448 )), \"\")","v":"22-27621"},{"$f":"IFERROR(INDEX(E449:E456, SMALL(IF(\"V\"=F449:F456, ROW(F449:F456)-MIN(ROW(F449:F456))+1, \"\"), ROW() -448 )), \"\")","v":"Tyklen Salmons"},{"$f":"IFERROR(INDEX(B449:B456, SMALL(IF(ISNUMBER(SEARCH(\"JV1\",F449:F456)), ROW(F449:F456)-MIN(ROW(F449:F456))+1, \"\"), ROW() -448 )), \"\")","v":""},{"$f":"IFERROR(INDEX(C449:C456, SMALL(IF(ISNUMBER(SEARCH(\"JV1\",F449:F456)), ROW(F449:F456)-MIN(ROW(F449:F456))+1, \"\"), ROW() -448 )), \"\")","v":""},{"$f":"IFERROR(INDEX(D449:D456, SMALL(IF(ISNUMBER(SEARCH(\"JV1\",F449:F456)), ROW(F449:F456)-MIN(ROW(F449:F456))+1, \"\"), ROW() -448 )), \"\")","v":""},{"$f":"IFERROR(INDEX(E449:E456, SMALL(IF(ISNUMBER(SEARCH(\"JV1\",F449:F456)), ROW(F449:F456)-MIN(ROW(F449:F456))+1, \"\"), ROW() -448 )), \"\")","v":""},{"$f":"IFERROR(INDEX(B449:B456, SMALL(IF(ISNUMBER(SEARCH(\"JV2\",F449:F456)), ROW(F449:F456)-MIN(ROW(F449:F456))+1, \"\"), ROW() -448 )), \"\")","v":""},{"$f":"IFERROR(INDEX(C449:C456, SMALL(IF(ISNUMBER(SEARCH(\"JV2\",F449:F456)), ROW(F449:F456)-MIN(ROW(F449:F456))+1, \"\"), ROW() -448 )), \"\")","v":""},{"$f":"IFERROR(INDEX(D449:D456, SMALL(IF(ISNUMBER(SEARCH(\"JV2\",F449:F456)), ROW(F449:F456)-MIN(ROW(F449:F456))+1, \"\"), ROW() -448 )), \"\")","v":""},{"$f":"IFERROR(INDEX(E449:E456, SMALL(IF(ISNUMBER(SEARCH(\"JV2\",F449:F456)), ROW(F449:F456)-MIN(ROW(F449:F456))+1, \"\"), ROW() -448 )), \"\")","v":""}]
[null,"William Woods University",null,"11-661049","Matthew Lennox","v",null,4611.0,null,false,{"$nulls":17},{"$f":"IFERROR(INDEX(B449:B456, SMALL(IF(\"V\"=F449:F456, ROW(F449:F456)-MIN(ROW(F449:F456))+1, \"\"), ROW() -448 )), \"\")","v":""},{"$f":"IFERROR(INDEX(C449:C456, SMALL(IF(\"V\"=F449:F456, ROW(F449:F456)-MIN(ROW(F449:F456))+1, \"\"), ROW() -448 )), \"\")","v":""},{"$f":"IFERROR(INDEX(D449:D456, SMALL(IF(\"V\"=F449:F456, ROW(F449:F456)-MIN(ROW(F449:F456))+1, \"\"), ROW() -448 )), \"\")","v":""},{"$f":"IFERROR(INDEX(E449:E456, SMALL(IF(\"V\"=F449:F456, ROW(F449:F456)-MIN(ROW(F449:F456))+1, \"\"), ROW() -448 )), \"\")","v":""},{"$f":"IFERROR(INDEX(B449:B456, SMALL(IF(ISNUMBER(SEARCH(\"JV1\",F449:F456)), ROW(F449:F456)-MIN(ROW(F449:F456))+1, \"\"), ROW() -448 )), \"\")","v":""},{"$f":"IFERROR(INDEX(C449:C456, SMALL(IF(ISNUMBER(SEARCH(\"JV1\",F449:F456)), ROW(F449:F456)-MIN(ROW(F449:F456))+1, \"\"), ROW() -448 )), \"\")","v":""},{"$f":"IFERROR(INDEX(D449:D456, SMALL(IF(ISNUMBER(SEARCH(\"JV1\",F449:F456)), ROW(F449:F456)-MIN(ROW(F449:F456))+1, \"\"), ROW() -448 )), \"\")","v":""},{"$f":"IFERROR(INDEX(E449:E456, SMALL(IF(ISNUMBER(SEARCH(\"JV1\",F449:F456)), ROW(F449:F456)-MIN(ROW(F449:F456))+1, \"\"), ROW() -448 )), \"\")","v":""},{"$f":"IFERROR(INDEX(B449:B456, SMALL(IF(ISNUMBER(SEARCH(\"JV2\",F449:F456)), ROW(F449:F456)-MIN(ROW(F449:F456))+1, \"\"), ROW() -448 )), \"\")","v":""},{"$f":"IFERROR(INDEX(C449:C456, SMALL(IF(ISNUMBER(SEARCH(\"JV2\",F449:F456)), ROW(F449:F456)-MIN(ROW(F449:F456))+1, \"\"), ROW() -448 )), \"\")","v":""},{"$f":"IFERROR(INDEX(D449:D456, SMALL(IF(ISNUMBER(SEARCH(\"JV2\",F449:F456)), ROW(F449:F456)-MIN(ROW(F449:F456))+1, \"\"), ROW() -448 )), \"\")","v":""},{"$f":"IFERROR(INDEX(E449:E456, SMALL(IF(ISNUMBER(SEARCH(\"JV2\",F449:F456)), ROW(F449:F456)-MIN(ROW(F449:F456))+1, \"\"), ROW() -448 )), \"\")","v":""}]
[null,"William Woods University",null,"22-27621","Tyklen Salmons","v",null,4611.0,null,false,{"$nulls":17},{"$f":"IFERROR(INDEX(B449:B456, SMALL(IF(\"V\"=F449:F456, ROW(F449:F456)-MIN(ROW(F449:F456))+1, \"\"), ROW() -448 )), \"\")","v":""},{"$f":"IFERROR(INDEX(C449:C456, SMALL(IF(\"V\"=F449:F456, ROW(F449:F456)-MIN(ROW(F449:F456))+1, \"\"), ROW() -448 )), \"\")","v":""},{"$f":"IFERROR(INDEX(D449:D456, SMALL(IF(\"V\"=F449:F456, ROW(F449:F456)-MIN(ROW(F449:F456))+1, \"\"), ROW() -448 )), \"\")","v":""},{"$f":"IFERROR(INDEX(E449:E456, SMALL(IF(\"V\"=F449:F456, ROW(F449:F456)-MIN(ROW(F449:F456))+1, \"\"), ROW() -448 )), \"\")","v":""},{"$f":"IFERROR(INDEX(B449:B456, SMALL(IF(ISNUMBER(SEARCH(\"JV1\",F449:F456)), ROW(F449:F456)-MIN(ROW(F449:F456))+1, \"\"), ROW() -448 )), \"\")","v":""},{"$f":"IFERROR(INDEX(C449:C456, SMALL(IF(ISNUMBER(SEARCH(\"JV1\",F449:F456)), ROW(F449:F456)-MIN(ROW(F449:F456))+1, \"\"), ROW() -448 )), \"\")","v":""},{"$f":"IFERROR(INDEX(D449:D456, SMALL(IF(ISNUMBER(SEARCH(\"JV1\",F449:F456)), ROW(F449:F456)-MIN(ROW(F449:F456))+1, \"\"), ROW() -448 )), \"\")","v":""},{"$f":"IFERROR(INDEX(E449:E456, SMALL(IF(ISNUMBER(SEARCH(\"JV1\",F449:F456)), ROW(F449:F456)-MIN(ROW(F449:F456))+1, \"\"), ROW() -448 )), \"\")","v":""},{"$f":"IFERROR(INDEX(B449:B456, SMALL(IF(ISNUMBER(SEARCH(\"JV2\",F449:F456)), ROW(F449:F456)-MIN(ROW(F449:F456))+1, \"\"), ROW() -448 )), \"\")","v":""},{"$f":"IFERROR(INDEX(C449:C456, SMALL(IF(ISNUMBER(SEARCH(\"JV2\",F449:F456)), ROW(F449:F456)-MIN(ROW(F449:F456))+1, \"\"), ROW() -448 )), \"\")","v":""},{"$f":"IFERROR(INDEX(D449:D456, SMALL(IF(ISNUMBER(SEARCH(\"JV2\",F449:F456)), ROW(F449:F456)-MIN(ROW(F449:F456))+1, \"\"), ROW() -448 )), \"\")","v":""},{"$f":"IFERROR(INDEX(E449:E456, SMALL(IF(ISNUMBER(SEARCH(\"JV2\",F449:F456)), ROW(F449:F456)-MIN(ROW(F449:F456))+1, \"\"), ROW() -448 )), \"\")","v":""}]

{"sheet":"Individual_Scores_Men_Var","index":1,"n_rows":419,"n_cols":54,"rows_kept":419,"cut":false,"hidden":false,"merged":[[0,0,0,13]]}
["Individual Scores and Team Games"]
[{"$nulls":51},"Yes"]
[null,"Mid States Championships (Tier I Men)",{"$nulls":49},"No"]
[null,"Tier 1","USBC",{"$nulls":12},"1201","6","20","5","2.9","2.9",null,null,"7",{"$nulls":29},"IBCYouth"]
[null,"<<Dates>>","<<Event#>>","10/15/2022 - 10/16/2022"]
[null,"<<Location>>",null,"Wichita, KS"]
[]
[null,"Men's Division",null,"Cert No:","05700"]
[null,"Division"]
[{"$nulls":6},"Game","Game","Game","Game","Game","Game",null,"Games","Tourn."]
[null,"Team","Bowler ID","Bowler","Bowled","Bowled Baker",1.0,2.0,3.0,4.0,5.0,6.0,"Total","Bowled","Ave."]
[null,{"$f":"Roster_Selection_Men!AB11&\" \" & \"V \"","v":"Avila University V "},{"$f":"Roster_Selection_Men!AD11","v":"19-81745"},{"$f":"Roster_Selection_Men!AE11","v":"Aidan Tesdall"},null,{"$f":"IF(ISERROR(Baker_Scores_Men_Var!E12), \" \", IF(Baker_Scores_Men_Var!E12 = \"Yes\", \"Yes\", \"  \"))","v":"  "},194.0,176.0,160.0,200.0,128.0,0.0,{"$f":"SUM(G12:L12)","v":858},{"$f":"COUNTIF(G12:L12, \">0\" )","v":5},{"$f":"IF(N12=0,0,M12/N12)","v":171.6}]
[null,{"$f":"Roster_Selection_Men!AB12&\" \" & \"V \"","v":"Avila University V "},{"$f":"Roster_Selection_Men!AD12","v":"11-392672"},{"$f":"Roster_Selection_Men!AE12","v":"Brody Stanback"},null,{"$f":"IF(ISERROR(Baker_Scores_Men_Var!E13), \" \", IF(Baker_Scores_Men_Var!E13 = \"Yes\", \"Yes\", \"  \"))","v":"  "},131.0,206.0,180.0,183.0,198.0,214.0,1112,6,185.3333333]
[null,{"$f":"Roster_Selection_Men!AB13&\" \" & \"V \"","v":"Avila University V "},{"$f":"Roster_Selection_Men!AD13","v":"8599-78423"},{"$f":"Roster_Selection_Men!AE13","v":"Bryce Stewart"},null,{"$f":"IF(ISERROR(Baker_Scores_Men_Var!E14), \" \", IF(Baker_Scores_Men_Var!E14 = \"Yes\", \"Yes\", \"  \"))","v":"  "},0.0,0.0,0.0,0.0,0.0,128.0,128,1,128]
[null,{"$f":"Roster_Selection_Men!AB14&\" \" & \"V \"","v":"Avila University V "},{"$f":"Roster_Selection_Men!AD14","v":"11-485194"},{"$f":"Roster_Selection_Men!AE14","v":"Caleb Wangler"},null,{"$f":"IF(ISERROR(Baker_Scores_Men_Var!E15), \" \", IF(Baker_Scores_Men_Var!E15 = \"Yes\", \"Yes\", \"  \"))","v":"  "},142.0,245.0,211.0,234.0,172.0,146.0,1150,6,191.6666667]
[null,{"$f":"Roster_Selection_Men!AB15&\" \" & \"V \"","v":"Avila University V "},{"$f":"Roster_Selection_Men!AD15","v":"15-18094"},{"$f":"Roster_Selection_Men!AE15","v":"Evan Serrage"},null,{"$f":"IF(ISERROR(Baker_Scores_Men_Var!E16), \" \", IF(Baker_Scores_Men_Var!E16 = \"Yes\", \"Yes\", \"  \"))","v":"  "},191.0,189.0,173.0,0.0,0.0,0.0,553,3,184.3333333]
[null,{"$f":"Roster_Selection_Men!AB16&\" \" & \"V \"","v":"Avila University V "},{"$f":"Roster_Selection_Men!AD16","v":"21-11945"},{"$f":"Roster_Selection_Men!AE16","v":"Max Sturgeon"},null,{"$f":"IF(ISERROR(Baker_Scores_Men_Var!E17), \" \", IF(Baker_Scores_Men_Var!E17 = \"Yes\", \"Yes\", \"  \"))","v":"  "},0.0,0.0,0.0,213.0,158.0,0.0,371,2,185.5]
[null,{"$f":"Roster_Selection_Men!AB17&\" \" & \"V \"","v":"Avila University V "},{"$f":"Roster_Selection_Men!AD17","v":"11-280786"},{"$f":"Roster_Selection_Men!AE17","v":"Nicholas Hays"},null,{"$f":"IF(ISERROR(Baker_Scores_Men_Var!E18), \" \", IF(Baker_Scores_Men_Var!E18 = \"Yes\", \"Yes\", \"  \"))","v":"  "},201.0,224.0,221.0,200.0,168.0,185.0,1199,6,199.8333333]
[null,{"$f":"Roster_Selection_Men!AB18&\" \" & \"V \"","v":"Avila University V "},{"$f":"Roster_Selection_Men!AD18","v":"11-429373"},{"$f":"Roster_Selection_Men!AE18","v":"Wesley Smith"},null,{"$f":"IF(ISERROR(Baker_Scores_Men_Var!E19), \" \", IF(Baker_Scores_Men_Var!E19 = \"Yes\", \"Yes\", \"  \"))","v":"  "},0.0,0.0,0.0,0.0,0.0,129.0,129,1,129]
[null,"Avila University V","","",{"$nulls":8},0,0,0]
[null,"Avila University V","","",{"$nulls":8},0,0,0]
[null,"Avila University V","","",{"$nulls":8},0,0,0]
[{"$nulls":6},{"$f":"SUM(G12:G22)","v":859},1040,945,1030,824,802,5500,30]
[]
[null,{"$f":"Roster_Selection_Men!AB22&\" \" & \"V \"","v":"Baker University V "},{"$f":"Roster_Selection_Men!AD22","v":"7914-6106"},{"$f":"Roster_Selection_Men!AE22","v":"Benjamin Banks"},null,{"$f":"IF(ISERROR(Baker_Scores_Men_Var!E25), \" \", IF(Baker_Scores_Men_Var!E25 = \"Yes\", \"Yes\", \"  \"))","v":"  "},183.0,163.0,0.0,0.0,0.0,186.0,{"$f":"SUM(G25:L25)","v":532},{"$f":"COUNTIF(G25:L25, \">0\" )","v":3},{"$f":"IF(N25=0,0,M25/N25)","v":177.3333333}]
[null,{"$f":"Roster_Selection_Men!AB23&\" \" & \"V \"","v":"Baker University V "},{"$f":"Roster_Selection_Men!AD23","v":"18-1332"},{"$f":"Roster_Selection_Men!AE23","v":"Brett Gamber"},null,{"$f":"IF(ISERROR(Baker_Scores_Men_Var!E26), \" \", IF(Baker_Scores_Men_Var!E26 = \"Yes\", \"Yes\", \"  \"))","v":"  "},0.0,175.0,214.0,174.0,215.0,162.0,940,5,188]
[null,{"$f":"Roster_Selection_Men!AB24&\" \" & \"V \"","v":"Baker University V "},{"$f":"Roster_Selection_Men!AD24","v":"11-246267"},{"$f":"Roster_Selection_Men!AE24","v":"Dillon Harris"},null,{"$f":"IF(ISERROR(Baker_Scores_Men_Var!E27), \" \", IF(Baker_Scores_Men_Var!E27 = \"Yes\", \"Yes\", \"  \"))","v":"  "},214.0,235.0,178.0,206.0,184.0,202.0,1219,6,203.1666667]
[null,{"$f":"Roster_Selection_Men!AB25&\" \" & \"V \"","v":"Baker University V "},{"$f":"Roster_Selection_Men!AD25","v":"18-43056"},{"$f":"Roster_Selection_Men!AE25","v":"Josh King"},null,{"$f":"IF(ISERROR(Baker_Scores_Men_Var!E28), \" \", IF(Baker_Scores_Men_Var!E28 = \"Yes\", \"Yes\", \"  \"))","v":"  "},0.0,0.0,184.0,166.0,204.0,214.0,768,4,192]
[null,{"$f":"Roster_Selection_Men!AB26&\" \" & \"V \"","v":"Baker University V "},{"$f":"Roster_Selection_Men!AD26","v":"11-439937"},{"$f":"Roster_Selection_Men!AE26","v":"Tanner Eckerle"},null,{"$f":"IF(ISERROR(Baker_Scores_Men_Var!E29), \" \", IF(Baker_Scores_Men_Var!E29 = \"Yes\", \"Yes\", \"  \"))","v":"  "},137.0,0.0,0.0,192.0,171.0,0.0,500,3,166.6666667]
[null,{"$f":"Roster_Selection_Men!AB27&\" \" & \"V \"","v":"Baker University V "},{"$f":"Roster_Selection_Men!AD27","v":"11-607472"},{"$f":"Roster_Selection_Men!AE27","v":"Trey Myers"},null,{"$f":"IF(ISERROR(Baker_Scores_Men_Var!E30), \" \", IF(Baker_Scores_Men_Var!E30 = \"Yes\", \"Yes\", \"  \"))","v":"  "},277.0,174.0,231.0,165.0,0.0,0.0,847,4,211.75]
[null,{"$f":"Roster_Selection_Men!AB28&\" \" & \"V \"","v":"Baker University V "},{"$f":"Roster_Selection_Men!AD28","v":"17-89549"},{"$f":"Roster_Selection_Men!AE28","v":"Zachery Brehm"},null,{"$f":"IF(ISERROR(Baker_Scores_Men_Var!E31), \" \", IF(Baker_Scores_Men_Var!E31 = \"Yes\", \"Yes\", \"  \"))","v":"  "},164.0,209.0,172.0,0.0,180.0,279.0,1004,5,200.8]
[null,{"$f":"Roster_Selection_Men!AB29&\" \" & \"V \"","v":" V "},{"$f":"Roster_Selection_Men!AD29","v":""},{"$f":"Roster_Selection_Men!AE29","v":""},null,{"$f":"IF(ISERROR(Baker_Scores_Men_Var!E32), \" \", IF(Baker_Scores_Men_Var!E32 = \"Yes\", \"Yes\", \"  \"))","v":"  "},0.0,0.0,0.0,0.0,0.0,0.0,0,0,0]
[null,"Baker University V","","",{"$nulls":8},0,0,0]
[null,"Baker University V","","",{"$nulls":8},0,0,0]
[null,"Baker University V","","",{"$nulls":8},0,0,0]
[{"$nulls":6},{"$f":"SUM(G25:G35)","v":975},956,979,903,954,1043,5810,30]
[]
[null,{"$f":"Roster_Selection_Men!AB42&\" \" & \"V \"","v":"Barton Community College V "},{"$f":"Roster_Selection_Men!AD42","v":"17-15924"},{"$f":"Roster_Selection_Men!AE42","v":"Braden Boswell"},null,{"$f":"IF(ISERROR(Baker_Scores_Men_Var!E38), \" \", IF(Baker_Scores_Men_Var!E38 = \"Yes\", \"Yes\", \"  \"))","v":"  "},143.0,0.0,0.0,169.0,149.0,166.0,{"$f":"SUM(G38:L38)","v":627},{"$f":"COUNTIF(G38:L38, \">0\" )","v":4},{"$f":"IF(N38=0,0,M38/N38)","v":156.75}]
[null,{"$f":"Roster_Selection_Men!AB43&\" \" & \"V \"","v":"Barton Community College V "},{"$f":"Roster_Selection_Men!AD43","v":"11-97260"},{"$f":"Roster_Selection_Men!AE43","v":"Bryce Moore"},null,{"$f":"IF(ISERROR(Baker_Scores_Men_Var!E39), \" \", IF(Baker_Scores_Men_Var!E39 = \"Yes\", \"Yes\", \"  \"))","v":"  "},212.0,224.0,181.0,206.0,194.0,146.0,1163,6,193.8333333]
[null,{"$f":"Roster_Selection_Men!AB44&\" \" & \"V \"","v":"Barton Community College V "},{"$f":"Roster_Selection_Men!AD44","v":"15-181271"},{"$f":"Roster_Selection_Men!AE44","v":"Caleb Carr"},null,{"$f":"IF(ISERROR(Baker_Scores_Men_Var!E40), \" \", IF(Baker_Scores_Men_Var!E40 = \"Yes\", \"Yes\", \"  \"))","v":"  "},197.0,231.0,135.0,163.0,0.0,0.0,726,4,181.5]
[null,{"$f":"Roster_Selection_Men!AB45&\" \" & \"V \"","v":"Barton Community College V "},{"$f":"Roster_Selection_Men!AD45","v":"20-298"},{"$f":"Roster_Selection_Men!AE45","v":"Conner Eastman"},null,{"$f":"IF(ISERROR(Baker_Scores_Men_Var!E41), \" \", IF(Baker_Scores_Men_Var!E41 = \"Yes\", \"Yes\", \"  \"))","v":"  "},0.0,0.0,0.0,0.0,0.0,143.0,143,1,143]
[null,{"$f":"Roster_Selection_Men!AB46&\" \" & \"V \"","v":"Barton Community College V "},{"$f":"Roster_Selection_Men!AD46","v":"16-165419"},{"$f":"Roster_Selection_Men!AE46","v":"Griffin Peterson"},null,{"$f":"IF(ISERROR(Baker_Scores_Men_Var!E42), \" \", IF(Baker_Scores_Men_Var!E42 = \"Yes\", \"Yes\", \"  \"))","v":"  "},169.0,202.0,152.0,0.0,204.0,0.0,727,4,181.75]
[null,{"$f":"Roster_Selection_Men!AB47&\" \" & \"V \"","v":"Barton Community College V "},{"$f":"Roster_Selection_Men!AD47","v":"22-2676"},{"$f":"Roster_Selection_Men!AE47","v":"Oscar Rubio"},null,{"$f":"IF(ISERROR(Baker_Scores_Men_Var!E43), \" \", IF(Baker_Scores_Men_Var!E43 = \"Yes\", \"Yes\", \"  \"))","v":"  "},0.0,234.0,147.0,174.0,229.0,188.0,972,5,194.4]
[null,{"$f":"Roster_Selection_Men!AB48&\" \" & \"V \"","v":"Barton Community College V "},{"$f":"Roster_Selection_Men!AD48","v":"19-4539"},{"$f":"Roster_Selection_Men!AE48","v":"V-Thoon Thanasouk"},null,{"$f":"IF(ISERROR(Baker_Scores_Men_Var!E44), \" \", IF(Baker_Scores_Men_Var!E44 = \"Yes\", \"Yes\", \"  \"))","v":"  "},208.0,212.0,200.0,197.0,141.0,191.0,1149,6,191.5]
[null,{"$f":"Roster_Selection_Men!AB49&\" \" & \"V \"","v":" V "},{"$f":"Roster_Selection_Men!AD49","v":""},{"$f":"Roster_Selection_Men!AE49","v":""},null,{"$f":"IF(ISERROR(Baker_Scores_Men_Var!E45), \" \", IF(Baker_Scores_Men_Var!E45 = \"Yes\", \"Yes\", \"  \"))","v":"  "},0.0,0.0,0.0,0.0,0.0,0.0,0,0,0]
[null,"Barton Community College V","","",{"$nulls":8},0,0,0]
[null,"Barton Community College V","","",{"$nulls":8},0,0,0]
[null,"Barton Community College V","","",{"$nulls":8},0,0,0]
[{"$nulls":6},{"$f":"SUM(G38:G48)","v":929},1103,815,909,917,834,5507,30]
[]
[null,{"$f":"Roster_Selection_Men!AB57&\" \" & \"V \"","v":"Coe College V "},{"$f":"Roster_Selection_Men!AD57","v":"16-25815"},{"$f":"Roster_Selection_Men!AE57","v":"Alex DuFour"},null,{"$f":"IF(ISERROR(Baker_Scores_Men_Var!E51), \" \", IF(Baker_Scores_Men_Var!E51 = \"Yes\", \"Yes\", \"  \"))","v":"  "},211.0,227.0,175.0,183.0,163.0,0.0,{"$f":"SUM(G51:L51)","v":959},{"$f":"COUNTIF(G51:L51, \">0\" )","v":5},{"$f":"IF(N51=0,0,M51/N51)","v":191.8}]
[null,{"$f":"Roster_Selection_Men!AB58&\" \" & \"V \"","v":"Coe College V "},{"$f":"Roster_Selection_Men!AD58","v":"22-2807"},{"$f":"Roster_Selection_Men!AE58","v":"Braden Smith"},null,{"$f":"IF(ISERROR(Baker_Scores_Men_Var!E52), \" \", IF(Baker_Scores_Men_Var!E52 = \"Yes\", \"Yes\", \"  \"))","v":"  "},0.0,0.0,0.0,0.0,0.0,189.0,189,1,189]
[null,{"$f":"Roster_Selection_Men!AB59&\" \" & \"V \"","v":"Coe College V "},{"$f":"Roster_Selection_Men!AD59","v":"11-464684"},{"$f":"Roster_Selection_Men!AE59","v":"Bryce Cady"},null,{"$f":"IF(ISERROR(Baker_Scores_Men_Var!E53), \" \", IF(Baker_Scores_Men_Var!E53 = \"Yes\", \"Yes\", \"  \"))","v":"  "},179.0,246.0,177.0,218.0,198.0,194.0,1212,6,202]
[null,{"$f":"Roster_Selection_Men!AB60&\" \" & \"V \"","v":"Coe College V "},{"$f":"Roster_Selection_Men!AD60","v":"5816-1477"},{"$f":"Roster_Selection_Men!AE60","v":"Dakota Harris"},null,{"$f":"IF(ISERROR(Baker_Scores_Men_Var!E54), \" \", IF(Baker_Scores_Men_Var!E54 = \"Yes\", \"Yes\", \"  \"))","v":"  "},188.0,213.0,133.0,0.0,0.0,0.0,534,3,178]
[null,{"$f":"Roster_Selection_Men!AB61&\" \" & \"V \"","v":"Coe College V "},{"$f":"Roster_Selection_Men!AD61","v":"21-4165"},{"$f":"Roster_Selection_Men!AE61","v":"Ian Tibbott"},null,{"$f":"IF(ISERROR(Baker_Scores_Men_Var!E55), \" \", IF(Baker_Scores_Men_Var!E55 = \"Yes\", \"Yes\", \"  \"))","v":"  "},179.0,214.0,214.0,162.0,210.0,197.0,1176,6,196]
[null,{"$f":"Roster_Selection_Men!AB62&\" \" & \"V \"","v":"Coe College V "},{"$f":"Roster_Selection_Men!AD62","v":"20-58105"},{"$f":"Roster_Selection_Men!AE62","v":"Jeremiah 'Jp' Richmond"},null,{"$f":"IF(ISERROR(Baker_Scores_Men_Var!E56), \" \", IF(Baker_Scores_Men_Var!E56 = \"Yes\", \"Yes\", \"  \"))","v":"  "},176.0,0.0,237.0,181.0,166.0,178.0,938,5,187.6]
[null,{"$f":"Roster_Selection_Men!AB63&\" \" & \"V \"","v":"Coe College V "},{"$f":"Roster_Selection_Men!AD63","v":"21-4164"},{"$f":"Roster_Selection_Men!AE63","v":"Michael Bonner"},null,{"$f":"IF(ISERROR(Baker_Scores_Men_Var!E57), \" \", IF(Baker_Scores_Men_Var!E57 = \"Yes\", \"Yes\", \"  \"))","v":"  "},0.0,162.0,0.0,0.0,0.0,0.0,162,1,162]
[null,{"$f":"Roster_Selection_Men!AB64&\" \" & \"V \"","v":"Coe College V "},{"$f":"Roster_Selection_Men!AD64","v":"11-232528"},{"$f":"Roster_Selection_Men!AE64","v":"Ryan Eddy"},null,{"$f":"IF(ISERROR(Baker_Scores_Men_Var!E58), \" \", IF(Baker_Scores_Men_Var!E58 = \"Yes\", \"Yes\", \"  \"))","v":"  "},0.0,0.0,0.0,176.0,177.0,170.0,523,3,174.3333333]
[null,"Coe College V","","",{"$nulls":8},0,0,0]
[null,"Coe College V","","",{"$nulls":8},0,0,0]
[null,"Coe College V","","",{"$nulls":8},0,0,0]
[{"$nulls":6},{"$f":"SUM(G51:G61)","v":933},1062,936,920,914,928,5693,30]
[]
[null,{"$f":"Roster_Selection_Men!AB68&\" \" & \"V \"","v":"Culver-Stockton College V "},{"$f":"Roster_Selection_Men!AD68","v":"11-235313"},{"$f":"Roster_Selection_Men!AE68","v":"Blake Hemann"},null,{"$f":"IF(ISERROR(Baker_Scores_Men_Var!E64), \" \", IF(Baker_Scores_Men_Var!E64 = \"Yes\", \"Yes\", \"  \"))","v":"  "},212.0,180.0,145.0,158.0,149.0,156.0,{"$f":"SUM(G64:L64)","v":1000},{"$f":"COUNTIF(G64:L64, \">0\" )","v":6},{"$f":"IF(N64=0,0,M64/N64)","v":166.6666667}]
[null,{"$f":"Roster_Selection_Men!AB69&\" \" & \"V \"","v":"Culver-Stockton College V "},{"$f":"Roster_Selection_Men!AD69","v":"19-3783"},{"$f":"Roster_Selection_Men!AE69","v":"Gavin Moeller"},null,{"$f":"IF(ISERROR(Baker_Scores_Men_Var!E65), \" \", IF(Baker_Scores_Men_Var!E65 = \"Yes\", \"Yes\", \"  \"))","v":"  "},239.0,165.0,162.0,143.0,189.0,160.0,1058,6,176.3333333]
[null,{"$f":"Roster_Selection_Men!AB70&\" \" & \"V \"","v":"Culver-Stockton College V "},{"$f":"Roster_Selection_Men!AD70","v":"11-32574"},{"$f":"Roster_Selection_Men!AE70","v":"Jake Evitts"},null,{"$f":"IF(ISERROR(Baker_Scores_Men_Var!E66), \" \", IF(Baker_Scores_Men_Var!E66 = \"Yes\", \"Yes\", \"  \"))","v":"  "},233.0,206.0,151.0,193.0,212.0,162.0,1157,6,192.8333333]
[null,{"$f":"Roster_Selection_Men!AB71&\" \" & \"V \"","v":"Culver-Stockton College V "},{"$f":"Roster_Selection_Men!AD71","v":"7914-19067"},{"$f":"Roster_Selection_Men!AE71","v":"Levi Staley"},null,{"$f":"IF(ISERROR(Baker_Scores_Men_Var!E67), \" \", IF(Baker_Scores_Men_Var!E67 = \"Yes\", \"Yes\", \"  \"))","v":"  "},165.0,212.0,156.0,176.0,257.0,173.0,1139,6,189.8333333]
[null,{"$f":"Roster_Selection_Men!AB72&\" \" & \"V \"","v":"Culver-Stockton College V "},{"$f":"Roster_Selection_Men!AD72","v":"17-52681"},{"$f":"Roster_Selection_Men!AE72","v":"River VanVeghel"},null,{"$f":"IF(ISERROR(Baker_Scores_Men_Var!E68), \" \", IF(Baker_Scores_Men_Var!E68 = \"Yes\", \"Yes\", \"  \"))","v":"  "},200.0,226.0,186.0,202.0,215.0,172.0,1201,6,200.1666667]
[null,{"$f":"Roster_Selection_Men!AB73&\" \" & \"V \"","v":"Culver-Stockton College V "},{"$f":"Roster_Selection_Men!AD73","v":"17-37893"},{"$f":"Roster_Selection_Men!AE73","v":"Zachary Lantz"},null,{"$f":"IF(ISERROR(Baker_Scores_Men_Var!E69), \" \", IF(Baker_Scores_Men_Var!E69 = \"Yes\", \"Yes\", \"  \"))","v":"  "},0.0,0.0,0.0,0.0,0.0,0.0,0,0,0]
[null,{"$f":"Roster_Selection_Men!AB74&\" \" & \"V \"","v":" V "},{"$f":"Roster_Selection_Men!AD74","v":""},{"$f":"Roster_Selection_Men!AE74","v":""},null,{"$f":"IF(ISERROR(Baker_Scores_Men_Var!E70), \" \", IF(Baker_Scores_Men_Var!E70 = \"Yes\", \"Yes\", \"  \"))","v":"  "},0.0,0.0,0.0,0.0,0.0,0.0,0,0,0]
[null,{"$f":"Roster_Selection_Men!AB75&\" \" & \"V \"","v":" V "},{"$f":"Roster_Selection_Men!AD75","v":""},{"$f":"Roster_Selection_Men!AE75","v":""},null,{"$f":"IF(ISERROR(Baker_Scores_Men_Var!E71), \" \", IF(Baker_Scores_Men_Var!E71 = \"Yes\", \"Yes\", \"  \"))","v":"  "},0.0,0.0,0.0,0.0,0.0,0.0,0,0,0]
[null,"Culver-Stockton College V","","",{"$nulls":8},0,0,0]
[null,"Culver-Stockton College V","","",{"$nulls":8},0,0,0]
[null,"Culver-Stockton College V","","",{"$nulls":8},0,0,0]
[{"$nulls":6},{"$f":"SUM(G64:G74)","v":1049},989,800,872,1022,823,5555,30]
[]
[null,{"$f":"Roster_Selection_Men!AB76&\" \" & \"V \"","v":"Dallas Baptist University V "},{"$f":"Roster_Selection_Men!AD76","v":"22-23714"},{"$f":"Roster_Selection_Men!AE76","v":"Elijah Roberts"},null,{"$f":"IF(ISERROR(Baker_Scores_Men_Var!E77), \" \", IF(Baker_Scores_Men_Var!E77 = \"Yes\", \"Yes\", \"  \"))","v":"  "},148.0,183.0,175.0,185.0,138.0,200.0,{"$f":"SUM(G77:L77)","v":1029},{"$f":"COUNTIF(G77:L77, \">0\" )","v":6},{"$f":"IF(N77=0,0,M77/N77)","v":171.5}]
[null,{"$f":"Roster_Selection_Men!AB77&\" \" & \"V \"","v":"Dallas Baptist University V "},{"$f":"Roster_Selection_Men!AD77","v":"22-23707"},{"$f":"Roster_Selection_Men!AE77","v":"Jonathan Wallace"},null,{"$f":"IF(ISERROR(Baker_Scores_Men_Var!E78), \" \", IF(Baker_Scores_Men_Var!E78 = \"Yes\", \"Yes\", \"  \"))","v":"  "},84.0,104.0,78.0,73.0,0.0,79.0,418,5,83.6]
[null,{"$f":"Roster_Selection_Men!AB78&\" \" & \"V \"","v":"Dallas Baptist University V "},{"$f":"Roster_Selection_Men!AD78","v":"22-23704"},{"$f":"Roster_Selection_Men!AE78","v":"Justin Wallace"},null,{"$f":"IF(ISERROR(Baker_Scores_Men_Var!E79), \" \", IF(Baker_Scores_Men_Var!E79 = \"Yes\", \"Yes\", \"  \"))","v":"  "},0.0,0.0,0.0,0.0,0.0,0.0,0,0,0]
[null,{"$f":"Roster_Selection_Men!AB79&\" \" & \"V \"","v":"Dallas Baptist University V "},{"$f":"Roster_Selection_Men!AD79","v":"11-484627"},{"$f":"Roster_Selection_Men!AE79","v":"Kari Beyer"},null,{"$f":"IF(ISERROR(Baker_Scores_Men_Var!E80), \" \", IF(Baker_Scores_Men_Var!E80 = \"Yes\", \"Yes\", \"  \"))","v":"  "},160.0,180.0,208.0,191.0,164.0,121.0,1024,6,170.6666667]
[null,{"$f":"Roster_Selection_Men!AB80&\" \" & \"V \"","v":"Dallas Baptist University V "},{"$f":"Roster_Selection_Men!AD80","v":"22-23712"},{"$f":"Roster_Selection_Men!AE80","v":"Katrina Smith"},null,{"$f":"IF(ISERROR(Baker_Scores_Men_Var!E81), \" \", IF(Baker_Scores_Men_Var!E81 = \"Yes\", \"Yes\", \"  \"))","v":"  "},0.0,0.0,101.0,79.0,99.0,85.0,364,4,91]
[null,{"$f":"Roster_Selection_Men!AB81&\" \" & \"V \"","v":"Dallas Baptist University V "},{"$f":"Roster_Selection_Men!AD81","v":"11-777155"},{"$f":"Roster_Selection_Men!AE81","v":"Paul Marquez"},null,{"$f":"IF(ISERROR(Baker_Scores_Men_Var!E82), \" \", IF(Baker_Scores_Men_Var!E82 = \"Yes\", \"Yes\", \"  \"))","v":"  "},138.0,176.0,176.0,164.0,157.0,156.0,967,6,161.1666667]
[null,{"$f":"Roster_Selection_Men!AB82&\" \" & \"V \"","v":"Dallas Baptist University V "},{"$f":"Roster_Selection_Men!AD82","v":"22-23718"},{"$f":"Roster_Selection_Men!AE82","v":"Peter Coniaris"},null,{"$f":"IF(ISERROR(Baker_Scores_Men_Var!E83), \" \", IF(Baker_Scores_Men_Var!E83 = \"Yes\", \"Yes\", \"  \"))","v":"  "},104.0,92.0,0.0,0.0,100.0,0.0,296,3,98.66666667]
[null,{"$f":"Roster_Selection_Men!AB83&\" \" & \"V \"","v":" V "},{"$f":"Roster_Selection_Men!AD83","v":""},{"$f":"Roster_Selection_Men!AE83","v":""},null,{"$f":"IF(ISERROR(Baker_Scores_Men_Var!E84), \" \", IF(Baker_Scores_Men_Var!E84 = \"Yes\", \"Yes\", \"  \"))","v":"  "},0.0,0.0,0.0,0.0,0.0,0.0,0,0,0]
[null,"Dallas Baptist University V","","",{"$nulls":8},0,0,0]
[null,"Dallas Baptist University V","","",{"$nulls":8},0,0,0]
[null,"Dallas Baptist University V","","",{"$nulls":8},0,0,0]
[{"$nulls":6},{"$f":"SUM(G77:G87)","v":634},735,738,692,658,641,4098,30]
[]
[null,{"$f":"Roster_Selection_Men!AB84&\" \" & \"V \"","v":"Drury University V "},{"$f":"Roster_Selection_Men!AD84","v":"11-499796"},{"$f":"Roster_Selection_Men!AE84","v":"Ammon Janey"},null,{"$f":"IF(ISERROR(Baker_Scores_Men_Var!E90), \" \", IF(Baker_Scores_Men_Var!E90 = \"Yes\", \"Yes\", \"  \"))","v":"  "},0.0,0.0,0.0,0.0,149.0,139.0,{"$f":"SUM(G90:L90)","v":288},{"$f":"COUNTIF(G90:L90, \">0\" )","v":2},{"$f":"IF(N90=0,0,M90/N90)","v":144}]
[null,{"$f":"Roster_Selection_Men!AB85&\" \" & \"V \"","v":"Drury University V "},{"$f":"Roster_Selection_Men!AD85","v":"11-375377"},{"$f":"Roster_Selection_Men!AE85","v":"Brandon Lacy"},null,{"$f":"IF(ISERROR(Baker_Scores_Men_Var!E91), \" \", IF(Baker_Scores_Men_Var!E91 = \"Yes\", \"Yes\", \"  \"))","v":"  "},193.0,207.0,214.0,139.0,188.0,169.0,1110,6,185]
[null,{"$f":"Roster_Selection_Men!AB86&\" \" & \"V \"","v":"Drury University V "},{"$f":"Roster_Selection_Men!AD86","v":"8845-26727"},{"$f":"Roster_Selection_Men!AE86","v":"Glen Sills"},null,{"$f":"IF(ISERROR(Baker_Scores_Men_Var!E92), \" \", IF(Baker_Scores_Men_Var!E92 = \"Yes\", \"Yes\", \"  \"))","v":"  "},0.0,0.0,0.0,0.0,0.0,0.0,0,0,0]
[null,{"$f":"Roster_Selection_Men!AB87&\" \" & \"V \"","v":"Drury University V "},{"$f":"Roster_Selection_Men!AD87","v":"11-29144"},{"$f":"Roster_Selection_Men!AE87","v":"Haden Barbee"},null,{"$f":"IF(ISERROR(Baker_Scores_Men_Var!E93), \" \", IF(Baker_Scores_Men_Var!E93 = \"Yes\", \"Yes\", \"  \"))","v":"  "},188.0,195.0,173.0,209.0,184.0,152.0,1101,6,183.5]
[null,{"$f":"Roster_Selection_Men!AB88&\" \" & \"V \"","v":"Drury University V "},{"$f":"Roster_Selection_Men!AD88","v":"11-111286"},{"$f":"Roster_Selection_Men!AE88","v":"Jeremy Vanost"},null,{"$f":"IF(ISERROR(Baker_Scores_Men_Var!E94), \" \", IF(Baker_Scores_Men_Var!E94 = \"Yes\", \"Yes\", \"  \"))","v":"  "},137.0,212.0,221.0,189.0,193.0,178.0,1130,6,188.3333333]
[null,{"$f":"Roster_Selection_Men!AB89&\" \" & \"V \"","v":"Drury University V "},{"$f":"Roster_Selection_Men!AD89","v":"18-82246"},{"$f":"Roster_Selection_Men!AE89","v":"Jordan McConnell"},null,{"$f":"IF(ISERROR(Baker_Scores_Men_Var!E95), \" \", IF(Baker_Scores_Men_Var!E95 = \"Yes\", \"Yes\", \"  \"))","v":"  "},183.0,165.0,195.0,172.0,0.0,0.0,715,4,178.75]
[null,{"$f":"Roster_Selection_Men!AB90&\" \" & \"V \"","v":"Drury University V "},{"$f":"Roster_Selection_Men!AD90","v":"18-27844"},{"$f":"Roster_Selection_Men!AE90","v":"Quinten Schulte"},null,{"$f":"IF(ISERROR(Baker_Scores_Men_Var!E96), \" \", IF(Baker_Scores_Men_Var!E96 = \"Yes\", \"Yes\", \"  \"))","v":"  "},0.0,0.0,0.0,0.0,0.0,0.0,0,0,0]
[null,{"$f":"Roster_Selection_Men!AB91&\" \" & \"V \"","v":"Drury University V "},{"$f":"Roster_Selection_Men!AD91","v":"9129-614"},{"$f":"Roster_Selection_Men!AE91","v":"Zacary Barbee"},null,{"$f":"IF(ISERROR(Baker_Scores_Men_Var!E97), \" \", IF(Baker_Scores_Men_Var!E97 = \"Yes\", \"Yes\", \"  \"))","v":"  "},195.0,244.0,216.0,220.0,178.0,197.0,1250,6,208.3333333]
[null,"Drury University V","","",{"$nulls":8},0,0,0]
[null,"Drury University V","","",{"$nulls":8},0,0,0]
[null,"Drury University V","","",{"$nulls":8},0,0,0]
[{"$nulls":6},{"$f":"SUM(G90:G100)","v":896},1023,1019,929,892,835,5594,30]
[]
[null,{"$f":"Roster_Selection_Men!AB93&\" \" & \"V \"","v":"Grand View University V "},{"$f":"Roster_Selection_Men!AD93","v":"11-389770"},{"$f":"Roster_Selection_Men!AE93","v":"Andru Wilder"},null,{"$f":"IF(ISERROR(Baker_Scores_Men_Var!E103), \" \", IF(Baker_Scores_Men_Var!E103 = \"Yes\", \"Yes\", \"  \"))","v":"  "},196.0,169.0,215.0,164.0,238.0,188.0,{"$f":"SUM(G103:L103)","v":1170},{"$f":"COUNTIF(G103:L103, \">0\" )","v":6},{"$f":"IF(N103=0,0,M103/N103)","v":195}]
[null,{"$f":"Roster_Selection_Men!AB94&\" \" & \"V \"","v":"Grand View University V "},{"$f":"Roster_Selection_Men!AD94","v":"11-295590"},{"$f":"Roster_Selection_Men!AE94","v":"Brayden Fishel"},null,{"$f":"IF(ISERROR(Baker_Scores_Men_Var!E104), \" \", IF(Baker_Scores_Men_Var!E104 = \"Yes\", \"Yes\", \"  \"))","v":"  "},0.0,0.0,0.0,0.0,169.0,217.0,386,2,193]
[null,{"$f":"Roster_Selection_Men!AB95&\" \" & \"V \"","v":"Grand View University V "},{"$f":"Roster_Selection_Men!AD95","v":"11-742664"},{"$f":"Roster_Selection_Men!AE95","v":"Caden Ziegler"},null,{"$f":"IF(ISERROR(Baker_Scores_Men_Var!E105), \" \", IF(Baker_Scores_Men_Var!E105 = \"Yes\", \"Yes\", \"  \"))","v":"  "},225.0,190.0,156.0,0.0,0.0,0.0,571,3,190.3333333]
[null,{"$f":"Roster_Selection_Men!AB96&\" \" & \"V \"","v":"Grand View University V "},{"$f":"Roster_Selection_Men!AD96","v":"11-227599"},{"$f":"Roster_Selection_Men!AE96","v":"Derek Baucom"},null,{"$f":"IF(ISERROR(Baker_Scores_Men_Var!E106), \" \", IF(Baker_Scores_Men_Var!E106 = \"Yes\", \"Yes\", \"  \"))","v":"  "},0.0,0.0,0.0,0.0,185.0,159.0,344,2,172]
[null,{"$f":"Roster_Selection_Men!AB97&\" \" & \"V \"","v":"Grand View University V "},{"$f":"Roster_Selection_Men!AD97","v":"9138-8600"},{"$f":"Roster_Selection_Men!AE97","v":"Johnathan Hemmingsen"},null,{"$f":"IF(ISERROR(Baker_Scores_Men_Var!E107), \" \", IF(Baker_Scores_Men_Var!E107 = \"Yes\", \"Yes\", \"  \"))","v":"  "},196.0,173.0,178.0,173.0,0.0,0.0,720,4,180]
[null,{"$f":"Roster_Selection_Men!AB98&\" \" & \"V \"","v":"Grand View University V "},{"$f":"Roster_Selection_Men!AD98","v":"5860-323"},{"$f":"Roster_Selection_Men!AE98","v":"Lucas Kramer"},null,{"$f":"IF(ISERROR(Baker_Scores_Men_Var!E108), \" \", IF(Baker_Scores_Men_Var!E108 = \"Yes\", \"Yes\", \"  \"))","v":"  "},204.0,191.0,235.0,236.0,182.0,245.0,1293,6,215.5]
[null,{"$f":"Roster_Selection_Men!AB99&\" \" & \"V \"","v":"Grand View University V "},{"$f":"Roster_Selection_Men!AD99","v":"5689-4652"},{"$f":"Roster_Selection_Men!AE99","v":"Nicholas Prochnow"},null,{"$f":"IF(ISERROR(Baker_Scores_Men_Var!E109), \" \", IF(Baker_Scores_Men_Var!E109 = \"Yes\", \"Yes\", \"  \"))","v":"  "},193.0,223.0,217.0,163.0,214.0,221.0,1231,6,205.1666667]
[null,{"$f":"Roster_Selection_Men!AB100&\" \" & \"V \"","v":"Grand View University V "},{"$f":"Roster_Selection_Men!AD100","v":"9138-8601"},{"$f":"Roster_Selection_Men!AE100","v":"Tim Lincoln"},null,{"$f":"IF(ISERROR(Baker_Scores_Men_Var!E110), \" \", IF(Baker_Scores_Men_Var!E110 = \"Yes\", \"Yes\", \"  \"))","v":"  "},0.0,0.0,0.0,148.0,0.0,0.0,148,1,148]
[null,"Grand View University V","","",{"$nulls":8},0,0,0]
[null,"Grand View University V","","",{"$nulls":8},0,0,0]
[null,"Grand View University V","","",{"$nulls":8},0,0,0]
[{"$nulls":6},{"$f":"SUM(G103:G113)","v":1014},946,1001,884,988,1030,5863,30]
[]
[null,{"$f":"Roster_Selection_Men!AB114&\" \" & \"V \"","v":"Hastings College V "},{"$f":"Roster_Selection_Men!AD114","v":"6238-1210"},{"$f":"Roster_Selection_Men!AE114","v":"Anthony Hernandez"},null,{"$f":"IF(ISERROR(Baker_Scores_Men_Var!E116), \" \", IF(Baker_Scores_Men_Var!E116 = \"Yes\", \"Yes\", \"  \"))","v":"  "},157.0,199.0,236.0,204.0,224.0,247.0,{"$f":"SUM(G116:L116)","v":1267},{"$f":"COUNTIF(G116:L116, \">0\" )","v":6},{"$f":"IF(N116=0,0,M116/N116)","v":211.1666667}]
[null,{"$f":"Roster_Selection_Men!AB115&\" \" & \"V \"","v":"Hastings College V "},{"$f":"Roster_Selection_Men!AD115","v":"8219-74921"},{"$f":"Roster_Selection_Men!AE115","v":"Brady Kaufmann"},null,{"$f":"IF(ISERROR(Baker_Scores_Men_Var!E117), \" \", IF(Baker_Scores_Men_Var!E117 = \"Yes\", \"Yes\", \"  \"))","v":"  "},242.0,215.0,225.0,193.0,215.0,193.0,1283,6,213.8333333]
[null,{"$f":"Roster_Selection_Men!AB116&\" \" & \"V \"","v":"Hastings College V "},{"$f":"Roster_Selection_Men!AD116","v":"11-672708"},{"$f":"Roster_Selection_Men!AE116","v":"Kenneth High"},null,{"$f":"IF(ISERROR(Baker_Scores_Men_Var!E118), \" \", IF(Baker_Scores_Men_Var!E118 = \"Yes\", \"Yes\", \"  \"))","v":"  "},168.0,222.0,191.0,225.0,185.0,0.0,991,5,198.2]
[null,{"$f":"Roster_Selection_Men!AB117&\" \" & \"V \"","v":"Hastings College V "},{"$f":"Roster_Selection_Men!AD117","v":"17-60831"},{"$f":"Roster_Selection_Men!AE117","v":"Paul Baker"},null,{"$f":"IF(ISERROR(Baker_Scores_Men_Var!E119), \" \", IF(Baker_Scores_Men_Var!E119 = \"Yes\", \"Yes\", \"  \"))","v":"  "},0.0,0.0,0.0,0.0,0.0,195.0,195,1,195]
[null,{"$f":"Roster_Selection_Men!AB118&\" \" & \"V \"","v":"Hastings College V "},{"$f":"Roster_Selection_Men!AD118","v":"8813-4825"},{"$f":"Roster_Selection_Men!AE118","v":"Tyler Call"},null,{"$f":"IF(ISERROR(Baker_Scores_Men_Var!E120), \" \", IF(Baker_Scores_Men_Var!E120 = \"Yes\", \"Yes\", \"  \"))","v":"  "},168.0,0.0,0.0,0.0,0.0,0.0,168,1,168]
[null,{"$f":"Roster_Selection_Men!AB119&\" \" & \"V \"","v":"Hastings College V "},{"$f":"Roster_Selection_Men!AD119","v":"11-104668"},{"$f":"Roster_Selection_Men!AE119","v":"Tyler Seeley"},null,{"$f":"IF(ISERROR(Baker_Scores_Men_Var!E121), \" \", IF(Baker_Scores_Men_Var!E121 = \"Yes\", \"Yes\", \"  \"))","v":"  "},0.0,238.0,224.0,237.0,224.0,219.0,1142,5,228.4]
[null,{"$f":"Roster_Selection_Men!AB120&\" \" & \"V \"","v":"Hastings College V "},{"$f":"Roster_Selection_Men!AD120","v":"11-102582"},{"$f":"Roster_Selection_Men!AE120","v":"Winton Gassmann"},null,{"$f":"IF(ISERROR(Baker_Scores_Men_Var!E122), \" \", IF(Baker_Scores_Men_Var!E122 = \"Yes\", \"Yes\", \"  \"))","v":"  "},202.0,202.0,206.0,257.0,197.0,180.0,1244,6,207.3333333]
[null,{"$f":"Roster_Selection_Men!AB121&\" \" & \"V \"","v":" V "},{"$f":"Roster_Selection_Men!AD121","v":""},{"$f":"Roster_Selection_Men!AE121","v":""},null,{"$f":"IF(ISERROR(Baker_Scores_Men_Var!E123), \" \", IF(Baker_Scores_Men_Var!E123 = \"Yes\", \"Yes\", \"  \"))","v":"  "},0.0,0.0,0.0,0.0,0.0,0.0,0,0,0]
[null,"Hastings College V","","",{"$nulls":8},0,0,0]
[null,"Hastings College V","","",{"$nulls":8},0,0,0]
[null,"Hastings College V","","",{"$nulls":8},0,0,0]
[{"$nulls":6},{"$f":"SUM(G116:G126)","v":937},1076,1082,1116,1045,1034,6290,30]
[]
[null,{"$f":"Roster_Selection_Men!AB129&\" \" & \"V \"","v":"Iowa Central Community College V "},{"$f":"Roster_Selection_Men!AD129","v":"11-123571"},{"$f":"Roster_Selection_Men!AE129","v":"Dawson Weber"},null,{"$f":"IF(ISERROR(Baker_Scores_Men_Var!E129), \" \", IF(Baker_Scores_Men_Var!E129 = \"Yes\", \"Yes\", \"  \"))","v":"  "},168.0,188.0,147.0,0.0,199.0,215.0,{"$f":"SUM(G129:L129)","v":917},{"$f":"COUNTIF(G129:L129, \">0\" )","v":5},{"$f":"IF(N129=0,0,M129/N129)","v":183.4}]
[null,{"$f":"Roster_Selection_Men!AB130&\" \" & \"V \"","v":"Iowa Central Community College V "},{"$f":"Roster_Selection_Men!AD130","v":"15-118474"},{"$f":"Roster_Selection_Men!AE130","v":"Easton Lee"},null,{"$f":"IF(ISERROR(Baker_Scores_Men_Var!E130), \" \", IF(Baker_Scores_Men_Var!E130 = \"Yes\", \"Yes\", \"  \"))","v":"  "},183.0,156.0,0.0,191.0,147.0,0.0,677,4,169.25]
[null,{"$f":"Roster_Selection_Men!AB131&\" \" & \"V \"","v":"Iowa Central Community College V "},{"$f":"Roster_Selection_Men!AD131","v":"6987-998"},{"$f":"Roster_Selection_Men!AE131","v":"Jacob Kraft"},null,{"$f":"IF(ISERROR(Baker_Scores_Men_Var!E131), \" \", IF(Baker_Scores_Men_Var!E131 = \"Yes\", \"Yes\", \"  \"))","v":"  "},165.0,0.0,201.0,221.0,167.0,185.0,939,5,187.8]
[null,{"$f":"Roster_Selection_Men!AB132&\" \" & \"V \"","v":"Iowa Central Community College V "},{"$f":"Roster_Selection_Men!AD132","v":"8731-3049"},{"$f":"Roster_Selection_Men!AE132","v":"Justin Graves"},null,{"$f":"IF(ISERROR(Baker_Scores_Men_Var!E132), \" \", IF(Baker_Scores_Men_Var!E132 = \"Yes\", \"Yes\", \"  \"))","v":"  "},203.0,191.0,187.0,213.0,236.0,233.0,1263,6,210.5]
[null,{"$f":"Roster_Selection_Men!AB133&\" \" & \"V \"","v":"Iowa Central Community College V "},{"$f":"Roster_Selection_Men!AD133","v":"11-241684"},{"$f":"Roster_Selection_Men!AE133","v":"Lucas Campbell"},null,{"$f":"IF(ISERROR(Baker_Scores_Men_Var!E133), \" \", IF(Baker_Scores_Men_Var!E133 = \"Yes\", \"Yes\", \"  \"))","v":"  "},204.0,162.0,190.0,188.0,216.0,212.0,1172,6,195.3333333]
[null,{"$f":"Roster_Selection_Men!AB134&\" \" & \"V \"","v":"Iowa Central Community College V "},{"$f":"Roster_Selection_Men!AD134","v":"19-52211"},{"$f":"Roster_Selection_Men!AE134","v":"Nathan Swanson"},null,{"$f":"IF(ISERROR(Baker_Scores_Men_Var!E134), \" \", IF(Baker_Scores_Men_Var!E134 = \"Yes\", \"Yes\", \"  \"))","v":"  "},0.0,0.0,0.0,0.0,0.0,150.0,150,1,150]
[null,{"$f":"Roster_Selection_Men!AB135&\" \" & \"V \"","v":"Iowa Central Community College V "},{"$f":"Roster_Selection_Men!AD135","v":"17-29871"},{"$f":"Roster_Selection_Men!AE135","v":"Steven Stone"},null,{"$f":"IF(ISERROR(Baker_Scores_Men_Var!E135), \" \", IF(Baker_Scores_Men_Var!E135 = \"Yes\", \"Yes\", \"  \"))","v":"  "},0.0,213.0,215.0,160.0,0.0,0.0,588,3,196]
[null,{"$f":"Roster_Selection_Men!AB136&\" \" & \"V \"","v":"Iowa Central Community College V "},{"$f":"Roster_Selection_Men!AD136","v":"18-88391"},{"$f":"Roster_Selection_Men!AE136","v":"Tyler Whitner"},null,{"$f":"IF(ISERROR(Baker_Scores_Men_Var!E136), \" \", IF(Baker_Scores_Men_Var!E136 = \"Yes\", \"Yes\", \"  \"))","v":"  "},0.0,0.0,0.0,0.0,0.0,0.0,0,0,0]
[null,"Iowa Central Community College V","","",{"$nulls":8},0,0,0]
[null,"Iowa Central Community College V","","",{"$nulls":8},0,0,0]
[null,"Iowa Central Community College V","","",{"$nulls":8},0,0,0]
[{"$nulls":6},{"$f":"SUM(G129:G139)","v":923},910,940,973,965,995,5706,30]
[]
[null,{"$f":"Roster_Selection_Men!AB143&\" \" & \"V \"","v":"Iowa Western Community College V "},{"$f":"Roster_Selection_Men!AD143","v":"7914-26313"},{"$f":"Roster_Selection_Men!AE143","v":"Andrew Chavarria"},null,{"$f":"IF(ISERROR(Baker_Scores_Men_Var!E142), \" \", IF(Baker_Scores_Men_Var!E142 = \"Yes\", \"Yes\", \"  \"))","v":"  "},182.0,161.0,0.0,0.0,0.0,0.0,{"$f":"SUM(G142:L142)","v":343},{"$f":"COUNTIF(G142:L142, \">0\" )","v":2},{"$f":"IF(N142=0,0,M142/N142)","v":171.5}]
[null,{"$f":"Roster_Selection_Men!AB144&\" \" & \"V \"","v":"Iowa Western Community College V "},{"$f":"Roster_Selection_Men!AD144","v":"7914-660"},{"$f":"Roster_Selection_Men!AE144","v":"Andrew Hall"},null,{"$f":"IF(ISERROR(Baker_Scores_Men_Var!E143), \" \", IF(Baker_Scores_Men_Var!E143 = \"Yes\", \"Yes\", \"  \"))","v":"  "},0.0,0.0,0.0,0.0,0.0,234.0,234,1,234]
[null,{"$f":"Roster_Selection_Men!AB145&\" \" & \"V \"","v":"Iowa Western Community College V "},{"$f":"Roster_Selection_Men!AD145","v":"20-5362"},{"$f":"Roster_Selection_Men!AE145","v":"Brandon Savino"},null,{"$f":"IF(ISERROR(Baker_Scores_Men_Var!E144), \" \", IF(Baker_Scores_Men_Var!E144 = \"Yes\", \"Yes\", \"  \"))","v":"  "},0.0,0.0,0.0,0.0,0.0,0.0,0,0,0]
[null,{"$f":"Roster_Selection_Men!AB146&\" \" & \"V \"","v":"Iowa Western Community College V "},{"$f":"Roster_Selection_Men!AD146","v":"20-9086"},{"$f":"Roster_Selection_Men!AE146","v":"Cameron Brundage"},null,{"$f":"IF(ISERROR(Baker_Scores_Men_Var!E145), \" \", IF(Baker_Scores_Men_Var!E145 = \"Yes\", \"Yes\", \"  \"))","v":"  "},266.0,279.0,188.0,299.0,225.0,194.0,1451,6,241.8333333]
[null,{"$f":"Roster_Selection_Men!AB147&\" \" & \"V \"","v":"Iowa Western Community College V "},{"$f":"Roster_Selection_Men!AD147","v":"15-118730"},{"$f":"Roster_Selection_Men!AE147","v":"Chandler Scott"},null,{"$f":"IF(ISERROR(Baker_Scores_Men_Var!E146), \" \", IF(Baker_Scores_Men_Var!E146 = \"Yes\", \"Yes\", \"  \"))","v":"  "},0.0,0.0,222.0,200.0,185.0,0.0,607,3,202.3333333]
[null,{"$f":"Roster_Selection_Men!AB148&\" \" & \"V \"","v":"Iowa Western Community College V "},{"$f":"Roster_Selection_Men!AD148","v":"11-513100"},{"$f":"Roster_Selection_Men!AE148","v":"Kaleb Anderson"},null,{"$f":"IF(ISERROR(Baker_Scores_Men_Var!E147), \" \", IF(Baker_Scores_Men_Var!E147 = \"Yes\", \"Yes\", \"  \"))","v":"  "},215.0,198.0,174.0,226.0,230.0,169.0,1212,6,202]
[null,{"$f":"Roster_Selection_Men!AB149&\" \" & \"V \"","v":"Iowa Western Community College V "},{"$f":"Roster_Selection_Men!AD149","v":"8128-4496"},{"$f":"Roster_Selection_Men!AE149","v":"Mason Sterkel"},null,{"$f":"IF(ISERROR(Baker_Scores_Men_Var!E148), \" \", IF(Baker_Scores_Men_Var!E148 = \"Yes\", \"Yes\", \"  \"))","v":"  "},189.0,186.0,191.0,201.0,203.0,147.0,1117,6,186.1666667]
[null,{"$f":"Roster_Selection_Men!AB150&\" \" & \"V \"","v":"Iowa Western Community College V "},{"$f":"Roster_Selection_Men!AD150","v":"19-85485"},{"$f":"Roster_Selection_Men!AE150","v":"Zane Cairo"},null,{"$f":"IF(ISERROR(Baker_Scores_Men_Var!E149), \" \", IF(Baker_Scores_Men_Var!E149 = \"Yes\", \"Yes\", \"  \"))","v":"  "},183.0,216.0,276.0,217.0,203.0,180.0,1275,6,212.5]
[null,"Iowa Western Community College V","","",{"$nulls":8},0,0,0]
[null,"Iowa Western Community College V","","",{"$nulls":8},0,0,0]
[null,"Iowa Western Community College V","","",{"$nulls":8},0,0,0]
[{"$nulls":6},{"$f":"SUM(G142:G152)","v":1035},1040,1051,1143,1046,924,6239,30]
[]
[null,{"$f":"Roster_Selection_Men!AB157&\" \" & \"V \"","v":"Kansas ,University Of V "},{"$f":"Roster_Selection_Men!AD157","v":"20-50265"},{"$f":"Roster_Selection_Men!AE157","v":"Brady Aebersold"},null,{"$f":"IF(ISERROR(Baker_Scores_Men_Var!E155), \" \", IF(Baker_Scores_Men_Var!E155 = \"Yes\", \"Yes\", \"  \"))","v":"  "},177.0,164.0,200.0,122.0,0.0,179.0,{"$f":"SUM(G155:L155)","v":842},{"$f":"COUNTIF(G155:L155, \">0\" )","v":5},{"$f":"IF(N155=0,0,M155/N155)","v":168.4}]
[null,{"$f":"Roster_Selection_Men!AB158&\" \" & \"V \"","v":"Kansas ,University Of V "},{"$f":"Roster_Selection_Men!AD158","v":"11-489693"},{"$f":"Roster_Selection_Men!AE158","v":"Chase Milledge"},null,{"$f":"IF(ISERROR(Baker_Scores_Men_Var!E156), \" \", IF(Baker_Scores_Men_Var!E156 = \"Yes\", \"Yes\", \"  \"))","v":"  "},178.0,188.0,166.0,169.0,144.0,128.0,973,6,162.1666667]
[null,{"$f":"Roster_Selection_Men!AB159&\" \" & \"V \"","v":"Kansas ,University Of V "},{"$f":"Roster_Selection_Men!AD159","v":"19-11396"},{"$f":"Roster_Selection_Men!AE159","v":"John Kane"},null,{"$f":"IF(ISERROR(Baker_Scores_Men_Var!E157), \" \", IF(Baker_Scores_Men_Var!E157 = \"Yes\", \"Yes\", \"  \"))","v":"  "},134.0,0.0,158.0,0.0,159.0,155.0,606,4,151.5]
[null,{"$f":"Roster_Selection_Men!AB160&\" \" & \"V \"","v":"Kansas ,University Of V "},{"$f":"Roster_Selection_Men!AD160","v":"22-27350"},{"$f":"Roster_Selection_Men!AE160","v":"Mory Ashenberg"},null,{"$f":"IF(ISERROR(Baker_Scores_Men_Var!E158), \" \", IF(Baker_Scores_Men_Var!E158 = \"Yes\", \"Yes\", \"  \"))","v":"  "},211.0,142.0,166.0,157.0,203.0,202.0,1081,6,180.1666667]
[null,{"$f":"Roster_Selection_Men!AB161&\" \" & \"V \"","v":"Kansas ,University Of V "},{"$f":"Roster_Selection_Men!AD161","v":"19-83040"},{"$f":"Roster_Selection_Men!AE161","v":"Patrick Bloomer"},null,{"$f":"IF(ISERROR(Baker_Scores_Men_Var!E159), \" \", IF(Baker_Scores_Men_Var!E159 = \"Yes\", \"Yes\", \"  \"))","v":"  "},175.0,160.0,173.0,156.0,129.0,164.0,957,6,159.5]
[null,{"$f":"Roster_Selection_Men!AB162&\" \" & \"V \"","v":"Kansas ,University Of V "},{"$f":"Roster_Selection_Men!AD162","v":"11-348802"},{"$f":"Roster_Selection_Men!AE162","v":"Preston Pacheco"},null,{"$f":"IF(ISERROR(Baker_Scores_Men_Var!E160), \" \", IF(Baker_Scores_Men_Var!E160 = \"Yes\", \"Yes\", \"  \"))","v":"  "},0.0,119.0,0.0,175.0,136.0,0.0,430,3,143.3333333]
[null,{"$f":"Roster_Selection_Men!AB163&\" \" & \"V \"","v":" V "},{"$f":"Roster_Selection_Men!AD163","v":""},{"$f":"Roster_Selection_Men!AE163","v":""},null,{"$f":"IF(ISERROR(Baker_Scores_Men_Var!E161), \" \", IF(Baker_Scores_Men_Var!E161 = \"Yes\", \"Yes\", \"  \"))","v":"  "},0.0,0.0,0.0,0.0,0.0,0.0,0,0,0]
[null,{"$f":"Roster_Selection_Men!AB164&\" \" & \"V \"","v":" V "},{"$f":"Roster_Selection_Men!AD164","v":""},{"$f":"Roster_Selection_Men!AE164","v":""},null,{"$f":"IF(ISERROR(Baker_Scores_Men_Var!E162), \" \", IF(Baker_Scores_Men_Var!E162 = \"Yes\", \"Yes\", \"  \"))","v":"  "},0.0,0.0,0.0,0.0,0.0,0.0,0,0,0]
[null,"Kansas ,University Of V","","",{"$nulls":8},0,0,0]
[null,"Kansas ,University Of V","","",{"$nulls":8},0,0,0]
[null,"Kansas ,University Of V","","",{"$nulls":8},0,0,0]
[{"$nulls":6},{"$f":"SUM(G155:G165)","v":875},773,863,779,771,828,4889,30]
[]
[null,{"$f":"Roster_Selection_Men!AB169&\" \" & \"V \"","v":"Kansas State University V "},{"$f":"Roster_Selection_Men!AD169","v":"22-16685"},{"$f":"Roster_Selection_Men!AE169","v":"Braden Maltz"},null,{"$f":"IF(ISERROR(Baker_Scores_Men_Var!E168), \" \", IF(Baker_Scores_Men_Var!E168 = \"Yes\", \"Yes\", \"  \"))","v":"  "},0.0,170.0,139.0,196.0,190.0,170.0,{"$f":"SUM(G168:L168)","v":865},{"$f":"COUNTIF(G168:L168, \">0\" )","v":5},{"$f":"IF(N168=0,0,M168/N168)","v":173}]
[null,{"$f":"Roster_Selection_Men!AB170&\" \" & \"V \"","v":"Kansas State University V "},{"$f":"Roster_Selection_Men!AD170","v":"19-85683"},{"$f":"Roster_Selection_Men!AE170","v":"Brady Cline"},null,{"$f":"IF(ISERROR(Baker_Scores_Men_Var!E169), \" \", IF(Baker_Scores_Men_Var!E169 = \"Yes\", \"Yes\", \"  \"))","v":"  "},197.0,178.0,143.0,0.0,179.0,200.0,897,5,179.4]
[null,{"$f":"Roster_Selection_Men!AB171&\" \" & \"V \"","v":"Kansas State University V "},{"$f":"Roster_Selection_Men!AD171","v":"11-90659"},{"$f":"Roster_Selection_Men!AE171","v":"Cameron Kotwitz"},null,{"$f":"IF(ISERROR(Baker_Scores_Men_Var!E170), \" \", IF(Baker_Scores_Men_Var!E170 = \"Yes\", \"Yes\", \"  \"))","v":"  "},171.0,225.0,185.0,162.0,187.0,163.0,1093,6,182.1666667]
[null,{"$f":"Roster_Selection_Men!AB172&\" \" & \"V \"","v":"Kansas State University V "},{"$f":"Roster_Selection_Men!AD172","v":"21-24464"},{"$f":"Roster_Selection_Men!AE172","v":"Carter Schaffer"},null,{"$f":"IF(ISERROR(Baker_Scores_Men_Var!E171), \" \", IF(Baker_Scores_Men_Var!E171 = \"Yes\", \"Yes\", \"  \"))","v":"  "},198.0,0.0,0.0,193.0,153.0,0.0,544,3,181.3333333]
[null,{"$f":"Roster_Selection_Men!AB173&\" \" & \"V \"","v":"Kansas State University V "},{"$f":"Roster_Selection_Men!AD173","v":"11-275379"},{"$f":"Roster_Selection_Men!AE173","v":"Devin Morelock"},null,{"$f":"IF(ISERROR(Baker_Scores_Men_Var!E172), \" \", IF(Baker_Scores_Men_Var!E172 = \"Yes\", \"Yes\", \"  \"))","v":"  "},196.0,124.0,140.0,0.0,0.0,0.0,460,3,153.3333333]
[null,{"$f":"Roster_Selection_Men!AB174&\" \" & \"V \"","v":"Kansas State University V "},{"$f":"Roster_Selection_Men!AD174","v":"15-107222"},{"$f":"Roster_Selection_Men!AE174","v":"Joe Tillery"},null,{"$f":"IF(ISERROR(Baker_Scores_Men_Var!E173), \" \", IF(Baker_Scores_Men_Var!E173 = \"Yes\", \"Yes\", \"  \"))","v":"  "},249.0,211.0,160.0,158.0,0.0,178.0,956,5,191.2]
[null,{"$f":"Roster_Selection_Men!AB175&\" \" & \"V \"","v":"Kansas State University V "},{"$f":"Roster_Selection_Men!AD175","v":"17-101586"},{"$f":"Roster_Selection_Men!AE175","v":"Luke Belvin"},null,{"$f":"IF(ISERROR(Baker_Scores_Men_Var!E174), \" \", IF(Baker_Scores_Men_Var!E174 = \"Yes\", \"Yes\", \"  \"))","v":"  "},0.0,0.0,0.0,176.0,191.0,143.0,510,3,170]
[null,{"$f":"Roster_Selection_Men!AB176&\" \" & \"V \"","v":" V "},{"$f":"Roster_Selection_Men!AD176","v":""},{"$f":"Roster_Selection_Men!AE176","v":""},null,{"$f":"IF(ISERROR(Baker_Scores_Men_Var!E175), \" \", IF(Baker_Scores_Men_Var!E175 = \"Yes\", \"Yes\", \"  \"))","v":"  "},0.0,0.0,0.0,0.0,0.0,0.0,0,0,0]
[null,"Kansas State University V","","",{"$nulls":8},0,0,0]
[null,"Kansas State University V","","",{"$nulls":8},0,0,0]
[null,"Kansas State University V","","",{"$nulls":8},0,0,0]
[{"$nulls":6},{"$f":"SUM(G168:G178)","v":1011},908,767,885,900,854,5325,30]
[]
[null,{"$f":"Roster_Selection_Men!AB186&\" \" & \"V \"","v":"Kansas Wesleyan University V "},{"$f":"Roster_Selection_Men!AD186","v":"16-163630"},{"$f":"Roster_Selection_Men!AE186","v":"Alec Elskamp"},null,{"$f":"IF(ISERROR(Baker_Scores_Men_Var!E181), \" \", IF(Baker_Scores_Men_Var!E181 = \"Yes\", \"Yes\", \"  \"))","v":"  "},162.0,165.0,0.0,0.0,146.0,196.0,{"$f":"SUM(G181:L181)","v":669},{"$f":"COUNTIF(G181:L181, \">0\" )","v":4},{"$f":"IF(N181=0,0,M181/N181)","v":167.25}]
[null,{"$f":"Roster_Selection_Men!AB187&\" \" & \"V \"","v":"Kansas Wesleyan University V "},{"$f":"Roster_Selection_Men!AD187","v":"5900-25891"},{"$f":"Roster_Selection_Men!AE187","v":"Andrew Fonseca"},null,{"$f":"IF(ISERROR(Baker_Scores_Men_Var!E182), \" \", IF(Baker_Scores_Men_Var!E182 = \"Yes\", \"Yes\", \"  \"))","v":"  "},0.0,0.0,0.0,0.0,0.0,0.0,0,0,0]
[null,{"$f":"Roster_Selection_Men!AB188&\" \" & \"V \"","v":"Kansas Wesleyan University V "},{"$f":"Roster_Selection_Men!AD188","v":"18-94173"},{"$f":"Roster_Selection_Men!AE188","v":"Jackson Penny"},null,{"$f":"IF(ISERROR(Baker_Scores_Men_Var!E183), \" \", IF(Baker_Scores_Men_Var!E183 = \"Yes\", \"Yes\", \"  \"))","v":"  "},193.0,167.0,212.0,196.0,204.0,195.0,1167,6,194.5]
[null,{"$f":"Roster_Selection_Men!AB189&\" \" & \"V \"","v":"Kansas Wesleyan University V "},{"$f":"Roster_Selection_Men!AD189","v":"17-80840"},{"$f":"Roster_Selection_Men!AE189","v":"Landon Hodge"},null,{"$f":"IF(ISERROR(Baker_Scores_Men_Var!E184), \" \", IF(Baker_Scores_Men_Var!E184 = \"Yes\", \"Yes\", \"  \"))","v":"  "},165.0,0.0,224.0,176.0,0.0,0.0,565,3,188.3333333]
[null,{"$f":"Roster_Selection_Men!AB190&\" \" & \"V \"","v":"Kansas Wesleyan University V "},{"$f":"Roster_Selection_Men!AD190","v":"11-762339"},{"$f":"Roster_Selection_Men!AE190","v":"Landon Jones"},null,{"$f":"IF(ISERROR(Baker_Scores_Men_Var!E185), \" \", IF(Baker_Scores_Men_Var!E185 = \"Yes\", \"Yes\", \"  \"))","v":"  "},0.0,0.0,0.0,0.0,0.0,0.0,0,0,0]
[null,{"$f":"Roster_Selection_Men!AB191&\" \" & \"V \"","v":"Kansas Wesleyan University V "},{"$f":"Roster_Selection_Men!AD191","v":"6507-11452"},{"$f":"Roster_Selection_Men!AE191","v":"Seth Baratz"},null,{"$f":"IF(ISERROR(Baker_Scores_Men_Var!E186), \" \", IF(Baker_Scores_Men_Var!E186 = \"Yes\", \"Yes\", \"  \"))","v":"  "},0.0,244.0,169.0,211.0,190.0,217.0,1031,5,206.2]
[null,{"$f":"Roster_Selection_Men!AB192&\" \" & \"V \"","v":"Kansas Wesleyan University V "},{"$f":"Roster_Selection_Men!AD192","v":"5900-23606"},{"$f":"Roster_Selection_Men!AE192","v":"Taylor Miller"},null,{"$f":"IF(ISERROR(Baker_Scores_Men_Var!E187), \" \", IF(Baker_Scores_Men_Var!E187 = \"Yes\", \"Yes\", \"  \"))","v":"  "},225.0,225.0,196.0,237.0,253.0,177.0,1313,6,218.8333333]
[null,{"$f":"Roster_Selection_Men!AB193&\" \" & \"V \"","v":"Kansas Wesleyan University V "},{"$f":"Roster_Selection_Men!AD193","v":"11-617695"},{"$f":"Roster_Selection_Men!AE193","v":"Taylor Wiley"},null,{"$f":"IF(ISERROR(Baker_Scores_Men_Var!E188), \" \", IF(Baker_Scores_Men_Var!E188 = \"Yes\", \"Yes\", \"  \"))","v":"  "},158.0,266.0,170.0,198.0,220.0,163.0,1175,6,195.8333333]
[null,"Kansas Wesleyan University V","","",{"$nulls":8},0,0,0]
[null,"Kansas Wesleyan University V","","",{"$nulls":8},0,0,0]
[null,"Kansas Wesleyan University V","","",{"$nulls":8},0,0,0]
[{"$nulls":6},{"$f":"SUM(G181:G191)","v":903},1067,971,1018,1013,948,5920,30]
[]
[null,{"$f":"Roster_Selection_Men!AB197&\" \" & \"V \"","v":"Lindenwood University V "},{"$f":"Roster_Selection_Men!AD197","v":"6455-5561"},{"$f":"Roster_Selection_Men!AE197","v":"Andrew Sacks"},null,{"$f":"IF(ISERROR(Baker_Scores_Men_Var!E194), \" \", IF(Baker_Scores_Men_Var!E194 = \"Yes\", \"Yes\", \"  \"))","v":"  "},171.0,205.0,239.0,220.0,234.0,227.0,{"$f":"SUM(G194:L194)","v":1296},{"$f":"COUNTIF(G194:L194, \">0\" )","v":6},{"$f":"IF(N194=0,0,M194/N194)","v":216}]
[null,{"$f":"Roster_Selection_Men!AB198&\" \" & \"V \"","v":"Lindenwood University V "},{"$f":"Roster_Selection_Men!AD198","v":"11-305608"},{"$f":"Roster_Selection_Men!AE198","v":"Blake Reiger"},null,{"$f":"IF(ISERROR(Baker_Scores_Men_Var!E195), \" \", IF(Baker_Scores_Men_Var!E195 = \"Yes\", \"Yes\", \"  \"))","v":"  "},182.0,209.0,220.0,213.0,190.0,214.0,1228,6,204.6666667]
[null,{"$f":"Roster_Selection_Men!AB199&\" \" & \"V \"","v":"Lindenwood University V "},{"$f":"Roster_Selection_Men!AD199","v":"8482-467"},{"$f":"Roster_Selection_Men!AE199","v":"Garrett Jolly"},null,{"$f":"IF(ISERROR(Baker_Scores_Men_Var!E196), \" \", IF(Baker_Scores_Men_Var!E196 = \"Yes\", \"Yes\", \"  \"))","v":"  "},220.0,182.0,198.0,192.0,237.0,234.0,1263,6,210.5]
[null,{"$f":"Roster_Selection_Men!AB200&\" \" & \"V \"","v":"Lindenwood University V "},{"$f":"Roster_Selection_Men!AD200","v":"11-719508"},{"$f":"Roster_Selection_Men!AE200","v":"Jared Felipa"},null,{"$f":"IF(ISERROR(Baker_Scores_Men_Var!E197), \" \", IF(Baker_Scores_Men_Var!E197 = \"Yes\", \"Yes\", \"  \"))","v":"  "},0.0,0.0,0.0,0.0,0.0,258.0,258,1,258]
[null,{"$f":"Roster_Selection_Men!AB201&\" \" & \"V \"","v":"Lindenwood University V "},{"$f":"Roster_Selection_Men!AD201","v":"7063-2626"},{"$f":"Roster_Selection_Men!AE201","v":"Javier Muniz Vega"},null,{"$f":"IF(ISERROR(Baker_Scores_Men_Var!E198), \" \", IF(Baker_Scores_Men_Var!E198 = \"Yes\", \"Yes\", \"  \"))","v":"  "},173.0,196.0,169.0,0.0,0.0,0.0,538,3,179.3333333]
[null,{"$f":"Roster_Selection_Men!AB202&\" \" & \"V \"","v":"Lindenwood University V "},{"$f":"Roster_Selection_Men!AD202","v":"11-364326"},{"$f":"Roster_Selection_Men!AE202","v":"Michael Anderson"},null,{"$f":"IF(ISERROR(Baker_Scores_Men_Var!E199), \" \", IF(Baker_Scores_Men_Var!E199 = \"Yes\", \"Yes\", \"  \"))","v":"  "},0.0,204.0,185.0,212.0,195.0,152.0,948,5,189.6]
[null,{"$f":"Roster_Selection_Men!AB203&\" \" & \"V \"","v":"Lindenwood University V "},{"$f":"Roster_Selection_Men!AD203","v":"22-16969"},{"$f":"Roster_Selection_Men!AE203","v":"Rolando Ng"},null,{"$f":"IF(ISERROR(Baker_Scores_Men_Var!E200), \" \", IF(Baker_Scores_Men_Var!E200 = \"Yes\", \"Yes\", \"  \"))","v":"  "},0.0,0.0,0.0,209.0,146.0,0.0,355,2,177.5]
[null,{"$f":"Roster_Selection_Men!AB204&\" \" & \"V \"","v":"Lindenwood University V "},{"$f":"Roster_Selection_Men!AD204","v":"11-120819"},{"$f":"Roster_Selection_Men!AE204","v":"Troy Owens"},null,{"$f":"IF(ISERROR(Baker_Scores_Men_Var!E201), \" \", IF(Baker_Scores_Men_Var!E201 = \"Yes\", \"Yes\", \"  \"))","v":"  "},159.0,0.0,0.0,0.0,0.0,0.0,159,1,159]
[null,"Lindenwood University V","","",{"$nulls":8},0,0,0]
[null,"Lindenwood University V","","",{"$nulls":8},0,0,0]
[null,"Lindenwood University V","","",{"$nulls":8},0,0,0]
[{"$nulls":6},{"$f":"SUM(G194:G204)","v":905},996,1011,1046,1002,1085,6045,30]
[]
[null,{"$f":"Roster_Selection_Men!AB219&\" \" & \"V \"","v":"Missouri Valley College V "},{"$f":"Roster_Selection_Men!AD219","v":"20-48261"},{"$f":"Roster_Selection_Men!AE219","v":"Blake Paulhamus"},null,{"$f":"IF(ISERROR(Baker_Scores_Men_Var!E207), \" \", IF(Baker_Scores_Men_Var!E207 = \"Yes\", \"Yes\", \"  \"))","v":"  "},128.0,0.0,178.0,0.0,0.0,150.0,{"$f":"SUM(G207:L207)","v":456},{"$f":"COUNTIF(G207:L207, \">0\" )","v":3},{"$f":"IF(N207=0,0,M207/N207)","v":152}]
[null,{"$f":"Roster_Selection_Men!AB220&\" \" & \"V \"","v":"Missouri Valley College V "},{"$f":"Roster_Selection_Men!AD220","v":"7914-9005"},{"$f":"Roster_Selection_Men!AE220","v":"Guy Mapstone"},null,{"$f":"IF(ISERROR(Baker_Scores_Men_Var!E208), \" \", IF(Baker_Scores_Men_Var!E208 = \"Yes\", \"Yes\", \"  \"))","v":"  "},182.0,212.0,211.0,0.0,0.0,178.0,783,4,195.75]
[null,{"$f":"Roster_Selection_Men!AB221&\" \" & \"V \"","v":"Missouri Valley College V "},{"$f":"Roster_Selection_Men!AD221","v":"16-67827"},{"$f":"Roster_Selection_Men!AE221","v":"Jayden Briggs"},null,{"$f":"IF(ISERROR(Baker_Scores_Men_Var!E209), \" \", IF(Baker_Scores_Men_Var!E209 = \"Yes\", \"Yes\", \"  \"))","v":"  "},170.0,0.0,208.0,163.0,170.0,0.0,711,4,177.75]
[null,{"$f":"Roster_Selection_Men!AB222&\" \" & \"V \"","v":"Missouri Valley College V "},{"$f":"Roster_Selection_Men!AD222","v":"18-11862"},{"$f":"Roster_Selection_Men!AE222","v":"Jessi Stem"},null,{"$f":"IF(ISERROR(Baker_Scores_Men_Var!E210), \" \", IF(Baker_Scores_Men_Var!E210 = \"Yes\", \"Yes\", \"  \"))","v":"  "},0.0,194.0,180.0,0.0,167.0,0.0,541,3,180.3333333]
[null,{"$f":"Roster_Selection_Men!AB223&\" \" & \"V \"","v":"Missouri Valley College V "},{"$f":"Roster_Selection_Men!AD223","v":"20-39192"},{"$f":"Roster_Selection_Men!AE223","v":"Landon Woeltje"},null,{"$f":"IF(ISERROR(Baker_Scores_Men_Var!E211), \" \", IF(Baker_Scores_Men_Var!E211 = \"Yes\", \"Yes\", \"  \"))","v":"  "},152.0,0.0,213.0,202.0,212.0,228.0,1007,5,201.4]
[null,{"$f":"Roster_Selection_Men!AB224&\" \" & \"V \"","v":"Missouri Valley College V "},{"$f":"Roster_Selection_Men!AD224","v":"16-139103"},{"$f":"Roster_Selection_Men!AE224","v":"Nate Moser"},null,{"$f":"IF(ISERROR(Baker_Scores_Men_Var!E212), \" \", IF(Baker_Scores_Men_Var!E212 = \"Yes\", \"Yes\", \"  \"))","v":"  "},0.0,145.0,0.0,131.0,196.0,153.0,625,4,156.25]
[null,{"$f":"Roster_Selection_Men!AB225&\" \" & \"V \"","v":"Missouri Valley College V "},{"$f":"Roster_Selection_Men!AD225","v":"11-460695"},{"$f":"Roster_Selection_Men!AE225","v":"Nicholas Miles"},null,{"$f":"IF(ISERROR(Baker_Scores_Men_Var!E213), \" \", IF(Baker_Scores_Men_Var!E213 = \"Yes\", \"Yes\", \"  \"))","v":"  "},0.0,148.0,0.0,170.0,0.0,0.0,318,2,159]
[null,{"$f":"Roster_Selection_Men!AB226&\" \" & \"V \"","v":"Missouri Valley College V "},{"$f":"Roster_Selection_Men!AD226","v":"11-540859"},{"$f":"Roster_Selection_Men!AE226","v":"Wyatt Grunwald"},null,{"$f":"IF(ISERROR(Baker_Scores_Men_Var!E214), \" \", IF(Baker_Scores_Men_Var!E214 = \"Yes\", \"Yes\", \"  \"))","v":"  "},129.0,168.0,0.0,175.0,194.0,199.0,865,5,173]
[null,"Missouri Valley College V","","",{"$nulls":8},0,0,0]
[null,"Missouri Valley College V","","",{"$nulls":8},0,0,0]
[null,"Missouri Valley College V","","",{"$nulls":8},0,0,0]
[{"$nulls":6},{"$f":"SUM(G207:G217)","v":761},867,990,841,939,908,5306,30]
[]
[null,{"$f":"Roster_Selection_Men!AB231&\" \" & \"V \"","v":"Mount Mercy University V "},{"$f":"Roster_Selection_Men!AD231","v":"11-626689"},{"$f":"Roster_Selection_Men!AE231","v":"Andrei Tacorda"},null,{"$f":"IF(ISERROR(Baker_Scores_Men_Var!E220), \" \", IF(Baker_Scores_Men_Var!E220 = \"Yes\", \"Yes\", \"  \"))","v":"  "},0.0,202.0,232.0,215.0,203.0,268.0,{"$f":"SUM(G220:L220)","v":1120},{"$f":"COUNTIF(G220:L220, \">0\" )","v":5},{"$f":"IF(N220=0,0,M220/N220)","v":224}]
[null,{"$f":"Roster_Selection_Men!AB232&\" \" & \"V \"","v":"Mount Mercy University V "},{"$f":"Roster_Selection_Men!AD232","v":"11-258258"},{"$f":"Roster_Selection_Men!AE232","v":"Brandon Bohn"},null,{"$f":"IF(ISERROR(Baker_Scores_Men_Var!E221), \" \", IF(Baker_Scores_Men_Var!E221 = \"Yes\", \"Yes\", \"  \"))","v":"  "},244.0,258.0,218.0,167.0,218.0,234.0,1339,6,223.1666667]
[null,{"$f":"Roster_Selection_Men!AB233&\" \" & \"V \"","v":"Mount Mercy University V "},{"$f":"Roster_Selection_Men!AD233","v":"7914-17584"},{"$f":"Roster_Selection_Men!AE233","v":"Brett Lloyd"},null,{"$f":"IF(ISERROR(Baker_Scores_Men_Var!E222), \" \", IF(Baker_Scores_Men_Var!E222 = \"Yes\", \"Yes\", \"  \"))","v":"  "},130.0,0.0,245.0,234.0,183.0,252.0,1044,5,208.8]
[null,{"$f":"Roster_Selection_Men!AB234&\" \" & \"V \"","v":"Mount Mercy University V "},{"$f":"Roster_Selection_Men!AD234","v":"11-537531"},{"$f":"Roster_Selection_Men!AE234","v":"Clayton Reid"},null,{"$f":"IF(ISERROR(Baker_Scores_Men_Var!E223), \" \", IF(Baker_Scores_Men_Var!E223 = \"Yes\", \"Yes\", \"  \"))","v":"  "},198.0,199.0,213.0,212.0,180.0,211.0,1213,6,202.1666667]
[null,{"$f":"Roster_Selection_Men!AB235&\" \" & \"V \"","v":"Mount Mercy University V "},{"$f":"Roster_Selection_Men!AD235","v":"11-365628"},{"$f":"Roster_Selection_Men!AE235","v":"Harley Shene"},null,{"$f":"IF(ISERROR(Baker_Scores_Men_Var!E224), \" \", IF(Baker_Scores_Men_Var!E224 = \"Yes\", \"Yes\", \"  \"))","v":"  "},165.0,182.0,0.0,0.0,0.0,0.0,347,2,173.5]
[null,{"$f":"Roster_Selection_Men!AB236&\" \" & \"V \"","v":"Mount Mercy University V "},{"$f":"Roster_Selection_Men!AD236","v":"17-67876"},{"$f":"Roster_Selection_Men!AE236","v":"Jonah Musial"},null,{"$f":"IF(ISERROR(Baker_Scores_Men_Var!E225), \" \", IF(Baker_Scores_Men_Var!E225 = \"Yes\", \"Yes\", \"  \"))","v":"  "},0.0,0.0,205.0,220.0,181.0,200.0,806,4,201.5]
[null,{"$f":"Roster_Selection_Men!AB237&\" \" & \"V \"","v":"Mount Mercy University V "},{"$f":"Roster_Selection_Men!AD237","v":"5617-3547"},{"$f":"Roster_Selection_Men!AE237","v":"Kai Yamada"},null,{"$f":"IF(ISERROR(Baker_Scores_Men_Var!E226), \" \", IF(Baker_Scores_Men_Var!E226 = \"Yes\", \"Yes\", \"  \"))","v":"  "},155.0,165.0,0.0,0.0,0.0,0.0,320,2,160]
[null,{"$f":"Roster_Selection_Men!AB238&\" \" & \"V \"","v":" V "},{"$f":"Roster_Selection_Men!AD238","v":""},{"$f":"Roster_Selection_Men!AE238","v":""},null,{"$f":"IF(ISERROR(Baker_Scores_Men_Var!E227), \" \", IF(Baker_Scores_Men_Var!E227 = \"Yes\", \"Yes\", \"  \"))","v":"  "},0.0,0.0,0.0,0.0,0.0,0.0,0,0,0]
[null,"Mount Mercy University V","","",{"$nulls":8},0,0,0]
[null,"Mount Mercy University V","","",{"$nulls":8},0,0,0]
[null,"Mount Mercy University V","","",{"$nulls":8},0,0,0]
[{"$nulls":6},{"$f":"SUM(G220:G230)","v":892},1006,1113,1048,965,1165,6189,30]
[]
[null,{"$f":"Roster_Selection_Men!AB254&\" \" & \"V \"","v":"Nebraska ,University Of V "},{"$f":"Roster_Selection_Men!AD254","v":"17-8"},{"$f":"Roster_Selection_Men!AE254","v":"Aaron Wickland"},null,{"$f":"IF(ISERROR(Baker_Scores_Men_Var!E233), \" \", IF(Baker_Scores_Men_Var!E233 = \"Yes\", \"Yes\", \"  \"))","v":"  "},159.0,178.0,151.0,181.0,139.0,0.0,{"$f":"SUM(G233:L233)","v":808},{"$f":"COUNTIF(G233:L233, \">0\" )","v":5},{"$f":"IF(N233=0,0,M233/N233)","v":161.6}]
[null,{"$f":"Roster_Selection_Men!AB255&\" \" & \"V \"","v":"Nebraska ,University Of V "},{"$f":"Roster_Selection_Men!AD255","v":"15-131663"},{"$f":"Roster_Selection_Men!AE255","v":"Alexander Schnieders"},null,{"$f":"IF(ISERROR(Baker_Scores_Men_Var!E234), \" \", IF(Baker_Scores_Men_Var!E234 = \"Yes\", \"Yes\", \"  \"))","v":"  "},221.0,240.0,182.0,177.0,204.0,175.0,1199,6,199.8333333]
[null,{"$f":"Roster_Selection_Men!AB256&\" \" & \"V \"","v":"Nebraska ,University Of V "},{"$f":"Roster_Selection_Men!AD256","v":"11-626566"},{"$f":"Roster_Selection_Men!AE256","v":"Alexis Wuestewald"},null,{"$f":"IF(ISERROR(Baker_Scores_Men_Var!E235), \" \", IF(Baker_Scores_Men_Var!E235 = \"Yes\", \"Yes\", \"  \"))","v":"  "},0.0,0.0,0.0,0.0,0.0,162.0,162,1,162]
[null,{"$f":"Roster_Selection_Men!AB257&\" \" & \"V \"","v":"Nebraska ,University Of V "},{"$f":"Roster_Selection_Men!AD257","v":"11-654953"},{"$f":"Roster_Selection_Men!AE257","v":"Ashton Pohlmann"},null,{"$f":"IF(ISERROR(Baker_Scores_Men_Var!E236), \" \", IF(Baker_Scores_Men_Var!E236 = \"Yes\", \"Yes\", \"  \"))","v":"  "},0.0,0.0,0.0,0.0,0.0,153.0,153,1,153]
[null,{"$f":"Roster_Selection_Men!AB258&\" \" & \"V \"","v":"Nebraska ,University Of V "},{"$f":"Roster_Selection_Men!AD258","v":"11-79337"},{"$f":"Roster_Selection_Men!AE258","v":"Emma Bowes"},null,{"$f":"IF(ISERROR(Baker_Scores_Men_Var!E237), \" \", IF(Baker_Scores_Men_Var!E237 = \"Yes\", \"Yes\", \"  \"))","v":"  "},144.0,180.0,153.0,181.0,153.0,119.0,930,6,155]
[null,{"$f":"Roster_Selection_Men!AB259&\" \" & \"V \"","v":"Nebraska ,University Of V "},{"$f":"Roster_Selection_Men!AD259","v":"7914-15647"},{"$f":"Roster_Selection_Men!AE259","v":"Isaac Young"},null,{"$f":"IF(ISERROR(Baker_Scores_Men_Var!E238), \" \", IF(Baker_Scores_Men_Var!E238 = \"Yes\", \"Yes\", \"  \"))","v":"  "},193.0,258.0,186.0,150.0,176.0,209.0,1172,6,195.3333333]
[null,{"$f":"Roster_Selection_Men!AB260&\" \" & \"V \"","v":"Nebraska ,University Of V "},{"$f":"Roster_Selection_Men!AD260","v":"11-400668"},{"$f":"Roster_Selection_Men!AE260","v":"Joshua Quaas"},null,{"$f":"IF(ISERROR(Baker_Scores_Men_Var!E239), \" \", IF(Baker_Scores_Men_Var!E239 = \"Yes\", \"Yes\", \"  \"))","v":"  "},0.0,0.0,0.0,0.0,0.0,0.0,0,0,0]
[null,{"$f":"Roster_Selection_Men!AB261&\" \" & \"V \"","v":"Nebraska ,University Of V "},{"$f":"Roster_Selection_Men!AD261","v":"9562-18261"},{"$f":"Roster_Selection_Men!AE261","v":"Malcolm Saltzman"},null,{"$f":"IF(ISERROR(Baker_Scores_Men_Var!E240), \" \", IF(Baker_Scores_Men_Var!E240 = \"Yes\", \"Yes\", \"  \"))","v":"  "},149.0,173.0,190.0,166.0,145.0,0.0,823,5,164.6]
[null,"Nebraska ,University Of V","","",{"$nulls":8},0,0,0]
[null,"Nebraska ,University Of V","","",{"$nulls":8},0,0,0]
[null,"Nebraska ,University Of V","","",{"$nulls":8},0,0,0]
[{"$nulls":6},{"$f":"SUM(G233:G243)","v":866},1029,862,855,817,818,5247,30]
[]
[null,{"$f":"Roster_Selection_Men!AB268&\" \" & \"V \"","v":"Newman University V "},{"$f":"Roster_Selection_Men!AD268","v":"5617-3699"},{"$f":"Roster_Selection_Men!AE268","v":"Chasten Pojas"},null,{"$f":"IF(ISERROR(Baker_Scores_Men_Var!E246), \" \", IF(Baker_Scores_Men_Var!E246 = \"Yes\", \"Yes\", \"  \"))","v":"  "},222.0,238.0,238.0,176.0,279.0,242.0,{"$f":"SUM(G246:L246)","v":1395},{"$f":"COUNTIF(G246:L246, \">0\" )","v":6},{"$f":"IF(N246=0,0,M246/N246)","v":232.5}]
[null,{"$f":"Roster_Selection_Men!AB269&\" \" & \"V \"","v":"Newman University V "},{"$f":"Roster_Selection_Men!AD269","v":"8259-42274"},{"$f":"Roster_Selection_Men!AE269","v":"Jayson Palacios"},null,{"$f":"IF(ISERROR(Baker_Scores_Men_Var!E247), \" \", IF(Baker_Scores_Men_Var!E247 = \"Yes\", \"Yes\", \"  \"))","v":"  "},241.0,194.0,192.0,221.0,191.0,192.0,1231,6,205.1666667]
[null,{"$f":"Roster_Selection_Men!AB270&\" \" & \"V \"","v":"Newman University V "},{"$f":"Roster_Selection_Men!AD270","v":"15-8308"},{"$f":"Roster_Selection_Men!AE270","v":"Noah Akiona"},null,{"$f":"IF(ISERROR(Baker_Scores_Men_Var!E248), \" \", IF(Baker_Scores_Men_Var!E248 = \"Yes\", \"Yes\", \"  \"))","v":"  "},222.0,201.0,223.0,236.0,237.0,195.0,1314,6,219]
[null,{"$f":"Roster_Selection_Men!AB271&\" \" & \"V \"","v":"Newman University V "},{"$f":"Roster_Selection_Men!AD271","v":"11-487407"},{"$f":"Roster_Selection_Men!AE271","v":"Peyton Montgomery"},null,{"$f":"IF(ISERROR(Baker_Scores_Men_Var!E249), \" \", IF(Baker_Scores_Men_Var!E249 = \"Yes\", \"Yes\", \"  \"))","v":"  "},256.0,191.0,241.0,199.0,180.0,182.0,1249,6,208.1666667]
[null,{"$f":"Roster_Selection_Men!AB272&\" \" & \"V \"","v":"Newman University V "},{"$f":"Roster_Selection_Men!AD272","v":"11-186329"},{"$f":"Roster_Selection_Men!AE272","v":"Silas Limes"},null,{"$f":"IF(ISERROR(Baker_Scores_Men_Var!E250), \" \", IF(Baker_Scores_Men_Var!E250 = \"Yes\", \"Yes\", \"  \"))","v":"  "},183.0,183.0,0.0,0.0,0.0,0.0,366,2,183]
[null,{"$f":"Roster_Selection_Men!AB273&\" \" & \"V \"","v":"Newman University V "},{"$f":"Roster_Selection_Men!AD273","v":"8921-2363"},{"$f":"Roster_Selection_Men!AE273","v":"William Day"},null,{"$f":"IF(ISERROR(Baker_Scores_Men_Var!E251), \" \", IF(Baker_Scores_Men_Var!E251 = \"Yes\", \"Yes\", \"  \"))","v":"  "},0.0,0.0,0.0,0.0,0.0,0.0,0,0,0]
[null,{"$f":"Roster_Selection_Men!AB274&\" \" & \"V \"","v":"Newman University V "},{"$f":"Roster_Selection_Men!AD274","v":"11-659944"},{"$f":"Roster_Selection_Men!AE274","v":"Zachary Smullen"},null,{"$f":"IF(ISERROR(Baker_Scores_Men_Var!E252), \" \", IF(Baker_Scores_Men_Var!E252 = \"Yes\", \"Yes\", \"  \"))","v":"  "},0.0,0.0,212.0,227.0,233.0,244.0,916,4,229]
[null,{"$f":"Roster_Selection_Men!AB275&\" \" & \"V \"","v":" V "},{"$f":"Roster_Selection_Men!AD275","v":""},{"$f":"Roster_Selection_Men!AE275","v":""},null,{"$f":"IF(ISERROR(Baker_Scores_Men_Var!E253), \" \", IF(Baker_Scores_Men_Var!E253 = \"Yes\", \"Yes\", \"  \"))","v":"  "},0.0,0.0,0.0,0.0,0.0,0.0,0,0,0]
[null,"Newman University V","","",{"$nulls":8},0,0,0]
[null,"Newman University V","","",{"$nulls":8},0,0,0]
[null,"Newman University V","","",{"$nulls":8},0,0,0]
[{"$nulls":6},{"$f":"SUM(G246:G256)","v":1124},1007,1106,1059,1120,1055,6471,30]
[]
[null,{"$f":"Roster_Selection_Men!AB287&\" \" & \"V \"","v":"Oklahoma Christian University V "},{"$f":"Roster_Selection_Men!AD287","v":"15-57483"},{"$f":"Roster_Selection_Men!AE287","v":"Ashton Holladay"},null,{"$f":"IF(ISERROR(Baker_Scores_Men_Var!E259), \" \", IF(Baker_Scores_Men_Var!E259 = \"Yes\", \"Yes\", \"  \"))","v":"  "},247.0,233.0,277.0,214.0,187.0,212.0,{"$f":"SUM(G259:L259)","v":1370},{"$f":"COUNTIF(G259:L259, \">0\" )","v":6},{"$f":"IF(N259=0,0,M259/N259)","v":228.3333333}]
[null,{"$f":"Roster_Selection_Men!AB288&\" \" & \"V \"","v":"Oklahoma Christian University V "},{"$f":"Roster_Selection_Men!AD288","v":"8138-10890"},{"$f":"Roster_Selection_Men!AE288","v":"C. J. Petrin"},null,{"$f":"IF(ISERROR(Baker_Scores_Men_Var!E260), \" \", IF(Baker_Scores_Men_Var!E260 = \"Yes\", \"Yes\", \"  \"))","v":"  "},211.0,206.0,225.0,166.0,206.0,200.0,1214,6,202.3333333]
[null,{"$f":"Roster_Selection_Men!AB289&\" \" & \"V \"","v":"Oklahoma Christian University V "},{"$f":"Roster_Selection_Men!AD289","v":"11-151757"},{"$f":"Roster_Selection_Men!AE289","v":"Connor Fleming"},null,{"$f":"IF(ISERROR(Baker_Scores_Men_Var!E261), \" \", IF(Baker_Scores_Men_Var!E261 = \"Yes\", \"Yes\", \"  \"))","v":"  "},169.0,198.0,0.0,0.0,0.0,0.0,367,2,183.5]
[null,{"$f":"Roster_Selection_Men!AB290&\" \" & \"V \"","v":"Oklahoma Christian University V "},{"$f":"Roster_Selection_Men!AD290","v":"21-4507"},{"$f":"Roster_Selection_Men!AE290","v":"Israel Reveles"},null,{"$f":"IF(ISERROR(Baker_Scores_Men_Var!E262), \" \", IF(Baker_Scores_Men_Var!E262 = \"Yes\", \"Yes\", \"  \"))","v":"  "},0.0,0.0,208.0,234.0,196.0,278.0,916,4,229]
[null,{"$f":"Roster_Selection_Men!AB291&\" \" & \"V \"","v":"Oklahoma Christian University V "},{"$f":"Roster_Selection_Men!AD291","v":"18-58159"},{"$f":"Roster_Selection_Men!AE291","v":"Jake DeVoe"},null,{"$f":"IF(ISERROR(Baker_Scores_Men_Var!E263), \" \", IF(Baker_Scores_Men_Var!E263 = \"Yes\", \"Yes\", \"  \"))","v":"  "},196.0,235.0,218.0,191.0,158.0,0.0,998,5,199.6]
[null,{"$f":"Roster_Selection_Men!AB292&\" \" & \"V \"","v":"Oklahoma Christian University V "},{"$f":"Roster_Selection_Men!AD292","v":"5743-5157"},{"$f":"Roster_Selection_Men!AE292","v":"Leotis Johnson"},null,{"$f":"IF(ISERROR(Baker_Scores_Men_Var!E264), \" \", IF(Baker_Scores_Men_Var!E264 = \"Yes\", \"Yes\", \"  \"))","v":"  "},0.0,0.0,0.0,0.0,0.0,173.0,173,1,173]
[null,{"$f":"Roster_Selection_Men!AB293&\" \" & \"V \"","v":"Oklahoma Christian University V "},{"$f":"Roster_Selection_Men!AD293","v":"15-20464"},{"$f":"Roster_Selection_Men!AE293","v":"Nathan Curnutt"},null,{"$f":"IF(ISERROR(Baker_Scores_Men_Var!E265), \" \", IF(Baker_Scores_Men_Var!E265 = \"Yes\", \"Yes\", \"  \"))","v":"  "},0.0,0.0,0.0,0.0,0.0,0.0,0,0,0]
[null,{"$f":"Roster_Selection_Men!AB294&\" \" & \"V \"","v":"Oklahoma Christian University V "},{"$f":"Roster_Selection_Men!AD294","v":"11-610746"},{"$f":"Roster_Selection_Men!AE294","v":"Trey Maloy"},null,{"$f":"IF(ISERROR(Baker_Scores_Men_Var!E266), \" \", IF(Baker_Scores_Men_Var!E266 = \"Yes\", \"Yes\", \"  \"))","v":"  "},220.0,209.0,243.0,198.0,248.0,193.0,1311,6,218.5]
[null,"Oklahoma Christian University V","","",{"$nulls":8},0,0,0]
[null,"Oklahoma Christian University V","","",{"$nulls":8},0,0,0]
[null,"Oklahoma Christian University V","","",{"$nulls":8},0,0,0]
[{"$nulls":6},{"$f":"SUM(G259:G269)","v":1043},1081,1171,1003,995,1056,6349,30]
[]
[null,{"$f":"Roster_Selection_Men!AB311&\" \" & \"V \"","v":"Oklahoma State University V "},{"$f":"Roster_Selection_Men!AD311","v":"11-412059"},{"$f":"Roster_Selection_Men!AE311","v":"Alleyn Campbell"},null,{"$f":"IF(ISERROR(Baker_Scores_Men_Var!E272), \" \", IF(Baker_Scores_Men_Var!E272 = \"Yes\", \"Yes\", \"  \"))","v":"  "},0.0,0.0,0.0,0.0,0.0,170.0,{"$f":"SUM(G272:L272)","v":170},{"$f":"COUNTIF(G272:L272, \">0\" )","v":1},{"$f":"IF(N272=0,0,M272/N272)","v":170}]
[null,{"$f":"Roster_Selection_Men!AB312&\" \" & \"V \"","v":"Oklahoma State University V "},{"$f":"Roster_Selection_Men!AD312","v":"22-22130"},{"$f":"Roster_Selection_Men!AE312","v":"Angel Carrillo"},null,{"$f":"IF(ISERROR(Baker_Scores_Men_Var!E273), \" \", IF(Baker_Scores_Men_Var!E273 = \"Yes\", \"Yes\", \"  \"))","v":"  "},0.0,0.0,0.0,0.0,0.0,0.0,0,0,0]
[null,{"$f":"Roster_Selection_Men!AB313&\" \" & \"V \"","v":"Oklahoma State University V "},{"$f":"Roster_Selection_Men!AD313","v":"6507-11202"},{"$f":"Roster_Selection_Men!AE313","v":"Chase Horsley"},null,{"$f":"IF(ISERROR(Baker_Scores_Men_Var!E274), \" \", IF(Baker_Scores_Men_Var!E274 = \"Yes\", \"Yes\", \"  \"))","v":"  "},212.0,200.0,191.0,141.0,156.0,213.0,1113,6,185.5]
[null,{"$f":"Roster_Selection_Men!AB314&\" \" & \"V \"","v":"Oklahoma State University V "},{"$f":"Roster_Selection_Men!AD314","v":"11-412060"},{"$f":"Roster_Selection_Men!AE314","v":"Collen Campbell"},null,{"$f":"IF(ISERROR(Baker_Scores_Men_Var!E275), \" \", IF(Baker_Scores_Men_Var!E275 = \"Yes\", \"Yes\", \"  \"))","v":"  "},0.0,0.0,0.0,0.0,193.0,153.0,346,2,173]
[null,{"$f":"Roster_Selection_Men!AB315&\" \" & \"V \"","v":"Oklahoma State University V "},{"$f":"Roster_Selection_Men!AD315","v":"22-17669"},{"$f":"Roster_Selection_Men!AE315","v":"Hunter Richards"},null,{"$f":"IF(ISERROR(Baker_Scores_Men_Var!E276), \" \", IF(Baker_Scores_Men_Var!E276 = \"Yes\", \"Yes\", \"  \"))","v":"  "},169.0,170.0,135.0,146.0,121.0,0.0,741,5,148.2]
[null,{"$f":"Roster_Selection_Men!AB316&\" \" & \"V \"","v":"Oklahoma State University V "},{"$f":"Roster_Selection_Men!AD316","v":"11-317456"},{"$f":"Roster_Selection_Men!AE316","v":"Jacob Johns"},null,{"$f":"IF(ISERROR(Baker_Scores_Men_Var!E277), \" \", IF(Baker_Scores_Men_Var!E277 = \"Yes\", \"Yes\", \"  \"))","v":"  "},190.0,164.0,163.0,141.0,0.0,0.0,658,4,164.5]
[null,{"$f":"Roster_Selection_Men!AB317&\" \" & \"V \"","v":"Oklahoma State University V "},{"$f":"Roster_Selection_Men!AD317","v":"17-107448"},{"$f":"Roster_Selection_Men!AE317","v":"Mason Martin"},null,{"$f":"IF(ISERROR(Baker_Scores_Men_Var!E278), \" \", IF(Baker_Scores_Men_Var!E278 = \"Yes\", \"Yes\", \"  \"))","v":"  "},180.0,174.0,154.0,166.0,156.0,189.0,1019,6,169.8333333]
[null,{"$f":"Roster_Selection_Men!AB318&\" \" & \"V \"","v":"Oklahoma State University V "},{"$f":"Roster_Selection_Men!AD318","v":"6507-11763"},{"$f":"Roster_Selection_Men!AE318","v":"Zach Hathaway"},null,{"$f":"IF(ISERROR(Baker_Scores_Men_Var!E279), \" \", IF(Baker_Scores_Men_Var!E279 = \"Yes\", \"Yes\", \"  \"))","v":"  "},167.0,181.0,201.0,180.0,150.0,207.0,1086,6,181]
[null,"Oklahoma State University V","","",{"$nulls":8},0,0,0]
[null,"Oklahoma State University V","","",{"$nulls":8},0,0,0]
[null,"Oklahoma State University V","","",{"$nulls":8},0,0,0]
[{"$nulls":6},{"$f":"SUM(G272:G282)","v":918},889,844,774,776,932,5133,30]
[]
[null,{"$f":"Roster_Selection_Men!AB324&\" \" & \"V \"","v":"Ottawa University (KS) V "},{"$f":"Roster_Selection_Men!AD324","v":"8756-13138"},{"$f":"Roster_Selection_Men!AE324","v":"Brendan Iaulualo"},null,{"$f":"IF(ISERROR(Baker_Scores_Men_Var!E285), \" \", IF(Baker_Scores_Men_Var!E285 = \"Yes\", \"Yes\", \"  \"))","v":"  "},223.0,177.0,197.0,161.0,0.0,0.0,{"$f":"SUM(G285:L285)","v":758},{"$f":"COUNTIF(G285:L285, \">0\" )","v":4},{"$f":"IF(N285=0,0,M285/N285)","v":189.5}]
[null,{"$f":"Roster_Selection_Men!AB325&\" \" & \"V \"","v":"Ottawa University (KS) V "},{"$f":"Roster_Selection_Men!AD325","v":"5900-23017"},{"$f":"Roster_Selection_Men!AE325","v":"Jared Freed"},null,{"$f":"IF(ISERROR(Baker_Scores_Men_Var!E286), \" \", IF(Baker_Scores_Men_Var!E286 = \"Yes\", \"Yes\", \"  \"))","v":"  "},213.0,198.0,245.0,179.0,220.0,200.0,1255,6,209.1666667]
[null,{"$f":"Roster_Selection_Men!AB326&\" \" & \"V \"","v":"Ottawa University (KS) V "},{"$f":"Roster_Selection_Men!AD326","v":"8608-3907"},{"$f":"Roster_Selection_Men!AE326","v":"Jerry Jennings"},null,{"$f":"IF(ISERROR(Baker_Scores_Men_Var!E287), \" \", IF(Baker_Scores_Men_Var!E287 = \"Yes\", \"Yes\", \"  \"))","v":"  "},0.0,199.0,226.0,208.0,221.0,180.0,1034,5,206.8]
[null,{"$f":"Roster_Selection_Men!AB327&\" \" & \"V \"","v":"Ottawa University (KS) V "},{"$f":"Roster_Selection_Men!AD327","v":"5900-20916"},{"$f":"Roster_Selection_Men!AE327","v":"Kristopher Quidachay"},null,{"$f":"IF(ISERROR(Baker_Scores_Men_Var!E288), \" \", IF(Baker_Scores_Men_Var!E288 = \"Yes\", \"Yes\", \"  \"))","v":"  "},200.0,168.0,0.0,0.0,179.0,200.0,747,4,186.75]
[null,{"$f":"Roster_Selection_Men!AB328&\" \" & \"V \"","v":"Ottawa University (KS) V "},{"$f":"Roster_Selection_Men!AD328","v":"5900-23216"},{"$f":"Roster_Selection_Men!AE328","v":"Kyle Lovell"},null,{"$f":"IF(ISERROR(Baker_Scores_Men_Var!E289), \" \", IF(Baker_Scores_Men_Var!E289 = \"Yes\", \"Yes\", \"  \"))","v":"  "},201.0,148.0,224.0,235.0,190.0,227.0,1225,6,204.1666667]
[null,{"$f":"Roster_Selection_Men!AB329&\" \" & \"V \"","v":"Ottawa University (KS) V "},{"$f":"Roster_Selection_Men!AD329","v":"5900-26017"},{"$f":"Roster_Selection_Men!AE329","v":"Spencer Giffin"},null,{"$f":"IF(ISERROR(Baker_Scores_Men_Var!E290), \" \", IF(Baker_Scores_Men_Var!E290 = \"Yes\", \"Yes\", \"  \"))","v":"  "},0.0,0.0,0.0,0.0,0.0,0.0,0,0,0]
[null,{"$f":"Roster_Selection_Men!AB330&\" \" & \"V \"","v":"Ottawa University (KS) V "},{"$f":"Roster_Selection_Men!AD330","v":"11-677214"},{"$f":"Roster_Selection_Men!AE330","v":"Wesley Outman"},null,{"$f":"IF(ISERROR(Baker_Scores_Men_Var!E291), \" \", IF(Baker_Scores_Men_Var!E291 = \"Yes\", \"Yes\", \"  \"))","v":"  "},195.0,0.0,204.0,214.0,203.0,181.0,997,5,199.4]
[null,{"$f":"Roster_Selection_Men!AB331&\" \" & \"V \"","v":" V "},{"$f":"Roster_Selection_Men!AD331","v":""},{"$f":"Roster_Selection_Men!AE331","v":""},null,{"$f":"IF(ISERROR(Baker_Scores_Men_Var!E292), \" \", IF(Baker_Scores_Men_Var!E292 = \"Yes\", \"Yes\", \"  \"))","v":"  "},0.0,0.0,0.0,0.0,0.0,0.0,0,0,0]
[null,"Ottawa University (KS) V","","",{"$nulls":8},0,0,0]
[null,"Ottawa University (KS) V","","",{"$nulls":8},0,0,0]
[null,"Ottawa University (KS) V","","",{"$nulls":8},0,0,0]
[{"$nulls":6},{"$f":"SUM(G285:G295)","v":1032},890,1096,997,1013,988,6016,30]
[]
[null,{"$f":"Roster_Selection_Men!AB337&\" \" & \"V \"","v":"Peru State College V "},{"$f":"Roster_Selection_Men!AD337","v":"11-276735"},{"$f":"Roster_Selection_Men!AE337","v":"Creyton Nisly"},null,{"$f":"IF(ISERROR(Baker_Scores_Men_Var!E298), \" \", IF(Baker_Scores_Men_Var!E298 = \"Yes\", \"Yes\", \"  \"))","v":"  "},173.0,163.0,0.0,0.0,223.0,175.0,{"$f":"SUM(G298:L298)","v":734},{"$f":"COUNTIF(G298:L298, \">0\" )","v":4},{"$f":"IF(N298=0,0,M298/N298)","v":183.5}]
[null,{"$f":"Roster_Selection_Men!AB338&\" \" & \"V \"","v":"Peru State College V "},{"$f":"Roster_Selection_Men!AD338","v":"7914-17029"},{"$f":"Roster_Selection_Men!AE338","v":"Dane Conner"},null,{"$f":"IF(ISERROR(Baker_Scores_Men_Var!E299), \" \", IF(Baker_Scores_Men_Var!E299 = \"Yes\", \"Yes\", \"  \"))","v":"  "},166.0,0.0,169.0,167.0,0.0,0.0,502,3,167.3333333]
[null,{"$f":"Roster_Selection_Men!AB339&\" \" & \"V \"","v":"Peru State College V "},{"$f":"Roster_Selection_Men!AD339","v":"11-377455"},{"$f":"Roster_Selection_Men!AE339","v":"Isaac Skalak"},null,{"$f":"IF(ISERROR(Baker_Scores_Men_Var!E300), \" \", IF(Baker_Scores_Men_Var!E300 = \"Yes\", \"Yes\", \"  \"))","v":"  "},195.0,203.0,212.0,205.0,0.0,205.0,1020,5,204]
[null,{"$f":"Roster_Selection_Men!AB340&\" \" & \"V \"","v":"Peru State College V "},{"$f":"Roster_Selection_Men!AD340","v":"20-53888"},{"$f":"Roster_Selection_Men!AE340","v":"Jett Tolentino"},null,{"$f":"IF(ISERROR(Baker_Scores_Men_Var!E301), \" \", IF(Baker_Scores_Men_Var!E301 = \"Yes\", \"Yes\", \"  \"))","v":"  "},0.0,157.0,0.0,0.0,157.0,0.0,314,2,157]
[null,{"$f":"Roster_Selection_Men!AB341&\" \" & \"V \"","v":"Peru State College V "},{"$f":"Roster_Selection_Men!AD341","v":"11-758428"},{"$f":"Roster_Selection_Men!AE341","v":"Justin Brookens"},null,{"$f":"IF(ISERROR(Baker_Scores_Men_Var!E302), \" \", IF(Baker_Scores_Men_Var!E302 = \"Yes\", \"Yes\", \"  \"))","v":"  "},187.0,204.0,153.0,0.0,0.0,0.0,544,3,181.3333333]
[null,{"$f":"Roster_Selection_Men!AB342&\" \" & \"V \"","v":"Peru State College V "},{"$f":"Roster_Selection_Men!AD342","v":"8232-944"},{"$f":"Roster_Selection_Men!AE342","v":"Stephen Acton"},null,{"$f":"IF(ISERROR(Baker_Scores_Men_Var!E303), \" \", IF(Baker_Scores_Men_Var!E303 = \"Yes\", \"Yes\", \"  \"))","v":"  "},139.0,0.0,0.0,186.0,159.0,193.0,677,4,169.25]
[null,{"$f":"Roster_Selection_Men!AB343&\" \" & \"V \"","v":"Peru State College V "},{"$f":"Roster_Selection_Men!AD343","v":"11-713121"},{"$f":"Roster_Selection_Men!AE343","v":"Wyatt Woodward"},null,{"$f":"IF(ISERROR(Baker_Scores_Men_Var!E304), \" \", IF(Baker_Scores_Men_Var!E304 = \"Yes\", \"Yes\", \"  \"))","v":"  "},0.0,0.0,221.0,170.0,179.0,196.0,766,4,191.5]
[null,{"$f":"Roster_Selection_Men!AB344&\" \" & \"V \"","v":"Peru State College V "},{"$f":"Roster_Selection_Men!AD344","v":"5900-26805"},{"$f":"Roster_Selection_Men!AE344","v":"Zachary Phillips"},null,{"$f":"IF(ISERROR(Baker_Scores_Men_Var!E305), \" \", IF(Baker_Scores_Men_Var!E305 = \"Yes\", \"Yes\", \"  \"))","v":"  "},0.0,173.0,168.0,241.0,244.0,173.0,999,5,199.8]
[null,"Peru State College V","","",{"$nulls":8},0,0,0]
[null,"Peru State College V","","",{"$nulls":8},0,0,0]
[null,"Peru State College V","","",{"$nulls":8},0,0,0]
[{"$nulls":6},{"$f":"SUM(G298:G308)","v":860},900,923,969,962,942,5556,30]
[]
[null,{"$f":"Roster_Selection_Men!AB347&\" \" & \"V \"","v":"Quincy University V "},{"$f":"Roster_Selection_Men!AD347","v":"11-479052"},{"$f":"Roster_Selection_Men!AE347","v":"Anthony Lundy"},null,{"$f":"IF(ISERROR(Baker_Scores_Men_Var!E311), \" \", IF(Baker_Scores_Men_Var!E311 = \"Yes\", \"Yes\", \"  \"))","v":"  "},177.0,206.0,189.0,166.0,221.0,228.0,{"$f":"SUM(G311:L311)","v":1187},{"$f":"COUNTIF(G311:L311, \">0\" )","v":6},{"$f":"IF(N311=0,0,M311/N311)","v":197.8333333}]
[null,{"$f":"Roster_Selection_Men!AB348&\" \" & \"V \"","v":"Quincy University V "},{"$f":"Roster_Selection_Men!AD348","v":"18-92281"},{"$f":"Roster_Selection_Men!AE348","v":"Brenden Unseld"},null,{"$f":"IF(ISERROR(Baker_Scores_Men_Var!E312), \" \", IF(Baker_Scores_Men_Var!E312 = \"Yes\", \"Yes\", \"  \"))","v":"  "},0.0,167.0,0.0,0.0,0.0,0.0,167,1,167]
[null,{"$f":"Roster_Selection_Men!AB349&\" \" & \"V \"","v":"Quincy University V "},{"$f":"Roster_Selection_Men!AD349","v":"11-479885"},{"$f":"Roster_Selection_Men!AE349","v":"Caden Witt"},null,{"$f":"IF(ISERROR(Baker_Scores_Men_Var!E313), \" \", IF(Baker_Scores_Men_Var!E313 = \"Yes\", \"Yes\", \"  \"))","v":"  "},173.0,181.0,180.0,158.0,161.0,163.0,1016,6,169.3333333]
[null,{"$f":"Roster_Selection_Men!AB350&\" \" & \"V \"","v":"Quincy University V "},{"$f":"Roster_Selection_Men!AD350","v":"11-697151"},{"$f":"Roster_Selection_Men!AE350","v":"Cayden Thoms"},null,{"$f":"IF(ISERROR(Baker_Scores_Men_Var!E314), \" \", IF(Baker_Scores_Men_Var!E314 = \"Yes\", \"Yes\", \"  \"))","v":"  "},239.0,192.0,177.0,199.0,206.0,193.0,1206,6,201]
[null,{"$f":"Roster_Selection_Men!AB351&\" \" & \"V \"","v":"Quincy University V "},{"$f":"Roster_Selection_Men!AD351","v":"16-162510"},{"$f":"Roster_Selection_Men!AE351","v":"Connor Meegan"},null,{"$f":"IF(ISERROR(Baker_Scores_Men_Var!E315), \" \", IF(Baker_Scores_Men_Var!E315 = \"Yes\", \"Yes\", \"  \"))","v":"  "},164.0,182.0,187.0,245.0,170.0,173.0,1121,6,186.8333333]
[null,{"$f":"Roster_Selection_Men!AB352&\" \" & \"V \"","v":"Quincy University V "},{"$f":"Roster_Selection_Men!AD352","v":"7914-29201"},{"$f":"Roster_Selection_Men!AE352","v":"Lucas Forthofer"},null,{"$f":"IF(ISERROR(Baker_Scores_Men_Var!E316), \" \", IF(Baker_Scores_Men_Var!E316 = \"Yes\", \"Yes\", \"  \"))","v":"  "},0.0,0.0,137.0,0.0,0.0,0.0,137,1,137]
[null,{"$f":"Roster_Selection_Men!AB353&\" \" & \"V \"","v":"Quincy University V "},{"$f":"Roster_Selection_Men!AD353","v":"20-20396"},{"$f":"Roster_Selection_Men!AE353","v":"Nicholas Puente"},null,{"$f":"IF(ISERROR(Baker_Scores_Men_Var!E317), \" \", IF(Baker_Scores_Men_Var!E317 = \"Yes\", \"Yes\", \"  \"))","v":"  "},0.0,0.0,0.0,0.0,0.0,0.0,0,0,0]
[null,{"$f":"Roster_Selection_Men!AB354&\" \" & \"V \"","v":"Quincy University V "},{"$f":"Roster_Selection_Men!AD354","v":"11-237083"},{"$f":"Roster_Selection_Men!AE354","v":"Parker Lymenstull"},null,{"$f":"IF(ISERROR(Baker_Scores_Men_Var!E318), \" \", IF(Baker_Scores_Men_Var!E318 = \"Yes\", \"Yes\", \"  \"))","v":"  "},135.0,0.0,0.0,177.0,149.0,224.0,685,4,171.25]
[null,"Quincy University V","","",{"$nulls":8},0,0,0]
[null,"Quincy University V","","",{"$nulls":8},0,0,0]
[null,"Quincy University V","","",{"$nulls":8},0,0,0]
[{"$nulls":6},{"$f":"SUM(G311:G321)","v":888},928,870,945,907,981,5519,30]
[]
[null,{"$f":"Roster_Selection_Men!AB355&\" \" & \"V \"","v":"St. Ambrose University V "},{"$f":"Roster_Selection_Men!AD355","v":"15-185155"},{"$f":"Roster_Selection_Men!AE355","v":"Ashton Yamasaki"},null,{"$f":"IF(ISERROR(Baker_Scores_Men_Var!E324), \" \", IF(Baker_Scores_Men_Var!E324 = \"Yes\", \"Yes\", \"  \"))","v":"  "},0.0,0.0,234.0,236.0,196.0,193.0,{"$f":"SUM(G324:L324)","v":859},{"$f":"COUNTIF(G324:L324, \">0\" )","v":4},{"$f":"IF(N324=0,0,M324/N324)","v":214.75}]
[null,{"$f":"Roster_Selection_Men!AB356&\" \" & \"V \"","v":"St. Ambrose University V "},{"$f":"Roster_Selection_Men!AD356","v":"11-81520"},{"$f":"Roster_Selection_Men!AE356","v":"Cameron Crowe"},null,{"$f":"IF(ISERROR(Baker_Scores_Men_Var!E325), \" \", IF(Baker_Scores_Men_Var!E325 = \"Yes\", \"Yes\", \"  \"))","v":"  "},0.0,0.0,0.0,0.0,0.0,0.0,0,0,0]
[null,{"$f":"Roster_Selection_Men!AB357&\" \" & \"V \"","v":"St. Ambrose University V "},{"$f":"Roster_Selection_Men!AD357","v":"11-377191"},{"$f":"Roster_Selection_Men!AE357","v":"Jordan Monnens"},null,{"$f":"IF(ISERROR(Baker_Scores_Men_Var!E326), \" \", IF(Baker_Scores_Men_Var!E326 = \"Yes\", \"Yes\", \"  \"))","v":"  "},156.0,0.0,0.0,234.0,246.0,225.0,861,4,215.25]
[null,{"$f":"Roster_Selection_Men!AB358&\" \" & \"V \"","v":"St. Ambrose University V "},{"$f":"Roster_Selection_Men!AD358","v":"11-450746"},{"$f":"Roster_Selection_Men!AE358","v":"Justin Aboud"},null,{"$f":"IF(ISERROR(Baker_Scores_Men_Var!E327), \" \", IF(Baker_Scores_Men_Var!E327 = \"Yes\", \"Yes\", \"  \"))","v":"  "},158.0,194.0,176.0,218.0,193.0,208.0,1147,6,191.1666667]
[null,{"$f":"Roster_Selection_Men!AB359&\" \" & \"V \"","v":"St. Ambrose University V "},{"$f":"Roster_Selection_Men!AD359","v":"11-651099"},{"$f":"Roster_Selection_Men!AE359","v":"Ryan Speer"},null,{"$f":"IF(ISERROR(Baker_Scores_Men_Var!E328), \" \", IF(Baker_Scores_Men_Var!E328 = \"Yes\", \"Yes\", \"  \"))","v":"  "},174.0,279.0,234.0,213.0,204.0,160.0,1264,6,210.6666667]
[null,{"$f":"Roster_Selection_Men!AB360&\" \" & \"V \"","v":"St. Ambrose University V "},{"$f":"Roster_Selection_Men!AD360","v":"6058-4136"},{"$f":"Roster_Selection_Men!AE360","v":"William Jones"},null,{"$f":"IF(ISERROR(Baker_Scores_Men_Var!E329), \" \", IF(Baker_Scores_Men_Var!E329 = \"Yes\", \"Yes\", \"  \"))","v":"  "},0.0,189.0,177.0,0.0,0.0,0.0,366,2,183]
[null,{"$f":"Roster_Selection_Men!AB361&\" \" & \"V \"","v":"St. Ambrose University V "},{"$f":"Roster_Selection_Men!AD361","v":"11-628825"},{"$f":"Roster_Selection_Men!AE361","v":"Zach Greim"},null,{"$f":"IF(ISERROR(Baker_Scores_Men_Var!E330), \" \", IF(Baker_Scores_Men_Var!E330 = \"Yes\", \"Yes\", \"  \"))","v":"  "},194.0,257.0,233.0,207.0,204.0,216.0,1311,6,218.5]
[null,{"$f":"Roster_Selection_Men!AB362&\" \" & \"V \"","v":"St. Ambrose University V "},{"$f":"Roster_Selection_Men!AD362","v":"5895-18"},{"$f":"Roster_Selection_Men!AE362","v":"Zack Denton"},null,{"$f":"IF(ISERROR(Baker_Scores_Men_Var!E331), \" \", IF(Baker_Scores_Men_Var!E331 = \"Yes\", \"Yes\", \"  \"))","v":"  "},206.0,165.0,0.0,0.0,0.0,0.0,371,2,185.5]
[null,"St. Ambrose University V","","",{"$nulls":8},0,0,0]
[null,"St. Ambrose University V","","",{"$nulls":8},0,0,0]
[null,"St. Ambrose University V","","",{"$nulls":8},0,0,0]
[{"$nulls":6},{"$f":"SUM(G324:G334)","v":888},1084,1054,1108,1043,1002,6179,30]
[]
[null,{"$f":"Roster_Selection_Men!AB381&\" \" & \"V \"","v":"University Of Saint Mary V "},{"$f":"Roster_Selection_Men!AD381","v":"22-1904"},{"$f":"Roster_Selection_Men!AE381","v":"Braedon Robinson"},null,{"$f":"IF(ISERROR(Baker_Scores_Men_Var!E337), \" \", IF(Baker_Scores_Men_Var!E337 = \"Yes\", \"Yes\", \"  \"))","v":"  "},0.0,0.0,179.0,147.0,0.0,151.0,{"$f":"SUM(G337:L337)","v":477},{"$f":"COUNTIF(G337:L337, \">0\" )","v":3},{"$f":"IF(N337=0,0,M337/N337)","v":159}]
[null,{"$f":"Roster_Selection_Men!AB382&\" \" & \"V \"","v":"University Of Saint Mary V "},{"$f":"Roster_Selection_Men!AD382","v":"22-1905"},{"$f":"Roster_Selection_Men!AE382","v":"Camden Schrickel"},null,{"$f":"IF(ISERROR(Baker_Scores_Men_Var!E338), \" \", IF(Baker_Scores_Men_Var!E338 = \"Yes\", \"Yes\", \"  \"))","v":"  "},150.0,169.0,144.0,0.0,159.0,178.0,800,5,160]
[null,{"$f":"Roster_Selection_Men!AB383&\" \" & \"V \"","v":"University Of Saint Mary V "},{"$f":"Roster_Selection_Men!AD383","v":"18-48037"},{"$f":"Roster_Selection_Men!AE383","v":"Dantoine Ballard"},null,{"$f":"IF(ISERROR(Baker_Scores_Men_Var!E339), \" \", IF(Baker_Scores_Men_Var!E339 = \"Yes\", \"Yes\", \"  \"))","v":"  "},134.0,0.0,0.0,144.0,146.0,0.0,424,3,141.3333333]
[null,{"$f":"Roster_Selection_Men!AB384&\" \" & \"V \"","v":"University Of Saint Mary V "},{"$f":"Roster_Selection_Men!AD384","v":"22-1902"},{"$f":"Roster_Selection_Men!AE384","v":"Emilio Gutierrez"},null,{"$f":"IF(ISERROR(Baker_Scores_Men_Var!E340), \" \", IF(Baker_Scores_Men_Var!E340 = \"Yes\", \"Yes\", \"  \"))","v":"  "},0.0,101.0,0.0,0.0,0.0,114.0,215,2,107.5]
[null,{"$f":"Roster_Selection_Men!AB385&\" \" & \"V \"","v":"University Of Saint Mary V "},{"$f":"Roster_Selection_Men!AD385","v":"11-207956"},{"$f":"Roster_Selection_Men!AE385","v":"Jose Limon"},null,{"$f":"IF(ISERROR(Baker_Scores_Men_Var!E341), \" \", IF(Baker_Scores_Men_Var!E341 = \"Yes\", \"Yes\", \"  \"))","v":"  "},237.0,188.0,214.0,142.0,179.0,0.0,960,5,192]
[null,{"$f":"Roster_Selection_Men!AB386&\" \" & \"V \"","v":"University Of Saint Mary V "},{"$f":"Roster_Selection_Men!AD386","v":"18-48027"},{"$f":"Roster_Selection_Men!AE386","v":"Joshua Kacich"},null,{"$f":"IF(ISERROR(Baker_Scores_Men_Var!E342), \" \", IF(Baker_Scores_Men_Var!E342 = \"Yes\", \"Yes\", \"  \"))","v":"  "},232.0,160.0,151.0,175.0,162.0,205.0,1085,6,180.8333333]
[null,{"$f":"Roster_Selection_Men!AB387&\" \" & \"V \"","v":"University Of Saint Mary V "},{"$f":"Roster_Selection_Men!AD387","v":"21-470"},{"$f":"Roster_Selection_Men!AE387","v":"Layne Riggs"},null,{"$f":"IF(ISERROR(Baker_Scores_Men_Var!E343), \" \", IF(Baker_Scores_Men_Var!E343 = \"Yes\", \"Yes\", \"  \"))","v":"  "},161.0,193.0,225.0,179.0,186.0,194.0,1138,6,189.6666667]
[null,{"$f":"Roster_Selection_Men!AB388&\" \" & \"V \"","v":"University Of Saint Mary V "},{"$f":"Roster_Selection_Men!AD388","v":"21-342"},{"$f":"Roster_Selection_Men!AE388","v":"Ricardo Tello"},null,{"$f":"IF(ISERROR(Baker_Scores_Men_Var!E344), \" \", IF(Baker_Scores_Men_Var!E344 = \"Yes\", \"Yes\", \"  \"))","v":"  "},0.0,0.0,0.0,0.0,0.0,0.0,0,0,0]
[null,"University Of Saint Mary V","","",{"$nulls":8},0,0,0]
[null,"University Of Saint Mary V","","",{"$nulls":8},0,0,0]
[null,"University Of Saint Mary V","","",{"$nulls":8},0,0,0]
[{"$nulls":6},{"$f":"SUM(G337:G347)","v":914},811,913,787,832,842,5099,30]
[]
[null,{"$f":"Roster_Selection_Men!AB390&\" \" & \"V \"","v":"Waldorf University V "},{"$f":"Roster_Selection_Men!AD390","v":"11-701000"},{"$f":"Roster_Selection_Men!AE390","v":"Bryson Randol"},null,{"$f":"IF(ISERROR(Baker_Scores_Men_Var!E350), \" \", IF(Baker_Scores_Men_Var!E350 = \"Yes\", \"Yes\", \"  \"))","v":"  "},0.0,0.0,0.0,0.0,0.0,191.0,{"$f":"SUM(G350:L350)","v":191},{"$f":"COUNTIF(G350:L350, \">0\" )","v":1},{"$f":"IF(N350=0,0,M350/N350)","v":191}]
[null,{"$f":"Roster_Selection_Men!AB391&\" \" & \"V \"","v":"Waldorf University V "},{"$f":"Roster_Selection_Men!AD391","v":"20-23769"},{"$f":"Roster_Selection_Men!AE391","v":"Grant McClymont"},null,{"$f":"IF(ISERROR(Baker_Scores_Men_Var!E351), \" \", IF(Baker_Scores_Men_Var!E351 = \"Yes\", \"Yes\", \"  \"))","v":"  "},0.0,0.0,0.0,171.0,197.0,0.0,368,2,184]
[null,{"$f":"Roster_Selection_Men!AB392&\" \" & \"V \"","v":"Waldorf University V "},{"$f":"Roster_Selection_Men!AD392","v":"11-605053"},{"$f":"Roster_Selection_Men!AE392","v":"Ian Templin"},null,{"$f":"IF(ISERROR(Baker_Scores_Men_Var!E352), \" \", IF(Baker_Scores_Men_Var!E352 = \"Yes\", \"Yes\", \"  \"))","v":"  "},164.0,190.0,168.0,170.0,138.0,0.0,830,5,166]
[null,{"$f":"Roster_Selection_Men!AB393&\" \" & \"V \"","v":"Waldorf University V "},{"$f":"Roster_Selection_Men!AD393","v":"5712-982"},{"$f":"Roster_Selection_Men!AE393","v":"Jacob Miner"},null,{"$f":"IF(ISERROR(Baker_Scores_Men_Var!E353), \" \", IF(Baker_Scores_Men_Var!E353 = \"Yes\", \"Yes\", \"  \"))","v":"  "},260.0,161.0,199.0,237.0,150.0,204.0,1211,6,201.8333333]
[null,{"$f":"Roster_Selection_Men!AB394&\" \" & \"V \"","v":"Waldorf University V "},{"$f":"Roster_Selection_Men!AD394","v":"22-1354"},{"$f":"Roster_Selection_Men!AE394","v":"Joseph Walgenbach"},null,{"$f":"IF(ISERROR(Baker_Scores_Men_Var!E354), \" \", IF(Baker_Scores_Men_Var!E354 = \"Yes\", \"Yes\", \"  \"))","v":"  "},156.0,185.0,199.0,155.0,192.0,153.0,1040,6,173.3333333]
[null,{"$f":"Roster_Selection_Men!AB395&\" \" & \"V \"","v":"Waldorf University V "},{"$f":"Roster_Selection_Men!AD395","v":"11-69054"},{"$f":"Roster_Selection_Men!AE395","v":"Ryan Kaufman"},null,{"$f":"IF(ISERROR(Baker_Scores_Men_Var!E355), \" \", IF(Baker_Scores_Men_Var!E355 = \"Yes\", \"Yes\", \"  \"))","v":"  "},156.0,207.0,168.0,206.0,210.0,146.0,1093,6,182.1666667]
[null,{"$f":"Roster_Selection_Men!AB396&\" \" & \"V \"","v":"Waldorf University V "},{"$f":"Roster_Selection_Men!AD396","v":"6419-842"},{"$f":"Roster_Selection_Men!AE396","v":"Tyler Harlow"},null,{"$f":"IF(ISERROR(Baker_Scores_Men_Var!E356), \" \", IF(Baker_Scores_Men_Var!E356 = \"Yes\", \"Yes\", \"  \"))","v":"  "},106.0,221.0,136.0,0.0,0.0,0.0,463,3,154.3333333]
[null,{"$f":"Roster_Selection_Men!AB397&\" \" & \"V \"","v":"Waldorf University V "},{"$f":"Roster_Selection_Men!AD397","v":"11-49205"},{"$f":"Roster_Selection_Men!AE397","v":"Tyler Lacher-Hambor"},null,{"$f":"IF(ISERROR(Baker_Scores_Men_Var!E357), \" \", IF(Baker_Scores_Men_Var!E357 = \"Yes\", \"Yes\", \"  \"))","v":"  "},0.0,0.0,0.0,0.0,0.0,182.0,182,1,182]
[null,"Waldorf University V","","",{"$nulls":8},0,0,0]
[null,"Waldorf University V","","",{"$nulls":8},0,0,0]
[null,"Waldorf University V","","",{"$nulls":8},0,0,0]
[{"$nulls":6},{"$f":"SUM(G350:G360)","v":842},964,870,939,887,876,5378,30]
[]
[null,{"$f":"Roster_Selection_Men!AB402&\" \" & \"V \"","v":"West Texas A&M University V "},{"$f":"Roster_Selection_Men!AD402","v":"16-154902"},{"$f":"Roster_Selection_Men!AE402","v":"Ginna Holzman"},null,{"$f":"IF(ISERROR(Baker_Scores_Men_Var!E363), \" \", IF(Baker_Scores_Men_Var!E363 = \"Yes\", \"Yes\", \"  \"))","v":"  "},211.0,177.0,144.0,0.0,115.0,0.0,{"$f":"SUM(G363:L363)","v":647},{"$f":"COUNTIF(G363:L363, \">0\" )","v":4},{"$f":"IF(N363=0,0,M363/N363)","v":161.75}]
[null,{"$f":"Roster_Selection_Men!AB403&\" \" & \"V \"","v":"West Texas A&M University V "},{"$f":"Roster_Selection_Men!AD403","v":"8216-1672"},{"$f":"Roster_Selection_Men!AE403","v":"Jacob Griffin"},null,{"$f":"IF(ISERROR(Baker_Scores_Men_Var!E364), \" \", IF(Baker_Scores_Men_Var!E364 = \"Yes\", \"Yes\", \"  \"))","v":"  "},156.0,222.0,141.0,0.0,200.0,134.0,853,5,170.6]
[null,{"$f":"Roster_Selection_Men!AB404&\" \" & \"V \"","v":"West Texas A&M University V "},{"$f":"Roster_Selection_Men!AD404","v":"21-61926"},{"$f":"Roster_Selection_Men!AE404","v":"Lillynn Lewis"},null,{"$f":"IF(ISERROR(Baker_Scores_Men_Var!E365), \" \", IF(Baker_Scores_Men_Var!E365 = \"Yes\", \"Yes\", \"  \"))","v":"  "},196.0,161.0,159.0,144.0,0.0,0.0,660,4,165]
[null,{"$f":"Roster_Selection_Men!AB405&\" \" & \"V \"","v":"West Texas A&M University V "},{"$f":"Roster_Selection_Men!AD405","v":"21-14229"},{"$f":"Roster_Selection_Men!AE405","v":"Paizley Madrigal"},null,{"$f":"IF(ISERROR(Baker_Scores_Men_Var!E366), \" \", IF(Baker_Scores_Men_Var!E366 = \"Yes\", \"Yes\", \"  \"))","v":"  "},0.0,0.0,0.0,168.0,0.0,106.0,274,2,137]
[null,{"$f":"Roster_Selection_Men!AB406&\" \" & \"V \"","v":"West Texas A&M University V "},{"$f":"Roster_Selection_Men!AD406","v":"18-64855"},{"$f":"Roster_Selection_Men!AE406","v":"Peyton Stokes"},null,{"$f":"IF(ISERROR(Baker_Scores_Men_Var!E367), \" \", IF(Baker_Scores_Men_Var!E367 = \"Yes\", \"Yes\", \"  \"))","v":"  "},0.0,0.0,0.0,185.0,175.0,180.0,540,3,180]
[null,{"$f":"Roster_Selection_Men!AB407&\" \" & \"V \"","v":"West Texas A&M University V "},{"$f":"Roster_Selection_Men!AD407","v":"6161-280"},{"$f":"Roster_Selection_Men!AE407","v":"Preston Downard"},null,{"$f":"IF(ISERROR(Baker_Scores_Men_Var!E368), \" \", IF(Baker_Scores_Men_Var!E368 = \"Yes\", \"Yes\", \"  \"))","v":"  "},193.0,178.0,154.0,216.0,240.0,172.0,1153,6,192.1666667]
[null,{"$f":"Roster_Selection_Men!AB408&\" \" & \"V \"","v":"West Texas A&M University V "},{"$f":"Roster_Selection_Men!AD408","v":"15-83216"},{"$f":"Roster_Selection_Men!AE408","v":"Will Davis"},null,{"$f":"IF(ISERROR(Baker_Scores_Men_Var!E369), \" \", IF(Baker_Scores_Men_Var!E369 = \"Yes\", \"Yes\", \"  \"))","v":"  "},186.0,166.0,128.0,255.0,231.0,212.0,1178,6,196.3333333]
[null,{"$f":"Roster_Selection_Men!AB409&\" \" & \"V \"","v":" V "},{"$f":"Roster_Selection_Men!AD409","v":""},{"$f":"Roster_Selection_Men!AE409","v":""},null,{"$f":"IF(ISERROR(Baker_Scores_Men_Var!E370), \" \", IF(Baker_Scores_Men_Var!E370 = \"Yes\", \"Yes\", \"  \"))","v":"  "},0.0,0.0,0.0,0.0,0.0,0.0,0,0,0]
[null,"West Texas A&M University V","","",{"$nulls":8},0,0,0]
[null,"West Texas A&M University V","","",{"$nulls":8},0,0,0]
[null,"West Texas A&M University V","","",{"$nulls":8},0,0,0]
[{"$nulls":6},{"$f":"SUM(G363:G373)","v":942},904,726,968,961,804,5305,30]
[]
[null,{"$f":"Roster_Selection_Men!AB410&\" \" & \"V \"","v":"Wichita State University V "},{"$f":"Roster_Selection_Men!AD410","v":"5984-243"},{"$f":"Roster_Selection_Men!AE410","v":"Alec Keplinger"},null,{"$f":"IF(ISERROR(Baker_Scores_Men_Var!E376), \" \", IF(Baker_Scores_Men_Var!E376 = \"Yes\", \"Yes\", \"  \"))","v":"  "},207.0,254.0,232.0,213.0,199.0,279.0,{"$f":"SUM(G376:L376)","v":1384},{"$f":"COUNTIF(G376:L376, \">0\" )","v":6},{"$f":"IF(N376=0,0,M376/N376)","v":230.6666667}]
[null,{"$f":"Roster_Selection_Men!AB411&\" \" & \"V \"","v":"Wichita State University V "},{"$f":"Roster_Selection_Men!AD411","v":"5900-25321"},{"$f":"Roster_Selection_Men!AE411","v":"Brandon Bonta"},null,{"$f":"IF(ISERROR(Baker_Scores_Men_Var!E377), \" \", IF(Baker_Scores_Men_Var!E377 = \"Yes\", \"Yes\", \"  \"))","v":"  "},199.0,240.0,226.0,265.0,202.0,230.0,1362,6,227]
[null,{"$f":"Roster_Selection_Men!AB412&\" \" & \"V \"","v":"Wichita State University V "},{"$f":"Roster_Selection_Men!AD412","v":"11-459860"},{"$f":"Roster_Selection_Men!AE412","v":"David Hayes"},null,{"$f":"IF(ISERROR(Baker_Scores_Men_Var!E378), \" \", IF(Baker_Scores_Men_Var!E378 = \"Yes\", \"Yes\", \"  \"))","v":"  "},0.0,0.0,0.0,259.0,205.0,217.0,681,3,227]
[null,{"$f":"Roster_Selection_Men!AB413&\" \" & \"V \"","v":"Wichita State University V "},{"$f":"Roster_Selection_Men!AD413","v":"5717-1804"},{"$f":"Roster_Selection_Men!AE413","v":"Nicholas Sommer"},null,{"$f":"IF(ISERROR(Baker_Scores_Men_Var!E379), \" \", IF(Baker_Scores_Men_Var!E379 = \"Yes\", \"Yes\", \"  \"))","v":"  "},0.0,0.0,0.0,235.0,178.0,253.0,666,3,222]
[null,{"$f":"Roster_Selection_Men!AB414&\" \" & \"V \"","v":"Wichita State University V "},{"$f":"Roster_Selection_Men!AD414","v":"8072-7714"},{"$f":"Roster_Selection_Men!AE414","v":"Ryan Barnes"},null,{"$f":"IF(ISERROR(Baker_Scores_Men_Var!E380), \" \", IF(Baker_Scores_Men_Var!E380 = \"Yes\", \"Yes\", \"  \"))","v":"  "},215.0,201.0,193.0,0.0,0.0,0.0,609,3,203]
[null,{"$f":"Roster_Selection_Men!AB415&\" \" & \"V \"","v":"Wichita State University V "},{"$f":"Roster_Selection_Men!AD415","v":"8845-13565"},{"$f":"Roster_Selection_Men!AE415","v":"Spencer Robarge"},null,{"$f":"IF(ISERROR(Baker_Scores_Men_Var!E381), \" \", IF(Baker_Scores_Men_Var!E381 = \"Yes\", \"Yes\", \"  \"))","v":"  "},181.0,247.0,248.0,250.0,267.0,257.0,1450,6,241.6666667]
[null,{"$f":"Roster_Selection_Men!AB416&\" \" & \"V \"","v":"Wichita State University V "},{"$f":"Roster_Selection_Men!AD416","v":"8019-45865"},{"$f":"Roster_Selection_Men!AE416","v":"Terrance (T.J.) Rock"},null,{"$f":"IF(ISERROR(Baker_Scores_Men_Var!E382), \" \", IF(Baker_Scores_Men_Var!E382 = \"Yes\", \"Yes\", \"  \"))","v":"  "},213.0,182.0,167.0,0.0,0.0,0.0,562,3,187.3333333]
[null,{"$f":"Roster_Selection_Men!AB417&\" \" & \"V \"","v":" V "},{"$f":"Roster_Selection_Men!AD417","v":""},{"$f":"Roster_Selection_Men!AE417","v":""},null,{"$f":"IF(ISERROR(Baker_Scores_Men_Var!E383), \" \", IF(Baker_Scores_Men_Var!E383 = \"Yes\", \"Yes\", \"  \"))","v":"  "},0.0,0.0,0.0,0.0,0.0,0.0,0,0,0]
[null,"Wichita State University V","","",{"$nulls":8},0,0,0]
[null,"Wichita State University V","","",{"$nulls":8},0,0,0]
[null,"Wichita State University V","","",{"$nulls":8},0,0,0]
[{"$nulls":6},{"$f":"SUM(G376:G386)","v":1015},1124,1066,1222,1051,1236,6714,30]
[]
[null,{"$f":"Roster_Selection_Men!AB428&\" \" & \"V \"","v":"William Penn University V "},{"$f":"Roster_Selection_Men!AD428","v":"8223-85672"},{"$f":"Roster_Selection_Men!AE428","v":"Bryce Keykal"},null,{"$f":"IF(ISERROR(Baker_Scores_Men_Var!E389), \" \", IF(Baker_Scores_Men_Var!E389 = \"Yes\", \"Yes\", \"  \"))","v":"  "},157.0,172.0,177.0,0.0,0.0,223.0,{"$f":"SUM(G389:L389)","v":729},{"$f":"COUNTIF(G389:L389, \">0\" )","v":4},{"$f":"IF(N389=0,0,M389/N389)","v":182.25}]
[null,{"$f":"Roster_Selection_Men!AB429&\" \" & \"V \"","v":"William Penn University V "},{"$f":"Roster_Selection_Men!AD429","v":"5822-1038"},{"$f":"Roster_Selection_Men!AE429","v":"Caleb Sterbenz"},null,{"$f":"IF(ISERROR(Baker_Scores_Men_Var!E390), \" \", IF(Baker_Scores_Men_Var!E390 = \"Yes\", \"Yes\", \"  \"))","v":"  "},0.0,0.0,0.0,0.0,0.0,0.0,0,0,0]
[null,{"$f":"Roster_Selection_Men!AB430&\" \" & \"V \"","v":"William Penn University V "},{"$f":"Roster_Selection_Men!AD430","v":"22-20754"},{"$f":"Roster_Selection_Men!AE430","v":"Conor Fetherston"},null,{"$f":"IF(ISERROR(Baker_Scores_Men_Var!E391), \" \", IF(Baker_Scores_Men_Var!E391 = \"Yes\", \"Yes\", \"  \"))","v":"  "},226.0,225.0,208.0,223.0,156.0,0.0,1038,5,207.6]
[null,{"$f":"Roster_Selection_Men!AB431&\" \" & \"V \"","v":"William Penn University V "},{"$f":"Roster_Selection_Men!AD431","v":"5873-792"},{"$f":"Roster_Selection_Men!AE431","v":"Garraty Richmond"},null,{"$f":"IF(ISERROR(Baker_Scores_Men_Var!E392), \" \", IF(Baker_Scores_Men_Var!E392 = \"Yes\", \"Yes\", \"  \"))","v":"  "},166.0,190.0,114.0,0.0,0.0,203.0,673,4,168.25]
[null,{"$f":"Roster_Selection_Men!AB432&\" \" & \"V \"","v":"William Penn University V "},{"$f":"Roster_Selection_Men!AD432","v":"5853-217"},{"$f":"Roster_Selection_Men!AE432","v":"Jake Cook"},null,{"$f":"IF(ISERROR(Baker_Scores_Men_Var!E393), \" \", IF(Baker_Scores_Men_Var!E393 = \"Yes\", \"Yes\", \"  \"))","v":"  "},161.0,191.0,184.0,171.0,189.0,246.0,1142,6,190.3333333]
[null,{"$f":"Roster_Selection_Men!AB433&\" \" & \"V \"","v":"William Penn University V "},{"$f":"Roster_Selection_Men!AD433","v":"11-102941"},{"$f":"Roster_Selection_Men!AE433","v":"Jared Smith"},null,{"$f":"IF(ISERROR(Baker_Scores_Men_Var!E394), \" \", IF(Baker_Scores_Men_Var!E394 = \"Yes\", \"Yes\", \"  \"))","v":"  "},210.0,248.0,155.0,224.0,191.0,162.0,1190,6,198.3333333]
[null,{"$f":"Roster_Selection_Men!AB434&\" \" & \"V \"","v":"William Penn University V "},{"$f":"Roster_Selection_Men!AD434","v":"5853-303"},{"$f":"Roster_Selection_Men!AE434","v":"Kody Sapp"},null,{"$f":"IF(ISERROR(Baker_Scores_Men_Var!E395), \" \", IF(Baker_Scores_Men_Var!E395 = \"Yes\", \"Yes\", \"  \"))","v":"  "},0.0,0.0,0.0,238.0,170.0,201.0,609,3,203]
[null,{"$f":"Roster_Selection_Men!AB435&\" \" & \"V \"","v":"William Penn University V "},{"$f":"Roster_Selection_Men!AD435","v":"17-85693"},{"$f":"Roster_Selection_Men!AE435","v":"Spencer Fleming"},null,{"$f":"IF(ISERROR(Baker_Scores_Men_Var!E396), \" \", IF(Baker_Scores_Men_Var!E396 = \"Yes\", \"Yes\", \"  \"))","v":"  "},0.0,0.0,0.0,164.0,165.0,0.0,329,2,164.5]
[null,"William Penn University V","","",{"$nulls":8},0,0,0]
[null,"William Penn University V","","",{"$nulls":8},0,0,0]
[null,"William Penn University V","","",{"$nulls":8},0,0,0]
[{"$nulls":6},{"$f":"SUM(G389:G399)","v":920},1026,838,1020,871,1035,5710,30]
[]
[null,{"$f":"Roster_Selection_Men!AB449&\" \" & \"V \"","v":"William Woods University V "},{"$f":"Roster_Selection_Men!AD449","v":"11-451268"},{"$f":"Roster_Selection_Men!AE449","v":"Braden Lallier"},null,{"$f":"IF(ISERROR(Baker_Scores_Men_Var!E402), \" \", IF(Baker_Scores_Men_Var!E402 = \"Yes\", \"Yes\", \"  \"))","v":"  "},170.0,171.0,163.0,136.0,190.0,171.0,{"$f":"SUM(G402:L402)","v":1001},{"$f":"COUNTIF(G402:L402, \">0\" )","v":6},{"$f":"IF(N402=0,0,M402/N402)","v":166.8333333}]
[null,{"$f":"Roster_Selection_Men!AB450&\" \" & \"V \"","v":"William Woods University V "},{"$f":"Roster_Selection_Men!AD450","v":"11-301300"},{"$f":"Roster_Selection_Men!AE450","v":"Christian Merrick"},null,{"$f":"IF(ISERROR(Baker_Scores_Men_Var!E403), \" \", IF(Baker_Scores_Men_Var!E403 = \"Yes\", \"Yes\", \"  \"))","v":"  "},171.0,204.0,132.0,208.0,204.0,137.0,1056,6,176]
[null,{"$f":"Roster_Selection_Men!AB451&\" \" & \"V \"","v":"William Woods University V "},{"$f":"Roster_Selection_Men!AD451","v":"17-18636"},{"$f":"Roster_Selection_Men!AE451","v":"Christopher Little"},null,{"$f":"IF(ISERROR(Baker_Scores_Men_Var!E404), \" \", IF(Baker_Scores_Men_Var!E404 = \"Yes\", \"Yes\", \"  \"))","v":"  "},147.0,196.0,173.0,130.0,176.0,168.0,990,6,165]
[null,{"$f":"Roster_Selection_Men!AB452&\" \" & \"V \"","v":"William Woods University V "},{"$f":"Roster_Selection_Men!AD452","v":"11-100889"},{"$f":"Roster_Selection_Men!AE452","v":"Kaden McDow"},null,{"$f":"IF(ISERROR(Baker_Scores_Men_Var!E405), \" \", IF(Baker_Scores_Men_Var!E405 = \"Yes\", \"Yes\", \"  \"))","v":"  "},0.0,0.0,0.0,0.0,0.0,0.0,0,0,0]
[null,{"$f":"Roster_Selection_Men!AB453&\" \" & \"V \"","v":"William Woods University V "},{"$f":"Roster_Selection_Men!AD453","v":"11-661049"},{"$f":"Roster_Selection_Men!AE453","v":"Matthew Lennox"},null,{"$f":"IF(ISERROR(Baker_Scores_Men_Var!E406), \" \", IF(Baker_Scores_Men_Var!E406 = \"Yes\", \"Yes\", \"  \"))","v":"  "},164.0,219.0,172.0,184.0,161.0,195.0,1095,6,182.5]
[null,{"$f":"Roster_Selection_Men!AB454&\" \" & \"V \"","v":"William Woods University V "},{"$f":"Roster_Selection_Men!AD454","v":"22-27621"},{"$f":"Roster_Selection_Men!AE454","v":"Tyklen Salmons"},null,{"$f":"IF(ISERROR(Baker_Scores_Men_Var!E407), \" \", IF(Baker_Scores_Men_Var!E407 = \"Yes\", \"Yes\", \"  \"))","v":"  "},143.0,212.0,174.0,118.0,120.0,138.0,905,6,150.8333333]
[null,{"$f":"Roster_Selection_Men!AB455&\" \" & \"V \"","v":" V "},{"$f":"Roster_Selection_Men!AD455","v":""},{"$f":"Roster_Selection_Men!AE455","v":""},null,{"$f":"IF(ISERROR(Baker_Scores_Men_Var!E408), \" \", IF(Baker_Scores_Men_Var!E408 = \"Yes\", \"Yes\", \"  \"))","v":"  "},0.0,0.0,0.0,0.0,0.0,0.0,0,0,0]
[null,{"$f":"Roster_Selection_Men!AB456&\" \" & \"V \"","v":" V "},{"$f":"Roster_Selection_Men!AD456","v":""},{"$f":"Roster_Selection_Men!AE456","v":""},null,{"$f":"IF(ISERROR(Baker_Scores_Men_Var!E409), \" \", IF(Baker_Scores_Men_Var!E409 = \"Yes\", \"Yes\", \"  \"))","v":"  "},0.0,0.0,0.0,0.0,0.0,0.0,0,0,0]
[null,"William Woods University V","","",{"$nulls":8},0,0,0]
[null,"William Woods University V","","",{"$nulls":8},0,0,0]
[null,"William Woods University V","","",{"$nulls":8},0,0,0]
[{"$nulls":6},{"$f":"SUM(G402:G412)","v":795},1002,814,776,851,809,5047,30]
[]
[]
[]
[]
[{"$nulls":4},"Team Totals",null,{"$f":"SUM(G23,G36,G49,G62,G75,G88,G101,G114,G127,G140,G153,G166,G179,G192,G205,G218,G231,G244,G257,G270,G283,G296,G309,G322,G335,G348,G361,G374,G387,G400,G413)","v":28578},30136,29174,29410,28901,29053,175252,930,{"$nulls":37},"*"]
[{"$nulls":4},"Team Game Average",null,{"$f":"SUM(G418/(31))","v":921.8709677},972.1290323,941.0967742,948.7096774,932.2903226,937.1935484]

{"sheet":"Individual_Scores_Men_JV","index":2,"n_rows":172,"n_cols":54,"rows_kept":172,"cut":false,"hidden":false,"merged":[[0,0,0,13]]}
["Individual Scores and Team Games"]
[{"$nulls":51},"Yes"]
[null,"Mid States Championships (Tier I Men)",{"$nulls":49},"No"]
[null,"Tier 1","USBC",{"$nulls":12},"1201","6","20","5","2.9","2.9",null,null,"7",{"$nulls":29},"IBCYouth"]
[null,"<<Dates>>","<<Event#>>","10/15/2022 - 10/16/2022"]
[null,"<<Location>>",null,"Wichita, KS"]
[]
[null,"Men's Division",null,"Cert No:","05700"]
[null,"Division"]
[{"$nulls":6},"Game","Game","Game","Game","Game","Game",null,"Games","Tourn."]
[null,"Team","Bowler ID","Bowler","Bowled","Bowled Baker",1.0,2.0,3.0,4.0,5.0,6.0,"Total","Bowled","Ave."]
[null,{"$f":"Roster_Selection_Men!AF42&\" \" & \"JV1 \"","v":"Barton Community College JV1 "},{"$f":"Roster_Selection_Men!AH42","v":"19-16176"},{"$f":"Roster_Selection_Men!AI42","v":"Aidan Vanmetre"},null,{"$f":"IF(ISERROR(Baker_Scores_Men_JV!E12), \" \", IF(Baker_Scores_Men_JV!E12 = \"Yes\", \"Yes\", \"  \"))","v":"  "},157.0,211.0,179.0,180.0,211.0,143.0,{"$f":"SUM(G12:L12)","v":1081},{"$f":"COUNTIF(G12:L12, \">0\" )","v":6},{"$f":"IF(N12=0,0,M12/N12)","v":180.1666667}]
[null,{"$f":"Roster_Selection_Men!AF43&\" \" & \"JV1 \"","v":"Barton Community College JV1 "},{"$f":"Roster_Selection_Men!AH43","v":"11-765034"},{"$f":"Roster_Selection_Men!AI43","v":"Alexander Flinn"},null,{"$f":"IF(ISERROR(Baker_Scores_Men_JV!E13), \" \", IF(Baker_Scores_Men_JV!E13 = \"Yes\", \"Yes\", \"  \"))","v":"  "},138.0,0.0,204.0,158.0,0.0,162.0,662,4,165.5]
[null,{"$f":"Roster_Selection_Men!AF44&\" \" & \"JV1 \"","v":"Barton Community College JV1 "},{"$f":"Roster_Selection_Men!AH44","v":"17-107341"},{"$f":"Roster_Selection_Men!AI44","v":"Cale McConncell"},null,{"$f":"IF(ISERROR(Baker_Scores_Men_JV!E14), \" \", IF(Baker_Scores_Men_JV!E14 = \"Yes\", \"Yes\", \"  \"))","v":"  "},0.0,237.0,182.0,155.0,182.0,182.0,938,5,187.6]
[null,{"$f":"Roster_Selection_Men!AF45&\" \" & \"JV1 \"","v":"Barton Community College JV1 "},{"$f":"Roster_Selection_Men!AH45","v":"18-7262"},{"$f":"Roster_Selection_Men!AI45","v":"Caleb Murphy"},null,{"$f":"IF(ISERROR(Baker_Scores_Men_JV!E15), \" \", IF(Baker_Scores_Men_JV!E15 = \"Yes\", \"Yes\", \"  \"))","v":"  "},142.0,188.0,159.0,0.0,145.0,0.0,634,4,158.5]
[null,{"$f":"Roster_Selection_Men!AF46&\" \" & \"JV1 \"","v":"Barton Community College JV1 "},{"$f":"Roster_Selection_Men!AH46","v":"5900-26169"},{"$f":"Roster_Selection_Men!AI46","v":"Chaz Smith"},null,{"$f":"IF(ISERROR(Baker_Scores_Men_JV!E16), \" \", IF(Baker_Scores_Men_JV!E16 = \"Yes\", \"Yes\", \"  \"))","v":"  "},208.0,159.0,0.0,154.0,0.0,130.0,651,4,162.75]
[null,{"$f":"Roster_Selection_Men!AF47&\" \" & \"JV1 \"","v":"Barton Community College JV1 "},{"$f":"Roster_Selection_Men!AH47","v":"11-59176"},{"$f":"Roster_Selection_Men!AI47","v":"Cooper Clumsky"},null,{"$f":"IF(ISERROR(Baker_Scores_Men_JV!E17), \" \", IF(Baker_Scores_Men_JV!E17 = \"Yes\", \"Yes\", \"  \"))","v":"  "},0.0,124.0,0.0,174.0,166.0,228.0,692,4,173]
[null,{"$f":"Roster_Selection_Men!AF48&\" \" & \"JV1 \"","v":"Barton Community College JV1 "},{"$f":"Roster_Selection_Men!AH48","v":"19-11824"},{"$f":"Roster_Selection_Men!AI48","v":"Cooper Holloway"},null,{"$f":"IF(ISERROR(Baker_Scores_Men_JV!E18), \" \", IF(Baker_Scores_Men_JV!E18 = \"Yes\", \"Yes\", \"  \"))","v":"  "},120.0,0.0,170.0,0.0,133.0,0.0,423,3,141]
[null,{"$f":"Roster_Selection_Men!AF49&\" \" & \"JV1 \"","v":"Barton Community College JV1 "},{"$f":"Roster_Selection_Men!AH49","v":"20-45947"},{"$f":"Roster_Selection_Men!AI49","v":"Jared McQuilliam"},null,{"$f":"IF(ISERROR(Baker_Scores_Men_JV!E19), \" \", IF(Baker_Scores_Men_JV!E19 = \"Yes\", \"Yes\", \"  \"))","v":"  "},0.0,0.0,0.0,0.0,0.0,0.0,0,0,0]
[null,"Barton Community College JV1","","",{"$nulls":8},0,0,0]
[null,"Barton Community College JV1","","",{"$nulls":8},0,0,0]
[null,"Barton Community College JV1","","",{"$nulls":8},0,0,0]
[{"$nulls":6},{"$f":"SUM(G12:G22)","v":765},919,894,821,837,845,5081,30]
[]
[null,{"$f":"Roster_Selection_Men!AF114&\" \" & \"JV1 \"","v":"Hastings College JV1 "},{"$f":"Roster_Selection_Men!AH114","v":"20-20962"},{"$f":"Roster_Selection_Men!AI114","v":"Alex Gomez"},null,{"$f":"IF(ISERROR(Baker_Scores_Men_JV!E25), \" \", IF(Baker_Scores_Men_JV!E25 = \"Yes\", \"Yes\", \"  \"))","v":"  "},133.0,143.0,181.0,202.0,149.0,167.0,{"$f":"SUM(G25:L25)","v":975},{"$f":"COUNTIF(G25:L25, \">0\" )","v":6},{"$f":"IF(N25=0,0,M25/N25)","v":162.5}]
[null,{"$f":"Roster_Selection_Men!AF115&\" \" & \"JV1 \"","v":"Hastings College JV1 "},{"$f":"Roster_Selection_Men!AH115","v":"11-607179"},{"$f":"Roster_Selection_Men!AI115","v":"Brandon Engels"},null,{"$f":"IF(ISERROR(Baker_Scores_Men_JV!E26), \" \", IF(Baker_Scores_Men_JV!E26 = \"Yes\", \"Yes\", \"  \"))","v":"  "},230.0,203.0,253.0,192.0,121.0,0.0,999,5,199.8]
[null,{"$f":"Roster_Selection_Men!AF116&\" \" & \"JV1 \"","v":"Hastings College JV1 "},{"$f":"Roster_Selection_Men!AH116","v":"11-120329"},{"$f":"Roster_Selection_Men!AI116","v":"Carstin Olson"},null,{"$f":"IF(ISERROR(Baker_Scores_Men_JV!E27), \" \", IF(Baker_Scores_Men_JV!E27 = \"Yes\", \"Yes\", \"  \"))","v":"  "},214.0,255.0,203.0,224.0,149.0,176.0,1221,6,203.5]
[null,{"$f":"Roster_Selection_Men!AF117&\" \" & \"JV1 \"","v":"Hastings College JV1 "},{"$f":"Roster_Selection_Men!AH117","v":"11-748575"},{"$f":"Roster_Selection_Men!AI117","v":"Maxx Uecker"},null,{"$f":"IF(ISERROR(Baker_Scores_Men_JV!E28), \" \", IF(Baker_Scores_Men_JV!E28 = \"Yes\", \"Yes\", \"  \"))","v":"  "},0.0,115.0,0.0,164.0,158.0,178.0,615,4,153.75]
[null,{"$f":"Roster_Selection_Men!AF118&\" \" & \"JV1 \"","v":"Hastings College JV1 "},{"$f":"Roster_Selection_Men!AH118","v":"11-429466"},{"$f":"Roster_Selection_Men!AI118","v":"Nathan Stinemates"},null,{"$f":"IF(ISERROR(Baker_Scores_Men_JV!E29), \" \", IF(Baker_Scores_Men_JV!E29 = \"Yes\", \"Yes\", \"  \"))","v":"  "},132.0,0.0,165.0,169.0,204.0,237.0,907,5,181.4]
[null,{"$f":"Roster_Selection_Men!AF119&\" \" & \"JV1 \"","v":"Hastings College JV1 "},{"$f":"Roster_Selection_Men!AH119","v":"11-317301"},{"$f":"Roster_Selection_Men!AI119","v":"Will Wallace"},null,{"$f":"IF(ISERROR(Baker_Scores_Men_JV!E30), \" \", IF(Baker_Scores_Men_JV!E30 = \"Yes\", \"Yes\", \"  \"))","v":"  "},177.0,176.0,163.0,0.0,0.0,175.0,691,4,172.75]
[null,{"$f":"Roster_Selection_Men!AF120&\" \" & \"JV1 \"","v":" JV1 "},{"$f":"Roster_Selection_Men!AH120","v":""},{"$f":"Roster_Selection_Men!AI120","v":""},null,{"$f":"IF(ISERROR(Baker_Scores_Men_JV!E31), \" \", IF(Baker_Scores_Men_JV!E31 = \"Yes\", \"Yes\", \"  \"))","v":"  "},0.0,0.0,0.0,0.0,0.0,0.0,0,0,0]
[null,{"$f":"Roster_Selection_Men!AF121&\" \" & \"JV1 \"","v":" JV1 "},{"$f":"Roster_Selection_Men!AH121","v":""},{"$f":"Roster_Selection_Men!AI121","v":""},null,{"$f":"IF(ISERROR(Baker_Scores_Men_JV!E32), \" \", IF(Baker_Scores_Men_JV!E32 = \"Yes\", \"Yes\", \"  \"))","v":"  "},0.0,0.0,0.0,0.0,0.0,0.0,0,0,0]
[null,"Hastings College JV1","","",{"$nulls":8},0,0,0]
[null,"Hastings College JV1","","",{"$nulls":8},0,0,0]
[null,"Hastings College JV1","","",{"$nulls":8},0,0,0]
[{"$nulls":6},{"$f":"SUM(G25:G35)","v":886},892,965,951,781,933,5408,30]
[]
[null,{"$f":"Roster_Selection_Men!AF157&\" \" & \"JV1 \"","v":"Kansas ,University Of JV1 "},{"$f":"Roster_Selection_Men!AH157","v":"19-11395"},{"$f":"Roster_Selection_Men!AI157","v":"Anthony Hudson"},null,{"$f":"IF(ISERROR(Baker_Scores_Men_JV!E38), \" \", IF(Baker_Scores_Men_JV!E38 = \"Yes\", \"Yes\", \"  \"))","v":"  "},181.0,160.0,153.0,169.0,163.0,168.0,{"$f":"SUM(G38:L38)","v":994},{"$f":"COUNTIF(G38:L38, \">0\" )","v":6},{"$f":"IF(N38=0,0,M38/N38)","v":165.6666667}]
[null,{"$f":"Roster_Selection_Men!AF158&\" \" & \"JV1 \"","v":"Kansas ,University Of JV1 "},{"$f":"Roster_Selection_Men!AH158","v":"16-162899"},{"$f":"Roster_Selection_Men!AI158","v":"Benjamin Weinzirl"},null,{"$f":"IF(ISERROR(Baker_Scores_Men_JV!E39), \" \", IF(Baker_Scores_Men_JV!E39 = \"Yes\", \"Yes\", \"  \"))","v":"  "},171.0,149.0,136.0,221.0,167.0,157.0,1001,6,166.8333333]
[null,{"$f":"Roster_Selection_Men!AF159&\" \" & \"JV1 \"","v":"Kansas ,University Of JV1 "},{"$f":"Roster_Selection_Men!AH159","v":"11-595310"},{"$f":"Roster_Selection_Men!AI159","v":"Cameryn Wheeler"},null,{"$f":"IF(ISERROR(Baker_Scores_Men_JV!E40), \" \", IF(Baker_Scores_Men_JV!E40 = \"Yes\", \"Yes\", \"  \"))","v":"  "},176.0,238.0,156.0,167.0,179.0,166.0,1082,6,180.3333333]
[null,{"$f":"Roster_Selection_Men!AF160&\" \" & \"JV1 \"","v":"Kansas ,University Of JV1 "},{"$f":"Roster_Selection_Men!AH160","v":"11-469451"},{"$f":"Roster_Selection_Men!AI160","v":"Daniel Moser"},null,{"$f":"IF(ISERROR(Baker_Scores_Men_JV!E41), \" \", IF(Baker_Scores_Men_JV!E41 = \"Yes\", \"Yes\", \"  \"))","v":"  "},159.0,181.0,148.0,237.0,167.0,160.0,1052,6,175.3333333]
[null,{"$f":"Roster_Selection_Men!AF161&\" \" & \"JV1 \"","v":"Kansas ,University Of JV1 "},{"$f":"Roster_Selection_Men!AH161","v":"20-25203"},{"$f":"Roster_Selection_Men!AI161","v":"Kellen McGowan"},null,{"$f":"IF(ISERROR(Baker_Scores_Men_JV!E42), \" \", IF(Baker_Scores_Men_JV!E42 = \"Yes\", \"Yes\", \"  \"))","v":"  "},152.0,121.0,117.0,122.0,109.0,143.0,764,6,127.3333333]
[null,{"$f":"Roster_Selection_Men!AF162&\" \" & \"JV1 \"","v":" JV1 "},{"$f":"Roster_Selection_Men!AH162","v":""},{"$f":"Roster_Selection_Men!AI162","v":""},null,{"$f":"IF(ISERROR(Baker_Scores_Men_JV!E43), \" \", IF(Baker_Scores_Men_JV!E43 = \"Yes\", \"Yes\", \"  \"))","v":"  "},0.0,0.0,0.0,0.0,0.0,0.0,0,0,0]
[null,{"$f":"Roster_Selection_Men!AF163&\" \" & \"JV1 \"","v":" JV1 "},{"$f":"Roster_Selection_Men!AH163","v":""},{"$f":"Roster_Selection_Men!AI163","v":""},null,{"$f":"IF(ISERROR(Baker_Scores_Men_JV!E44), \" \", IF(Baker_Scores_Men_JV!E44 = \"Yes\", \"Yes\", \"  \"))","v":"  "},0.0,0.0,0.0,0.0,0.0,0.0,0,0,0]
[null,{"$f":"Roster_Selection_Men!AF164&\" \" & \"JV1 \"","v":" JV1 "},{"$f":"Roster_Selection_Men!AH164","v":""},{"$f":"Roster_Selection_Men!AI164","v":""},null,{"$f":"IF(ISERROR(Baker_Scores_Men_JV!E45), \" \", IF(Baker_Scores_Men_JV!E45 = \"Yes\", \"Yes\", \"  \"))","v":"  "},0.0,0.0,0.0,0.0,0.0,0.0,0,0,0]
[null,"Kansas ,University Of JV1","","",{"$nulls":8},0,0,0]
[null,"Kansas ,University Of JV1","","",{"$nulls":8},0,0,0]
[null,"Kansas ,University Of JV1","","",{"$nulls":8},0,0,0]
[{"$nulls":6},{"$f":"SUM(G38:G48)","v":839},849,710,916,785,794,4893,30]
[]
[null,{"$f":"Roster_Selection_Men!AF197&\" \" & \"JV1 \"","v":"Lindenwood University JV1 "},{"$f":"Roster_Selection_Men!AH197","v":"11-645936"},{"$f":"Roster_Selection_Men!AI197","v":"Caleb Horton"},null,{"$f":"IF(ISERROR(Baker_Scores_Men_JV!E51), \" \", IF(Baker_Scores_Men_JV!E51 = \"Yes\", \"Yes\", \"  \"))","v":"  "},0.0,168.0,246.0,201.0,221.0,209.0,{"$f":"SUM(G51:L51)","v":1045},{"$f":"COUNTIF(G51:L51, \">0\" )","v":5},{"$f":"IF(N51=0,0,M51/N51)","v":209}]
[null,{"$f":"Roster_Selection_Men!AF198&\" \" & \"JV1 \"","v":"Lindenwood University JV1 "},{"$f":"Roster_Selection_Men!AH198","v":"6933-7657"},{"$f":"Roster_Selection_Men!AI198","v":"Daniel Liddle"},null,{"$f":"IF(ISERROR(Baker_Scores_Men_JV!E52), \" \", IF(Baker_Scores_Men_JV!E52 = \"Yes\", \"Yes\", \"  \"))","v":"  "},148.0,0.0,0.0,233.0,187.0,187.0,755,4,188.75]
[null,{"$f":"Roster_Selection_Men!AF199&\" \" & \"JV1 \"","v":"Lindenwood University JV1 "},{"$f":"Roster_Selection_Men!AH199","v":"20-54170"},{"$f":"Roster_Selection_Men!AI199","v":"Elijah Barnes"},null,{"$f":"IF(ISERROR(Baker_Scores_Men_JV!E53), \" \", IF(Baker_Scores_Men_JV!E53 = \"Yes\", \"Yes\", \"  \"))","v":"  "},0.0,0.0,203.0,203.0,157.0,181.0,744,4,186]
[null,{"$f":"Roster_Selection_Men!AF200&\" \" & \"JV1 \"","v":"Lindenwood University JV1 "},{"$f":"Roster_Selection_Men!AH200","v":"7914-19385"},{"$f":"Roster_Selection_Men!AI200","v":"Emmaunel McPherson"},null,{"$f":"IF(ISERROR(Baker_Scores_Men_JV!E54), \" \", IF(Baker_Scores_Men_JV!E54 = \"Yes\", \"Yes\", \"  \"))","v":"  "},190.0,173.0,0.0,0.0,0.0,0.0,363,2,181.5]
[null,{"$f":"Roster_Selection_Men!AF201&\" \" & \"JV1 \"","v":"Lindenwood University JV1 "},{"$f":"Roster_Selection_Men!AH201","v":"16-147279"},{"$f":"Roster_Selection_Men!AI201","v":"Graham Mortimore"},null,{"$f":"IF(ISERROR(Baker_Scores_Men_JV!E55), \" \", IF(Baker_Scores_Men_JV!E55 = \"Yes\", \"Yes\", \"  \"))","v":"  "},203.0,224.0,156.0,0.0,0.0,0.0,583,3,194.3333333]
[null,{"$f":"Roster_Selection_Men!AF202&\" \" & \"JV1 \"","v":"Lindenwood University JV1 "},{"$f":"Roster_Selection_Men!AH202","v":"11-678471"},{"$f":"Roster_Selection_Men!AI202","v":"Hunter Pirtle"},null,{"$f":"IF(ISERROR(Baker_Scores_Men_JV!E56), \" \", IF(Baker_Scores_Men_JV!E56 = \"Yes\", \"Yes\", \"  \"))","v":"  "},0.0,0.0,0.0,161.0,207.0,218.0,586,3,195.3333333]
[null,{"$f":"Roster_Selection_Men!AF203&\" \" & \"JV1 \"","v":"Lindenwood University JV1 "},{"$f":"Roster_Selection_Men!AH203","v":"21-12175"},{"$f":"Roster_Selection_Men!AI203","v":"Juan Pablo Aguirre Moreno"},null,{"$f":"IF(ISERROR(Baker_Scores_Men_JV!E57), \" \", IF(Baker_Scores_Men_JV!E57 = \"Yes\", \"Yes\", \"  \"))","v":"  "},179.0,201.0,195.0,244.0,225.0,211.0,1255,6,209.1666667]
[null,{"$f":"Roster_Selection_Men!AF204&\" \" & \"JV1 \"","v":"Lindenwood University JV1 "},{"$f":"Roster_Selection_Men!AH204","v":"16-86758"},{"$f":"Roster_Selection_Men!AI204","v":"Nate O'Connell"},null,{"$f":"IF(ISERROR(Baker_Scores_Men_JV!E58), \" \", IF(Baker_Scores_Men_JV!E58 = \"Yes\", \"Yes\", \"  \"))","v":"  "},221.0,180.0,159.0,0.0,0.0,0.0,560,3,186.6666667]
[null,"Lindenwood University JV1","","",{"$nulls":8},0,0,0]
[null,"Lindenwood University JV1","","",{"$nulls":8},0,0,0]
[null,"Lindenwood University JV1","","",{"$nulls":8},0,0,0]
[{"$nulls":6},{"$f":"SUM(G51:G61)","v":941},946,959,1042,997,1006,5891,30]
[]
[null,{"$f":"Roster_Selection_Men!AF254&\" \" & \"JV1 \"","v":" JV1 "},{"$f":"Roster_Selection_Men!AH254","v":""},{"$f":"Roster_Selection_Men!AI254","v":""},null,{"$f":"IF(ISERROR(Baker_Scores_Men_JV!E64), \" \", IF(Baker_Scores_Men_JV!E64 = \"Yes\", \"Yes\", \"  \"))","v":"  "},0.0,0.0,0.0,0.0,0.0,0.0,{"$f":"SUM(G64:L64)","v":0},{"$f":"COUNTIF(G64:L64, \">0\" )","v":0},{"$f":"IF(N64=0,0,M64/N64)","v":0}]
[null,{"$f":"Roster_Selection_Men!AF255&\" \" & \"JV1 \"","v":" JV1 "},{"$f":"Roster_Selection_Men!AH255","v":""},{"$f":"Roster_Selection_Men!AI255","v":""},null,{"$f":"IF(ISERROR(Baker_Scores_Men_JV!E65), \" \", IF(Baker_Scores_Men_JV!E65 = \"Yes\", \"Yes\", \"  \"))","v":"  "},0.0,0.0,0.0,0.0,0.0,0.0,0,0,0]
[null,{"$f":"Roster_Selection_Men!AF256&\" \" & \"JV1 \"","v":" JV1 "},{"$f":"Roster_Selection_Men!AH256","v":""},{"$f":"Roster_Selection_Men!AI256","v":""},null,{"$f":"IF(ISERROR(Baker_Scores_Men_JV!E66), \" \", IF(Baker_Scores_Men_JV!E66 = \"Yes\", \"Yes\", \"  \"))","v":"  "},0.0,0.0,0.0,0.0,0.0,0.0,0,0,0]
[null,{"$f":"Roster_Selection_Men!AF257&\" \" & \"JV1 \"","v":" JV1 "},{"$f":"Roster_Selection_Men!AH257","v":""},{"$f":"Roster_Selection_Men!AI257","v":""},null,{"$f":"IF(ISERROR(Baker_Scores_Men_JV!E67), \" \", IF(Baker_Scores_Men_JV!E67 = \"Yes\", \"Yes\", \"  \"))","v":"  "},0.0,0.0,0.0,0.0,0.0,0.0,0,0,0]
[null,{"$f":"Roster_Selection_Men!AF258&\" \" & \"JV1 \"","v":" JV1 "},{"$f":"Roster_Selection_Men!AH258","v":""},{"$f":"Roster_Selection_Men!AI258","v":""},null,{"$f":"IF(ISERROR(Baker_Scores_Men_JV!E68), \" \", IF(Baker_Scores_Men_JV!E68 = \"Yes\", \"Yes\", \"  \"))","v":"  "},0.0,0.0,0.0,0.0,0.0,0.0,0,0,0]
[null,{"$f":"Roster_Selection_Men!AF259&\" \" & \"JV1 \"","v":" JV1 "},{"$f":"Roster_Selection_Men!AH259","v":""},{"$f":"Roster_Selection_Men!AI259","v":""},null,{"$f":"IF(ISERROR(Baker_Scores_Men_JV!E69), \" \", IF(Baker_Scores_Men_JV!E69 = \"Yes\", \"Yes\", \"  \"))","v":"  "},0.0,0.0,0.0,0.0,0.0,0.0,0,0,0]
[null,{"$f":"Roster_Selection_Men!AF260&\" \" & \"JV1 \"","v":" JV1 "},{"$f":"Roster_Selection_Men!AH260","v":""},{"$f":"Roster_Selection_Men!AI260","v":""},null,{"$f":"IF(ISERROR(Baker_Scores_Men_JV!E70), \" \", IF(Baker_Scores_Men_JV!E70 = \"Yes\", \"Yes\", \"  \"))","v":"  "},0.0,0.0,0.0,0.0,0.0,0.0,0,0,0]
[null,{"$f":"Roster_Selection_Men!AF261&\" \" & \"JV1 \"","v":" JV1 "},{"$f":"Roster_Selection_Men!AH261","v":""},{"$f":"Roster_Selection_Men!AI261","v":""},null,{"$f":"IF(ISERROR(Baker_Scores_Men_JV!E71), \" \", IF(Baker_Scores_Men_JV!E71 = \"Yes\", \"Yes\", \"  \"))","v":"  "},0.0,0.0,0.0,0.0,0.0,0.0,0,0,0]
[null,"Nebraska ,University Of JV1","","",{"$nulls":8},0,0,0]
[null,"Nebraska ,University Of JV1","","",{"$nulls":8},0,0,0]
[null,"Nebraska ,University Of JV1","","",{"$nulls":8},0,0,0]
[{"$nulls":6},{"$f":"SUM(G64:G74)","v":0},0,0,0,0,0,0,0]
[]
[null,{"$f":"Roster_Selection_Men!AF268&\" \" & \"JV1 \"","v":"Newman University JV1 "},{"$f":"Roster_Selection_Men!AH268","v":"17-101622"},{"$f":"Roster_Selection_Men!AI268","v":"Blake Albers"},null,{"$f":"IF(ISERROR(Baker_Scores_Men_JV!E77), \" \", IF(Baker_Scores_Men_JV!E77 = \"Yes\", \"Yes\", \"  \"))","v":"  "},224.0,157.0,178.0,0.0,157.0,160.0,{"$f":"SUM(G77:L77)","v":876},{"$f":"COUNTIF(G77:L77, \">0\" )","v":5},{"$f":"IF(N77=0,0,M77/N77)","v":175.2}]
[null,{"$f":"Roster_Selection_Men!AF269&\" \" & \"JV1 \"","v":"Newman University JV1 "},{"$f":"Roster_Selection_Men!AH269","v":"18-90181"},{"$f":"Roster_Selection_Men!AI269","v":"Cole Munley"},null,{"$f":"IF(ISERROR(Baker_Scores_Men_JV!E78), \" \", IF(Baker_Scores_Men_JV!E78 = \"Yes\", \"Yes\", \"  \"))","v":"  "},184.0,177.0,202.0,180.0,233.0,211.0,1187,6,197.8333333]
[null,{"$f":"Roster_Selection_Men!AF270&\" \" & \"JV1 \"","v":"Newman University JV1 "},{"$f":"Roster_Selection_Men!AH270","v":"18-48073"},{"$f":"Roster_Selection_Men!AI270","v":"Cooper Watkins"},null,{"$f":"IF(ISERROR(Baker_Scores_Men_JV!E79), \" \", IF(Baker_Scores_Men_JV!E79 = \"Yes\", \"Yes\", \"  \"))","v":"  "},170.0,0.0,0.0,160.0,187.0,167.0,684,4,171]
[null,{"$f":"Roster_Selection_Men!AF271&\" \" & \"JV1 \"","v":"Newman University JV1 "},{"$f":"Roster_Selection_Men!AH271","v":"11-366233"},{"$f":"Roster_Selection_Men!AI271","v":"Devon Urbano"},null,{"$f":"IF(ISERROR(Baker_Scores_Men_JV!E80), \" \", IF(Baker_Scores_Men_JV!E80 = \"Yes\", \"Yes\", \"  \"))","v":"  "},182.0,179.0,213.0,216.0,182.0,136.0,1108,6,184.6666667]
[null,{"$f":"Roster_Selection_Men!AF272&\" \" & \"JV1 \"","v":"Newman University JV1 "},{"$f":"Roster_Selection_Men!AH272","v":"9115-2715"},{"$f":"Roster_Selection_Men!AI272","v":"James McIver"},null,{"$f":"IF(ISERROR(Baker_Scores_Men_JV!E81), \" \", IF(Baker_Scores_Men_JV!E81 = \"Yes\", \"Yes\", \"  \"))","v":"  "},259.0,183.0,237.0,218.0,200.0,238.0,1335,6,222.5]
[null,{"$f":"Roster_Selection_Men!AF273&\" \" & \"JV1 \"","v":"Newman University JV1 "},{"$f":"Roster_Selection_Men!AH273","v":"11-78128"},{"$f":"Roster_Selection_Men!AI273","v":"Matthew Reed"},null,{"$f":"IF(ISERROR(Baker_Scores_Men_JV!E82), \" \", IF(Baker_Scores_Men_JV!E82 = \"Yes\", \"Yes\", \"  \"))","v":"  "},0.0,201.0,195.0,140.0,0.0,0.0,536,3,178.6666667]
[null,{"$f":"Roster_Selection_Men!AF274&\" \" & \"JV1 \"","v":" JV1 "},{"$f":"Roster_Selection_Men!AH274","v":""},{"$f":"Roster_Selection_Men!AI274","v":""},null,{"$f":"IF(ISERROR(Baker_Scores_Men_JV!E83), \" \", IF(Baker_Scores_Men_JV!E83 = \"Yes\", \"Yes\", \"  \"))","v":"  "},0.0,0.0,0.0,0.0,0.0,0.0,0,0,0]
[null,{"$f":"Roster_Selection_Men!AF275&\" \" & \"JV1 \"","v":" JV1 "},{"$f":"Roster_Selection_Men!AH275","v":""},{"$f":"Roster_Selection_Men!AI275","v":""},null,{"$f":"IF(ISERROR(Baker_Scores_Men_JV!E84), \" \", IF(Baker_Scores_Men_JV!E84 = \"Yes\", \"Yes\", \"  \"))","v":"  "},0.0,0.0,0.0,0.0,0.0,0.0,0,0,0]
[null,"Newman University JV1","","",{"$nulls":8},0,0,0]
[null,"Newman University JV1","","",{"$nulls":8},0,0,0]
[null,"Newman University JV1","","",{"$nulls":8},0,0,0]
[{"$nulls":6},{"$f":"SUM(G77:G87)","v":1019},897,1025,914,959,912,5726,30]
[]
[null,{"$f":"Roster_Selection_Men!AJ268&\" \" & \"JV2 \"","v":"Newman University JV2 "},{"$f":"Roster_Selection_Men!AL268","v":"7914-24637"},{"$f":"Roster_Selection_Men!AM268","v":"Chavous Kuamo'O-Malama"},null,{"$f":"IF(ISERROR(Baker_Scores_Men_JV!E90), \" \", IF(Baker_Scores_Men_JV!E90 = \"Yes\", \"Yes\", \"  \"))","v":"  "},190.0,122.0,170.0,186.0,168.0,141.0,{"$f":"SUM(G90:L90)","v":977},{"$f":"COUNTIF(G90:L90, \">0\" )","v":6},{"$f":"IF(N90=0,0,M90/N90)","v":162.8333333}]
[null,{"$f":"Roster_Selection_Men!AJ269&\" \" & \"JV2 \"","v":"Newman University JV2 "},{"$f":"Roster_Selection_Men!AL269","v":"11-625840"},{"$f":"Roster_Selection_Men!AM269","v":"Kyler Stockstill"},null,{"$f":"IF(ISERROR(Baker_Scores_Men_JV!E91), \" \", IF(Baker_Scores_Men_JV!E91 = \"Yes\", \"Yes\", \"  \"))","v":"  "},175.0,265.0,192.0,178.0,186.0,192.0,1188,6,198]
[null,{"$f":"Roster_Selection_Men!AJ270&\" \" & \"JV2 \"","v":"Newman University JV2 "},{"$f":"Roster_Selection_Men!AL270","v":"11-460910"},{"$f":"Roster_Selection_Men!AM270","v":"Lawton Simons"},null,{"$f":"IF(ISERROR(Baker_Scores_Men_JV!E92), \" \", IF(Baker_Scores_Men_JV!E92 = \"Yes\", \"Yes\", \"  \"))","v":"  "},140.0,161.0,157.0,193.0,155.0,139.0,945,6,157.5]
[null,{"$f":"Roster_Selection_Men!AJ271&\" \" & \"JV2 \"","v":"Newman University JV2 "},{"$f":"Roster_Selection_Men!AL271","v":"11-550328"},{"$f":"Roster_Selection_Men!AM271","v":"Nathan Galicia"},null,{"$f":"IF(ISERROR(Baker_Scores_Men_JV!E93), \" \", IF(Baker_Scores_Men_JV!E93 = \"Yes\", \"Yes\", \"  \"))","v":"  "},192.0,167.0,184.0,200.0,165.0,200.0,1108,6,184.6666667]
[null,{"$f":"Roster_Selection_Men!AJ272&\" \" & \"JV2 \"","v":"Newman University JV2 "},{"$f":"Roster_Selection_Men!AL272","v":"21-1165"},{"$f":"Roster_Selection_Men!AM272","v":"Zachery Boh"},null,{"$f":"IF(ISERROR(Baker_Scores_Men_JV!E94), \" \", IF(Baker_Scores_Men_JV!E94 = \"Yes\", \"Yes\", \"  \"))","v":"  "},216.0,140.0,169.0,152.0,225.0,226.0,1128,6,188]
[null,{"$f":"Roster_Selection_Men!AJ273&\" \" & \"JV2 \"","v":" JV2 "},{"$f":"Roster_Selection_Men!AL273","v":""},{"$f":"Roster_Selection_Men!AM273","v":""},null,{"$f":"IF(ISERROR(Baker_Scores_Men_JV!E95), \" \", IF(Baker_Scores_Men_JV!E95 = \"Yes\", \"Yes\", \"  \"))","v":"  "},0.0,0.0,0.0,0.0,0.0,0.0,0,0,0]
[null,{"$f":"Roster_Selection_Men!AJ274&\" \" & \"JV2 \"","v":" JV2 "},{"$f":"Roster_Selection_Men!AL274","v":""},{"$f":"Roster_Selection_Men!AM274","v":""},null,{"$f":"IF(ISERROR(Baker_Scores_Men_JV!E96), \" \", IF(Baker_Scores_Men_JV!E96 = \"Yes\", \"Yes\", \"  \"))","v":"  "},0.0,0.0,0.0,0.0,0.0,0.0,0,0,0]
[null,{"$f":"Roster_Selection_Men!AJ275&\" \" & \"JV2 \"","v":" JV2 "},{"$f":"Roster_Selection_Men!AL275","v":""},{"$f":"Roster_Selection_Men!AM275","v":""},null,{"$f":"IF(ISERROR(Baker_Scores_Men_JV!E97), \" \", IF(Baker_Scores_Men_JV!E97 = \"Yes\", \"Yes\", \"  \"))","v":"  "},0.0,0.0,0.0,0.0,0.0,0.0,0,0,0]
[null,"Newman University JV2","","",{"$nulls":8},0,0,0]
[null,"Newman University JV2","","",{"$nulls":8},0,0,0]
[null,"Newman University JV2","","",{"$nulls":8},0,0,0]
[{"$nulls":6},{"$f":"SUM(G90:G100)","v":913},855,872,909,899,898,5346,30]
[]
[null,{"$f":"Roster_Selection_Men!AF287&\" \" & \"JV1 \"","v":"Oklahoma Christian University JV1 "},{"$f":"Roster_Selection_Men!AH287","v":"21-47554"},{"$f":"Roster_Selection_Men!AI287","v":"Benicio Lara"},null,{"$f":"IF(ISERROR(Baker_Scores_Men_JV!E103), \" \", IF(Baker_Scores_Men_JV!E103 = \"Yes\", \"Yes\", \"  \"))","v":"  "},0.0,169.0,0.0,0.0,0.0,0.0,{"$f":"SUM(G103:L103)","v":169},{"$f":"COUNTIF(G103:L103, \">0\" )","v":1},{"$f":"IF(N103=0,0,M103/N103)","v":169}]
[null,{"$f":"Roster_Selection_Men!AF288&\" \" & \"JV1 \"","v":"Oklahoma Christian University JV1 "},{"$f":"Roster_Selection_Men!AH288","v":"19-57818"},{"$f":"Roster_Selection_Men!AI288","v":"Caleb Kelley"},null,{"$f":"IF(ISERROR(Baker_Scores_Men_JV!E104), \" \", IF(Baker_Scores_Men_JV!E104 = \"Yes\", \"Yes\", \"  \"))","v":"  "},203.0,171.0,169.0,205.0,184.0,148.0,1080,6,180]
[null,{"$f":"Roster_Selection_Men!AF289&\" \" & \"JV1 \"","v":"Oklahoma Christian University JV1 "},{"$f":"Roster_Selection_Men!AH289","v":"11-506954"},{"$f":"Roster_Selection_Men!AI289","v":"Carter Robinson"},null,{"$f":"IF(ISERROR(Baker_Scores_Men_JV!E105), \" \", IF(Baker_Scores_Men_JV!E105 = \"Yes\", \"Yes\", \"  \"))","v":"  "},193.0,173.0,160.0,0.0,0.0,0.0,526,3,175.3333333]
[null,{"$f":"Roster_Selection_Men!AF290&\" \" & \"JV1 \"","v":"Oklahoma Christian University JV1 "},{"$f":"Roster_Selection_Men!AH290","v":"17-15383"},{"$f":"Roster_Selection_Men!AI290","v":"Dalton Smith"},null,{"$f":"IF(ISERROR(Baker_Scores_Men_JV!E106), \" \", IF(Baker_Scores_Men_JV!E106 = \"Yes\", \"Yes\", \"  \"))","v":"  "},187.0,187.0,226.0,226.0,173.0,171.0,1170,6,195]
[null,{"$f":"Roster_Selection_Men!AF291&\" \" & \"JV1 \"","v":"Oklahoma Christian University JV1 "},{"$f":"Roster_Selection_Men!AH291","v":"6507-8681"},{"$f":"Roster_Selection_Men!AI291","v":"James Jackson"},null,{"$f":"IF(ISERROR(Baker_Scores_Men_JV!E107), \" \", IF(Baker_Scores_Men_JV!E107 = \"Yes\", \"Yes\", \"  \"))","v":"  "},0.0,0.0,224.0,199.0,226.0,217.0,866,4,216.5]
[null,{"$f":"Roster_Selection_Men!AF292&\" \" & \"JV1 \"","v":"Oklahoma Christian University JV1 "},{"$f":"Roster_Selection_Men!AH292","v":"11-400036"},{"$f":"Roster_Selection_Men!AI292","v":"Jaylon Jackson"},null,{"$f":"IF(ISERROR(Baker_Scores_Men_JV!E108), \" \", IF(Baker_Scores_Men_JV!E108 = \"Yes\", \"Yes\", \"  \"))","v":"  "},123.0,0.0,0.0,203.0,222.0,187.0,735,4,183.75]
[null,{"$f":"Roster_Selection_Men!AF293&\" \" & \"JV1 \"","v":"Oklahoma Christian University JV1 "},{"$f":"Roster_Selection_Men!AH293","v":"22-1764"},{"$f":"Roster_Selection_Men!AI293","v":"Joshua Drouin"},null,{"$f":"IF(ISERROR(Baker_Scores_Men_JV!E109), \" \", IF(Baker_Scores_Men_JV!E109 = \"Yes\", \"Yes\", \"  \"))","v":"  "},177.0,177.0,165.0,195.0,195.0,251.0,1160,6,193.3333333]
[null,{"$f":"Roster_Selection_Men!AF294&\" \" & \"JV1 \"","v":"Oklahoma Christian University JV1 "},{"$f":"Roster_Selection_Men!AH294","v":"16-86986"},{"$f":"Roster_Selection_Men!AI294","v":"Travis Sorola"},null,{"$f":"IF(ISERROR(Baker_Scores_Men_JV!E110), \" \", IF(Baker_Scores_Men_JV!E110 = \"Yes\", \"Yes\", \"  \"))","v":"  "},0.0,0.0,0.0,0.0,0.0,0.0,0,0,0]
[null,"Oklahoma Christian University JV1","","",{"$nulls":8},0,0,0]
[null,"Oklahoma Christian University JV1","","",{"$nulls":8},0,0,0]
[null,"Oklahoma Christian University JV1","","",{"$nulls":8},0,0,0]
[{"$nulls":6},{"$f":"SUM(G103:G113)","v":883},877,944,1028,1000,974,5706,30]
[]
[null,{"$f":"Roster_Selection_Men!AF324&\" \" & \"JV1 \"","v":"Ottawa University (KS) JV1 "},{"$f":"Roster_Selection_Men!AH324","v":"11-663062"},{"$f":"Roster_Selection_Men!AI324","v":"Cole Clough"},null,{"$f":"IF(ISERROR(Baker_Scores_Men_JV!E116), \" \", IF(Baker_Scores_Men_JV!E116 = \"Yes\", \"Yes\", \"  \"))","v":"  "},0.0,224.0,265.0,234.0,135.0,0.0,{"$f":"SUM(G116:L116)","v":858},{"$f":"COUNTIF(G116:L116, \">0\" )","v":4},{"$f":"IF(N116=0,0,M116/N116)","v":214.5}]
[null,{"$f":"Roster_Selection_Men!AF325&\" \" & \"JV1 \"","v":"Ottawa University (KS) JV1 "},{"$f":"Roster_Selection_Men!AH325","v":"11-629159"},{"$f":"Roster_Selection_Men!AI325","v":"Ian Carpenter"},null,{"$f":"IF(ISERROR(Baker_Scores_Men_JV!E117), \" \", IF(Baker_Scores_Men_JV!E117 = \"Yes\", \"Yes\", \"  \"))","v":"  "},141.0,150.0,0.0,132.0,0.0,151.0,574,4,143.5]
[null,{"$f":"Roster_Selection_Men!AF326&\" \" & \"JV1 \"","v":"Ottawa University (KS) JV1 "},{"$f":"Roster_Selection_Men!AH326","v":"18-65090"},{"$f":"Roster_Selection_Men!AI326","v":"Josh King"},null,{"$f":"IF(ISERROR(Baker_Scores_Men_JV!E118), \" \", IF(Baker_Scores_Men_JV!E118 = \"Yes\", \"Yes\", \"  \"))","v":"  "},189.0,207.0,182.0,174.0,178.0,153.0,1083,6,180.5]
[null,{"$f":"Roster_Selection_Men!AF327&\" \" & \"JV1 \"","v":"Ottawa University (KS) JV1 "},{"$f":"Roster_Selection_Men!AH327","v":"19-44138"},{"$f":"Roster_Selection_Men!AI327","v":"Joshua Bauder"},null,{"$f":"IF(ISERROR(Baker_Scores_Men_JV!E119), \" \", IF(Baker_Scores_Men_JV!E119 = \"Yes\", \"Yes\", \"  \"))","v":"  "},93.0,0.0,142.0,0.0,160.0,180.0,575,4,143.75]
[null,{"$f":"Roster_Selection_Men!AF328&\" \" & \"JV1 \"","v":"Ottawa University (KS) JV1 "},{"$f":"Roster_Selection_Men!AH328","v":"16-124170"},{"$f":"Roster_Selection_Men!AI328","v":"Justin Weddige"},null,{"$f":"IF(ISERROR(Baker_Scores_Men_JV!E120), \" \", IF(Baker_Scores_Men_JV!E120 = \"Yes\", \"Yes\", \"  \"))","v":"  "},217.0,220.0,181.0,241.0,210.0,174.0,1243,6,207.1666667]
[null,{"$f":"Roster_Selection_Men!AF329&\" \" & \"JV1 \"","v":"Ottawa University (KS) JV1 "},{"$f":"Roster_Selection_Men!AH329","v":"8216-1716"},{"$f":"Roster_Selection_Men!AI329","v":"Kaden Whitehurst"},null,{"$f":"IF(ISERROR(Baker_Scores_Men_JV!E121), \" \", IF(Baker_Scores_Men_JV!E121 = \"Yes\", \"Yes\", \"  \"))","v":"  "},195.0,200.0,205.0,188.0,203.0,186.0,1177,6,196.1666667]
[null,{"$f":"Roster_Selection_Men!AF330&\" \" & \"JV1 \"","v":" JV1 "},{"$f":"Roster_Selection_Men!AH330","v":""},{"$f":"Roster_Selection_Men!AI330","v":""},null,{"$f":"IF(ISERROR(Baker_Scores_Men_JV!E122), \" \", IF(Baker_Scores_Men_JV!E122 = \"Yes\", \"Yes\", \"  \"))","v":"  "},0.0,0.0,0.0,0.0,0.0,0.0,0,0,0]
[null,{"$f":"Roster_Selection_Men!AF331&\" \" & \"JV1 \"","v":" JV1 "},{"$f":"Roster_Selection_Men!AH331","v":""},{"$f":"Roster_Selection_Men!AI331","v":""},null,{"$f":"IF(ISERROR(Baker_Scores_Men_JV!E123), \" \", IF(Baker_Scores_Men_JV!E123 = \"Yes\", \"Yes\", \"  \"))","v":"  "},0.0,0.0,0.0,0.0,0.0,0.0,0,0,0]
[null,"Ottawa University (KS) JV1","","",{"$nulls":8},0,0,0]
[null,"Ottawa University (KS) JV1","","",{"$nulls":8},0,0,0]
[null,"Ottawa University (KS) JV1","","",{"$nulls":8},0,0,0]
[{"$nulls":6},{"$f":"SUM(G116:G126)","v":835},1001,975,969,886,844,5510,30]
[]
[null,{"$f":"Roster_Selection_Men!AF355&\" \" & \"JV1 \"","v":"St. Ambrose University JV1 "},{"$f":"Roster_Selection_Men!AH355","v":"11-288359"},{"$f":"Roster_Selection_Men!AI355","v":"Alexander Nolan"},null,{"$f":"IF(ISERROR(Baker_Scores_Men_JV!E129), \" \", IF(Baker_Scores_Men_JV!E129 = \"Yes\", \"Yes\", \"  \"))","v":"  "},0.0,0.0,210.0,231.0,251.0,230.0,{"$f":"SUM(G129:L129)","v":922},{"$f":"COUNTIF(G129:L129, \">0\" )","v":4},{"$f":"IF(N129=0,0,M129/N129)","v":230.5}]
[null,{"$f":"Roster_Selection_Men!AF356&\" \" & \"JV1 \"","v":"St. Ambrose University JV1 "},{"$f":"Roster_Selection_Men!AH356","v":"11-71264"},{"$f":"Roster_Selection_Men!AI356","v":"Alton Barber"},null,{"$f":"IF(ISERROR(Baker_Scores_Men_JV!E130), \" \", IF(Baker_Scores_Men_JV!E130 = \"Yes\", \"Yes\", \"  \"))","v":"  "},0.0,0.0,159.0,0.0,0.0,0.0,159,1,159]
[null,{"$f":"Roster_Selection_Men!AF357&\" \" & \"JV1 \"","v":"St. Ambrose University JV1 "},{"$f":"Roster_Selection_Men!AH357","v":"8947-49201"},{"$f":"Roster_Selection_Men!AI357","v":"Anthony Mastroianni"},null,{"$f":"IF(ISERROR(Baker_Scores_Men_JV!E131), \" \", IF(Baker_Scores_Men_JV!E131 = \"Yes\", \"Yes\", \"  \"))","v":"  "},171.0,219.0,168.0,174.0,164.0,0.0,896,5,179.2]
[null,{"$f":"Roster_Selection_Men!AF358&\" \" & \"JV1 \"","v":"St. Ambrose University JV1 "},{"$f":"Roster_Selection_Men!AH358","v":"11-395386"},{"$f":"Roster_Selection_Men!AI358","v":"Brendan De Werth"},null,{"$f":"IF(ISERROR(Baker_Scores_Men_JV!E132), \" \", IF(Baker_Scores_Men_JV!E132 = \"Yes\", \"Yes\", \"  \"))","v":"  "},0.0,0.0,0.0,198.0,205.0,188.0,591,3,197]
[null,{"$f":"Roster_Selection_Men!AF359&\" \" & \"JV1 \"","v":"St. Ambrose University JV1 "},{"$f":"Roster_Selection_Men!AH359","v":"11-76593"},{"$f":"Roster_Selection_Men!AI359","v":"Caleb Gillmore"},null,{"$f":"IF(ISERROR(Baker_Scores_Men_JV!E133), \" \", IF(Baker_Scores_Men_JV!E133 = \"Yes\", \"Yes\", \"  \"))","v":"  "},154.0,172.0,0.0,0.0,0.0,0.0,326,2,163]
[null,{"$f":"Roster_Selection_Men!AF360&\" \" & \"JV1 \"","v":"St. Ambrose University JV1 "},{"$f":"Roster_Selection_Men!AH360","v":"5816-1483"},{"$f":"Roster_Selection_Men!AI360","v":"Corey Roth"},null,{"$f":"IF(ISERROR(Baker_Scores_Men_JV!E134), \" \", IF(Baker_Scores_Men_JV!E134 = \"Yes\", \"Yes\", \"  \"))","v":"  "},115.0,187.0,254.0,165.0,191.0,212.0,1124,6,187.3333333]
[null,{"$f":"Roster_Selection_Men!AF361&\" \" & \"JV1 \"","v":"St. Ambrose University JV1 "},{"$f":"Roster_Selection_Men!AH361","v":"11-370860"},{"$f":"Roster_Selection_Men!AI361","v":"Jorell Morris"},null,{"$f":"IF(ISERROR(Baker_Scores_Men_JV!E135), \" \", IF(Baker_Scores_Men_JV!E135 = \"Yes\", \"Yes\", \"  \"))","v":"  "},204.0,191.0,201.0,209.0,203.0,237.0,1245,6,207.5]
[null,{"$f":"Roster_Selection_Men!AF362&\" \" & \"JV1 \"","v":"St. Ambrose University JV1 "},{"$f":"Roster_Selection_Men!AH362","v":"16-71962"},{"$f":"Roster_Selection_Men!AI362","v":"Justin Kennedy"},null,{"$f":"IF(ISERROR(Baker_Scores_Men_JV!E136), \" \", IF(Baker_Scores_Men_JV!E136 = \"Yes\", \"Yes\", \"  \"))","v":"  "},170.0,156.0,0.0,0.0,0.0,145.0,471,3,157]
[null,"St. Ambrose University JV1","","",{"$nulls":8},0,0,0]
[null,"St. Ambrose University JV1","","",{"$nulls":8},0,0,0]
[null,"St. Ambrose University JV1","","",{"$nulls":8},0,0,0]
[{"$nulls":6},{"$f":"SUM(G129:G139)","v":814},925,992,977,1014,1012,5734,30]
[]
[null,{"$f":"Roster_Selection_Men!AF410&\" \" & \"JV1 \"","v":"Wichita State University JV1 "},{"$f":"Roster_Selection_Men!AH410","v":"11-719521"},{"$f":"Roster_Selection_Men!AI410","v":"Brandon Caruso"},null,{"$f":"IF(ISERROR(Baker_Scores_Men_JV!E142), \" \", IF(Baker_Scores_Men_JV!E142 = \"Yes\", \"Yes\", \"  \"))","v":"  "},259.0,226.0,233.0,183.0,258.0,179.0,{"$f":"SUM(G142:L142)","v":1338},{"$f":"COUNTIF(G142:L142, \">0\" )","v":6},{"$f":"IF(N142=0,0,M142/N142)","v":223}]
[null,{"$f":"Roster_Selection_Men!AF411&\" \" & \"JV1 \"","v":"Wichita State University JV1 "},{"$f":"Roster_Selection_Men!AH411","v":"5900-27892"},{"$f":"Roster_Selection_Men!AI411","v":"Brandon Collins"},null,{"$f":"IF(ISERROR(Baker_Scores_Men_JV!E143), \" \", IF(Baker_Scores_Men_JV!E143 = \"Yes\", \"Yes\", \"  \"))","v":"  "},169.0,247.0,170.0,226.0,203.0,177.0,1192,6,198.6666667]
[null,{"$f":"Roster_Selection_Men!AF412&\" \" & \"JV1 \"","v":"Wichita State University JV1 "},{"$f":"Roster_Selection_Men!AH412","v":"7914-45013"},{"$f":"Roster_Selection_Men!AI412","v":"Carter Street"},null,{"$f":"IF(ISERROR(Baker_Scores_Men_JV!E144), \" \", IF(Baker_Scores_Men_JV!E144 = \"Yes\", \"Yes\", \"  \"))","v":"  "},237.0,215.0,185.0,268.0,191.0,243.0,1339,6,223.1666667]
[null,{"$f":"Roster_Selection_Men!AF413&\" \" & \"JV1 \"","v":"Wichita State University JV1 "},{"$f":"Roster_Selection_Men!AH413","v":"5900-26986"},{"$f":"Roster_Selection_Men!AI413","v":"Samuel Calderon"},null,{"$f":"IF(ISERROR(Baker_Scores_Men_JV!E145), \" \", IF(Baker_Scores_Men_JV!E145 = \"Yes\", \"Yes\", \"  \"))","v":"  "},235.0,198.0,253.0,203.0,223.0,256.0,1368,6,228]
[null,{"$f":"Roster_Selection_Men!AF414&\" \" & \"JV1 \"","v":"Wichita State University JV1 "},{"$f":"Roster_Selection_Men!AH414","v":"5617-4286"},{"$f":"Roster_Selection_Men!AI414","v":"Zachary Leshikar"},null,{"$f":"IF(ISERROR(Baker_Scores_Men_JV!E146), \" \", IF(Baker_Scores_Men_JV!E146 = \"Yes\", \"Yes\", \"  \"))","v":"  "},189.0,180.0,254.0,244.0,256.0,223.0,1346,6,224.3333333]
[null,{"$f":"Roster_Selection_Men!AF415&\" \" & \"JV1 \"","v":" JV1 "},{"$f":"Roster_Selection_Men!AH415","v":""},{"$f":"Roster_Selection_Men!AI415","v":""},null,{"$f":"IF(ISERROR(Baker_Scores_Men_JV!E147), \" \", IF(Baker_Scores_Men_JV!E147 = \"Yes\", \"Yes\", \"  \"))","v":"  "},0.0,0.0,0.0,0.0,0.0,0.0,0,0,0]
[null,{"$f":"Roster_Selection_Men!AF416&\" \" & \"JV1 \"","v":" JV1 "},{"$f":"Roster_Selection_Men!AH416","v":""},{"$f":"Roster_Selection_Men!AI416","v":""},null,{"$f":"IF(ISERROR(Baker_Scores_Men_JV!E148), \" \", IF(Baker_Scores_Men_JV!E148 = \"Yes\", \"Yes\", \"  \"))","v":"  "},0.0,0.0,0.0,0.0,0.0,0.0,0,0,0]
[null,{"$f":"Roster_Selection_Men!AF417&\" \" & \"JV1 \"","v":" JV1 "},{"$f":"Roster_Selection_Men!AH417","v":""},{"$f":"Roster_Selection_Men!AI417","v":""},null,{"$f":"IF(ISERROR(Baker_Scores_Men_JV!E149), \" \", IF(Baker_Scores_Men_JV!E149 = \"Yes\", \"Yes\", \"  \"))","v":"  "},0.0,0.0,0.0,0.0,0.0,0.0,0,0,0]
[null,"Wichita State University JV1","","",{"$nulls":8},0,0,0]
[null,"Wichita State University JV1","","",{"$nulls":8},0,0,0]
[null,"Wichita State University JV1","","",{"$nulls":8},0,0,0]
[{"$nulls":6},{"$f":"SUM(G142:G152)","v":1089},1066,1095,1124,1131,1078,6583,30]
[]
[null,{"$f":"Roster_Selection_Men!AJ410&\" \" & \"JV2 \"","v":"Wichita State University JV2 "},{"$f":"Roster_Selection_Men!AL410","v":"11-553047"},{"$f":"Roster_Selection_Men!AM410","v":"Aidan Baker"},null,{"$f":"IF(ISERROR(Baker_Scores_Men_JV!E155), \" \", IF(Baker_Scores_Men_JV!E155 = \"Yes\", \"Yes\", \"  \"))","v":"  "},151.0,0.0,143.0,0.0,173.0,181.0,{"$f":"SUM(G155:L155)","v":648},{"$f":"COUNTIF(G155:L155, \">0\" )","v":4},{"$f":"IF(N155=0,0,M155/N155)","v":162}]
[null,{"$f":"Roster_Selection_Men!AJ411&\" \" & \"JV2 \"","v":"Wichita State University JV2 "},{"$f":"Roster_Selection_Men!AL411","v":"8599-56155"},{"$f":"Roster_Selection_Men!AM411","v":"Alex Harms"},null,{"$f":"IF(ISERROR(Baker_Scores_Men_JV!E156), \" \", IF(Baker_Scores_Men_JV!E156 = \"Yes\", \"Yes\", \"  \"))","v":"  "},0.0,158.0,0.0,206.0,200.0,146.0,710,4,177.5]
[null,{"$f":"Roster_Selection_Men!AJ412&\" \" & \"JV2 \"","v":"Wichita State University JV2 "},{"$f":"Roster_Selection_Men!AL412","v":"11-88267"},{"$f":"Roster_Selection_Men!AM412","v":"Brady Jennings"},null,{"$f":"IF(ISERROR(Baker_Scores_Men_JV!E157), \" \", IF(Baker_Scores_Men_JV!E157 = \"Yes\", \"Yes\", \"  \"))","v":"  "},160.0,166.0,151.0,183.0,0.0,192.0,852,5,170.4]
[null,{"$f":"Roster_Selection_Men!AJ413&\" \" & \"JV2 \"","v":"Wichita State University JV2 "},{"$f":"Roster_Selection_Men!AL413","v":"7914-43393"},{"$f":"Roster_Selection_Men!AM413","v":"Louis Luna"},null,{"$f":"IF(ISERROR(Baker_Scores_Men_JV!E158), \" \", IF(Baker_Scores_Men_JV!E158 = \"Yes\", \"Yes\", \"  \"))","v":"  "},172.0,289.0,212.0,264.0,193.0,188.0,1318,6,219.6666667]
[null,{"$f":"Roster_Selection_Men!AJ414&\" \" & \"JV2 \"","v":"Wichita State University JV2 "},{"$f":"Roster_Selection_Men!AL414","v":"8219-86694"},{"$f":"Roster_Selection_Men!AM414","v":"Marcus Cole"},null,{"$f":"IF(ISERROR(Baker_Scores_Men_JV!E159), \" \", IF(Baker_Scores_Men_JV!E159 = \"Yes\", \"Yes\", \"  \"))","v":"  "},234.0,193.0,191.0,214.0,170.0,0.0,1002,5,200.4]
[null,{"$f":"Roster_Selection_Men!AJ415&\" \" & \"JV2 \"","v":"Wichita State University JV2 "},{"$f":"Roster_Selection_Men!AL415","v":"17-34053"},{"$f":"Roster_Selection_Men!AM415","v":"Ty'un Mattison"},null,{"$f":"IF(ISERROR(Baker_Scores_Men_JV!E160), \" \", IF(Baker_Scores_Men_JV!E160 = \"Yes\", \"Yes\", \"  \"))","v":"  "},239.0,204.0,236.0,204.0,215.0,223.0,1321,6,220.1666667]
[null,{"$f":"Roster_Selection_Men!AJ416&\" \" & \"JV2 \"","v":" JV2 "},{"$f":"Roster_Selection_Men!AL416","v":""},{"$f":"Roster_Selection_Men!AM416","v":""},null,{"$f":"IF(ISERROR(Baker_Scores_Men_JV!E161), \" \", IF(Baker_Scores_Men_JV!E161 = \"Yes\", \"Yes\", \"  \"))","v":"  "},0.0,0.0,0.0,0.0,0.0,0.0,0,0,0]
[null,{"$f":"Roster_Selection_Men!AJ417&\" \" & \"JV2 \"","v":" JV2 "},{"$f":"Roster_Selection_Men!AL417","v":""},{"$f":"Roster_Selection_Men!AM417","v":""},null,{"$f":"IF(ISERROR(Baker_Scores_Men_JV!E162), \" \", IF(Baker_Scores_Men_JV!E162 = \"Yes\", \"Yes\", \"  \"))","v":"  "},0.0,0.0,0.0,0.0,0.0,0.0,0,0,0]
[null,"Wichita State University JV2","","",{"$nulls":8},0,0,0]
[null,"Wichita State University JV2","","",{"$nulls":8},0,0,0]
[null,"Wichita State University JV2","","",{"$nulls":8},0,0,0]
[{"$nulls":6},{"$f":"SUM(G155:G165)","v":956},1010,933,1071,951,930,5851,30]
[]
[]
[]
[]
[{"$nulls":4},"Team Totals",null,{"$f":"SUM(G23,G36,G49,G62,G75,G88,G101,G114,G127,G140,G153,G166)","v":9940},10237,10364,10722,10240,10226,61729,330,{"$nulls":37},"*"]
[{"$nulls":4},"Team Game Average",null,{"$f":"SUM(G171/(12))","v":828.3333333},853.0833333,863.6666667,893.5,853.3333333,852.1666667]

{"sheet":"Baker_Scores_Men_Var","index":3,"n_rows":1492,"n_cols":107,"rows_kept":1492,"cut":false,"hidden":false,"merged":[[0,1,0,14]]}
[null,"Baker Team Scores"]
[{"$nulls":51},"Yes"]
[null,"Mid States Championships (Tier I Men)",{"$nulls":49},"No"]
[null,"Tier 1","USBC",{"$nulls":12},"1201","6","20","5","2.9","2.9",null,null,"7",{"$nulls":29},"IBCYouth"]
[null,"<<Dates>>","<<Event#>>","10/15/2022 - 10/16/2022"]
[null,"<<Location>>",null,"Wichita, KS"]
[]
[null,"Men's Division",null,"Cert No:","05700"]
[null,"Division"]
[{"$nulls":7},"Game","Game","Game","Game","Game","Game","Game","Game","Game","Game","Game","Game","Game","Game","Game","Game","Game","Game","Game","Game"," ","Games","Tourn."," "," "," "," "," "," "," "," "," "," "," "," "," "," "," "," "," "," "," "," "," "," "," "," "," "," "," "," "," "," "," "," "," "," "," "," "," "," "," "," "," "," "," "," "," "," "," "," "," "," "," "," "," "," "," "," "," "," "," "," "," "," "," "," "," "," "," "," "," "," "," "," "," "," "," "," "," "]
[null,"Team","Bowler ID","Bowler","Bowled","Bowled Traditional",null,1.0,2.0,3.0,4.0,5.0,6.0,7.0,8.0,9.0,10.0,11.0,12.0,13.0,14.0,15.0,16.0,17.0,18.0,19.0,20.0,"Total","Bowled","Ave."]
[null,{"$f":"Roster_Selection_Men!AB11&\" \" & \"V \"","v":"Avila University V "},{"$f":"Roster_Selection_Men!AD11","v":"19-81745"},{"$f":"Roster_Selection_Men!AE11","v":"Aidan Tesdall"},null,{"$f":"IF(ISERROR(Individual_Scores_Men_Var!E12), \" \", IF(Individual_Scores_Men_Var!E12 = \"Yes\", \"Yes\", \"  \"))","v":"  "},"Games",138.0,156.0,233.0,213.0,159.0,210.0,170.0,204.0,192.0,225.0,195.0,186.0,186.0,216.0,156.0,214.0,151.0,167.0,186.0,172.0,{"$f":"SUM(H12:AA12)","v":3729},{"$f":"COUNTIF(H12:AA12, \">0\" )","v":20},{"$f":"AB12/AC12","v":186.45}," "," "," "," "," "," "," "," "," "," "," "," "," "," "," "," "," "," "," "," "," "," "," "," "," "," "," "," "," "," "," "," "," "," "," "," "," "," "," "," "," "," "," "," "," "," "," "," "," "," "]
[null,{"$f":"Roster_Selection_Men!AB12&\" \" & \"V \"","v":"Avila University V "},{"$f":"Roster_Selection_Men!AD12","v":"11-392672"},{"$f":"Roster_Selection_Men!AE12","v":"Brody Stanback"},null,{"$f":"IF(ISERROR(Individual_Scores_Men_Var!E13), \" \", IF(Individual_Scores_Men_Var!E13 = \"Yes\", \"Yes\", \"  \"))","v":"  "}," "," "," "," "," "," "," "," "," "," "," "," "," "," "," "," "," "," "," "," "," "," "," "," "," "," "," "," "," "," "," "," "," "," "," "," "," "," "," "," "," "," "," "," "," "," "," "," "," "," "," "," "," "," "," "," "," "," "," "," "," "," "," "," "," "," "," "," "," "," "," "," "," "," "]
[null,{"$f":"Roster_Selection_Men!AB13&\" \" & \"V \"","v":"Avila University V "},{"$f":"Roster_Selection_Men!AD13","v":"8599-78423"},{"$f":"Roster_Selection_Men!AE13","v":"Bryce Stewart"},null,{"$f":"IF(ISERROR(Individual_Scores_Men_Var!E14), \" \", IF(Individual_Scores_Men_Var!E14 = \"Yes\", \"Yes\", \"  \"))","v":"  "}," "," "," "," "," "," "," "," "," "," "," "," "," "," "," "," "," "," "," "," "," "," "," "," "," "," "," "," "," "," "," "," "," "," "," "," "," "," "," "," "," "," "," "," "," "," "," "," "," "," "," "," "," "," "," "," "," "," "," "," "," "," "," "," "," "," "," "," "," "," "," "," "," "," "]
[null,{"$f":"Roster_Selection_Men!AB14&\" \" & \"V \"","v":"Avila University V "},{"$f":"Roster_Selection_Men!AD14","v":"11-485194"},{"$f":"Roster_Selection_Men!AE14","v":"Caleb Wangler"},null,{"$f":"IF(ISERROR(Individual_Scores_Men_Var!E15), \" \", IF(Individual_Scores_Men_Var!E15 = \"Yes\", \"Yes\", \"  \"))","v":"  "}," "," "," "," "," "," "," "," "," "," "," "," "," "," "," "," "," "," "," "," "," "," "," "," "," "," "," "," "," "," "," "," "," "," "," "," "," "," "," "," "," "," "," "," "," "," "," "," "," "," "," "," "," "," "," "," "," "," "," "," "," "," "," "," "," "," "," "," "," "," "," "," "," "," "]
[null,{"$f":"Roster_Selection_Men!AB15&\" \" & \"V \"","v":"Avila University V "},{"$f":"Roster_Selection_Men!AD15","v":"15-18094"},{"$f":"Roster_Selection_Men!AE15","v":"Evan Serrage"},null,{"$f":"IF(ISERROR(Individual_Scores_Men_Var!E16), \" \", IF(Individual_Scores_Men_Var!E16 = \"Yes\", \"Yes\", \"  \"))","v":"  "}," "," "," "," "," "," "," "," "," "," "," "," "," "," "," "," "," "," "," "," "," "," "," "," "," "," "," "," "," "," "," "," "," "," "," "," "," "," "," "," "," "," "," "," "," "," "," "," "," "," "," "," "," "," "," "," "," "," "," "," "," "," "," "," "," "," "," "," "," "," "," "," "," "," "]
[null,{"$f":"Roster_Selection_Men!AB16&\" \" & \"V \"","v":"Avila University V "},{"$f":"Roster_Selection_Men!AD16","v":"21-11945"},{"$f":"Roster_Selection_Men!AE16","v":"Max Sturgeon"},null,{"$f":"IF(ISERROR(Individual_Scores_Men_Var!E17), \" \", IF(Individual_Scores_Men_Var!E17 = \"Yes\", \"Yes\", \"  \"))","v":"  "}," "," "," "," "," "," "," "," "," "," "," "," "," "," "," "," "," "," "," "," "," "," "," "," "," "," "," "," "," "," "," "," "," "," "," "," "," "," "," "," "," "," "," "," "," "," "," "," "," "," "," "," "," "," "," "," "," "," "," "," "," "," "," "," "," "," "," "," "," "," "," "," "," "," "]
[null,{"$f":"Roster_Selection_Men!AB17&\" \" & \"V \"","v":"Avila University V "},{"$f":"Roster_Selection_Men!AD17","v":"11-280786"},{"$f":"Roster_Selection_Men!AE17","v":"Nicholas Hays"},null,{"$f":"IF(ISERROR(Individual_Scores_Men_Var!E18), \" \", IF(Individual_Scores_Men_Var!E18 = \"Yes\", \"Yes\", \"  \"))","v":"  "}," "," "," "," "," "," "," "," "," "," "," "," "," "," "," "," "," "," "," "," "," "," "," "," "," "," "," "," "," "," "," "," "," "," "," "," "," "," "," "," "," "," "," "," "," "," "," "," "," "," "," "," "," "," "," "," "," "," "," "," "," "," "," "," "," "," "," "," "," "," "," "," "," "," "]
[null,{"$f":"Roster_Selection_Men!AB18&\" \" & \"V \"","v":"Avila University V "},{"$f":"Roster_Selection_Men!AD18","v":"11-429373"},{"$f":"Roster_Selection_Men!AE18","v":"Wesley Smith"},null,{"$f":"IF(ISERROR(Individual_Scores_Men_Var!E19), \" \", IF(Individual_Scores_Men_Var!E19 = \"Yes\", \"Yes\", \"  \"))","v":"  "}," "," "," "," "," "," "," "," "," "," "," "," "," "," "," "," "," "," "," "," "," "," "," "," "," "," "," "," "," "," "," "," "," "," "," "," "," "," "," "," "," "," "," "," "," "," "," "," "," "," "," "," "," "," "," "," "," "," "," "," "," "," "," "," "," "," "," "," "," "," "," "," "," "," "]
[null,"Avila University V",{"$f":"Individual_Scores_Men_Var!C20","v":""},{"$f":"Individual_Scores_Men_Var!D20","v":""},null,null," "," "," "," "," "," "," "," "," "," "," "," "," "," "," "," "," "," "," "," "," "," "," "," "," "," "," "," "," "," "," "," "," "," "," "," "," "," "," "," "," "," "," "," "," "," "," "," "," "," "," "," "," "," "," "," "," "," "," "," "," "," "," "," "," "," "," "," "," "," "," "," "," "," "]
[null,"Avila University V",{"$f":"Individual_Scores_Men_Var!C21","v":""},{"$f":"Individual_Scores_Men_Var!D21","v":""},null,null," "," "," "," "," "," "," "," "," "," "," "," "," "," "," "," "," "," "," "," "," "," "," "," "," "," "," "," "," "," "," "," "," "," "," "," "," "," "," "," "," "," "," "," "," "," "," "," "," "," "," "," "," "," "," "," "," "," "," "," "," "," "," "," "," "," "," "," "," "," "," "," "," "," "]
[null,"Avila University V",{"$f":"Individual_Scores_Men_Var!C22","v":""},{"$f":"Individual_Scores_Men_Var!D22","v":""},null,null," "," "," "," "," "," "," "," "," "," "," "," "," "," "," "," "," "," "," "," "," "," "," "," "," "," "," "," "," "," "," "," "," "," "," "," "," "," "," "," "," "," "," "," "," "," "," "," "," "," "," "," "," "," "," "," "," "," "," "," "," "," "," "," "," "," "," "," "," "," "," "," "," "," "]
[null," "," "," ",null,null," "," "," "," "," "," "," "," "," "," "," "," "," "," "," "," "," "," "," "," "," "," "," "," "," "," "," "," "," "," "," "," "," "," "," "," "," "," "," "," "," "," "," "," "," "," "," "," "," "," "," "," "," "," "," "," "," "," "," "," "," "," "," "," "," "," "," "," "," "," "," "," "," "," "]
[null," "," "," ",null,null," "," "," "," "," "," "," "," "," "," "," "," "," "," "," "," "," "," "," "," "," "," "," "," "," "," "," "," "," "," "," "," "," "," "," "," "," "," "," "," "," "," "," "," "," "," "," "," "," "," "," "," "," "," "," "," "," "," "," "," "," "," "," "," "," "," "," "," "," "," "," "," "," "," "]
[null,{"$f":"Roster_Selection_Men!AB22&\" \" & \"V \"","v":"Baker University V "},{"$f":"Roster_Selection_Men!AD22","v":"7914-6106"},{"$f":"Roster_Selection_Men!AE22","v":"Benjamin Banks"},null,{"$f":"IF(ISERROR(Individual_Scores_Men_Var!E25), \" \", IF(Individual_Scores_Men_Var!E25 = \"Yes\", \"Yes\", \"  \"))","v":"  "},"Games",193.0,223.0,145.0,189.0,173.0,155.0,208.0,176.0,144.0,203.0,193.0,162.0,145.0,171.0,187.0,189.0,165.0,174.0,219.0,195.0,{"$f":"SUM(H25:AA25)","v":3609},{"$f":"COUNTIF(H25:AA25, \">0\" )","v":20},{"$f":"AB25/AC25","v":180.45}," "," "," "," "," "," "," "," "," "," "," "," "," "," "," "," "," "," "," "," "," "," "," "," "," "," "," "," "," "," "," "," "," "," "," "," "," "," "," "," "," "," "," "," "," "," "," "," "," "," "]
[null,{"$f":"Roster_Selection_Men!AB23&\" \" & \"V \"","v":"Baker University V "},{"$f":"Roster_Selection_Men!AD23","v":"18-1332"},{"$f":"Roster_Selection_Men!AE23","v":"Brett Gamber"},null,{"$f":"IF(ISERROR(Individual_Scores_Men_Var!E26), \" \", IF(Individual_Scores_Men_Var!E26 = \"Yes\", \"Yes\", \"  \"))","v":"  "}," "," "," "," "," "," "," "," "," "," "," "," "," "," "," "," "," "," "," "," "," "," "," "," "," "," "," "," "," "," "," "," "," "," "," "," "," "," "," "," "," "," "," "," "," "," "," "," "," "," "," "," "," "," "," "," "," "," "," "," "," "," "," "," "," "," "," "," "," "," "," "," "," "," "]
[null,{"$f":"Roster_Selection_Men!AB24&\" \" & \"V \"","v":"Baker University V "},{"$f":"Roster_Selection_Men!AD24","v":"11-246267"},{"$f":"Roster_Selection_Men!AE24","v":"Dillon Harris"},null,{"$f":"IF(ISERROR(Individual_Scores_Men_Var!E27), \" \", IF(Individual_Scores_Men_Var!E27 = \"Yes\", \"Yes\", \"  \"))","v":"  "}," "," "," "," "," "," "," "," "," "," "," "," "," "," "," "," "," "," "," "," "," "," "," "," "," "," "," "," "," "," "," "," "," "," "," "," "," "," "," "," "," "," "," "," "," "," "," "," "," "," "," "," "," "," "," "," "," "," "," "," "," "," "," "," "," "," "," "," "," "," "," "," "," "," "]
[null,{"$f":"Roster_Selection_Men!AB25&\" \" & \"V \"","v":"Baker University V "},{"$f":"Roster_Selection_Men!AD25","v":"18-43056"},{"$f":"Roster_Selection_Men!AE25","v":"Josh King"},null,{"$f":"IF(ISERROR(Individual_Scores_Men_Var!E28), \" \", IF(Individual_Scores_Men_Var!E28 = \"Yes\", \"Yes\", \"  \"))","v":"  "}," "," "," "," "," "," "," "," "," "," "," "," "," "," "," "," "," "," "," "," "," "," "," "," "," "," "," "," "," "," "," "," "," "," "," "," "," "," "," "," "," "," "," "," "," "," "," "," "," "," "," "," "," "," "," "," "," "," "," "," "," "," "," "," "," "," "," "," "," "," "," "," "," "," "]
[null,{"$f":"Roster_Selection_Men!AB26&\" \" & \"V \"","v":"Baker University V "},{"$f":"Roster_Selection_Men!AD26","v":"11-439937"},{"$f":"Roster_Selection_Men!AE26","v":"Tanner Eckerle"},null,{"$f":"IF(ISERROR(Individual_Scores_Men_Var!E29), \" \", IF(Individual_Scores_Men_Var!E29 = \"Yes\", \"Yes\", \"  \"))","v":"  "}," "," "," "," "," "," "," "," "," "," "," "," "," "," "," "," "," "," "," "," "," "," "," "," "," "," "," "," "," "," "," "," "," "," "," "," "," "," "," "," "," "," "," "," "," "," "," "," "," "," "," "," "," "," "," "," "," "," "," "," "," "," "," "," "," "," "," "," "," "," "," "," "," "," "]
[null,{"$f":"Roster_Selection_Men!AB27&\" \" & \"V \"","v":"Baker University V "},{"$f":"Roster_Selection_Men!AD27","v":"11-607472"},{"$f":"Roster_Selection_Men!AE27","v":"Trey Myers"},null,{"$f":"IF(ISERROR(Individual_Scores_Men_Var!E30), \" \", IF(Individual_Scores_Men_Var!E30 = \"Yes\", \"Yes\", \"  \"))","v":"  "}," "," "," "," "," "," "," "," "," "," "," "," "," "," "," "," "," "," "," "," "," "," "," "," "," "," "," "," "," "," "," "," "," "," "," "," "," "," "," "," "," "," "," "," "," "," "," "," "," "," "," "," "," "," "," "," "," "," "," "," "," "," "," "," "," "," "," "," "," "," "," "," "," "," "]
[null,{"$f":"Roster_Selection_Men!AB28&\" \" & \"V \"","v":"Baker University V "},{"$f":"Roster_Selection_Men!AD28","v":"17-89549"},{"$f":"Roster_Selection_Men!AE28","v":"Zachery Brehm"},null,{"$f":"IF(ISERROR(Individual_Scores_Men_Var!E31), \" \", IF(Individual_Scores_Men_Var!E31 = \"Yes\", \"Yes\", \"  \"))","v":"  "}," "," "," "," "," "," "," "," "," "," "," "," "," "," "," "," "," "," "," "," "," "," "," "," "," "," "," "," "," "," "," "," "," "," "," "," "," "," "," "," "," "," "," "," "," "," "," "," "," "," "," "," "," "," "," "," "," "," "," "," "," "," "," "," "," "," "," "," "," "," "," "," "," "," "]
[null,{"$f":"Roster_Selection_Men!AB29&\" \" & \"V \"","v":" V "},{"$f":"Roster_Selection_Men!AD29","v":""},{"$f":"Roster_Selection_Men!AE29","v":""},null,{"$f":"IF(ISERROR(Individual_Scores_Men_Var!E32), \" \", IF(Individual_Scores_Men_Var!E32 = \"Yes\", \"Yes\", \"  \"))","v":"  "}," "," "," "," "," "," "," "," "," "," "," "," "," "," "," "," "," "," "," "," "," "," "," "," "," "," "," "," "," "," "," "," "," "," "," "," "," "," "," "," "," "," "," "," "," "," "," "," "," "," "," "," "," "," "," "," "," "," "," "," "," "," "," "," "," "," "," "," "," "," "," "," "," "," "]
[null,"Baker University V",{"$f":"Individual_Scores_Men_Var!C33","v":""},{"$f":"Individual_Scores_Men_Var!D33","v":""},null,null," "," "," "," "," "," "," "," "," "," "," "," "," "," "," "," "," "," "," "," "," "," "," "," "," "," "," "," "," "," "," "," "," "," "," "," "," "," "," "," "," "," "," "," "," "," "," "," "," "," "," "," "," "," "," "," "," "," "," "," "," "," "," "," "," "," "," "," "," "," "," "," "," "," "]
[null,"Baker University V",{"$f":"Individual_Scores_Men_Var!C34","v":""},{"$f":"Individual_Scores_Men_Var!D34","v":""},null,null," "," "," "," "," "," "," "," "," "," "," "," "," "," "," "," "," "," "," "," "," "," "," "," "," "," "," "," "," "," "," "," "," "," "," "," "," "," "," "," "," "," "," "," "," "," "," "," "," "," "," "," "," "," "," "," "," "," "," "," "," "," "," "," "," "," "," "," "," "," "," "," "," "," "]
[null,"Baker University V",{"$f":"Individual_Scores_Men_Var!C35","v":""},{"$f":"Individual_Scores_Men_Var!D35","v":""},null,null," "," "," "," "," "," "," "," "," "," "," "," "," "," "," "," "," "," "," "," "," "," "," "," "," "," "," "," "," "," "," "," "," "," "," "," "," "," "," "," "," "," "," "," "," "," "," "," "," "," "," "," "," "," "," "," "," "," "," "," "," "," "," "," "," "," "," "," "," "," "," "," "," "," "]
[null," "," "," ",null,null," "," "," "," "," "," "," "," "," "," "," "," "," "," "," "," "," "," "," "," "," "," "," "," "," "," "," "," "," "," "," "," "," "," "," "," "," "," "," "," "," "," "," "," "," "," "," "," "," "," "," "," "," "," "," "," "," "," "," "," "," "," "," "," "," "," "," "," "," "," "," "," "," "," "]
[null," "," "," ",null,null," "," "," "," "," "," "," "," "," "," "," "," "," "," "," "," "," "," "," "," "," "," "," "," "," "," "," "," "," "," "," "," "," "," "," "," "," "," "," "," "," "," "," "," "," "," "," "," "," "," "," "," "," "," "," "," "," "," "," "," "," "," "," "," "," "," "," "," "," "," "," "," "," "," "]
[null,{"$f":"Roster_Selection_Men!AB42&\" \" & \"V \"","v":"Barton Community College V "},{"$f":"Roster_Selection_Men!AD42","v":"17-15924"},{"$f":"Roster_Selection_Men!AE42","v":"Braden Boswell"},null,{"$f":"IF(ISERROR(Individual_Scores_Men_Var!E38), \" \", IF(Individual_Scores_Men_Var!E38 = \"Yes\", \"Yes\", \"  \"))","v":"  "},"Games",181.0,191.0,171.0,197.0,151.0,148.0,161.0,207.0,152.0,214.0,148.0,156.0,202.0,194.0,187.0,201.0,168.0,192.0,226.0,235.0,{"$f":"SUM(H38:AA38)","v":3682},{"$f":"COUNTIF(H38:AA38, \">0\" )","v":20},{"$f":"AB38/AC38","v":184.1}," "," "," "," "," "," "," "," "," "," "," "," "," "," "," "," "," "," "," "," "," "," "," "," "," "," "," "," "," "," "," "," "," "," "," "," "," "," "," "," "," "," "," "," "," "," "," "," "," "," "]
[null,{"$f":"Roster_Selection_Men!AB43&\" \" & \"V \"","v":"Barton Community College V "},{"$f":"Roster_Selection_Men!AD43","v":"11-97260"},{"$f":"Roster_Selection_Men!AE43","v":"Bryce Moore"},null,{"$f":"IF(ISERROR(Individual_Scores_Men_Var!E39), \" \", IF(Individual_Scores_Men_Var!E39 = \"Yes\", \"Yes\", \"  \"))","v":"  "}," "," "," "," "," "," "," "," "," "," "," "," "," "," "," "," "," "," "," "," "," "," "," "," "," "," "," "," "," "," "," "," "," "," "," "," "," "," "," "," "," "," "," "," "," "," "," "," "," "," "," "," "," "," "," "," "," "," "," "," "," "," "," "," "," "," "," "," "," "," "," "," "," "," "]
[null,{"$f":"Roster_Selection_Men!AB44&\" \" & \"V \"","v":"Barton Community College V "},{"$f":"Roster_Selection_Men!AD44","v":"15-181271"},{"$f":"Roster_Selection_Men!AE44","v":"Caleb Carr"},null,{"$f":"IF(ISERROR(Individual_Scores_Men_Var!E40), \" \", IF(Individual_Scores_Men_Var!E40 = \"Yes\", \"Yes\", \"  \"))","v":"  "}," "," "," "," "," "," "," "," "," "," "," "," "," "," "," "," "," "," "," "," "," "," "," "," "," "," "," "," "," "," "," "," "," "," "," "," "," "," "," "," "," "," "," "," "," "," "," "," "," "," "," "," "," "," "," "," "," "," "," "," "," "," "," "," "," "," "," "," "," "," "," "," "," "," "]
[null,{"$f":"Roster_Selection_Men!AB45&\" \" & \"V \"","v":"Barton Community College V "},{"$f":"Roster_Selection_Men!AD45","v":"20-298"},{"$f":"Roster_Selection_Men!AE45","v":"Conner Eastman"},null,{"$f":"IF(ISERROR(Individual_Scores_Men_Var!E41), \" \", IF(Individual_Scores_Men_Var!E41 = \"Yes\", \"Yes\", \"  \"))","v":"  "}," "," "," "," "," "," "," "," "," "," "," "," "," "," "," "," "," "," "," "," "," "," "," "," "," "," "," "," "," "," "," "," "," "," "," "," "," "," "," "," "," "," "," "," "," "," "," "," "," "," "," "," "," "," "," "," "," "," "," "," "," "," "," "," "," "," "," "," "," "," "," "," "," "," "]
[null,{"$f":"Roster_Selection_Men!AB46&\" \" & \"V \"","v":"Barton Community College V "},{"$f":"Roster_Selection_Men!AD46","v":"16-165419"},{"$f":"Roster_Selection_Men!AE46","v":"Griffin Peterson"},null,{"$f":"IF(ISERROR(Individual_Scores_Men_Var!E42), \" \", IF(Individual_Scores_Men_Var!E42 = \"Yes\", \"Yes\", \"  \"))","v":"  "}," "," "," "," "," "," "," "," "," "," "," "," "," "," "," "," "," "," "," "," "," "," "," "," "," "," "," "," "," "," "," "," "," "," "," "," "," "," "," "," "," "," "," "," "," "," "," "," "," "," "," "," "," "," "," "," "," "," "," "," "," "," "," "," "," "," "," "," "," "," "," "," "," "," "]
[null,{"$f":"Roster_Selection_Men!AB47&\" \" & \"V \"","v":"Barton Community College V "},{"$f":"Roster_Selection_Men!AD47","v":"22-2676"},{"$f":"Roster_Selection_Men!AE47","v":"Oscar Rubio"},null,{"$f":"IF(ISERROR(Individual_Scores_Men_Var!E43), \" \", IF(Individual_Scores_Men_Var!E43 = \"Yes\", \"Yes\", \"  \"))","v":"  "}," "," "," "," "," "," "," "," "," "," "," "," "," "," "," "," "," "," "," "," "," "," "," "," "," "," "," "," "," "," "," "," "," "," "," "," "," "," "," "," "," "," "," "," "," "," "," "," "," "," "," "," "," "," "," "," "," "," "," "," "," "," "," "," "," "," "," "," "," "," "," "," "," "," "]
[null,{"$f":"Roster_Selection_Men!AB48&\" \" & \"V \"","v":"Barton Community College V "},{"$f":"Roster_Selection_Men!AD48","v":"19-4539"},{"$f":"Roster_Selection_Men!AE48","v":"V-Thoon Thanasouk"},null,{"$f":"IF(ISERROR(Individual_Scores_Men_Var!E44), \" \", IF(Individual_Scores_Men_Var!E44 = \"Yes\", \"Yes\", \"  \"))","v":"  "}," "," "," "," "," "," "," "," "," "," "," "," "," "," "," "," "," "," "," "," "," "," "," "," "," "," "," "," "," "," "," "," "," "," "," "," "," "," "," "," "," "," "," "," "," "," "," "," "," "," "," "," "," "," "," "," "," "," "," "," "," "," "," "," "," "," "," "," "," "," "," "," "," "," "]
[null,{"$f":"Roster_Selection_Men!AB49&\" \" & \"V \"","v":" V "},{"$f":"Roster_Selection_Men!AD49","v":""},{"$f":"Roster_Selection_Men!AE49","v":""},null,{"$f":"IF(ISERROR(Individual_Scores_Men_Var!E45), \" \", IF(Individual_Scores_Men_Var!E45 = \"Yes\", \"Yes\", \"  \"))","v":"  "}," "," "," "," "," "," "," "," "," "," "," "," "," "," "," "," "," "," "," "," "," "," "," "," "," "," "," "," "," "," "," "," "," "," "," "," "," "," "," "," "," "," "," "," "," "," "," "," "," "," "," "," "," "," "," "," "," "," "," "," "," "," "," "," "," "," "," "," "," "," "," "," "," "," "]
[null,"Barton Community College V",{"$f":"Individual_Scores_Men_Var!C46","v":""},{"$f":"Individual_Scores_Men_Var!D46","v":""},null,null," "," "," "," "," "," "," "," "," "," "," "," "," "," "," "," "," "," "," "," "," "," "," "," "," "," "," "," "," "," "," "," "," "," "," "," "," "," "," "," "," "," "," "," "," "," "," "," "," "," "," "," "," "," "," "," "," "," "," "," "," "," "," "," "," "," "," "," "," "," "," "," "," "," "]
[null,"Barton Community College V",{"$f":"Individual_Scores_Men_Var!C47","v":""},{"$f":"Individual_Scores_Men_Var!D47","v":""},null,null," "," "," "," "," "," "," "," "," "," "," "," "," "," "," "," "," "," "," "," "," "," "," "," "," "," "," "," "," "," "," "," "," "," "," "," "," "," "," "," "," "," "," "," "," "," "," "," "," "," "," "," "," "," "," "," "," "," "," "," "," "," "," "," "," "," "," "," "," "," "," "," "," "," "]
[null,"Barton Community College V",{"$f":"Individual_Scores_Men_Var!C48","v":""},{"$f":"Individual_Scores_Men_Var!D48","v":""},null,null," "," "," "," "," "," "," "," "," "," "," "," "," "," "," "," "," "," "," "," "," "," "," "," "," "," "," "," "," "," "," "," "," "," "," "," "," "," "," "," "," "," "," "," "," "," "," "," "," "," "," "," "," "," "," "," "," "," "," "," "," "," "," "," "," "," "," "," "," "," "," "," "," "," "]
[null," "," "," ",null,null," "," "," "," "," "," "," "," "," "," "," "," "," "," "," "," "," "," "," "," "," "," "," "," "," "," "," "," "," "," "," "," "," "," "," "," "," "," "," "," "," "," "," "," "," "," "," "," "," "," "," "," "," "," "," "," "," "," "," "," "," "," "," "," "," "," "," "," "," "," "," "," "," "," "]
[null," "," "," ",null,null," "," "," "," "," "," "," "," "," "," "," "," "," "," "," "," "," "," "," "," "," "," "," "," "," "," "," "," "," "," "," "," "," "," "," "," "," "," "," "," "," "," "," "," "," "," "," "," "," "," "," "," "," "," "," "," "," "," "," "," "," "," "," "," "," "," "," "," "," "," "," "," "," "," "]
[null,{"$f":"Roster_Selection_Men!AB57&\" \" & \"V \"","v":"Coe College V "},{"$f":"Roster_Selection_Men!AD57","v":"16-25815"},{"$f":"Roster_Selection_Men!AE57","v":"Alex DuFour"},null,{"$f":"IF(ISERROR(Individual_Scores_Men_Var!E51), \" \", IF(Individual_Scores_Men_Var!E51 = \"Yes\", \"Yes\", \"  \"))","v":"  "},"Games",238.0,141.0,160.0,214.0,172.0,193.0,163.0,177.0,257.0,218.0,255.0,196.0,234.0,171.0,190.0,213.0,224.0,194.0,209.0,226.0,{"$f":"SUM(H51:AA51)","v":4045},{"$f":"COUNTIF(H51:AA51, \">0\" )","v":20},{"$f":"AB51/AC51","v":202.25}," "," "," "," "," "," "," "," "," "," "," "," "," "," "," "," "," "," "," "," "," "," "," "," "," "," "," "," "," "," "," "," "," "," "," "," "," "," "," "," "," "," "," "," "," "," "," "," "," "," "]
[null,{"$f":"Roster_Selection_Men!AB58&\" \" & \"V \"","v":"Coe College V "},{"$f":"Roster_Selection_Men!AD58","v":"22-2807"},{"$f":"Roster_Selection_Men!AE58","v":"Braden Smith"},null,{"$f":"IF(ISERROR(Individual_Scores_Men_Var!E52), \" \", IF(Individual_Scores_Men_Var!E52 = \"Yes\", \"Yes\", \"  \"))","v":"  "}," "," "," "," "," "," "," "," "," "," "," "," "," "," "," "," "," "," "," "," "," "," "," "," "," "," "," "," "," "," "," "," "," "," "," "," "," "," "," "," "," "," "," "," "," "," "," "," "," "," "," "," "," "," "," "," "," "," "," "," "," "," "," "," "," "," "," "," "," "," "," "," "," "," "]
[null,{"$f":"Roster_Selection_Men!AB59&\" \" & \"V \"","v":"Coe College V "},{"$f":"Roster_Selection_Men!AD59","v":"11-464684"},{"$f":"Roster_Selection_Men!AE59","v":"Bryce Cady"},null,{"$f":"IF(ISERROR(Individual_Scores_Men_Var!E53), \" \", IF(Individual_Scores_Men_Var!E53 = \"Yes\", \"Yes\", \"  \"))","v":"  "}," "," "," "," "," "," "," "," "," "," "," "," "," "," "," "," "," "," "," "," "," "," "," "," "," "," "," "," "," "," "," "," "," "," "," "," "," "," "," "," "," "," "," "," "," "," "," "," "," "," "," "," "," "," "," "," "," "," "," "," "," "," "," "," "," "," "," "," "," "," "," "," "," "," "]
[null,{"$f":"Roster_Selection_Men!AB60&\" \" & \"V \"","v":"Coe College V "},{"$f":"Roster_Selection_Men!AD60","v":"5816-1477"},{"$f":"Roster_Selection_Men!AE60","v":"Dakota Harris"},null,{"$f":"IF(ISERROR(Individual_Scores_Men_Var!E54), \" \", IF(Individual_Scores_Men_Var!E54 = \"Yes\", \"Yes\", \"  \"))","v":"  "}," "," "," "," "," "," "," "," "," "," "," "," "," "," "," "," "," "," "," "," "," "," "," "," "," "," "," "," "," "," "," "," "," "," "," "," "," "," "," "," "," "," "," "," "," "," "," "," "," "," "," "," "," "," "," "," "," "," "," "," "," "," "," "," "," "," "," "," "," "," "," "," "," "," "]
[null,{"$f":"Roster_Selection_Men!AB61&\" \" & \"V \"","v":"Coe College V "},{"$f":"Roster_Selection_Men!AD61","v":"21-4165"},{"$f":"Roster_Selection_Men!AE61","v":"Ian Tibbott"},null,{"$f":"IF(ISERROR(Individual_Scores_Men_Var!E55), \" \", IF(Individual_Scores_Men_Var!E55 = \"Yes\", \"Yes\", \"  \"))","v":"  "}," "," "," "," "," "," "," "," "," "," "," "," "," "," "," "," "," "," "," "," "," "," "," "," "," "," "," "," "," "," "," "," "," "," "," "," "," "," "," "," "," "," "," "," "," "," "," "," "," "," "," "," "," "," "," "," "," "," "," "," "," "," "," "," "," "," "," "," "," "," "," "," "," "," "]
[null,{"$f":"Roster_Selection_Men!AB62&\" \" & \"V \"","v":"Coe College V "},{"$f":"Roster_Selection_Men!AD62","v":"20-58105"},{"$f":"Roster_Selection_Men!AE62","v":"Jeremiah 'Jp' Richmond"},null,{"$f":"IF(ISERROR(Individual_Scores_Men_Var!E56), \" \", IF(Individual_Scores_Men_Var!E56 = \"Yes\", \"Yes\", \"  \"))","v":"  "}," "," "," "," "," "," "," "," "," "," "," "," "," "," "," "," "," "," "," "," "," "," "," "," "," "," "," "," "," "," "," "," "," "," "," "," "," "," "," "," "," "," "," "," "," "," "," "," "," "," "," "," "," "," "," "," "," "," "," "," "," "," "," "," "," "," "," "," "," "," "," "," "," "," "]
[null,{"$f":"Roster_Selection_Men!AB63&\" \" & \"V \"","v":"Coe College V "},{"$f":"Roster_Selection_Men!AD63","v":"21-4164"},{"$f":"Roster_Selection_Men!AE63","v":"Michael Bonner"},null,{"$f":"IF(ISERROR(Individual_Scores_Men_Var!E57), \" \", IF(Individual_Scores_Men_Var!E57 = \"Yes\", \"Yes\", \"  \"))","v":"  "}," "," "," "," "," "," "," "," "," "," "," "," "," "," "," "," "," "," "," "," "," "," "," "," "," "," "," "," "," "," "," "," "," "," "," "," "," "," "," "," "," "," "," "," "," "," "," "," "," "," "," "," "," "," "," "," "," "," "," "," "," "," "," "," "," "," "," "," "," "," "," "," "," "," "]
[null,{"$f":"Roster_Selection_Men!AB64&\" \" & \"V \"","v":"Coe College V "},{"$f":"Roster_Selection_Men!AD64","v":"11-232528"},{"$f":"Roster_Selection_Men!AE64","v":"Ryan Eddy"},null,{"$f":"IF(ISERROR(Individual_Scores_Men_Var!E58), \" \", IF(Individual_Scores_Men_Var!E58 = \"Yes\", \"Yes\", \"  \"))","v":"  "}," "," "," "," "," "," "," "," "," "," "," "," "," "," "," "," "," "," "," "," "," "," "," "," "," "," "," "," "," "," "," "," "," "," "," "," "," "," "," "," "," "," "," "," "," "," "," "," "," "," "," "," "," "," "," "," "," "," "," "," "," "," "," "," "," "," "," "," "," "," "," "," "," "," "]
[null,"Coe College V",{"$f":"Individual_Scores_Men_Var!C59","v":""},{"$f":"Individual_Scores_Men_Var!D59","v":""},null,null," "," "," "," "," "," "," "," "," "," "," "," "," "," "," "," "," "," "," "," "," "," "," "," "," "," "," "," "," "," "," "," "," "," "," "," "," "," "," "," "," "," "," "," "," "," "," "," "," "," "," "," "," "," "," "," "," "," "," "," "," "," "," "," "," "," "," "," "," "," "," "," "," "," "]
[null,"Coe College V",{"$f":"Individual_Scores_Men_Var!C60","v":""},{"$f":"Individual_Scores_Men_Var!D60","v":""},null,null," "," "," "," "," "," "," "," "," "," "," "," "," "," "," "," "," "," "," "," "," "," "," "," "," "," "," "," "," "," "," "," "," "," "," "," "," "," "," "," "," "," "," "," "," "," "," "," "," "," "," "," "," "," "," "," "," "," "," "," "," "," "," "," "," "," "," "," "," "," "," "," "," "," "]
[null,"Coe College V",{"$f":"Individual_Scores_Men_Var!C61","v":""},{"$f":"Individual_Scores_Men_Var!D61","v":""},null,null," "," "," "," "," "," "," "," "," "," "," "," "," "," "," "," "," "," "," "," "," "," "," "," "," "," "," "," "," "," "," "," "," "," "," "," "," "," "," "," "," "," "," "," "," "," "," "," "," "," "," "," "," "," "," "," "," "," "," "," "," "," "," "," "," "," "," "," "," "," "," "," "," "," "]
[null," "," "," ",null,null," "," "," "," "," "," "," "," "," "," "," "," "," "," "," "," "," "," "," "," "," "," "," "," "," "," "," "," "," "," "," "," "," "," "," "," "," "," "," "," "," "," "," "," "," "," "," "," "," "," "," "," "," "," "," "," "," "," "," "," "," "," "," "," "," "," "," "," "," "," "," "," "," "," "]
[null," "," "," ",null,null," "," "," "," "," "," "," "," "," "," "," "," "," "," "," "," "," "," "," "," "," "," "," "," "," "," "," "," "," "," "," "," "," "," "," "," "," "," "," "," "," "," "," "," "," "," "," "," "," "," "," "," "," "," "," "," "," "," "," "," "," "," "," "," "," "," "," "," "," "," "," "," "," "," "]
[null,{"$f":"Roster_Selection_Men!AB68&\" \" & \"V \"","v":"Culver-Stockton College V "},{"$f":"Roster_Selection_Men!AD68","v":"11-235313"},{"$f":"Roster_Selection_Men!AE68","v":"Blake Hemann"},null,{"$f":"IF(ISERROR(Individual_Scores_Men_Var!E64), \" \", IF(Individual_Scores_Men_Var!E64 = \"Yes\", \"Yes\", \"  \"))","v":"  "},"Games",172.0,179.0,166.0,218.0,167.0,217.0,226.0,195.0,167.0,194.0,205.0,161.0,149.0,191.0,160.0,221.0,224.0,171.0,140.0,192.0,{"$f":"SUM(H64:AA64)","v":3715},{"$f":"COUNTIF(H64:AA64, \">0\" )","v":20},{"$f":"AB64/AC64","v":185.75}," "," "," "," "," "," "," "," "," "," "," "," "," "," "," "," "," "," "," "," "," "," "," "," "," "," "," "," "," "," "," "," "," "," "," "," "," "," "," "," "," "," "," "," "," "," "," "," "," "," "]
[null,{"$f":"Roster_Selection_Men!AB69&\" \" & \"V \"","v":"Culver-Stockton College V "},{"$f":"Roster_Selection_Men!AD69","v":"19-3783"},{"$f":"Roster_Selection_Men!AE69","v":"Gavin Moeller"},null,{"$f":"IF(ISERROR(Individual_Scores_Men_Var!E65), \" \", IF(Individual_Scores_Men_Var!E65 = \"Yes\", \"Yes\", \"  \"))","v":"  "}," "," "," "," "," "," "," "," "," "," "," "," "," "," "," "," "," "," "," "," "," "," "," "," "," "," "," "," "," "," "," "," "," "," "," "," "," "," "," "," "," "," "," "," "," "," "," "," "," "," "," "," "," "," "," "," "," "," "," "," "," "," "," "," "," "," "," "," "," "," "," "," "," "," "]
[null,{"$f":"Roster_Selection_Men!AB70&\" \" & \"V \"","v":"Culver-Stockton College V "},{"$f":"Roster_Selection_Men!AD70","v":"11-32574"},{"$f":"Roster_Selection_Men!AE70","v":"Jake Evitts"},null,{"$f":"IF(ISERROR(Individual_Scores_Men_Var!E66), \" \", IF(Individual_Scores_Men_Var!E66 = \"Yes\", \"Yes\", \"  \"))","v":"  "}," "," "," "," "," "," "," "," "," "," "," "," "," "," "," "," "," "," "," "," "," "," "," "," "," "," "," "," "," "," "," "," "," "," "," "," "," "," "," "," "," "," "," "," "," "," "," "," "," "," "," "," "," "," "," "," "," "," "," "," "," "," "," "," "," "," "," "," "," "," "," "," "," "," "]
[null,{"$f":"Roster_Selection_Men!AB71&\" \" & \"V \"","v":"Culver-Stockton College V "},{"$f":"Roster_Selection_Men!AD71","v":"7914-19067"},{"$f":"Roster_Selection_Men!AE71","v":"Levi Staley"},null,{"$f":"IF(ISERROR(Individual_Scores_Men_Var!E67), \" \", IF(Individual_Scores_Men_Var!E67 = \"Yes\", \"Yes\", \"  \"))","v":"  "}," "," "," "," "," "," "," "," "," "," "," "," "," "," "," "," "," "," "," "," "," "," "," "," "," "," "," "," "," "," "," "," "," "," "," "," "," "," "," "," "," "," "," "," "," "," "," "," "," "," "," "," "," "," "," "," "," "," "," "," "," "," "," "," "," "," "," "," "," "," "," "," "," "," "]
[null,{"$f":"Roster_Selection_Men!AB72&\" \" & \"V \"","v":"Culver-Stockton College V "},{"$f":"Roster_Selection_Men!AD72","v":"17-52681"},{"$f":"Roster_Selection_Men!AE72","v":"River VanVeghel"},null,{"$f":"IF(ISERROR(Individual_Scores_Men_Var!E68), \" \", IF(Individual_Scores_Men_Var!E68 = \"Yes\", \"Yes\", \"  \"))","v":"  "}," "," "," "," "," "," "," "," "," "," "," "," "," "," "," "," "," "," "," "," "," "," "," "," "," "," "," "," "," "," "," "," "," "," "," "," "," "," "," "," "," "," "," "," "," "," "," "," "," "," "," "," "," "," "," "," "," "," "," "," "," "," "," "," "," "," "," "," "," "," "," "," "," "," "]
[null,{"$f":"Roster_Selection_Men!AB73&\" \" & \"V \"","v":"Culver-Stockton College V "},{"$f":"Roster_Selection_Men!AD73","v":"17-37893"},{"$f":"Roster_Selection_Men!AE73","v":"Zachary Lantz"},null,{"$f":"IF(ISERROR(Individual_Scores_Men_Var!E69), \" \", IF(Individual_Scores_Men_Var!E69 = \"Yes\", \"Yes\", \"  \"))","v":"  "}," "," "," "," "," "," "," "," "," "," "," "," "," "," "," "," "," "," "," "," "," "," "," "," "," "," "," "," "," "," "," "," "," "," "," "," "," "," "," "," "," "," "," "," "," "," "," "," "," "," "," "," "," "," "," "," "," "," "," "," "," "," "," "," "," "," "," "," "," "," "," "," "," "," "]
[null,{"$f":"Roster_Selection_Men!AB74&\" \" & \"V \"","v":" V "},{"$f":"Roster_Selection_Men!AD74","v":""},{"$f":"Roster_Selection_Men!AE74","v":""},null,{"$f":"IF(ISERROR(Individual_Scores_Men_Var!E70), \" \", IF(Individual_Scores_Men_Var!E70 = \"Yes\", \"Yes\", \"  \"))","v":"  "}," "," "," "," "," "," "," "," "," "," "," "," "," "," "," "," "," "," "," "," "," "," "," "," "," "," "," "," "," "," "," "," "," "," "," "," "," "," "," "," "," "," "," "," "," "," "," "," "," "," "," "," "," "," "," "," "," "," "," "," "," "," "," "," "," "," "," "," "," "," "," "," "," "," "]
[null,{"$f":"Roster_Selection_Men!AB75&\" \" & \"V \"","v":" V "},{"$f":"Roster_Selection_Men!AD75","v":""},{"$f":"Roster_Selection_Men!AE75","v":""},null,{"$f":"IF(ISERROR(Individual_Scores_Men_Var!E71), \" \", IF(Individual_Scores_Men_Var!E71 = \"Yes\", \"Yes\", \"  \"))","v":"  "}," "," "," "," "," "," "," "," "," "," "," "," "," "," "," "," "," "," "," "," "," "," "," "," "," "," "," "," "," "," "," "," "," "," "," "," "," "," "," "," "," "," "," "," "," "," "," "," "," "," "," "," "," "," "," "," "," "," "," "," "," "," "," "," "," "," "," "," "," "," "," "," "," "," "]
[null,"Culver-Stockton College V",{"$f":"Individual_Scores_Men_Var!C72","v":""},{"$f":"Individual_Scores_Men_Var!D72","v":""},null,null," "," "," "," "," "," "," "," "," "," "," "," "," "," "," "," "," "," "," "," "," "," "," "," "," "," "," "," "," "," "," "," "," "," "," "," "," "," "," "," "," "," "," "," "," "," "," "," "," "," "," "," "," "," "," "," "," "," "," "," "," "," "," "," "," "," "," "," "," "," "," "," "," "," "]
[null,"Culver-Stockton College V",{"$f":"Individual_Scores_Men_Var!C73","v":""},{"$f":"Individual_Scores_Men_Var!D73","v":""},null,null," "," "," "," "," "," "," "," "," "," "," "," "," "," "," "," "," "," "," "," "," "," "," "," "," "," "," "," "," "," "," "," "," "," "," "," "," "," "," "," "," "," "," "," "," "," "," "," "," "," "," "," "," "," "," "," "," "," "," "," "," "," "," "," "," "," "," "," "," "," "," "," "," "," "]
[null,"Culver-Stockton College V",{"$f":"Individual_Scores_Men_Var!C74","v":""},{"$f":"Individual_Scores_Men_Var!D74","v":""},null,null," "," "," "," "," "," "," "," "," "," "," "," "," "," "," "," "," "," "," "," "," "," "," "," "," "," "," "," "," "," "," "," "," "," "," "," "," "," "," "," "," "," "," "," "," "," "," "," "," "," "," "," "," "," "," "," "," "," "," "," "," "," "," "," "," "," "," "," "," "," "," "," "," "," "]
[null," "," "," ",null,null," "," "," "," "," "," "," "," "," "," "," "," "," "," "," "," "," "," "," "," "," "," "," "," "," "," "," "," "," "," "," "," "," "," "," "," "," "," "," "," "," "," "," "," "," "," "," "," "," "," "," "," "," "," "," "," "," "," "," "," "," "," "," "," "," "," "," "," "," "," "," "," "," "," "]
[null," "," "," ",null,null," "," "," "," "," "," "," "," "," "," "," "," "," "," "," "," "," "," "," "," "," "," "," "," "," "," "," "," "," "," "," "," "," "," "," "," "," "," "," "," "," "," "," "," "," "," "," "," "," "," "," "," "," "," "," "," "," "," "," "," "," "," "," "," "," "," "," "," "," "," "," "," "," "," "]
[null,{"$f":"Roster_Selection_Men!AB76&\" \" & \"V \"","v":"Dallas Baptist University V "},{"$f":"Roster_Selection_Men!AD76","v":"22-23714"},{"$f":"Roster_Selection_Men!AE76","v":"Elijah Roberts"},null,{"$f":"IF(ISERROR(Individual_Scores_Men_Var!E77), \" \", IF(Individual_Scores_Men_Var!E77 = \"Yes\", \"Yes\", \"  \"))","v":"  "},"Games",135.0,81.0,109.0,133.0,109.0,116.0,177.0,128.0,124.0,169.0,132.0,159.0,103.0,131.0,143.0,121.0,101.0,84.0,149.0,141.0,{"$f":"SUM(H77:AA77)","v":2545},{"$f":"COUNTIF(H77:AA77, \">0\" )","v":20},{"$f":"AB77/AC77","v":127.25}," "," "," "," "," "," "," "," "," "," "," "," "," "," "," "," "," "," "," "," "," "," "," "," "," "," "," "," "," "," "," "," "," "," "," "," "," "," "," "," "," "," "," "," "," "," "," "," "," "," "]
[null,{"$f":"Roster_Selection_Men!AB77&\" \" & \"V \"","v":"Dallas Baptist University V "},{"$f":"Roster_Selection_Men!AD77","v":"22-23707"},{"$f":"Roster_Selection_Men!AE77","v":"Jonathan Wallace"},null,{"$f":"IF(ISERROR(Individual_Scores_Men_Var!E78), \" \", IF(Individual_Scores_Men_Var!E78 = \"Yes\", \"Yes\", \"  \"))","v":"  "}," "," "," "," "," "," "," "," "," "," "," "," "," "," "," "," "," "," "," "," "," "," "," "," "," "," "," "," "," "," "," "," "," "," "," "," "," "," "," "," "," "," "," "," "," "," "," "," "," "," "," "," "," "," "," "," "," "," "," "," "," "," "," "," "," "," "," "," "," "," "," "," "," "," "]
[null,{"$f":"Roster_Selection_Men!AB78&\" \" & \"V \"","v":"Dallas Baptist University V "},{"$f":"Roster_Selection_Men!AD78","v":"22-23704"},{"$f":"Roster_Selection_Men!AE78","v":"Justin Wallace"},null,{"$f":"IF(ISERROR(Individual_Scores_Men_Var!E79), \" \", IF(Individual_Scores_Men_Var!E79 = \"Yes\", \"Yes\", \"  \"))","v":"  "}," "," "," "," "," "," "," "," "," "," "," "," "," "," "," "," "," "," "," "," "," "," "," "," "," "," "," "," "," "," "," "," "," "," "," "," "," "," "," "," "," "," "," "," "," "," "," "," "," "," "," "," "," "," "," "," "," "," "," "," "," "," "," "," "," "," "," "," "," "," "," "," "," "," "]
[null,{"$f":"Roster_Selection_Men!AB79&\" \" & \"V \"","v":"Dallas Baptist University V "},{"$f":"Roster_Selection_Men!AD79","v":"11-484627"},{"$f":"Roster_Selection_Men!AE79","v":"Kari Beyer"},null,{"$f":"IF(ISERROR(Individual_Scores_Men_Var!E80), \" \", IF(Individual_Scores_Men_Var!E80 = \"Yes\", \"Yes\", \"  \"))","v":"  "}," "," "," "," "," "," "," "," "," "," "," "," "," "," "," "," "," "," "," "," "," "," "," "," "," "," "," "," "," "," "," "," "," "," "," "," "," "," "," "," "," "," "," "," "," "," "," "," "," "," "," "," "," "," "," "," "," "," "," "," "," "," "," "," "," "," "," "," "," "," "," "," "," "," "]
[null,{"$f":"Roster_Selection_Men!AB80&\" \" & \"V \"","v":"Dallas Baptist University V "},{"$f":"Roster_Selection_Men!AD80","v":"22-23712"},{"$f":"Roster_Selection_Men!AE80","v":"Katrina Smith"},null,{"$f":"IF(ISERROR(Individual_Scores_Men_Var!E81), \" \", IF(Individual_Scores_Men_Var!E81 = \"Yes\", \"Yes\", \"  \"))","v":"  "}," "," "," "," "," "," "," "," "," "," "," "," "," "," "," "," "," "," "," "," "," "," "," "," "," "," "," "," "," "," "," "," "," "," "," "," "," "," "," "," "," "," "," "," "," "," "," "," "," "," "," "," "," "," "," "," "," "," "," "," "," "," "," "," "," "," "," "," "," "," "," "," "," "," "]
[null,{"$f":"Roster_Selection_Men!AB81&\" \" & \"V \"","v":"Dallas Baptist University V "},{"$f":"Roster_Selection_Men!AD81","v":"11-777155"},{"$f":"Roster_Selection_Men!AE81","v":"Paul Marquez"},null,{"$f":"IF(ISERROR(Individual_Scores_Men_Var!E82), \" \", IF(Individual_Scores_Men_Var!E82 = \"Yes\", \"Yes\", \"  \"))","v":"  "}," "," "," "," "," "," "," "," "," "," "," "," "," "," "," "," "," "," "," "," "," "," "," "," "," "," "," "," "," "," "," "," "," "," "," "," "," "," "," "," "," "," "," "," "," "," "," "," "," "," "," "," "," "," "," "," "," "," "," "," "," "," "," "," "," "," "," "," "," "," "," "," "," "," "]
[null,{"$f":"Roster_Selection_Men!AB82&\" \" & \"V \"","v":"Dallas Baptist University V "},{"$f":"Roster_Selection_Men!AD82","v":"22-23718"},{"$f":"Roster_Selection_Men!AE82","v":"Peter Coniaris"},null,{"$f":"IF(ISERROR(Individual_Scores_Men_Var!E83), \" \", IF(Individual_Scores_Men_Var!E83 = \"Yes\", \"Yes\", \"  \"))","v":"  "}," "," "," "," "," "," "," "," "," "," "," "," "," "," "," "," "," "," "," "," "," "," "," "," "," "," "," "," "," "," "," "," "," "," "," "," "," "," "," "," "," "," "," "," "," "," "," "," "," "," "," "," "," "," "," "," "," "," "," "," "," "," "," "," "," "," "," "," "," "," "," "," "," "," "]
[null,{"$f":"Roster_Selection_Men!AB83&\" \" & \"V \"","v":" V "},{"$f":"Roster_Selection_Men!AD83","v":""},{"$f":"Roster_Selection_Men!AE83","v":""},null,{"$f":"IF(ISERROR(Individual_Scores_Men_Var!E84), \" \", IF(Individual_Scores_Men_Var!E84 = \"Yes\", \"Yes\", \"  \"))","v":"  "}," "," "," "," "," "," "," "," "," "," "," "," "," "," "," "," "," "," "," "," "," "," "," "," "," "," "," "," "," "," "," "," "," "," "," "," "," "," "," "," "," "," "," "," "," "," "," "," "," "," "," "," "," "," "," "," "," "," "," "," "," "," "," "," "," "," "," "," "," "," "," "," "," "," "]
[null,"Dallas Baptist University V",{"$f":"Individual_Scores_Men_Var!C85","v":""},{"$f":"Individual_Scores_Men_Var!D85","v":""},null,null," "," "," "," "," "," "," "," "," "," "," "," "," "," "," "," "," "," "," "," "," "," "," "," "," "," "," "," "," "," "," "," "," "," "," "," "," "," "," "," "," "," "," "," "," "," "," "," "," "," "," "," "," "," "," "," "," "," "," "," "," "," "," "," "," "," "," "," "," "," "," "," "," "," "]
[null,"Dallas Baptist University V",{"$f":"Individual_Scores_Men_Var!C86","v":""},{"$f":"Individual_Scores_Men_Var!D86","v":""},null,null," "," "," "," "," "," "," "," "," "," "," "," "," "," "," "," "," "," "," "," "," "," "," "," "," "," "," "," "," "," "," "," "," "," "," "," "," "," "," "," "," "," "," "," "," "," "," "," "," "," "," "," "," "," "," "," "," "," "," "," "," "," "," "," "," "," "," "," "," "," "," "," "," "," "]
[null,"Dallas Baptist University V",{"$f":"Individual_Scores_Men_Var!C87","v":""},{"$f":"Individual_Scores_Men_Var!D87","v":""},null,null," "," "," "," "," "," "," "," "," "," "," "," "," "," "," "," "," "," "," "," "," "," "," "," "," "," "," "," "," "," "," "," "," "," "," "," "," "," "," "," "," "," "," "," "," "," "," "," "," "," "," "," "," "," "," "," "," "," "," "," "," "," "," "," "," "," "," "," "," "," "," "," "," "," "]
[null," "," "," ",null,null," "," "," "," "," "," "," "," "," "," "," "," "," "," "," "," "," "," "," "," "," "," "," "," "," "," "," "," "," "," "," "," "," "," "," "," "," "," "," "," "," "," "," "," "," "," "," "," "," "," "," "," "," "," "," "," "," "," "," "," "," "," "," "," "," "," "," "," "," "," "," "," "," "," "]
[null," "," "," ",null,null," "," "," "," "," "," "," "," "," "," "," "," "," "," "," "," "," "," "," "," "," "," "," "," "," "," "," "," "," "," "," "," "," "," "," "," "," "," "," "," "," "," "," "," "," "," "," "," "," "," "," "," "," "," "," "," "," "," "," "," "," "," "," "," "," "," "," "," "," "," "," "," "," "," "]
[null,{"$f":"Roster_Selection_Men!AB84&\" \" & \"V \"","v":"Drury University V "},{"$f":"Roster_Selection_Men!AD84","v":"11-499796"},{"$f":"Roster_Selection_Men!AE84","v":"Ammon Janey"},null,{"$f":"IF(ISERROR(Individual_Scores_Men_Var!E90), \" \", IF(Individual_Scores_Men_Var!E90 = \"Yes\", \"Yes\", \"  \"))","v":"  "},"Games",181.0,169.0,216.0,176.0,212.0,192.0,174.0,184.0,193.0,205.0,189.0,185.0,223.0,181.0,139.0,185.0,211.0,194.0,179.0,170.0,{"$f":"SUM(H90:AA90)","v":3758},{"$f":"COUNTIF(H90:AA90, \">0\" )","v":20},{"$f":"AB90/AC90","v":187.9}," "," "," "," "," "," "," "," "," "," "," "," "," "," "," "," "," "," "," "," "," "," "," "," "," "," "," "," "," "," "," "," "," "," "," "," "," "," "," "," "," "," "," "," "," "," "," "," "," "," "]
[null,{"$f":"Roster_Selection_Men!AB85&\" \" & \"V \"","v":"Drury University V "},{"$f":"Roster_Selection_Men!AD85","v":"11-375377"},{"$f":"Roster_Selection_Men!AE85","v":"Brandon Lacy"},null,{"$f":"IF(ISERROR(Individual_Scores_Men_Var!E91), \" \", IF(Individual_Scores_Men_Var!E91 = \"Yes\", \"Yes\", \"  \"))","v":"  "}," "," "," "," "," "," "," "," "," "," "," "," "," "," "," "," "," "," "," "," "," "," "," "," "," "," "," "," "," "," "," "," "," "," "," "," "," "," "," "," "," "," "," "," "," "," "," "," "," "," "," "," "," "," "," "," "," "," "," "," "," "," "," "," "," "," "," "," "," "," "," "," "," "," "]
[null,{"$f":"Roster_Selection_Men!AB86&\" \" & \"V \"","v":"Drury University V "},{"$f":"Roster_Selection_Men!AD86","v":"8845-26727"},{"$f":"Roster_Selection_Men!AE86","v":"Glen Sills"},null,{"$f":"IF(ISERROR(Individual_Scores_Men_Var!E92), \" \", IF(Individual_Scores_Men_Var!E92 = \"Yes\", \"Yes\", \"  \"))","v":"  "}," "," "," "," "," "," "," "," "," "," "," "," "," "," "," "," "," "," "," "," "," "," "," "," "," "," "," "," "," "," "," "," "," "," "," "," "," "," "," "," "," "," "," "," "," "," "," "," "," "," "," "," "," "," "," "," "," "," "," "," "," "," "," "," "," "," "," "," "," "," "," "," "," "," "]
[null,{"$f":"Roster_Selection_Men!AB87&\" \" & \"V \"","v":"Drury University V "},{"$f":"Roster_Selection_Men!AD87","v":"11-29144"},{"$f":"Roster_Selection_Men!AE87","v":"Haden Barbee"},null,{"$f":"IF(ISERROR(Individual_Scores_Men_Var!E93), \" \", IF(Individual_Scores_Men_Var!E93 = \"Yes\", \"Yes\", \"  \"))","v":"  "}," "," "," "," "," "," "," "," "," "," "," "," "," "," "," "," "," "," "," "," "," "," "," "," "," "," "," "," "," "," "," "," "," "," "," "," "," "," "," "," "," "," "," "," "," "," "," "," "," "," "," "," "," "," "," "," "," "," "," "," "," "," "," "," "," "," "," "," "," "," "," "," "," "," "]
[null,{"$f":"Roster_Selection_Men!AB88&\" \" & \"V \"","v":"Drury University V "},{"$f":"Roster_Selection_Men!AD88","v":"11-111286"},{"$f":"Roster_Selection_Men!AE88","v":"Jeremy Vanost"},null,{"$f":"IF(ISERROR(Individual_Scores_Men_Var!E94), \" \", IF(Individual_Scores_Men_Var!E94 = \"Yes\", \"Yes\", \"  \"))","v":"  "}," "," "," "," "," "," "," "," "," "," "," "," "," "," "," "," "," "," "," "," "," "," "," "," "," "," "," "," "," "," "," "," "," "," "," "," "," "," "," "," "," "," "," "," "," "," "," "," "," "," "," "," "," "," "," "," "," "," "," "," "," "," "," "," "," "," "," "," "," "," "," "," "," "," "]
[null,{"$f":"Roster_Selection_Men!AB89&\" \" & \"V \"","v":"Drury University V "},{"$f":"Roster_Selection_Men!AD89","v":"18-82246"},{"$f":"Roster_Selection_Men!AE89","v":"Jordan McConnell"},null,{"$f":"IF(ISERROR(Individual_Scores_Men_Var!E95), \" \", IF(Individual_Scores_Men_Var!E95 = \"Yes\", \"Yes\", \"  \"))","v":"  "}," "," "," "," "," "," "," "," "," "," "," "," "," "," "," "," "," "," "," "," "," "," "," "," "," "," "," "," "," "," "," "," "," "," "," "," "," "," "," "," "," "," "," "," "," "," "," "," "," "," "," "," "," "," "," "," "," "," "," "," "," "," "," "," "," "," "," "," "," "," "," "," "," "," "]
[null,{"$f":"Roster_Selection_Men!AB90&\" \" & \"V \"","v":"Drury University V "},{"$f":"Roster_Selection_Men!AD90","v":"18-27844"},{"$f":"Roster_Selection_Men!AE90","v":"Quinten Schulte"},null,{"$f":"IF(ISERROR(Individual_Scores_Men_Var!E96), \" \", IF(Individual_Scores_Men_Var!E96 = \"Yes\", \"Yes\", \"  \"))","v":"  "}," "," "," "," "," "," "," "," "," "," "," "," "," "," "," "," "," "," "," "," "," "," "," "," "," "," "," "," "," "," "," "," "," "," "," "," "," "," "," "," "," "," "," "," "," "," "," "," "," "," "," "," "," "," "," "," "," "," "," "," "," "," "," "," "," "," "," "," "," "," "," "," "," "," "]
[null,{"$f":"Roster_Selection_Men!AB91&\" \" & \"V \"","v":"Drury University V "},{"$f":"Roster_Selection_Men!AD91","v":"9129-614"},{"$f":"Roster_Selection_Men!AE91","v":"Zacary Barbee"},null,{"$f":"IF(ISERROR(Individual_Scores_Men_Var!E97), \" \", IF(Individual_Scores_Men_Var!E97 = \"Yes\", \"Yes\", \"  \"))","v":"  "}," "," "," "," "," "," "," "," "," "," "," "," "," "," "," "," "," "," "," "," "," "," "," "," "," "," "," "," "," "," "," "," "," "," "," "," "," "," "," "," "," "," "," "," "," "," "," "," "," "," "," "," "," "," "," "," "," "," "," "," "," "," "," "," "," "," "," "," "," "," "," "," "," "," "]
[null,"Drury University V",{"$f":"Individual_Scores_Men_Var!C98","v":""},{"$f":"Individual_Scores_Men_Var!D98","v":""},null,null," "," "," "," "," "," "," "," "," "," "," "," "," "," "," "," "," "," "," "," "," "," "," "," "," "," "," "," "," "," "," "," "," "," "," "," "," "," "," "," "," "," "," "," "," "," "," "," "," "," "," "," "," "," "," "," "," "," "," "," "," "," "," "," "," "," "," "," "," "," "," "," "," "," "]
[null,"Drury University V",{"$f":"Individual_Scores_Men_Var!C99","v":""},{"$f":"Individual_Scores_Men_Var!D99","v":""},null,null," "," "," "," "," "," "," "," "," "," "," "," "," "," "," "," "," "," "," "," "," "," "," "," "," "," "," "," "," "," "," "," "," "," "," "," "," "," "," "," "," "," "," "," "," "," "," "," "," "," "," "," "," "," "," "," "," "," "," "," "," "," "," "," "," "," "," "," "," "," "," "," "," "," "]
[null,"Drury University V",{"$f":"Individual_Scores_Men_Var!C100","v":""},{"$f":"Individual_Scores_Men_Var!D100","v":""},null,null," "," "," "," "," "," "," "," "," "," "," "," "," "," "," "," "," "," "," "," "," "," "," "," "," "," "," "," "," "," "," "," "," "," "," "," "," "," "," "," "," "," "," "," "," "," "," "," "," "," "," "," "," "," "," "," "," "," "," "," "," "," "," "," "," "," "," "," "," "," "," "," "," "," "]
[null," "," "," ",null,null," "," "," "," "," "," "," "," "," "," "," "," "," "," "," "," "," "," "," "," "," "," "," "," "," "," "," "," "," "," "," "," "," "," "," "," "," "," "," "," "," "," "," "," "," "," "," "," "," "," "," "," "," "," "," "," "," "," "," "," "," "," "," "," "," "," "," "," "," "," "," "," "," "," "]
[null," "," "," ",null,null," "," "," "," "," "," "," "," "," "," "," "," "," "," "," "," "," "," "," "," "," "," "," "," "," "," "," "," "," "," "," "," "," "," "," "," "," "," "," "," "," "," "," "," "," "," "," "," "," "," "," "," "," "," "," "," "," "," "," "," "," "," "," "," "," "," "," "," "," "," "," "," "," "," "]
[null,{"$f":"Roster_Selection_Men!AB93&\" \" & \"V \"","v":"Grand View University V "},{"$f":"Roster_Selection_Men!AD93","v":"11-389770"},{"$f":"Roster_Selection_Men!AE93","v":"Andru Wilder"},null,{"$f":"IF(ISERROR(Individual_Scores_Men_Var!E103), \" \", IF(Individual_Scores_Men_Var!E103 = \"Yes\", \"Yes\", \"  \"))","v":"  "},"Games",142.0,183.0,193.0,215.0,223.0,163.0,158.0,170.0,179.0,181.0,149.0,170.0,175.0,142.0,149.0,210.0,157.0,184.0,182.0,161.0,{"$f":"SUM(H103:AA103)","v":3486},{"$f":"COUNTIF(H103:AA103, \">0\" )","v":20},{"$f":"AB103/AC103","v":174.3}," "," "," "," "," "," "," "," "," "," "," "," "," "," "," "," "," "," "," "," "," "," "," "," "," "," "," "," "," "," "," "," "," "," "," "," "," "," "," "," "," "," "," "," "," "," "," "," "," "," "]
[null,{"$f":"Roster_Selection_Men!AB94&\" \" & \"V \"","v":"Grand View University V "},{"$f":"Roster_Selection_Men!AD94","v":"11-295590"},{"$f":"Roster_Selection_Men!AE94","v":"Brayden Fishel"},null,{"$f":"IF(ISERROR(Individual_Scores_Men_Var!E104), \" \", IF(Individual_Scores_Men_Var!E104 = \"Yes\", \"Yes\", \"  \"))","v":"  "}," "," "," "," "," "," "," "," "," "," "," "," "," "," "," "," "," "," "," "," "," "," "," "," "," "," "," "," "," "," "," "," "," "," "," "," "," "," "," "," "," "," "," "," "," "," "," "," "," "," "," "," "," "," "," "," "," "," "," "," "," "," "," "," "," "," "," "," "," "," "," "," "," "," "]
[null,{"$f":"Roster_Selection_Men!AB95&\" \" & \"V \"","v":"Grand View University V "},{"$f":"Roster_Selection_Men!AD95","v":"11-742664"},{"$f":"Roster_Selection_Men!AE95","v":"Caden Ziegler"},null,{"$f":"IF(ISERROR(Individual_Scores_Men_Var!E105), \" \", IF(Individual_Scores_Men_Var!E105 = \"Yes\", \"Yes\", \"  \"))","v":"  "}," "," "," "," "," "," "," "," "," "," "," "," "," "," "," "," "," "," "," "," "," "," "," "," "," "," "," "," "," "," "," "," "," "," "," "," "," "," "," "," "," "," "," "," "," "," "," "," "," "," "," "," "," "," "," "," "," "," "," "," "," "," "," "," "," "," "," "," "," "," "," "," "," "," "]
[null,{"$f":"Roster_Selection_Men!AB96&\" \" & \"V \"","v":"Grand View University V "},{"$f":"Roster_Selection_Men!AD96","v":"11-227599"},{"$f":"Roster_Selection_Men!AE96","v":"Derek Baucom"},null,{"$f":"IF(ISERROR(Individual_Scores_Men_Var!E106), \" \", IF(Individual_Scores_Men_Var!E106 = \"Yes\", \"Yes\", \"  \"))","v":"  "}," "," "," "," "," "," "," "," "," "," "," "," "," "," "," "," "," "," "," "," "," "," "," "," "," "," "," "," "," "," "," "," "," "," "," "," "," "," "," "," "," "," "," "," "," "," "," "," "," "," "," "," "," "," "," "," "," "," "," "," "," "," "," "," "," "," "," "," "," "," "," "," "," "," "]
[null,{"$f":"Roster_Selection_Men!AB97&\" \" & \"V \"","v":"Grand View University V "},{"$f":"Roster_Selection_Men!AD97","v":"9138-8600"},{"$f":"Roster_Selection_Men!AE97","v":"Johnathan Hemmingsen"},null,{"$f":"IF(ISERROR(Individual_Scores_Men_Var!E107), \" \", IF(Individual_Scores_Men_Var!E107 = \"Yes\", \"Yes\", \"  \"))","v":"  "}," "," "," "," "," "," "," "," "," "," "," "," "," "," "," "," "," "," "," "," "," "," "," "," "," "," "," "," "," "," "," "," "," "," "," "," "," "," "," "," "," "," "," "," "," "," "," "," "," "," "," "," "," "," "," "," "," "," "," "," "," "," "," "," "," "," "," "," "," "," "," "," "," "," "]
[null,{"$f":"Roster_Selection_Men!AB98&\" \" & \"V \"","v":"Grand View University V "},{"$f":"Roster_Selection_Men!AD98","v":"5860-323"},{"$f":"Roster_Selection_Men!AE98","v":"Lucas Kramer"},null,{"$f":"IF(ISERROR(Individual_Scores_Men_Var!E108), \" \", IF(Individual_Scores_Men_Var!E108 = \"Yes\", \"Yes\", \"  \"))","v":"  "}," "," "," "," "," "," "," "," "," "," "," "," "," "," "," "," "," "," "," "," "," "," "," "," "," "," "," "," "," "," "," "," "," "," "," "," "," "," "," "," "," "," "," "," "," "," "," "," "," "," "," "," "," "," "," "," "," "," "," "," "," "," "," "," "," "," "," "," "," "," "," "," "," "," "]
[null,{"$f":"Roster_Selection_Men!AB99&\" \" & \"V \"","v":"Grand View University V "},{"$f":"Roster_Selection_Men!AD99","v":"5689-4652"},{"$f":"Roster_Selection_Men!AE99","v":"Nicholas Prochnow"},null,{"$f":"IF(ISERROR(Individual_Scores_Men_Var!E109), \" \", IF(Individual_Scores_Men_Var!E109 = \"Yes\", \"Yes\", \"  \"))","v":"  "}," "," "," "," "," "," "," "," "," "," "," "," "," "," "," "," "," "," "," "," "," "," "," "," "," "," "," "," "," "," "," "," "," "," "," "," "," "," "," "," "," "," "," "," "," "," "," "," "," "," "," "," "," "," "," "," "," "," "," "," "," "," "," "," "," "," "," "," "," "," "," "," "," "," "]
[null,{"$f":"Roster_Selection_Men!AB100&\" \" & \"V \"","v":"Grand View University V "},{"$f":"Roster_Selection_Men!AD100","v":"9138-8601"},{"$f":"Roster_Selection_Men!AE100","v":"Tim Lincoln"},null,{"$f":"IF(ISERROR(Individual_Scores_Men_Var!E110), \" \", IF(Individual_Scores_Men_Var!E110 = \"Yes\", \"Yes\", \"  \"))","v":"  "}," "," "," "," "," "," "," "," "," "," "," "," "," "," "," "," "," "," "," "," "," "," "," "," "," "," "," "," "," "," "," "," "," "," "," "," "," "," "," "," "," "," "," "," "," "," "," "," "," "," "," "," "," "," "," "," "," "," "," "," "," "," "," "," "," "," "," "," "," "," "," "," "," "," "]
[null,"Grand View University V",{"$f":"Individual_Scores_Men_Var!C111","v":""},{"$f":"Individual_Scores_Men_Var!D111","v":""},null,null," "," "," "," "," "," "," "," "," "," "," "," "," "," "," "," "," "," "," "," "," "," "," "," "," "," "," "," "," "," "," "," "," "," "," "," "," "," "," "," "," "," "," "," "," "," "," "," "," "," "," "," "," "," "," "," "," "," "," "," "," "," "," "," "," "," "," "," "," "," "," "," "," "," "]
[null,"Grand View University V",{"$f":"Individual_Scores_Men_Var!C112","v":""},{"$f":"Individual_Scores_Men_Var!D112","v":""},null,null," "," "," "," "," "," "," "," "," "," "," "," "," "," "," "," "," "," "," "," "," "," "," "," "," "," "," "," "," "," "," "," "," "," "," "," "," "," "," "," "," "," "," "," "," "," "," "," "," "," "," "," "," "," "," "," "," "," "," "," "," "," "," "," "," "," "," "," "," "," "," "," "," "," "]
[null,"Grand View University V",{"$f":"Individual_Scores_Men_Var!C113","v":""},{"$f":"Individual_Scores_Men_Var!D113","v":""},null,null," "," "," "," "," "," "," "," "," "," "," "," "," "," "," "," "," "," "," "," "," "," "," "," "," "," "," "," "," "," "," "," "," "," "," "," "," "," "," "," "," "," "," "," "," "," "," "," "," "," "," "," "," "," "," "," "," "," "," "," "," "," "," "," "," "," "," "," "," "," "," "," "," "," "]
[null," "," "," ",null,null," "," "," "," "," "," "," "," "," "," "," "," "," "," "," "," "," "," "," "," "," "," "," "," "," "," "," "," "," "," "," "," "," "," "," "," "," "," "," "," "," "," "," "," "," "," "," "," "," "," "," "," "," "," "," "," "," "," "," "," "," "," "," "," "," "," "," "," "," "," "," "," "," "," "]
[null," "," "," ",null,null," "," "," "," "," "," "," "," "," "," "," "," "," "," "," "," "," "," "," "," "," "," "," "," "," "," "," "," "," "," "," "," "," "," "," "," "," "," "," "," "," "," "," "," "," "," "," "," "," "," "," "," "," "," "," "," "," "," "," "," "," "," "," "," "," "," "," "," "," "," "," "," "," "," "]
[null,{"$f":"Roster_Selection_Men!AB114&\" \" & \"V \"","v":"Hastings College V "},{"$f":"Roster_Selection_Men!AD114","v":"6238-1210"},{"$f":"Roster_Selection_Men!AE114","v":"Anthony Hernandez"},null,{"$f":"IF(ISERROR(Individual_Scores_Men_Var!E116), \" \", IF(Individual_Scores_Men_Var!E116 = \"Yes\", \"Yes\", \"  \"))","v":"  "},"Games",177.0,157.0,204.0,175.0,208.0,195.0,180.0,187.0,216.0,203.0,178.0,278.0,235.0,247.0,269.0,202.0,214.0,216.0,202.0,237.0,{"$f":"SUM(H116:AA116)","v":4180},{"$f":"COUNTIF(H116:AA116, \">0\" )","v":20},{"$f":"AB116/AC116","v":209}," "," "," "," "," "," "," "," "," "," "," "," "," "," "," "," "," "," "," "," "," "," "," "," "," "," "," "," "," "," "," "," "," "," "," "," "," "," "," "," "," "," "," "," "," "," "," "," "," "," "]
[null,{"$f":"Roster_Selection_Men!AB115&\" \" & \"V \"","v":"Hastings College V "},{"$f":"Roster_Selection_Men!AD115","v":"8219-74921"},{"$f":"Roster_Selection_Men!AE115","v":"Brady Kaufmann"},null,{"$f":"IF(ISERROR(Individual_Scores_Men_Var!E117), \" \", IF(Individual_Scores_Men_Var!E117 = \"Yes\", \"Yes\", \"  \"))","v":"  "}," "," "," "," "," "," "," "," "," "," "," "," "," "," "," "," "," "," "," "," "," "," "," "," "," "," "," "," "," "," "," "," "," "," "," "," "," "," "," "," "," "," "," "," "," "," "," "," "," "," "," "," "," "," "," "," "," "," "," "," "," "," "," "," "," "," "," "," "," "," "," "," "," "," "]
[null,{"$f":"Roster_Selection_Men!AB116&\" \" & \"V \"","v":"Hastings College V "},{"$f":"Roster_Selection_Men!AD116","v":"11-672708"},{"$f":"Roster_Selection_Men!AE116","v":"Kenneth High"},null,{"$f":"IF(ISERROR(Individual_Scores_Men_Var!E118), \" \", IF(Individual_Scores_Men_Var!E118 = \"Yes\", \"Yes\", \"  \"))","v":"  "}," "," "," "," "," "," "," "," "," "," "," "," "," "," "," "," "," "," "," "," "," "," "," "," "," "," "," "," "," "," "," "," "," "," "," "," "," "," "," "," "," "," "," "," "," "," "," "," "," "," "," "," "," "," "," "," "," "," "," "," "," "," "," "," "," "," "," "," "," "," "," "," "," "," "]
[null,{"$f":"Roster_Selection_Men!AB117&\" \" & \"V \"","v":"Hastings College V "},{"$f":"Roster_Selection_Men!AD117","v":"17-60831"},{"$f":"Roster_Selection_Men!AE117","v":"Paul Baker"},null,{"$f":"IF(ISERROR(Individual_Scores_Men_Var!E119), \" \", IF(Individual_Scores_Men_Var!E119 = \"Yes\", \"Yes\", \"  \"))","v":"  "}," "," "," "," "," "," "," "," "," "," "," "," "," "," "," "," "," "," "," "," "," "," "," "," "," "," "," "," "," "," "," "," "," "," "," "," "," "," "," "," "," "," "," "," "," "," "," "," "," "," "," "," "," "," "," "," "," "," "," "," "," "," "," "," "," "," "," "," "," "," "," "," "," "," "]
[null,{"$f":"Roster_Selection_Men!AB118&\" \" & \"V \"","v":"Hastings College V "},{"$f":"Roster_Selection_Men!AD118","v":"8813-4825"},{"$f":"Roster_Selection_Men!AE118","v":"Tyler Call"},null,{"$f":"IF(ISERROR(Individual_Scores_Men_Var!E120), \" \", IF(Individual_Scores_Men_Var!E120 = \"Yes\", \"Yes\", \"  \"))","v":"  "}," "," "," "," "," "," "," "," "," "," "," "," "," "," "," "," "," "," "," "," "," "," "," "," "," "," "," "," "," "," "," "," "," "," "," "," "," "," "," "," "," "," "," "," "," "," "," "," "," "," "," "," "," "," "," "," "," "," "," "," "," "," "," "," "," "," "," "," "," "," "," "," "," "," "]
[null,{"$f":"Roster_Selection_Men!AB119&\" \" & \"V \"","v":"Hastings College V "},{"$f":"Roster_Selection_Men!AD119","v":"11-104668"},{"$f":"Roster_Selection_Men!AE119","v":"Tyler Seeley"},null,{"$f":"IF(ISERROR(Individual_Scores_Men_Var!E121), \" \", IF(Individual_Scores_Men_Var!E121 = \"Yes\", \"Yes\", \"  \"))","v":"  "}," "," "," "," "," "," "," "," "," "," "," "," "," "," "," "," "," "," "," "," "," "," "," "," "," "," "," "," "," "," "," "," "," "," "," "," "," "," "," "," "," "," "," "," "," "," "," "," "," "," "," "," "," "," "," "," "," "," "," "," "," "," "," "," "," "," "," "," "," "," "," "," "," "," "]
[null,{"$f":"Roster_Selection_Men!AB120&\" \" & \"V \"","v":"Hastings College V "},{"$f":"Roster_Selection_Men!AD120","v":"11-102582"},{"$f":"Roster_Selection_Men!AE120","v":"Winton Gassmann"},null,{"$f":"IF(ISERROR(Individual_Scores_Men_Var!E122), \" \", IF(Individual_Scores_Men_Var!E122 = \"Yes\", \"Yes\", \"  \"))","v":"  "}," "," "," "," "," "," "," "," "," "," "," "," "," "," "," "," "," "," "," "," "," "," "," "," "," "," "," "," "," "," "," "," "," "," "," "," "," "," "," "," "," "," "," "," "," "," "," "," "," "," "," "," "," "," "," "," "," "," "," "," "," "," "," "," "," "," "," "," "," "," "," "," "," "," "]
[null,{"$f":"Roster_Selection_Men!AB121&\" \" & \"V \"","v":" V "},{"$f":"Roster_Selection_Men!AD121","v":""},{"$f":"Roster_Selection_Men!AE121","v":""},null,{"$f":"IF(ISERROR(Individual_Scores_Men_Var!E123), \" \", IF(Individual_Scores_Men_Var!E123 = \"Yes\", \"Yes\", \"  \"))","v":"  "}," "," "," "," "," "," "," "," "," "," "," "," "," "," "," "," "," "," "," "," "," "," "," "," "," "," "," "," "," "," "," "," "," "," "," "," "," "," "," "," "," "," "," "," "," "," "," "," "," "," "," "," "," "," "," "," "," "," "," "," "," "," "," "," "," "," "," "," "," "," "," "," "," "," "]
[null,"Hastings College V",{"$f":"Individual_Scores_Men_Var!C124","v":""},{"$f":"Individual_Scores_Men_Var!D124","v":""},null,null," "," "," "," "," "," "," "," "," "," "," "," "," "," "," "," "," "," "," "," "," "," "," "," "," "," "," "," "," "," "," "," "," "," "," "," "," "," "," "," "," "," "," "," "," "," "," "," "," "," "," "," "," "," "," "," "," "," "," "," "," "," "," "," "," "," "," "," "," "," "," "," "," "," "]
[null,"Hastings College V",{"$f":"Individual_Scores_Men_Var!C125","v":""},{"$f":"Individual_Scores_Men_Var!D125","v":""},null,null," "," "," "," "," "," "," "," "," "," "," "," "," "," "," "," "," "," "," "," "," "," "," "," "," "," "," "," "," "," "," "," "," "," "," "," "," "," "," "," "," "," "," "," "," "," "," "," "," "," "," "," "," "," "," "," "," "," "," "," "," "," "," "," "," "," "," "," "," "," "," "," "," "," "]
[null,"Hastings College V",{"$f":"Individual_Scores_Men_Var!C126","v":""},{"$f":"Individual_Scores_Men_Var!D126","v":""},null,null," "," "," "," "," "," "," "," "," "," "," "," "," "," "," "," "," "," "," "," "," "," "," "," "," "," "," "," "," "," "," "," "," "," "," "," "," "," "," "," "," "," "," "," "," "," "," "," "," "," "," "," "," "," "," "," "," "," "," "," "," "," "," "," "," "," "," "," "," "," "," "," "," "," "]
[null," "," "," ",null,null," "," "," "," "," "," "," "," "," "," "," "," "," "," "," "," "," "," "," "," "," "," "," "," "," "," "," "," "," "," "," "," "," "," "," "," "," "," "," "," "," "," "," "," "," "," "," "," "," "," "," "," "," "," "," "," "," "," "," "," "," "," "," "," "," "," "," "," "," "," "," "," "," "," "]
[null," "," "," ",null,null," "," "," "," "," "," "," "," "," "," "," "," "," "," "," "," "," "," "," "," "," "," "," "," "," "," "," "," "," "," "," "," "," "," "," "," "," "," "," "," "," "," "," "," "," "," "," "," "," "," "," "," "," "," "," "," "," "," "," "," "," "," "," "," "," "," "," "," "," "," "," "," "," "," "]
[null,{"$f":"Roster_Selection_Men!AB129&\" \" & \"V \"","v":"Iowa Central Community College V "},{"$f":"Roster_Selection_Men!AD129","v":"11-123571"},{"$f":"Roster_Selection_Men!AE129","v":"Dawson Weber"},null,{"$f":"IF(ISERROR(Individual_Scores_Men_Var!E129), \" \", IF(Individual_Scores_Men_Var!E129 = \"Yes\", \"Yes\", \"  \"))","v":"  "},"Games",220.0,136.0,175.0,195.0,203.0,199.0,150.0,145.0,213.0,258.0,137.0,210.0,213.0,201.0,226.0,224.0,190.0,216.0,205.0,185.0,{"$f":"SUM(H129:AA129)","v":3901},{"$f":"COUNTIF(H129:AA129, \">0\" )","v":20},{"$f":"AB129/AC129","v":195.05}," "," "," "," "," "," "," "," "," "," "," "," "," "," "," "," "," "," "," "," "," "," "," "," "," "," "," "," "," "," "," "," "," "," "," "," "," "," "," "," "," "," "," "," "," "," "," "," "," "," "]
[null,{"$f":"Roster_Selection_Men!AB130&\" \" & \"V \"","v":"Iowa Central Community College V "},{"$f":"Roster_Selection_Men!AD130","v":"15-118474"},{"$f":"Roster_Selection_Men!AE130","v":"Easton Lee"},null,{"$f":"IF(ISERROR(Individual_Scores_Men_Var!E130), \" \", IF(Individual_Scores_Men_Var!E130 = \"Yes\", \"Yes\", \"  \"))","v":"  "}," "," "," "," "," "," "," "," "," "," "," "," "," "," "," "," "," "," "," "," "," "," "," "," "," "," "," "," "," "," "," "," "," "," "," "," "," "," "," "," "," "," "," "," "," "," "," "," "," "," "," "," "," "," "," "," "," "," "," "," "," "," "," "," "," "," "," "," "," "," "," "," "," "," "]
[null,{"$f":"Roster_Selection_Men!AB131&\" \" & \"V \"","v":"Iowa Central Community College V "},{"$f":"Roster_Selection_Men!AD131","v":"6987-998"},{"$f":"Roster_Selection_Men!AE131","v":"Jacob Kraft"},null,{"$f":"IF(ISERROR(Individual_Scores_Men_Var!E131), \" \", IF(Individual_Scores_Men_Var!E131 = \"Yes\", \"Yes\", \"  \"))","v":"  "}," "," "," "," "," "," "," "," "," "," "," "," "," "," "," "," "," "," "," "," "," "," "," "," "," "," "," "," "," "," "," "," "," "," "," "," "," "," "," "," "," "," "," "," "," "," "," "," "," "," "," "," "," "," "," "," "," "," "," "," "," "," "," "," "," "," "," "," "," "," "," "," "," "," "]
[null,{"$f":"Roster_Selection_Men!AB132&\" \" & \"V \"","v":"Iowa Central Community College V "},{"$f":"Roster_Selection_Men!AD132","v":"8731-3049"},{"$f":"Roster_Selection_Men!AE132","v":"Justin Graves"},null,{"$f":"IF(ISERROR(Individual_Scores_Men_Var!E132), \" \", IF(Individual_Scores_Men_Var!E132 = \"Yes\", \"Yes\", \"  \"))","v":"  "}," "," "," "," "," "," "," "," "," "," "," "," "," "," "," "," "," "," "," "," "," "," "," "," "," "," "," "," "," "," "," "," "," "," "," "," "," "," "," "," "," "," "," "," "," "," "," "," "," "," "," "," "," "," "," "," "," "," "," "," "," "," "," "," "," "," "," "," "," "," "," "," "," "," "]
[null,{"$f":"Roster_Selection_Men!AB133&\" \" & \"V \"","v":"Iowa Central Community College V "},{"$f":"Roster_Selection_Men!AD133","v":"11-241684"},{"$f":"Roster_Selection_Men!AE133","v":"Lucas Campbell"},null,{"$f":"IF(ISERROR(Individual_Scores_Men_Var!E133), \" \", IF(Individual_Scores_Men_Var!E133 = \"Yes\", \"Yes\", \"  \"))","v":"  "}," "," "," "," "," "," "," "," "," "," "," "," "," "," "," "," "," "," "," "," "," "," "," "," "," "," "," "," "," "," "," "," "," "," "," "," "," "," "," "," "," "," "," "," "," "," "," "," "," "," "," "," "," "," "," "," "," "," "," "," "," "," "," "," "," "," "," "," "," "," "," "," "," "," "]
[null,{"$f":"Roster_Selection_Men!AB134&\" \" & \"V \"","v":"Iowa Central Community College V "},{"$f":"Roster_Selection_Men!AD134","v":"19-52211"},{"$f":"Roster_Selection_Men!AE134","v":"Nathan Swanson"},null,{"$f":"IF(ISERROR(Individual_Scores_Men_Var!E134), \" \", IF(Individual_Scores_Men_Var!E134 = \"Yes\", \"Yes\", \"  \"))","v":"  "}," "," "," "," "," "," "," "," "," "," "," "," "," "," "," "," "," "," "," "," "," "," "," "," "," "," "," "," "," "," "," "," "," "," "," "," "," "," "," "," "," "," "," "," "," "," "," "," "," "," "," "," "," "," "," "," "," "," "," "," "," "," "," "," "," "," "," "," "," "," "," "," "," "," "]
[null,{"$f":"Roster_Selection_Men!AB135&\" \" & \"V \"","v":"Iowa Central Community College V "},{"$f":"Roster_Selection_Men!AD135","v":"17-29871"},{"$f":"Roster_Selection_Men!AE135","v":"Steven Stone"},null,{"$f":"IF(ISERROR(Individual_Scores_Men_Var!E135), \" \", IF(Individual_Scores_Men_Var!E135 = \"Yes\", \"Yes\", \"  \"))","v":"  "}," "," "," "," "," "," "," "," "," "," "," "," "," "," "," "," "," "," "," "," "," "," "," "," "," "," "," "," "," "," "," "," "," "," "," "," "," "," "," "," "," "," "," "," "," "," "," "," "," "," "," "," "," "," "," "," "," "," "," "," "," "," "," "," "," "," "," "," "," "," "," "," "," "," "]
[null,{"$f":"Roster_Selection_Men!AB136&\" \" & \"V \"","v":"Iowa Central Community College V "},{"$f":"Roster_Selection_Men!AD136","v":"18-88391"},{"$f":"Roster_Selection_Men!AE136","v":"Tyler Whitner"},null,{"$f":"IF(ISERROR(Individual_Scores_Men_Var!E136), \" \", IF(Individual_Scores_Men_Var!E136 = \"Yes\", \"Yes\", \"  \"))","v":"  "}," "," "," "," "," "," "," "," "," "," "," "," "," "," "," "," "," "," "," "," "," "," "," "," "," "," "," "," "," "," "," "," "," "," "," "," "," "," "," "," "," "," "," "," "," "," "," "," "," "," "," "," "," "," "," "," "," "," "," "," "," "," "," "," "," "," "," "," "," "," "," "," "," "," "]
[null,"Iowa Central Community College V",{"$f":"Individual_Scores_Men_Var!C137","v":""},{"$f":"Individual_Scores_Men_Var!D137","v":""},null,null," "," "," "," "," "," "," "," "," "," "," "," "," "," "," "," "," "," "," "," "," "," "," "," "," "," "," "," "," "," "," "," "," "," "," "," "," "," "," "," "," "," "," "," "," "," "," "," "," "," "," "," "," "," "," "," "," "," "," "," "," "," "," "," "," "," "," "," "," "," "," "," "," "," "]
[null,"Iowa Central Community College V",{"$f":"Individual_Scores_Men_Var!C138","v":""},{"$f":"Individual_Scores_Men_Var!D138","v":""},null,null," "," "," "," "," "," "," "," "," "," "," "," "," "," "," "," "," "," "," "," "," "," "," "," "," "," "," "," "," "," "," "," "," "," "," "," "," "," "," "," "," "," "," "," "," "," "," "," "," "," "," "," "," "," "," "," "," "," "," "," "," "," "," "," "," "," "," "," "," "," "," "," "," "," "]
[null,"Iowa Central Community College V",{"$f":"Individual_Scores_Men_Var!C139","v":""},{"$f":"Individual_Scores_Men_Var!D139","v":""},null,null," "," "," "," "," "," "," "," "," "," "," "," "," "," "," "," "," "," "," "," "," "," "," "," "," "," "," "," "," "," "," "," "," "," "," "," "," "," "," "," "," "," "," "," "," "," "," "," "," "," "," "," "," "," "," "," "," "," "," "," "," "," "," "," "," "," "," "," "," "," "," "," "," "," "]
[null," "," "," ",null,null," "," "," "," "," "," "," "," "," "," "," "," "," "," "," "," "," "," "," "," "," "," "," "," "," "," "," "," "," "," "," "," "," "," "," "," "," "," "," "," "," "," "," "," "," "," "," "," "," "," "," "," "," "," "," "," "," "," "," "," "," "," "," "," "," "," "," "," "," "," "," "," "," "," "]
[null," "," "," ",null,null," "," "," "," "," "," "," "," "," "," "," "," "," "," "," "," "," "," "," "," "," "," "," "," "," "," "," "," "," "," "," "," "," "," "," "," "," "," "," "," "," "," "," "," "," "," "," "," "," "," "," "," "," "," "," "," "," "," "," "," "," "," "," "," "," "," "," "," "," "," "," "," "," "," "]
[null,{"$f":"Roster_Selection_Men!AB143&\" \" & \"V \"","v":"Iowa Western Community College V "},{"$f":"Roster_Selection_Men!AD143","v":"7914-26313"},{"$f":"Roster_Selection_Men!AE143","v":"Andrew Chavarria"},null,{"$f":"IF(ISERROR(Individual_Scores_Men_Var!E142), \" \", IF(Individual_Scores_Men_Var!E142 = \"Yes\", \"Yes\", \"  \"))","v":"  "},"Games",159.0,222.0,143.0,185.0,189.0,179.0,184.0,180.0,175.0,277.0,170.0,179.0,179.0,240.0,141.0,182.0,254.0,237.0,202.0,145.0,{"$f":"SUM(H142:AA142)","v":3822},{"$f":"COUNTIF(H142:AA142, \">0\" )","v":20},{"$f":"AB142/AC142","v":191.1}," "," "," "," "," "," "," "," "," "," "," "," "," "," "," "," "," "," "," "," "," "," "," "," "," "," "," "," "," "," "," "," "," "," "," "," "," "," "," "," "," "," "," "," "," "," "," "," "," "," "]
[null,{"$f":"Roster_Selection_Men!AB144&\" \" & \"V \"","v":"Iowa Western Community College V "},{"$f":"Roster_Selection_Men!AD144","v":"7914-660"},{"$f":"Roster_Selection_Men!AE144","v":"Andrew Hall"},null,{"$f":"IF(ISERROR(Individual_Scores_Men_Var!E143), \" \", IF(Individual_Scores_Men_Var!E143 = \"Yes\", \"Yes\", \"  \"))","v":"  "}," "," "," "," "," "," "," "," "," "," "," "," "," "," "," "," "," "," "," "," "," "," "," "," "," "," "," "," "," "," "," "," "," "," "," "," "," "," "," "," "," "," "," "," "," "," "," "," "," "," "," "," "," "," "," "," "," "," "," "," "," "," "," "," "," "," "," "," "," "," "," "," "," "," "]
[null,{"$f":"Roster_Selection_Men!AB145&\" \" & \"V \"","v":"Iowa Western Community College V "},{"$f":"Roster_Selection_Men!AD145","v":"20-5362"},{"$f":"Roster_Selection_Men!AE145","v":"Brandon Savino"},null,{"$f":"IF(ISERROR(Individual_Scores_Men_Var!E144), \" \", IF(Individual_Scores_Men_Var!E144 = \"Yes\", \"Yes\", \"  \"))","v":"  "}," "," "," "," "," "," "," "," "," "," "," "," "," "," "," "," "," "," "," "," "," "," "," "," "," "," "," "," "," "," "," "," "," "," "," "," "," "," "," "," "," "," "," "," "," "," "," "," "," "," "," "," "," "," "," "," "," "," "," "," "," "," "," "," "," "," "," "," "," "," "," "," "," "," "]
[null,{"$f":"Roster_Selection_Men!AB146&\" \" & \"V \"","v":"Iowa Western Community College V "},{"$f":"Roster_Selection_Men!AD146","v":"20-9086"},{"$f":"Roster_Selection_Men!AE146","v":"Cameron Brundage"},null,{"$f":"IF(ISERROR(Individual_Scores_Men_Var!E145), \" \", IF(Individual_Scores_Men_Var!E145 = \"Yes\", \"Yes\", \"  \"))","v":"  "}," "," "," "," "," "," "," "," "," "," "," "," "," "," "," "," "," "," "," "," "," "," "," "," "," "," "," "," "," "," "," "," "," "," "," "," "," "," "," "," "," "," "," "," "," "," "," "," "," "," "," "," "," "," "," "," "," "," "," "," "," "," "," "," "," "," "," "," "," "," "," "," "," "," "]
[null,{"$f":"Roster_Selection_Men!AB147&\" \" & \"V \"","v":"Iowa Western Community College V "},{"$f":"Roster_Selection_Men!AD147","v":"15-118730"},{"$f":"Roster_Selection_Men!AE147","v":"Chandler Scott"},null,{"$f":"IF(ISERROR(Individual_Scores_Men_Var!E146), \" \", IF(Individual_Scores_Men_Var!E146 = \"Yes\", \"Yes\", \"  \"))","v":"  "}," "," "," "," "," "," "," "," "," "," "," "," "," "," "," "," "," "," "," "," "," "," "," "," "," "," "," "," "," "," "," "," "," "," "," "," "," "," "," "," "," "," "," "," "," "," "," "," "," "," "," "," "," "," "," "," "," "," "," "," "," "," "," "," "," "," "," "," "," "," "," "," "," "," "]
[null,{"$f":"Roster_Selection_Men!AB148&\" \" & \"V \"","v":"Iowa Western Community College V "},{"$f":"Roster_Selection_Men!AD148","v":"11-513100"},{"$f":"Roster_Selection_Men!AE148","v":"Kaleb Anderson"},null,{"$f":"IF(ISERROR(Individual_Scores_Men_Var!E147), \" \", IF(Individual_Scores_Men_Var!E147 = \"Yes\", \"Yes\", \"  \"))","v":"  "}," "," "," "," "," "," "," "," "," "," "," "," "," "," "," "," "," "," "," "," "," "," "," "," "," "," "," "," "," "," "," "," "," "," "," "," "," "," "," "," "," "," "," "," "," "," "," "," "," "," "," "," "," "," "," "," "," "," "," "," "," "," "," "," "," "," "," "," "," "," "," "," "," "," "]
[null,{"$f":"Roster_Selection_Men!AB149&\" \" & \"V \"","v":"Iowa Western Community College V "},{"$f":"Roster_Selection_Men!AD149","v":"8128-4496"},{"$f":"Roster_Selection_Men!AE149","v":"Mason Sterkel"},null,{"$f":"IF(ISERROR(Individual_Scores_Men_Var!E148), \" \", IF(Individual_Scores_Men_Var!E148 = \"Yes\", \"Yes\", \"  \"))","v":"  "}," "," "," "," "," "," "," "," "," "," "," "," "," "," "," "," "," "," "," "," "," "," "," "," "," "," "," "," "," "," "," "," "," "," "," "," "," "," "," "," "," "," "," "," "," "," "," "," "," "," "," "," "," "," "," "," "," "," "," "," "," "," "," "," "," "," "," "," "," "," "," "," "," "," "]
[null,{"$f":"Roster_Selection_Men!AB150&\" \" & \"V \"","v":"Iowa Western Community College V "},{"$f":"Roster_Selection_Men!AD150","v":"19-85485"},{"$f":"Roster_Selection_Men!AE150","v":"Zane Cairo"},null,{"$f":"IF(ISERROR(Individual_Scores_Men_Var!E149), \" \", IF(Individual_Scores_Men_Var!E149 = \"Yes\", \"Yes\", \"  \"))","v":"  "}," "," "," "," "," "," "," "," "," "," "," "," "," "," "," "," "," "," "," "," "," "," "," "," "," "," "," "," "," "," "," "," "," "," "," "," "," "," "," "," "," "," "," "," "," "," "," "," "," "," "," "," "," "," "," "," "," "," "," "," "," "," "," "," "," "," "," "," "," "," "," "," "," "," "]
[null,"Iowa Western Community College V",{"$f":"Individual_Scores_Men_Var!C150","v":""},{"$f":"Individual_Scores_Men_Var!D150","v":""},null,null," "," "," "," "," "," "," "," "," "," "," "," "," "," "," "," "," "," "," "," "," "," "," "," "," "," "," "," "," "," "," "," "," "," "," "," "," "," "," "," "," "," "," "," "," "," "," "," "," "," "," "," "," "," "," "," "," "," "," "," "," "," "," "," "," "," "," "," "," "," "," "," "," "," "]
[null,"Iowa Western Community College V",{"$f":"Individual_Scores_Men_Var!C151","v":""},{"$f":"Individual_Scores_Men_Var!D151","v":""},null,null," "," "," "," "," "," "," "," "," "," "," "," "," "," "," "," "," "," "," "," "," "," "," "," "," "," "," "," "," "," "," "," "," "," "," "," "," "," "," "," "," "," "," "," "," "," "," "," "," "," "," "," "," "," "," "," "," "," "," "," "," "," "," "," "," "," "," "," "," "," "," "," "," "," "]
[null,"Iowa Western Community College V",{"$f":"Individual_Scores_Men_Var!C152","v":""},{"$f":"Individual_Scores_Men_Var!D152","v":""},null,null," "," "," "," "," "," "," "," "," "," "," "," "," "," "," "," "," "," "," "," "," "," "," "," "," "," "," "," "," "," "," "," "," "," "," "," "," "," "," "," "," "," "," "," "," "," "," "," "," "," "," "," "," "," "," "," "," "," "," "," "," "," "," "," "," "," "," "," "," "," "," "," "," "," "]
[null," "," "," ",null,null," "," "," "," "," "," "," "," "," "," "," "," "," "," "," "," "," "," "," "," "," "," "," "," "," "," "," "," "," "," "," "," "," "," "," "," "," "," "," "," "," "," "," "," "," "," "," "," "," "," "," "," "," "," "," "," "," "," "," "," "," "," "," "," "," "," "," "," "," "," "," "," "," "," "]
[null," "," "," ",null,null," "," "," "," "," "," "," "," "," "," "," "," "," "," "," "," "," "," "," "," "," "," "," "," "," "," "," "," "," "," "," "," "," "," "," "," "," "," "," "," "," "," "," "," "," "," "," "," "," "," "," "," "," "," "," "," "," "," "," "," "," "," "," "," "," "," "," "," "," "," "," "," "," "," "]
[null,{"$f":"Roster_Selection_Men!AB157&\" \" & \"V \"","v":"Kansas ,University Of V "},{"$f":"Roster_Selection_Men!AD157","v":"20-50265"},{"$f":"Roster_Selection_Men!AE157","v":"Brady Aebersold"},null,{"$f":"IF(ISERROR(Individual_Scores_Men_Var!E155), \" \", IF(Individual_Scores_Men_Var!E155 = \"Yes\", \"Yes\", \"  \"))","v":"  "},"Games",178.0,177.0,193.0,190.0,203.0,190.0,243.0,238.0,211.0,115.0,198.0,275.0,210.0,207.0,192.0,197.0,237.0,172.0,180.0,168.0,{"$f":"SUM(H155:AA155)","v":3974},{"$f":"COUNTIF(H155:AA155, \">0\" )","v":20},{"$f":"AB155/AC155","v":198.7}," "," "," "," "," "," "," "," "," "," "," "," "," "," "," "," "," "," "," "," "," "," "," "," "," "," "," "," "," "," "," "," "," "," "," "," "," "," "," "," "," "," "," "," "," "," "," "," "," "," "]
[null,{"$f":"Roster_Selection_Men!AB158&\" \" & \"V \"","v":"Kansas ,University Of V "},{"$f":"Roster_Selection_Men!AD158","v":"11-489693"},{"$f":"Roster_Selection_Men!AE158","v":"Chase Milledge"},null,{"$f":"IF(ISERROR(Individual_Scores_Men_Var!E156), \" \", IF(Individual_Scores_Men_Var!E156 = \"Yes\", \"Yes\", \"  \"))","v":"  "}," "," "," "," "," "," "," "," "," "," "," "," "," "," "," "," "," "," "," "," "," "," "," "," "," "," "," "," "," "," "," "," "," "," "," "," "," "," "," "," "," "," "," "," "," "," "," "," "," "," "," "," "," "," "," "," "," "," "," "," "," "," "," "," "," "," "," "," "," "," "," "," "," "," "]
[null,{"$f":"Roster_Selection_Men!AB159&\" \" & \"V \"","v":"Kansas ,University Of V "},{"$f":"Roster_Selection_Men!AD159","v":"19-11396"},{"$f":"Roster_Selection_Men!AE159","v":"John Kane"},null,{"$f":"IF(ISERROR(Individual_Scores_Men_Var!E157), \" \", IF(Individual_Scores_Men_Var!E157 = \"Yes\", \"Yes\", \"  \"))","v":"  "}," "," "," "," "," "," "," "," "," "," "," "," "," "," "," "," "," "," "," "," "," "," "," "," "," "," "," "," "," "," "," "," "," "," "," "," "," "," "," "," "," "," "," "," "," "," "," "," "," "," "," "," "," "," "," "," "," "," "," "," "," "," "," "," "," "," "," "," "," "," "," "," "," "," "]
[null,{"$f":"Roster_Selection_Men!AB160&\" \" & \"V \"","v":"Kansas ,University Of V "},{"$f":"Roster_Selection_Men!AD160","v":"22-27350"},{"$f":"Roster_Selection_Men!AE160","v":"Mory Ashenberg"},null,{"$f":"IF(ISERROR(Individual_Scores_Men_Var!E158), \" \", IF(Individual_Scores_Men_Var!E158 = \"Yes\", \"Yes\", \"  \"))","v":"  "}," "," "," "," "," "," "," "," "," "," "," "," "," "," "," "," "," "," "," "," "," "," "," "," "," "," "," "," "," "," "," "," "," "," "," "," "," "," "," "," "," "," "," "," "," "," "," "," "," "," "," "," "," "," "," "," "," "," "," "," "," "," "," "," "," "," "," "," "," "," "," "," "," "," "]
[null,{"$f":"Roster_Selection_Men!AB161&\" \" & \"V \"","v":"Kansas ,University Of V "},{"$f":"Roster_Selection_Men!AD161","v":"19-83040"},{"$f":"Roster_Selection_Men!AE161","v":"Patrick Bloomer"},null,{"$f":"IF(ISERROR(Individual_Scores_Men_Var!E159), \" \", IF(Individual_Scores_Men_Var!E159 = \"Yes\", \"Yes\", \"  \"))","v":"  "}," "," "," "," "," "," "," "," "," "," "," "," "," "," "," "," "," "," "," "," "," "," "," "," "," "," "," "," "," "," "," "," "," "," "," "," "," "," "," "," "," "," "," "," "," "," "," "," "," "," "," "," "," "," "," "," "," "," "," "," "," "," "," "," "," "," "," "," "," "," "," "," "," "," "]
[null,{"$f":"Roster_Selection_Men!AB162&\" \" & \"V \"","v":"Kansas ,University Of V "},{"$f":"Roster_Selection_Men!AD162","v":"11-348802"},{"$f":"Roster_Selection_Men!AE162","v":"Preston Pacheco"},null,{"$f":"IF(ISERROR(Individual_Scores_Men_Var!E160), \" \", IF(Individual_Scores_Men_Var!E160 = \"Yes\", \"Yes\", \"  \"))","v":"  "}," "," "," "," "," "," "," "," "," "," "," "," "," "," "," "," "," "," "," "," "," "," "," "," "," "," "," "," "," "," "," "," "," "," "," "," "," "," "," "," "," "," "," "," "," "," "," "," "," "," "," "," "," "," "," "," "," "," "," "," "," "," "," "," "," "," "," "," "," "," "," "," "," "," "]
[null,{"$f":"Roster_Selection_Men!AB163&\" \" & \"V \"","v":" V "},{"$f":"Roster_Selection_Men!AD163","v":""},{"$f":"Roster_Selection_Men!AE163","v":""},null,{"$f":"IF(ISERROR(Individual_Scores_Men_Var!E161), \" \", IF(Individual_Scores_Men_Var!E161 = \"Yes\", \"Yes\", \"  \"))","v":"  "}," "," "," "," "," "," "," "," "," "," "," "," "," "," "," "," "," "," "," "," "," "," "," "," "," "," "," "," "," "," "," "," "," "," "," "," "," "," "," "," "," "," "," "," "," "," "," "," "," "," "," "," "," "," "," "," "," "," "," "," "," "," "," "," "," "," "," "," "," "," "," "," "," "," "]
[null,{"$f":"Roster_Selection_Men!AB164&\" \" & \"V \"","v":" V "},{"$f":"Roster_Selection_Men!AD164","v":""},{"$f":"Roster_Selection_Men!AE164","v":""},null,{"$f":"IF(ISERROR(Individual_Scores_Men_Var!E162), \" \", IF(Individual_Scores_Men_Var!E162 = \"Yes\", \"Yes\", \"  \"))","v":"  "}," "," "," "," "," "," "," "," "," "," "," "," "," "," "," "," "," "," "," "," "," "," "," "," "," "," "," "," "," "," "," "," "," "," "," "," "," "," "," "," "," "," "," "," "," "," "," "," "," "," "," "," "," "," "," "," "," "," "," "," "," "," "," "," "," "," "," "," "," "," "," "," "," "," "]
[null,"Kansas ,University Of V",{"$f":"Individual_Scores_Men_Var!C163","v":""},{"$f":"Individual_Scores_Men_Var!D163","v":""},null,null," "," "," "," "," "," "," "," "," "," "," "," "," "," "," "," "," "," "," "," "," "," "," "," "," "," "," "," "," "," "," "," "," "," "," "," "," "," "," "," "," "," "," "," "," "," "," "," "," "," "," "," "," "," "," "," "," "," "," "," "," "," "," "," "," "," "," "," "," "," "," "," "," "," "]
[null,"Kansas ,University Of V",{"$f":"Individual_Scores_Men_Var!C164","v":""},{"$f":"Individual_Scores_Men_Var!D164","v":""},null,null," "," "," "," "," "," "," "," "," "," "," "," "," "," "," "," "," "," "," "," "," "," "," "," "," "," "," "," "," "," "," "," "," "," "," "," "," "," "," "," "," "," "," "," "," "," "," "," "," "," "," "," "," "," "," "," "," "," "," "," "," "," "," "," "," "," "," "," "," "," "," "," "," "," "]
[null,"Kansas ,University Of V",{"$f":"Individual_Scores_Men_Var!C165","v":""},{"$f":"Individual_Scores_Men_Var!D165","v":""},null,null," "," "," "," "," "," "," "," "," "," "," "," "," "," "," "," "," "," "," "," "," "," "," "," "," "," "," "," "," "," "," "," "," "," "," "," "," "," "," "," "," "," "," "," "," "," "," "," "," "," "," "," "," "," "," "," "," "," "," "," "," "," "," "," "," "," "," "," "," "," "," "," "," "," "]
[null," "," "," ",null,null," "," "," "," "," "," "," "," "," "," "," "," "," "," "," "," "," "," "," "," "," "," "," "," "," "," "," "," "," "," "," "," "," "," "," "," "," "," "," "," "," "," "," "," "," "," "," "," "," "," "," "," "," "," "," "," "," "," "," "," "," "," "," "," "," "," "," "," "," "," "," "," "," "," "]
[null," "," "," ",null,null," "," "," "," "," "," "," "," "," "," "," "," "," "," "," "," "," "," "," "," "," "," "," "," "," "," "," "," "," "," "," "," "," "," "," "," "," "," "," "," "," "," "," "," "," "," "," "," "," "," "," "," "," "," "," "," "," "," "," "," "," "," "," "," "," "," "," "," "," "," "," "," "," "," "]
[null,{"$f":"Roster_Selection_Men!AB169&\" \" & \"V \"","v":"Kansas State University V "},{"$f":"Roster_Selection_Men!AD169","v":"22-16685"},{"$f":"Roster_Selection_Men!AE169","v":"Braden Maltz"},null,{"$f":"IF(ISERROR(Individual_Scores_Men_Var!E168), \" \", IF(Individual_Scores_Men_Var!E168 = \"Yes\", \"Yes\", \"  \"))","v":"  "},"Games",180.0,232.0,149.0,157.0,158.0,175.0,193.0,142.0,181.0,157.0,135.0,145.0,138.0,202.0,179.0,200.0,146.0,153.0,169.0,172.0,{"$f":"SUM(H168:AA168)","v":3363},{"$f":"COUNTIF(H168:AA168, \">0\" )","v":20},{"$f":"AB168/AC168","v":168.15}," "," "," "," "," "," "," "," "," "," "," "," "," "," "," "," "," "," "," "," "," "," "," "," "," "," "," "," "," "," "," "," "," "," "," "," "," "," "," "," "," "," "," "," "," "," "," "," "," "," "]
[null,{"$f":"Roster_Selection_Men!AB170&\" \" & \"V \"","v":"Kansas State University V "},{"$f":"Roster_Selection_Men!AD170","v":"19-85683"},{"$f":"Roster_Selection_Men!AE170","v":"Brady Cline"},null,{"$f":"IF(ISERROR(Individual_Scores_Men_Var!E169), \" \", IF(Individual_Scores_Men_Var!E169 = \"Yes\", \"Yes\", \"  \"))","v":"  "}," "," "," "," "," "," "," "," "," "," "," "," "," "," "," "," "," "," "," "," "," "," "," "," "," "," "," "," "," "," "," "," "," "," "," "," "," "," "," "," "," "," "," "," "," "," "," "," "," "," "," "," "," "," "," "," "," "," "," "," "," "," "," "," "," "," "," "," "," "," "," "," "," "," "]
[null,{"$f":"Roster_Selection_Men!AB171&\" \" & \"V \"","v":"Kansas State University V "},{"$f":"Roster_Selection_Men!AD171","v":"11-90659"},{"$f":"Roster_Selection_Men!AE171","v":"Cameron Kotwitz"},null,{"$f":"IF(ISERROR(Individual_Scores_Men_Var!E170), \" \", IF(Individual_Scores_Men_Var!E170 = \"Yes\", \"Yes\", \"  \"))","v":"  "}," "," "," "," "," "," "," "," "," "," "," "," "," "," "," "," "," "," "," "," "," "," "," "," "," "," "," "," "," "," "," "," "," "," "," "," "," "," "," "," "," "," "," "," "," "," "," "," "," "," "," "," "," "," "," "," "," "," "," "," "," "," "," "," "," "," "," "," "," "," "," "," "," "," "]
[null,{"$f":"Roster_Selection_Men!AB172&\" \" & \"V \"","v":"Kansas State University V "},{"$f":"Roster_Selection_Men!AD172","v":"21-24464"},{"$f":"Roster_Selection_Men!AE172","v":"Carter Schaffer"},null,{"$f":"IF(ISERROR(Individual_Scores_Men_Var!E171), \" \", IF(Individual_Scores_Men_Var!E171 = \"Yes\", \"Yes\", \"  \"))","v":"  "}," "," "," "," "," "," "," "," "," "," "," "," "," "," "," "," "," "," "," "," "," "," "," "," "," "," "," "," "," "," "," "," "," "," "," "," "," "," "," "," "," "," "," "," "," "," "," "," "," "," "," "," "," "," "," "," "," "," "," "," "," "," "," "," "," "," "," "," "," "," "," "," "," "," "]
[null,{"$f":"Roster_Selection_Men!AB173&\" \" & \"V \"","v":"Kansas State University V "},{"$f":"Roster_Selection_Men!AD173","v":"11-275379"},{"$f":"Roster_Selection_Men!AE173","v":"Devin Morelock"},null,{"$f":"IF(ISERROR(Individual_Scores_Men_Var!E172), \" \", IF(Individual_Scores_Men_Var!E172 = \"Yes\", \"Yes\", \"  \"))","v":"  "}," "," "," "," "," "," "," "," "," "," "," "," "," "," "," "," "," "," "," "," "," "," "," "," "," "," "," "," "," "," "," "," "," "," "," "," "," "," "," "," "," "," "," "," "," "," "," "," "," "," "," "," "," "," "," "," "," "," "," "," "," "," "," "," "," "," "," "," "," "," "," "," "," "," "]
[null,{"$f":"Roster_Selection_Men!AB174&\" \" & \"V \"","v":"Kansas State University V "},{"$f":"Roster_Selection_Men!AD174","v":"15-107222"},{"$f":"Roster_Selection_Men!AE174","v":"Joe Tillery"},null,{"$f":"IF(ISERROR(Individual_Scores_Men_Var!E173), \" \", IF(Individual_Scores_Men_Var!E173 = \"Yes\", \"Yes\", \"  \"))","v":"  "}," "," "," "," "," "," "," "," "," "," "," "," "," "," "," "," "," "," "," "," "," "," "," "," "," "," "," "," "," "," "," "," "," "," "," "," "," "," "," "," "," "," "," "," "," "," "," "," "," "," "," "," "," "," "," "," "," "," "," "," "," "," "," "," "," "," "," "," "," "," "," "," "," "," "]
[null,{"$f":"Roster_Selection_Men!AB175&\" \" & \"V \"","v":"Kansas State University V "},{"$f":"Roster_Selection_Men!AD175","v":"17-101586"},{"$f":"Roster_Selection_Men!AE175","v":"Luke Belvin"},null,{"$f":"IF(ISERROR(Individual_Scores_Men_Var!E174), \" \", IF(Individual_Scores_Men_Var!E174 = \"Yes\", \"Yes\", \"  \"))","v":"  "}," "," "," "," "," "," "," "," "," "," "," "," "," "," "," "," "," "," "," "," "," "," "," "," "," "," "," "," "," "," "," "," "," "," "," "," "," "," "," "," "," "," "," "," "," "," "," "," "," "," "," "," "," "," "," "," "," "," "," "," "," "," "," "," "," "," "," "," "," "," "," "," "," "," "]
[null,{"$f":"Roster_Selection_Men!AB176&\" \" & \"V \"","v":" V "},{"$f":"Roster_Selection_Men!AD176","v":""},{"$f":"Roster_Selection_Men!AE176","v":""},null,{"$f":"IF(ISERROR(Individual_Scores_Men_Var!E175), \" \", IF(Individual_Scores_Men_Var!E175 = \"Yes\", \"Yes\", \"  \"))","v":"  "}," "," "," "," "," "," "," "," "," "," "," "," "," "," "," "," "," "," "," "," "," "," "," "," "," "," "," "," "," "," "," "," "," "," "," "," "," "," "," "," "," "," "," "," "," "," "," "," "," "," "," "," "," "," "," "," "," "," "," "," "," "," "," "," "," "," "," "," "," "," "," "," "," "," "]
[null,"Kansas State University V",{"$f":"Individual_Scores_Men_Var!C176","v":""},{"$f":"Individual_Scores_Men_Var!D176","v":""},null,null," "," "," "," "," "," "," "," "," "," "," "," "," "," "," "," "," "," "," "," "," "," "," "," "," "," "," "," "," "," "," "," "," "," "," "," "," "," "," "," "," "," "," "," "," "," "," "," "," "," "," "," "," "," "," "," "," "," "," "," "," "," "," "," "," "," "," "," "," "," "," "," "," "," "]
[null,"Kansas State University V",{"$f":"Individual_Scores_Men_Var!C177","v":""},{"$f":"Individual_Scores_Men_Var!D177","v":""},null,null," "," "," "," "," "," "," "," "," "," "," "," "," "," "," "," "," "," "," "," "," "," "," "," "," "," "," "," "," "," "," "," "," "," "," "," "," "," "," "," "," "," "," "," "," "," "," "," "," "," "," "," "," "," "," "," "," "," "," "," "," "," "," "," "," "," "," "," "," "," "," "," "," "," "]
[null,"Kansas State University V",{"$f":"Individual_Scores_Men_Var!C178","v":""},{"$f":"Individual_Scores_Men_Var!D178","v":""},null,null," "," "," "," "," "," "," "," "," "," "," "," "," "," "," "," "," "," "," "," "," "," "," "," "," "," "," "," "," "," "," "," "," "," "," "," "," "," "," "," "," "," "," "," "," "," "," "," "," "," "," "," "," "," "," "," "," "," "," "," "," "," "," "," "," "," "," "," "," "," "," "," "," "," "]
[null," "," "," ",null,null," "," "," "," "," "," "," "," "," "," "," "," "," "," "," "," "," "," "," "," "," "," "," "," "," "," "," "," "," "," "," "," "," "," "," "," "," "," "," "," "," "," "," "," "," "," "," "," "," "," "," "," "," "," "," "," "," "," "," "," "," "," "," "," "," "," "," "," "," "," "," "," "," "," "]
[null," "," "," ",null,null," "," "," "," "," "," "," "," "," "," "," "," "," "," "," "," "," "," "," "," "," "," "," "," "," "," "," "," "," "," "," "," "," "," "," "," "," "," "," "," "," "," "," "," "," "," "," "," "," "," "," "," "," "," "," "," "," "," "," "," "," "," "," "," "," "," "," "," "," "," "," "," "," "," "]
[null,{"$f":"Roster_Selection_Men!AB186&\" \" & \"V \"","v":"Kansas Wesleyan University V "},{"$f":"Roster_Selection_Men!AD186","v":"16-163630"},{"$f":"Roster_Selection_Men!AE186","v":"Alec Elskamp"},null,{"$f":"IF(ISERROR(Individual_Scores_Men_Var!E181), \" \", IF(Individual_Scores_Men_Var!E181 = \"Yes\", \"Yes\", \"  \"))","v":"  "},"Games",167.0,200.0,199.0,177.0,182.0,212.0,205.0,170.0,181.0,152.0,209.0,173.0,187.0,189.0,187.0,196.0,164.0,188.0,211.0,211.0,{"$f":"SUM(H181:AA181)","v":3760},{"$f":"COUNTIF(H181:AA181, \">0\" )","v":20},{"$f":"AB181/AC181","v":188}," "," "," "," "," "," "," "," "," "," "," "," "," "," "," "," "," "," "," "," "," "," "," "," "," "," "," "," "," "," "," "," "," "," "," "," "," "," "," "," "," "," "," "," "," "," "," "," "," "," "]
[null,{"$f":"Roster_Selection_Men!AB187&\" \" & \"V \"","v":"Kansas Wesleyan University V "},{"$f":"Roster_Selection_Men!AD187","v":"5900-25891"},{"$f":"Roster_Selection_Men!AE187","v":"Andrew Fonseca"},null,{"$f":"IF(ISERROR(Individual_Scores_Men_Var!E182), \" \", IF(Individual_Scores_Men_Var!E182 = \"Yes\", \"Yes\", \"  \"))","v":"  "}," "," "," "," "," "," "," "," "," "," "," "," "," "," "," "," "," "," "," "," "," "," "," "," "," "," "," "," "," "," "," "," "," "," "," "," "," "," "," "," "," "," "," "," "," "," "," "," "," "," "," "," "," "," "," "," "," "," "," "," "," "," "," "," "," "," "," "," "," "," "," "," "," "," "]
[null,{"$f":"Roster_Selection_Men!AB188&\" \" & \"V \"","v":"Kansas Wesleyan University V "},{"$f":"Roster_Selection_Men!AD188","v":"18-94173"},{"$f":"Roster_Selection_Men!AE188","v":"Jackson Penny"},null,{"$f":"IF(ISERROR(Individual_Scores_Men_Var!E183), \" \", IF(Individual_Scores_Men_Var!E183 = \"Yes\", \"Yes\", \"  \"))","v":"  "}," "," "," "," "," "," "," "," "," "," "," "," "," "," "," "," "," "," "," "," "," "," "," "," "," "," "," "," "," "," "," "," "," "," "," "," "," "," "," "," "," "," "," "," "," "," "," "," "," "," "," "," "," "," "," "," "," "," "," "," "," "," "," "," "," "," "," "," "," "," "," "," "," "," "]
[null,{"$f":"Roster_Selection_Men!AB189&\" \" & \"V \"","v":"Kansas Wesleyan University V "},{"$f":"Roster_Selection_Men!AD189","v":"17-80840"},{"$f":"Roster_Selection_Men!AE189","v":"Landon Hodge"},null,{"$f":"IF(ISERROR(Individual_Scores_Men_Var!E184), \" \", IF(Individual_Scores_Men_Var!E184 = \"Yes\", \"Yes\", \"  \"))","v":"  "}," "," "," "," "," "," "," "," "," "," "," "," "," "," "," "," "," "," "," "," "," "," "," "," "," "," "," "," "," "," "," "," "," "," "," "," "," "," "," "," "," "," "," "," "," "," "," "," "," "," "," "," "," "," "," "," "," "," "," "," "," "," "," "," "," "," "," "," "," "," "," "," "," "," "]
[null,{"$f":"Roster_Selection_Men!AB190&\" \" & \"V \"","v":"Kansas Wesleyan University V "},{"$f":"Roster_Selection_Men!AD190","v":"11-762339"},{"$f":"Roster_Selection_Men!AE190","v":"Landon Jones"},null,{"$f":"IF(ISERROR(Individual_Scores_Men_Var!E185), \" \", IF(Individual_Scores_Men_Var!E185 = \"Yes\", \"Yes\", \"  \"))","v":"  "}," "," "," "," "," "," "," "," "," "," "," "," "," "," "," "," "," "," "," "," "," "," "," "," "," "," "," "," "," "," "," "," "," "," "," "," "," "," "," "," "," "," "," "," "," "," "," "," "," "," "," "," "," "," "," "," "," "," "," "," "," "," "," "," "," "," "," "," "," "," "," "," "," "," "]
[null,{"$f":"Roster_Selection_Men!AB191&\" \" & \"V \"","v":"Kansas Wesleyan University V "},{"$f":"Roster_Selection_Men!AD191","v":"6507-11452"},{"$f":"Roster_Selection_Men!AE191","v":"Seth Baratz"},null,{"$f":"IF(ISERROR(Individual_Scores_Men_Var!E186), \" \", IF(Individual_Scores_Men_Var!E186 = \"Yes\", \"Yes\", \"  \"))","v":"  "}," "," "," "," "," "," "," "," "," "," "," "," "," "," "," "," "," "," "," "," "," "," "," "," "," "," "," "," "," "," "," "," "," "," "," "," "," "," "," "," "," "," "," "," "," "," "," "," "," "," "," "," "," "," "," "," "," "," "," "," "," "," "," "," "," "," "," "," "," "," "," "," "," "," "]
[null,{"$f":"Roster_Selection_Men!AB192&\" \" & \"V \"","v":"Kansas Wesleyan University V "},{"$f":"Roster_Selection_Men!AD192","v":"5900-23606"},{"$f":"Roster_Selection_Men!AE192","v":"Taylor Miller"},null,{"$f":"IF(ISERROR(Individual_Scores_Men_Var!E187), \" \", IF(Individual_Scores_Men_Var!E187 = \"Yes\", \"Yes\", \"  \"))","v":"  "}," "," "," "," "," "," "," "," "," "," "," "," "," "," "," "," "," "," "," "," "," "," "," "," "," "," "," "," "," "," "," "," "," "," "," "," "," "," "," "," "," "," "," "," "," "," "," "," "," "," "," "," "," "," "," "," "," "," "," "," "," "," "," "," "," "," "," "," "," "," "," "," "," "," "]
[null,{"$f":"Roster_Selection_Men!AB193&\" \" & \"V \"","v":"Kansas Wesleyan University V "},{"$f":"Roster_Selection_Men!AD193","v":"11-617695"},{"$f":"Roster_Selection_Men!AE193","v":"Taylor Wiley"},null,{"$f":"IF(ISERROR(Individual_Scores_Men_Var!E188), \" \", IF(Individual_Scores_Men_Var!E188 = \"Yes\", \"Yes\", \"  \"))","v":"  "}," "," "," "," "," "," "," "," "," "," "," "," "," "," "," "," "," "," "," "," "," "," "," "," "," "," "," "," "," "," "," "," "," "," "," "," "," "," "," "," "," "," "," "," "," "," "," "," "," "," "," "," "," "," "," "," "," "," "," "," "," "," "," "," "," "," "," "," "," "," "," "," "," "," "]
[null,"Kansas Wesleyan University V",{"$f":"Individual_Scores_Men_Var!C189","v":""},{"$f":"Individual_Scores_Men_Var!D189","v":""},null,null," "," "," "," "," "," "," "," "," "," "," "," "," "," "," "," "," "," "," "," "," "," "," "," "," "," "," "," "," "," "," "," "," "," "," "," "," "," "," "," "," "," "," "," "," "," "," "," "," "," "," "," "," "," "," "," "," "," "," "," "," "," "," "," "," "," "," "," "," "," "," "," "," "," "]
[null,"Kansas Wesleyan University V",{"$f":"Individual_Scores_Men_Var!C190","v":""},{"$f":"Individual_Scores_Men_Var!D190","v":""},null,null," "," "," "," "," "," "," "," "," "," "," "," "," "," "," "," "," "," "," "," "," "," "," "," "," "," "," "," "," "," "," "," "," "," "," "," "," "," "," "," "," "," "," "," "," "," "," "," "," "," "," "," "," "," "," "," "," "," "," "," "," "," "," "," "," "," "," "," "," "," "," "," "," "," "]
[null,"Kansas Wesleyan University V",{"$f":"Individual_Scores_Men_Var!C191","v":""},{"$f":"Individual_Scores_Men_Var!D191","v":""},null,null," "," "," "," "," "," "," "," "," "," "," "," "," "," "," "," "," "," "," "," "," "," "," "," "," "," "," "," "," "," "," "," "," "," "," "," "," "," "," "," "," "," "," "," "," "," "," "," "," "," "," "," "," "," "," "," "," "," "," "," "," "," "," "," "," "," "," "," "," "," "," "," "," "," "]
[null," "," "," ",null,null," "," "," "," "," "," "," "," "," "," "," "," "," "," "," "," "," "," "," "," "," "," "," "," "," "," "," "," "," "," "," "," "," "," "," "," "," "," "," "," "," "," "," "," "," "," "," "," "," "," "," "," "," "," "," "," "," "," "," "," "," "," "," "," "," "," "," "," "," "," "," "," "," "," "]
[null," "," "," ",null,null," "," "," "," "," "," "," "," "," "," "," "," "," "," "," "," "," "," "," "," "," "," "," "," "," "," "," "," "," "," "," "," "," "," "," "," "," "," "," "," "," "," "," "," "," "," "," "," "," "," "," "," "," "," "," "," "," "," "," "," "," "," "," "," "," "," "," "," "," "," "," "," "," "," "]
[null,{"$f":"Roster_Selection_Men!AB197&\" \" & \"V \"","v":"Lindenwood University V "},{"$f":"Roster_Selection_Men!AD197","v":"6455-5561"},{"$f":"Roster_Selection_Men!AE197","v":"Andrew Sacks"},null,{"$f":"IF(ISERROR(Individual_Scores_Men_Var!E194), \" \", IF(Individual_Scores_Men_Var!E194 = \"Yes\", \"Yes\", \"  \"))","v":"  "},"Games",174.0,159.0,171.0,195.0,173.0,235.0,190.0,169.0,213.0,219.0,214.0,222.0,154.0,169.0,212.0,191.0,210.0,189.0,204.0,266.0,{"$f":"SUM(H194:AA194)","v":3929},{"$f":"COUNTIF(H194:AA194, \">0\" )","v":20},{"$f":"AB194/AC194","v":196.45}," "," "," "," "," "," "," "," "," "," "," "," "," "," "," "," "," "," "," "," "," "," "," "," "," "," "," "," "," "," "," "," "," "," "," "," "," "," "," "," "," "," "," "," "," "," "," "," "," "," "]
[null,{"$f":"Roster_Selection_Men!AB198&\" \" & \"V \"","v":"Lindenwood University V "},{"$f":"Roster_Selection_Men!AD198","v":"11-305608"},{"$f":"Roster_Selection_Men!AE198","v":"Blake Reiger"},null,{"$f":"IF(ISERROR(Individual_Scores_Men_Var!E195), \" \", IF(Individual_Scores_Men_Var!E195 = \"Yes\", \"Yes\", \"  \"))","v":"  "}," "," "," "," "," "," "," "," "," "," "," "," "," "," "," "," "," "," "," "," "," "," "," "," "," "," "," "," "," "," "," "," "," "," "," "," "," "," "," "," "," "," "," "," "," "," "," "," "," "," "," "," "," "," "," "," "," "," "," "," "," "," "," "," "," "," "," "," "," "," "," "," "," "," "]
[null,{"$f":"Roster_Selection_Men!AB199&\" \" & \"V \"","v":"Lindenwood University V "},{"$f":"Roster_Selection_Men!AD199","v":"8482-467"},{"$f":"Roster_Selection_Men!AE199","v":"Garrett Jolly"},null,{"$f":"IF(ISERROR(Individual_Scores_Men_Var!E196), \" \", IF(Individual_Scores_Men_Var!E196 = \"Yes\", \"Yes\", \"  \"))","v":"  "}," "," "," "," "," "," "," "," "," "," "," "," "," "," "," "," "," "," "," "," "," "," "," "," "," "," "," "," "," "," "," "," "," "," "," "," "," "," "," "," "," "," "," "," "," "," "," "," "," "," "," "," "," "," "," "," "," "," "," "," "," "," "," "," "," "," "," "," "," "," "," "," "," "," "]
[null,{"$f":"Roster_Selection_Men!AB200&\" \" & \"V \"","v":"Lindenwood University V "},{"$f":"Roster_Selection_Men!AD200","v":"11-719508"},{"$f":"Roster_Selection_Men!AE200","v":"Jared Felipa"},null,{"$f":"IF(ISERROR(Individual_Scores_Men_Var!E197), \" \", IF(Individual_Scores_Men_Var!E197 = \"Yes\", \"Yes\", \"  \"))","v":"  "}," "," "," "," "," "," "," "," "," "," "," "," "," "," "," "," "," "," "," "," "," "," "," "," "," "," "," "," "," "," "," "," "," "," "," "," "," "," "," "," "," "," "," "," "," "," "," "," "," "," "," "," "," "," "," "," "," "," "," "," "," "," "," "," "," "," "," "," "," "," "," "," "," "," "]
[null,{"$f":"Roster_Selection_Men!AB201&\" \" & \"V \"","v":"Lindenwood University V "},{"$f":"Roster_Selection_Men!AD201","v":"7063-2626"},{"$f":"Roster_Selection_Men!AE201","v":"Javier Muniz Vega"},null,{"$f":"IF(ISERROR(Individual_Scores_Men_Var!E198), \" \", IF(Individual_Scores_Men_Var!E198 = \"Yes\", \"Yes\", \"  \"))","v":"  "}," "," "," "," "," "," "," "," "," "," "," "," "," "," "," "," "," "," "," "," "," "," "," "," "," "," "," "," "," "," "," "," "," "," "," "," "," "," "," "," "," "," "," "," "," "," "," "," "," "," "," "," "," "," "," "," "," "," "," "," "," "," "," "," "," "," "," "," "," "," "," "," "," "," "]
[null,{"$f":"Roster_Selection_Men!AB202&\" \" & \"V \"","v":"Lindenwood University V "},{"$f":"Roster_Selection_Men!AD202","v":"11-364326"},{"$f":"Roster_Selection_Men!AE202","v":"Michael Anderson"},null,{"$f":"IF(ISERROR(Individual_Scores_Men_Var!E199), \" \", IF(Individual_Scores_Men_Var!E199 = \"Yes\", \"Yes\", \"  \"))","v":"  "}," "," "," "," "," "," "," "," "," "," "," "," "," "," "," "," "," "," "," "," "," "," "," "," "," "," "," "," "," "," "," "," "," "," "," "," "," "," "," "," "," "," "," "," "," "," "," "," "," "," "," "," "," "," "," "," "," "," "," "," "," "," "," "," "," "," "," "," "," "," "," "," "," "," "]
[null,{"$f":"Roster_Selection_Men!AB203&\" \" & \"V \"","v":"Lindenwood University V "},{"$f":"Roster_Selection_Men!AD203","v":"22-16969"},{"$f":"Roster_Selection_Men!AE203","v":"Rolando Ng"},null,{"$f":"IF(ISERROR(Individual_Scores_Men_Var!E200), \" \", IF(Individual_Scores_Men_Var!E200 = \"Yes\", \"Yes\", \"  \"))","v":"  "}," "," "," "," "," "," "," "," "," "," "," "," "," "," "," "," "," "," "," "," "," "," "," "," "," "," "," "," "," "," "," "," "," "," "," "," "," "," "," "," "," "," "," "," "," "," "," "," "," "," "," "," "," "," "," "," "," "," "," "," "," "," "," "," "," "," "," "," "," "," "," "," "," "," "]
[null,{"$f":"Roster_Selection_Men!AB204&\" \" & \"V \"","v":"Lindenwood University V "},{"$f":"Roster_Selection_Men!AD204","v":"11-120819"},{"$f":"Roster_Selection_Men!AE204","v":"Troy Owens"},null,{"$f":"IF(ISERROR(Individual_Scores_Men_Var!E201), \" \", IF(Individual_Scores_Men_Var!E201 = \"Yes\", \"Yes\", \"  \"))","v":"  "}," "," "," "," "," "," "," "," "," "," "," "," "," "," "," "," "," "," "," "," "," "," "," "," "," "," "," "," "," "," "," "," "," "," "," "," "," "," "," "," "," "," "," "," "," "," "," "," "," "," "," "," "," "," "," "," "," "," "," "," "," "," "," "," "," "," "," "," "," "," "," "," "," "," "]
[null,"Lindenwood University V",{"$f":"Individual_Scores_Men_Var!C202","v":""},{"$f":"Individual_Scores_Men_Var!D202","v":""},null,null," "," "," "," "," "," "," "," "," "," "," "," "," "," "," "," "," "," "," "," "," "," "," "," "," "," "," "," "," "," "," "," "," "," "," "," "," "," "," "," "," "," "," "," "," "," "," "," "," "," "," "," "," "," "," "," "," "," "," "," "," "," "," "," "," "," "," "," "," "," "," "," "," "," "]
[null,"Lindenwood University V",{"$f":"Individual_Scores_Men_Var!C203","v":""},{"$f":"Individual_Scores_Men_Var!D203","v":""},null,null," "," "," "," "," "," "," "," "," "," "," "," "," "," "," "," "," "," "," "," "," "," "," "," "," "," "," "," "," "," "," "," "," "," "," "," "," "," "," "," "," "," "," "," "," "," "," "," "," "," "," "," "," "," "," "," "," "," "," "," "," "," "," "," "," "," "," "," "," "," "," "," "," "," "]
[null,"Lindenwood University V",{"$f":"Individual_Scores_Men_Var!C204","v":""},{"$f":"Individual_Scores_Men_Var!D204","v":""},null,null," "," "," "," "," "," "," "," "," "," "," "," "," "," "," "," "," "," "," "," "," "," "," "," "," "," "," "," "," "," "," "," "," "," "," "," "," "," "," "," "," "," "," "," "," "," "," "," "," "," "," "," "," "," "," "," "," "," "," "," "," "," "," "," "," "," "," "," "," "," "," "," "," "," "]
[null," "," "," ",null,null," "," "," "," "," "," "," "," "," "," "," "," "," "," "," "," "," "," "," "," "," "," "," "," "," "," "," "," "," "," "," "," "," "," "," "," "," "," "," "," "," "," "," "," "," "," "," "," "," "," "," "," "," "," "," "," "," "," "," "," "," "," "," "," "," "," "," "," "," "," "," "," "," "," "]
[null," "," "," ",null,null," "," "," "," "," "," "," "," "," "," "," "," "," "," "," "," "," "," "," "," "," "," "," "," "," "," "," "," "," "," "," "," "," "," "," "," "," "," "," "," "," "," "," "," "," "," "," "," "," "," "," "," "," "," "," "," "," "," "," "," "," "," "," "," "," "," "," "," "," "," "," "," "," "," "]
[null,{"$f":"Roster_Selection_Men!AB219&\" \" & \"V \"","v":"Missouri Valley College V "},{"$f":"Roster_Selection_Men!AD219","v":"20-48261"},{"$f":"Roster_Selection_Men!AE219","v":"Blake Paulhamus"},null,{"$f":"IF(ISERROR(Individual_Scores_Men_Var!E207), \" \", IF(Individual_Scores_Men_Var!E207 = \"Yes\", \"Yes\", \"  \"))","v":"  "},"Games",179.0,146.0,157.0,159.0,149.0,170.0,215.0,189.0,157.0,204.0,180.0,140.0,173.0,196.0,196.0,180.0,201.0,169.0,135.0,222.0,{"$f":"SUM(H207:AA207)","v":3517},{"$f":"COUNTIF(H207:AA207, \">0\" )","v":20},{"$f":"AB207/AC207","v":175.85}," "," "," "," "," "," "," "," "," "," "," "," "," "," "," "," "," "," "," "," "," "," "," "," "," "," "," "," "," "," "," "," "," "," "," "," "," "," "," "," "," "," "," "," "," "," "," "," "," "," "]
[null,{"$f":"Roster_Selection_Men!AB220&\" \" & \"V \"","v":"Missouri Valley College V "},{"$f":"Roster_Selection_Men!AD220","v":"7914-9005"},{"$f":"Roster_Selection_Men!AE220","v":"Guy Mapstone"},null,{"$f":"IF(ISERROR(Individual_Scores_Men_Var!E208), \" \", IF(Individual_Scores_Men_Var!E208 = \"Yes\", \"Yes\", \"  \"))","v":"  "}," "," "," "," "," "," "," "," "," "," "," "," "," "," "," "," "," "," "," "," "," "," "," "," "," "," "," "," "," "," "," "," "," "," "," "," "," "," "," "," "," "," "," "," "," "," "," "," "," "," "," "," "," "," "," "," "," "," "," "," "," "," "," "," "," "," "," "," "," "," "," "," "," "," "]
[null,{"$f":"Roster_Selection_Men!AB221&\" \" & \"V \"","v":"Missouri Valley College V "},{"$f":"Roster_Selection_Men!AD221","v":"16-67827"},{"$f":"Roster_Selection_Men!AE221","v":"Jayden Briggs"},null,{"$f":"IF(ISERROR(Individual_Scores_Men_Var!E209), \" \", IF(Individual_Scores_Men_Var!E209 = \"Yes\", \"Yes\", \"  \"))","v":"  "}," "," "," "," "," "," "," "," "," "," "," "," "," "," "," "," "," "," "," "," "," "," "," "," "," "," "," "," "," "," "," "," "," "," "," "," "," "," "," "," "," "," "," "," "," "," "," "," "," "," "," "," "," "," "," "," "," "," "," "," "," "," "," "," "," "," "," "," "," "," "," "," "," "," "]
[null,{"$f":"Roster_Selection_Men!AB222&\" \" & \"V \"","v":"Missouri Valley College V "},{"$f":"Roster_Selection_Men!AD222","v":"18-11862"},{"$f":"Roster_Selection_Men!AE222","v":"Jessi Stem"},null,{"$f":"IF(ISERROR(Individual_Scores_Men_Var!E210), \" \", IF(Individual_Scores_Men_Var!E210 = \"Yes\", \"Yes\", \"  \"))","v":"  "}," "," "," "," "," "," "," "," "," "," "," "," "," "," "," "," "," "," "," "," "," "," "," "," "," "," "," "," "," "," "," "," "," "," "," "," "," "," "," "," "," "," "," "," "," "," "," "," "," "," "," "," "," "," "," "," "," "," "," "," "," "," "," "," "," "," "," "," "," "," "," "," "," "," "]
[null,{"$f":"Roster_Selection_Men!AB223&\" \" & \"V \"","v":"Missouri Valley College V "},{"$f":"Roster_Selection_Men!AD223","v":"20-39192"},{"$f":"Roster_Selection_Men!AE223","v":"Landon Woeltje"},null,{"$f":"IF(ISERROR(Individual_Scores_Men_Var!E211), \" \", IF(Individual_Scores_Men_Var!E211 = \"Yes\", \"Yes\", \"  \"))","v":"  "}," "," "," "," "," "," "," "," "," "," "," "," "," "," "," "," "," "," "," "," "," "," "," "," "," "," "," "," "," "," "," "," "," "," "," "," "," "," "," "," "," "," "," "," "," "," "," "," "," "," "," "," "," "," "," "," "," "," "," "," "," "," "," "," "," "," "," "," "," "," "," "," "," "," "]
[null,{"$f":"Roster_Selection_Men!AB224&\" \" & \"V \"","v":"Missouri Valley College V "},{"$f":"Roster_Selection_Men!AD224","v":"16-139103"},{"$f":"Roster_Selection_Men!AE224","v":"Nate Moser"},null,{"$f":"IF(ISERROR(Individual_Scores_Men_Var!E212), \" \", IF(Individual_Scores_Men_Var!E212 = \"Yes\", \"Yes\", \"  \"))","v":"  "}," "," "," "," "," "," "," "," "," "," "," "," "," "," "," "," "," "," "," "," "," "," "," "," "," "," "," "," "," "," "," "," "," "," "," "," "," "," "," "," "," "," "," "," "," "," "," "," "," "," "," "," "," "," "," "," "," "," "," "," "," "," "," "," "," "," "," "," "," "," "," "," "," "," "]
[null,{"$f":"Roster_Selection_Men!AB225&\" \" & \"V \"","v":"Missouri Valley College V "},{"$f":"Roster_Selection_Men!AD225","v":"11-460695"},{"$f":"Roster_Selection_Men!AE225","v":"Nicholas Miles"},null,{"$f":"IF(ISERROR(Individual_Scores_Men_Var!E213), \" \", IF(Individual_Scores_Men_Var!E213 = \"Yes\", \"Yes\", \"  \"))","v":"  "}," "," "," "," "," "," "," "," "," "," "," "," "," "," "," "," "," "," "," "," "," "," "," "," "," "," "," "," "," "," "," "," "," "," "," "," "," "," "," "," "," "," "," "," "," "," "," "," "," "," "," "," "," "," "," "," "," "," "," "," "," "," "," "," "," "," "," "," "," "," "," "," "," "," "]
[null,{"$f":"Roster_Selection_Men!AB226&\" \" & \"V \"","v":"Missouri Valley College V "},{"$f":"Roster_Selection_Men!AD226","v":"11-540859"},{"$f":"Roster_Selection_Men!AE226","v":"Wyatt Grunwald"},null,{"$f":"IF(ISERROR(Individual_Scores_Men_Var!E214), \" \", IF(Individual_Scores_Men_Var!E214 = \"Yes\", \"Yes\", \"  \"))","v":"  "}," "," "," "," "," "," "," "," "," "," "," "," "," "," "," "," "," "," "," "," "," "," "," "," "," "," "," "," "," "," "," "," "," "," "," "," "," "," "," "," "," "," "," "," "," "," "," "," "," "," "," "," "," "," "," "," "," "," "," "," "," "," "," "," "," "," "," "," "," "," "," "," "," "," "]
[null,"Missouri Valley College V",{"$f":"Individual_Scores_Men_Var!C215","v":""},{"$f":"Individual_Scores_Men_Var!D215","v":""},null,null," "," "," "," "," "," "," "," "," "," "," "," "," "," "," "," "," "," "," "," "," "," "," "," "," "," "," "," "," "," "," "," "," "," "," "," "," "," "," "," "," "," "," "," "," "," "," "," "," "," "," "," "," "," "," "," "," "," "," "," "," "," "," "," "," "," "," "," "," "," "," "," "," "," "]
[null,"Missouri Valley College V",{"$f":"Individual_Scores_Men_Var!C216","v":""},{"$f":"Individual_Scores_Men_Var!D216","v":""},null,null," "," "," "," "," "," "," "," "," "," "," "," "," "," "," "," "," "," "," "," "," "," "," "," "," "," "," "," "," "," "," "," "," "," "," "," "," "," "," "," "," "," "," "," "," "," "," "," "," "," "," "," "," "," "," "," "," "," "," "," "," "," "," "," "," "," "," "," "," "," "," "," "," "," "]
[null,"Missouri Valley College V",{"$f":"Individual_Scores_Men_Var!C217","v":""},{"$f":"Individual_Scores_Men_Var!D217","v":""},null,null," "," "," "," "," "," "," "," "," "," "," "," "," "," "," "," "," "," "," "," "," "," "," "," "," "," "," "," "," "," "," "," "," "," "," "," "," "," "," "," "," "," "," "," "," "," "," "," "," "," "," "," "," "," "," "," "," "," "," "," "," "," "," "," "," "," "," "," "," "," "," "," "," "," "]
[null," "," "," ",null,null," "," "," "," "," "," "," "," "," "," "," "," "," "," "," "," "," "," "," "," "," "," "," "," "," "," "," "," "," "," "," "," "," "," "," "," "," "," "," "," "," "," "," "," "," "," "," "," "," "," "," "," "," "," "," "," "," "," "," "," "," "," "," "," "," "," "," "," "," "," "," "," "," "," "]
[null," "," "," ",null,null," "," "," "," "," "," "," "," "," "," "," "," "," "," "," "," "," "," "," "," "," "," "," "," "," "," "," "," "," "," "," "," "," "," "," "," "," "," "," "," "," "," "," "," "," "," "," "," "," "," "," "," "," "," "," "," "," "," "," "," "," "," "," "," "," "," "," "," "," "," "," "," "," "," "]
[null,{"$f":"Roster_Selection_Men!AB231&\" \" & \"V \"","v":"Mount Mercy University V "},{"$f":"Roster_Selection_Men!AD231","v":"11-626689"},{"$f":"Roster_Selection_Men!AE231","v":"Andrei Tacorda"},null,{"$f":"IF(ISERROR(Individual_Scores_Men_Var!E220), \" \", IF(Individual_Scores_Men_Var!E220 = \"Yes\", \"Yes\", \"  \"))","v":"  "},"Games",184.0,167.0,219.0,193.0,204.0,227.0,203.0,235.0,180.0,211.0,196.0,179.0,219.0,164.0,236.0,253.0,192.0,221.0,258.0,205.0,{"$f":"SUM(H220:AA220)","v":4146},{"$f":"COUNTIF(H220:AA220, \">0\" )","v":20},{"$f":"AB220/AC220","v":207.3}," "," "," "," "," "," "," "," "," "," "," "," "," "," "," "," "," "," "," "," "," "," "," "," "," "," "," "," "," "," "," "," "," "," "," "," "," "," "," "," "," "," "," "," "," "," "," "," "," "," "]
[null,{"$f":"Roster_Selection_Men!AB232&\" \" & \"V \"","v":"Mount Mercy University V "},{"$f":"Roster_Selection_Men!AD232","v":"11-258258"},{"$f":"Roster_Selection_Men!AE232","v":"Brandon Bohn"},null,{"$f":"IF(ISERROR(Individual_Scores_Men_Var!E221), \" \", IF(Individual_Scores_Men_Var!E221 = \"Yes\", \"Yes\", \"  \"))","v":"  "}," "," "," "," "," "," "," "," "," "," "," "," "," "," "," "," "," "," "," "," "," "," "," "," "," "," "," "," "," "," "," "," "," "," "," "," "," "," "," "," "," "," "," "," "," "," "," "," "," "," "," "," "," "," "," "," "," "," "," "," "," "," "," "," "," "," "," "," "," "," "," "," "," "," "]
[null,{"$f":"Roster_Selection_Men!AB233&\" \" & \"V \"","v":"Mount Mercy University V "},{"$f":"Roster_Selection_Men!AD233","v":"7914-17584"},{"$f":"Roster_Selection_Men!AE233","v":"Brett Lloyd"},null,{"$f":"IF(ISERROR(Individual_Scores_Men_Var!E222), \" \", IF(Individual_Scores_Men_Var!E222 = \"Yes\", \"Yes\", \"  \"))","v":"  "}," "," "," "," "," "," "," "," "," "," "," "," "," "," "," "," "," "," "," "," "," "," "," "," "," "," "," "," "," "," "," "," "," "," "," "," "," "," "," "," "," "," "," "," "," "," "," "," "," "," "," "," "," "," "," "," "," "," "," "," "," "," "," "," "," "," "," "," "," "," "," "," "," "," "]
[null,{"$f":"Roster_Selection_Men!AB234&\" \" & \"V \"","v":"Mount Mercy University V "},{"$f":"Roster_Selection_Men!AD234","v":"11-537531"},{"$f":"Roster_Selection_Men!AE234","v":"Clayton Reid"},null,{"$f":"IF(ISERROR(Individual_Scores_Men_Var!E223), \" \", IF(Individual_Scores_Men_Var!E223 = \"Yes\", \"Yes\", \"  \"))","v":"  "}," "," "," "," "," "," "," "," "," "," "," "," "," "," "," "," "," "," "," "," "," "," "," "," "," "," "," "," "," "," "," "," "," "," "," "," "," "," "," "," "," "," "," "," "," "," "," "," "," "," "," "," "," "," "," "," "," "," "," "," "," "," "," "," "," "," "," "," "," "," "," "," "," "," "]
[null,{"$f":"Roster_Selection_Men!AB235&\" \" & \"V \"","v":"Mount Mercy University V "},{"$f":"Roster_Selection_Men!AD235","v":"11-365628"},{"$f":"Roster_Selection_Men!AE235","v":"Harley Shene"},null,{"$f":"IF(ISERROR(Individual_Scores_Men_Var!E224), \" \", IF(Individual_Scores_Men_Var!E224 = \"Yes\", \"Yes\", \"  \"))","v":"  "}," "," "," "," "," "," "," "," "," "," "," "," "," "," "," "," "," "," "," "," "," "," "," "," "," "," "," "," "," "," "," "," "," "," "," "," "," "," "," "," "," "," "," "," "," "," "," "," "," "," "," "," "," "," "," "," "," "," "," "," "," "," "," "," "," "," "," "," "," "," "," "," "," "," "]
[null,{"$f":"Roster_Selection_Men!AB236&\" \" & \"V \"","v":"Mount Mercy University V "},{"$f":"Roster_Selection_Men!AD236","v":"17-67876"},{"$f":"Roster_Selection_Men!AE236","v":"Jonah Musial"},null,{"$f":"IF(ISERROR(Individual_Scores_Men_Var!E225), \" \", IF(Individual_Scores_Men_Var!E225 = \"Yes\", \"Yes\", \"  \"))","v":"  "}," "," "," "," "," "," "," "," "," "," "," "," "," "," "," "," "," "," "," "," "," "," "," "," "," "," "," "," "," "," "," "," "," "," "," "," "," "," "," "," "," "," "," "," "," "," "," "," "," "," "," "," "," "," "," "," "," "," "," "," "," "," "," "," "," "," "," "," "," "," "," "," "," "," "]
[null,{"$f":"Roster_Selection_Men!AB237&\" \" & \"V \"","v":"Mount Mercy University V "},{"$f":"Roster_Selection_Men!AD237","v":"5617-3547"},{"$f":"Roster_Selection_Men!AE237","v":"Kai Yamada"},null,{"$f":"IF(ISERROR(Individual_Scores_Men_Var!E226), \" \", IF(Individual_Scores_Men_Var!E226 = \"Yes\", \"Yes\", \"  \"))","v":"  "}," "," "," "," "," "," "," "," "," "," "," "," "," "," "," "," "," "," "," "," "," "," "," "," "," "," "," "," "," "," "," "," "," "," "," "," "," "," "," "," "," "," "," "," "," "," "," "," "," "," "," "," "," "," "," "," "," "," "," "," "," "," "," "," "," "," "," "," "," "," "," "," "," "," "]
[null,{"$f":"Roster_Selection_Men!AB238&\" \" & \"V \"","v":" V "},{"$f":"Roster_Selection_Men!AD238","v":""},{"$f":"Roster_Selection_Men!AE238","v":""},null,{"$f":"IF(ISERROR(Individual_Scores_Men_Var!E227), \" \", IF(Individual_Scores_Men_Var!E227 = \"Yes\", \"Yes\", \"  \"))","v":"  "}," "," "," "," "," "," "," "," "," "," "," "," "," "," "," "," "," "," "," "," "," "," "," "," "," "," "," "," "," "," "," "," "," "," "," "," "," "," "," "," "," "," "," "," "," "," "," "," "," "," "," "," "," "," "," "," "," "," "," "," "," "," "," "," "," "," "," "," "," "," "," "," "," "," "]
[null,"Mount Mercy University V",{"$f":"Individual_Scores_Men_Var!C228","v":""},{"$f":"Individual_Scores_Men_Var!D228","v":""},null,null," "," "," "," "," "," "," "," "," "," "," "," "," "," "," "," "," "," "," "," "," "," "," "," "," "," "," "," "," "," "," "," "," "," "," "," "," "," "," "," "," "," "," "," "," "," "," "," "," "," "," "," "," "," "," "," "," "," "," "," "," "," "," "," "," "," "," "," "," "," "," "," "," "," "]
[null,"Mount Mercy University V",{"$f":"Individual_Scores_Men_Var!C229","v":""},{"$f":"Individual_Scores_Men_Var!D229","v":""},null,null," "," "," "," "," "," "," "," "," "," "," "," "," "," "," "," "," "," "," "," "," "," "," "," "," "," "," "," "," "," "," "," "," "," "," "," "," "," "," "," "," "," "," "," "," "," "," "," "," "," "," "," "," "," "," "," "," "," "," "," "," "," "," "," "," "," "," "," "," "," "," "," "," "," "]
[null,"Mount Mercy University V",{"$f":"Individual_Scores_Men_Var!C230","v":""},{"$f":"Individual_Scores_Men_Var!D230","v":""},null,null," "," "," "," "," "," "," "," "," "," "," "," "," "," "," "," "," "," "," "," "," "," "," "," "," "," "," "," "," "," "," "," "," "," "," "," "," "," "," "," "," "," "," "," "," "," "," "," "," "," "," "," "," "," "," "," "," "," "," "," "," "," "," "," "," "," "," "," "," "," "," "," "," "," "]
[null," "," "," ",null,null," "," "," "," "," "," "," "," "," "," "," "," "," "," "," "," "," "," "," "," "," "," "," "," "," "," "," "," "," "," "," "," "," "," "," "," "," "," "," "," "," "," "," "," "," "," "," "," "," "," "," "," "," "," "," "," "," "," "," "," "," "," "," "," "," "," "," "," "," "," "," "," "," "," "]
[null," "," "," ",null,null," "," "," "," "," "," "," "," "," "," "," "," "," "," "," "," "," "," "," "," "," "," "," "," "," "," "," "," "," "," "," "," "," "," "," "," "," "," "," "," "," "," "," "," "," "," "," "," "," "," "," "," "," "," "," "," "," "," "," "," "," "," "," "," "," "," "," "," "," "," "," "," "," "," "]
[null,{"$f":"Roster_Selection_Men!AB254&\" \" & \"V \"","v":"Nebraska ,University Of V "},{"$f":"Roster_Selection_Men!AD254","v":"17-8"},{"$f":"Roster_Selection_Men!AE254","v":"Aaron Wickland"},null,{"$f":"IF(ISERROR(Individual_Scores_Men_Var!E233), \" \", IF(Individual_Scores_Men_Var!E233 = \"Yes\", \"Yes\", \"  \"))","v":"  "},"Games",149.0,194.0,198.0,153.0,148.0,241.0,199.0,141.0,149.0,187.0,215.0,145.0,138.0,136.0,195.0,183.0,212.0,216.0,190.0,180.0,{"$f":"SUM(H233:AA233)","v":3569},{"$f":"COUNTIF(H233:AA233, \">0\" )","v":20},{"$f":"AB233/AC233","v":178.45}," "," "," "," "," "," "," "," "," "," "," "," "," "," "," "," "," "," "," "," "," "," "," "," "," "," "," "," "," "," "," "," "," "," "," "," "," "," "," "," "," "," "," "," "," "," "," "," "," "," "]
[null,{"$f":"Roster_Selection_Men!AB255&\" \" & \"V \"","v":"Nebraska ,University Of V "},{"$f":"Roster_Selection_Men!AD255","v":"15-131663"},{"$f":"Roster_Selection_Men!AE255","v":"Alexander Schnieders"},null,{"$f":"IF(ISERROR(Individual_Scores_Men_Var!E234), \" \", IF(Individual_Scores_Men_Var!E234 = \"Yes\", \"Yes\", \"  \"))","v":"  "}," "," "," "," "," "," "," "," "," "," "," "," "," "," "," "," "," "," "," "," "," "," "," "," "," "," "," "," "," "," "," "," "," "," "," "," "," "," "," "," "," "," "," "," "," "," "," "," "," "," "," "," "," "," "," "," "," "," "," "," "," "," "," "," "," "," "," "," "," "," "," "," "," "," "]
[null,{"$f":"Roster_Selection_Men!AB256&\" \" & \"V \"","v":"Nebraska ,University Of V "},{"$f":"Roster_Selection_Men!AD256","v":"11-626566"},{"$f":"Roster_Selection_Men!AE256","v":"Alexis Wuestewald"},null,{"$f":"IF(ISERROR(Individual_Scores_Men_Var!E235), \" \", IF(Individual_Scores_Men_Var!E235 = \"Yes\", \"Yes\", \"  \"))","v":"  "}," "," "," "," "," "," "," "," "," "," "," "," "," "," "," "," "," "," "," "," "," "," "," "," "," "," "," "," "," "," "," "," "," "," "," "," "," "," "," "," "," "," "," "," "," "," "," "," "," "," "," "," "," "," "," "," "," "," "," "," "," "," "," "," "," "," "," "," "," "," "," "," "," "," "]
[null,{"$f":"Roster_Selection_Men!AB257&\" \" & \"V \"","v":"Nebraska ,University Of V "},{"$f":"Roster_Selection_Men!AD257","v":"11-654953"},{"$f":"Roster_Selection_Men!AE257","v":"Ashton Pohlmann"},null,{"$f":"IF(ISERROR(Individual_Scores_Men_Var!E236), \" \", IF(Individual_Scores_Men_Var!E236 = \"Yes\", \"Yes\", \"  \"))","v":"  "}," "," "," "," "," "," "," "," "," "," "," "," "," "," "," "," "," "," "," "," "," "," "," "," "," "," "," "," "," "," "," "," "," "," "," "," "," "," "," "," "," "," "," "," "," "," "," "," "," "," "," "," "," "," "," "," "," "," "," "," "," "," "," "," "," "," "," "," "," "," "," "," "," "," "]
[null,{"$f":"Roster_Selection_Men!AB258&\" \" & \"V \"","v":"Nebraska ,University Of V "},{"$f":"Roster_Selection_Men!AD258","v":"11-79337"},{"$f":"Roster_Selection_Men!AE258","v":"Emma Bowes"},null,{"$f":"IF(ISERROR(Individual_Scores_Men_Var!E237), \" \", IF(Individual_Scores_Men_Var!E237 = \"Yes\", \"Yes\", \"  \"))","v":"  "}," "," "," "," "," "," "," "," "," "," "," "," "," "," "," "," "," "," "," "," "," "," "," "," "," "," "," "," "," "," "," "," "," "," "," "," "," "," "," "," "," "," "," "," "," "," "," "," "," "," "," "," "," "," "," "," "," "," "," "," "," "," "," "," "," "," "," "," "," "," "," "," "," "," "]
[null,{"$f":"Roster_Selection_Men!AB259&\" \" & \"V \"","v":"Nebraska ,University Of V "},{"$f":"Roster_Selection_Men!AD259","v":"7914-15647"},{"$f":"Roster_Selection_Men!AE259","v":"Isaac Young"},null,{"$f":"IF(ISERROR(Individual_Scores_Men_Var!E238), \" \", IF(Individual_Scores_Men_Var!E238 = \"Yes\", \"Yes\", \"  \"))","v":"  "}," "," "," "," "," "," "," "," "," "," "," "," "," "," "," "," "," "," "," "," "," "," "," "," "," "," "," "," "," "," "," "," "," "," "," "," "," "," "," "," "," "," "," "," "," "," "," "," "," "," "," "," "," "," "," "," "," "," "," "," "," "," "," "," "," "," "," "," "," "," "," "," "," "," "]
[null,{"$f":"Roster_Selection_Men!AB260&\" \" & \"V \"","v":"Nebraska ,University Of V "},{"$f":"Roster_Selection_Men!AD260","v":"11-400668"},{"$f":"Roster_Selection_Men!AE260","v":"Joshua Quaas"},null,{"$f":"IF(ISERROR(Individual_Scores_Men_Var!E239), \" \", IF(Individual_Scores_Men_Var!E239 = \"Yes\", \"Yes\", \"  \"))","v":"  "}," "," "," "," "," "," "," "," "," "," "," "," "," "," "," "," "," "," "," "," "," "," "," "," "," "," "," "," "," "," "," "," "," "," "," "," "," "," "," "," "," "," "," "," "," "," "," "," "," "," "," "," "," "," "," "," "," "," "," "," "," "," "," "," "," "," "," "," "," "," "," "," "," "," "]
[null,{"$f":"Roster_Selection_Men!AB261&\" \" & \"V \"","v":"Nebraska ,University Of V "},{"$f":"Roster_Selection_Men!AD261","v":"9562-18261"},{"$f":"Roster_Selection_Men!AE261","v":"Malcolm Saltzman"},null,{"$f":"IF(ISERROR(Individual_Scores_Men_Var!E240), \" \", IF(Individual_Scores_Men_Var!E240 = \"Yes\", \"Yes\", \"  \"))","v":"  "}," "," "," "," "," "," "," "," "," "," "," "," "," "," "," "," "," "," "," "," "," "," "," "," "," "," "," "," "," "," "," "," "," "," "," "," "," "," "," "," "," "," "," "," "," "," "," "," "," "," "," "," "," "," "," "," "," "," "," "," "," "," "," "," "," "," "," "," "," "," "," "," "," "," "]
[null,"Nebraska ,University Of V",{"$f":"Individual_Scores_Men_Var!C241","v":""},{"$f":"Individual_Scores_Men_Var!D241","v":""},null,null," "," "," "," "," "," "," "," "," "," "," "," "," "," "," "," "," "," "," "," "," "," "," "," "," "," "," "," "," "," "," "," "," "," "," "," "," "," "," "," "," "," "," "," "," "," "," "," "," "," "," "," "," "," "," "," "," "," "," "," "," "," "," "," "," "," "," "," "," "," "," "," "," "," "]
[null,"Nebraska ,University Of V",{"$f":"Individual_Scores_Men_Var!C242","v":""},{"$f":"Individual_Scores_Men_Var!D242","v":""},null,null," "," "," "," "," "," "," "," "," "," "," "," "," "," "," "," "," "," "," "," "," "," "," "," "," "," "," "," "," "," "," "," "," "," "," "," "," "," "," "," "," "," "," "," "," "," "," "," "," "," "," "," "," "," "," "," "," "," "," "," "," "," "," "," "," "," "," "," "," "," "," "," "," "," "]
[null,"Nebraska ,University Of V",{"$f":"Individual_Scores_Men_Var!C243","v":""},{"$f":"Individual_Scores_Men_Var!D243","v":""},null,null," "," "," "," "," "," "," "," "," "," "," "," "," "," "," "," "," "," "," "," "," "," "," "," "," "," "," "," "," "," "," "," "," "," "," "," "," "," "," "," "," "," "," "," "," "," "," "," "," "," "," "," "," "," "," "," "," "," "," "," "," "," "," "," "," "," "," "," "," "," "," "," "," "," "]
[null," "," "," ",null,null," "," "," "," "," "," "," "," "," "," "," "," "," "," "," "," "," "," "," "," "," "," "," "," "," "," "," "," "," "," "," "," "," "," "," "," "," "," "," "," "," "," "," "," "," "," "," "," "," "," "," "," "," "," "," "," "," "," "," "," "," "," "," "," "," "," "," "," "," "," "," "," "," "," "]
[null," "," "," ",null,null," "," "," "," "," "," "," "," "," "," "," "," "," "," "," "," "," "," "," "," "," "," "," "," "," "," "," "," "," "," "," "," "," "," "," "," "," "," "," "," "," "," "," "," "," "," "," "," "," "," "," "," "," "," "," "," "," "," "," "," "," "," "," "," "," "," "," "," "," "," "," "," "," "," "]
[null,{"$f":"Roster_Selection_Men!AB268&\" \" & \"V \"","v":"Newman University V "},{"$f":"Roster_Selection_Men!AD268","v":"5617-3699"},{"$f":"Roster_Selection_Men!AE268","v":"Chasten Pojas"},null,{"$f":"IF(ISERROR(Individual_Scores_Men_Var!E246), \" \", IF(Individual_Scores_Men_Var!E246 = \"Yes\", \"Yes\", \"  \"))","v":"  "},"Games",231.0,204.0,166.0,280.0,225.0,249.0,180.0,244.0,202.0,192.0,215.0,206.0,200.0,223.0,157.0,215.0,168.0,203.0,174.0,220.0,{"$f":"SUM(H246:AA246)","v":4154},{"$f":"COUNTIF(H246:AA246, \">0\" )","v":20},{"$f":"AB246/AC246","v":207.7}," "," "," "," "," "," "," "," "," "," "," "," "," "," "," "," "," "," "," "," "," "," "," "," "," "," "," "," "," "," "," "," "," "," "," "," "," "," "," "," "," "," "," "," "," "," "," "," "," "," "]
[null,{"$f":"Roster_Selection_Men!AB269&\" \" & \"V \"","v":"Newman University V "},{"$f":"Roster_Selection_Men!AD269","v":"8259-42274"},{"$f":"Roster_Selection_Men!AE269","v":"Jayson Palacios"},null,{"$f":"IF(ISERROR(Individual_Scores_Men_Var!E247), \" \", IF(Individual_Scores_Men_Var!E247 = \"Yes\", \"Yes\", \"  \"))","v":"  "}," "," "," "," "," "," "," "," "," "," "," "," "," "," "," "," "," "," "," "," "," "," "," "," "," "," "," "," "," "," "," "," "," "," "," "," "," "," "," "," "," "," "," "," "," "," "," "," "," "," "," "," "," "," "," "," "," "," "," "," "," "," "," "," "," "," "," "," "," "," "," "," "," "," "]
[null,{"$f":"Roster_Selection_Men!AB270&\" \" & \"V \"","v":"Newman University V "},{"$f":"Roster_Selection_Men!AD270","v":"15-8308"},{"$f":"Roster_Selection_Men!AE270","v":"Noah Akiona"},null,{"$f":"IF(ISERROR(Individual_Scores_Men_Var!E248), \" \", IF(Individual_Scores_Men_Var!E248 = \"Yes\", \"Yes\", \"  \"))","v":"  "}," "," "," "," "," "," "," "," "," "," "," "," "," "," "," "," "," "," "," "," "," "," "," "," "," "," "," "," "," "," "," "," "," "," "," "," "," "," "," "," "," "," "," "," "," "," "," "," "," "," "," "," "," "," "," "," "," "," "," "," "," "," "," "," "," "," "," "," "," "," "," "," "," "," "]
[null,{"$f":"Roster_Selection_Men!AB271&\" \" & \"V \"","v":"Newman University V "},{"$f":"Roster_Selection_Men!AD271","v":"11-487407"},{"$f":"Roster_Selection_Men!AE271","v":"Peyton Montgomery"},null,{"$f":"IF(ISERROR(Individual_Scores_Men_Var!E249), \" \", IF(Individual_Scores_Men_Var!E249 = \"Yes\", \"Yes\", \"  \"))","v":"  "}," "," "," "," "," "," "," "," "," "," "," "," "," "," "," "," "," "," "," "," "," "," "," "," "," "," "," "," "," "," "," "," "," "," "," "," "," "," "," "," "," "," "," "," "," "," "," "," "," "," "," "," "," "," "," "," "," "," "," "," "," "," "," "," "," "," "," "," "," "," "," "," "," "," "]
[null,{"$f":"Roster_Selection_Men!AB272&\" \" & \"V \"","v":"Newman University V "},{"$f":"Roster_Selection_Men!AD272","v":"11-186329"},{"$f":"Roster_Selection_Men!AE272","v":"Silas Limes"},null,{"$f":"IF(ISERROR(Individual_Scores_Men_Var!E250), \" \", IF(Individual_Scores_Men_Var!E250 = \"Yes\", \"Yes\", \"  \"))","v":"  "}," "," "," "," "," "," "," "," "," "," "," "," "," "," "," "," "," "," "," "," "," "," "," "," "," "," "," "," "," "," "," "," "," "," "," "," "," "," "," "," "," "," "," "," "," "," "," "," "," "," "," "," "," "," "," "," "," "," "," "," "," "," "," "," "," "," "," "," "," "," "," "," "," "," "]
[null,{"$f":"Roster_Selection_Men!AB273&\" \" & \"V \"","v":"Newman University V "},{"$f":"Roster_Selection_Men!AD273","v":"8921-2363"},{"$f":"Roster_Selection_Men!AE273","v":"William Day"},null,{"$f":"IF(ISERROR(Individual_Scores_Men_Var!E251), \" \", IF(Individual_Scores_Men_Var!E251 = \"Yes\", \"Yes\", \"  \"))","v":"  "}," "," "," "," "," "," "," "," "," "," "," "," "," "," "," "," "," "," "," "," "," "," "," "," "," "," "," "," "," "," "," "," "," "," "," "," "," "," "," "," "," "," "," "," "," "," "," "," "," "," "," "," "," "," "," "," "," "," "," "," "," "," "," "," "," "," "," "," "," "," "," "," "," "," "]
[null,{"$f":"Roster_Selection_Men!AB274&\" \" & \"V \"","v":"Newman University V "},{"$f":"Roster_Selection_Men!AD274","v":"11-659944"},{"$f":"Roster_Selection_Men!AE274","v":"Zachary Smullen"},null,{"$f":"IF(ISERROR(Individual_Scores_Men_Var!E252), \" \", IF(Individual_Scores_Men_Var!E252 = \"Yes\", \"Yes\", \"  \"))","v":"  "}," "," "," "," "," "," "," "," "," "," "," "," "," "," "," "," "," "," "," "," "," "," "," "," "," "," "," "," "," "," "," "," "," "," "," "," "," "," "," "," "," "," "," "," "," "," "," "," "," "," "," "," "," "," "," "," "," "," "," "," "," "," "," "," "," "," "," "," "," "," "," "," "," "," "]
[null,{"$f":"Roster_Selection_Men!AB275&\" \" & \"V \"","v":" V "},{"$f":"Roster_Selection_Men!AD275","v":""},{"$f":"Roster_Selection_Men!AE275","v":""},null,{"$f":"IF(ISERROR(Individual_Scores_Men_Var!E253), \" \", IF(Individual_Scores_Men_Var!E253 = \"Yes\", \"Yes\", \"  \"))","v":"  "}," "," "," "," "," "," "," "," "," "," "," "," "," "," "," "," "," "," "," "," "," "," "," "," "," "," "," "," "," "," "," "," "," "," "," "," "," "," "," "," "," "," "," "," "," "," "," "," "," "," "," "," "," "," "," "," "," "," "," "," "," "," "," "," "," "," "," "," "," "," "," "," "," "," "]
[null,"Newman University V",{"$f":"Individual_Scores_Men_Var!C254","v":""},{"$f":"Individual_Scores_Men_Var!D254","v":""},null,null," "," "," "," "," "," "," "," "," "," "," "," "," "," "," "," "," "," "," "," "," "," "," "," "," "," "," "," "," "," "," "," "," "," "," "," "," "," "," "," "," "," "," "," "," "," "," "," "," "," "," "," "," "," "," "," "," "," "," "," "," "," "," "," "," "," "," "," "," "," "," "," "," "," "]
[null,"Newman University V",{"$f":"Individual_Scores_Men_Var!C255","v":""},{"$f":"Individual_Scores_Men_Var!D255","v":""},null,null," "," "," "," "," "," "," "," "," "," "," "," "," "," "," "," "," "," "," "," "," "," "," "," "," "," "," "," "," "," "," "," "," "," "," "," "," "," "," "," "," "," "," "," "," "," "," "," "," "," "," "," "," "," "," "," "," "," "," "," "," "," "," "," "," "," "," "," "," "," "," "," "," "," "]
[null,"Newman University V",{"$f":"Individual_Scores_Men_Var!C256","v":""},{"$f":"Individual_Scores_Men_Var!D256","v":""},null,null," "," "," "," "," "," "," "," "," "," "," "," "," "," "," "," "," "," "," "," "," "," "," "," "," "," "," "," "," "," "," "," "," "," "," "," "," "," "," "," "," "," "," "," "," "," "," "," "," "," "," "," "," "," "," "," "," "," "," "," "," "," "," "," "," "," "," "," "," "," "," "," "," "," "]
[null," "," "," ",null,null," "," "," "," "," "," "," "," "," "," "," "," "," "," "," "," "," "," "," "," "," "," "," "," "," "," "," "," "," "," "," "," "," "," "," "," "," "," "," "," "," "," "," "," "," "," "," "," "," "," "," "," "," "," "," "," "," "," "," "," "," "," "," "," "," "," "," "," "," "," "," "," "," "," "]
[null," "," "," ",null,null," "," "," "," "," "," "," "," "," "," "," "," "," "," "," "," "," "," "," "," "," "," "," "," "," "," "," "," "," "," "," "," "," "," "," "," "," "," "," "," "," "," "," "," "," "," "," "," "," "," "," "," "," "," "," "," "," "," "," "," "," "," "," "," "," "," "," "," "," "," "," "," "," "," "]
[null,{"$f":"Roster_Selection_Men!AB287&\" \" & \"V \"","v":"Oklahoma Christian University V "},{"$f":"Roster_Selection_Men!AD287","v":"15-57483"},{"$f":"Roster_Selection_Men!AE287","v":"Ashton Holladay"},null,{"$f":"IF(ISERROR(Individual_Scores_Men_Var!E259), \" \", IF(Individual_Scores_Men_Var!E259 = \"Yes\", \"Yes\", \"  \"))","v":"  "},"Games",181.0,200.0,278.0,223.0,191.0,160.0,227.0,254.0,196.0,160.0,186.0,232.0,171.0,246.0,231.0,243.0,214.0,225.0,200.0,188.0,{"$f":"SUM(H259:AA259)","v":4206},{"$f":"COUNTIF(H259:AA259, \">0\" )","v":20},{"$f":"AB259/AC259","v":210.3}," "," "," "," "," "," "," "," "," "," "," "," "," "," "," "," "," "," "," "," "," "," "," "," "," "," "," "," "," "," "," "," "," "," "," "," "," "," "," "," "," "," "," "," "," "," "," "," "," "," "]
[null,{"$f":"Roster_Selection_Men!AB288&\" \" & \"V \"","v":"Oklahoma Christian University V "},{"$f":"Roster_Selection_Men!AD288","v":"8138-10890"},{"$f":"Roster_Selection_Men!AE288","v":"C. J. Petrin"},null,{"$f":"IF(ISERROR(Individual_Scores_Men_Var!E260), \" \", IF(Individual_Scores_Men_Var!E260 = \"Yes\", \"Yes\", \"  \"))","v":"  "}," "," "," "," "," "," "," "," "," "," "," "," "," "," "," "," "," "," "," "," "," "," "," "," "," "," "," "," "," "," "," "," "," "," "," "," "," "," "," "," "," "," "," "," "," "," "," "," "," "," "," "," "," "," "," "," "," "," "," "," "," "," "," "," "," "," "," "," "," "," "," "," "," "," "]
[null,{"$f":"Roster_Selection_Men!AB289&\" \" & \"V \"","v":"Oklahoma Christian University V "},{"$f":"Roster_Selection_Men!AD289","v":"11-151757"},{"$f":"Roster_Selection_Men!AE289","v":"Connor Fleming"},null,{"$f":"IF(ISERROR(Individual_Scores_Men_Var!E261), \" \", IF(Individual_Scores_Men_Var!E261 = \"Yes\", \"Yes\", \"  \"))","v":"  "}," "," "," "," "," "," "," "," "," "," "," "," "," "," "," "," "," "," "," "," "," "," "," "," "," "," "," "," "," "," "," "," "," "," "," "," "," "," "," "," "," "," "," "," "," "," "," "," "," "," "," "," "," "," "," "," "," "," "," "," "," "," "," "," "," "," "," "," "," "," "," "," "," "," "]
[null,{"$f":"Roster_Selection_Men!AB290&\" \" & \"V \"","v":"Oklahoma Christian University V "},{"$f":"Roster_Selection_Men!AD290","v":"21-4507"},{"$f":"Roster_Selection_Men!AE290","v":"Israel Reveles"},null,{"$f":"IF(ISERROR(Individual_Scores_Men_Var!E262), \" \", IF(Individual_Scores_Men_Var!E262 = \"Yes\", \"Yes\", \"  \"))","v":"  "}," "," "," "," "," "," "," "," "," "," "," "," "," "," "," "," "," "," "," "," "," "," "," "," "," "," "," "," "," "," "," "," "," "," "," "," "," "," "," "," "," "," "," "," "," "," "," "," "," "," "," "," "," "," "," "," "," "," "," "," "," "," "," "," "," "," "," "," "," "," "," "," "," "," "]
[null,{"$f":"Roster_Selection_Men!AB291&\" \" & \"V \"","v":"Oklahoma Christian University V "},{"$f":"Roster_Selection_Men!AD291","v":"18-58159"},{"$f":"Roster_Selection_Men!AE291","v":"Jake DeVoe"},null,{"$f":"IF(ISERROR(Individual_Scores_Men_Var!E263), \" \", IF(Individual_Scores_Men_Var!E263 = \"Yes\", \"Yes\", \"  \"))","v":"  "}," "," "," "," "," "," "," "," "," "," "," "," "," "," "," "," "," "," "," "," "," "," "," "," "," "," "," "," "," "," "," "," "," "," "," "," "," "," "," "," "," "," "," "," "," "," "," "," "," "," "," "," "," "," "," "," "," "," "," "," "," "," "," "," "," "," "," "," "," "," "," "," "," "," "]
[null,{"$f":"Roster_Selection_Men!AB292&\" \" & \"V \"","v":"Oklahoma Christian University V "},{"$f":"Roster_Selection_Men!AD292","v":"5743-5157"},{"$f":"Roster_Selection_Men!AE292","v":"Leotis Johnson"},null,{"$f":"IF(ISERROR(Individual_Scores_Men_Var!E264), \" \", IF(Individual_Scores_Men_Var!E264 = \"Yes\", \"Yes\", \"  \"))","v":"  "}," "," "," "," "," "," "," "," "," "," "," "," "," "," "," "," "," "," "," "," "," "," "," "," "," "," "," "," "," "," "," "," "," "," "," "," "," "," "," "," "," "," "," "," "," "," "," "," "," "," "," "," "," "," "," "," "," "," "," "," "," "," "," "," "," "," "," "," "," "," "," "," "," "," "]
[null,{"$f":"Roster_Selection_Men!AB293&\" \" & \"V \"","v":"Oklahoma Christian University V "},{"$f":"Roster_Selection_Men!AD293","v":"15-20464"},{"$f":"Roster_Selection_Men!AE293","v":"Nathan Curnutt"},null,{"$f":"IF(ISERROR(Individual_Scores_Men_Var!E265), \" \", IF(Individual_Scores_Men_Var!E265 = \"Yes\", \"Yes\", \"  \"))","v":"  "}," "," "," "," "," "," "," "," "," "," "," "," "," "," "," "," "," "," "," "," "," "," "," "," "," "," "," "," "," "," "," "," "," "," "," "," "," "," "," "," "," "," "," "," "," "," "," "," "," "," "," "," "," "," "," "," "," "," "," "," "," "," "," "," "," "," "," "," "," "," "," "," "," "," "]
[null,{"$f":"Roster_Selection_Men!AB294&\" \" & \"V \"","v":"Oklahoma Christian University V "},{"$f":"Roster_Selection_Men!AD294","v":"11-610746"},{"$f":"Roster_Selection_Men!AE294","v":"Trey Maloy"},null,{"$f":"IF(ISERROR(Individual_Scores_Men_Var!E266), \" \", IF(Individual_Scores_Men_Var!E266 = \"Yes\", \"Yes\", \"  \"))","v":"  "}," "," "," "," "," "," "," "," "," "," "," "," "," "," "," "," "," "," "," "," "," "," "," "," "," "," "," "," "," "," "," "," "," "," "," "," "," "," "," "," "," "," "," "," "," "," "," "," "," "," "," "," "," "," "," "," "," "," "," "," "," "," "," "," "," "," "," "," "," "," "," "," "," "," "]
[null,"Oklahoma Christian University V",{"$f":"Individual_Scores_Men_Var!C267","v":""},{"$f":"Individual_Scores_Men_Var!D267","v":""},null,null," "," "," "," "," "," "," "," "," "," "," "," "," "," "," "," "," "," "," "," "," "," "," "," "," "," "," "," "," "," "," "," "," "," "," "," "," "," "," "," "," "," "," "," "," "," "," "," "," "," "," "," "," "," "," "," "," "," "," "," "," "," "," "," "," "," "," "," "," "," "," "," "," "," "]
[null,"Oklahoma Christian University V",{"$f":"Individual_Scores_Men_Var!C268","v":""},{"$f":"Individual_Scores_Men_Var!D268","v":""},null,null," "," "," "," "," "," "," "," "," "," "," "," "," "," "," "," "," "," "," "," "," "," "," "," "," "," "," "," "," "," "," "," "," "," "," "," "," "," "," "," "," "," "," "," "," "," "," "," "," "," "," "," "," "," "," "," "," "," "," "," "," "," "," "," "," "," "," "," "," "," "," "," "," "," "]
[null,"Oklahoma Christian University V",{"$f":"Individual_Scores_Men_Var!C269","v":""},{"$f":"Individual_Scores_Men_Var!D269","v":""},null,null," "," "," "," "," "," "," "," "," "," "," "," "," "," "," "," "," "," "," "," "," "," "," "," "," "," "," "," "," "," "," "," "," "," "," "," "," "," "," "," "," "," "," "," "," "," "," "," "," "," "," "," "," "," "," "," "," "," "," "," "," "," "," "," "," "," "," "," "," "," "," "," "," "," "]
[null," "," "," ",null,null," "," "," "," "," "," "," "," "," "," "," "," "," "," "," "," "," "," "," "," "," "," "," "," "," "," "," "," "," "," "," "," "," "," "," "," "," "," "," "," "," "," "," "," "," "," "," "," "," "," "," "," "," "," "," "," "," "," "," "," "," "," "," "," "," "," "," "," "," "," "," "," "," "," "]
[null," "," "," ",null,null," "," "," "," "," "," "," "," "," "," "," "," "," "," "," "," "," "," "," "," "," "," "," "," "," "," "," "," "," "," "," "," "," "," "," "," "," "," "," "," "," "," "," "," "," "," "," "," "," "," "," "," "," "," "," "," "," "," "," "," "," "," "," "," "," "," "," "," "," "," "," "," "," "," "]
[null,{"$f":"Roster_Selection_Men!AB311&\" \" & \"V \"","v":"Oklahoma State University V "},{"$f":"Roster_Selection_Men!AD311","v":"11-412059"},{"$f":"Roster_Selection_Men!AE311","v":"Alleyn Campbell"},null,{"$f":"IF(ISERROR(Individual_Scores_Men_Var!E272), \" \", IF(Individual_Scores_Men_Var!E272 = \"Yes\", \"Yes\", \"  \"))","v":"  "},"Games",224.0,201.0,159.0,181.0,175.0,145.0,162.0,178.0,192.0,222.0,181.0,189.0,216.0,130.0,162.0,182.0,155.0,185.0,175.0,166.0,{"$f":"SUM(H272:AA272)","v":3580},{"$f":"COUNTIF(H272:AA272, \">0\" )","v":20},{"$f":"AB272/AC272","v":179}," "," "," "," "," "," "," "," "," "," "," "," "," "," "," "," "," "," "," "," "," "," "," "," "," "," "," "," "," "," "," "," "," "," "," "," "," "," "," "," "," "," "," "," "," "," "," "," "," "," "]
[null,{"$f":"Roster_Selection_Men!AB312&\" \" & \"V \"","v":"Oklahoma State University V "},{"$f":"Roster_Selection_Men!AD312","v":"22-22130"},{"$f":"Roster_Selection_Men!AE312","v":"Angel Carrillo"},null,{"$f":"IF(ISERROR(Individual_Scores_Men_Var!E273), \" \", IF(Individual_Scores_Men_Var!E273 = \"Yes\", \"Yes\", \"  \"))","v":"  "}," "," "," "," "," "," "," "," "," "," "," "," "," "," "," "," "," "," "," "," "," "," "," "," "," "," "," "," "," "," "," "," "," "," "," "," "," "," "," "," "," "," "," "," "," "," "," "," "," "," "," "," "," "," "," "," "," "," "," "," "," "," "," "," "," "," "," "," "," "," "," "," "," "," "]
[null,{"$f":"Roster_Selection_Men!AB313&\" \" & \"V \"","v":"Oklahoma State University V "},{"$f":"Roster_Selection_Men!AD313","v":"6507-11202"},{"$f":"Roster_Selection_Men!AE313","v":"Chase Horsley"},null,{"$f":"IF(ISERROR(Individual_Scores_Men_Var!E274), \" \", IF(Individual_Scores_Men_Var!E274 = \"Yes\", \"Yes\", \"  \"))","v":"  "}," "," "," "," "," "," "," "," "," "," "," "," "," "," "," "," "," "," "," "," "," "," "," "," "," "," "," "," "," "," "," "," "," "," "," "," "," "," "," "," "," "," "," "," "," "," "," "," "," "," "," "," "," "," "," "," "," "," "," "," "," "," "," "," "," "," "," "," "," "," "," "," "," "," "]
[null,{"$f":"Roster_Selection_Men!AB314&\" \" & \"V \"","v":"Oklahoma State University V "},{"$f":"Roster_Selection_Men!AD314","v":"11-412060"},{"$f":"Roster_Selection_Men!AE314","v":"Collen Campbell"},null,{"$f":"IF(ISERROR(Individual_Scores_Men_Var!E275), \" \", IF(Individual_Scores_Men_Var!E275 = \"Yes\", \"Yes\", \"  \"))","v":"  "}," "," "," "," "," "," "," "," "," "," "," "," "," "," "," "," "," "," "," "," "," "," "," "," "," "," "," "," "," "," "," "," "," "," "," "," "," "," "," "," "," "," "," "," "," "," "," "," "," "," "," "," "," "," "," "," "," "," "," "," "," "," "," "," "," "," "," "," "," "," "," "," "," "," "]
[null,{"$f":"Roster_Selection_Men!AB315&\" \" & \"V \"","v":"Oklahoma State University V "},{"$f":"Roster_Selection_Men!AD315","v":"22-17669"},{"$f":"Roster_Selection_Men!AE315","v":"Hunter Richards"},null,{"$f":"IF(ISERROR(Individual_Scores_Men_Var!E276), \" \", IF(Individual_Scores_Men_Var!E276 = \"Yes\", \"Yes\", \"  \"))","v":"  "}," "," "," "," "," "," "," "," "," "," "," "," "," "," "," "," "," "," "," "," "," "," "," "," "," "," "," "," "," "," "," "," "," "," "," "," "," "," "," "," "," "," "," "," "," "," "," "," "," "," "," "," "," "," "," "," "," "," "," "," "," "," "," "," "," "," "," "," "," "," "," "," "," "," "]
[null,{"$f":"Roster_Selection_Men!AB316&\" \" & \"V \"","v":"Oklahoma State University V "},{"$f":"Roster_Selection_Men!AD316","v":"11-317456"},{"$f":"Roster_Selection_Men!AE316","v":"Jacob Johns"},null,{"$f":"IF(ISERROR(Individual_Scores_Men_Var!E277), \" \", IF(Individual_Scores_Men_Var!E277 = \"Yes\", \"Yes\", \"  \"))","v":"  "}," "," "," "," "," "," "," "," "," "," "," "," "," "," "," "," "," "," "," "," "," "," "," "," "," "," "," "," "," "," "," "," "," "," "," "," "," "," "," "," "," "," "," "," "," "," "," "," "," "," "," "," "," "," "," "," "," "," "," "," "," "," "," "," "," "," "," "," "," "," "," "," "," "," "]
[null,{"$f":"Roster_Selection_Men!AB317&\" \" & \"V \"","v":"Oklahoma State University V "},{"$f":"Roster_Selection_Men!AD317","v":"17-107448"},{"$f":"Roster_Selection_Men!AE317","v":"Mason Martin"},null,{"$f":"IF(ISERROR(Individual_Scores_Men_Var!E278), \" \", IF(Individual_Scores_Men_Var!E278 = \"Yes\", \"Yes\", \"  \"))","v":"  "}," "," "," "," "," "," "," "," "," "," "," "," "," "," "," "," "," "," "," "," "," "," "," "," "," "," "," "," "," "," "," "," "," "," "," "," "," "," "," "," "," "," "," "," "," "," "," "," "," "," "," "," "," "," "," "," "," "," "," "," "," "," "," "," "," "," "," "," "," "," "," "," "," "," "]
[null,{"$f":"Roster_Selection_Men!AB318&\" \" & \"V \"","v":"Oklahoma State University V "},{"$f":"Roster_Selection_Men!AD318","v":"6507-11763"},{"$f":"Roster_Selection_Men!AE318","v":"Zach Hathaway"},null,{"$f":"IF(ISERROR(Individual_Scores_Men_Var!E279), \" \", IF(Individual_Scores_Men_Var!E279 = \"Yes\", \"Yes\", \"  \"))","v":"  "}," "," "," "," "," "," "," "," "," "," "," "," "," "," "," "," "," "," "," "," "," "," "," "," "," "," "," "," "," "," "," "," "," "," "," "," "," "," "," "," "," "," "," "," "," "," "," "," "," "," "," "," "," "," "," "," "," "," "," "," "," "," "," "," "," "," "," "," "," "," "," "," "," "," "]
[null,"Oklahoma State University V",{"$f":"Individual_Scores_Men_Var!C280","v":""},{"$f":"Individual_Scores_Men_Var!D280","v":""},null,null," "," "," "," "," "," "," "," "," "," "," "," "," "," "," "," "," "," "," "," "," "," "," "," "," "," "," "," "," "," "," "," "," "," "," "," "," "," "," "," "," "," "," "," "," "," "," "," "," "," "," "," "," "," "," "," "," "," "," "," "," "," "," "," "," "," "," "," "," "," "," "," "," "," "]
[null,"Oklahoma State University V",{"$f":"Individual_Scores_Men_Var!C281","v":""},{"$f":"Individual_Scores_Men_Var!D281","v":""},null,null," "," "," "," "," "," "," "," "," "," "," "," "," "," "," "," "," "," "," "," "," "," "," "," "," "," "," "," "," "," "," "," "," "," "," "," "," "," "," "," "," "," "," "," "," "," "," "," "," "," "," "," "," "," "," "," "," "," "," "," "," "," "," "," "," "," "," "," "," "," "," "," "," "," "]
[null,"Oklahoma State University V",{"$f":"Individual_Scores_Men_Var!C282","v":""},{"$f":"Individual_Scores_Men_Var!D282","v":""},null,null," "," "," "," "," "," "," "," "," "," "," "," "," "," "," "," "," "," "," "," "," "," "," "," "," "," "," "," "," "," "," "," "," "," "," "," "," "," "," "," "," "," "," "," "," "," "," "," "," "," "," "," "," "," "," "," "," "," "," "," "," "," "," "," "," "," "," "," "," "," "," "," "," "," "]
[null," "," "," ",null,null," "," "," "," "," "," "," "," "," "," "," "," "," "," "," "," "," "," "," "," "," "," "," "," "," "," "," "," "," "," "," "," "," "," "," "," "," "," "," "," "," "," "," "," "," "," "," "," "," "," "," "," "," "," "," "," "," "," "," "," "," "," "," "," "," "," "," "," "," "," "," "," "," "," "]
[null," "," "," ",null,null," "," "," "," "," "," "," "," "," "," "," "," "," "," "," "," "," "," "," "," "," "," "," "," "," "," "," "," "," "," "," "," "," "," "," "," "," "," "," "," "," "," "," "," "," "," "," "," "," "," "," "," "," "," "," "," "," "," "," "," "," "," "," "," "," "," "," "," "," "," "," "," "," "," "]
[null,{"$f":"Roster_Selection_Men!AB324&\" \" & \"V \"","v":"Ottawa University (KS) V "},{"$f":"Roster_Selection_Men!AD324","v":"8756-13138"},{"$f":"Roster_Selection_Men!AE324","v":"Brendan Iaulualo"},null,{"$f":"IF(ISERROR(Individual_Scores_Men_Var!E285), \" \", IF(Individual_Scores_Men_Var!E285 = \"Yes\", \"Yes\", \"  \"))","v":"  "},"Games",153.0,232.0,246.0,200.0,210.0,174.0,161.0,212.0,178.0,195.0,222.0,210.0,183.0,222.0,214.0,204.0,206.0,194.0,178.0,234.0,{"$f":"SUM(H285:AA285)","v":4028},{"$f":"COUNTIF(H285:AA285, \">0\" )","v":20},{"$f":"AB285/AC285","v":201.4}," "," "," "," "," "," "," "," "," "," "," "," "," "," "," "," "," "," "," "," "," "," "," "," "," "," "," "," "," "," "," "," "," "," "," "," "," "," "," "," "," "," "," "," "," "," "," "," "," "," "]
[null,{"$f":"Roster_Selection_Men!AB325&\" \" & \"V \"","v":"Ottawa University (KS) V "},{"$f":"Roster_Selection_Men!AD325","v":"5900-23017"},{"$f":"Roster_Selection_Men!AE325","v":"Jared Freed"},null,{"$f":"IF(ISERROR(Individual_Scores_Men_Var!E286), \" \", IF(Individual_Scores_Men_Var!E286 = \"Yes\", \"Yes\", \"  \"))","v":"  "}," "," "," "," "," "," "," "," "," "," "," "," "," "," "," "," "," "," "," "," "," "," "," "," "," "," "," "," "," "," "," "," "," "," "," "," "," "," "," "," "," "," "," "," "," "," "," "," "," "," "," "," "," "," "," "," "," "," "," "," "," "," "," "," "," "," "," "," "," "," "," "," "," "," "]
[null,{"$f":"Roster_Selection_Men!AB326&\" \" & \"V \"","v":"Ottawa University (KS) V "},{"$f":"Roster_Selection_Men!AD326","v":"8608-3907"},{"$f":"Roster_Selection_Men!AE326","v":"Jerry Jennings"},null,{"$f":"IF(ISERROR(Individual_Scores_Men_Var!E287), \" \", IF(Individual_Scores_Men_Var!E287 = \"Yes\", \"Yes\", \"  \"))","v":"  "}," "," "," "," "," "," "," "," "," "," "," "," "," "," "," "," "," "," "," "," "," "," "," "," "," "," "," "," "," "," "," "," "," "," "," "," "," "," "," "," "," "," "," "," "," "," "," "," "," "," "," "," "," "," "," "," "," "," "," "," "," "," "," "," "," "," "," "," "," "," "," "," "," "," "]
[null,{"$f":"Roster_Selection_Men!AB327&\" \" & \"V \"","v":"Ottawa University (KS) V "},{"$f":"Roster_Selection_Men!AD327","v":"5900-20916"},{"$f":"Roster_Selection_Men!AE327","v":"Kristopher Quidachay"},null,{"$f":"IF(ISERROR(Individual_Scores_Men_Var!E288), \" \", IF(Individual_Scores_Men_Var!E288 = \"Yes\", \"Yes\", \"  \"))","v":"  "}," "," "," "," "," "," "," "," "," "," "," "," "," "," "," "," "," "," "," "," "," "," "," "," "," "," "," "," "," "," "," "," "," "," "," "," "," "," "," "," "," "," "," "," "," "," "," "," "," "," "," "," "," "," "," "," "," "," "," "," "," "," "," "," "," "," "," "," "," "," "," "," "," "," "]
[null,{"$f":"Roster_Selection_Men!AB328&\" \" & \"V \"","v":"Ottawa University (KS) V "},{"$f":"Roster_Selection_Men!AD328","v":"5900-23216"},{"$f":"Roster_Selection_Men!AE328","v":"Kyle Lovell"},null,{"$f":"IF(ISERROR(Individual_Scores_Men_Var!E289), \" \", IF(Individual_Scores_Men_Var!E289 = \"Yes\", \"Yes\", \"  \"))","v":"  "}," "," "," "," "," "," "," "," "," "," "," "," "," "," "," "," "," "," "," "," "," "," "," "," "," "," "," "," "," "," "," "," "," "," "," "," "," "," "," "," "," "," "," "," "," "," "," "," "," "," "," "," "," "," "," "," "," "," "," "," "," "," "," "," "," "," "," "," "," "," "," "," "," "," "]
[null,{"$f":"Roster_Selection_Men!AB329&\" \" & \"V \"","v":"Ottawa University (KS) V "},{"$f":"Roster_Selection_Men!AD329","v":"5900-26017"},{"$f":"Roster_Selection_Men!AE329","v":"Spencer Giffin"},null,{"$f":"IF(ISERROR(Individual_Scores_Men_Var!E290), \" \", IF(Individual_Scores_Men_Var!E290 = \"Yes\", \"Yes\", \"  \"))","v":"  "}," "," "," "," "," "," "," "," "," "," "," "," "," "," "," "," "," "," "," "," "," "," "," "," "," "," "," "," "," "," "," "," "," "," "," "," "," "," "," "," "," "," "," "," "," "," "," "," "," "," "," "," "," "," "," "," "," "," "," "," "," "," "," "," "," "," "," "," "," "," "," "," "," "," "]
[null,{"$f":"Roster_Selection_Men!AB330&\" \" & \"V \"","v":"Ottawa University (KS) V "},{"$f":"Roster_Selection_Men!AD330","v":"11-677214"},{"$f":"Roster_Selection_Men!AE330","v":"Wesley Outman"},null,{"$f":"IF(ISERROR(Individual_Scores_Men_Var!E291), \" \", IF(Individual_Scores_Men_Var!E291 = \"Yes\", \"Yes\", \"  \"))","v":"  "}," "," "," "," "," "," "," "," "," "," "," "," "," "," "," "," "," "," "," "," "," "," "," "," "," "," "," "," "," "," "," "," "," "," "," "," "," "," "," "," "," "," "," "," "," "," "," "," "," "," "," "," "," "," "," "," "," "," "," "," "," "," "," "," "," "," "," "," "," "," "," "," "," "," "]
[null,{"$f":"Roster_Selection_Men!AB331&\" \" & \"V \"","v":" V "},{"$f":"Roster_Selection_Men!AD331","v":""},{"$f":"Roster_Selection_Men!AE331","v":""},null,{"$f":"IF(ISERROR(Individual_Scores_Men_Var!E292), \" \", IF(Individual_Scores_Men_Var!E292 = \"Yes\", \"Yes\", \"  \"))","v":"  "}," "," "," "," "," "," "," "," "," "," "," "," "," "," "," "," "," "," "," "," "," "," "," "," "," "," "," "," "," "," "," "," "," "," "," "," "," "," "," "," "," "," "," "," "," "," "," "," "," "," "," "," "," "," "," "," "," "," "," "," "," "," "," "," "," "," "," "," "," "," "," "," "," "," "]
[null,"Ottawa University (KS) V",{"$f":"Individual_Scores_Men_Var!C293","v":""},{"$f":"Individual_Scores_Men_Var!D293","v":""},null,null," "," "," "," "," "," "," "," "," "," "," "," "," "," "," "," "," "," "," "," "," "," "," "," "," "," "," "," "," "," "," "," "," "," "," "," "," "," "," "," "," "," "," "," "," "," "," "," "," "," "," "," "," "," "," "," "," "," "," "," "," "," "," "," "," "," "," "," "," "," "," "," "," "," "]
[null,"Ottawa University (KS) V",{"$f":"Individual_Scores_Men_Var!C294","v":""},{"$f":"Individual_Scores_Men_Var!D294","v":""},null,null," "," "," "," "," "," "," "," "," "," "," "," "," "," "," "," "," "," "," "," "," "," "," "," "," "," "," "," "," "," "," "," "," "," "," "," "," "," "," "," "," "," "," "," "," "," "," "," "," "," "," "," "," "," "," "," "," "," "," "," "," "," "," "," "," "," "," "," "," "," "," "," "," "," "]
[null,"Ottawa University (KS) V",{"$f":"Individual_Scores_Men_Var!C295","v":""},{"$f":"Individual_Scores_Men_Var!D295","v":""},null,null," "," "," "," "," "," "," "," "," "," "," "," "," "," "," "," "," "," "," "," "," "," "," "," "," "," "," "," "," "," "," "," "," "," "," "," "," "," "," "," "," "," "," "," "," "," "," "," "," "," "," "," "," "," "," "," "," "," "," "," "," "," "," "," "," "," "," "," "," "," "," "," "," "," "]
[null," "," "," ",null,null," "," "," "," "," "," "," "," "," "," "," "," "," "," "," "," "," "," "," "," "," "," "," "," "," "," "," "," "," "," "," "," "," "," "," "," "," "," "," "," "," "," "," "," "," "," "," "," "," "," "," "," "," "," "," "," "," "," "," "," "," "," "," "," "," "," "," "," "," "," "," "," "," "," "]
[null," "," "," ",null,null," "," "," "," "," "," "," "," "," "," "," "," "," "," "," "," "," "," "," "," "," "," "," "," "," "," "," "," "," "," "," "," "," "," "," "," "," "," "," "," "," "," "," "," "," "," "," "," "," "," "," "," "," "," "," "," "," "," "," "," "," "," "," "," "," "," "," "," "," "," "," "," "," "," "]
[null,{"$f":"Roster_Selection_Men!AB337&\" \" & \"V \"","v":"Peru State College V "},{"$f":"Roster_Selection_Men!AD337","v":"11-276735"},{"$f":"Roster_Selection_Men!AE337","v":"Creyton Nisly"},null,{"$f":"IF(ISERROR(Individual_Scores_Men_Var!E298), \" \", IF(Individual_Scores_Men_Var!E298 = \"Yes\", \"Yes\", \"  \"))","v":"  "},"Games",183.0,242.0,191.0,131.0,223.0,193.0,197.0,182.0,182.0,171.0,164.0,136.0,178.0,203.0,211.0,172.0,194.0,204.0,171.0,139.0,{"$f":"SUM(H298:AA298)","v":3667},{"$f":"COUNTIF(H298:AA298, \">0\" )","v":20},{"$f":"AB298/AC298","v":183.35}," "," "," "," "," "," "," "," "," "," "," "," "," "," "," "," "," "," "," "," "," "," "," "," "," "," "," "," "," "," "," "," "," "," "," "," "," "," "," "," "," "," "," "," "," "," "," "," "," "," "]
[null,{"$f":"Roster_Selection_Men!AB338&\" \" & \"V \"","v":"Peru State College V "},{"$f":"Roster_Selection_Men!AD338","v":"7914-17029"},{"$f":"Roster_Selection_Men!AE338","v":"Dane Conner"},null,{"$f":"IF(ISERROR(Individual_Scores_Men_Var!E299), \" \", IF(Individual_Scores_Men_Var!E299 = \"Yes\", \"Yes\", \"  \"))","v":"  "}," "," "," "," "," "," "," "," "," "," "," "," "," "," "," "," "," "," "," "," "," "," "," "," "," "," "," "," "," "," "," "," "," "," "," "," "," "," "," "," "," "," "," "," "," "," "," "," "," "," "," "," "," "," "," "," "," "," "," "," "," "," "," "," "," "," "," "," "," "," "," "," "," "," "]
[null,{"$f":"Roster_Selection_Men!AB339&\" \" & \"V \"","v":"Peru State College V "},{"$f":"Roster_Selection_Men!AD339","v":"11-377455"},{"$f":"Roster_Selection_Men!AE339","v":"Isaac Skalak"},null,{"$f":"IF(ISERROR(Individual_Scores_Men_Var!E300), \" \", IF(Individual_Scores_Men_Var!E300 = \"Yes\", \"Yes\", \"  \"))","v":"  "}," "," "," "," "," "," "," "," "," "," "," "," "," "," "," "," "," "," "," "," "," "," "," "," "," "," "," "," "," "," "," "," "," "," "," "," "," "," "," "," "," "," "," "," "," "," "," "," "," "," "," "," "," "," "," "," "," "," "," "," "," "," "," "," "," "," "," "," "," "," "," "," "," "," "]
[null,{"$f":"Roster_Selection_Men!AB340&\" \" & \"V \"","v":"Peru State College V "},{"$f":"Roster_Selection_Men!AD340","v":"20-53888"},{"$f":"Roster_Selection_Men!AE340","v":"Jett Tolentino"},null,{"$f":"IF(ISERROR(Individual_Scores_Men_Var!E301), \" \", IF(Individual_Scores_Men_Var!E301 = \"Yes\", \"Yes\", \"  \"))","v":"  "}]
[null,{"$f":"Roster_Selection_Men!AB341&\" \" & \"V \"","v":"Peru State College V "},{"$f":"Roster_Selection_Men!AD341","v":"11-758428"},{"$f":"Roster_Selection_Men!AE341","v":"Justin Brookens"},null,{"$f":"IF(ISERROR(Individual_Scores_Men_Var!E302), \" \", IF(Individual_Scores_Men_Var!E302 = \"Yes\", \"Yes\", \"  \"))","v":"  "}]
[null,{"$f":"Roster_Selection_Men!AB342&\" \" & \"V \"","v":"Peru State College V "},{"$f":"Roster_Selection_Men!AD342","v":"8232-944"},{"$f":"Roster_Selection_Men!AE342","v":"Stephen Acton"},null,{"$f":"IF(ISERROR(Individual_Scores_Men_Var!E303), \" \", IF(Individual_Scores_Men_Var!E303 = \"Yes\", \"Yes\", \"  \"))","v":"  "}]
[null,{"$f":"Roster_Selection_Men!AB343&\" \" & \"V \"","v":"Peru State College V "},{"$f":"Roster_Selection_Men!AD343","v":"11-713121"},{"$f":"Roster_Selection_Men!AE343","v":"Wyatt Woodward"},null,{"$f":"IF(ISERROR(Individual_Scores_Men_Var!E304), \" \", IF(Individual_Scores_Men_Var!E304 = \"Yes\", \"Yes\", \"  \"))","v":"  "}]
[null,{"$f":"Roster_Selection_Men!AB344&\" \" & \"V \"","v":"Peru State College V "},{"$f":"Roster_Selection_Men!AD344","v":"5900-26805"},{"$f":"Roster_Selection_Men!AE344","v":"Zachary Phillips"},null,{"$f":"IF(ISERROR(Individual_Scores_Men_Var!E305), \" \", IF(Individual_Scores_Men_Var!E305 = \"Yes\", \"Yes\", \"  \"))","v":"  "}]
[null,"Peru State College V",{"$f":"Individual_Scores_Men_Var!C306","v":""},{"$f":"Individual_Scores_Men_Var!D306","v":""}]
[null,"Peru State College V",{"$f":"Individual_Scores_Men_Var!C307","v":""},{"$f":"Individual_Scores_Men_Var!D307","v":""}]
[null,"Peru State College V",{"$f":"Individual_Scores_Men_Var!C308","v":""},{"$f":"Individual_Scores_Men_Var!D308","v":""}]
[null," "," "," "]
[null," "," "," "]
[null,{"$f":"Roster_Selection_Men!AB347&\" \" & \"V \"","v":"Quincy University V "},{"$f":"Roster_Selection_Men!AD347","v":"11-479052"},{"$f":"Roster_Selection_Men!AE347","v":"Anthony Lundy"},null,{"$f":"IF(ISERROR(Individual_Scores_Men_Var!E311), \" \", IF(Individual_Scores_Men_Var!E311 = \"Yes\", \"Yes\", \"  \"))","v":"  "},"Games",192.0,187.0,160.0,212.0,197.0,170.0,163.0,139.0,167.0,226.0,178.0,196.0,179.0,179.0,183.0,179.0,153.0,167.0,187.0,216.0,{"$f":"SUM(H311:AA311)","v":3630},{"$f":"COUNTIF(H311:AA311, \">0\" )","v":20},{"$f":"AB311/AC311","v":181.5}]
[null,{"$f":"Roster_Selection_Men!AB348&\" \" & \"V \"","v":"Quincy University V "},{"$f":"Roster_Selection_Men!AD348","v":"18-92281"},{"$f":"Roster_Selection_Men!AE348","v":"Brenden Unseld"},null,{"$f":"IF(ISERROR(Individual_Scores_Men_Var!E312), \" \", IF(Individual_Scores_Men_Var!E312 = \"Yes\", \"Yes\", \"  \"))","v":"  "}]
[null,{"$f":"Roster_Selection_Men!AB349&\" \" & \"V \"","v":"Quincy University V "},{"$f":"Roster_Selection_Men!AD349","v":"11-479885"},{"$f":"Roster_Selection_Men!AE349","v":"Caden Witt"},null,{"$f":"IF(ISERROR(Individual_Scores_Men_Var!E313), \" \", IF(Individual_Scores_Men_Var!E313 = \"Yes\", \"Yes\", \"  \"))","v":"  "}]
[null,{"$f":"Roster_Selection_Men!AB350&\" \" & \"V \"","v":"Quincy University V "},{"$f":"Roster_Selection_Men!AD350","v":"11-697151"},{"$f":"Roster_Selection_Men!AE350","v":"Cayden Thoms"},null,{"$f":"IF(ISERROR(Individual_Scores_Men_Var!E314), \" \", IF(Individual_Scores_Men_Var!E314 = \"Yes\", \"Yes\", \"  \"))","v":"  "}]
[null,{"$f":"Roster_Selection_Men!AB351&\" \" & \"V \"","v":"Quincy University V "},{"$f":"Roster_Selection_Men!AD351","v":"16-162510"},{"$f":"Roster_Selection_Men!AE351","v":"Connor Meegan"},null,{"$f":"IF(ISERROR(Individual_Scores_Men_Var!E315), \" \", IF(Individual_Scores_Men_Var!E315 = \"Yes\", \"Yes\", \"  \"))","v":"  "}]
[null,{"$f":"Roster_Selection_Men!AB352&\" \" & \"V \"","v":"Quincy University V "},{"$f":"Roster_Selection_Men!AD352","v":"7914-29201"},{"$f":"Roster_Selection_Men!AE352","v":"Lucas Forthofer"},null,{"$f":"IF(ISERROR(Individual_Scores_Men_Var!E316), \" \", IF(Individual_Scores_Men_Var!E316 = \"Yes\", \"Yes\", \"  \"))","v":"  "}]
[null,{"$f":"Roster_Selection_Men!AB353&\" \" & \"V \"","v":"Quincy University V "},{"$f":"Roster_Selection_Men!AD353","v":"20-20396"},{"$f":"Roster_Selection_Men!AE353","v":"Nicholas Puente"},null,{"$f":"IF(ISERROR(Individual_Scores_Men_Var!E317), \" \", IF(Individual_Scores_Men_Var!E317 = \"Yes\", \"Yes\", \"  \"))","v":"  "}]
[null,{"$f":"Roster_Selection_Men!AB354&\" \" & \"V \"","v":"Quincy University V "},{"$f":"Roster_Selection_Men!AD354","v":"11-237083"},{"$f":"Roster_Selection_Men!AE354","v":"Parker Lymenstull"},null,{"$f":"IF(ISERROR(Individual_Scores_Men_Var!E318), \" \", IF(Individual_Scores_Men_Var!E318 = \"Yes\", \"Yes\", \"  \"))","v":"  "}]
[null,"Quincy University V",{"$f":"Individual_Scores_Men_Var!C319","v":""},{"$f":"Individual_Scores_Men_Var!D319","v":""}]
[null,"Quincy University V",{"$f":"Individual_Scores_Men_Var!C320","v":""},{"$f":"Individual_Scores_Men_Var!D320","v":""}]
[null,"Quincy University V",{"$f":"Individual_Scores_Men_Var!C321","v":""},{"$f":"Individual_Scores_Men_Var!D321","v":""}]
[null," "," "," "]
[null," "," "," "]
[null,{"$f":"Roster_Selection_Men!AB355&\" \" & \"V \"","v":"St. Ambrose University V "},{"$f":"Roster_Selection_Men!AD355","v":"15-185155"},{"$f":"Roster_Selection_Men!AE355","v":"Ashton Yamasaki"},null,{"$f":"IF(ISERROR(Individual_Scores_Men_Var!E324), \" \", IF(Individual_Scores_Men_Var!E324 = \"Yes\", \"Yes\", \"  \"))","v":"  "},"Games",184.0,221.0,212.0,198.0,237.0,246.0,216.0,177.0,257.0,254.0,203.0,258.0,229.0,193.0,193.0,259.0,237.0,235.0,244.0,249.0,{"$f":"SUM(H324:AA324)","v":4502},{"$f":"COUNTIF(H324:AA324, \">0\" )","v":20},{"$f":"AB324/AC324","v":225.1}]
[null,{"$f":"Roster_Selection_Men!AB356&\" \" & \"V \"","v":"St. Ambrose University V "},{"$f":"Roster_Selection_Men!AD356","v":"11-81520"},{"$f":"Roster_Selection_Men!AE356","v":"Cameron Crowe"},null,{"$f":"IF(ISERROR(Individual_Scores_Men_Var!E325), \" \", IF(Individual_Scores_Men_Var!E325 = \"Yes\", \"Yes\", \"  \"))","v":"  "}]
[null,{"$f":"Roster_Selection_Men!AB357&\" \" & \"V \"","v":"St. Ambrose University V "},{"$f":"Roster_Selection_Men!AD357","v":"11-377191"},{"$f":"Roster_Selection_Men!AE357","v":"Jordan Monnens"},null,{"$f":"IF(ISERROR(Individual_Scores_Men_Var!E326), \" \", IF(Individual_Scores_Men_Var!E326 = \"Yes\", \"Yes\", \"  \"))","v":"  "}]
[null,{"$f":"Roster_Selection_Men!AB358&\" \" & \"V \"","v":"St. Ambrose University V "},{"$f":"Roster_Selection_Men!AD358","v":"11-450746"},{"$f":"Roster_Selection_Men!AE358","v":"Justin Aboud"},null,{"$f":"IF(ISERROR(Individual_Scores_Men_Var!E327), \" \", IF(Individual_Scores_Men_Var!E327 = \"Yes\", \"Yes\", \"  \"))","v":"  "}]
[null,{"$f":"Roster_Selection_Men!AB359&\" \" & \"V \"","v":"St. Ambrose University V "},{"$f":"Roster_Selection_Men!AD359","v":"11-651099"},{"$f":"Roster_Selection_Men!AE359","v":"Ryan Speer"},null,{"$f":"IF(ISERROR(Individual_Scores_Men_Var!E328), \" \", IF(Individual_Scores_Men_Var!E328 = \"Yes\", \"Yes\", \"  \"))","v":"  "}]
[null,{"$f":"Roster_Selection_Men!AB360&\" \" & \"V \"","v":"St. Ambrose University V "},{"$f":"Roster_Selection_Men!AD360","v":"6058-4136"},{"$f":"Roster_Selection_Men!AE360","v":"William Jones"},null,{"$f":"IF(ISERROR(Individual_Scores_Men_Var!E329), \" \", IF(Individual_Scores_Men_Var!E329 = \"Yes\", \"Yes\", \"  \"))","v":"  "}]
[null,{"$f":"Roster_Selection_Men!AB361&\" \" & \"V \"","v":"St. Ambrose University V "},{"$f":"Roster_Selection_Men!AD361","v":"11-628825"},{"$f":"Roster_Selection_Men!AE361","v":"Zach Greim"},null,{"$f":"IF(ISERROR(Individual_Scores_Men_Var!E330), \" \", IF(Individual_Scores_Men_Var!E330 = \"Yes\", \"Yes\", \"  \"))","v":"  "}]
[null,{"$f":"Roster_Selection_Men!AB362&\" \" & \"V \"","v":"St. Ambrose University V "},{"$f":"Roster_Selection_Men!AD362","v":"5895-18"},{"$f":"Roster_Selection_Men!AE362","v":"Zack Denton"},null,{"$f":"IF(ISERROR(Individual_Scores_Men_Var!E331), \" \", IF(Individual_Scores_Men_Var!E331 = \"Yes\", \"Yes\", \"  \"))","v":"  "}]
[null,"St. Ambrose University V",{"$f":"Individual_Scores_Men_Var!C332","v":""},{"$f":"Individual_Scores_Men_Var!D332","v":""}]
[null,"St. Ambrose University V",{"$f":"Individual_Scores_Men_Var!C333","v":""},{"$f":"Individual_Scores_Men_Var!D333","v":""}]
[null,"St. Ambrose University V",{"$f":"Individual_Scores_Men_Var!C334","v":""},{"$f":"Individual_Scores_Men_Var!D334","v":""}]
[null," "," "," "]
[null," "," "," "]
[null,{"$f":"Roster_Selection_Men!AB381&\" \" & \"V \"","v":"University Of Saint Mary V "},{"$f":"Roster_Selection_Men!AD381","v":"22-1904"},{"$f":"Roster_Selection_Men!AE381","v":"Braedon Robinson"},null,{"$f":"IF(ISERROR(Individual_Scores_Men_Var!E337), \" \", IF(Individual_Scores_Men_Var!E337 = \"Yes\", \"Yes\", \"  \"))","v":"  "},"Games",183.0,159.0,223.0,188.0,119.0,113.0,154.0,191.0,202.0,157.0,169.0,168.0,154.0,167.0,175.0,165.0,157.0,156.0,204.0,199.0,{"$f":"SUM(H337:AA337)","v":3403},{"$f":"COUNTIF(H337:AA337, \">0\" )","v":20},{"$f":"AB337/AC337","v":170.15}]
[null,{"$f":"Roster_Selection_Men!AB382&\" \" & \"V \"","v":"University Of Saint Mary V "},{"$f":"Roster_Selection_Men!AD382","v":"22-1905"},{"$f":"Roster_Selection_Men!AE382","v":"Camden Schrickel"},null,{"$f":"IF(ISERROR(Individual_Scores_Men_Var!E338), \" \", IF(Individual_Scores_Men_Var!E338 = \"Yes\", \"Yes\", \"  \"))","v":"  "}]
[null,{"$f":"Roster_Selection_Men!AB383&\" \" & \"V \"","v":"University Of Saint Mary V "},{"$f":"Roster_Selection_Men!AD383","v":"18-48037"},{"$f":"Roster_Selection_Men!AE383","v":"Dantoine Ballard"},null,{"$f":"IF(ISERROR(Individual_Scores_Men_Var!E339), \" \", IF(Individual_Scores_Men_Var!E339 = \"Yes\", \"Yes\", \"  \"))","v":"  "}]
[null,{"$f":"Roster_Selection_Men!AB384&\" \" & \"V \"","v":"University Of Saint Mary V "},{"$f":"Roster_Selection_Men!AD384","v":"22-1902"},{"$f":"Roster_Selection_Men!AE384","v":"Emilio Gutierrez"},null,{"$f":"IF(ISERROR(Individual_Scores_Men_Var!E340), \" \", IF(Individual_Scores_Men_Var!E340 = \"Yes\", \"Yes\", \"  \"))","v":"  "}]
[null,{"$f":"Roster_Selection_Men!AB385&\" \" & \"V \"","v":"University Of Saint Mary V "},{"$f":"Roster_Selection_Men!AD385","v":"11-207956"},{"$f":"Roster_Selection_Men!AE385","v":"Jose Limon"},null,{"$f":"IF(ISERROR(Individual_Scores_Men_Var!E341), \" \", IF(Individual_Scores_Men_Var!E341 = \"Yes\", \"Yes\", \"  \"))","v":"  "}]
[null,{"$f":"Roster_Selection_Men!AB386&\" \" & \"V \"","v":"University Of Saint Mary V "},{"$f":"Roster_Selection_Men!AD386","v":"18-48027"},{"$f":"Roster_Selection_Men!AE386","v":"Joshua Kacich"},null,{"$f":"IF(ISERROR(Individual_Scores_Men_Var!E342), \" \", IF(Individual_Scores_Men_Var!E342 = \"Yes\", \"Yes\", \"  \"))","v":"  "}]
[null,{"$f":"Roster_Selection_Men!AB387&\" \" & \"V \"","v":"University Of Saint Mary V "},{"$f":"Roster_Selection_Men!AD387","v":"21-470"},{"$f":"Roster_Selection_Men!AE387","v":"Layne Riggs"},null,{"$f":"IF(ISERROR(Individual_Scores_Men_Var!E343), \" \", IF(Individual_Scores_Men_Var!E343 = \"Yes\", \"Yes\", \"  \"))","v":"  "}]
[null,{"$f":"Roster_Selection_Men!AB388&\" \" & \"V \"","v":"University Of Saint Mary V "},{"$f":"Roster_Selection_Men!AD388","v":"21-342"},{"$f":"Roster_Selection_Men!AE388","v":"Ricardo Tello"},null,{"$f":"IF(ISERROR(Individual_Scores_Men_Var!E344), \" \", IF(Individual_Scores_Men_Var!E344 = \"Yes\", \"Yes\", \"  \"))","v":"  "}]
[null,"University Of Saint Mary V",{"$f":"Individual_Scores_Men_Var!C345","v":""},{"$f":"Individual_Scores_Men_Var!D345","v":""}]
[null,"University Of Saint Mary V",{"$f":"Individual_Scores_Men_Var!C346","v":""},{"$f":"Individual_Scores_Men_Var!D346","v":""}]
[null,"University Of Saint Mary V",{"$f":"Individual_Scores_Men_Var!C347","v":""},{"$f":"Individual_Scores_Men_Var!D347","v":""}]
[null," "," "," "]
[null," "," "," "]
[null,{"$f":"Roster_Selection_Men!AB390&\" \" & \"V \"","v":"Waldorf University V "},{"$f":"Roster_Selection_Men!AD390","v":"11-701000"},{"$f":"Roster_Selection_Men!AE390","v":"Bryson Randol"},null,{"$f":"IF(ISERROR(Individual_Scores_Men_Var!E350), \" \", IF(Individual_Scores_Men_Var!E350 = \"Yes\", \"Yes\", \"  \"))","v":"  "},"Games",194.0,186.0,149.0,213.0,204.0,143.0,194.0,177.0,219.0,182.0,172.0,167.0,188.0,199.0,184.0,189.0,178.0,170.0,211.0,170.0,{"$f":"SUM(H350:AA350)","v":3689},{"$f":"COUNTIF(H350:AA350, \">0\" )","v":20},{"$f":"AB350/AC350","v":184.45}]
[null,{"$f":"Roster_Selection_Men!AB391&\" \" & \"V \"","v":"Waldorf University V "},{"$f":"Roster_Selection_Men!AD391","v":"20-23769"},{"$f":"Roster_Selection_Men!AE391","v":"Grant McClymont"},null,{"$f":"IF(ISERROR(Individual_Scores_Men_Var!E351), \" \", IF(Individual_Scores_Men_Var!E351 = \"Yes\", \"Yes\", \"  \"))","v":"  "}]
[null,{"$f":"Roster_Selection_Men!AB392&\" \" & \"V \"","v":"Waldorf University V "},{"$f":"Roster_Selection_Men!AD392","v":"11-605053"},{"$f":"Roster_Selection_Men!AE392","v":"Ian Templin"},null,{"$f":"IF(ISERROR(Individual_Scores_Men_Var!E352), \" \", IF(Individual_Scores_Men_Var!E352 = \"Yes\", \"Yes\", \"  \"))","v":"  "}]
[null,{"$f":"Roster_Selection_Men!AB393&\" \" & \"V \"","v":"Waldorf University V "},{"$f":"Roster_Selection_Men!AD393","v":"5712-982"},{"$f":"Roster_Selection_Men!AE393","v":"Jacob Miner"},null,{"$f":"IF(ISERROR(Individual_Scores_Men_Var!E353), \" \", IF(Individual_Scores_Men_Var!E353 = \"Yes\", \"Yes\", \"  \"))","v":"  "}]
[null,{"$f":"Roster_Selection_Men!AB394&\" \" & \"V \"","v":"Waldorf University V "},{"$f":"Roster_Selection_Men!AD394","v":"22-1354"},{"$f":"Roster_Selection_Men!AE394","v":"Joseph Walgenbach"},null,{"$f":"IF(ISERROR(Individual_Scores_Men_Var!E354), \" \", IF(Individual_Scores_Men_Var!E354 = \"Yes\", \"Yes\", \"  \"))","v":"  "}]
[null,{"$f":"Roster_Selection_Men!AB395&\" \" & \"V \"","v":"Waldorf University V "},{"$f":"Roster_Selection_Men!AD395","v":"11-69054"},{"$f":"Roster_Selection_Men!AE395","v":"Ryan Kaufman"},null,{"$f":"IF(ISERROR(Individual_Scores_Men_Var!E355), \" \", IF(Individual_Scores_Men_Var!E355 = \"Yes\", \"Yes\", \"  \"))","v":"  "}]
[null,{"$f":"Roster_Selection_Men!AB396&\" \" & \"V \"","v":"Waldorf University V "},{"$f":"Roster_Selection_Men!AD396","v":"6419-842"},{"$f":"Roster_Selection_Men!AE396","v":"Tyler Harlow"},null,{"$f":"IF(ISERROR(Individual_Scores_Men_Var!E356), \" \", IF(Individual_Scores_Men_Var!E356 = \"Yes\", \"Yes\", \"  \"))","v":"  "}]
[null,{"$f":"Roster_Selection_Men!AB397&\" \" & \"V \"","v":"Waldorf University V "},{"$f":"Roster_Selection_Men!AD397","v":"11-49205"},{"$f":"Roster_Selection_Men!AE397","v":"Tyler Lacher-Hambor"},null,{"$f":"IF(ISERROR(Individual_Scores_Men_Var!E357), \" \", IF(Individual_Scores_Men_Var!E357 = \"Yes\", \"Yes\", \"  \"))","v":"  "}]
[null,"Waldorf University V",{"$f":"Individual_Scores_Men_Var!C358","v":""},{"$f":"Individual_Scores_Men_Var!D358","v":""}]
[null,"Waldorf University V",{"$f":"Individual_Scores_Men_Var!C359","v":""},{"$f":"Individual_Scores_Men_Var!D359","v":""}]
[null,"Waldorf University V",{"$f":"Individual_Scores_Men_Var!C360","v":""},{"$f":"Individual_Scores_Men_Var!D360","v":""}]
[null," "," "," "]
[null," "," "," "]
[null,{"$f":"Roster_Selection_Men!AB402&\" \" & \"V \"","v":"West Texas A&M University V "},{"$f":"Roster_Selection_Men!AD402","v":"16-154902"},{"$f":"Roster_Selection_Men!AE402","v":"Ginna Holzman"},null,{"$f":"IF(ISERROR(Individual_Scores_Men_Var!E363), \" \", IF(Individual_Scores_Men_Var!E363 = \"Yes\", \"Yes\", \"  \"))","v":"  "},"Games",180.0,138.0,115.0,186.0,148.0,146.0,211.0,151.0,148.0,201.0,203.0,150.0,167.0,156.0,189.0,192.0,187.0,170.0,157.0,149.0,{"$f":"SUM(H363:AA363)","v":3344},{"$f":"COUNTIF(H363:AA363, \">0\" )","v":20},{"$f":"AB363/AC363","v":167.2}]
[null,{"$f":"Roster_Selection_Men!AB403&\" \" & \"V \"","v":"West Texas A&M University V "},{"$f":"Roster_Selection_Men!AD403","v":"8216-1672"},{"$f":"Roster_Selection_Men!AE403","v":"Jacob Griffin"},null,{"$f":"IF(ISERROR(Individual_Scores_Men_Var!E364), \" \", IF(Individual_Scores_Men_Var!E364 = \"Yes\", \"Yes\", \"  \"))","v":"  "}]
[null,{"$f":"Roster_Selection_Men!AB404&\" \" & \"V \"","v":"West Texas A&M University V "},{"$f":"Roster_Selection_Men!AD404","v":"21-61926"},{"$f":"Roster_Selection_Men!AE404","v":"Lillynn Lewis"},null,{"$f":"IF(ISERROR(Individual_Scores_Men_Var!E365), \" \", IF(Individual_Scores_Men_Var!E365 = \"Yes\", \"Yes\", \"  \"))","v":"  "}]
[null,{"$f":"Roster_Selection_Men!AB405&\" \" & \"V \"","v":"West Texas A&M University V "},{"$f":"Roster_Selection_Men!AD405","v":"21-14229"},{"$f":"Roster_Selection_Men!AE405","v":"Paizley Madrigal"},null,{"$f":"IF(ISERROR(Individual_Scores_Men_Var!E366), \" \", IF(Individual_Scores_Men_Var!E366 = \"Yes\", \"Yes\", \"  \"))","v":"  "}]
[null,{"$f":"Roster_Selection_Men!AB406&\" \" & \"V \"","v":"West Texas A&M University V "},{"$f":"Roster_Selection_Men!AD406","v":"18-64855"},{"$f":"Roster_Selection_Men!AE406","v":"Peyton Stokes"},null,{"$f":"IF(ISERROR(Individual_Scores_Men_Var!E367), \" \", IF(Individual_Scores_Men_Var!E367 = \"Yes\", \"Yes\", \"  \"))","v":"  "}]
[null,{"$f":"Roster_Selection_Men!AB407&\" \" & \"V \"","v":"West Texas A&M University V "},{"$f":"Roster_Selection_Men!AD407","v":"6161-280"},{"$f":"Roster_Selection_Men!AE407","v":"Preston Downard"},null,{"$f":"IF(ISERROR(Individual_Scores_Men_Var!E368), \" \", IF(Individual_Scores_Men_Var!E368 = \"Yes\", \"Yes\", \"  \"))","v":"  "}]
[null,{"$f":"Roster_Selection_Men!AB408&\" \" & \"V \"","v":"West Texas A&M University V "},{"$f":"Roster_Selection_Men!AD408","v":"15-83216"},{"$f":"Roster_Selection_Men!AE408","v":"Will Davis"},null,{"$f":"IF(ISERROR(Individual_Scores_Men_Var!E369), \" \", IF(Individual_Scores_Men_Var!E369 = \"Yes\", \"Yes\", \"  \"))","v":"  "}]
[null,{"$f":"Roster_Selection_Men!AB409&\" \" & \"V \"","v":" V "},{"$f":"Roster_Selection_Men!AD409","v":""},{"$f":"Roster_Selection_Men!AE409","v":""},null,{"$f":"IF(ISERROR(Individual_Scores_Men_Var!E370), \" \", IF(Individual_Scores_Men_Var!E370 = \"Yes\", \"Yes\", \"  \"))","v":"  "}]
[null,"West Texas A&M University V",{"$f":"Individual_Scores_Men_Var!C371","v":""},{"$f":"Individual_Scores_Men_Var!D371","v":""}]
[null,"West Texas A&M University V",{"$f":"Individual_Scores_Men_Var!C372","v":""},{"$f":"Individual_Scores_Men_Var!D372","v":""}]
[null,"West Texas A&M University V",{"$f":"Individual_Scores_Men_Var!C373","v":""},{"$f":"Individual_Scores_Men_Var!D373","v":""}]
[null," "," "," "]
[null," "," "," "]
[null,{"$f":"Roster_Selection_Men!AB410&\" \" & \"V \"","v":"Wichita State University V "},{"$f":"Roster_Selection_Men!AD410","v":"5984-243"},{"$f":"Roster_Selection_Men!AE410","v":"Alec Keplinger"},null,{"$f":"IF(ISERROR(Individual_Scores_Men_Var!E376), \" \", IF(Individual_Scores_Men_Var!E376 = \"Yes\", \"Yes\", \"  \"))","v":"  "},"Games",227.0,237.0,290.0,195.0,205.0,237.0,219.0,239.0,248.0,245.0,228.0,202.0,189.0,213.0,204.0,246.0,228.0,236.0,226.0,222.0,{"$f":"SUM(H376:AA376)","v":4536},{"$f":"COUNTIF(H376:AA376, \">0\" )","v":20},{"$f":"AB376/AC376","v":226.8}]
[null,{"$f":"Roster_Selection_Men!AB411&\" \" & \"V \"","v":"Wichita State University V "},{"$f":"Roster_Selection_Men!AD411","v":"5900-25321"},{"$f":"Roster_Selection_Men!AE411","v":"Brandon Bonta"},null,{"$f":"IF(ISERROR(Individual_Scores_Men_Var!E377), \" \", IF(Individual_Scores_Men_Var!E377 = \"Yes\", \"Yes\", \"  \"))","v":"  "}]
[null,{"$f":"Roster_Selection_Men!AB412&\" \" & \"V \"","v":"Wichita State University V "},{"$f":"Roster_Selection_Men!AD412","v":"11-459860"},{"$f":"Roster_Selection_Men!AE412","v":"David Hayes"},null,{"$f":"IF(ISERROR(Individual_Scores_Men_Var!E378), \" \", IF(Individual_Scores_Men_Var!E378 = \"Yes\", \"Yes\", \"  \"))","v":"  "}]
[null,{"$f":"Roster_Selection_Men!AB413&\" \" & \"V \"","v":"Wichita State University V "},{"$f":"Roster_Selection_Men!AD413","v":"5717-1804"},{"$f":"Roster_Selection_Men!AE413","v":"Nicholas Sommer"},null,{"$f":"IF(ISERROR(Individual_Scores_Men_Var!E379), \" \", IF(Individual_Scores_Men_Var!E379 = \"Yes\", \"Yes\", \"  \"))","v":"  "}]
[null,{"$f":"Roster_Selection_Men!AB414&\" \" & \"V \"","v":"Wichita State University V "},{"$f":"Roster_Selection_Men!AD414","v":"8072-7714"},{"$f":"Roster_Selection_Men!AE414","v":"Ryan Barnes"},null,{"$f":"IF(ISERROR(Individual_Scores_Men_Var!E380), \" \", IF(Individual_Scores_Men_Var!E380 = \"Yes\", \"Yes\", \"  \"))","v":"  "}]
[null,{"$f":"Roster_Selection_Men!AB415&\" \" & \"V \"","v":"Wichita State University V "},{"$f":"Roster_Selection_Men!AD415","v":"8845-13565"},{"$f":"Roster_Selection_Men!AE415","v":"Spencer Robarge"},null,{"$f":"IF(ISERROR(Individual_Scores_Men_Var!E381), \" \", IF(Individual_Scores_Men_Var!E381 = \"Yes\", \"Yes\", \"  \"))","v":"  "}]
[null,{"$f":"Roster_Selection_Men!AB416&\" \" & \"V \"","v":"Wichita State University V "},{"$f":"Roster_Selection_Men!AD416","v":"8019-45865"},{"$f":"Roster_Selection_Men!AE416","v":"Terrance (T.J.) Rock"},null,{"$f":"IF(ISERROR(Individual_Scores_Men_Var!E382), \" \", IF(Individual_Scores_Men_Var!E382 = \"Yes\", \"Yes\", \"  \"))","v":"  "}]
[null,{"$f":"Roster_Selection_Men!AB417&\" \" & \"V \"","v":" V "},{"$f":"Roster_Selection_Men!AD417","v":""},{"$f":"Roster_Selection_Men!AE417","v":""},null,{"$f":"IF(ISERROR(Individual_Scores_Men_Var!E383), \" \", IF(Individual_Scores_Men_Var!E383 = \"Yes\", \"Yes\", \"  \"))","v":"  "}]
[null,"Wichita State University V",{"$f":"Individual_Scores_Men_Var!C384","v":""},{"$f":"Individual_Scores_Men_Var!D384","v":""}]
[null,"Wichita State University V",{"$f":"Individual_Scores_Men_Var!C385","v":""},{"$f":"Individual_Scores_Men_Var!D385","v":""}]
[null,"Wichita State University V",{"$f":"Individual_Scores_Men_Var!C386","v":""},{"$f":"Individual_Scores_Men_Var!D386","v":""}]
[null," "," "," "]
[null," "," "," "]
[null,{"$f":"Roster_Selection_Men!AB428&\" \" & \"V \"","v":"William Penn University V "},{"$f":"Roster_Selection_Men!AD428","v":"8223-85672"},{"$f":"Roster_Selection_Men!AE428","v":"Bryce Keykal"},null,{"$f":"IF(ISERROR(Individual_Scores_Men_Var!E389), \" \", IF(Individual_Scores_Men_Var!E389 = \"Yes\", \"Yes\", \"  \"))","v":"  "},"Games",186.0,181.0,235.0,211.0,172.0,214.0,186.0,176.0,190.0,170.0,181.0,183.0,183.0,220.0,116.0,202.0,222.0,157.0,163.0,192.0,{"$f":"SUM(H389:AA389)","v":3740},{"$f":"COUNTIF(H389:AA389, \">0\" )","v":20},{"$f":"AB389/AC389","v":187}]
[null,{"$f":"Roster_Selection_Men!AB429&\" \" & \"V \"","v":"William Penn University V "},{"$f":"Roster_Selection_Men!AD429","v":"5822-1038"},{"$f":"Roster_Selection_Men!AE429","v":"Caleb Sterbenz"},null,{"$f":"IF(ISERROR(Individual_Scores_Men_Var!E390), \" \", IF(Individual_Scores_Men_Var!E390 = \"Yes\", \"Yes\", \"  \"))","v":"  "}]
[null,{"$f":"Roster_Selection_Men!AB430&\" \" & \"V \"","v":"William Penn University V "},{"$f":"Roster_Selection_Men!AD430","v":"22-20754"},{"$f":"Roster_Selection_Men!AE430","v":"Conor Fetherston"},null,{"$f":"IF(ISERROR(Individual_Scores_Men_Var!E391), \" \", IF(Individual_Scores_Men_Var!E391 = \"Yes\", \"Yes\", \"  \"))","v":"  "}]
[null,{"$f":"Roster_Selection_Men!AB431&\" \" & \"V \"","v":"William Penn University V "},{"$f":"Roster_Selection_Men!AD431","v":"5873-792"},{"$f":"Roster_Selection_Men!AE431","v":"Garraty Richmond"},null,{"$f":"IF(ISERROR(Individual_Scores_Men_Var!E392), \" \", IF(Individual_Scores_Men_Var!E392 = \"Yes\", \"Yes\", \"  \"))","v":"  "}]
[null,{"$f":"Roster_Selection_Men!AB432&\" \" & \"V \"","v":"William Penn University V "},{"$f":"Roster_Selection_Men!AD432","v":"5853-217"},{"$f":"Roster_Selection_Men!AE432","v":"Jake Cook"},null,{"$f":"IF(ISERROR(Individual_Scores_Men_Var!E393), \" \", IF(Individual_Scores_Men_Var!E393 = \"Yes\", \"Yes\", \"  \"))","v":"  "}]
[null,{"$f":"Roster_Selection_Men!AB433&\" \" & \"V \"","v":"William Penn University V "},{"$f":"Roster_Selection_Men!AD433","v":"11-102941"},{"$f":"Roster_Selection_Men!AE433","v":"Jared Smith"},null,{"$f":"IF(ISERROR(Individual_Scores_Men_Var!E394), \" \", IF(Individual_Scores_Men_Var!E394 = \"Yes\", \"Yes\", \"  \"))","v":"  "}]
[null,{"$f":"Roster_Selection_Men!AB434&\" \" & \"V \"","v":"William Penn University V "},{"$f":"Roster_Selection_Men!AD434","v":"5853-303"},{"$f":"Roster_Selection_Men!AE434","v":"Kody Sapp"},null,{"$f":"IF(ISERROR(Individual_Scores_Men_Var!E395), \" \", IF(Individual_Scores_Men_Var!E395 = \"Yes\", \"Yes\", \"  \"))","v":"  "}]
[null,{"$f":"Roster_Selection_Men!AB435&\" \" & \"V \"","v":"William Penn University V "},{"$f":"Roster_Selection_Men!AD435","v":"17-85693"},{"$f":"Roster_Selection_Men!AE435","v":"Spencer Fleming"},null,{"$f":"IF(ISERROR(Individual_Scores_Men_Var!E396), \" \", IF(Individual_Scores_Men_Var!E396 = \"Yes\", \"Yes\", \"  \"))","v":"  "}]
[null,"William Penn University V",{"$f":"Individual_Scores_Men_Var!C397","v":""},{"$f":"Individual_Scores_Men_Var!D397","v":""}]
[null,"William Penn University V",{"$f":"Individual_Scores_Men_Var!C398","v":""},{"$f":"Individual_Scores_Men_Var!D398","v":""}]
[null,"William Penn University V",{"$f":"Individual_Scores_Men_Var!C399","v":""},{"$f":"Individual_Scores_Men_Var!D399","v":""}]
[null," "," "," "]
[null," "," "," "]
[null,{"$f":"Roster_Selection_Men!AB449&\" \" & \"V \"","v":"William Woods University V "},{"$f":"Roster_Selection_Men!AD449","v":"11-451268"},{"$f":"Roster_Selection_Men!AE449","v":"Braden Lallier"},null,{"$f":"IF(ISERROR(Individual_Scores_Men_Var!E402), \" \", IF(Individual_Scores_Men_Var!E402 = \"Yes\", \"Yes\", \"  \"))","v":"  "},"Games",133.0,185.0,202.0,173.0,175.0,177.0,124.0,215.0,173.0,150.0,165.0,161.0,165.0,133.0,158.0,246.0,173.0,176.0,157.0,191.0,{"$f":"SUM(H402:AA402)","v":3432},{"$f":"COUNTIF(H402:AA402, \">0\" )","v":20},{"$f":"AB402/AC402","v":171.6}]
[null,{"$f":"Roster_Selection_Men!AB450&\" \" & \"V \"","v":"William Woods University V "},{"$f":"Roster_Selection_Men!AD450","v":"11-301300"},{"$f":"Roster_Selection_Men!AE450","v":"Christian Merrick"},null,{"$f":"IF(ISERROR(Individual_Scores_Men_Var!E403), \" \", IF(Individual_Scores_Men_Var!E403 = \"Yes\", \"Yes\", \"  \"))","v":"  "}]
[null,{"$f":"Roster_Selection_Men!AB451&\" \" & \"V \"","v":"William Woods University V "},{"$f":"Roster_Selection_Men!AD451","v":"17-18636"},{"$f":"Roster_Selection_Men!AE451","v":"Christopher Little"},null,{"$f":"IF(ISERROR(Individual_Scores_Men_Var!E404), \" \", IF(Individual_Scores_Men_Var!E404 = \"Yes\", \"Yes\", \"  \"))","v":"  "}]
[null,{"$f":"Roster_Selection_Men!AB452&\" \" & \"V \"","v":"William Woods University V "},{"$f":"Roster_Selection_Men!AD452","v":"11-100889"},{"$f":"Roster_Selection_Men!AE452","v":"Kaden McDow"},null,{"$f":"IF(ISERROR(Individual_Scores_Men_Var!E405), \" \", IF(Individual_Scores_Men_Var!E405 = \"Yes\", \"Yes\", \"  \"))","v":"  "}]
[null,{"$f":"Roster_Selection_Men!AB453&\" \" & \"V \"","v":"William Woods University V "},{"$f":"Roster_Selection_Men!AD453","v":"11-661049"},{"$f":"Roster_Selection_Men!AE453","v":"Matthew Lennox"},null,{"$f":"IF(ISERROR(Individual_Scores_Men_Var!E406), \" \", IF(Individual_Scores_Men_Var!E406 = \"Yes\", \"Yes\", \"  \"))","v":"  "}]
[null,{"$f":"Roster_Selection_Men!AB454&\" \" & \"V \"","v":"William Woods University V "},{"$f":"Roster_Selection_Men!AD454","v":"22-27621"},{"$f":"Roster_Selection_Men!AE454","v":"Tyklen Salmons"},null,{"$f":"IF(ISERROR(Individual_Scores_Men_Var!E407), \" \", IF(Individual_Scores_Men_Var!E407 = \"Yes\", \"Yes\", \"  \"))","v":"  "}]
[null,{"$f":"Roster_Selection_Men!AB455&\" \" & \"V \"","v":" V "},{"$f":"Roster_Selection_Men!AD455","v":""},{"$f":"Roster_Selection_Men!AE455","v":""},null,{"$f":"IF(ISERROR(Individual_Scores_Men_Var!E408), \" \", IF(Individual_Scores_Men_Var!E408 = \"Yes\", \"Yes\", \"  \"))","v":"  "}]
[null,{"$f":"Roster_Selection_Men!AB456&\" \" & \"V \"","v":" V "},{"$f":"Roster_Selection_Men!AD456","v":""},{"$f":"Roster_Selection_Men!AE456","v":""},null,{"$f":"IF(ISERROR(Individual_Scores_Men_Var!E409), \" \", IF(Individual_Scores_Men_Var!E409 = \"Yes\", \"Yes\", \"  \"))","v":"  "}]
[null,"William Woods University V",{"$f":"Individual_Scores_Men_Var!C410","v":""},{"$f":"Individual_Scores_Men_Var!D410","v":""}]
[null,"William Woods University V",{"$f":"Individual_Scores_Men_Var!C411","v":""},{"$f":"Individual_Scores_Men_Var!D411","v":""}]
[null,"William Woods University V",{"$f":"Individual_Scores_Men_Var!C412","v":""},{"$f":"Individual_Scores_Men_Var!D412","v":""}]
[null," "," "," "]
[null," "," "," "]
[null," "," "," ",{"$nulls":47},"*"]
[null," "," "," "]
[null," "," "," "]
[null," "," "," "]
[null," "," "," "]
[null," "," "," "]
[null," "," "," "]
[null," "," "," "]
[null," "," "," "]
[null," "," "," "]
[null," "," "," "]
[null," "," "," "]
[null," "," "," "]
[null," "," "," "]
[null," "," "," "]
[null," "," "," "]
[null," "," "," "]
[null," "," "," "]
[null," "," "," "]
[null," "," "," "]
[null," "," "," "]
[null," "," "," "]
[null," "," "," "]
[null," "," "," "]
[null," "," "," "]
[null," "," "," "]
[null," "," "," "]
[null," "," "," "]
[null," "," "," "]
[null," "," "," "]
[null," "," "," "]
[null," "," "," "]
[null," "," "," "]
[null," "," "," "]
[null," "," "," "]
[null," "," "," "]
[null," "," "," "]
[null," "," "," "]
[null," "," "," "]
[null," "," "," "]
[null," "," "," "]
[null," "," "," "]
[null," "," "," "]
[null," "," "," "]
[null," "," "," "]
[null," "," "," "]
[null," "," "," "]
[null," "," "," "]
[null," "," "," "]
[null," "," "," "]
[null," "," "," "]
[null," "," "," "]
[null," "," "," "]
[null," "," "," "]
[null," "," "," "]
[null," "," "," "]
[null," "," "," "]
[null," "," "," "]
[null," "," "," "]
[null," "," "," "]
[null," "," "," "]
[null," "," "," "]
[null," "," "," "]
[null," "," "," "]
[null," "," "," "]
[null," "," "," "]
[null," "," "," "]
[null," "," "," "]
[null," "," "," "]
[null," "," "," "]
[null," "," "," "]
[null," "," "," "]
[null," "," "," "]
[null," "," "," "]
[null," "," "," "]
[null," "," "," "]
[null," "," "," "]
[null," "," "," "]
[null," "," "," "]
[null," "," "," "]
[null," "," "," "]
[null," "," "," "]
[null," "," "," "]
[null," "," "," "]
[null," "," "," "]
[null," "," "," "]
[null," "," "," "]
[null," "," "," "]
[null," "," "," "]
[null," "," "," "]
[null," "," "," "]
[null," "," "," "]
[null," "," "," "]
[null," "," "," "]
[null," "," "," "]
[null," "," "," "]
[null," "," "," "]
[null," "," "," "]
[null," "," "," "]
[null," "," "," "]
[null," "," "," "]
[null," "," "," "]
[null," "," "," "]
[null," "," "," "]
[null," "," "," "]
[null," "," "," "]
[null," "," "," "]
[null," "," "," "]
[null," "," "," "]
[null," "," "," "]
[null," "," "," "]
[null," "," "," "]
[null," "," "," "]
[null," "," "," "]
[null," "," "," "]
[null," "," "," "]
[null," "," "," "]
[null," "," "," "]
[null," "," "," "]
[null," "," "," "]
[null," "," "," "]
[null," "," "," "]
[null," "," "," "]
[null," "," "," "]
[null," "," "," "]
[null," "," "," "]
[null," "," "," "]
[null," "," "," "]
[null," "," "," "]
[null," "," "," "]
[null," "," "," "]
[null," "," "," "]
[null," "," "," "]
[null," "," "," "]
[null," "," "," "]
[null," "," "," "]
[null," "," "," "]
[null," "," "," "]
[null," "," "," "]
[null," "," "," "]
[null," "," "," "]
[null," "," "," "]
[null," "," "," "]
[null," "," "," "]
[null," "," "," "]
[null," "," "," "]
[null," "," "," "]
[null," "," "," "]
[null," "," "," "]
[null," "," "," "]
[null," "," "," "]
[null," "," "," "]
[null," "," "," "]
[null," "," "," "]
[null," "," "," "]
[null," "," "," "]
[null," "," "," "]
[null," "," "," "]
[null," "," "," "]
[null," "," "," "]
[null," "," "," "]
[null," "," "," "]
[null," "," "," "]
[null," "," "," "]
[null," "," "," "]
[null," "," "," "]
[null," "," "," "]
[null," "," "," "]
[null," "," "," "]
[null," "," "," "]
[null," "," "," "]
[null," "," "," "]
[null," "," "," "]
[null," "," "," "]
[null," "," "," "]
[null," "," "," "]
[null," "," "," "]
[null," "," "," "]
[null," "," "," "]
[null," "," "," "]
[null," "," "," "]
[null," "," "," "]
[null," "," "," "]
[null," "," "," "]
[null," "," "," "]
[null," "," "," "]
[null," "," "," "]
[null," "," "," "]
[null," "," "," "]
[null," "," "," "]
[null," "," "," "]
[null," "," "," "]
[null," "," "," "]
[null," "," "," "]
[null," "," "," "]
[null," "," "," "]
[null," "," "," "]
[null," "," "," "]
[null," "," "," "]
[null," "," "," "]
[null," "," "," "]
[null," "," "," "]
[null," "," "," "]
[null," "," "," "]
[null," "," "," "]
[null," "," "," "]
[null," "," "," "]
[null," "," "," "]
[null," "," "," "]
[null," "," "," "]
[null," "," "," "]
[null," "," "," "]
[null," "," "," "]
[null," "," "," "]
[null," "," "," "]
[null," "," "," "]
[null," "," "," "]
[null," "," "," "]
[null," "," "," "]
[null," "," "," "]
[null," "," "," "]
[null," "," "," "]
[null," "," "," "]
[null," "," "," "]
[null," "," "," "]
[null," "," "," "]
[null," "," "," "]
[null," "," "," "]
[null," "," "," "]
[null," "," "," "]
[null," "," "," "]
[null," "," "," "]
[null," "," "," "]
[null," "," "," "]
[null," "," "," "]
[null," "," "," "]
[null," "," "," "]
[null," "," "," "]
[null," "," "," "]
[null," "," "," "]
[null," "," "," "]
[null," "," "," "]
[null," "," "," "]
[null," "," "," "]
[null," "," "," "]
[null," "," "," "]
[null," "," "," "]
[null," "," "," "]
[null," "," "," "]
[null," "," "," "]
[null," "," "," "]
[null," "," "," "]
[null," "," "," "]
[null," "," "," "]
[null," "," "," "]
[null," "," "," "]
[null," "," "," "]
[null," "," "," "]
[null," "," "," "]
[null," "," "," "]
[null," "," "," "]
[null," "," "," "]
[null," "," "," "]
[null," "," "," "]
[null," "," "," "]
[null," "," "," "]
[null," "," "," "]
[null," "," "," "]
[null," "," "," "]
[null," "," "," "]
[null," "," "," "]
[null," "," "," "]
[null," "," "," "]
[null," "," "," "]
[null," "," "," "]
[null," "," "," "]
[null," "," "," "]
[null," "," "," "]
[null," "," "," "]
[null," "," "," "]
[null," "," "," "]
[null," "," "," "]
[null," "," "," "]
[null," "," "," "]
[null," "," "," "]
[null," "," "," "]
[null," "," "," "]
[null," "," "," "]
[null," "," "," "]
[null," "," "," "]
[null," "," "," "]
[null," "," "," "]
[null," "," "," "]
[null," "," "," "]
[null," "," "," "]
[null," "," "," "]
[null," "," "," "]
[null," "," "," "]
[null," "," "," "]
[null," "," "," "]
[null," "," "," "]
[null," "," "," "]
[null," "," "," "]
[null," "," "," "]
[null," "," "," "]
[null," "," "," "]
[null," "," "," "]
[null," "," "," "]
[null," "," "," "]
[null," "," "," "]
[null," "," "," "]
[null," "," "," "]
[null," "," "," "]
[null," "," "," "]
[null," "," "," "]
[null," "," "," "]
[null," "," "," "]
[null," "," "," "]
[null," "," "," "]
[null," "," "," "]
[null," "," "," "]
[null," "," "," "]
[null," "," "," "]
[null," "," "," "]
[null," "," "," "]
[null," "," "," "]
[null," "," "," "]
[null," "," "," "]
[null," "," "," "]
[null," "," "," "]
[null," "," "," "]
[null," "," "," "]
[null," "," "," "]
[null," "," "," "]
[null," "," "," "]
[null," "," "," "]
[null," "," "," "]
[null," "," "," "]
[null," "," "," "]
[null," "," "," "]
[null," "," "," "]
[null," "," "," "]
[null," "," "," "]
[null," "," "," "]
[null," "," "," "]
[null," "," "," "]
[null," "," "," "]
[null," "," "," "]
[null," "," "," "]
[null," "," "," "]
[null," "," "," "]
[null," "," "," "]
[null," "," "," "]
[null," "," "," "]
[null," "," "," "]
[null," "," "," "]
[null," "," "," "]
[null," "," "," "]
[null," "," "," "]
[null," "," "," "]
[null," "," "," "]
[null," "," "," "]
[null," "," "," "]
[null," "," "," "]
[null," "," "," "]
[null," "," "," "]
[null," "," "," "]
[null," "," "," "]
[null," "," "," "]
[null," "," "," "]
[null," "," "," "]
[null," "," "," "]
[null," "," "," "]
[null," "," "," "]
[null," "," "," "]
[null," "," "," "]
[null," "," "," "]
[null," "," "," "]
[null," "," "," "]
[null," "," "," "]
[null," "," "," "]
[null," "," "," "]
[null," "," "," "]
[null," "," "," "]
[null," "," "," "]
[null," "," "," "]
[null," "," "," "]
[null," "," "," "]
[null," "," "," "]
[null," "," "," "]
[null," "," "," "]
[null," "," "," "]
[null," "," "," "]
[null," "," "," "]
[null," "," "," "]
[null," "," "," "]
[null," "," "," "]
[null," "," "," "]
[null," "," "," "]
[null," "," "," "]
[null," "," "," "]
[null," "," "," "]
[null," "," "," "]
[null," "," "," "]
[null," "," "," "]
[null," "," "," "]
[null," "," "," "]
[null," "," "," "]
[null," "," "," "]
[null," "," "," "]
[null," "," "," "]
[null," "," "," "]
[null," "," "," "]
[null," "," "," "]
[null," "," "," "]
[null," "," "," "]
[null," "," "," "]
[null," "," "," "]
[null," "," "," "]
[null," "," "," "]
[null," "," "," "]
[null," "," "," "]
[null," "," "," "]
[null," "," "," "]
[null," "," "," "]
[null," "," "," "]
[null," "," "," "]
[null," "," "," "]
[null," "," "," "]
[null," "," "," "]
[null," "," "," "]
[null," "," "," "]
[null," "," "," "]
[null," "," "," "]
[null," "," "," "]
[null," "," "," "]
[null," "," "," "]
[null," "," "," "]
[null," "," "," "]
[null," "," "," "]
[null," "," "," "]
[null," "," "," "]
[null," "," "," "]
[null," "," "," "]
[null," "," "," "]
[null," "," "," "]
[null," "," "," "]
[null," "," "," "]
[null," "," "," "]
[null," "," "," "]
[null," "," "," "]
[null," "," "," "]
[null," "," "," "]
[null," "," "," "]
[null," "," "," "]
[null," "," "," "]
[null," "," "," "]
[null," "," "," "]
[null," "," "," "]
[null," "," "," "]
[null," "," "," "]
[null," "," "," "]
[null," "," "," "]
[null," "," "," "]
[null," "," "," "]
[null," "," "," "]
[null," "," "," "]
[null," "," "," "]
[null," "," "," "]
[null," "," "," "]
[null," "," "," "]
[null," "," "," "]
[null," "," "," "]
[null," "," "," "]
[null," "," "," "]
[null," "," "," "]
[null," "," "," "]
[null," "," "," "]
[null," "," "," "]
[null," "," "," "]
[null," "," "," "]
[null," "," "," "]
[null," "," "," "]
[null," "," "," "]
[null," "," "," "]
[null," "," "," "]
[null," "," "," "]
[null," "," "," "]
[null," "," "," "]
[null," "," "," "]
[null," "," "," "]
[null," "," "," "]
[null," "," "," "]
[null," "," "," "]
[null," "," "," "]
[null," "," "," "]
[null," "," "," "]
[null," "," "," "]
[null," "," "," "]
[null," "," "," "]
[null," "," "," "]
[null," "," "," "]
[null," "," "," "]
[null," "," "," "]
[null," "," "," "]
[null," "," "," "]
[null," "," "," "]
[null," "," "," "]
[null," "," "," "]
[null," "," "," "]
[null," "," "," "]
[null," "," "," "]
[null," "," "," "]
[null," "," "," "]
[null," "," "," "]
[null," "," "," "]
[null," "," "," "]
[null," "," "," "]
[null," "," "," "]
[null," "," "," "]
[null," "," "," "]
[null," "," "," "]
[null," "," "," "]
[null," "," "," "]
[null," "," "," "]
[null," "," "," "]
[null," "," "," "]
[null," "," "," "]
[null," "," "," "]
[null," "," "," "]
[null," "," "," "]
[null," "," "," "]
[null," "," "," "]
[null," "," "," "]
[null," "," "," "]
[null," "," "," "]
[null," "," "," "]
[null," "," "," "]
[null," "," "," "]
[null," "," "," "]
[null," "," "," "]
[null," "," "," "]
[null," "," "," "]
[null," "," "," "]
[null," "," "," "]
[null," "," "," "]
[null," "," "," "]
[null," "," "," "]
[null," "," "," "]
[null," "," "," "]
[null," "," "," "]
[null," "," "," "]
[null," "," "," "]
[null," "," "," "]
[null," "," "," "]
[null," "," "," "]
[null," "," "," "]
[null," "," "," "]
[null," "," "," "]
[null," "," "," "]
[null," "," "," "]
[null," "," "," "]
[null," "," "," "]
[null," "," "," "]
[null," "," "," "]
[null," "," "," "]
[null," "," "," "]
[null," "," "," "]
[null," "," "," "]
[null," "," "," "]
[null," "," "," "]
[null," "," "," "]
[null," "," "," "]
[null," "," "," "]
[null," "," "," "]
[null," "," "," "]
[null," "," "," "]
[null," "," "," "]
[null," "," "," "]
[null," "," "," "]
[null," "," "," "]
[null," "," "," "]
[null," "," "," "]
[null," "," "," "]
[null," "," "," "]
[null," "," "," "]
[null," "," "," "]
[null," "," "," "]
[null," "," "," "]
[null," "," "," "]
[null," "," "," "]
[null," "," "," "]
[null," "," "," "]
[null," "," "," "]
[null," "," "," "]
[null," "," "," "]
[null," "," "," "]
[null," "," "," "]
[null," "," "," "]
[null," "," "," "]
[null," "," "," "]
[null," "," "," "]
[null," "," "," "]
[null," "," "," "]
[null," "," "," "]
[null," "," "," "]
[null," "," "," "]
[null," "," "," "]
[null," "," "," "]
[null," "," "," "]
[null," "," "," "]
[null," "," "," "]
[null," "," "," "]
[null," "," "," "]
[null," "," "," "]
[null," "," "," "]
[null," "," "," "]
[null," "," "," "]
[null," "," "," "]
[null," "," "," "]
[null," "," "," "]
[null," "," "," "]
[null," "," "," "]
[null," "," "," "]
[null," "," "," "]
[null," "," "," "]
[null," "," "," "]
[null," "," "," "]
[null," "," "," "]
[null," "," "," "]
[null," "," "," "]
[null," "," "," "]
[null," "," "," "]
[null," "," "," "]
[null," "," "," "]
[null," "," "," "]
[null," "," "," "]
[null," "," "," "]
[null," "," "," "]
[null," "," "," "]
[null," "," "," "]
[null," "," "," "]
[null," "," "," "]
[null," "," "," "]
[null," "," "," "]
[null," "," "," "]
[null," "," "," "]
[null," "," "," "]
[null," "," "," "]
[null," "," "," "]
[null," "," "," "]
[null," "," "," "]
[null," "," "," "]
[null," "," "," "]
[null," "," "," "]
[null," "," "," "]
[null," "," "," "]
[null," "," "," "]
[null," "," "," "]
[null," "," "," "]
[null," "," "," "]
[null," "," "," "]
[null," "," "," "]
[null," "," "," "]
[null," "," "," "]
[null," "," "," "]
[null," "," "," "]
[null," "," "," "]
[null," "," "," "]
[null," "," "," "]
[null," "," "," "]
[null," "," "," "]
[null," "," "," "]
[null," "," "," "]
[null," "," "," "]
[null," "," "," "]
[null," "," "," "]
[null," "," "," "]
[null," "," "," "]
[null," "," "," "]
[null," "," "," "]
[null," "," "," "]
[null," "," "," "]
[null," "," "," "]
[null," "," "," "]
[null," "," "," "]
[null," "," "," "]
[null," "," "," "]
[null," "," "," "]
[null," "," "," "]
[null," "," "," "]
[null," "," "," "]
[null," "," "," "]
[null," "," "," "]
[null," "," "," "]
[null," "," "," "]
[null," "," "," "]
[null," "," "," "]
[null," "," "," "]
[null," "," "," "]
[null," "," "," "]
[null," "," "," "]
[null," "," "," "]
[null," "," "," "]
[null," "," "," "]
[null," "," "," "]
[null," "," "," "]
[null," "," "," "]
[null," "," "," "]
[null," "," "," "]
[null," "," "," "]
[null," "," "," "]
[null," "," "," "]
[null," "," "," "]
[null," "," "," "]
[null," "," "," "]
[null," "," "," "]
[null," "," "," "]
[null," "," "," "]
[null," "," "," "]
[null," "," "," "]
[null," "," "," "]
[null," "," "," "]
[null," "," "," "]
[null," "," "," "]
[null," "," "," "]
[null," "," "," "]
[null," "," "," "]
[null," "," "," "]
[null," "," "," "]
[null," "," "," "]
[null," "," "," "]
[null," "," "," "]
[null," "," "," "]
[null," "," "," "]
[null," "," "," "]
[null," "," "," "]
[null," "," "," "]
[null," "," "," "]
[null," "," "," "]
[null," "," "," "]
[null," "," "," "]
[null," "," "," "]
[null," "," "," "]
[null," "," "," "]
[null," "," "," "]
[null," "," "," "]
[null," "," "," "]
[null," "," "," "]
[null," "," "," "]
[null," "," "," "]
[null," "," "," "]
[null," "," "," "]
[null," "," "," "]
[null," "," "," "]
[null," "," "," "]
[null," "," "," "]
[null," "," "," "]
[null," "," "," "]
[null," "," "," "]
[null," "," "," "]
[null," "," "," "]
[null," "," "," "]
[null," "," "," "]
[null," "," "," "]
[null," "," "," "]
[null," "," "," "]
[null," "," "," "]
[null," "," "," "]
[null," "," "," "]
[null," "," "," "]
[null," "," "," "]
[null," "," "," "]
[null," "," "," "]
[null," "," "," "]
[null," "," "," "]
[null," "," "," "]
[null," "," "," "]
[null," "," "," "]
[null," "," "," "]
[null," "," "," "]
[null," "," "," "]
[null," "," "," "]
[null," "," "," "]
[null," "," "," "]
[null," "," "," "]
[null," "," "," "]
[null," "," "," "]
[null," "," "," "]
[null," "," "," "]
[null," "," "," "]
[null," "," "," "]
[null," "," "," "]
[null," "," "," "]
[null," "," "," "]
[null," "," "," "]
[null," "," "," "]
[null," "," "," "]
[null," "," "," "]
[null," "," "," "]
[null," "," "," "]
[null," "," "," "]
[null," "," "," "]
[null," "," "," "]
[null," "," "," "]
[null," "," "," "]
[null," "," "," "]
[null," "," "," "]
[null," "," "," "]
[null," "," "," "]
[null," "," "," "]
[null," "," "," "]
[null," "," "," "]
[null," "," "," "]
[null," "," "," "]
[null," "," "," "]
[null," "," "," "]
[null," "," "," "]
[null," "," "," "]
[null," "," "," "]
[null," "," "," "]
[null," "," "," "]
[null," "," "," "]
[null," "," "," "]
[null," "," "," "]
[null," "," "," "]
[null," "," "," "]
[null," "," "," "]
[null," "," "," "]
[null," "," "," "]
[null," "," "," "]
[null," "," "," "]
[null," "," "," "]
[null," "," "," "]
[null," "," "," "]
[null," "," "," "]
[null," "," "," "]
[null," "," "," "]
[null," "," "," "]
[null," "," "," "]
[null," "," "," "]
[null," "," "," "]
[null," "," "," "]
[null," "," "," "]
[null," "," "," "]
[null," "," "," "]
[null," "," "," "]
[null," "," "," "]
[null," "," "," "]
[null," "," "," "]
[null," "," "," "]
[null," "," "," "]
[null," "," "," "]
[null," "," "," "]
[null," "," "," "]
[null," "," "," "]
[null," "," "," "]
[null," "," "," "]
[null," "," "," "]
[null," "," "," "]
[null," "," "," "]
[null," "," "," "]
[null," "," "," "]
[null," "," "," "]
[null," "," "," "]
[null," "," "," "]
[null," "," "," "]
[null," "," "," "]
[null," "," "," "]
[null," "," "," "]
[null," "," "," "]
[null," "," "," "]
[null," "," "," "]
[null," "," "," "]
[null," "," "," "]
[null," "," "," "]
[null," "," "," "]
[null," "," "," "]
[null," "," "," "]
[null," "," "," "]
[null," "," "," "]
[null," "," "," "]
[null," "," "," "]
[null," "," "," "]
[null," "," "," "]
[null," "," "," "]
[null," "," "," "]
[null," "," "," "]
[null," "," "," "]
[null," "," "," "]
[null," "," "," "]
[null," "," "," "]
[null," "," "," "]
[null," "," "," "]
[null," "," "," "]
[null," "," "," "]
[null," "," "," "]
[null," "," "," "]
[null," "," "," "]
[null," "," "," "]
[null," "," "," "]
[null," "," "," "]
[null," "," "," "]
[null," "," "," "]
[null," "," "," "]
[null," "," "," "]
[null," "," "," "]
[null," "," "," "]
[null," "," "," "]
[null," "," "," "]
[null," "," "," "]
[null," "," "," "]
[null," "," "," "]
[null," "," "," "]
[null," "," "," "]
[null," "," "," "]
[null," "," "," "]
[null," "," "," "]
[null," "," "," "]
[null," "," "," "]
[null," "," "," "]
[null," "," "," "]
[null," "," "," "]
[null," "," "," "]
[null," "," "," "]
[null," "," "," "]
[null," "," "," "]
[null," "," "," "]
[null," "," "," "]
[null," "," "," "]
[null," "," "," "]
[null," "," "," "]
[null," "," "," "]
[null," "," "," "]
[null," "," "," "]
[null," "," "," "]
[null," "," "," "]
[null," "," "," "]
[null," "," "," "]
[null," "," "," "]
[null," "," "," "]
[null," "," "," "]
[null," "," "," "]
[null," "," "," "]
[null," "," "," "]
[null," "," "," "]
[null," "," "," "]
[null," "," "," "]
[null," "," "," "]
[null," "," "," "]
[null," "," "," "]
[null," "," "," "]
[null," "," "," "]
[null," "," "," "]
[null," "," "," "]
[null," "," "," "]
[null," "," "," "]
[null," "," "," "]
[null," "," "," "]
[null," "," "," "]
[null," "," "," "]
[null," "," "," "]
[null," "," "," "]
[null," "," "," "]
[null," "," "," "]
[null," "," "," "]
[null," "," "," "]
[null," "," "," "]
[null," "," "," "]
[null," "," "," "]
[null," "," "," "]
[null," "," "," "]
[null," "," "," "]
[null," "," "," "]
[null," "," "," "]
[null," "," "," "]
[null," "," "," "]
[null," "," "," "]
[null," "," "," "]
[null," "," "," "]
[null," "," "," "]
[null," "," "," "]
[null," "," "," "]
[null," "," "," "]
[null," "," "," "]
[null," "," "," "]
[null," "," "," "]
[null," "," "," "]
[null," "," "," "]
[null," "," "," "]
[null," "," "," "]
[null," "," "," "]
[null," "," "," "]
[null," "," "," "]
[null," "," "," "]
[null," "," "," "]
[null," "," "," "]
[null," "," "," "]
[null," "," "," "]
[null," "," "," "]
[null," "," "," "]
[null," "," "," "]
[null," "," "," "]
[null," "," "," "]
[null," "," "," "]
[null," "," "," "]
[null," "," "," "]
[null," "," "," "]
[null," "," "," "]
[null," "," "," "]
[null," "," "," "]
[null," "," "," "]
[null," "," "," "]
[null," "," "," "]
[null," "," "," "]
[null," "," "," "]
[null," "," "," "]
[null," "," "," "]
[null," "," "," "]
[null," "," "," "]
[null," "," "," "]
[null," "," "," "]
[null," "," "," "]
[null," "," "," "]
[null," "," "," "]
[null," "," "," "]
[null," "," "," "]
[null," "," "," "]
[null," "," "," "]
[null," "," "," "]
[null," "," "," "]
[null," "," "," "]
[null," "," "," "]
[null," "," "," "]
[null," "," "," "]
[null," "," "," "]
[null," "," "," "]
[null," "," "," "]
[null," "," "," "]
[null," "," "," "]
[null," "," "," "]
[null," "," "," "]
[null," "," "," "]
[null," "," "," "]
[null," "," "," "]
[null," "," "," "]
[null," "," "," "]
[null," "," "," "]
[null," "," "," "]
[null," "," "," "]
[null," "," "," "]
[null," "," "," "]
[null," "," "," "]
[null," "," "," "]
[null," "," "," "]
[null," "," "," "]
[null," "," "," "]
[null," "," "," "]
[null," "," "," "]
[null," "," "," "]
[null," "," "," "]
[null," "," "," "]
[null," "," "," "]
[null," "," "," "]
[null," "," "," "]
[null," "," "," "]
[null," "," "," "]
[null," "," "," "]
[null," "," "," "]
[null," "," "," "]
[null," "," "," "]
[null," "," "," "]
[null," "," "," "]
[null," "," "," "]
[null," "," "," "]
[null," "," "," "]
[null," "," "," "]
[null," "," "," "]

{"sheet":"Baker_Scores_Men_JV","index":4,"n_rows":1492,"n_cols":107,"rows_kept":1492,"cut":false,"hidden":false,"merged":[[0,1,0,14]]}
[null,"Baker Team Scores"]
[{"$nulls":51},"Yes"]
[null,"Mid States Championships (Tier I Men)",{"$nulls":49},"No"]
[null,"Tier 1","USBC",{"$nulls":12},"1201","6","20","5","2.9","2.9",null,null,"7",{"$nulls":29},"IBCYouth"]
[null,"<<Dates>>","<<Event#>>","10/15/2022 - 10/16/2022"]
[null,"<<Location>>",null,"Wichita, KS"]
[]
[null,"Men's Division",null,"Cert No:","05700"]
[null,"Division"]
[{"$nulls":7},"Game","Game","Game","Game","Game","Game","Game","Game","Game","Game","Game","Game","Game","Game","Game","Game","Game","Game","Game","Game"," ","Games","Tourn."," "," "," "," "," "," "," "," "," "," "," "," "," "," "," "," "," "," "," "," "," "," "," "," "," "," "," "," "," "," "," "," "," "," "," "," "," "," "," "," "," "," "," "," "," "," "," "," "," "," "," "," "," "," "," "," "," "," "," "," "," "," "," "," "," "," "," "," "," "," "," "," "," "," "," "," "," "]
[null,"Team","Bowler ID","Bowler","Bowled","Bowled Traditional",null,1.0,2.0,3.0,4.0,5.0,6.0,7.0,8.0,9.0,10.0,11.0,12.0,13.0,14.0,15.0,16.0,17.0,18.0,19.0,20.0,"Total","Bowled","Ave."]
[null,{"$f":"Roster_Selection_Men!AF42&\" \" & \"JV1 \"","v":"Barton Community College JV1 "},{"$f":"Roster_Selection_Men!AH42","v":"19-16176"},{"$f":"Roster_Selection_Men!AI42","v":"Aidan Vanmetre"},null,{"$f":"IF(ISERROR(Individual_Scores_Men_JV!E12), \" \", IF(Individual_Scores_Men_JV!E12 = \"Yes\", \"Yes\", \"  \"))","v":"  "},"Games",202.0,158.0,187.0,155.0,161.0,180.0,150.0,195.0,164.0,150.0,180.0,144.0,143.0,144.0,171.0,132.0,149.0,189.0,168.0,130.0,{"$f":"SUM(H12:AA12)","v":3252},{"$f":"COUNTIF(H12:AA12, \">0\" )","v":20},{"$f":"AB12/AC12","v":162.6}," "," "," "," "," "," "," "," "," "," "," "," "," "," "," "," "," "," "," "," "," "," "," "," "," "," "," "," "," "," "," "," "," "," "," "," "," "," "," "," "," "," "," "," "," "," "," "," "," "," "]
[null,{"$f":"Roster_Selection_Men!AF43&\" \" & \"JV1 \"","v":"Barton Community College JV1 "},{"$f":"Roster_Selection_Men!AH43","v":"11-765034"},{"$f":"Roster_Selection_Men!AI43","v":"Alexander Flinn"},null,{"$f":"IF(ISERROR(Individual_Scores_Men_JV!E13), \" \", IF(Individual_Scores_Men_JV!E13 = \"Yes\", \"Yes\", \"  \"))","v":"  "}," "," "," "," "," "," "," "," "," "," "," "," "," "," "," "," "," "," "," "," "," "," "," "," "," "," "," "," "," "," "," "," "," "," "," "," "," "," "," "," "," "," "," "," "," "," "," "," "," "," "," "," "," "," "," "," "," "," "," "," "," "," "," "," "," "," "," "," "," "," "," "," "," "," "]
[null,{"$f":"Roster_Selection_Men!AF44&\" \" & \"JV1 \"","v":"Barton Community College JV1 "},{"$f":"Roster_Selection_Men!AH44","v":"17-107341"},{"$f":"Roster_Selection_Men!AI44","v":"Cale McConncell"},null,{"$f":"IF(ISERROR(Individual_Scores_Men_JV!E14), \" \", IF(Individual_Scores_Men_JV!E14 = \"Yes\", \"Yes\", \"  \"))","v":"  "}," "," "," "," "," "," "," "," "," "," "," "," "," "," "," "," "," "," "," "," "," "," "," "," "," "," "," "," "," "," "," "," "," "," "," "," "," "," "," "," "," "," "," "," "," "," "," "," "," "," "," "," "," "," "," "," "," "," "," "," "," "," "," "," "," "," "," "," "," "," "," "," "," "," "]
[null,{"$f":"Roster_Selection_Men!AF45&\" \" & \"JV1 \"","v":"Barton Community College JV1 "},{"$f":"Roster_Selection_Men!AH45","v":"18-7262"},{"$f":"Roster_Selection_Men!AI45","v":"Caleb Murphy"},null,{"$f":"IF(ISERROR(Individual_Scores_Men_JV!E15), \" \", IF(Individual_Scores_Men_JV!E15 = \"Yes\", \"Yes\", \"  \"))","v":"  "}," "," "," "," "," "," "," "," "," "," "," "," "," "," "," "," "," "," "," "," "," "," "," "," "," "," "," "," "," "," "," "," "," "," "," "," "," "," "," "," "," "," "," "," "," "," "," "," "," "," "," "," "," "," "," "," "," "," "," "," "," "," "," "," "," "," "," "," "," "," "," "," "," "," "]
[null,{"$f":"Roster_Selection_Men!AF46&\" \" & \"JV1 \"","v":"Barton Community College JV1 "},{"$f":"Roster_Selection_Men!AH46","v":"5900-26169"},{"$f":"Roster_Selection_Men!AI46","v":"Chaz Smith"},null,{"$f":"IF(ISERROR(Individual_Scores_Men_JV!E16), \" \", IF(Individual_Scores_Men_JV!E16 = \"Yes\", \"Yes\", \"  \"))","v":"  "}," "," "," "," "," "," "," "," "," "," "," "," "," "," "," "," "," "," "," "," "," "," "," "," "," "," "," "," "," "," "," "," "," "," "," "," "," "," "," "," "," "," "," "," "," "," "," "," "," "," "," "," "," "," "," "," "," "," "," "," "," "," "," "," "," "," "," "," "," "," "," "," "," "," "]
[null,{"$f":"Roster_Selection_Men!AF47&\" \" & \"JV1 \"","v":"Barton Community College JV1 "},{"$f":"Roster_Selection_Men!AH47","v":"11-59176"},{"$f":"Roster_Selection_Men!AI47","v":"Cooper Clumsky"},null,{"$f":"IF(ISERROR(Individual_Scores_Men_JV!E17), \" \", IF(Individual_Scores_Men_JV!E17 = \"Yes\", \"Yes\", \"  \"))","v":"  "}," "," "," "," "," "," "," "," "," "," "," "," "," "," "," "," "," "," "," "," "," "," "," "," "," "," "," "," "," "," "," "," "," "," "," "," "," "," "," "," "," "," "," "," "," "," "," "," "," "," "," "," "," "," "," "," "," "," "," "," "," "," "," "," "," "," "," "," "," "," "," "," "," "," "]
[null,{"$f":"Roster_Selection_Men!AF48&\" \" & \"JV1 \"","v":"Barton Community College JV1 "},{"$f":"Roster_Selection_Men!AH48","v":"19-11824"},{"$f":"Roster_Selection_Men!AI48","v":"Cooper Holloway"},null,{"$f":"IF(ISERROR(Individual_Scores_Men_JV!E18), \" \", IF(Individual_Scores_Men_JV!E18 = \"Yes\", \"Yes\", \"  \"))","v":"  "}," "," "," "," "," "," "," "," "," "," "," "," "," "," "," "," "," "," "," "," "," "," "," "," "," "," "," "," "," "," "," "," "," "," "," "," "," "," "," "," "," "," "," "," "," "," "," "," "," "," "," "," "," "," "," "," "," "," "," "," "," "," "," "," "," "," "," "," "," "," "," "," "," "," "]
[null,{"$f":"Roster_Selection_Men!AF49&\" \" & \"JV1 \"","v":"Barton Community College JV1 "},{"$f":"Roster_Selection_Men!AH49","v":"20-45947"},{"$f":"Roster_Selection_Men!AI49","v":"Jared McQuilliam"},null,{"$f":"IF(ISERROR(Individual_Scores_Men_JV!E19), \" \", IF(Individual_Scores_Men_JV!E19 = \"Yes\", \"Yes\", \"  \"))","v":"  "}," "," "," "," "," "," "," "," "," "," "," "," "," "," "," "," "," "," "," "," "," "," "," "," "," "," "," "," "," "," "," "," "," "," "," "," "," "," "," "," "," "," "," "," "," "," "," "," "," "," "," "," "," "," "," "," "," "," "," "," "," "," "," "," "," "," "," "," "," "," "," "," "," "," "]
[null,"Barton Community College JV",{"$f":"Individual_Scores_Men_JV!C20","v":""},{"$f":"Individual_Scores_Men_JV!D20","v":""},null,null," "," "," "," "," "," "," "," "," "," "," "," "," "," "," "," "," "," "," "," "," "," "," "," "," "," "," "," "," "," "," "," "," "," "," "," "," "," "," "," "," "," "," "," "," "," "," "," "," "," "," "," "," "," "," "," "," "," "," "," "," "," "," "," "," "," "," "," "," "," "," "," "," "," "]
[null,"Barton Community College JV",{"$f":"Individual_Scores_Men_JV!C21","v":""},{"$f":"Individual_Scores_Men_JV!D21","v":""},null,null," "," "," "," "," "," "," "," "," "," "," "," "," "," "," "," "," "," "," "," "," "," "," "," "," "," "," "," "," "," "," "," "," "," "," "," "," "," "," "," "," "," "," "," "," "," "," "," "," "," "," "," "," "," "," "," "," "," "," "," "," "," "," "," "," "," "," "," "," "," "," "," "," "," "]
[null,"Barton Community College JV",{"$f":"Individual_Scores_Men_JV!C22","v":""},{"$f":"Individual_Scores_Men_JV!D22","v":""},null,null," "," "," "," "," "," "," "," "," "," "," "," "," "," "," "," "," "," "," "," "," "," "," "," "," "," "," "," "," "," "," "," "," "," "," "," "," "," "," "," "," "," "," "," "," "," "," "," "," "," "," "," "," "," "," "," "," "," "," "," "," "," "," "," "," "," "," "," "," "," "," "," "," "," "]
[null," "," "," ",null,null," "," "," "," "," "," "," "," "," "," "," "," "," "," "," "," "," "," "," "," "," "," "," "," "," "," "," "," "," "," "," "," "," "," "," "," "," "," "," "," "," "," "," "," "," "," "," "," "," "," "," "," "," "," "," "," "," "," "," "," "," "," "," "," "," "," "," "," "," "," "," "," "," "," "]
[null," "," "," ",null,null," "," "," "," "," "," "," "," "," "," "," "," "," "," "," "," "," "," "," "," "," "," "," "," "," "," "," "," "," "," "," "," "," "," "," "," "," "," "," "," "," "," "," "," "," "," "," "," "," "," "," "," "," "," "," "," "," "," "," "," "," "," "," "," "," "," "," "," "," "," "," "," "," "," "]
[null,{"$f":"Roster_Selection_Men!AF114&\" \" & \"JV1 \"","v":"Hastings College JV1 "},{"$f":"Roster_Selection_Men!AH114","v":"20-20962"},{"$f":"Roster_Selection_Men!AI114","v":"Alex Gomez"},null,{"$f":"IF(ISERROR(Individual_Scores_Men_JV!E25), \" \", IF(Individual_Scores_Men_JV!E25 = \"Yes\", \"Yes\", \"  \"))","v":"  "},"Games",234.0,188.0,176.0,217.0,169.0,172.0,160.0,164.0,183.0,187.0,217.0,130.0,168.0,176.0,167.0,170.0,180.0,245.0,144.0,192.0,{"$f":"SUM(H25:AA25)","v":3639},{"$f":"COUNTIF(H25:AA25, \">0\" )","v":20},{"$f":"AB25/AC25","v":181.95}," "," "," "," "," "," "," "," "," "," "," "," "," "," "," "," "," "," "," "," "," "," "," "," "," "," "," "," "," "," "," "," "," "," "," "," "," "," "," "," "," "," "," "," "," "," "," "," "," "," "]
[null,{"$f":"Roster_Selection_Men!AF115&\" \" & \"JV1 \"","v":"Hastings College JV1 "},{"$f":"Roster_Selection_Men!AH115","v":"11-607179"},{"$f":"Roster_Selection_Men!AI115","v":"Brandon Engels"},null,{"$f":"IF(ISERROR(Individual_Scores_Men_JV!E26), \" \", IF(Individual_Scores_Men_JV!E26 = \"Yes\", \"Yes\", \"  \"))","v":"  "}," "," "," "," "," "," "," "," "," "," "," "," "," "," "," "," "," "," "," "," "," "," "," "," "," "," "," "," "," "," "," "," "," "," "," "," "," "," "," "," "," "," "," "," "," "," "," "," "," "," "," "," "," "," "," "," "," "," "," "," "," "," "," "," "," "," "," "," "," "," "," "," "," "," "]
[null,{"$f":"Roster_Selection_Men!AF116&\" \" & \"JV1 \"","v":"Hastings College JV1 "},{"$f":"Roster_Selection_Men!AH116","v":"11-120329"},{"$f":"Roster_Selection_Men!AI116","v":"Carstin Olson"},null,{"$f":"IF(ISERROR(Individual_Scores_Men_JV!E27), \" \", IF(Individual_Scores_Men_JV!E27 = \"Yes\", \"Yes\", \"  \"))","v":"  "}," "," "," "," "," "," "," "," "," "," "," "," "," "," "," "," "," "," "," "," "," "," "," "," "," "," "," "," "," "," "," "," "," "," "," "," "," "," "," "," "," "," "," "," "," "," "," "," "," "," "," "," "," "," "," "," "," "," "," "," "," "," "," "," "," "," "," "," "," "," "," "," "," "," "]
[null,{"$f":"Roster_Selection_Men!AF117&\" \" & \"JV1 \"","v":"Hastings College JV1 "},{"$f":"Roster_Selection_Men!AH117","v":"11-748575"},{"$f":"Roster_Selection_Men!AI117","v":"Maxx Uecker"},null,{"$f":"IF(ISERROR(Individual_Scores_Men_JV!E28), \" \", IF(Individual_Scores_Men_JV!E28 = \"Yes\", \"Yes\", \"  \"))","v":"  "}," "," "," "," "," "," "," "," "," "," "," "," "," "," "," "," "," "," "," "," "," "," "," "," "," "," "," "," "," "," "," "," "," "," "," "," "," "," "," "," "," "," "," "," "," "," "," "," "," "," "," "," "," "," "," "," "," "," "," "," "," "," "," "," "," "," "," "," "," "," "," "," "," "," "]
[null,{"$f":"Roster_Selection_Men!AF118&\" \" & \"JV1 \"","v":"Hastings College JV1 "},{"$f":"Roster_Selection_Men!AH118","v":"11-429466"},{"$f":"Roster_Selection_Men!AI118","v":"Nathan Stinemates"},null,{"$f":"IF(ISERROR(Individual_Scores_Men_JV!E29), \" \", IF(Individual_Scores_Men_JV!E29 = \"Yes\", \"Yes\", \"  \"))","v":"  "}," "," "," "," "," "," "," "," "," "," "," "," "," "," "," "," "," "," "," "," "," "," "," "," "," "," "," "," "," "," "," "," "," "," "," "," "," "," "," "," "," "," "," "," "," "," "," "," "," "," "," "," "," "," "," "," "," "," "," "," "," "," "," "," "," "," "," "," "," "," "," "," "," "," "]
[null,{"$f":"Roster_Selection_Men!AF119&\" \" & \"JV1 \"","v":"Hastings College JV1 "},{"$f":"Roster_Selection_Men!AH119","v":"11-317301"},{"$f":"Roster_Selection_Men!AI119","v":"Will Wallace"},null,{"$f":"IF(ISERROR(Individual_Scores_Men_JV!E30), \" \", IF(Individual_Scores_Men_JV!E30 = \"Yes\", \"Yes\", \"  \"))","v":"  "}," "," "," "," "," "," "," "," "," "," "," "," "," "," "," "," "," "," "," "," "," "," "," "," "," "," "," "," "," "," "," "," "," "," "," "," "," "," "," "," "," "," "," "," "," "," "," "," "," "," "," "," "," "," "," "," "," "," "," "," "," "," "," "," "," "," "," "," "," "," "," "," "," "," "]
[null,{"$f":"Roster_Selection_Men!AF120&\" \" & \"JV1 \"","v":" JV1 "},{"$f":"Roster_Selection_Men!AH120","v":""},{"$f":"Roster_Selection_Men!AI120","v":""},null,{"$f":"IF(ISERROR(Individual_Scores_Men_JV!E31), \" \", IF(Individual_Scores_Men_JV!E31 = \"Yes\", \"Yes\", \"  \"))","v":"  "}," "," "," "," "," "," "," "," "," "," "," "," "," "," "," "," "," "," "," "," "," "," "," "," "," "," "," "," "," "," "," "," "," "," "," "," "," "," "," "," "," "," "," "," "," "," "," "," "," "," "," "," "," "," "," "," "," "," "," "," "," "," "," "," "," "," "," "," "," "," "," "," "," "," "]
[null,{"$f":"Roster_Selection_Men!AF121&\" \" & \"JV1 \"","v":" JV1 "},{"$f":"Roster_Selection_Men!AH121","v":""},{"$f":"Roster_Selection_Men!AI121","v":""},null,{"$f":"IF(ISERROR(Individual_Scores_Men_JV!E32), \" \", IF(Individual_Scores_Men_JV!E32 = \"Yes\", \"Yes\", \"  \"))","v":"  "}," "," "," "," "," "," "," "," "," "," "," "," "," "," "," "," "," "," "," "," "," "," "," "," "," "," "," "," "," "," "," "," "," "," "," "," "," "," "," "," "," "," "," "," "," "," "," "," "," "," "," "," "," "," "," "," "," "," "," "," "," "," "," "," "," "," "," "," "," "," "," "," "," "," "]
[null,"Hastings College JV",{"$f":"Individual_Scores_Men_JV!C33","v":""},{"$f":"Individual_Scores_Men_JV!D33","v":""},null,null," "," "," "," "," "," "," "," "," "," "," "," "," "," "," "," "," "," "," "," "," "," "," "," "," "," "," "," "," "," "," "," "," "," "," "," "," "," "," "," "," "," "," "," "," "," "," "," "," "," "," "," "," "," "," "," "," "," "," "," "," "," "," "," "," "," "," "," "," "," "," "," "," "," "]
[null,"Hastings College JV",{"$f":"Individual_Scores_Men_JV!C34","v":""},{"$f":"Individual_Scores_Men_JV!D34","v":""},null,null," "," "," "," "," "," "," "," "," "," "," "," "," "," "," "," "," "," "," "," "," "," "," "," "," "," "," "," "," "," "," "," "," "," "," "," "," "," "," "," "," "," "," "," "," "," "," "," "," "," "," "," "," "," "," "," "," "," "," "," "," "," "," "," "," "," "," "," "," "," "," "," "," "," "]
[null,"Hastings College JV",{"$f":"Individual_Scores_Men_JV!C35","v":""},{"$f":"Individual_Scores_Men_JV!D35","v":""},null,null," "," "," "," "," "," "," "," "," "," "," "," "," "," "," "," "," "," "," "," "," "," "," "," "," "," "," "," "," "," "," "," "," "," "," "," "," "," "," "," "," "," "," "," "," "," "," "," "," "," "," "," "," "," "," "," "," "," "," "," "," "," "," "," "," "," "," "," "," "," "," "," "," "," "]
[null," "," "," ",null,null," "," "," "," "," "," "," "," "," "," "," "," "," "," "," "," "," "," "," "," "," "," "," "," "," "," "," "," "," "," "," "," "," "," "," "," "," "," "," "," "," "," "," "," "," "," "," "," "," "," "," "," "," "," "," "," "," "," "," "," "," "," "," "," "," "," "," "," "," "," "," "," "," "," "]
[null," "," "," ",null,null," "," "," "," "," "," "," "," "," "," "," "," "," "," "," "," "," "," "," "," "," "," "," "," "," "," "," "," "," "," "," "," "," "," "," "," "," "," "," "," "," "," "," "," "," "," "," "," "," "," "," "," "," "," "," "," "," "," "," "," "," "," "," "," "," "," "," "," "," "," "," "," "," "," "]
[null,{"$f":"Roster_Selection_Men!AF157&\" \" & \"JV1 \"","v":"Kansas ,University Of JV1 "},{"$f":"Roster_Selection_Men!AH157","v":"19-11395"},{"$f":"Roster_Selection_Men!AI157","v":"Anthony Hudson"},null,{"$f":"IF(ISERROR(Individual_Scores_Men_JV!E38), \" \", IF(Individual_Scores_Men_JV!E38 = \"Yes\", \"Yes\", \"  \"))","v":"  "},"Games",199.0,133.0,115.0,155.0,168.0,204.0,155.0,188.0,159.0,139.0,154.0,136.0,182.0,135.0,174.0,161.0,161.0,168.0,114.0,136.0,{"$f":"SUM(H38:AA38)","v":3136},{"$f":"COUNTIF(H38:AA38, \">0\" )","v":20},{"$f":"AB38/AC38","v":156.8}," "," "," "," "," "," "," "," "," "," "," "," "," "," "," "," "," "," "," "," "," "," "," "," "," "," "," "," "," "," "," "," "," "," "," "," "," "," "," "," "," "," "," "," "," "," "," "," "," "," "]
[null,{"$f":"Roster_Selection_Men!AF158&\" \" & \"JV1 \"","v":"Kansas ,University Of JV1 "},{"$f":"Roster_Selection_Men!AH158","v":"16-162899"},{"$f":"Roster_Selection_Men!AI158","v":"Benjamin Weinzirl"},null,{"$f":"IF(ISERROR(Individual_Scores_Men_JV!E39), \" \", IF(Individual_Scores_Men_JV!E39 = \"Yes\", \"Yes\", \"  \"))","v":"  "}," "," "," "," "," "," "," "," "," "," "," "," "," "," "," "," "," "," "," "," "," "," "," "," "," "," "," "," "," "," "," "," "," "," "," "," "," "," "," "," "," "," "," "," "," "," "," "," "," "," "," "," "," "," "," "," "," "," "," "," "," "," "," "," "," "," "," "," "," "," "," "," "," "," "]
[null,{"$f":"Roster_Selection_Men!AF159&\" \" & \"JV1 \"","v":"Kansas ,University Of JV1 "},{"$f":"Roster_Selection_Men!AH159","v":"11-595310"},{"$f":"Roster_Selection_Men!AI159","v":"Cameryn Wheeler"},null,{"$f":"IF(ISERROR(Individual_Scores_Men_JV!E40), \" \", IF(Individual_Scores_Men_JV!E40 = \"Yes\", \"Yes\", \"  \"))","v":"  "}," "," "," "," "," "," "," "," "," "," "," "," "," "," "," "," "," "," "," "," "," "," "," "," "," "," "," "," "," "," "," "," "," "," "," "," "," "," "," "," "," "," "," "," "," "," "," "," "," "," "," "," "," "," "," "," "," "," "," "," "," "," "," "," "," "," "," "," "," "," "," "," "," "," "]
[null,{"$f":"Roster_Selection_Men!AF160&\" \" & \"JV1 \"","v":"Kansas ,University Of JV1 "},{"$f":"Roster_Selection_Men!AH160","v":"11-469451"},{"$f":"Roster_Selection_Men!AI160","v":"Daniel Moser"},null,{"$f":"IF(ISERROR(Individual_Scores_Men_JV!E41), \" \", IF(Individual_Scores_Men_JV!E41 = \"Yes\", \"Yes\", \"  \"))","v":"  "}," "," "," "," "," "," "," "," "," "," "," "," "," "," "," "," "," "," "," "," "," "," "," "," "," "," "," "," "," "," "," "," "," "," "," "," "," "," "," "," "," "," "," "," "," "," "," "," "," "," "," "," "," "," "," "," "," "," "," "," "," "," "," "," "," "," "," "," "," "," "," "," "," "," "]
[null,{"$f":"Roster_Selection_Men!AF161&\" \" & \"JV1 \"","v":"Kansas ,University Of JV1 "},{"$f":"Roster_Selection_Men!AH161","v":"20-25203"},{"$f":"Roster_Selection_Men!AI161","v":"Kellen McGowan"},null,{"$f":"IF(ISERROR(Individual_Scores_Men_JV!E42), \" \", IF(Individual_Scores_Men_JV!E42 = \"Yes\", \"Yes\", \"  \"))","v":"  "}," "," "," "," "," "," "," "," "," "," "," "," "," "," "," "," "," "," "," "," "," "," "," "," "," "," "," "," "," "," "," "," "," "," "," "," "," "," "," "," "," "," "," "," "," "," "," "," "," "," "," "," "," "," "," "," "," "," "," "," "," "," "," "," "," "," "," "," "," "," "," "," "," "," "]
[null,{"$f":"Roster_Selection_Men!AF162&\" \" & \"JV1 \"","v":" JV1 "},{"$f":"Roster_Selection_Men!AH162","v":""},{"$f":"Roster_Selection_Men!AI162","v":""},null,{"$f":"IF(ISERROR(Individual_Scores_Men_JV!E43), \" \", IF(Individual_Scores_Men_JV!E43 = \"Yes\", \"Yes\", \"  \"))","v":"  "}," "," "," "," "," "," "," "," "," "," "," "," "," "," "," "," "," "," "," "," "," "," "," "," "," "," "," "," "," "," "," "," "," "," "," "," "," "," "," "," "," "," "," "," "," "," "," "," "," "," "," "," "," "," "," "," "," "," "," "," "," "," "," "," "," "," "," "," "," "," "," "," "," "," "]
[null,{"$f":"Roster_Selection_Men!AF163&\" \" & \"JV1 \"","v":" JV1 "},{"$f":"Roster_Selection_Men!AH163","v":""},{"$f":"Roster_Selection_Men!AI163","v":""},null,{"$f":"IF(ISERROR(Individual_Scores_Men_JV!E44), \" \", IF(Individual_Scores_Men_JV!E44 = \"Yes\", \"Yes\", \"  \"))","v":"  "}," "," "," "," "," "," "," "," "," "," "," "," "," "," "," "," "," "," "," "," "," "," "," "," "," "," "," "," "," "," "," "," "," "," "," "," "," "," "," "," "," "," "," "," "," "," "," "," "," "," "," "," "," "," "," "," "," "," "," "," "," "," "," "," "," "," "," "," "," "," "," "," "," "," "]
[null,{"$f":"Roster_Selection_Men!AF164&\" \" & \"JV1 \"","v":" JV1 "},{"$f":"Roster_Selection_Men!AH164","v":""},{"$f":"Roster_Selection_Men!AI164","v":""},null,{"$f":"IF(ISERROR(Individual_Scores_Men_JV!E45), \" \", IF(Individual_Scores_Men_JV!E45 = \"Yes\", \"Yes\", \"  \"))","v":"  "}," "," "," "," "," "," "," "," "," "," "," "," "," "," "," "," "," "," "," "," "," "," "," "," "," "," "," "," "," "," "," "," "," "," "," "," "," "," "," "," "," "," "," "," "," "," "," "," "," "," "," "," "," "," "," "," "," "," "," "," "," "," "," "," "," "," "," "," "," "," "," "," "," "," "]
[null,"Kansas ,University Of JV",{"$f":"Individual_Scores_Men_JV!C46","v":""},{"$f":"Individual_Scores_Men_JV!D46","v":""},null,null," "," "," "," "," "," "," "," "," "," "," "," "," "," "," "," "," "," "," "," "," "," "," "," "," "," "," "," "," "," "," "," "," "," "," "," "," "," "," "," "," "," "," "," "," "," "," "," "," "," "," "," "," "," "," "," "," "," "," "," "," "," "," "," "," "," "," "," "," "," "," "," "," "," "]
[null,"Kansas ,University Of JV",{"$f":"Individual_Scores_Men_JV!C47","v":""},{"$f":"Individual_Scores_Men_JV!D47","v":""},null,null," "," "," "," "," "," "," "," "," "," "," "," "," "," "," "," "," "," "," "," "," "," "," "," "," "," "," "," "," "," "," "," "," "," "," "," "," "," "," "," "," "," "," "," "," "," "," "," "," "," "," "," "," "," "," "," "," "," "," "," "," "," "," "," "," "," "," "," "," "," "," "," "," "," "]
[null,"Kansas ,University Of JV",{"$f":"Individual_Scores_Men_JV!C48","v":""},{"$f":"Individual_Scores_Men_JV!D48","v":""},null,null," "," "," "," "," "," "," "," "," "," "," "," "," "," "," "," "," "," "," "," "," "," "," "," "," "," "," "," "," "," "," "," "," "," "," "," "," "," "," "," "," "," "," "," "," "," "," "," "," "," "," "," "," "," "," "," "," "," "," "," "," "," "," "," "," "," "," "," "," "," "," "," "," "," "]
[null," "," "," ",null,null," "," "," "," "," "," "," "," "," "," "," "," "," "," "," "," "," "," "," "," "," "," "," "," "," "," "," "," "," "," "," "," "," "," "," "," "," "," "," "," "," "," "," "," "," "," "," "," "," "," "," "," "," "," "," "," "," "," "," "," "," "," "," "," "," "," "," "," "," "," "," "," "," "," "]
[null," "," "," ",null,null," "," "," "," "," "," "," "," "," "," "," "," "," "," "," "," "," "," "," "," "," "," "," "," "," "," "," "," "," "," "," "," "," "," "," "," "," "," "," "," "," "," "," "," "," "," "," "," "," "," "," "," "," "," "," "," "," "," "," "," "," "," "," "," "," "," "," "," "," "," "," "," "," "," "]
[null,{"$f":"Roster_Selection_Men!AF197&\" \" & \"JV1 \"","v":"Lindenwood University JV1 "},{"$f":"Roster_Selection_Men!AH197","v":"11-645936"},{"$f":"Roster_Selection_Men!AI197","v":"Caleb Horton"},null,{"$f":"IF(ISERROR(Individual_Scores_Men_JV!E51), \" \", IF(Individual_Scores_Men_JV!E51 = \"Yes\", \"Yes\", \"  \"))","v":"  "},"Games",167.0,164.0,208.0,177.0,176.0,197.0,244.0,239.0,212.0,208.0,149.0,229.0,236.0,210.0,153.0,183.0,176.0,207.0,157.0,182.0,{"$f":"SUM(H51:AA51)","v":3874},{"$f":"COUNTIF(H51:AA51, \">0\" )","v":20},{"$f":"AB51/AC51","v":193.7}," "," "," "," "," "," "," "," "," "," "," "," "," "," "," "," "," "," "," "," "," "," "," "," "," "," "," "," "," "," "," "," "," "," "," "," "," "," "," "," "," "," "," "," "," "," "," "," "," "," "]
[null,{"$f":"Roster_Selection_Men!AF198&\" \" & \"JV1 \"","v":"Lindenwood University JV1 "},{"$f":"Roster_Selection_Men!AH198","v":"6933-7657"},{"$f":"Roster_Selection_Men!AI198","v":"Daniel Liddle"},null,{"$f":"IF(ISERROR(Individual_Scores_Men_JV!E52), \" \", IF(Individual_Scores_Men_JV!E52 = \"Yes\", \"Yes\", \"  \"))","v":"  "}," "," "," "," "," "," "," "," "," "," "," "," "," "," "," "," "," "," "," "," "," "," "," "," "," "," "," "," "," "," "," "," "," "," "," "," "," "," "," "," "," "," "," "," "," "," "," "," "," "," "," "," "," "," "," "," "," "," "," "," "," "," "," "," "," "," "," "," "," "," "," "," "," "," "]
[null,{"$f":"Roster_Selection_Men!AF199&\" \" & \"JV1 \"","v":"Lindenwood University JV1 "},{"$f":"Roster_Selection_Men!AH199","v":"20-54170"},{"$f":"Roster_Selection_Men!AI199","v":"Elijah Barnes"},null,{"$f":"IF(ISERROR(Individual_Scores_Men_JV!E53), \" \", IF(Individual_Scores_Men_JV!E53 = \"Yes\", \"Yes\", \"  \"))","v":"  "}," "," "," "," "," "," "," "," "," "," "," "," "," "," "," "," "," "," "," "," "," "," "," "," "," "," "," "," "," "," "," "," "," "," "," "," "," "," "," "," "," "," "," "," "," "," "," "," "," "," "," "," "," "," "," "," "," "," "," "," "," "," "," "," "," "," "," "," "," "," "," "," "," "," "]
[null,{"$f":"Roster_Selection_Men!AF200&\" \" & \"JV1 \"","v":"Lindenwood University JV1 "},{"$f":"Roster_Selection_Men!AH200","v":"7914-19385"},{"$f":"Roster_Selection_Men!AI200","v":"Emmaunel McPherson"},null,{"$f":"IF(ISERROR(Individual_Scores_Men_JV!E54), \" \", IF(Individual_Scores_Men_JV!E54 = \"Yes\", \"Yes\", \"  \"))","v":"  "}," "," "," "," "," "," "," "," "," "," "," "," "," "," "," "," "," "," "," "," "," "," "," "," "," "," "," "," "," "," "," "," "," "," "," "," "," "," "," "," "," "," "," "," "," "," "," "," "," "," "," "," "," "," "," "," "," "," "," "," "," "," "," "," "," "," "," "," "," "," "," "," "," "," "]
[null,{"$f":"Roster_Selection_Men!AF201&\" \" & \"JV1 \"","v":"Lindenwood University JV1 "},{"$f":"Roster_Selection_Men!AH201","v":"16-147279"},{"$f":"Roster_Selection_Men!AI201","v":"Graham Mortimore"},null,{"$f":"IF(ISERROR(Individual_Scores_Men_JV!E55), \" \", IF(Individual_Scores_Men_JV!E55 = \"Yes\", \"Yes\", \"  \"))","v":"  "}," "," "," "," "," "," "," "," "," "," "," "," "," "," "," "," "," "," "," "," "," "," "," "," "," "," "," "," "," "," "," "," "," "," "," "," "," "," "," "," "," "," "," "," "," "," "," "," "," "," "," "," "," "," "," "," "," "," "," "," "," "," "," "," "," "," "," "," "," "," "," "," "," "," "]
[null,{"$f":"Roster_Selection_Men!AF202&\" \" & \"JV1 \"","v":"Lindenwood University JV1 "},{"$f":"Roster_Selection_Men!AH202","v":"11-678471"},{"$f":"Roster_Selection_Men!AI202","v":"Hunter Pirtle"},null,{"$f":"IF(ISERROR(Individual_Scores_Men_JV!E56), \" \", IF(Individual_Scores_Men_JV!E56 = \"Yes\", \"Yes\", \"  \"))","v":"  "}," "," "," "," "," "," "," "," "," "," "," "," "," "," "," "," "," "," "," "," "," "," "," "," "," "," "," "," "," "," "," "," "," "," "," "," "," "," "," "," "," "," "," "," "," "," "," "," "," "," "," "," "," "," "," "," "," "," "," "," "," "," "," "," "," "," "," "," "," "," "," "," "," "," "]
[null,{"$f":"Roster_Selection_Men!AF203&\" \" & \"JV1 \"","v":"Lindenwood University JV1 "},{"$f":"Roster_Selection_Men!AH203","v":"21-12175"},{"$f":"Roster_Selection_Men!AI203","v":"Juan Pablo Aguirre Moreno"},null,{"$f":"IF(ISERROR(Individual_Scores_Men_JV!E57), \" \", IF(Individual_Scores_Men_JV!E57 = \"Yes\", \"Yes\", \"  \"))","v":"  "}," "," "," "," "," "," "," "," "," "," "," "," "," "," "," "," "," "," "," "," "," "," "," "," "," "," "," "," "," "," "," "," "," "," "," "," "," "," "," "," "," "," "," "," "," "," "," "," "," "," "," "," "," "," "," "," "," "," "," "," "," "," "," "," "," "," "," "," "," "," "," "," "," "," "]
[null,{"$f":"Roster_Selection_Men!AF204&\" \" & \"JV1 \"","v":"Lindenwood University JV1 "},{"$f":"Roster_Selection_Men!AH204","v":"16-86758"},{"$f":"Roster_Selection_Men!AI204","v":"Nate O'Connell"},null,{"$f":"IF(ISERROR(Individual_Scores_Men_JV!E58), \" \", IF(Individual_Scores_Men_JV!E58 = \"Yes\", \"Yes\", \"  \"))","v":"  "}," "," "," "," "," "," "," "," "," "," "," "," "," "," "," "," "," "," "," "," "," "," "," "," "," "," "," "," "," "," "," "," "," "," "," "," "," "," "," "," "," "," "," "," "," "," "," "," "," "," "," "," "," "," "," "," "," "," "," "," "," "," "," "," "," "," "," "," "," "," "," "," "," "," "]
[null,"Lindenwood University JV",{"$f":"Individual_Scores_Men_JV!C59","v":""},{"$f":"Individual_Scores_Men_JV!D59","v":""},null,null," "," "," "," "," "," "," "," "," "," "," "," "," "," "," "," "," "," "," "," "," "," "," "," "," "," "," "," "," "," "," "," "," "," "," "," "," "," "," "," "," "," "," "," "," "," "," "," "," "," "," "," "," "," "," "," "," "," "," "," "," "," "," "," "," "," "," "," "," "," "," "," "," "," "]
[null,"Lindenwood University JV",{"$f":"Individual_Scores_Men_JV!C60","v":""},{"$f":"Individual_Scores_Men_JV!D60","v":""},null,null," "," "," "," "," "," "," "," "," "," "," "," "," "," "," "," "," "," "," "," "," "," "," "," "," "," "," "," "," "," "," "," "," "," "," "," "," "," "," "," "," "," "," "," "," "," "," "," "," "," "," "," "," "," "," "," "," "," "," "," "," "," "," "," "," "," "," "," "," "," "," "," "," "," "]
[null,"Lindenwood University JV",{"$f":"Individual_Scores_Men_JV!C61","v":""},{"$f":"Individual_Scores_Men_JV!D61","v":""},null,null," "," "," "," "," "," "," "," "," "," "," "," "," "," "," "," "," "," "," "," "," "," "," "," "," "," "," "," "," "," "," "," "," "," "," "," "," "," "," "," "," "," "," "," "," "," "," "," "," "," "," "," "," "," "," "," "," "," "," "," "," "," "," "," "," "," "," "," "," "," "," "," "," "," "]
[null," "," "," ",null,null," "," "," "," "," "," "," "," "," "," "," "," "," "," "," "," "," "," "," "," "," "," "," "," "," "," "," "," "," "," "," "," "," "," "," "," "," "," "," "," "," "," "," "," "," "," "," "," "," "," "," "," "," "," "," "," "," "," "," "," "," "," "," "," "," "," "," "," "," "," "," "," "," "," "]
[null," "," "," ",null,null," "," "," "," "," "," "," "," "," "," "," "," "," "," "," "," "," "," "," "," "," "," "," "," "," "," "," "," "," "," "," "," "," "," "," "," "," "," "," "," "," "," "," "," "," "," "," "," "," "," "," "," "," "," "," "," "," "," "," "," "," "," "," "," "," "," "," "," "," "," "," "," "," "," "]
[null,{"$f":"Roster_Selection_Men!AF254&\" \" & \"JV1 \"","v":" JV1 "},{"$f":"Roster_Selection_Men!AH254","v":""},{"$f":"Roster_Selection_Men!AI254","v":""},null,{"$f":"IF(ISERROR(Individual_Scores_Men_JV!E64), \" \", IF(Individual_Scores_Men_JV!E64 = \"Yes\", \"Yes\", \"  \"))","v":"  "},"Games",0.0,0.0,0.0,0.0,0.0,0.0,0.0,0.0,0.0,0.0,0.0,0.0,0.0,0.0,0.0,0.0,0.0,0.0,0.0,0.0,{"$f":"SUM(H64:AA64)","v":0},{"$f":"COUNTIF(H64:AA64, \">0\" )","v":0},{"$f":"AB64/AC64","v":"#DIV/0!"}," "," "," "," "," "," "," "," "," "," "," "," "," "," "," "," "," "," "," "," "," "," "," "," "," "," "," "," "," "," "," "," "," "," "," "," "," "," "," "," "," "," "," "," "," "," "," "," "," "," "]
[null,{"$f":"Roster_Selection_Men!AF255&\" \" & \"JV1 \"","v":" JV1 "},{"$f":"Roster_Selection_Men!AH255","v":""},{"$f":"Roster_Selection_Men!AI255","v":""},null,{"$f":"IF(ISERROR(Individual_Scores_Men_JV!E65), \" \", IF(Individual_Scores_Men_JV!E65 = \"Yes\", \"Yes\", \"  \"))","v":"  "}," "," "," "," "," "," "," "," "," "," "," "," "," "," "," "," "," "," "," "," "," "," "," "," "," "," "," "," "," "," "," "," "," "," "," "," "," "," "," "," "," "," "," "," "," "," "," "," "," "," "," "," "," "," "," "," "," "," "," "," "," "," "," "," "," "," "," "," "," "," "," "," "," "," "]
[null,{"$f":"Roster_Selection_Men!AF256&\" \" & \"JV1 \"","v":" JV1 "},{"$f":"Roster_Selection_Men!AH256","v":""},{"$f":"Roster_Selection_Men!AI256","v":""},null,{"$f":"IF(ISERROR(Individual_Scores_Men_JV!E66), \" \", IF(Individual_Scores_Men_JV!E66 = \"Yes\", \"Yes\", \"  \"))","v":"  "}," "," "," "," "," "," "," "," "," "," "," "," "," "," "," "," "," "," "," "," "," "," "," "," "," "," "," "," "," "," "," "," "," "," "," "," "," "," "," "," "," "," "," "," "," "," "," "," "," "," "," "," "," "," "," "," "," "," "," "," "," "," "," "," "," "," "," "," "," "," "," "," "," "," "]
[null,{"$f":"Roster_Selection_Men!AF257&\" \" & \"JV1 \"","v":" JV1 "},{"$f":"Roster_Selection_Men!AH257","v":""},{"$f":"Roster_Selection_Men!AI257","v":""},null,{"$f":"IF(ISERROR(Individual_Scores_Men_JV!E67), \" \", IF(Individual_Scores_Men_JV!E67 = \"Yes\", \"Yes\", \"  \"))","v":"  "}," "," "," "," "," "," "," "," "," "," "," "," "," "," "," "," "," "," "," "," "," "," "," "," "," "," "," "," "," "," "," "," "," "," "," "," "," "," "," "," "," "," "," "," "," "," "," "," "," "," "," "," "," "," "," "," "," "," "," "," "," "," "," "," "," "," "," "," "," "," "," "," "," "," "]
[null,{"$f":"Roster_Selection_Men!AF258&\" \" & \"JV1 \"","v":" JV1 "},{"$f":"Roster_Selection_Men!AH258","v":""},{"$f":"Roster_Selection_Men!AI258","v":""},null,{"$f":"IF(ISERROR(Individual_Scores_Men_JV!E68), \" \", IF(Individual_Scores_Men_JV!E68 = \"Yes\", \"Yes\", \"  \"))","v":"  "}," "," "," "," "," "," "," "," "," "," "," "," "," "," "," "," "," "," "," "," "," "," "," "," "," "," "," "," "," "," "," "," "," "," "," "," "," "," "," "," "," "," "," "," "," "," "," "," "," "," "," "," "," "," "," "," "," "," "," "," "," "," "," "," "," "," "," "," "," "," "," "," "," "," "]
[null,{"$f":"Roster_Selection_Men!AF259&\" \" & \"JV1 \"","v":" JV1 "},{"$f":"Roster_Selection_Men!AH259","v":""},{"$f":"Roster_Selection_Men!AI259","v":""},null,{"$f":"IF(ISERROR(Individual_Scores_Men_JV!E69), \" \", IF(Individual_Scores_Men_JV!E69 = \"Yes\", \"Yes\", \"  \"))","v":"  "}," "," "," "," "," "," "," "," "," "," "," "," "," "," "," "," "," "," "," "," "," "," "," "," "," "," "," "," "," "," "," "," "," "," "," "," "," "," "," "," "," "," "," "," "," "," "," "," "," "," "," "," "," "," "," "," "," "," "," "," "," "," "," "," "," "," "," "," "," "," "," "," "," "," "]
[null,{"$f":"Roster_Selection_Men!AF260&\" \" & \"JV1 \"","v":" JV1 "},{"$f":"Roster_Selection_Men!AH260","v":""},{"$f":"Roster_Selection_Men!AI260","v":""},null,{"$f":"IF(ISERROR(Individual_Scores_Men_JV!E70), \" \", IF(Individual_Scores_Men_JV!E70 = \"Yes\", \"Yes\", \"  \"))","v":"  "}," "," "," "," "," "," "," "," "," "," "," "," "," "," "," "," "," "," "," "," "," "," "," "," "," "," "," "," "," "," "," "," "," "," "," "," "," "," "," "," "," "," "," "," "," "," "," "," "," "," "," "," "," "," "," "," "," "," "," "," "," "," "," "," "," "," "," "," "," "," "," "," "," "," "]
[null,{"$f":"Roster_Selection_Men!AF261&\" \" & \"JV1 \"","v":" JV1 "},{"$f":"Roster_Selection_Men!AH261","v":""},{"$f":"Roster_Selection_Men!AI261","v":""},null,{"$f":"IF(ISERROR(Individual_Scores_Men_JV!E71), \" \", IF(Individual_Scores_Men_JV!E71 = \"Yes\", \"Yes\", \"  \"))","v":"  "}," "," "," "," "," "," "," "," "," "," "," "," "," "," "," "," "," "," "," "," "," "," "," "," "," "," "," "," "," "," "," "," "," "," "," "," "," "," "," "," "," "," "," "," "," "," "," "," "," "," "," "," "," "," "," "," "," "," "," "," "," "," "," "," "," "," "," "," "," "," "," "," "," "," "]
[null,"Nebraska ,University Of JV",{"$f":"Individual_Scores_Men_JV!C72","v":""},{"$f":"Individual_Scores_Men_JV!D72","v":""},null,null," "," "," "," "," "," "," "," "," "," "," "," "," "," "," "," "," "," "," "," "," "," "," "," "," "," "," "," "," "," "," "," "," "," "," "," "," "," "," "," "," "," "," "," "," "," "," "," "," "," "," "," "," "," "," "," "," "," "," "," "," "," "," "," "," "," "," "," "," "," "," "," "," "," "]
[null,"Nebraska ,University Of JV",{"$f":"Individual_Scores_Men_JV!C73","v":""},{"$f":"Individual_Scores_Men_JV!D73","v":""},null,null," "," "," "," "," "," "," "," "," "," "," "," "," "," "," "," "," "," "," "," "," "," "," "," "," "," "," "," "," "," "," "," "," "," "," "," "," "," "," "," "," "," "," "," "," "," "," "," "," "," "," "," "," "," "," "," "," "," "," "," "," "," "," "," "," "," "," "," "," "," "," "," "," "," "]
[null,"Nebraska ,University Of JV",{"$f":"Individual_Scores_Men_JV!C74","v":""},{"$f":"Individual_Scores_Men_JV!D74","v":""},null,null," "," "," "," "," "," "," "," "," "," "," "," "," "," "," "," "," "," "," "," "," "," "," "," "," "," "," "," "," "," "," "," "," "," "," "," "," "," "," "," "," "," "," "," "," "," "," "," "," "," "," "," "," "," "," "," "," "," "," "," "," "," "," "," "," "," "," "," "," "," "," "," "," "," "]
[null," "," "," ",null,null," "," "," "," "," "," "," "," "," "," "," "," "," "," "," "," "," "," "," "," "," "," "," "," "," "," "," "," "," "," "," "," "," "," "," "," "," "," "," "," "," "," "," "," "," "," "," "," "," "," "," "," "," "," "," "," "," "," "," "," "," "," "," "," "," "," "," "," "," "," "," "," "," "," "]
[null," "," "," ",null,null," "," "," "," "," "," "," "," "," "," "," "," "," "," "," "," "," "," "," "," "," "," "," "," "," "," "," "," "," "," "," "," "," "," "," "," "," "," "," "," "," "," "," "," "," "," "," "," "," "," "," "," "," "," "," "," "," "," "," "," "," "," "," "," "," "," "," "," "," "," "," "," "," "," "]
[null,{"$f":"Roster_Selection_Men!AF268&\" \" & \"JV1 \"","v":"Newman University JV1 "},{"$f":"Roster_Selection_Men!AH268","v":"17-101622"},{"$f":"Roster_Selection_Men!AI268","v":"Blake Albers"},null,{"$f":"IF(ISERROR(Individual_Scores_Men_JV!E77), \" \", IF(Individual_Scores_Men_JV!E77 = \"Yes\", \"Yes\", \"  \"))","v":"  "},"Games",167.0,149.0,182.0,223.0,181.0,215.0,173.0,147.0,164.0,207.0,204.0,211.0,182.0,208.0,244.0,215.0,145.0,163.0,221.0,167.0,{"$f":"SUM(H77:AA77)","v":3768},{"$f":"COUNTIF(H77:AA77, \">0\" )","v":20},{"$f":"AB77/AC77","v":188.4}," "," "," "," "," "," "," "," "," "," "," "," "," "," "," "," "," "," "," "," "," "," "," "," "," "," "," "," "," "," "," "," "," "," "," "," "," "," "," "," "," "," "," "," "," "," "," "," "," "," "]
[null,{"$f":"Roster_Selection_Men!AF269&\" \" & \"JV1 \"","v":"Newman University JV1 "},{"$f":"Roster_Selection_Men!AH269","v":"18-90181"},{"$f":"Roster_Selection_Men!AI269","v":"Cole Munley"},null,{"$f":"IF(ISERROR(Individual_Scores_Men_JV!E78), \" \", IF(Individual_Scores_Men_JV!E78 = \"Yes\", \"Yes\", \"  \"))","v":"  "}," "," "," "," "," "," "," "," "," "," "," "," "," "," "," "," "," "," "," "," "," "," "," "," "," "," "," "," "," "," "," "," "," "," "," "," "," "," "," "," "," "," "," "," "," "," "," "," "," "," "," "," "," "," "," "," "," "," "," "," "," "," "," "," "," "," "," "," "," "," "," "," "," "," "]
[null,{"$f":"Roster_Selection_Men!AF270&\" \" & \"JV1 \"","v":"Newman University JV1 "},{"$f":"Roster_Selection_Men!AH270","v":"18-48073"},{"$f":"Roster_Selection_Men!AI270","v":"Cooper Watkins"},null,{"$f":"IF(ISERROR(Individual_Scores_Men_JV!E79), \" \", IF(Individual_Scores_Men_JV!E79 = \"Yes\", \"Yes\", \"  \"))","v":"  "}," "," "," "," "," "," "," "," "," "," "," "," "," "," "," "," "," "," "," "," "," "," "," "," "," "," "," "," "," "," "," "," "," "," "," "," "," "," "," "," "," "," "," "," "," "," "," "," "," "," "," "," "," "," "," "," "," "," "," "," "," "," "," "," "," "," "," "," "," "," "," "," "," "," "]
[null,{"$f":"Roster_Selection_Men!AF271&\" \" & \"JV1 \"","v":"Newman University JV1 "},{"$f":"Roster_Selection_Men!AH271","v":"11-366233"},{"$f":"Roster_Selection_Men!AI271","v":"Devon Urbano"},null,{"$f":"IF(ISERROR(Individual_Scores_Men_JV!E80), \" \", IF(Individual_Scores_Men_JV!E80 = \"Yes\", \"Yes\", \"  \"))","v":"  "}," "," "," "," "," "," "," "," "," "," "," "," "," "," "," "," "," "," "," "," "," "," "," "," "," "," "," "," "," "," "," "," "," "," "," "," "," "," "," "," "," "," "," "," "," "," "," "," "," "," "," "," "," "," "," "," "," "," "," "," "," "," "," "," "," "," "," "," "," "," "," "," "," "," "]
[null,{"$f":"Roster_Selection_Men!AF272&\" \" & \"JV1 \"","v":"Newman University JV1 "},{"$f":"Roster_Selection_Men!AH272","v":"9115-2715"},{"$f":"Roster_Selection_Men!AI272","v":"James McIver"},null,{"$f":"IF(ISERROR(Individual_Scores_Men_JV!E81), \" \", IF(Individual_Scores_Men_JV!E81 = \"Yes\", \"Yes\", \"  \"))","v":"  "}," "," "," "," "," "," "," "," "," "," "," "," "," "," "," "," "," "," "," "," "," "," "," "," "," "," "," "," "," "," "," "," "," "," "," "," "," "," "," "," "," "," "," "," "," "," "," "," "," "," "," "," "," "," "," "," "," "," "," "," "," "," "," "," "," "," "," "," "," "," "," "," "," "," "]
[null,{"$f":"Roster_Selection_Men!AF273&\" \" & \"JV1 \"","v":"Newman University JV1 "},{"$f":"Roster_Selection_Men!AH273","v":"11-78128"},{"$f":"Roster_Selection_Men!AI273","v":"Matthew Reed"},null,{"$f":"IF(ISERROR(Individual_Scores_Men_JV!E82), \" \", IF(Individual_Scores_Men_JV!E82 = \"Yes\", \"Yes\", \"  \"))","v":"  "}," "," "," "," "," "," "," "," "," "," "," "," "," "," "," "," "," "," "," "," "," "," "," "," "," "," "," "," "," "," "," "," "," "," "," "," "," "," "," "," "," "," "," "," "," "," "," "," "," "," "," "," "," "," "," "," "," "," "," "," "," "," "," "," "," "," "," "," "," "," "," "," "," "," "]
[null,{"$f":"Roster_Selection_Men!AF274&\" \" & \"JV1 \"","v":" JV1 "},{"$f":"Roster_Selection_Men!AH274","v":""},{"$f":"Roster_Selection_Men!AI274","v":""},null,{"$f":"IF(ISERROR(Individual_Scores_Men_JV!E83), \" \", IF(Individual_Scores_Men_JV!E83 = \"Yes\", \"Yes\", \"  \"))","v":"  "}," "," "," "," "," "," "," "," "," "," "," "," "," "," "," "," "," "," "," "," "," "," "," "," "," "," "," "," "," "," "," "," "," "," "," "," "," "," "," "," "," "," "," "," "," "," "," "," "," "," "," "," "," "," "," "," "," "," "," "," "," "," "," "," "," "," "," "," "," "," "," "," "," "," "]
[null,{"$f":"Roster_Selection_Men!AF275&\" \" & \"JV1 \"","v":" JV1 "},{"$f":"Roster_Selection_Men!AH275","v":""},{"$f":"Roster_Selection_Men!AI275","v":""},null,{"$f":"IF(ISERROR(Individual_Scores_Men_JV!E84), \" \", IF(Individual_Scores_Men_JV!E84 = \"Yes\", \"Yes\", \"  \"))","v":"  "}," "," "," "," "," "," "," "," "," "," "," "," "," "," "," "," "," "," "," "," "," "," "," "," "," "," "," "," "," "," "," "," "," "," "," "," "," "," "," "," "," "," "," "," "," "," "," "," "," "," "," "," "," "," "," "," "," "," "," "," "," "," "," "," "," "," "," "," "," "," "," "," "," "," "]
[null,"Newman University JV",{"$f":"Individual_Scores_Men_JV!C85","v":""},{"$f":"Individual_Scores_Men_JV!D85","v":""},null,null," "," "," "," "," "," "," "," "," "," "," "," "," "," "," "," "," "," "," "," "," "," "," "," "," "," "," "," "," "," "," "," "," "," "," "," "," "," "," "," "," "," "," "," "," "," "," "," "," "," "," "," "," "," "," "," "," "," "," "," "," "," "," "," "," "," "," "," "," "," "," "," "," "," "]
[null,"Newman University JV",{"$f":"Individual_Scores_Men_JV!C86","v":""},{"$f":"Individual_Scores_Men_JV!D86","v":""},null,null," "," "," "," "," "," "," "," "," "," "," "," "," "," "," "," "," "," "," "," "," "," "," "," "," "," "," "," "," "," "," "," "," "," "," "," "," "," "," "," "," "," "," "," "," "," "," "," "," "," "," "," "," "," "," "," "," "," "," "," "," "," "," "," "," "," "," "," "," "," "," "," "," "," "]
[null,"Newman University JV",{"$f":"Individual_Scores_Men_JV!C87","v":""},{"$f":"Individual_Scores_Men_JV!D87","v":""},null,null," "," "," "," "," "," "," "," "," "," "," "," "," "," "," "," "," "," "," "," "," "," "," "," "," "," "," "," "," "," "," "," "," "," "," "," "," "," "," "," "," "," "," "," "," "," "," "," "," "," "," "," "," "," "," "," "," "," "," "," "," "," "," "," "," "," "," "," "," "," "," "," "," "," "]
[null," "," "," ",null,null," "," "," "," "," "," "," "," "," "," "," "," "," "," "," "," "," "," "," "," "," "," "," "," "," "," "," "," "," "," "," "," "," "," "," "," "," "," "," "," "," "," "," "," "," "," "," "," "," "," "," "," "," "," "," "," "," "," "," "," "," "," "," "," "," "," "," "," "," "," "," "," "," "," "]
[null," "," "," ",null,null," "," "," "," "," "," "," "," "," "," "," "," "," "," "," "," "," "," "," "," "," "," "," "," "," "," "," "," "," "," "," "," "," "," "," "," "," "," "," "," "," "," "," "," "," "," "," "," "," "," "," "," "," "," "," "," "," "," "," "," "," "," "," "," "," "," "," "," "," "," "," "," "," "," "]
[null,{"$f":"Roster_Selection_Men!AJ268&\" \" & \"JV2 \"","v":"Newman University JV2 "},{"$f":"Roster_Selection_Men!AL268","v":"7914-24637"},{"$f":"Roster_Selection_Men!AM268","v":"Chavous Kuamo'O-Malama"},null,{"$f":"IF(ISERROR(Individual_Scores_Men_JV!E90), \" \", IF(Individual_Scores_Men_JV!E90 = \"Yes\", \"Yes\", \"  \"))","v":"  "},"Games",162.0,163.0,153.0,208.0,101.0,179.0,147.0,203.0,162.0,153.0,181.0,171.0,186.0,156.0,171.0,121.0,180.0,160.0,154.0,176.0,{"$f":"SUM(H90:AA90)","v":3287},{"$f":"COUNTIF(H90:AA90, \">0\" )","v":20},{"$f":"AB90/AC90","v":164.35}," "," "," "," "," "," "," "," "," "," "," "," "," "," "," "," "," "," "," "," "," "," "," "," "," "," "," "," "," "," "," "," "," "," "," "," "," "," "," "," "," "," "," "," "," "," "," "," "," "," "]
[null,{"$f":"Roster_Selection_Men!AJ269&\" \" & \"JV2 \"","v":"Newman University JV2 "},{"$f":"Roster_Selection_Men!AL269","v":"11-625840"},{"$f":"Roster_Selection_Men!AM269","v":"Kyler Stockstill"},null,{"$f":"IF(ISERROR(Individual_Scores_Men_JV!E91), \" \", IF(Individual_Scores_Men_JV!E91 = \"Yes\", \"Yes\", \"  \"))","v":"  "}," "," "," "," "," "," "," "," "," "," "," "," "," "," "," "," "," "," "," "," "," "," "," "," "," "," "," "," "," "," "," "," "," "," "," "," "," "," "," "," "," "," "," "," "," "," "," "," "," "," "," "," "," "," "," "," "," "," "," "," "," "," "," "," "," "," "," "," "," "," "," "," "," "," "]
[null,{"$f":"Roster_Selection_Men!AJ270&\" \" & \"JV2 \"","v":"Newman University JV2 "},{"$f":"Roster_Selection_Men!AL270","v":"11-460910"},{"$f":"Roster_Selection_Men!AM270","v":"Lawton Simons"},null,{"$f":"IF(ISERROR(Individual_Scores_Men_JV!E92), \" \", IF(Individual_Scores_Men_JV!E92 = \"Yes\", \"Yes\", \"  \"))","v":"  "}," "," "," "," "," "," "," "," "," "," "," "," "," "," "," "," "," "," "," "," "," "," "," "," "," "," "," "," "," "," "," "," "," "," "," "," "," "," "," "," "," "," "," "," "," "," "," "," "," "," "," "," "," "," "," "," "," "," "," "," "," "," "," "," "," "," "," "," "," "," "," "," "," "," "]
[null,{"$f":"Roster_Selection_Men!AJ271&\" \" & \"JV2 \"","v":"Newman University JV2 "},{"$f":"Roster_Selection_Men!AL271","v":"11-550328"},{"$f":"Roster_Selection_Men!AM271","v":"Nathan Galicia"},null,{"$f":"IF(ISERROR(Individual_Scores_Men_JV!E93), \" \", IF(Individual_Scores_Men_JV!E93 = \"Yes\", \"Yes\", \"  \"))","v":"  "}," "," "," "," "," "," "," "," "," "," "," "," "," "," "," "," "," "," "," "," "," "," "," "," "," "," "," "," "," "," "," "," "," "," "," "," "," "," "," "," "," "," "," "," "," "," "," "," "," "," "," "," "," "," "," "," "," "," "," "," "," "," "," "," "," "," "," "," "," "," "," "," "," "," "]
[null,{"$f":"Roster_Selection_Men!AJ272&\" \" & \"JV2 \"","v":"Newman University JV2 "},{"$f":"Roster_Selection_Men!AL272","v":"21-1165"},{"$f":"Roster_Selection_Men!AM272","v":"Zachery Boh"},null,{"$f":"IF(ISERROR(Individual_Scores_Men_JV!E94), \" \", IF(Individual_Scores_Men_JV!E94 = \"Yes\", \"Yes\", \"  \"))","v":"  "}," "," "," "," "," "," "," "," "," "," "," "," "," "," "," "," "," "," "," "," "," "," "," "," "," "," "," "," "," "," "," "," "," "," "," "," "," "," "," "," "," "," "," "," "," "," "," "," "," "," "," "," "," "," "," "," "," "," "," "," "," "," "," "," "," "," "," "," "," "," "," "," "," "," "]
[null,{"$f":"Roster_Selection_Men!AJ273&\" \" & \"JV2 \"","v":" JV2 "},{"$f":"Roster_Selection_Men!AL273","v":""},{"$f":"Roster_Selection_Men!AM273","v":""},null,{"$f":"IF(ISERROR(Individual_Scores_Men_JV!E95), \" \", IF(Individual_Scores_Men_JV!E95 = \"Yes\", \"Yes\", \"  \"))","v":"  "}," "," "," "," "," "," "," "," "," "," "," "," "," "," "," "," "," "," "," "," "," "," "," "," "," "," "," "," "," "," "," "," "," "," "," "," "," "," "," "," "," "," "," "," "," "," "," "," "," "," "," "," "," "," "," "," "," "," "," "," "," "," "," "," "," "," "," "," "," "," "," "," "," "," "]
[null,{"$f":"Roster_Selection_Men!AJ274&\" \" & \"JV2 \"","v":" JV2 "},{"$f":"Roster_Selection_Men!AL274","v":""},{"$f":"Roster_Selection_Men!AM274","v":""},null,{"$f":"IF(ISERROR(Individual_Scores_Men_JV!E96), \" \", IF(Individual_Scores_Men_JV!E96 = \"Yes\", \"Yes\", \"  \"))","v":"  "}," "," "," "," "," "," "," "," "," "," "," "," "," "," "," "," "," "," "," "," "," "," "," "," "," "," "," "," "," "," "," "," "," "," "," "," "," "," "," "," "," "," "," "," "," "," "," "," "," "," "," "," "," "," "," "," "," "," "," "," "," "," "," "," "," "," "," "," "," "," "," "," "," "," "]
[null,{"$f":"Roster_Selection_Men!AJ275&\" \" & \"JV2 \"","v":" JV2 "},{"$f":"Roster_Selection_Men!AL275","v":""},{"$f":"Roster_Selection_Men!AM275","v":""},null,{"$f":"IF(ISERROR(Individual_Scores_Men_JV!E97), \" \", IF(Individual_Scores_Men_JV!E97 = \"Yes\", \"Yes\", \"  \"))","v":"  "}," "," "," "," "," "," "," "," "," "," "," "," "," "," "," "," "," "," "," "," "," "," "," "," "," "," "," "," "," "," "," "," "," "," "," "," "," "," "," "," "," "," "," "," "," "," "," "," "," "," "," "," "," "," "," "," "," "," "," "," "," "," "," "," "," "," "," "," "," "," "," "," "," "," "]
[null,"Newman University JV",{"$f":"Individual_Scores_Men_JV!C98","v":""},{"$f":"Individual_Scores_Men_JV!D98","v":""},null,null," "," "," "," "," "," "," "," "," "," "," "," "," "," "," "," "," "," "," "," "," "," "," "," "," "," "," "," "," "," "," "," "," "," "," "," "," "," "," "," "," "," "," "," "," "," "," "," "," "," "," "," "," "," "," "," "," "," "," "," "," "," "," "," "," "," "," "," "," "," "," "," "," "," "]
[null,"Newman University JV",{"$f":"Individual_Scores_Men_JV!C99","v":""},{"$f":"Individual_Scores_Men_JV!D99","v":""},null,null," "," "," "," "," "," "," "," "," "," "," "," "," "," "," "," "," "," "," "," "," "," "," "," "," "," "," "," "," "," "," "," "," "," "," "," "," "," "," "," "," "," "," "," "," "," "," "," "," "," "," "," "," "," "," "," "," "," "," "," "," "," "," "," "," "," "," "," "," "," "," "," "," "," "]
[null,"Newman University JV",{"$f":"Individual_Scores_Men_JV!C100","v":""},{"$f":"Individual_Scores_Men_JV!D100","v":""},null,null," "," "," "," "," "," "," "," "," "," "," "," "," "," "," "," "," "," "," "," "," "," "," "," "," "," "," "," "," "," "," "," "," "," "," "," "," "," "," "," "," "," "," "," "," "," "," "," "," "," "," "," "," "," "," "," "," "," "," "," "," "," "," "," "," "," "," "," "," "," "," "," "," "," "]
[null," "," "," ",null,null," "," "," "," "," "," "," "," "," "," "," "," "," "," "," "," "," "," "," "," "," "," "," "," "," "," "," "," "," "," "," "," "," "," "," "," "," "," "," "," "," "," "," "," "," "," "," "," "," "," "," "," "," "," "," "," "," "," "," "," "," "," "," "," "," "," "," "," "," "," "," "," "," "," "]
[null," "," "," ",null,null," "," "," "," "," "," "," "," "," "," "," "," "," "," "," "," "," "," "," "," "," "," "," "," "," "," "," "," "," "," "," "," "," "," "," "," "," "," "," "," "," "," "," "," "," "," "," "," "," "," "," "," "," "," "," "," "," "," "," "," "," "," "," "," "," "," "," "," "," "," "," "," "," "," "]
[null,{"$f":"Roster_Selection_Men!AF287&\" \" & \"JV1 \"","v":"Oklahoma Christian University JV1 "},{"$f":"Roster_Selection_Men!AH287","v":"21-47554"},{"$f":"Roster_Selection_Men!AI287","v":"Benicio Lara"},null,{"$f":"IF(ISERROR(Individual_Scores_Men_JV!E103), \" \", IF(Individual_Scores_Men_JV!E103 = \"Yes\", \"Yes\", \"  \"))","v":"  "},"Games",157.0,136.0,186.0,135.0,212.0,211.0,162.0,177.0,244.0,200.0,125.0,143.0,183.0,171.0,189.0,184.0,153.0,136.0,197.0,160.0,{"$f":"SUM(H103:AA103)","v":3461},{"$f":"COUNTIF(H103:AA103, \">0\" )","v":20},{"$f":"AB103/AC103","v":173.05}," "," "," "," "," "," "," "," "," "," "," "," "," "," "," "," "," "," "," "," "," "," "," "," "," "," "," "," "," "," "," "," "," "," "," "," "," "," "," "," "," "," "," "," "," "," "," "," "," "," "]
[null,{"$f":"Roster_Selection_Men!AF288&\" \" & \"JV1 \"","v":"Oklahoma Christian University JV1 "},{"$f":"Roster_Selection_Men!AH288","v":"19-57818"},{"$f":"Roster_Selection_Men!AI288","v":"Caleb Kelley"},null,{"$f":"IF(ISERROR(Individual_Scores_Men_JV!E104), \" \", IF(Individual_Scores_Men_JV!E104 = \"Yes\", \"Yes\", \"  \"))","v":"  "}," "," "," "," "," "," "," "," "," "," "," "," "," "," "," "," "," "," "," "," "," "," "," "," "," "," "," "," "," "," "," "," "," "," "," "," "," "," "," "," "," "," "," "," "," "," "," "," "," "," "," "," "," "," "," "," "," "," "," "," "," "," "," "," "," "," "," "," "," "," "," "," "," "," "]
[null,{"$f":"Roster_Selection_Men!AF289&\" \" & \"JV1 \"","v":"Oklahoma Christian University JV1 "},{"$f":"Roster_Selection_Men!AH289","v":"11-506954"},{"$f":"Roster_Selection_Men!AI289","v":"Carter Robinson"},null,{"$f":"IF(ISERROR(Individual_Scores_Men_JV!E105), \" \", IF(Individual_Scores_Men_JV!E105 = \"Yes\", \"Yes\", \"  \"))","v":"  "}," "," "," "," "," "," "," "," "," "," "," "," "," "," "," "," "," "," "," "," "," "," "," "," "," "," "," "," "," "," "," "," "," "," "," "," "," "," "," "," "," "," "," "," "," "," "," "," "," "," "," "," "," "," "," "," "," "," "," "," "," "," "," "," "," "," "," "," "," "," "," "," "," "," "]
[null,{"$f":"Roster_Selection_Men!AF290&\" \" & \"JV1 \"","v":"Oklahoma Christian University JV1 "},{"$f":"Roster_Selection_Men!AH290","v":"17-15383"},{"$f":"Roster_Selection_Men!AI290","v":"Dalton Smith"},null,{"$f":"IF(ISERROR(Individual_Scores_Men_JV!E106), \" \", IF(Individual_Scores_Men_JV!E106 = \"Yes\", \"Yes\", \"  \"))","v":"  "}," "," "," "," "," "," "," "," "," "," "," "," "," "," "," "," "," "," "," "," "," "," "," "," "," "," "," "," "," "," "," "," "," "," "," "," "," "," "," "," "," "," "," "," "," "," "," "," "," "," "," "," "," "," "," "," "," "," "," "," "," "," "," "," "," "," "," "," "," "," "," "," "," "," "]
[null,{"$f":"Roster_Selection_Men!AF291&\" \" & \"JV1 \"","v":"Oklahoma Christian University JV1 "},{"$f":"Roster_Selection_Men!AH291","v":"6507-8681"},{"$f":"Roster_Selection_Men!AI291","v":"James Jackson"},null,{"$f":"IF(ISERROR(Individual_Scores_Men_JV!E107), \" \", IF(Individual_Scores_Men_JV!E107 = \"Yes\", \"Yes\", \"  \"))","v":"  "}," "," "," "," "," "," "," "," "," "," "," "," "," "," "," "," "," "," "," "," "," "," "," "," "," "," "," "," "," "," "," "," "," "," "," "," "," "," "," "," "," "," "," "," "," "," "," "," "," "," "," "," "," "," "," "," "," "," "," "," "," "," "," "," "," "," "," "," "," "," "," "," "," "," "]
[null,{"$f":"Roster_Selection_Men!AF292&\" \" & \"JV1 \"","v":"Oklahoma Christian University JV1 "},{"$f":"Roster_Selection_Men!AH292","v":"11-400036"},{"$f":"Roster_Selection_Men!AI292","v":"Jaylon Jackson"},null,{"$f":"IF(ISERROR(Individual_Scores_Men_JV!E108), \" \", IF(Individual_Scores_Men_JV!E108 = \"Yes\", \"Yes\", \"  \"))","v":"  "}," "," "," "," "," "," "," "," "," "," "," "," "," "," "," "," "," "," "," "," "," "," "," "," "," "," "," "," "," "," "," "," "," "," "," "," "," "," "," "," "," "," "," "," "," "," "," "," "," "," "," "," "," "," "," "," "," "," "," "," "," "," "," "," "," "," "," "," "," "," "," "," "," "," "]
[null,{"$f":"Roster_Selection_Men!AF293&\" \" & \"JV1 \"","v":"Oklahoma Christian University JV1 "},{"$f":"Roster_Selection_Men!AH293","v":"22-1764"},{"$f":"Roster_Selection_Men!AI293","v":"Joshua Drouin"},null,{"$f":"IF(ISERROR(Individual_Scores_Men_JV!E109), \" \", IF(Individual_Scores_Men_JV!E109 = \"Yes\", \"Yes\", \"  \"))","v":"  "}," "," "," "," "," "," "," "," "," "," "," "," "," "," "," "," "," "," "," "," "," "," "," "," "," "," "," "," "," "," "," "," "," "," "," "," "," "," "," "," "," "," "," "," "," "," "," "," "," "," "," "," "," "," "," "," "," "," "," "," "," "," "," "," "," "," "," "," "," "," "," "," "," "," "]
[null,{"$f":"Roster_Selection_Men!AF294&\" \" & \"JV1 \"","v":"Oklahoma Christian University JV1 "},{"$f":"Roster_Selection_Men!AH294","v":"16-86986"},{"$f":"Roster_Selection_Men!AI294","v":"Travis Sorola"},null,{"$f":"IF(ISERROR(Individual_Scores_Men_JV!E110), \" \", IF(Individual_Scores_Men_JV!E110 = \"Yes\", \"Yes\", \"  \"))","v":"  "}," "," "," "," "," "," "," "," "," "," "," "," "," "," "," "," "," "," "," "," "," "," "," "," "," "," "," "," "," "," "," "," "," "," "," "," "," "," "," "," "," "," "," "," "," "," "," "," "," "," "," "," "," "," "," "," "," "," "," "," "," "," "," "," "," "," "," "," "," "," "," "," "," "," "]
[null,"Oklahoma Christian University JV",{"$f":"Individual_Scores_Men_JV!C111","v":""},{"$f":"Individual_Scores_Men_JV!D111","v":""},null,null," "," "," "," "," "," "," "," "," "," "," "," "," "," "," "," "," "," "," "," "," "," "," "," "," "," "," "," "," "," "," "," "," "," "," "," "," "," "," "," "," "," "," "," "," "," "," "," "," "," "," "," "," "," "," "," "," "," "," "," "," "," "," "," "," "," "," "," "," "," "," "," "," "," "]
[null,"Oklahoma Christian University JV",{"$f":"Individual_Scores_Men_JV!C112","v":""},{"$f":"Individual_Scores_Men_JV!D112","v":""},null,null," "," "," "," "," "," "," "," "," "," "," "," "," "," "," "," "," "," "," "," "," "," "," "," "," "," "," "," "," "," "," "," "," "," "," "," "," "," "," "," "," "," "," "," "," "," "," "," "," "," "," "," "," "," "," "," "," "," "," "," "," "," "," "," "," "," "," "," "," "," "," "," "," "," "]
[null,"Oklahoma Christian University JV",{"$f":"Individual_Scores_Men_JV!C113","v":""},{"$f":"Individual_Scores_Men_JV!D113","v":""},null,null," "," "," "," "," "," "," "," "," "," "," "," "," "," "," "," "," "," "," "," "," "," "," "," "," "," "," "," "," "," "," "," "," "," "," "," "," "," "," "," "," "," "," "," "," "," "," "," "," "," "," "," "," "," "," "," "," "," "," "," "," "," "," "," "," "," "," "," "," "," "," "," "," "," "]
[null," "," "," ",null,null," "," "," "," "," "," "," "," "," "," "," "," "," "," "," "," "," "," "," "," "," "," "," "," "," "," "," "," "," "," "," "," "," "," "," "," "," "," "," "," "," "," "," "," "," "," "," "," "," "," "," "," "," "," "," "," "," "," "," "," "," "," "," "," "," "," "," "," "," "," "," "," "," "," "]
[null," "," "," ",null,null," "," "," "," "," "," "," "," "," "," "," "," "," "," "," "," "," "," "," "," "," "," "," "," "," "," "," "," "," "," "," "," "," "," "," "," "," "," "," "," "," "," "," "," "," "," "," "," "," "," "," "," "," "," "," "," "," "," "," "," "," "," "," "," "," "," "," "," "," "," "," "," "," "," "]
[null,{"$f":"Roster_Selection_Men!AF324&\" \" & \"JV1 \"","v":"Ottawa University (KS) JV1 "},{"$f":"Roster_Selection_Men!AH324","v":"11-663062"},{"$f":"Roster_Selection_Men!AI324","v":"Cole Clough"},null,{"$f":"IF(ISERROR(Individual_Scores_Men_JV!E116), \" \", IF(Individual_Scores_Men_JV!E116 = \"Yes\", \"Yes\", \"  \"))","v":"  "},"Games",180.0,149.0,178.0,190.0,190.0,192.0,181.0,213.0,168.0,197.0,224.0,168.0,121.0,184.0,150.0,171.0,252.0,189.0,179.0,201.0,{"$f":"SUM(H116:AA116)","v":3677},{"$f":"COUNTIF(H116:AA116, \">0\" )","v":20},{"$f":"AB116/AC116","v":183.85}," "," "," "," "," "," "," "," "," "," "," "," "," "," "," "," "," "," "," "," "," "," "," "," "," "," "," "," "," "," "," "," "," "," "," "," "," "," "," "," "," "," "," "," "," "," "," "," "," "," "]
[null,{"$f":"Roster_Selection_Men!AF325&\" \" & \"JV1 \"","v":"Ottawa University (KS) JV1 "},{"$f":"Roster_Selection_Men!AH325","v":"11-629159"},{"$f":"Roster_Selection_Men!AI325","v":"Ian Carpenter"},null,{"$f":"IF(ISERROR(Individual_Scores_Men_JV!E117), \" \", IF(Individual_Scores_Men_JV!E117 = \"Yes\", \"Yes\", \"  \"))","v":"  "}," "," "," "," "," "," "," "," "," "," "," "," "," "," "," "," "," "," "," "," "," "," "," "," "," "," "," "," "," "," "," "," "," "," "," "," "," "," "," "," "," "," "," "," "," "," "," "," "," "," "," "," "," "," "," "," "," "," "," "," "," "," "," "," "," "," "," "," "," "," "," "," "," "," "]
[null,{"$f":"Roster_Selection_Men!AF326&\" \" & \"JV1 \"","v":"Ottawa University (KS) JV1 "},{"$f":"Roster_Selection_Men!AH326","v":"18-65090"},{"$f":"Roster_Selection_Men!AI326","v":"Josh King"},null,{"$f":"IF(ISERROR(Individual_Scores_Men_JV!E118), \" \", IF(Individual_Scores_Men_JV!E118 = \"Yes\", \"Yes\", \"  \"))","v":"  "}," "," "," "," "," "," "," "," "," "," "," "," "," "," "," "," "," "," "," "," "," "," "," "," "," "," "," "," "," "," "," "," "," "," "," "," "," "," "," "," "," "," "," "," "," "," "," "," "," "," "," "," "," "," "," "," "," "," "," "," "," "," "," "," "," "," "," "," "," "," "," "," "," "," "]
[null,{"$f":"Roster_Selection_Men!AF327&\" \" & \"JV1 \"","v":"Ottawa University (KS) JV1 "},{"$f":"Roster_Selection_Men!AH327","v":"19-44138"},{"$f":"Roster_Selection_Men!AI327","v":"Joshua Bauder"},null,{"$f":"IF(ISERROR(Individual_Scores_Men_JV!E119), \" \", IF(Individual_Scores_Men_JV!E119 = \"Yes\", \"Yes\", \"  \"))","v":"  "}," "," "," "," "," "," "," "," "," "," "," "," "," "," "," "," "," "," "," "," "," "," "," "," "," "," "," "," "," "," "," "," "," "," "," "," "," "," "," "," "," "," "," "," "," "," "," "," "," "," "," "," "," "," "," "," "," "," "," "," "," "," "," "," "," "," "," "," "," "," "," "," "," "," "]
[null,{"$f":"Roster_Selection_Men!AF328&\" \" & \"JV1 \"","v":"Ottawa University (KS) JV1 "},{"$f":"Roster_Selection_Men!AH328","v":"16-124170"},{"$f":"Roster_Selection_Men!AI328","v":"Justin Weddige"},null,{"$f":"IF(ISERROR(Individual_Scores_Men_JV!E120), \" \", IF(Individual_Scores_Men_JV!E120 = \"Yes\", \"Yes\", \"  \"))","v":"  "}," "," "," "," "," "," "," "," "," "," "," "," "," "," "," "," "," "," "," "," "," "," "," "," "," "," "," "," "," "," "," "," "," "," "," "," "," "," "," "," "," "," "," "," "," "," "," "," "," "," "," "," "," "," "," "," "," "," "," "," "," "," "," "," "," "," "," "," "," "," "," "," "," "," "]
[null,{"$f":"Roster_Selection_Men!AF329&\" \" & \"JV1 \"","v":"Ottawa University (KS) JV1 "},{"$f":"Roster_Selection_Men!AH329","v":"8216-1716"},{"$f":"Roster_Selection_Men!AI329","v":"Kaden Whitehurst"},null,{"$f":"IF(ISERROR(Individual_Scores_Men_JV!E121), \" \", IF(Individual_Scores_Men_JV!E121 = \"Yes\", \"Yes\", \"  \"))","v":"  "}," "," "," "," "," "," "," "," "," "," "," "," "," "," "," "," "," "," "," "," "," "," "," "," "," "," "," "," "," "," "," "," "," "," "," "," "," "," "," "," "," "," "," "," "," "," "," "," "," "," "," "," "," "," "," "," "," "," "," "," "," "," "," "," "," "," "," "," "," "," "," "," "," "," "]
[null,{"$f":"Roster_Selection_Men!AF330&\" \" & \"JV1 \"","v":" JV1 "},{"$f":"Roster_Selection_Men!AH330","v":""},{"$f":"Roster_Selection_Men!AI330","v":""},null,{"$f":"IF(ISERROR(Individual_Scores_Men_JV!E122), \" \", IF(Individual_Scores_Men_JV!E122 = \"Yes\", \"Yes\", \"  \"))","v":"  "}," "," "," "," "," "," "," "," "," "," "," "," "," "," "," "," "," "," "," "," "," "," "," "," "," "," "," "," "," "," "," "," "," "," "," "," "," "," "," "," "," "," "," "," "," "," "," "," "," "," "," "," "," "," "," "," "," "," "," "," "," "," "," "," "," "," "," "," "," "," "," "," "," "," "]
[null,{"$f":"Roster_Selection_Men!AF331&\" \" & \"JV1 \"","v":" JV1 "},{"$f":"Roster_Selection_Men!AH331","v":""},{"$f":"Roster_Selection_Men!AI331","v":""},null,{"$f":"IF(ISERROR(Individual_Scores_Men_JV!E123), \" \", IF(Individual_Scores_Men_JV!E123 = \"Yes\", \"Yes\", \"  \"))","v":"  "}," "," "," "," "," "," "," "," "," "," "," "," "," "," "," "," "," "," "," "," "," "," "," "," "," "," "," "," "," "," "," "," "," "," "," "," "," "," "," "," "," "," "," "," "," "," "," "," "," "," "," "," "," "," "," "," "," "," "," "," "," "," "," "," "," "," "," "," "," "," "," "," "," "," "]
[null,"Ottawa University (KS) JV",{"$f":"Individual_Scores_Men_JV!C124","v":""},{"$f":"Individual_Scores_Men_JV!D124","v":""},null,null," "," "," "," "," "," "," "," "," "," "," "," "," "," "," "," "," "," "," "," "," "," "," "," "," "," "," "," "," "," "," "," "," "," "," "," "," "," "," "," "," "," "," "," "," "," "," "," "," "," "," "," "," "," "," "," "," "," "," "," "," "," "," "," "," "," "," "," "," "," "," "," "," "," "]
[null,"Ottawa University (KS) JV",{"$f":"Individual_Scores_Men_JV!C125","v":""},{"$f":"Individual_Scores_Men_JV!D125","v":""},null,null," "," "," "," "," "," "," "," "," "," "," "," "," "," "," "," "," "," "," "," "," "," "," "," "," "," "," "," "," "," "," "," "," "," "," "," "," "," "," "," "," "," "," "," "," "," "," "," "," "," "," "," "," "," "," "," "," "," "," "," "," "," "," "," "," "," "," "," "," "," "," "," "," "," "]
[null,"Ottawa University (KS) JV",{"$f":"Individual_Scores_Men_JV!C126","v":""},{"$f":"Individual_Scores_Men_JV!D126","v":""},null,null," "," "," "," "," "," "," "," "," "," "," "," "," "," "," "," "," "," "," "," "," "," "," "," "," "," "," "," "," "," "," "," "," "," "," "," "," "," "," "," "," "," "," "," "," "," "," "," "," "," "," "," "," "," "," "," "," "," "," "," "," "," "," "," "," "," "," "," "," "," "," "," "," "," "]
[null," "," "," ",null,null," "," "," "," "," "," "," "," "," "," "," "," "," "," "," "," "," "," "," "," "," "," "," "," "," "," "," "," "," "," "," "," "," "," "," "," "," "," "," "," "," "," "," "," "," "," "," "," "," "," "," "," "," "," "," "," "," "," "," "," "," "," "," "," "," "," "," "," "," "," "," "," "," "," "]
[null," "," "," ",null,null," "," "," "," "," "," "," "," "," "," "," "," "," "," "," "," "," "," "," "," "," "," "," "," "," "," "," "," "," "," "," "," "," "," "," "," "," "," "," "," "," "," "," "," "," "," "," "," "," "," "," "," "," "," "," "," "," "," "," "," "," "," "," "," "," "," "," "," "," "," "," "," "," "," "]
[null,{"$f":"Roster_Selection_Men!AF355&\" \" & \"JV1 \"","v":"St. Ambrose University JV1 "},{"$f":"Roster_Selection_Men!AH355","v":"11-288359"},{"$f":"Roster_Selection_Men!AI355","v":"Alexander Nolan"},null,{"$f":"IF(ISERROR(Individual_Scores_Men_JV!E129), \" \", IF(Individual_Scores_Men_JV!E129 = \"Yes\", \"Yes\", \"  \"))","v":"  "},"Games",176.0,202.0,184.0,235.0,216.0,213.0,196.0,192.0,180.0,223.0,167.0,163.0,179.0,162.0,224.0,189.0,221.0,157.0,165.0,203.0,{"$f":"SUM(H129:AA129)","v":3847},{"$f":"COUNTIF(H129:AA129, \">0\" )","v":20},{"$f":"AB129/AC129","v":192.35}," "," "," "," "," "," "," "," "," "," "," "," "," "," "," "," "," "," "," "," "," "," "," "," "," "," "," "," "," "," "," "," "," "," "," "," "," "," "," "," "," "," "," "," "," "," "," "," "," "," "]
[null,{"$f":"Roster_Selection_Men!AF356&\" \" & \"JV1 \"","v":"St. Ambrose University JV1 "},{"$f":"Roster_Selection_Men!AH356","v":"11-71264"},{"$f":"Roster_Selection_Men!AI356","v":"Alton Barber"},null,{"$f":"IF(ISERROR(Individual_Scores_Men_JV!E130), \" \", IF(Individual_Scores_Men_JV!E130 = \"Yes\", \"Yes\", \"  \"))","v":"  "}," "," "," "," "," "," "," "," "," "," "," "," "," "," "," "," "," "," "," "," "," "," "," "," "," "," "," "," "," "," "," "," "," "," "," "," "," "," "," "," "," "," "," "," "," "," "," "," "," "," "," "," "," "," "," "," "," "," "," "," "," "," "," "," "," "," "," "," "," "," "," "," "," "," "]
[null,{"$f":"Roster_Selection_Men!AF357&\" \" & \"JV1 \"","v":"St. Ambrose University JV1 "},{"$f":"Roster_Selection_Men!AH357","v":"8947-49201"},{"$f":"Roster_Selection_Men!AI357","v":"Anthony Mastroianni"},null,{"$f":"IF(ISERROR(Individual_Scores_Men_JV!E131), \" \", IF(Individual_Scores_Men_JV!E131 = \"Yes\", \"Yes\", \"  \"))","v":"  "}," "," "," "," "," "," "," "," "," "," "," "," "," "," "," "," "," "," "," "," "," "," "," "," "," "," "," "," "," "," "," "," "," "," "," "," "," "," "," "," "," "," "," "," "," "," "," "," "," "," "," "," "," "," "," "," "," "," "," "," "," "," "," "," "," "," "," "," "," "," "," "," "," "," "]
[null,{"$f":"Roster_Selection_Men!AF358&\" \" & \"JV1 \"","v":"St. Ambrose University JV1 "},{"$f":"Roster_Selection_Men!AH358","v":"11-395386"},{"$f":"Roster_Selection_Men!AI358","v":"Brendan De Werth"},null,{"$f":"IF(ISERROR(Individual_Scores_Men_JV!E132), \" \", IF(Individual_Scores_Men_JV!E132 = \"Yes\", \"Yes\", \"  \"))","v":"  "}," "," "," "," "," "," "," "," "," "," "," "," "," "," "," "," "," "," "," "," "," "," "," "," "," "," "," "," "," "," "," "," "," "," "," "," "," "," "," "," "," "," "," "," "," "," "," "," "," "," "," "," "," "," "," "," "," "," "," "," "," "," "," "," "," "," "," "," "," "," "," "," "," "," "]
[null,{"$f":"Roster_Selection_Men!AF359&\" \" & \"JV1 \"","v":"St. Ambrose University JV1 "},{"$f":"Roster_Selection_Men!AH359","v":"11-76593"},{"$f":"Roster_Selection_Men!AI359","v":"Caleb Gillmore"},null,{"$f":"IF(ISERROR(Individual_Scores_Men_JV!E133), \" \", IF(Individual_Scores_Men_JV!E133 = \"Yes\", \"Yes\", \"  \"))","v":"  "}," "," "," "," "," "," "," "," "," "," "," "," "," "," "," "," "," "," "," "," "," "," "," "," "," "," "," "," "," "," "," "," "," "," "," "," "," "," "," "," "," "," "," "," "," "," "," "," "," "," "," "," "," "," "," "," "," "," "," "," "," "," "," "," "," "," "," "," "," "," "," "," "," "," "]
[null,{"$f":"Roster_Selection_Men!AF360&\" \" & \"JV1 \"","v":"St. Ambrose University JV1 "},{"$f":"Roster_Selection_Men!AH360","v":"5816-1483"},{"$f":"Roster_Selection_Men!AI360","v":"Corey Roth"},null,{"$f":"IF(ISERROR(Individual_Scores_Men_JV!E134), \" \", IF(Individual_Scores_Men_JV!E134 = \"Yes\", \"Yes\", \"  \"))","v":"  "}," "," "," "," "," "," "," "," "," "," "," "," "," "," "," "," "," "," "," "," "," "," "," "," "," "," "," "," "," "," "," "," "," "," "," "," "," "," "," "," "," "," "," "," "," "," "," "," "," "," "," "," "," "," "," "," "," "," "," "," "," "," "," "," "," "," "," "," "," "," "," "," "," "," "]
[null,{"$f":"Roster_Selection_Men!AF361&\" \" & \"JV1 \"","v":"St. Ambrose University JV1 "},{"$f":"Roster_Selection_Men!AH361","v":"11-370860"},{"$f":"Roster_Selection_Men!AI361","v":"Jorell Morris"},null,{"$f":"IF(ISERROR(Individual_Scores_Men_JV!E135), \" \", IF(Individual_Scores_Men_JV!E135 = \"Yes\", \"Yes\", \"  \"))","v":"  "}," "," "," "," "," "," "," "," "," "," "," "," "," "," "," "," "," "," "," "," "," "," "," "," "," "," "," "," "," "," "," "," "," "," "," "," "," "," "," "," "," "," "," "," "," "," "," "," "," "," "," "," "," "," "," "," "," "," "," "," "," "," "," "," "," "," "," "," "," "," "," "," "," "," "]
[null,{"$f":"Roster_Selection_Men!AF362&\" \" & \"JV1 \"","v":"St. Ambrose University JV1 "},{"$f":"Roster_Selection_Men!AH362","v":"16-71962"},{"$f":"Roster_Selection_Men!AI362","v":"Justin Kennedy"},null,{"$f":"IF(ISERROR(Individual_Scores_Men_JV!E136), \" \", IF(Individual_Scores_Men_JV!E136 = \"Yes\", \"Yes\", \"  \"))","v":"  "}," "," "," "," "," "," "," "," "," "," "," "," "," "," "," "," "," "," "," "," "," "," "," "," "," "," "," "," "," "," "," "," "," "," "," "," "," "," "," "," "," "," "," "," "," "," "," "," "," "," "," "," "," "," "," "," "," "," "," "," "," "," "," "," "," "," "," "," "," "," "," "," "," "," "]
[null,"St. Ambrose University JV",{"$f":"Individual_Scores_Men_JV!C137","v":""},{"$f":"Individual_Scores_Men_JV!D137","v":""},null,null," "," "," "," "," "," "," "," "," "," "," "," "," "," "," "," "," "," "," "," "," "," "," "," "," "," "," "," "," "," "," "," "," "," "," "," "," "," "," "," "," "," "," "," "," "," "," "," "," "," "," "," "," "," "," "," "," "," "," "," "," "," "," "," "," "," "," "," "," "," "," "," "," "," "]
[null,"St. Ambrose University JV",{"$f":"Individual_Scores_Men_JV!C138","v":""},{"$f":"Individual_Scores_Men_JV!D138","v":""},null,null," "," "," "," "," "," "," "," "," "," "," "," "," "," "," "," "," "," "," "," "," "," "," "," "," "," "," "," "," "," "," "," "," "," "," "," "," "," "," "," "," "," "," "," "," "," "," "," "," "," "," "," "," "," "," "," "," "," "," "," "," "," "," "," "," "," "," "," "," "," "," "," "," "," "]
[null,"St. Ambrose University JV",{"$f":"Individual_Scores_Men_JV!C139","v":""},{"$f":"Individual_Scores_Men_JV!D139","v":""},null,null," "," "," "," "," "," "," "," "," "," "," "," "," "," "," "," "," "," "," "," "," "," "," "," "," "," "," "," "," "," "," "," "," "," "," "," "," "," "," "," "," "," "," "," "," "," "," "," "," "," "," "," "," "," "," "," "," "," "," "," "," "," "," "," "," "," "," "," "," "," "," "," "," "," "]
[null," "," "," ",null,null," "," "," "," "," "," "," "," "," "," "," "," "," "," "," "," "," "," "," "," "," "," "," "," "," "," "," "," "," "," "," "," "," "," "," "," "," "," "," "," "," "," "," "," "," "," "," "," "," "," "," "," "," "," "," "," "," "," "," "," "," "," "," "," "," "," "," "," "," "," "," "," "," "," "]
[null," "," "," ",null,null," "," "," "," "," "," "," "," "," "," "," "," "," "," "," "," "," "," "," "," "," "," "," "," "," "," "," "," "," "," "," "," "," "," "," "," "," "," "," "," "," "," "," "," "," "," "," "," "," "," "," "," "," "," "," "," "," "," "," "," "," "," "," "," "," "," "," "," "," "," "," "," "," "," "]
[null,{"$f":"Roster_Selection_Men!AF410&\" \" & \"JV1 \"","v":"Wichita State University JV1 "},{"$f":"Roster_Selection_Men!AH410","v":"11-719521"},{"$f":"Roster_Selection_Men!AI410","v":"Brandon Caruso"},null,{"$f":"IF(ISERROR(Individual_Scores_Men_JV!E142), \" \", IF(Individual_Scores_Men_JV!E142 = \"Yes\", \"Yes\", \"  \"))","v":"  "},"Games",181.0,236.0,220.0,186.0,201.0,187.0,222.0,193.0,221.0,189.0,190.0,228.0,180.0,212.0,237.0,188.0,234.0,228.0,204.0,203.0,{"$f":"SUM(H142:AA142)","v":4140},{"$f":"COUNTIF(H142:AA142, \">0\" )","v":20},{"$f":"AB142/AC142","v":207}," "," "," "," "," "," "," "," "," "," "," "," "," "," "," "," "," "," "," "," "," "," "," "," "," "," "," "," "," "," "," "," "," "," "," "," "," "," "," "," "," "," "," "," "," "," "," "," "," "," "]
[null,{"$f":"Roster_Selection_Men!AF411&\" \" & \"JV1 \"","v":"Wichita State University JV1 "},{"$f":"Roster_Selection_Men!AH411","v":"5900-27892"},{"$f":"Roster_Selection_Men!AI411","v":"Brandon Collins"},null,{"$f":"IF(ISERROR(Individual_Scores_Men_JV!E143), \" \", IF(Individual_Scores_Men_JV!E143 = \"Yes\", \"Yes\", \"  \"))","v":"  "}," "," "," "," "," "," "," "," "," "," "," "," "," "," "," "," "," "," "," "," "," "," "," "," "," "," "," "," "," "," "," "," "," "," "," "," "," "," "," "," "," "," "," "," "," "," "," "," "," "," "," "," "," "," "," "," "," "," "," "," "," "," "," "," "," "," "," "," "," "," "," "," "," "," "]
[null,{"$f":"Roster_Selection_Men!AF412&\" \" & \"JV1 \"","v":"Wichita State University JV1 "},{"$f":"Roster_Selection_Men!AH412","v":"7914-45013"},{"$f":"Roster_Selection_Men!AI412","v":"Carter Street"},null,{"$f":"IF(ISERROR(Individual_Scores_Men_JV!E144), \" \", IF(Individual_Scores_Men_JV!E144 = \"Yes\", \"Yes\", \"  \"))","v":"  "}," "," "," "," "," "," "," "," "," "," "," "," "," "," "," "," "," "," "," "," "," "," "," "," "," "," "," "," "," "," "," "," "," "," "," "," "," "," "," "," "," "," "," "," "," "," "," "," "," "," "," "," "," "," "," "," "," "," "," "," "," "," "," "," "," "," "," "," "," "," "," "," "," "," "]
[null,{"$f":"Roster_Selection_Men!AF413&\" \" & \"JV1 \"","v":"Wichita State University JV1 "},{"$f":"Roster_Selection_Men!AH413","v":"5900-26986"},{"$f":"Roster_Selection_Men!AI413","v":"Samuel Calderon"},null,{"$f":"IF(ISERROR(Individual_Scores_Men_JV!E145), \" \", IF(Individual_Scores_Men_JV!E145 = \"Yes\", \"Yes\", \"  \"))","v":"  "}," "," "," "," "," "," "," "," "," "," "," "," "," "," "," "," "," "," "," "," "," "," "," "," "," "," "," "," "," "," "," "," "," "," "," "," "," "," "," "," "," "," "," "," "," "," "," "," "," "," "," "," "," "," "," "," "," "," "," "," "," "," "," "," "," "," "," "," "," "," "," "," "," "," "]
[null,{"$f":"Roster_Selection_Men!AF414&\" \" & \"JV1 \"","v":"Wichita State University JV1 "},{"$f":"Roster_Selection_Men!AH414","v":"5617-4286"},{"$f":"Roster_Selection_Men!AI414","v":"Zachary Leshikar"},null,{"$f":"IF(ISERROR(Individual_Scores_Men_JV!E146), \" \", IF(Individual_Scores_Men_JV!E146 = \"Yes\", \"Yes\", \"  \"))","v":"  "}," "," "," "," "," "," "," "," "," "," "," "," "," "," "," "," "," "," "," "," "," "," "," "," "," "," "," "," "," "," "," "," "," "," "," "," "," "," "," "," "," "," "," "," "," "," "," "," "," "," "," "," "," "," "," "," "," "," "," "," "," "," "," "," "," "," "," "," "," "," "," "," "," "," "]
[null,{"$f":"Roster_Selection_Men!AF415&\" \" & \"JV1 \"","v":" JV1 "},{"$f":"Roster_Selection_Men!AH415","v":""},{"$f":"Roster_Selection_Men!AI415","v":""},null,{"$f":"IF(ISERROR(Individual_Scores_Men_JV!E147), \" \", IF(Individual_Scores_Men_JV!E147 = \"Yes\", \"Yes\", \"  \"))","v":"  "}," "," "," "," "," "," "," "," "," "," "," "," "," "," "," "," "," "," "," "," "," "," "," "," "," "," "," "," "," "," "," "," "," "," "," "," "," "," "," "," "," "," "," "," "," "," "," "," "," "," "," "," "," "," "," "," "," "," "," "," "," "," "," "," "," "," "," "," "," "," "," "," "," "," "]
[null,{"$f":"Roster_Selection_Men!AF416&\" \" & \"JV1 \"","v":" JV1 "},{"$f":"Roster_Selection_Men!AH416","v":""},{"$f":"Roster_Selection_Men!AI416","v":""},null,{"$f":"IF(ISERROR(Individual_Scores_Men_JV!E148), \" \", IF(Individual_Scores_Men_JV!E148 = \"Yes\", \"Yes\", \"  \"))","v":"  "}," "," "," "," "," "," "," "," "," "," "," "," "," "," "," "," "," "," "," "," "," "," "," "," "," "," "," "," "," "," "," "," "," "," "," "," "," "," "," "," "," "," "," "," "," "," "," "," "," "," "," "," "," "," "," "," "," "," "," "," "," "," "," "," "," "," "," "," "," "," "," "," "," "," "]
[null,{"$f":"Roster_Selection_Men!AF417&\" \" & \"JV1 \"","v":" JV1 "},{"$f":"Roster_Selection_Men!AH417","v":""},{"$f":"Roster_Selection_Men!AI417","v":""},null,{"$f":"IF(ISERROR(Individual_Scores_Men_JV!E149), \" \", IF(Individual_Scores_Men_JV!E149 = \"Yes\", \"Yes\", \"  \"))","v":"  "}," "," "," "," "," "," "," "," "," "," "," "," "," "," "," "," "," "," "," "," "," "," "," "," "," "," "," "," "," "," "," "," "," "," "," "," "," "," "," "," "," "," "," "," "," "," "," "," "," "," "," "," "," "," "," "," "," "," "," "," "," "," "," "," "," "," "," "," "," "," "," "," "," "," "]
[null,"Wichita State University JV",{"$f":"Individual_Scores_Men_JV!C150","v":""},{"$f":"Individual_Scores_Men_JV!D150","v":""},null,null," "," "," "," "," "," "," "," "," "," "," "," "," "," "," "," "," "," "," "," "," "," "," "," "," "," "," "," "," "," "," "," "," "," "," "," "," "," "," "," "," "," "," "," "," "," "," "," "," "," "," "," "," "," "," "," "," "," "," "," "," "," "," "," "," "," "," "," "," "," "," "," "," "," "]
[null,"Wichita State University JV",{"$f":"Individual_Scores_Men_JV!C151","v":""},{"$f":"Individual_Scores_Men_JV!D151","v":""},null,null," "," "," "," "," "," "," "," "," "," "," "," "," "," "," "," "," "," "," "," "," "," "," "," "," "," "," "," "," "," "," "," "," "," "," "," "," "," "," "," "," "," "," "," "," "," "," "," "," "," "," "," "," "," "," "," "," "," "," "," "," "," "," "," "," "," "," "," "," "," "," "," "," "," "]
[null,"Wichita State University JV",{"$f":"Individual_Scores_Men_JV!C152","v":""},{"$f":"Individual_Scores_Men_JV!D152","v":""},null,null," "," "," "," "," "," "," "," "," "," "," "," "," "," "," "," "," "," "," "," "," "," "," "," "," "," "," "," "," "," "," "," "," "," "," "," "," "," "," "," "," "," "," "," "," "," "," "," "," "," "," "," "," "," "," "," "," "," "," "," "," "," "," "," "," "," "," "," "," "," "," "," "," "," "]
[null," "," "," ",null,null," "," "," "," "," "," "," "," "," "," "," "," "," "," "," "," "," "," "," "," "," "," "," "," "," "," "," "," "," "," "," "," "," "," "," "," "," "," "," "," "," "," "," "," "," "," "," "," "," "," "," "," "," "," "," "," "," "," "," "," "," "," "," "," "," "," "," "," "," "," "," "," "," "," "]
[null," "," "," ",null,null," "," "," "," "," "," "," "," "," "," "," "," "," "," "," "," "," "," "," "," "," "," "," "," "," "," "," "," "," "," "," "," "," "," "," "," "," "," "," "," "," "," "," "," "," "," "," "," "," "," "," "," "," "," "," "," "," "," "," "," "," "," "," "," "," "," "," "," "," "," "," "," "," "," "]
[null,{"$f":"Roster_Selection_Men!AJ410&\" \" & \"JV2 \"","v":"Wichita State University JV2 "},{"$f":"Roster_Selection_Men!AL410","v":"11-553047"},{"$f":"Roster_Selection_Men!AM410","v":"Aidan Baker"},null,{"$f":"IF(ISERROR(Individual_Scores_Men_JV!E155), \" \", IF(Individual_Scores_Men_JV!E155 = \"Yes\", \"Yes\", \"  \"))","v":"  "},"Games",197.0,186.0,149.0,189.0,156.0,204.0,213.0,210.0,168.0,220.0,197.0,162.0,177.0,164.0,161.0,195.0,203.0,245.0,173.0,192.0,{"$f":"SUM(H155:AA155)","v":3761},{"$f":"COUNTIF(H155:AA155, \">0\" )","v":20},{"$f":"AB155/AC155","v":188.05}," "," "," "," "," "," "," "," "," "," "," "," "," "," "," "," "," "," "," "," "," "," "," "," "," "," "," "," "," "," "," "," "," "," "," "," "," "," "," "," "," "," "," "," "," "," "," "," "," "," "]
[null,{"$f":"Roster_Selection_Men!AJ411&\" \" & \"JV2 \"","v":"Wichita State University JV2 "},{"$f":"Roster_Selection_Men!AL411","v":"8599-56155"},{"$f":"Roster_Selection_Men!AM411","v":"Alex Harms"},null,{"$f":"IF(ISERROR(Individual_Scores_Men_JV!E156), \" \", IF(Individual_Scores_Men_JV!E156 = \"Yes\", \"Yes\", \"  \"))","v":"  "}," "," "," "," "," "," "," "," "," "," "," "," "," "," "," "," "," "," "," "," "," "," "," "," "," "," "," "," "," "," "," "," "," "," "," "," "," "," "," "," "," "," "," "," "," "," "," "," "," "," "," "," "," "," "," "," "," "," "," "," "," "," "," "," "," "," "," "," "," "," "," "," "," "," "]
[null,{"$f":"Roster_Selection_Men!AJ412&\" \" & \"JV2 \"","v":"Wichita State University JV2 "},{"$f":"Roster_Selection_Men!AL412","v":"11-88267"},{"$f":"Roster_Selection_Men!AM412","v":"Brady Jennings"},null,{"$f":"IF(ISERROR(Individual_Scores_Men_JV!E157), \" \", IF(Individual_Scores_Men_JV!E157 = \"Yes\", \"Yes\", \"  \"))","v":"  "}," "," "," "," "," "," "," "," "," "," "," "," "," "," "," "," "," "," "," "," "," "," "," "," "," "," "," "," "," "," "," "," "," "," "," "," "," "," "," "," "," "," "," "," "," "," "," "," "," "," "," "," "," "," "," "," "," "," "," "," "," "," "," "," "," "," "," "," "," "," "," "," "," "," "]
[null,{"$f":"Roster_Selection_Men!AJ413&\" \" & \"JV2 \"","v":"Wichita State University JV2 "},{"$f":"Roster_Selection_Men!AL413","v":"7914-43393"},{"$f":"Roster_Selection_Men!AM413","v":"Louis Luna"},null,{"$f":"IF(ISERROR(Individual_Scores_Men_JV!E158), \" \", IF(Individual_Scores_Men_JV!E158 = \"Yes\", \"Yes\", \"  \"))","v":"  "}," "," "," "," "," "," "," "," "," "," "," "," "," "," "," "," "," "," "," "," "," "," "," "," "," "," "," "," "," "," "," "," "," "," "," "," "," "," "," "," "," "," "," "," "," "," "," "," "," "," "," "," "," "," "," "," "," "," "," "," "," "," "," "," "," "," "," "," "," "," "," "," "," "," "]
[null,{"$f":"Roster_Selection_Men!AJ414&\" \" & \"JV2 \"","v":"Wichita State University JV2 "},{"$f":"Roster_Selection_Men!AL414","v":"8219-86694"},{"$f":"Roster_Selection_Men!AM414","v":"Marcus Cole"},null,{"$f":"IF(ISERROR(Individual_Scores_Men_JV!E159), \" \", IF(Individual_Scores_Men_JV!E159 = \"Yes\", \"Yes\", \"  \"))","v":"  "}," "," "," "," "," "," "," "," "," "," "," "," "," "," "," "," "," "," "," "," "," "," "," "," "," "," "," "," "," "," "," "," "," "," "," "," "," "," "," "," "," "," "," "," "," "," "," "," "," "," "," "," "," "," "," "," "," "," "," "," "," "," "," "," "," "," "," "," "," "," "," "," "," "," "]
[null,{"$f":"Roster_Selection_Men!AJ415&\" \" & \"JV2 \"","v":"Wichita State University JV2 "},{"$f":"Roster_Selection_Men!AL415","v":"17-34053"},{"$f":"Roster_Selection_Men!AM415","v":"Ty'un Mattison"},null,{"$f":"IF(ISERROR(Individual_Scores_Men_JV!E160), \" \", IF(Individual_Scores_Men_JV!E160 = \"Yes\", \"Yes\", \"  \"))","v":"  "}," "," "," "," "," "," "," "," "," "," "," "," "," "," "," "," "," "," "," "," "," "," "," "," "," "," "," "," "," "," "," "," "," "," "," "," "," "," "," "," "," "," "," "," "," "," "," "," "," "," "," "," "," "," "," "," "," "," "," "," "," "," "," "," "," "," "," "," "," "," "," "," "," "," "]
[null,{"$f":"Roster_Selection_Men!AJ416&\" \" & \"JV2 \"","v":" JV2 "},{"$f":"Roster_Selection_Men!AL416","v":""},{"$f":"Roster_Selection_Men!AM416","v":""},null,{"$f":"IF(ISERROR(Individual_Scores_Men_JV!E161), \" \", IF(Individual_Scores_Men_JV!E161 = \"Yes\", \"Yes\", \"  \"))","v":"  "}," "," "," "," "," "," "," "," "," "," "," "," "," "," "," "," "," "," "," "," "," "," "," "," "," "," "," "," "," "," "," "," "," "," "," "," "," "," "," "," "," "," "," "," "," "," "," "," "," "," "," "," "," "," "," "," "," "," "," "," "," "," "," "," "," "," "," "," "," "," "," "," "," "," "]
[null,{"$f":"Roster_Selection_Men!AJ417&\" \" & \"JV2 \"","v":" JV2 "},{"$f":"Roster_Selection_Men!AL417","v":""},{"$f":"Roster_Selection_Men!AM417","v":""},null,{"$f":"IF(ISERROR(Individual_Scores_Men_JV!E162), \" \", IF(Individual_Scores_Men_JV!E162 = \"Yes\", \"Yes\", \"  \"))","v":"  "}," "," "," "," "," "," "," "," "," "," "," "," "," "," "," "," "," "," "," "," "," "," "," "," "," "," "," "," "," "," "," "," "," "," "," "," "," "," "," "," "," "," "," "," "," "," "," "," "," "," "," "," "," "," "," "," "," "," "," "," "," "," "," "," "," "," "," "," "," "," "," "," "," "," "]
[null,"Wichita State University JV",{"$f":"Individual_Scores_Men_JV!C163","v":""},{"$f":"Individual_Scores_Men_JV!D163","v":""},null,null," "," "," "," "," "," "," "," "," "," "," "," "," "," "," "," "," "," "," "," "," "," "," "," "," "," "," "," "," "," "," "," "," "," "," "," "," "," "," "," "," "," "," "," "," "," "," "," "," "," "," "," "," "," "," "," "," "," "," "," "," "," "," "," "," "," "," "," "," "," "," "," "," "," "]
[null,"Wichita State University JV",{"$f":"Individual_Scores_Men_JV!C164","v":""},{"$f":"Individual_Scores_Men_JV!D164","v":""},null,null," "," "," "," "," "," "," "," "," "," "," "," "," "," "," "," "," "," "," "," "," "," "," "," "," "," "," "," "," "," "," "," "," "," "," "," "," "," "," "," "," "," "," "," "," "," "," "," "," "," "," "," "," "," "," "," "," "," "," "," "," "," "," "," "," "," "," "," "," "," "," "," "," "," "]
[null,"Wichita State University JV",{"$f":"Individual_Scores_Men_JV!C165","v":""},{"$f":"Individual_Scores_Men_JV!D165","v":""},null,null," "," "," "," "," "," "," "," "," "," "," "," "," "," "," "," "," "," "," "," "," "," "," "," "," "," "," "," "," "," "," "," "," "," "," "," "," "," "," "," "," "," "," "," "," "," "," "," "," "," "," "," "," "," "," "," "," "," "," "," "," "," "," "," "," "," "," "," "," "," "," "," "," "," "]
[null," "," "," ",null,null," "," "," "," "," "," "," "," "," "," "," "," "," "," "," "," "," "," "," "," "," "," "," "," "," "," "," "," "," "," "," "," "," "," "," "," "," "," "," "," "," "," "," "," "," "," "," "," "," "," "," "," "," "," "," "," "," "," "," "," "," "," "," "," "," "," "," "," "," "," "," "," "," "," "]
[null," "," "," ",null,null," "," "," "," "," "," "," "," "," "," "," "," "," "," "," "," "," "," "," "," "," "," "," "," "," "," "," "," "," "," "," "," "," "," "," "," "," "," "," "," "," "," "," "," "," "," "," "," "," "," "," "," "," "," "," "," "," "," "," "," "," "," "," "," "," "," "," "," "," "," "," "," "," "," "]
[null," "," "," ",null,null," "," "," "," "," "," "," "," "," "," "," "," "," "," "," "," "," "," "," "," "," "," "," "," "," "," "," "," "," "," "," "," "," "," "," "," "," "," "," "," "," "," "," "," "," ","*"," "," "," "," "," "," "," "," "," "," "," "," "," "," "," "," "," "," "," "," "," "," "," "," "," "," "," "," "]
[null," "," "," ",null,null," "," "," "," "," "," "," "," "," "," "," "," "," "," "," "," "," "," "," "," "," "," "," "," "," "," "," "," "," "," "," "," "," "," "," "," "," "," "," "," "," "," "," "," "," "," "," "," "," "," "," "," "," "," "," "," "," "," "," "," "," "," "," "," "," "," "," "," "," "," "," "," "," "," "]
[null," "," "," ",null,null," "," "," "," "," "," "," "," "," "," "," "," "," "," "," "," "," "," "," "," "," "," "," "," "," "," "," "," "," "," "," "," "," "," "," "," "," "," "," "," "," "," "," "," "," "," "," "," "," "," "," "," "," "," "," "," "," "," "," "," "," "," "," "," "," "," "," "," "," "," "," "," "," "," "]
[null," "," "," ",null,null," "," "," "," "," "," "," "," "," "," "," "," "," "," "," "," "," "," "," "," "," "," "," "," "," "," "," "," "," "," "," "," "," "," "," "," "," "," "," "," "," "," "," "," "," "," "," "," "," "," "," "," "," "," "," "," "," "," "," "," "," "," "," "," "," "," "," "," "," "," "," "," "," "," "]
[null," "," "," ",null,null," "," "," "," "," "," "," "," "," "," "," "," "," "," "," "," "," "," "," "," "," "," "," "," "," "," "," "," "," "," "," "," "," "," "," "," "," "," "," "," "," "," "," "," "," "," "," "," "," "," "," "," "," "," "," "," "," "," "," "," "," "," "," "," "," "," "," "," "," "," "," "," "," "," "]
[null," "," "," ",null,null," "," "," "," "," "," "," "," "," "," "," "," "," "," "," "," "," "," "," "," "," "," "," "," "," "," "," "," "," "," "," "," "," "," "," "," "," "," "," "," "," "," "," "," "," "," "," "," "," "," "," "," "," "," "," "," "," "," "," "," "," "," "," "," "," "," "," "," "," "," "," "," "," "," "]
[null," "," "," ",null,null," "," "," "," "," "," "," "," "," "," "," "," "," "," "," "," "," "," "," "," "," "," "," "," "," "," "," "," "," "," "," "," "," "," "," "," "," "," "," "," "," "," "," "," "," "," "," "," "," "," "," "," "," "," "," "," "," "," "," "," "," "," "," "," "," "," "," "," "," "," "," "," "," "," "]
[null," "," "," ",null,null," "," "," "," "," "," "," "," "," "," "," "," "," "," "," "," "," "," "," "," "," "," "," "," "," "," "," "," "," "," "," "," "," "," "," "," "," "," "," "," "," "," "," "," "," "," "," "," "," "," "," "," "," "," "," "," "," "," "," "," "," "," "," "," "," "," "," "," "," "," "," "," "," "," "]
[null," "," "," ",null,null," "," "," "," "," "," "," "," "," "," "," "," "," "," "," "," "," "," "," "," "," "," "," "," "," "," "," "," "," "," "," "," "," "," "," "," "," "," "," "," "," "," "," "," "," "," "," "," "," "," "," "," "," "," "," "," "," "," "," "," "," "," "," "," "," "," "," "," "," "," "," "," "," "," "]
[null," "," "," ",null,null," "," "," "," "," "," "," "," "," "," "," "," "," "," "," "," "," "," "," "," "," "," "," "," "," "," "," "," "," "," "," "," "," "," "," "," "," "," "," "," "," "," "," "," "," "," "," "," "," "," "," "," "," "," "," "," "," "," "," "," "," "," "," "," "," "," "," "," "," "," "," "," "," "," "]
[null," "," "," ",null,null," "," "," "," "," "," "," "," "," "," "," "," "," "," "," "," "," "," "," "," "," "," "," "," "," "," "," "," "," "," "," "," "," "," "," "," "," "," "," "," "," "," "," "," "," "," "," "," "," "," "," "," "," "," "," "," "," "," "," "," "," "," "," "," "," "," "," "," "," "," "," "," "," "," "]
[null," "," "," ",null,null," "," "," "," "," "," "," "," "," "," "," "," "," "," "," "," "," "," "," "," "," "," "," "," "," "," "," "," "," "," "," "," "," "," "," "," "," "," "," "," "," "," "," "," "," "," "," "," "," "," "," "," "," "," "," "," "," "," "," "," "," "," "," "," "," "," "," "," "," "," "," "," "," "," "]
[null," "," "," ",null,null," "," "," "," "," "," "," "," "," "," "," "," "," "," "," "," "," "," "," "," "," "," "," "," "," "," "," "," "," "," "," "," "," "," "," "," "," "," "," "," "," "," "," "," "," "," "," "," "," "," "," "," "," "," "," "," "," "," "," "," "," "," "," "," "," "," "," "," "," "," "," "," "," "," "]
[null," "," "," ",null,null," "," "," "," "," "," "," "," "," "," "," "," "," "," "," "," "," "," "," "," "," "," "," "," "," "," "," "," "," "," "," "," "," "," "," "," "," "," "," "," "," "," "," "," "," "," "," "," "," "," "," "," "," "," "," "," "," "," "," "," "," "," "," "," "," "," "," "," "," "," "," "," "," "," "]
[null," "," "," ",null,null," "," "," "," "," "," "," "," "," "," "," "," "," "," "," "," "," "," "," "," "," "," "," "," "," "," "," "," "," "," "," "," "," "," "," "," "," "," "," "," "," "," "," "," "," "," "," "," "," "," "," "," "," "," "," "," "," "," "," "," "," "," "," "," "," "," "," "," "," "," "," "," "," "," "]
[null," "," "," ",null,null," "," "," "," "," "," "," "," "," "," "," "," "," "," "," "," "," "," "," "," "," "," "," "," "," "," "," "," "," "," "," "," "," "," "," "," "," "," "," "," "," "," "," "," "," "," "," "," "," "," "," "," "," "," "," "," "," "," "," "," "," "," "," "," "," "," "," "," "," "," "," "," "," "," "]
[null," "," "," ",null,null," "," "," "," "," "," "," "," "," "," "," "," "," "," "," "," "," "," "," "," "," "," "," "," "," "," "," "," "," "," "," "," "," "," "," "," "," "," "," "," "," "," "," "," "," "," "," "," "," "," "," "," "," "," "," "," "," "," "," "," "," "," "," "," "," "," "," "," "," "," "," "," "," "," "]
[null," "," "," ",null,null," "," "," "," "," "," "," "," "," "," "," "," "," "," "," "," "," "," "," "," "," "," "," "," "," "," "," "," "," "," "," "," "," "," "," "," "," "," "," "," "," "," "," "," "," "," "," "," "," "," "," "," "," "," "," "," "," "," "," "," "," "," "," "," "," "," "," "," "," "," "," "," "," "," "]
[null," "," "," ",null,null," "," "," "," "," "," "," "," "," "," "," "," "," "," "," "," "," "," "," "," "," "," "," "," "," "," "," "," "," "," "," "," "," "," "," "," "," "," "," "," "," "," "," "," "," "," "," "," "," "," "," "," "," "," "," "," "," "," "," "," "," "," "," "," "," "," "," "," "," "," "," "," "," "," "]
[null," "," "," ",null,null," "," "," "," "," "," "," "," "," "," "," "," "," "," "," "," "," "," "," "," "," "," "," "," "," "," "," "," "," "," "," "," "," "," "," "," "," "," "," "," "," "," "," "," "," "," "," "," "," "," "," "," "," "," "," "," "," "," "," "," "," "," "," "," "," "," "," "," "," "," "," "," "," "," "]
[null," "," "," ",null,null," "," "," "," "," "," "," "," "," "," "," "," "," "," "," "," "," "," "," "," "," "," "," "," "," "," "," "," "," "," "," "," "," "," "," "," "," "," "," "," "," "," "," "," "," "," "," "," "," "," "," "," "," "," "," "," "," "," "," "," "," "," "," "," "," "," "," "," "," "," "," "," "," "," "]
[null," "," "," ",null,null," "," "," "," "," "," "," "," "," "," "," "," "," "," "," "," "," "," "," "," "," "," "," "," "," "," "," "," "," "," "," "," "," "," "," "," "," "," "," "," "," "," "," "," "," "," "," "," "," "," "," "," "," "," "," "," "," "," "," "," "," "," "," "," "," "," "," "," "," "," "," "," "," "," "]
[null," "," "," ",null,null," "," "," "," "," "," "," "," "," "," "," "," "," "," "," "," "," "," "," "," "," "," "," "," "," "," "," "," "," "," "," "," "," "," "," "," "," "," "," "," "," "," "," "," "," "," "," "," "," "," "," "," "," "," "," "," "," "," "," "," "," "," "," "," "," "," "," "," "," "," "," "," "," "," "]
[null," "," "," ",null,null," "," "," "," "," "," "," "," "," "," "," "," "," "," "," "," "," "," "," "," "," "," "," "," "," "," "," "," "," "," "," "," "," "," "," "," "," "," "," "," "," "," "," "," "," "," "," "," "," "," "," "," "," "," "," "," "," "," "," "," "," "," "," "," "," "," "," "," "," "," "," "," "," "," "]
[null," "," "," ",null,null," "," "," "," "," "," "," "," "," "," "," "," "," "," "," "," "," "," "," "," "," "," "," "," "," "," "," "," "," "," "," "," "," "," "," "," "," "," "," "," "," "," "," "," "," "," "," "," "," "," "," "," "," "," "," "," "," "," "," "," "," "," "," "," "," "," "," "," "," "," "," "," "," "," "]
[null," "," "," ",null,null," "," "," "," "," "," "," "," "," "," "," "," "," "," "," "," "," "," "," "," "," "," "," "," "," "," "," "," "," "," "," "," "," "," "," "," "," "," "," "," "," "," "," "," "," "," "," "," "," "," "," "," "," "," "," "," "," "," "," "," "," "," "," "," "," "," "," "," "," "," "," "," "," "," "]
[null," "," "," ",null,null," "," "," "," "," "," "," "," "," "," "," "," "," "," "," "," "," "," "," "," "," "," "," "," "," "," "," "," "," "," "," "," "," "," "," "," "," "," "," "," "," "," "," "," "," "," "," "," "," "," "," "," "," "," "," "," "," "," "," "," "," "," "," "," "," "," "," "," "," "," "," "," "," "," "]
[null," "," "," ",null,null," "," "," "," "," "," "," "," "," "," "," "," "," "," "," "," "," "," "," "," "," "," "," "," "," "," "," "," "," "," "," "," "," "," "," "," "," "," "," "," "," "," "," "," "," "," "," "," "," "," "," "," "," "," "," "," "," "," "," "," "," "," "," "," "," "," "," "," "," "," "," "," "," "," "]
[null," "," "," ",null,null," "," "," "," "," "," "," "," "," "," "," "," "," "," "," "," "," "," "," "," "," "," "," "," "," "," "," "," "," "," "," "," "," "," "," "," "," "," "," "," "," "," "," "," "," "," "," "," "," "," "," "," "," "," "," "," "," "," "," "," "," "," "," "," "," "," "," "," "," "," "," "," "," "," "]
[null," "," "," ",null,null," "," "," "," "," "," "," "," "," "," "," "," "," "," "," "," "," "," "," "," "," "," "," "," "," "," "," "," "," "," "," "," "," "," "," "," "," "," "," "," "," "," "," "," "," "," "," "," "," "," "," "," "," "," "," "," "," "," "," "," "," "," "," "," "," "," "," "," "," "," "," "," "," "," "]
[null," "," "," ",null,null," "," "," "," "," "," "," "," "," "," "," "," "," "," "," "," "," "," "," "," "," "," "," "," "," "," "," "," "," "," "," "," "," "," "," "," "," "," "," "," "," "," "," "," "," "," "," "," "," "," "," "," "," "," "," "," "," "," "," "," "," "," "," "," "," "," "," "," "," "," "," "," "," "," "]
[null," "," "," ",null,null," "," "," "," "," "," "," "," "," "," "," "," "," "," "," "," "," "," "," "," "," "," "," "," "," "," "," "," "," "," "," "," "," "," "," "," "," "," "," "," "," "," "," "," "," "," "," "," "," "," "," "," "," "," "," "," "," "," "," "," "," "," "," "," "," "," "," "," "," "," "," "," "," "," "]
[null," "," "," ",null,null," "," "," "," "," "," "," "," "," "," "," "," "," "," "," "," "," "," "," "," "," "," "," "," "," "," "," "," "," "," "," "," "," "," "," "," "," "," "," "," "," "," "," "," "," "," "," "," "," "," "," "," "," "," "," "," "," "," "," "," "," "," "," "," "," "," "," "," "," "," "," "," "," "," "]
[null," "," "," ",null,null," "," "," "," "," "," "," "," "," "," "," "," "," "," "," "," "," "," "," "," "," "," "," "," "," "," "," "," "," "," "," "," "," "," "," "," "," "," "," "," "," "," "," "," "," "," "," "," "," "," "," "," "," "," "," "," "," "," "," "," "," "," "," "," "," "," "," "," "," "," "," "," "," "," "]
[null," "," "," ",null,null," "," "," "," "," "," "," "," "," "," "," "," "," "," "," "," "," "," "," "," "," "," "," "," "," "," "," "," "," "," "," "," "," "," "," "," "," "," "," "," "," "," "," "," "," "," "," "," "," "," "," "," "," "," "," "," "," "," "," "," "," "," "," "," "," "," "," "," "," "," "," "," "," "," "]
[null," "," "," ",null,null," "," "," "," "," "," "," "," "," "," "," "," "," "," "," "," "," "," "," "," "," "," "," "," "," "," "," "," "," "," "," "," "," "," "," "," "," "," "," "," "," "," "," "," "," "," "," "," "," "," "," "," "," "," "," "," "," "," "," "," "," "," "," "," "," "," "," "," "," "," "," "," "," "," "]
[null," "," "," ",null,null," "," "," "," "," "," "," "," "," "," "," "," "," "," "," "," "," "," "," "," "," "," "," "," "," "," "," "," "," "," "," "," "," "," "," "," "," "," "," "," "," "," "," "," "," "," "," "," "," "," "," "," "," "," "," "," "," "," "," "," "," "," "," "," "," "," "," "," "," "," "," "," "," "," "]
[null," "," "," ",null,null," "," "," "," "," "," "," "," "," "," "," "," "," "," "," "," "," "," "," "," "," "," "," "," "," "," "," "," "," "," "," "," "," "," "," "," "," "," "," "," "," "," "," "," "," "," "," "," "," "," "," "," "," "," "," "," "," "," "," "," "," "," "," "," "," "," "," "," "," "," "," "," "," "," "]
[null," "," "," ",null,null," "," "," "," "," "," "," "," "," "," "," "," "," "," "," "," "," "," "," "," "," "," "," "," "," "," "," "," "," "," "," "," "," "," "," "," "," "," "," "," "," "," "," "," "," "," "," "," "," "," "," "," "," "," "," "," "," "," "," "," "," "," "," "," "," "," "," "," "," "," "," "," "," "," "]
[null," "," "," ",null,null," "," "," "," "," "," "," "," "," "," "," "," "," "," "," "," "," "," "," "," "," "," "," "," "," "," "," "," "," "," "," "," "," "," "," "," "," "," "," "," "," "," "," "," "," "," "," "," "," "," "," "," "," "," "," "," "," "," "," "," "," "," "," "," "," "," "," "," "," "," "," "," "," "," "]
[null," "," "," ",null,null," "," "," "," "," "," "," "," "," "," "," "," "," "," "," "," "," "," "," "," "," "," "," "," "," "," "," "," "," "," "," "," "," "," "," "," "," "," "," "," "," "," "," "," "," "," "," "," "," "," "," "," "," "," "," "," "," "," "," "," "," "," "," "," "," "," "," "," "," "," "," "," "," "," "]
[null," "," "," ",null,null," "," "," "," "," "," "," "," "," "," "," "," "," "," "," "," "," "," "," "," "," "," "," "," "," "," "," "," "," "," "," "," "," "," "," "," "," "," "," "," "," "," "," "," "," "," "," "," "," "," "," "," "," "," "," "," "," "," "," "," "," "," "," "," "," "," "," "," "," "," "," "," "," "," "]
[null," "," "," ",null,null," "," "," "," "," "," "," "," "," "," "," "," "," "," "," "," "," "," "," "," "," "," "," "," "," "," "," "," "," "," "," "," "," "," "," "," "," "," "," "," "," "," "," "," "," "," "," "," "," "," "," "," "," "," "," "," "," "," "," "," "," "," "," "," "," "," "," "," "," "," "," "," "," "," "]
[null," "," "," ",null,null," "," "," "," "," "," "," "," "," "," "," "," "," "," "," "," "," "," "," "," "," "," "," "," "," "," "," "," "," "," "," "," "," "," "," "," "," "," "," "," "," "," "," "," "," "," "," "," "," "," "," "," "," "," "," "," "," "," "," "," "," "," "," "," "," "," "," "," "," "," "," "," "," "," "]
[null," "," "," ",null,null," "," "," "," "," "," "," "," "," "," "," "," "," "," "," "," "," "," "," "," "," "," "," "," "," "," "," "," "," "," "," "," "," "," "," "," "," "," "," "," "," "," "," "," "," "," "," "," "," "," "," "," "," "," "," "," "," "," "," "," "," "," "," "," "," "," "," "," "," "," "," "," "," "," "]
[null," "," "," ",null,null," "," "," "," "," "," "," "," "," "," "," "," "," "," "," "," "," "," "," "," "," "," "," "," "," "," "," "," "," "," "," "," "," "," "," "," "," "," "," "," "," "," "," "," "," "," "," "," "," "," "," "," "," "," "," "," "," "," "," "," "," "," "," "," "," "," "," "," "," "," "," "," "," "," "]
[null," "," "," ",null,null," "," "," "," "," "," "," "," "," "," "," "," "," "," "," "," "," "," "," "," "," "," "," "," "," "," "," "," "," "," "," "," "," "," "," "," "," "," "," "," "," "," "," "," "," "," "," "," "," "," "," "," "," "," "," "," "," "," "," "," "," "," "," "," "," "," "," "," "," "," "," "," "," "," "]
[null," "," "," ",null,null," "," "," "," "," "," "," "," "," "," "," "," "," "," "," "," "," "," "," "," "," "," "," "," "," "," "," "," "," "," "," "," "," "," "," "," "," "," "," "," "," "," "," "," "," "," "," "," "," "," "," "," "," "," "," "," "," "," "," "," "," "," "," "," "," "," "," "," "," "," "," "," "," "," "]
[null," "," "," ",null,null," "," "," "," "," "," "," "," "," "," "," "," "," "," "," "," "," "," "," "," "," "," "," "," "," "," "," "," "," "," "," "," "," "," "," "," "," "," "," "," "," "," "," "," "," "," "," "," "," "," "," "," "," "," "," "," "," "," "," "," "," "," "," "," "," "," "," "," "," "," "," "," "," "," "]
[null," "," "," ",null,null," "," "," "," "," "," "," "," "," "," "," "," "," "," "," "," "," "," "," "," "," "," "," "," "," "," "," "," "," "," "," "," "," "," "," "," "," "," "," "," "," "," "," "," "," "," "," "," "," "," "," "," "," "," "," "," "," "," "," "," "," "," "," "," "," "," "," "," "," "," "," "," "," "," "]
[null," "," "," ",null,null," "," "," "," "," "," "," "," "," "," "," "," "," "," "," "," "," "," "," "," "," "," "," "," "," "," "," "," "," "," "," "," "," "," "," "," "," "," "," "," "," "," "," "," "," "," "," "," "," "," "," "," "," "," "," "," "," "," "," "," "," "," "," "," "," "," "," "," "," "," "," "," "," "," "]
[null," "," "," ",null,null," "," "," "," "," "," "," "," "," "," "," "," "," "," "," "," "," "," "," "," "," "," "," "," "," "," "," "," "," "," "," "," "," "," "," "," "," "," "," "," "," "," "," "," "," "," "," "," "," "," "," "," "," "," "," "," "," "," "," "," "," "," "," "," "," "," "," "," "," "," "," "," "," "," "]
[null," "," "," ",null,null," "," "," "," "," "," "," "," "," "," "," "," "," "," "," "," "," "," "," "," "," "," "," "," "," "," "," "," "," "," "," "," "," "," "," "," "," "," "," "," "," "," "," "," "," "," "," "," "," "," "," "," "," "," "," "," "," "," "," "," "," "," "," "," "," "," "," "," "," "," "," "," "," "," "]
[null," "," "," ",null,null," "," "," "," "," "," "," "," "," "," "," "," "," "," "," "," "," "," "," "," "," "," "," "," "," "," "," "," "," "," "," "," "," "," "," "," "," "," "," "," "," "," "," "," "," "," "," "," "," "," "," "," "," "," "," "," "," "," "," "," "," "," "," "," "," "," "," "," "," "," "," "," "," "," "]
[null," "," "," ",null,null," "," "," "," "," "," "," "," "," "," "," "," "," "," "," "," "," "," "," "," "," "," "," "," "," "," "," "," "," "," "," "," "," "," "," "," "," "," "," "," "," "," "," "," "," "," "," "," "," "," "," "," "," "," "," "," "," "," "," "," "," "," "," "," "," "," "," "," "," "," "," "," "," "," "]
[null," "," "," ",null,null," "," "," "," "," "," "," "," "," "," "," "," "," "," "," "," "," "," "," "," "," "," "," "," "," "," "," "," "," "," "," "," "," "," "," "," "," "," "," "," "," "," "," "," "," "," "," "," "," "," "," "," "," "," "," "," "," "," "," "," "," "," "," "," "," "," "," "," "," "," "," "," "," "," "]
[null," "," "," ",null,null," "," "," "," "," "," "," "," "," "," "," "," "," "," "," "," "," "," "," "," "," "," "," "," "," "," "," "," "," "," "," "," "," "," "," "," "," "," "," "," "," "," "," "," "," "," "," "," "," "," "," "," "," "," "," "," "," "," "," "," "," "," "," "," "," "," "," "," "," "," "," "," "," "," "]
[null," "," "," ",null,null," "," "," "," "," "," "," "," "," "," "," "," "," "," "," "," "," "," "," "," "," "," "," "," "," "," "," "," "," "," "," "," "," "," "," "," "," "," "," "," "," "," "," "," "," "," "," "," "," "," "," "," "," "," "," "," "," "," "," "," "," "," "," "," "," "," "," "," "," "," "," "," "," "," "]
[null," "," "," ",null,null," "," "," "," "," "," "," "," "," "," "," "," "," "," "," "," "," "," "," "," "," "," "," "," "," "," "," "," "," "," "," "," "," "," "," "," "," "," "," "," "," "," "," "," "," "," "," "," "," "," "," "," "," "," "," "," "," "," "," "," "," "," "," "," "," "," "," "," "," "," "," "," "," "," "]
[null," "," "," ",null,null," "," "," "," "," "," "," "," "," "," "," "," "," "," "," "," "," "," "," "," "," "," "," "," "," "," "," "," "," "," "," "," "," "," "," "," "," "," "," "," "," "," "," "," "," "," "," "," "," "," "," "," "," "," "," "," "," "," "," "," "," "," "," "," "," "," "," "," "," "," "," "," "," "," "]
[null," "," "," ",null,null," "," "," "," "," "," "," "," "," "," "," "," "," "," "," "," "," "," "," "," "," "," "," "," "," "," "," "," "," "," "," "," "," "," "," "," "," "," "," "," "," "," "," "," "," "," "," "," "," "," "," "," "," "," "," "," "," "," "," "," "," "," "," "," "," "," "," "," "," "," "," "," "," "," "]
[null," "," "," ",null,null," "," "," "," "," "," "," "," "," "," "," "," "," "," "," "," "," "," "," "," "," "," "," "," "," "," "," "," "," "," "," "," "," "," "," "," "," "," "," "," "," "," "," "," "," "," "," "," "," "," "," "," "," "," "," "," "," "," "," "," "," "," "," "," "," "," "," "," "," "," "," "," "," "," "]
[null," "," "," ",null,null," "," "," "," "," "," "," "," "," "," "," "," "," "," "," "," "," "," "," "," "," "," "," "," "," "," "," "," "," "," "," "," "," "," "," "," "," "," "," "," "," "," "," "," "," "," "," "," "," "," "," "," "," "," "," "," "," "," "," "," "," "," "," "," "," "," "," "," "," "," "," "," "," "," "]
[null," "," "," ",null,null," "," "," "," "," "," "," "," "," "," "," "," "," "," "," "," "," "," "," "," "," "," "," "," "," "," "," "," "," "," "," "," "," "," "," "," "," "," "," "," "," "," "," "," "," "," "," "," "," "," "," "," "," "," "," "," "," "," "," "," "," "," "," "," "," "," "," "," "," "," "," "," "," "," "]
[null," "," "," ",null,null," "," "," "," "," "," "," "," "," "," "," "," "," "," "," "," "," "," "," "," "," "," "," "," "," "," "," "," "," "," "," "," "," "," "," "," "," "," "," "," "," "," "," "," "," "," "," "," "," "," "," "," "," "," "," "," "," "," "," "," "," "," "," "," "," "," "," "," "," "," "," "," "," "," "]
[null," "," "," ",null,null," "," "," "," "," "," "," "," "," "," "," "," "," "," "," "," "," "," "," "," "," "," "," "," "," "," "," "," "," "," "," "," "," "," "," "," "," "," "," "," "," "," "," "," "," "," "," "," "," "," "," "," "," "," "," "," "," "," "," "," "," "," "," "," "," "," "," "," "," "," "," "," "," "," "]
[null," "," "," ",null,null," "," "," "," "," "," "," "," "," "," "," "," "," "," "," "," "," "," "," "," "," "," "," "," "," "," "," "," "," "," "," "," "," "," "," "," "," "," "," "," "," "," "," "," "," "," "," "," "," "," "," "," "," "," "," "," "," "," "," "," "," "," "," "," "," "," "," "," "," "," "," "," "," "," "]
[null," "," "," ",null,null," "," "," "," "," "," "," "," "," "," "," "," "," "," "," "," "," "," "," "," "," "," "," "," "," "," "," "," "," "," "," "," "," "," "," "," "," "," "," "," "," "," "," "," "," "," "," "," "," "," "," "," "," "," "," "," "," "," "," "," "," "," "," "," "," "," "," "," "," "," "," "," "," "," "]
[null," "," "," ",null,null," "," "," "," "," "," "," "," "," "," "," "," "," "," "," "," "," "," "," "," "," "," "," "," "," "," "," "," "," "," "," "," "," "," "," "," "," "," "," "," "," "," "," "," "," "," "," "," "," "," "," "," "," "," "," "," "," "," "," "," "," "," "," "," "," "," "," "," "," "," "," "," "," "," "]
[null," "," "," ",null,null," "," "," "," "," "," "," "," "," "," "," "," "," "," "," "," "," "," "," "," "," "," "," "," "," "," "," "," "," "," "," "," "," "," "," "," "," "," "," "," "," "," "," "," "," "," "," "," "," "," "," "," "," "," "," "," "," "," "," "," "," "," "," "," "," "," "," "," "," "," "," "," "," "," "]
[null," "," "," ",null,null," "," "," "," "," "," "," "," "," "," "," "," "," "," "," "," "," "," "," "," "," "," "," "," "," "," "," "," "," "," "," "," "," "," "," "," "," "," "," "," "," "," "," "," "," "," "," "," "," "," "," "," "," "," "," "," "," "," "," "," "," "," "," "," "," "," "," "," "," "," "," "," "," "," "]
[null," "," "," ",null,null," "," "," "," "," "," "," "," "," "," "," "," "," "," "," "," "," "," "," "," "," "," "," "," "," "," "," "," "," "," "," "," "," "," "," "," "," "," "," "," "," "," "," "," "," "," "," "," "," "," "," "," "," "," "," "," "," "," "," "," "," "," "," "," "," "," "," "," "," "," "," "," "," "," "]
[null," "," "," ",null,null," "," "," "," "," "," "," "," "," "," "," "," "," "," "," "," "," "," "," "," "," "," "," "," "," "," "," "," "," "," "," "," "," "," "," "," "," "," "," "," "," "," "," "," "," "," "," "," "," "," "," "," "," "," "," "," "," "," "," "," "," "," "," "," "," "," "," "," "," "," "," "," "," "," "]
[null," "," "," ",null,null," "," "," "," "," "," "," "," "," "," "," "," "," "," "," "," "," "," "," "," "," "," "," "," "," "," "," "," "," "," "," "," "," "," "," "," "," "," "," "," "," "," "," "," "," "," "," "," "," "," "," "," "," "," "," "," "," "," "," "," "," "," "," "," "," "," "," "," "," "," "," "," "," "," "]
[null," "," "," ",null,null," "," "," "," "," "," "," "," "," "," "," "," "," "," "," "," "," "," "," "," "," "," "," "," "," "," "," "," "," "," "," "," "," "," "," "," "," "," "," "," "," "," "," "," "," "," "," "," "," "," "," "," "," "," "," "," "," "," "," "," "," "," "," "," "," "," "," "," "," "," "," "," "," "," "]
[null," "," "," ",null,null," "," "," "," "," "," "," "," "," "," "," "," "," "," "," "," "," "," "," "," "," "," "," "," "," "," "," "," "," "," "," "," "," "," "," "," "," "," "," "," "," "," "," "," "," "," "," "," "," "," "," "," "," "," "," "," "," "," "," "," "," "," "," "," "," "," "," "," "," "," "," "," "," "," "]
[null," "," "," ",null,null," "," "," "," "," "," "," "," "," "," "," "," "," "," "," "," "," "," "," "," "," "," "," "," "," "," "," "," "," "," "," "," "," "," "," "," "," "," "," "," "," "," "," "," "," "," "," "," "," "," "," "," "," "," "," "," "," "," "," "," "," "," "," "," "," "," "," "," "," "," "," "," "," "," "]
[null," "," "," ",null,null," "," "," "," "," "," "," "," "," "," "," "," "," "," "," "," "," "," "," "," "," "," "," "," "," "," "," "," "," "," "," "," "," "," "," "," "," "," "," "," "," "," "," "," "," "," "," "," "," "," "," "," "," "," "," "," "," "," "," "," "," "," "," "," "," "," "," "," "," "," "," "," "," "," "]
[null," "," "," ",null,null," "," "," "," "," "," "," "," "," "," "," "," "," "," "," "," "," "," "," "," "," "," "," "," "," "," "," "," "," "," "," "," "," "," "," "," "," "," "," "," "," "," "," "," "," "," "," "," "," "," "," "," "," "," "," "," "," "," "," "," "," "," "," "," "," "," "," "," "," "," "," "," "," "," "]
[null," "," "," ",null,null," "," "," "," "," "," "," "," "," "," "," "," "," "," "," "," "," "," "," "," "," "," "," "," "," "," "," "," "," "," "," "," "," "," "," "," "," "," "," "," "," "," "," "," "," "," "," "," "," "," "," "," "," "," "," "," "," "," "," "," "," "," "," "," "," "," "," "," "," "," "," "," "," "," "]
[null," "," "," ",null,null," "," "," "," "," "," "," "," "," "," "," "," "," "," "," "," "," "," "," "," "," "," "," "," "," "," "," "," "," "," "," "," "," "," "," "," "," "," "," "," "," "," "," "," "," "," "," "," "," "," "," "," "," "," "," "," "," "," "," "," "," "," "," "," "," "," "," "," "," "," "," "," "," "," "]
[null," "," "," ",null,null," "," "," "," "," "," "," "," "," "," "," "," "," "," "," "," "," "," "," "," "," "," "," "," "," "," "," "," "," "," "," "," "," "," "," "," "," "," "," "," "," "," "," "," "," "," "," "," "," "," "," "," "," "," "," "," "," "," "," "," "," "," "," "," "," "," "," "," "," "," "," "," "," "," "]
[null," "," "," ",null,null," "," "," "," "," "," "," "," "," "," "," "," "," "," "," "," "," "," "," "," "," "," "," "," "," "," "," "," "," "," "," "," "," "," "," "," "," "," "," "," "," "," "," "," "," "," "," "," "," "," "," "," "," "," "," "," "," "," "," "," "," "," "," "," "," "," "," "," "," "," "," "," "," "," "]
[null," "," "," ",null,null," "," "," "," "," "," "," "," "," "," "," "," "," "," "," "," "," "," "," "," "," "," "," "," "," "," "," "," "," "," "," "," "," "," "," "," "," "," "," "," "," "," "," "," "," "," "," "," "," "," "," "," "," "," "," "," "," "," "," "," "," "," "," "," "," "," "," "," "," "," "," "," "," "," "]
[null," "," "," ",null,null," "," "," "," "," "," "," "," "," "," "," "," "," "," "," "," "," "," "," "," "," "," "," "," "," "," "," "," "," "," "," "," "," "," "," "," "," "," "," "," "," "," "," "," "," "," "," "," "," "," "," "," "," "," "," "," "," "," "," "," "," "," "," "," "," "," "," "," "," "," "," "," "," "," "]
[null," "," "," ",null,null," "," "," "," "," "," "," "," "," "," "," "," "," "," "," "," "," "," "," "," "," "," "," "," "," "," "," "," "," "," "," "," "," "," "," "," "," "," "," "," "," "," "," "," "," "," "," "," "," "," "," "," "," "," "," "," "," "," "," "," "," "," "," "," "," "," "," "," "," "," "," "," "," "," "]
[null," "," "," ",null,null," "," "," "," "," "," "," "," "," "," "," "," "," "," "," "," "," "," "," "," "," "," "," "," "," "," "," "," "," "," "," "," "," "," "," "," "," "," "," "," "," "," "," "," "," "," "," "," "," "," "," "," "," "," "," "," "," "," "," "," "," "," "," "," "," "," "," "," "," "," "," "," "," "," "]
[null," "," "," ",null,null," "," "," "," "," "," "," "," "," "," "," "," "," "," "," "," "," "," "," "," "," "," "," "," "," "," "," "," "," "," "," "," "," "," "," "," "," "," "," "," "," "," "," "," "," "," "," "," "," "," "," "," "," "," "," "," "," "," "," "," "," "," "," "," "," "," "," "," "," "," "," "," "," "," "]
[null," "," "," ",null,null," "," "," "," "," "," "," "," "," "," "," "," "," "," "," "," "," "," "," "," "," "," "," "," "," "," "," "," "," "," "," "," "," "," "," "," "," "," "," "," "," "," "," "," "," "," "," "," "," "," "," "," "," "," "," "," "," "," "," "," "," "," "," "," "," "," "," "," "," "," "," "," "," "," "]
[null," "," "," ",null,null," "," "," "," "," "," "," "," "," "," "," "," "," "," "," "," "," "," "," "," "," "," "," "," "," "," "," "," "," "," "," "," "," "," "," "," "," "," "," "," "," "," "," "," "," "," "," "," "," "," "," "," "," "," "," "," "," "," "," "," "," "," "," "," "," "," "," "," "," "," "," "," "," "," "]
[null," "," "," ",null,null," "," "," "," "," "," "," "," "," "," "," "," "," "," "," "," "," "," "," "," "," "," "," "," "," "," "," "," "," "," "," "," "," "," "," "," "," "," "," "," "," "," "," "," "," "," "," "," "," "," "," "," "," "," "," "," "," "," "," "," "," "," "," "," "," "," "," "," "," "," "," "," "," "," "]
[null," "," "," ",null,null," "," "," "," "," "," "," "," "," "," "," "," "," "," "," "," "," "," "," "," "," "," "," "," "," "," "," "," "," "," "," "," "," "," "," "," "," "," "," "," "," "," "," "," "," "," "," "," "," "," "," "," "," "," "," "," "," "," "," "," "," "," "," "," "," "," "," "," "," "," "," "," "," "," "]
[null," "," "," ",null,null," "," "," "," "," "," "," "," "," "," "," "," "," "," "," "," "," "," "," "," "," "," "," "," "," "," "," "," "," "," "," "," "," "," "," "," "," "," "," "," "," "," "," "," "," "," "," "," "," "," "," "," "," "," "," "," "," "," "," "," "," "," "," "," "," "," "," "," "," "," "," "," "," "," "]
[null," "," "," ",null,null," "," "," "," "," "," "," "," "," "," "," "," "," "," "," "," "," "," "," "," "," "," "," "," "," "," "," "," "," "," "," "," "," "," "," "," "," "," "," "," "," "," "," "," "," "," "," "," "," "," "," "," "," "," "," "," "," "," "," "," "," "," "," "," "," "," "," "," "," "," "," "," "," "," "]
[null," "," "," ",null,null," "," "," "," "," "," "," "," "," "," "," "," "," "," "," "," "," "," "," "," "," "," "," "," "," "," "," "," "," "," "," "," "," "," "," "," "," "," "," "," "," "," "," "," "," "," "," "," "," "," "," "," "," "," "," "," "," "," "," "," "," "," "," "," "," "," "," "," "," "," "," "," "," "," "]
[null," "," "," ",null,null," "," "," "," "," "," "," "," "," "," "," "," "," "," "," "," "," "," "," "," "," "," "," "," "," "," "," "," "," "," "," "," "," "," "," "," "," "," "," "," "," "," "," "," "," "," "," "," "," "," "," "," "," "," "," "," "," "," "," "," "," "," "," "," "," "," "," "," "," "," "," "," "," "," "]
[null," "," "," ",null,null," "," "," "," "," "," "," "," "," "," "," "," "," "," "," "," "," "," "," "," "," "," "," "," "," "," "," "," "," "," "," "," "," "," "," "," "," "," "," "," "," "," "," "," "," "," "," "," "," "," "," "," "," "," "," "," "," "," "," "," "," "," "," "," "," "," "," "," "," "," "," "," "," "," "]
[null," "," "," ",null,null," "," "," "," "," "," "," "," "," "," "," "," "," "," "," "," "," "," "," "," "," "," "," "," "," "," "," "," "," "," "," "," "," "," "," "," "," "," "," "," "," "," "," "," "," "," "," "," "," "," "," "," "," "," "," "," "," "," "," "," "," "," "," "," "," "," "," "," "," "," "," "," "," "," "]
[null," "," "," ",null,null," "," "," "," "," "," "," "," "," "," "," "," "," "," "," "," "," "," "," "," "," "," "," "," "," "," "," "," "," "," "," "," "," "," "," "," "," "," "," "," "," "," "," "," "," "," "," "," "," "," "," "," "," "," "," "," "," "," "," "," "," "," "," "," "," "," "," "," "," "," "," "," "," "," "]
[null," "," "," ",null,null," "," "," "," "," "," "," "," "," "," "," "," "," "," "," "," "," "," "," "," "," "," "," "," "," "," "," "," "," "," "," "," "," "," "," "," "," "," "," "," "," "," "," "," "," "," "," "," "," "," "," "," "," "," "," "," "," "," "," "," "," "," "," "," "," "," "," "," "," "," "," "," "," "," "]
[null," "," "," ",null,null," "," "," "," "," "," "," "," "," "," "," "," "," "," "," "," "," "," "," "," "," "," "," "," "," "," "," "," "," "," "," "," "," "," "," "," "," "," "," "," "," "," "," "," "," "," "," "," "," "," "," "," "," "," "," "," "," "," "," "," "," "," "," "," "," "," "," "," "," "," "," "," "," "," "]
[null," "," "," ",null,null," "," "," "," "," "," "," "," "," "," "," "," "," "," "," "," "," "," "," "," "," "," "," "," "," "," "," "," "," "," "," "," "," "," "," "," "," "," "," "," "," "," "," "," "," "," "," "," "," "," "," "," "," "," "," "," "," "," "," "," "," "," "," "," "," "," "," "," "," "," "," "," "," "," "]
[null," "," "," ",null,null," "," "," "," "," "," "," "," "," "," "," "," "," "," "," "," "," "," "," "," "," "," "," "," "," "," "," "," "," "," "," "," "," "," "," "," "," "," "," "," "," "," "," "," "," "," "," "," "," "," "," "," "," "," "," "," "," "," "," "," "," "," "," "," "," "," "," "," "," "," "," "," "," "," "]
[null," "," "," ",null,null," "," "," "," "," "," "," "," "," "," "," "," "," "," "," "," "," "," "," "," "," "," "," "," "," "," "," "," "," "," "," "," "," "," "," "," "," "," "," "," "," "," "," "," "," "," "," "," "," "," "," "," "," "," "," "," "," "," "," "," "," "," "," "," "," "," "," "," "," "," "," "," "," "," "]
[null," "," "," ",null,null," "," "," "," "," "," "," "," "," "," "," "," "," "," "," "," "," "," "," "," "," "," "," "," "," "," "," "," "," "," "," "," "," "," "," "," "," "," "," "," "," "," "," "," "," "," "," "," "," "," "," "," "," "," "," "," "," "," "," "," "," "," "," "," "," "," "," "," "," "," "," "," "," "," "]
[null," "," "," ",null,null," "," "," "," "," "," "," "," "," "," "," "," "," "," "," "," "," "," "," "," "," "," "," "," "," "," "," "," "," "," "," "," "," "," "," "," "," "," "," "," "," "," "," "," "," "," "," "," "," "," "," "," "," "," "," "," "," "," "," "," "," "," "," "," "," "," "," "," "," "," "," "," "," "," "]
[null," "," "," ",null,null," "," "," "," "," "," "," "," "," "," "," "," "," "," "," "," "," "," "," "," "," "," "," "," "," "," "," "," "," "," "," "," "," "," "," "," "," "," "," "," "," "," "," "," "," "," "," "," "," "," "," "," "," "," "," "," "," "," "," "," "," "," "," "," "," "," "," "," "," "," "," "," "," "," "]
[null," "," "," ",null,null," "," "," "," "," "," "," "," "," "," "," "," "," "," "," "," "," "," "," "," "," "," "," "," "," "," "," "," "," "," "," "," "," "," "," "," "," "," "," "," "," "," "," "," "," "," "," "," "," "," "," "," "," "," "," "," "," "," "," "," "," "," "," "," "," "," "," "," "," "," "," "," "," "," "]
[null," "," "," ",null,null," "," "," "," "," "," "," "," "," "," "," "," "," "," "," "," "," "," "," "," "," "," "," "," "," "," "," "," "," "," "," "," "," "," "," "," "," "," "," "," "," "," "," "," "," "," "," "," "," "," "," "," "," "," "," "," "," "," "," "," "," "," "," "," "," "," "," "," "," "," "," "," "," "," "]
[null," "," "," ",null,null," "," "," "," "," "," "," "," "," "," "," "," "," "," "," "," "," "," "," "," "," "," "," "," "," "," "," "," "," "," "," "," "," "," "," "," "," "," "," "," "," "," "," "," "," "," "," "," "," "," "," "," "," "," "," "," "," "," "," "," "," "," "," "," "," "," "," "," "," "," "," "," "," "," "]
[null," "," "," ",null,null," "," "," "," "," "," "," "," "," "," "," "," "," "," "," "," "," "," "," "," "," "," "," "," "," "," "," "," "," "," "," "," "," "," "," "," "," "," "," "," "," "," "," "," "," "," "," "," "," "," "," "," "," "," "," "," "," "," "," "," "," "," "," "," "," "," "," "," "," "," "," "," "," "," "]
[null," "," "," ",null,null," "," "," "," "," "," "," "," "," "," "," "," "," "," "," "," "," "," "," "," "," "," "," "," "," "," "," "," "," "," "," "," "," "," "," "," "," "," "," "," "," "," "," "," "," "," "," "," "," "," "," "," "," "," "," "," "," "," "," "," "," "," "," "," "," "," "," "," "," "," "," "," "," "," "]
[null," "," "," ",null,null," "," "," "," "," "," "," "," "," "," "," "," "," "," "," "," "," "," "," "," "," "," "," "," "," "," "," "," "," "," "," "," "," "," "," "," "," "," "," "," "," "," "," "," "," "," "," "," "," "," "," "," "," "," "," "," "," "," "," "," "," "," "," "," "," "," "," "," "," "," "," "," "," "," "]
[null," "," "," ",null,null," "," "," "," "," "," "," "," "," "," "," "," "," "," "," "," "," "," "," "," "," "," "," "," "," "," "," "," "," "," "," "," "," "," "," "," "," "," "," "," "," "," "," "," "," "," "," "," "," "," "," "," "," "," "," "," "," "," "," "," "," "," "," "," "," "," "," "," "," "," "," "," "," "," "]
[null," "," "," ",null,null," "," "," "," "," "," "," "," "," "," "," "," "," "," "," "," "," "," "," "," "," "," "," "," "," "," "," "," "," "," "," "," "," "," "," "," "," "," "," "," "," "," "," "," "," "," "," "," "," "," "," "," "," "," "," "," "," "," "," "," "," "," "," "," "," "," "," "," "," "," "," "," "," "," "]
[null," "," "," ",null,null," "," "," "," "," "," "," "," "," "," "," "," "," "," "," "," "," "," "," "," "," "," "," "," "," "," "," "," "," "," "," "," "," "," "," "," "," "," "," "," "," "," "," "," "," "," "," "," "," "," "," "," "," "," "," "," "," "," "," "," "," "," "," "," "," "," "," "," "," "," "," "," "," "," "]
[null," "," "," ",null,null," "," "," "," "," "," "," "," "," "," "," "," "," "," "," "," "," "," "," "," "," "," "," "," "," "," "," "," "," "," "," "," "," "," "," "," "," "," "," "," "," "," "," "," "," "," "," "," "," "," "," "," "," "," "," "," "," "," "," "," "," "," "," "," "," "," "," "," "," "," "," "," "," "," "]
[null," "," "," ",null,null," "," "," "," "," "," "," "," "," "," "," "," "," "," "," "," "," "," "," "," "," "," "," "," "," "," "," "," "," "," "," "," "," "," "," "," "," "," "," "," "," "," "," "," "," "," "," "," "," "," "," "," "," "," "," "," "," "," "," "," "," "," "," "," "," "," "," "," "," "," "," "," "," "," "]
[null," "," "," ",null,null," "," "," "," "," "," "," "," "," "," "," "," "," "," "," "," "," "," "," "," "," "," "," "," "," "," "," "," "," "," "," "," "," "," "," "," "," "," "," "," "," "," "," "," "," "," "," "," "," "," "," "," "," "," "," "," "," "," "," "," "," "," "," "," "," "," "," "," "," "," "," "," "," "," "]
[null," "," "," ",null,null," "," "," "," "," "," "," "," "," "," "," "," "," "," "," "," "," "," "," "," "," "," "," "," "," "," "," "," "," "," "," "," "," "," "," "," "," "," "," "," "," "," "," "," "," "," "," "," "," "," "," "," "," "," "," "," "," "," "," "," "," "," "," "," "," "," "," "," "," "," "," "," "," "," "]
[null," "," "," ",null,null," "," "," "," "," "," "," "," "," "," "," "," "," "," "," "," "," "," "," "," "," "," "," "," "," "," "," "," "," "," "," "," "," "," "," "," "," "," "," "," "," "," "," "," "," "," "," "," "," "," "," "," "," "," "," "," "," "," "," "," "," "," "," "," "," "," "," "," "," "," "," "," "," "," "]
[null," "," "," ",null,null," "," "," "," "," "," "," "," "," "," "," "," "," "," "," "," "," "," "," "," "," "," "," "," "," "," "," "," "," "," "," "," "," "," "," "," "," "," "," "," "," "," "," "," "," "," "," "," "," "," "," "," "," "," "," "," "," "," "," "," "," "," "," "," "," "," "," "," "," "," "," "," "," "," "]
[null," "," "," ",null,null," "," "," "," "," "," "," "," "," "," "," "," "," "," "," "," "," "," "," "," "," "," "," "," "," "," "," "," "," "," "," "," "," "," "," "," "," "," "," "," "," "," "," "," "," "," "," "," "," "," "," "," "," "," "," "," "," "," "," "," "," "," "," "," "," "," "," "," "," "," "," "," "," "," "]
[null," "," "," ",null,null," "," "," "," "," "," "," "," "," "," "," "," "," "," "," "," "," "," "," "," "," "," "," "," "," "," "," "," "," "," "," "," "," "," "," "," "," "," "," "," "," "," "," "," "," "," "," "," "," "," "," "," "," "," "," "," "," "," "," "," "," "," "," "," "," "," "," "," "," "," "," "," "," "," "]
[null," "," "," ",null,null," "," "," "," "," "," "," "," "," "," "," "," "," "," "," "," "," "," "," "," "," "," "," "," "," "," "," "," "," "," "," "," "," "," "," "," "," "," "," "," "," "," "," "," "," "," "," "," "," "," "," "," "," "," "," "," "," "," "," "," "," "," "," "," "," "," "," "," "," "," "," "," "," "," "]
[null," "," "," ",null,null," "," "," "," "," "," "," "," "," "," "," "," "," "," "," "," "," "," "," "," "," "," "," "," "," "," "," "," "," "," "," "," "," "," "," "," "," "," "," "," "," "," "," "," "," "," "," "," "," "," "," "," "," "," "," "," "," "," "," "," "," "," "," "," "," "," "," "," "," "," "," "," "," "," "]
[null," "," "," ",null,null," "," "," "," "," "," "," "," "," "," "," "," "," "," "," "," "," "," "," "," "," "," "," "," "," "," "," "," "," "," "," "," "," "," "," "," "," "," "," "," "," "," "," "," "," "," "," "," "," "," "," "," "," "," "," "," "," "," "," "," "," "," "," "," "," "," "," "," "," "," "," "," "," "," "]
[null," "," "," ",null,null," "," "," "," "," "," "," "," "," "," "," "," "," "," "," "," "," "," "," "," "," "," "," "," "," "," "," "," "," "," "," "," "," "," "," "," "," "," "," "," "," "," "," "," "," "," "," "," "," "," "," "," "," "," "," "," "," "," "," "," "," "," "," "," "," "," "," "," "," "," "," "," "," "," "]
[null," "," "," ",null,null," "," "," "," "," "," "," "," "," "," "," "," "," "," "," "," "," "," "," "," "," "," "," "," "," "," "," "," "," "," "," "," "," "," "," "," "," "," "," "," "," "," "," "," "," "," "," "," "," "," "," "," "," "," "," "," "," "," "," "," "," "," "," "," "," "," "," "," "," "," "," "," "," "," "]
[null," "," "," ",null,null," "," "," "," "," "," "," "," "," "," "," "," "," "," "," "," "," "," "," "," "," "," "," "," "," "," "," "," "," "," "," "," "," "," "," "," "," "," "," "," "," "," "," "," "," "," "," "," "," "," "," "," "," "," "," "," "," "," "," "," "," "," "," "," "," "," "," "," "," "," "," "," "," "," "]
[null," "," "," ",null,null," "," "," "," "," "," "," "," "," "," "," "," "," "," "," "," "," "," "," "," "," "," "," "," "," "," "," "," "," "," "," "," "," "," "," "," "," "," "," "," "," "," "," "," "," "," "," "," "," "," "," "," "," "," "," "," "," "," "," "," "," "," "," "," "," "," "," "," "," "," "," "," "," "," "]
[null," "," "," ",null,null," "," "," "," "," "," "," "," "," "," "," "," "," "," "," "," "," "," "," "," "," "," "," "," "," "," "," "," "," "," "," "," "," "," "," "," "," "," "," "," "," "," "," "," "," "," "," "," "," "," "," "," "," "," "," "," "," "," "," "," "," "," "," "," "," "," "," "," "," "," "," "," "," "," "]
[null," "," "," ",null,null," "," "," "," "," "," "," "," "," "," "," "," "," "," "," "," "," "," "," "," "," "," "," "," "," "," "," "," "," "," "," "," "," "," "," "," "," "," "," "," "," "," "," "," "," "," "," "," "," "," "," "," "," "," "," "," "," "," "," "," "," "," "," "," "," "," "," "," "," "," "," "," "," "," "]
[null," "," "," "]
[null," "," "," "]
[null," "," "," "]
[null," "," "," "]
[null," "," "," "]
[null," "," "," "]
[null," "," "," "]
[null," "," "," "]
[null," "," "," "]
[null," "," "," "]
[null," "," "," "]
[null," "," "," "]
[null," "," "," "]
[null," "," "," "]
[null," "," "," "]
[null," "," "," "]
[null," "," "," "]
[null," "," "," "]
[null," "," "," "]
[null," "," "," "]
[null," "," "," "]
[null," "," "," "]
[null," "," "," "]
[null," "," "," "]
[null," "," "," "]
[null," "," "," "]
[null," "," "," "]
[null," "," "," "]
[null," "," "," "]
[null," "," "," "]
[null," "," "," "]
[null," "," "," "]
[null," "," "," "]
[null," "," "," "]
[null," "," "," "]
[null," "," "," "]
[null," "," "," "]
[null," "," "," "]
[null," "," "," "]
[null," "," "," "]
[null," "," "," "]
[null," "," "," "]
[null," "," "," "]
[null," "," "," "]
[null," "," "," "]
[null," "," "," "]
[null," "," "," "]
[null," "," "," "]
[null," "," "," "]
[null," "," "," "]
[null," "," "," "]
[null," "," "," "]
[null," "," "," "]
[null," "," "," "]
[null," "," "," "]
[null," "," "," "]
[null," "," "," "]
[null," "," "," "]
[null," "," "," "]
[null," "," "," "]
[null," "," "," "]
[null," "," "," "]
[null," "," "," "]
[null," "," "," "]
[null," "," "," "]
[null," "," "," "]
[null," "," "," "]
[null," "," "," "]
[null," "," "," "]
[null," "," "," "]
[null," "," "," "]
[null," "," "," "]
[null," "," "," "]
[null," "," "," "]
[null," "," "," "]
[null," "," "," "]
[null," "," "," "]
[null," "," "," "]
[null," "," "," "]
[null," "," "," "]
[null," "," "," "]
[null," "," "," "]
[null," "," "," "]
[null," "," "," "]
[null," "," "," "]
[null," "," "," "]
[null," "," "," "]
[null," "," "," "]
[null," "," "," "]
[null," "," "," "]
[null," "," "," "]
[null," "," "," "]
[null," "," "," "]
[null," "," "," "]
[null," "," "," "]
[null," "," "," "]
[null," "," "," "]
[null," "," "," "]
[null," "," "," "]
[null," "," "," "]
[null," "," "," "]
[null," "," "," "]
[null," "," "," "]
[null," "," "," "]
[null," "," "," "]
[null," "," "," "]
[null," "," "," "]
[null," "," "," "]
[null," "," "," "]
[null," "," "," "]
[null," "," "," "]
[null," "," "," "]
[null," "," "," "]
[null," "," "," "]
[null," "," "," "]
[null," "," "," "]
[null," "," "," "]
[null," "," "," "]
[null," "," "," "]
[null," "," "," "]
[null," "," "," "]
[null," "," "," "]
[null," "," "," "]
[null," "," "," "]
[null," "," "," "]
[null," "," "," "]
[null," "," "," "]
[null," "," "," "]
[null," "," "," "]
[null," "," "," "]
[null," "," "," "]
[null," "," "," "]
[null," "," "," "]
[null," "," "," "]
[null," "," "," "]
[null," "," "," "]
[null," "," "," "]
[null," "," "," "]
[null," "," "," "]
[null," "," "," "]
[null," "," "," "]
[null," "," "," "]
[null," "," "," "]
[null," "," "," "]
[null," "," "," "]
[null," "," "," "]
[null," "," "," "]
[null," "," "," "]
[null," "," "," "]
[null," "," "," "]
[null," "," "," "]
[null," "," "," "]
[null," "," "," "]
[null," "," "," "]
[null," "," "," "]
[null," "," "," "]
[null," "," "," "]
[null," "," "," "]
[null," "," "," "]
[null," "," "," "]
[null," "," "," "]
[null," "," "," "]
[null," "," "," "]
[null," "," "," "]
[null," "," "," "]
[null," "," "," "]
[null," "," "," "]
[null," "," "," "]
[null," "," "," "]
[null," "," "," "]
[null," "," "," "]
[null," "," "," "]
[null," "," "," "]
[null," "," "," "]
[null," "," "," "]
[null," "," "," "]
[null," "," "," "]
[null," "," "," "]
[null," "," "," "]
[null," "," "," "]
[null," "," "," "]
[null," "," "," "]
[null," "," "," "]
[null," "," "," "]
[null," "," "," "]
[null," "," "," "]
[null," "," "," "]
[null," "," "," "]
[null," "," "," "]
[null," "," "," "]
[null," "," "," "]
[null," "," "," "]
[null," "," "," "]
[null," "," "," "]
[null," "," "," "]
[null," "," "," "]
[null," "," "," "]
[null," "," "," "]
[null," "," "," "]
[null," "," "," "]
[null," "," "," "]
[null," "," "," "]
[null," "," "," "]
[null," "," "," "]
[null," "," "," "]
[null," "," "," "]
[null," "," "," "]
[null," "," "," "]
[null," "," "," "]
[null," "," "," "]
[null," "," "," "]
[null," "," "," "]
[null," "," "," "]
[null," "," "," "]
[null," "," "," "]
[null," "," "," "]
[null," "," "," "]
[null," "," "," "]
[null," "," "," "]
[null," "," "," "]
[null," "," "," "]
[null," "," "," "]
[null," "," "," "]
[null," "," "," "]
[null," "," "," "]
[null," "," "," "]
[null," "," "," "]
[null," "," "," "]
[null," "," "," "]
[null," "," "," "]
[null," "," "," "]
[null," "," "," "]
[null," "," "," "]
[null," "," "," "]
[null," "," "," "]
[null," "," "," "]
[null," "," "," "]
[null," "," "," "]
[null," "," "," "]
[null," "," "," "]
[null," "," "," "]
[null," "," "," "]
[null," "," "," "]
[null," "," "," "]
[null," "," "," "]
[null," "," "," "]
[null," "," "," "]
[null," "," "," "]
[null," "," "," "]
[null," "," "," "]
[null," "," "," "]
[null," "," "," "]
[null," "," "," "]
[null," "," "," "]
[null," "," "," "]
[null," "," "," "]
[null," "," "," "]
[null," "," "," "]
[null," "," "," "]
[null," "," "," "]
[null," "," "," "]
[null," "," "," "]
[null," "," "," "]
[null," "," "," "]
[null," "," "," "]
[null," "," "," "]
[null," "," "," "]
[null," "," "," "]
[null," "," "," "]
[null," "," "," "]
[null," "," "," "]
[null," "," "," "]
[null," "," "," "]
[null," "," "," "]
[null," "," "," "]
[null," "," "," "]
[null," "," "," "]
[null," "," "," "]
[null," "," "," "]
[null," "," "," "]
[null," "," "," "]
[null," "," "," "]
[null," "," "," "]
[null," "," "," "]
[null," "," "," "]
[null," "," "," "]
[null," "," "," "]
[null," "," "," "]
[null," "," "," "]
[null," "," "," "]
[null," "," "," "]
[null," "," "," "]
[null," "," "," "]
[null," "," "," "]
[null," "," "," "]
[null," "," "," "]
[null," "," "," "]
[null," "," "," "]
[null," "," "," "]
[null," "," "," "]
[null," "," "," "]
[null," "," "," "]
[null," "," "," "]
[null," "," "," "]
[null," "," "," "]
[null," "," "," "]
[null," "," "," "]
[null," "," "," "]
[null," "," "," "]
[null," "," "," "]
[null," "," "," "]
[null," "," "," "]
[null," "," "," "]
[null," "," "," "]
[null," "," "," "]
[null," "," "," "]
[null," "," "," "]
[null," "," "," "]
[null," "," "," "]
[null," "," "," "]
[null," "," "," "]
[null," "," "," "]
[null," "," "," "]
[null," "," "," "]
[null," "," "," "]
[null," "," "," "]
[null," "," "," "]
[null," "," "," "]
[null," "," "," "]
[null," "," "," "]
[null," "," "," "]
[null," "," "," "]
[null," "," "," "]
[null," "," "," "]
[null," "," "," "]
[null," "," "," "]
[null," "," "," "]
[null," "," "," "]
[null," "," "," "]
[null," "," "," "]
[null," "," "," "]
[null," "," "," "]
[null," "," "," "]
[null," "," "," "]
[null," "," "," "]
[null," "," "," "]
[null," "," "," "]
[null," "," "," "]
[null," "," "," "]
[null," "," "," "]
[null," "," "," "]
[null," "," "," "]
[null," "," "," "]
[null," "," "," "]
[null," "," "," "]
[null," "," "," "]
[null," "," "," "]
[null," "," "," "]
[null," "," "," "]
[null," "," "," "]
[null," "," "," "]
[null," "," "," "]
[null," "," "," "]
[null," "," "," "]
[null," "," "," "]
[null," "," "," "]
[null," "," "," "]
[null," "," "," "]
[null," "," "," "]
[null," "," "," "]
[null," "," "," "]
[null," "," "," "]
[null," "," "," "]
[null," "," "," "]
[null," "," "," "]
[null," "," "," "]
[null," "," "," "]
[null," "," "," "]
[null," "," "," "]
[null," "," "," "]
[null," "," "," "]
[null," "," "," "]
[null," "," "," "]
[null," "," "," "]
[null," "," "," "]
[null," "," "," "]
[null," "," "," "]
[null," "," "," "]
[null," "," "," "]
[null," "," "," "]
[null," "," "," "]
[null," "," "," "]
[null," "," "," "]
[null," "," "," "]
[null," "," "," "]
[null," "," "," "]
[null," "," "," "]
[null," "," "," "]
[null," "," "," "]
[null," "," "," "]
[null," "," "," "]
[null," "," "," "]
[null," "," "," "]
[null," "," "," "]
[null," "," "," "]
[null," "," "," "]
[null," "," "," "]
[null," "," "," "]
[null," "," "," "]
[null," "," "," "]
[null," "," "," "]
[null," "," "," "]
[null," "," "," "]
[null," "," "," "]
[null," "," "," "]
[null," "," "," "]
[null," "," "," "]
[null," "," "," "]
[null," "," "," "]
[null," "," "," "]
[null," "," "," "]
[null," "," "," "]
[null," "," "," "]
[null," "," "," "]
[null," "," "," "]
[null," "," "," "]
[null," "," "," "]
[null," "," "," "]
[null," "," "," "]
[null," "," "," "]
[null," "," "," "]
[null," "," "," "]
[null," "," "," "]
[null," "," "," "]
[null," "," "," "]
[null," "," "," "]
[null," "," "," "]
[null," "," "," "]
[null," "," "," "]
[null," "," "," "]
[null," "," "," "]
[null," "," "," "]
[null," "," "," "]
[null," "," "," "]
[null," "," "," "]
[null," "," "," "]
[null," "," "," "]
[null," "," "," "]
[null," "," "," "]
[null," "," "," "]
[null," "," "," "]
[null," "," "," "]
[null," "," "," "]
[null," "," "," "]
[null," "," "," "]
[null," "," "," "]
[null," "," "," "]
[null," "," "," "]
[null," "," "," "]
[null," "," "," "]
[null," "," "," "]
[null," "," "," "]
[null," "," "," "]
[null," "," "," "]
[null," "," "," "]
[null," "," "," "]
[null," "," "," "]
[null," "," "," "]
[null," "," "," "]
[null," "," "," "]
[null," "," "," "]
[null," "," "," "]
[null," "," "," "]
[null," "," "," "]
[null," "," "," "]
[null," "," "," "]
[null," "," "," "]
[null," "," "," "]
[null," "," "," "]
[null," "," "," "]
[null," "," "," "]
[null," "," "," "]
[null," "," "," "]
[null," "," "," "]
[null," "," "," "]
[null," "," "," "]
[null," "," "," "]
[null," "," "," "]
[null," "," "," "]
[null," "," "," "]
[null," "," "," "]
[null," "," "," "]
[null," "," "," "]
[null," "," "," "]
[null," "," "," "]
[null," "," "," "]
[null," "," "," "]
[null," "," "," "]
[null," "," "," "]
[null," "," "," "]
[null," "," "," "]
[null," "," "," "]
[null," "," "," "]
[null," "," "," "]
[null," "," "," "]
[null," "," "," "]
[null," "," "," "]
[null," "," "," "]
[null," "," "," "]
[null," "," "," "]
[null," "," "," "]
[null," "," "," "]
[null," "," "," "]
[null," "," "," "]
[null," "," "," "]
[null," "," "," "]
[null," "," "," "]
[null," "," "," "]
[null," "," "," "]
[null," "," "," "]
[null," "," "," "]
[null," "," "," "]
[null," "," "," "]
[null," "," "," "]
[null," "," "," "]
[null," "," "," "]
[null," "," "," "]
[null," "," "," "]
[null," "," "," "]
[null," "," "," "]
[null," "," "," "]
[null," "," "," "]
[null," "," "," "]
[null," "," "," "]
[null," "," "," "]
[null," "," "," "]
[null," "," "," "]
[null," "," "," "]
[null," "," "," "]
[null," "," "," "]
[null," "," "," "]
[null," "," "," "]
[null," "," "," "]
[null," "," "," "]
[null," "," "," "]
[null," "," "," "]
[null," "," "," "]
[null," "," "," "]
[null," "," "," "]
[null," "," "," "]
[null," "," "," "]
[null," "," "," "]
[null," "," "," "]
[null," "," "," "]
[null," "," "," "]
[null," "," "," "]
[null," "," "," "]
[null," "," "," "]
[null," "," "," "]
[null," "," "," "]
[null," "," "," "]
[null," "," "," "]
[null," "," "," "]
[null," "," "," "]
[null," "," "," "]
[null," "," "," "]
[null," "," "," "]
[null," "," "," "]
[null," "," "," "]
[null," "," "," "]
[null," "," "," "]
[null," "," "," "]
[null," "," "," "]
[null," "," "," "]
[null," "," "," "]
[null," "," "," "]
[null," "," "," "]
[null," "," "," "]
[null," "," "," "]
[null," "," "," "]
[null," "," "," "]
[null," "," "," "]
[null," "," "," "]
[null," "," "," "]
[null," "," "," "]
[null," "," "," "]
[null," "," "," "]
[null," "," "," "]
[null," "," "," "]
[null," "," "," "]
[null," "," "," "]
[null," "," "," "]
[null," "," "," "]
[null," "," "," "]
[null," "," "," "]
[null," "," "," "]
[null," "," "," "]
[null," "," "," "]
[null," "," "," "]
[null," "," "," "]
[null," "," "," "]
[null," "," "," "]
[null," "," "," "]
[null," "," "," "]
[null," "," "," "]
[null," "," "," "]
[null," "," "," "]
[null," "," "," "]
[null," "," "," "]
[null," "," "," "]
[null," "," "," "]
[null," "," "," "]
[null," "," "," "]
[null," "," "," "]
[null," "," "," "]
[null," "," "," "]
[null," "," "," "]
[null," "," "," "]
[null," "," "," "]
[null," "," "," "]
[null," "," "," "]
[null," "," "," "]
[null," "," "," "]
[null," "," "," "]
[null," "," "," "]
[null," "," "," "]
[null," "," "," "]
[null," "," "," "]
[null," "," "," "]
[null," "," "," "]
[null," "," "," "]
[null," "," "," "]
[null," "," "," "]
[null," "," "," "]
[null," "," "," "]
[null," "," "," "]
[null," "," "," "]
[null," "," "," "]
[null," "," "," "]
[null," "," "," "]
[null," "," "," "]
[null," "," "," "]
[null," "," "," "]
[null," "," "," "]
[null," "," "," "]
[null," "," "," "]
[null," "," "," "]
[null," "," "," "]
[null," "," "," "]
[null," "," "," "]
[null," "," "," "]
[null," "," "," "]
[null," "," "," "]
[null," "," "," "]
[null," "," "," "]
[null," "," "," "]
[null," "," "," "]
[null," "," "," "]
[null," "," "," "]
[null," "," "," "]
[null," "," "," "]
[null," "," "," "]
[null," "," "," "]
[null," "," "," "]
[null," "," "," "]
[null," "," "," "]
[null," "," "," "]
[null," "," "," "]
[null," "," "," "]
[null," "," "," "]
[null," "," "," "]
[null," "," "," "]
[null," "," "," "]
[null," "," "," "]
[null," "," "," "]
[null," "," "," "]
[null," "," "," "]
[null," "," "," "]
[null," "," "," "]
[null," "," "," "]
[null," "," "," "]
[null," "," "," "]
[null," "," "," "]
[null," "," "," "]
[null," "," "," "]
[null," "," "," "]
[null," "," "," "]
[null," "," "," "]
[null," "," "," "]
[null," "," "," "]
[null," "," "," "]
[null," "," "," "]
[null," "," "," "]
[null," "," "," "]
[null," "," "," "]
[null," "," "," "]
[null," "," "," "]
[null," "," "," "]
[null," "," "," "]
[null," "," "," "]
[null," "," "," "]
[null," "," "," "]
[null," "," "," "]
[null," "," "," "]
[null," "," "," "]
[null," "," "," "]
[null," "," "," "]
[null," "," "," "]
[null," "," "," "]
[null," "," "," "]
[null," "," "," "]
[null," "," "," "]
[null," "," "," "]
[null," "," "," "]
[null," "," "," "]
[null," "," "," "]
[null," "," "," "]
[null," "," "," "]
[null," "," "," "]
[null," "," "," "]
[null," "," "," "]
[null," "," "," "]
[null," "," "," "]
[null," "," "," "]
[null," "," "," "]
[null," "," "," "]
[null," "," "," "]
[null," "," "," "]
[null," "," "," "]
[null," "," "," "]
[null," "," "," "]
[null," "," "," "]
[null," "," "," "]
[null," "," "," "]
[null," "," "," "]
[null," "," "," "]
[null," "," "," "]
[null," "," "," "]
[null," "," "," "]
[null," "," "," "]
[null," "," "," "]
[null," "," "," "]
[null," "," "," "]
[null," "," "," "]
[null," "," "," "]
[null," "," "," "]
[null," "," "," "]
[null," "," "," "]
[null," "," "," "]
[null," "," "," "]
[null," "," "," "]
[null," "," "," "]
[null," "," "," "]
[null," "," "," "]
[null," "," "," "]
[null," "," "," "]
[null," "," "," "]
[null," "," "," "]
[null," "," "," "]
[null," "," "," "]
[null," "," "," "]
[null," "," "," "]
[null," "," "," "]
[null," "," "," "]
[null," "," "," "]
[null," "," "," "]
[null," "," "," "]
[null," "," "," "]
[null," "," "," "]
[null," "," "," "]
[null," "," "," "]
[null," "," "," "]
[null," "," "," "]
[null," "," "," "]
[null," "," "," "]
[null," "," "," "]
[null," "," "," "]
[null," "," "," "]
[null," "," "," "]
[null," "," "," "]
[null," "," "," "]
[null," "," "," "]
[null," "," "," "]
[null," "," "," "]
[null," "," "," "]
[null," "," "," "]
[null," "," "," "]
[null," "," "," "]
[null," "," "," "]
[null," "," "," "]
[null," "," "," "]
[null," "," "," "]
[null," "," "," "]
[null," "," "," "]
[null," "," "," "]
[null," "," "," "]
[null," "," "," "]
[null," "," "," "]
[null," "," "," "]
[null," "," "," "]
[null," "," "," "]
[null," "," "," "]
[null," "," "," "]
[null," "," "," "]
[null," "," "," "]
[null," "," "," "]
[null," "," "," "]
[null," "," "," "]
[null," "," "," "]
[null," "," "," "]
[null," "," "," "]
[null," "," "," "]
[null," "," "," "]
[null," "," "," "]
[null," "," "," "]
[null," "," "," "]
[null," "," "," "]
[null," "," "," "]
[null," "," "," "]
[null," "," "," "]
[null," "," "," "]
[null," "," "," "]
[null," "," "," "]
[null," "," "," "]
[null," "," "," "]
[null," "," "," "]
[null," "," "," "]
[null," "," "," "]
[null," "," "," "]
[null," "," "," "]
[null," "," "," "]
[null," "," "," "]
[null," "," "," "]
[null," "," "," "]
[null," "," "," "]
[null," "," "," "]
[null," "," "," "]
[null," "," "," "]
[null," "," "," "]
[null," "," "," "]
[null," "," "," "]
[null," "," "," "]
[null," "," "," "]
[null," "," "," "]
[null," "," "," "]
[null," "," "," "]
[null," "," "," "]
[null," "," "," "]
[null," "," "," "]
[null," "," "," "]
[null," "," "," "]
[null," "," "," "]
[null," "," "," "]
[null," "," "," "]
[null," "," "," "]
[null," "," "," "]
[null," "," "," "]
[null," "," "," "]
[null," "," "," "]
[null," "," "," "]
[null," "," "," "]
[null," "," "," "]
[null," "," "," "]
[null," "," "," "]
[null," "," "," "]
[null," "," "," "]
[null," "," "," "]
[null," "," "," "]
[null," "," "," "]
[null," "," "," "]
[null," "," "," "]
[null," "," "," "]
[null," "," "," "]
[null," "," "," "]
[null," "," "," "]
[null," "," "," "]
[null," "," "," "]
[null," "," "," "]
[null," "," "," "]
[null," "," "," "]
[null," "," "," "]
[null," "," "," "]
[null," "," "," "]
[null," "," "," "]
[null," "," "," "]
[null," "," "," "]
[null," "," "," "]
[null," "," "," "]
[null," "," "," "]
[null," "," "," "]
[null," "," "," "]
[null," "," "," "]
[null," "," "," "]
[null," "," "," "]
[null," "," "," "]
[null," "," "," "]
[null," "," "," "]
[null," "," "," "]
[null," "," "," "]
[null," "," "," "]
[null," "," "," "]
[null," "," "," "]
[null," "," "," "]
[null," "," "," "]
[null," "," "," "]
[null," "," "," "]
[null," "," "," "]
[null," "," "," "]
[null," "," "," "]
[null," "," "," "]
[null," "," "," "]
[null," "," "," "]
[null," "," "," "]
[null," "," "," "]
[null," "," "," "]
[null," "," "," "]
[null," "," "," "]
[null," "," "," "]
[null," "," "," "]
[null," "," "," "]
[null," "," "," "]
[null," "," "," "]
[null," "," "," "]
[null," "," "," "]
[null," "," "," "]
[null," "," "," "]
[null," "," "," "]
[null," "," "," "]
[null," "," "," "]
[null," "," "," "]
[null," "," "," "]
[null," "," "," "]
[null," "," "," "]
[null," "," "," "]
[null," "," "," "]
[null," "," "," "]
[null," "," "," "]
[null," "," "," "]
[null," "," "," "]
[null," "," "," "]
[null," "," "," "]
[null," "," "," "]
[null," "," "," "]
[null," "," "," "]
[null," "," "," "]
[null," "," "," "]
[null," "," "," "]
[null," "," "," "]
[null," "," "," "]
[null," "," "," "]
[null," "," "," "]
[null," "," "," "]
[null," "," "," "]
[null," "," "," "]
[null," "," "," "]
[null," "," "," "]
[null," "," "," "]
[null," "," "," "]
[null," "," "," "]
[null," "," "," "]
[null," "," "," "]
[null," "," "," "]
[null," "," "," "]
[null," "," "," "]
[null," "," "," "]
[null," "," "," "]
[null," "," "," "]
[null," "," "," "]
[null," "," "," "]
[null," "," "," "]
[null," "," "," "]
[null," "," "," "]
[null," "," "," "]
[null," "," "," "]
[null," "," "," "]
[null," "," "," "]
[null," "," "," "]
[null," "," "," "]
[null," "," "," "]
[null," "," "," "]
[null," "," "," "]
[null," "," "," "]
[null," "," "," "]
[null," "," "," "]
[null," "," "," "]
[null," "," "," "]
[null," "," "," "]
[null," "," "," "]
[null," "," "," "]
[null," "," "," "]
[null," "," "," "]
[null," "," "," "]
[null," "," "," "]
[null," "," "," "]
[null," "," "," "]
[null," "," "," "]
[null," "," "," "]
[null," "," "," "]
[null," "," "," "]
[null," "," "," "]
[null," "," "," "]
[null," "," "," "]
[null," "," "," "]
[null," "," "," "]
[null," "," "," "]
[null," "," "," "]
[null," "," "," "]
[null," "," "," "]
[null," "," "," "]
[null," "," "," "]
[null," "," "," "]
[null," "," "," "]
[null," "," "," "]
[null," "," "," "]
[null," "," "," "]
[null," "," "," "]
[null," "," "," "]
[null," "," "," "]
[null," "," "," "]
[null," "," "," "]
[null," "," "," "]
[null," "," "," "]
[null," "," "," "]
[null," "," "," "]
[null," "," "," "]
[null," "," "," "]
[null," "," "," "]
[null," "," "," "]
[null," "," "," "]
[null," "," "," "]
[null," "," "," "]
[null," "," "," "]
[null," "," "," "]
[null," "," "," "]
[null," "," "," "]
[null," "," "," "]
[null," "," "," "]
[null," "," "," "]
[null," "," "," "]
[null," "," "," "]
[null," "," "," "]
[null," "," "," "]
[null," "," "," "]
[null," "," "," "]
[null," "," "," "]
[null," "," "," "]
[null," "," "," "]
[null," "," "," "]
[null," "," "," "]
[null," "," "," "]
[null," "," "," "]
[null," "," "," "]
[null," "," "," "]
[null," "," "," "]
[null," "," "," "]
[null," "," "," "]
[null," "," "," "]
[null," "," "," "]
[null," "," "," "]
[null," "," "," "]
[null," "," "," "]
[null," "," "," "]
[null," "," "," "]
[null," "," "," "]
[null," "," "," "]
[null," "," "," "]
[null," "," "," "]
[null," "," "," "]
[null," "," "," "]
[null," "," "," "]
[null," "," "," "]
[null," "," "," "]
[null," "," "," "]
[null," "," "," "]
[null," "," "," "]
[null," "," "," "]
[null," "," "," "]
[null," "," "," "]
[null," "," "," "]
[null," "," "," "]
[null," "," "," "]
[null," "," "," "]
[null," "," "," "]
[null," "," "," "]
[null," "," "," "]
[null," "," "," "]
[null," "," "," "]
[null," "," "," "]
[null," "," "," "]
[null," "," "," "]
[null," "," "," "]
[null," "," "," "]
[null," "," "," "]
[null," "," "," "]
[null," "," "," "]
[null," "," "," "]
[null," "," "," "]
[null," "," "," "]
[null," "," "," "]
[null," "," "," "]
[null," "," "," "]
[null," "," "," "]
[null," "," "," "]
[null," "," "," "]
[null," "," "," "]
[null," "," "," "]
[null," "," "," "]
[null," "," "," "]
[null," "," "," "]
[null," "," "," "]
[null," "," "," "]
[null," "," "," "]
[null," "," "," "]
[null," "," "," "]
[null," "," "," "]
[null," "," "," "]
[null," "," "," "]
[null," "," "," "]
[null," "," "," "]
[null," "," "," "]
[null," "," "," "]
[null," "," "," "]
[null," "," "," "]
[null," "," "," "]
[null," "," "," "]
[null," "," "," "]
[null," "," "," "]
[null," "," "," "]
[null," "," "," "]
[null," "," "," "]
[null," "," "," "]
[null," "," "," "]
[null," "," "," "]
[null," "," "," "]
[null," "," "," "]
[null," "," "," "]
[null," "," "," "]
[null," "," "," "]
[null," "," "," "]
[null," "," "," "]
[null," "," "," "]
[null," "," "," "]
[null," "," "," "]
[null," "," "," "]
[null," "," "," "]
[null," "," "," "]
[null," "," "," "]
[null," "," "," "]
[null," "," "," "]
[null," "," "," "]
[null," "," "," "]
[null," "," "," "]
[null," "," "," "]
[null," "," "," "]
[null," "," "," "]
[null," "," "," "]
[null," "," "," "]
[null," "," "," "]
[null," "," "," "]
[null," "," "," "]
[null," "," "," "]
[null," "," "," "]
[null," "," "," "]
[null," "," "," "]
[null," "," "," "]
[null," "," "," "]
[null," "," "," "]
[null," "," "," "]
[null," "," "," "]
[null," "," "," "]
[null," "," "," "]
[null," "," "," "]
[null," "," "," "]
[null," "," "," "]
[null," "," "," "]
[null," "," "," "]
[null," "," "," "]
[null," "," "," "]
[null," "," "," "]
[null," "," "," "]
[null," "," "," "]
[null," "," "," "]
[null," "," "," "]
[null," "," "," "]
[null," "," "," "]
[null," "," "," "]
[null," "," "," "]
[null," "," "," "]
[null," "," "," "]
[null," "," "," "]
[null," "," "," "]
[null," "," "," "]

{"sheet":"Qual_Team_Standings_Men_Var","index":5,"n_rows":89,"n_cols":54,"rows_kept":89,"cut":false,"hidden":false,"merged":[[0,0,0,17]]}
["Qualifying Team Standings",{"$nulls":50},"A12:AF42"]
[{"$nulls":51},"A12:A42"]
[null,"Mid States Championships (Tier I Men)",null,"10/15/2022 - 10/16/2022",{"$nulls":47},"Individual_Scores_Men_Var"]
[null,"Tier 1","USBC","Wichita, KS",{"$nulls":49},"IBCYouth"]
[]
[]
[]
[null,"Men's Division",null,null,"Cert. No: 05700"]
[]
[null,null,null,"Team","Team","Team","Team","Team","Team","Team","Baker","Baker","Baker","Baker","Baker","Baker","Baker","Baker","Baker","Baker","Baker","Baker","Baker","Baker","Baker","Baker","Baker","Baker","Baker","Baker","Baker","Overall"]
["Rank","Team","State",1.0,2.0,3.0,4.0,5.0,6.0,"Total",1.0,2.0,3.0,4.0,5.0,6.0,7.0,8.0,9.0,10.0,11.0,12.0,13.0,14.0,15.0,16.0,17.0,18.0,19.0,20.0,"Total","Total"]
[{"$f":"RANK(AF12,$AF$12:$AF$43)","v":1},"Wichita State University V",null,{"$f":"Individual_Scores_Men_Var!G387","v":1015},{"$f":"Individual_Scores_Men_Var!H387","v":1124},{"$f":"Individual_Scores_Men_Var!I387","v":1066},{"$f":"Individual_Scores_Men_Var!J387","v":1222},{"$f":"Individual_Scores_Men_Var!K387","v":1051},{"$f":"Individual_Scores_Men_Var!L387","v":1236},{"$f":"SUM(D12:I12)","v":6714},{"$f":"Baker_Scores_Men_Var!H376","v":227},{"$f":"Baker_Scores_Men_Var!I376","v":237},{"$f":"Baker_Scores_Men_Var!J376","v":290},{"$f":"Baker_Scores_Men_Var!K376","v":195},{"$f":"Baker_Scores_Men_Var!L376","v":205},{"$f":"Baker_Scores_Men_Var!M376","v":237},{"$f":"Baker_Scores_Men_Var!N376","v":219},{"$f":"Baker_Scores_Men_Var!O376","v":239},{"$f":"Baker_Scores_Men_Var!P376","v":248},{"$f":"Baker_Scores_Men_Var!Q376","v":245},{"$f":"Baker_Scores_Men_Var!R376","v":228},{"$f":"Baker_Scores_Men_Var!S376","v":202},{"$f":"Baker_Scores_Men_Var!T376","v":189},{"$f":"Baker_Scores_Men_Var!U376","v":213},{"$f":"Baker_Scores_Men_Var!V376","v":204},{"$f":"Baker_Scores_Men_Var!W376","v":246},{"$f":"Baker_Scores_Men_Var!X376","v":228},{"$f":"Baker_Scores_Men_Var!Y376","v":236},{"$f":"Baker_Scores_Men_Var!Z376","v":226},{"$f":"Baker_Scores_Men_Var!AA376","v":222},{"$f":"SUM(K12:AD12)","v":4536},{"$f":"J12+AE12","v":11250}]
[{"$f":"RANK(AF13,$AF$12:$AF$43)","v":2},"St. Ambrose University V",null,{"$f":"Individual_Scores_Men_Var!G335","v":888},{"$f":"Individual_Scores_Men_Var!H335","v":1084},{"$f":"Individual_Scores_Men_Var!I335","v":1054},{"$f":"Individual_Scores_Men_Var!J335","v":1108},{"$f":"Individual_Scores_Men_Var!K335","v":1043},{"$f":"Individual_Scores_Men_Var!L335","v":1002},6179,{"$f":"Baker_Scores_Men_Var!H324","v":184},{"$f":"Baker_Scores_Men_Var!I324","v":221},{"$f":"Baker_Scores_Men_Var!J324","v":212},{"$f":"Baker_Scores_Men_Var!K324","v":198},{"$f":"Baker_Scores_Men_Var!L324","v":237},{"$f":"Baker_Scores_Men_Var!M324","v":246},{"$f":"Baker_Scores_Men_Var!N324","v":216},{"$f":"Baker_Scores_Men_Var!O324","v":177},{"$f":"Baker_Scores_Men_Var!P324","v":257},{"$f":"Baker_Scores_Men_Var!Q324","v":254},{"$f":"Baker_Scores_Men_Var!R324","v":203},{"$f":"Baker_Scores_Men_Var!S324","v":258},{"$f":"Baker_Scores_Men_Var!T324","v":229},{"$f":"Baker_Scores_Men_Var!U324","v":193},{"$f":"Baker_Scores_Men_Var!V324","v":193},{"$f":"Baker_Scores_Men_Var!W324","v":259},{"$f":"Baker_Scores_Men_Var!X324","v":237},{"$f":"Baker_Scores_Men_Var!Y324","v":235},{"$f":"Baker_Scores_Men_Var!Z324","v":244},{"$f":"Baker_Scores_Men_Var!AA324","v":249},4502,10681]
[{"$f":"RANK(AF14,$AF$12:$AF$43)","v":3},"Newman University V",null,{"$f":"Individual_Scores_Men_Var!G257","v":1124},{"$f":"Individual_Scores_Men_Var!H257","v":1007},{"$f":"Individual_Scores_Men_Var!I257","v":1106},{"$f":"Individual_Scores_Men_Var!J257","v":1059},{"$f":"Individual_Scores_Men_Var!K257","v":1120},{"$f":"Individual_Scores_Men_Var!L257","v":1055},6471,{"$f":"Baker_Scores_Men_Var!H246","v":231},{"$f":"Baker_Scores_Men_Var!I246","v":204},{"$f":"Baker_Scores_Men_Var!J246","v":166},{"$f":"Baker_Scores_Men_Var!K246","v":280},{"$f":"Baker_Scores_Men_Var!L246","v":225},{"$f":"Baker_Scores_Men_Var!M246","v":249},{"$f":"Baker_Scores_Men_Var!N246","v":180},{"$f":"Baker_Scores_Men_Var!O246","v":244},{"$f":"Baker_Scores_Men_Var!P246","v":202},{"$f":"Baker_Scores_Men_Var!Q246","v":192},{"$f":"Baker_Scores_Men_Var!R246","v":215},{"$f":"Baker_Scores_Men_Var!S246","v":206},{"$f":"Baker_Scores_Men_Var!T246","v":200},{"$f":"Baker_Scores_Men_Var!U246","v":223},{"$f":"Baker_Scores_Men_Var!V246","v":157},{"$f":"Baker_Scores_Men_Var!W246","v":215},{"$f":"Baker_Scores_Men_Var!X246","v":168},{"$f":"Baker_Scores_Men_Var!Y246","v":203},{"$f":"Baker_Scores_Men_Var!Z246","v":174},{"$f":"Baker_Scores_Men_Var!AA246","v":220},4154,10625]
[{"$f":"RANK(AF15,$AF$12:$AF$43)","v":4},"Oklahoma Christian University V",null,{"$f":"Individual_Scores_Men_Var!G270","v":1043},{"$f":"Individual_Scores_Men_Var!H270","v":1081},{"$f":"Individual_Scores_Men_Var!I270","v":1171},{"$f":"Individual_Scores_Men_Var!J270","v":1003},{"$f":"Individual_Scores_Men_Var!K270","v":995},{"$f":"Individual_Scores_Men_Var!L270","v":1056},6349,{"$f":"Baker_Scores_Men_Var!H259","v":181},{"$f":"Baker_Scores_Men_Var!I259","v":200},{"$f":"Baker_Scores_Men_Var!J259","v":278},{"$f":"Baker_Scores_Men_Var!K259","v":223},{"$f":"Baker_Scores_Men_Var!L259","v":191},{"$f":"Baker_Scores_Men_Var!M259","v":160},{"$f":"Baker_Scores_Men_Var!N259","v":227},{"$f":"Baker_Scores_Men_Var!O259","v":254},{"$f":"Baker_Scores_Men_Var!P259","v":196},{"$f":"Baker_Scores_Men_Var!Q259","v":160},{"$f":"Baker_Scores_Men_Var!R259","v":186},{"$f":"Baker_Scores_Men_Var!S259","v":232},{"$f":"Baker_Scores_Men_Var!T259","v":171},{"$f":"Baker_Scores_Men_Var!U259","v":246},{"$f":"Baker_Scores_Men_Var!V259","v":231},{"$f":"Baker_Scores_Men_Var!W259","v":243},{"$f":"Baker_Scores_Men_Var!X259","v":214},{"$f":"Baker_Scores_Men_Var!Y259","v":225},{"$f":"Baker_Scores_Men_Var!Z259","v":200},{"$f":"Baker_Scores_Men_Var!AA259","v":188},4206,10555]
[{"$f":"RANK(AF16,$AF$12:$AF$43)","v":5},"Hastings College V",null,{"$f":"Individual_Scores_Men_Var!G127","v":937},{"$f":"Individual_Scores_Men_Var!H127","v":1076},{"$f":"Individual_Scores_Men_Var!I127","v":1082},{"$f":"Individual_Scores_Men_Var!J127","v":1116},{"$f":"Individual_Scores_Men_Var!K127","v":1045},{"$f":"Individual_Scores_Men_Var!L127","v":1034},6290,{"$f":"Baker_Scores_Men_Var!H116","v":177},{"$f":"Baker_Scores_Men_Var!I116","v":157},{"$f":"Baker_Scores_Men_Var!J116","v":204},{"$f":"Baker_Scores_Men_Var!K116","v":175},{"$f":"Baker_Scores_Men_Var!L116","v":208},{"$f":"Baker_Scores_Men_Var!M116","v":195},{"$f":"Baker_Scores_Men_Var!N116","v":180},{"$f":"Baker_Scores_Men_Var!O116","v":187},{"$f":"Baker_Scores_Men_Var!P116","v":216},{"$f":"Baker_Scores_Men_Var!Q116","v":203},{"$f":"Baker_Scores_Men_Var!R116","v":178},{"$f":"Baker_Scores_Men_Var!S116","v":278},{"$f":"Baker_Scores_Men_Var!T116","v":235},{"$f":"Baker_Scores_Men_Var!U116","v":247},{"$f":"Baker_Scores_Men_Var!V116","v":269},{"$f":"Baker_Scores_Men_Var!W116","v":202},{"$f":"Baker_Scores_Men_Var!X116","v":214},{"$f":"Baker_Scores_Men_Var!Y116","v":216},{"$f":"Baker_Scores_Men_Var!Z116","v":202},{"$f":"Baker_Scores_Men_Var!AA116","v":237},4180,10470]
[{"$f":"RANK(AF17,$AF$12:$AF$43)","v":6},"Mount Mercy University V",null,{"$f":"Individual_Scores_Men_Var!G231","v":892},{"$f":"Individual_Scores_Men_Var!H231","v":1006},{"$f":"Individual_Scores_Men_Var!I231","v":1113},{"$f":"Individual_Scores_Men_Var!J231","v":1048},{"$f":"Individual_Scores_Men_Var!K231","v":965},{"$f":"Individual_Scores_Men_Var!L231","v":1165},6189,{"$f":"Baker_Scores_Men_Var!H220","v":184},{"$f":"Baker_Scores_Men_Var!I220","v":167},{"$f":"Baker_Scores_Men_Var!J220","v":219},{"$f":"Baker_Scores_Men_Var!K220","v":193},{"$f":"Baker_Scores_Men_Var!L220","v":204},{"$f":"Baker_Scores_Men_Var!M220","v":227},{"$f":"Baker_Scores_Men_Var!N220","v":203},{"$f":"Baker_Scores_Men_Var!O220","v":235},{"$f":"Baker_Scores_Men_Var!P220","v":180},{"$f":"Baker_Scores_Men_Var!Q220","v":211},{"$f":"Baker_Scores_Men_Var!R220","v":196},{"$f":"Baker_Scores_Men_Var!S220","v":179},{"$f":"Baker_Scores_Men_Var!T220","v":219},{"$f":"Baker_Scores_Men_Var!U220","v":164},{"$f":"Baker_Scores_Men_Var!V220","v":236},{"$f":"Baker_Scores_Men_Var!W220","v":253},{"$f":"Baker_Scores_Men_Var!X220","v":192},{"$f":"Baker_Scores_Men_Var!Y220","v":221},{"$f":"Baker_Scores_Men_Var!Z220","v":258},{"$f":"Baker_Scores_Men_Var!AA220","v":205},4146,10335]
[{"$f":"RANK(AF18,$AF$12:$AF$43)","v":7},"Iowa Western Community College V",null,{"$f":"Individual_Scores_Men_Var!G153","v":1035},{"$f":"Individual_Scores_Men_Var!H153","v":1040},{"$f":"Individual_Scores_Men_Var!I153","v":1051},{"$f":"Individual_Scores_Men_Var!J153","v":1143},{"$f":"Individual_Scores_Men_Var!K153","v":1046},{"$f":"Individual_Scores_Men_Var!L153","v":924},6239,{"$f":"Baker_Scores_Men_Var!H142","v":159},{"$f":"Baker_Scores_Men_Var!I142","v":222},{"$f":"Baker_Scores_Men_Var!J142","v":143},{"$f":"Baker_Scores_Men_Var!K142","v":185},{"$f":"Baker_Scores_Men_Var!L142","v":189},{"$f":"Baker_Scores_Men_Var!M142","v":179},{"$f":"Baker_Scores_Men_Var!N142","v":184},{"$f":"Baker_Scores_Men_Var!O142","v":180},{"$f":"Baker_Scores_Men_Var!P142","v":175},{"$f":"Baker_Scores_Men_Var!Q142","v":277},{"$f":"Baker_Scores_Men_Var!R142","v":170},{"$f":"Baker_Scores_Men_Var!S142","v":179},{"$f":"Baker_Scores_Men_Var!T142","v":179},{"$f":"Baker_Scores_Men_Var!U142","v":240},{"$f":"Baker_Scores_Men_Var!V142","v":141},{"$f":"Baker_Scores_Men_Var!W142","v":182},{"$f":"Baker_Scores_Men_Var!X142","v":254},{"$f":"Baker_Scores_Men_Var!Y142","v":237},{"$f":"Baker_Scores_Men_Var!Z142","v":202},{"$f":"Baker_Scores_Men_Var!AA142","v":145},3822,10061]
[{"$f":"RANK(AF19,$AF$12:$AF$43)","v":8},"Ottawa University (KS) V",null,{"$f":"Individual_Scores_Men_Var!G296","v":1032},{"$f":"Individual_Scores_Men_Var!H296","v":890},{"$f":"Individual_Scores_Men_Var!I296","v":1096},{"$f":"Individual_Scores_Men_Var!J296","v":997},{"$f":"Individual_Scores_Men_Var!K296","v":1013},{"$f":"Individual_Scores_Men_Var!L296","v":988},6016,{"$f":"Baker_Scores_Men_Var!H285","v":153},{"$f":"Baker_Scores_Men_Var!I285","v":232},{"$f":"Baker_Scores_Men_Var!J285","v":246},{"$f":"Baker_Scores_Men_Var!K285","v":200},{"$f":"Baker_Scores_Men_Var!L285","v":210},{"$f":"Baker_Scores_Men_Var!M285","v":174},{"$f":"Baker_Scores_Men_Var!N285","v":161},{"$f":"Baker_Scores_Men_Var!O285","v":212},{"$f":"Baker_Scores_Men_Var!P285","v":178},{"$f":"Baker_Scores_Men_Var!Q285","v":195},{"$f":"Baker_Scores_Men_Var!R285","v":222},{"$f":"Baker_Scores_Men_Var!S285","v":210},{"$f":"Baker_Scores_Men_Var!T285","v":183},{"$f":"Baker_Scores_Men_Var!U285","v":222},{"$f":"Baker_Scores_Men_Var!V285","v":214},{"$f":"Baker_Scores_Men_Var!W285","v":204},{"$f":"Baker_Scores_Men_Var!X285","v":206},{"$f":"Baker_Scores_Men_Var!Y285","v":194},{"$f":"Baker_Scores_Men_Var!Z285","v":178},{"$f":"Baker_Scores_Men_Var!AA285","v":234},4028,10044]
[{"$f":"RANK(AF20,$AF$12:$AF$43)","v":9},"Lindenwood University V",null,{"$f":"Individual_Scores_Men_Var!G205","v":905},{"$f":"Individual_Scores_Men_Var!H205","v":996},{"$f":"Individual_Scores_Men_Var!I205","v":1011},{"$f":"Individual_Scores_Men_Var!J205","v":1046},{"$f":"Individual_Scores_Men_Var!K205","v":1002},{"$f":"Individual_Scores_Men_Var!L205","v":1085},6045,{"$f":"Baker_Scores_Men_Var!H194","v":174},{"$f":"Baker_Scores_Men_Var!I194","v":159},{"$f":"Baker_Scores_Men_Var!J194","v":171},{"$f":"Baker_Scores_Men_Var!K194","v":195},{"$f":"Baker_Scores_Men_Var!L194","v":173},{"$f":"Baker_Scores_Men_Var!M194","v":235},{"$f":"Baker_Scores_Men_Var!N194","v":190},{"$f":"Baker_Scores_Men_Var!O194","v":169},{"$f":"Baker_Scores_Men_Var!P194","v":213},{"$f":"Baker_Scores_Men_Var!Q194","v":219},{"$f":"Baker_Scores_Men_Var!R194","v":214},{"$f":"Baker_Scores_Men_Var!S194","v":222},{"$f":"Baker_Scores_Men_Var!T194","v":154},{"$f":"Baker_Scores_Men_Var!U194","v":169},{"$f":"Baker_Scores_Men_Var!V194","v":212},{"$f":"Baker_Scores_Men_Var!W194","v":191},{"$f":"Baker_Scores_Men_Var!X194","v":210},{"$f":"Baker_Scores_Men_Var!Y194","v":189},{"$f":"Baker_Scores_Men_Var!Z194","v":204},{"$f":"Baker_Scores_Men_Var!AA194","v":266},3929,9974]
[{"$f":"RANK(AF21,$AF$12:$AF$43)","v":10},"Coe College V",null,{"$f":"Individual_Scores_Men_Var!G62","v":933},{"$f":"Individual_Scores_Men_Var!H62","v":1062},{"$f":"Individual_Scores_Men_Var!I62","v":936},{"$f":"Individual_Scores_Men_Var!J62","v":920},{"$f":"Individual_Scores_Men_Var!K62","v":914},{"$f":"Individual_Scores_Men_Var!L62","v":928},5693,{"$f":"Baker_Scores_Men_Var!H51","v":238},{"$f":"Baker_Scores_Men_Var!I51","v":141},{"$f":"Baker_Scores_Men_Var!J51","v":160},{"$f":"Baker_Scores_Men_Var!K51","v":214},{"$f":"Baker_Scores_Men_Var!L51","v":172},{"$f":"Baker_Scores_Men_Var!M51","v":193},{"$f":"Baker_Scores_Men_Var!N51","v":163},{"$f":"Baker_Scores_Men_Var!O51","v":177},{"$f":"Baker_Scores_Men_Var!P51","v":257},{"$f":"Baker_Scores_Men_Var!Q51","v":218},{"$f":"Baker_Scores_Men_Var!R51","v":255},{"$f":"Baker_Scores_Men_Var!S51","v":196},{"$f":"Baker_Scores_Men_Var!T51","v":234},{"$f":"Baker_Scores_Men_Var!U51","v":171},{"$f":"Baker_Scores_Men_Var!V51","v":190},{"$f":"Baker_Scores_Men_Var!W51","v":213},{"$f":"Baker_Scores_Men_Var!X51","v":224},{"$f":"Baker_Scores_Men_Var!Y51","v":194},{"$f":"Baker_Scores_Men_Var!Z51","v":209},{"$f":"Baker_Scores_Men_Var!AA51","v":226},4045,9738]
[{"$f":"RANK(AF22,$AF$12:$AF$43)","v":11},"Kansas Wesleyan University V",null,{"$f":"Individual_Scores_Men_Var!G192","v":903},{"$f":"Individual_Scores_Men_Var!H192","v":1067},{"$f":"Individual_Scores_Men_Var!I192","v":971},{"$f":"Individual_Scores_Men_Var!J192","v":1018},{"$f":"Individual_Scores_Men_Var!K192","v":1013},{"$f":"Individual_Scores_Men_Var!L192","v":948},5920,{"$f":"Baker_Scores_Men_Var!H181","v":167},{"$f":"Baker_Scores_Men_Var!I181","v":200},{"$f":"Baker_Scores_Men_Var!J181","v":199},{"$f":"Baker_Scores_Men_Var!K181","v":177},{"$f":"Baker_Scores_Men_Var!L181","v":182},{"$f":"Baker_Scores_Men_Var!M181","v":212},{"$f":"Baker_Scores_Men_Var!N181","v":205},{"$f":"Baker_Scores_Men_Var!O181","v":170},{"$f":"Baker_Scores_Men_Var!P181","v":181},{"$f":"Baker_Scores_Men_Var!Q181","v":152},{"$f":"Baker_Scores_Men_Var!R181","v":209},{"$f":"Baker_Scores_Men_Var!S181","v":173},{"$f":"Baker_Scores_Men_Var!T181","v":187},{"$f":"Baker_Scores_Men_Var!U181","v":189},{"$f":"Baker_Scores_Men_Var!V181","v":187},{"$f":"Baker_Scores_Men_Var!W181","v":196},{"$f":"Baker_Scores_Men_Var!X181","v":164},{"$f":"Baker_Scores_Men_Var!Y181","v":188},{"$f":"Baker_Scores_Men_Var!Z181","v":211},{"$f":"Baker_Scores_Men_Var!AA181","v":211},3760,9680]
[{"$f":"RANK(AF23,$AF$12:$AF$43)","v":12},"Iowa Central Community College V",null,{"$f":"Individual_Scores_Men_Var!G140","v":923},{"$f":"Individual_Scores_Men_Var!H140","v":910},{"$f":"Individual_Scores_Men_Var!I140","v":940},{"$f":"Individual_Scores_Men_Var!J140","v":973},{"$f":"Individual_Scores_Men_Var!K140","v":965},{"$f":"Individual_Scores_Men_Var!L140","v":995},5706,{"$f":"Baker_Scores_Men_Var!H129","v":220},{"$f":"Baker_Scores_Men_Var!I129","v":136},{"$f":"Baker_Scores_Men_Var!J129","v":175},{"$f":"Baker_Scores_Men_Var!K129","v":195},{"$f":"Baker_Scores_Men_Var!L129","v":203},{"$f":"Baker_Scores_Men_Var!M129","v":199},{"$f":"Baker_Scores_Men_Var!N129","v":150},{"$f":"Baker_Scores_Men_Var!O129","v":145},{"$f":"Baker_Scores_Men_Var!P129","v":213},{"$f":"Baker_Scores_Men_Var!Q129","v":258},{"$f":"Baker_Scores_Men_Var!R129","v":137},{"$f":"Baker_Scores_Men_Var!S129","v":210},{"$f":"Baker_Scores_Men_Var!T129","v":213},{"$f":"Baker_Scores_Men_Var!U129","v":201},{"$f":"Baker_Scores_Men_Var!V129","v":226},{"$f":"Baker_Scores_Men_Var!W129","v":224},{"$f":"Baker_Scores_Men_Var!X129","v":190},{"$f":"Baker_Scores_Men_Var!Y129","v":216},{"$f":"Baker_Scores_Men_Var!Z129","v":205},{"$f":"Baker_Scores_Men_Var!AA129","v":185},3901,9607]
[{"$f":"RANK(AF24,$AF$12:$AF$43)","v":13},"William Penn University V",null,{"$f":"Individual_Scores_Men_Var!G400","v":920},{"$f":"Individual_Scores_Men_Var!H400","v":1026},{"$f":"Individual_Scores_Men_Var!I400","v":838},{"$f":"Individual_Scores_Men_Var!J400","v":1020},{"$f":"Individual_Scores_Men_Var!K400","v":871},{"$f":"Individual_Scores_Men_Var!L400","v":1035},5710,{"$f":"Baker_Scores_Men_Var!H389","v":186},{"$f":"Baker_Scores_Men_Var!I389","v":181},{"$f":"Baker_Scores_Men_Var!J389","v":235},{"$f":"Baker_Scores_Men_Var!K389","v":211},{"$f":"Baker_Scores_Men_Var!L389","v":172},{"$f":"Baker_Scores_Men_Var!M389","v":214},{"$f":"Baker_Scores_Men_Var!N389","v":186},{"$f":"Baker_Scores_Men_Var!O389","v":176},{"$f":"Baker_Scores_Men_Var!P389","v":190},{"$f":"Baker_Scores_Men_Var!Q389","v":170},{"$f":"Baker_Scores_Men_Var!R389","v":181},{"$f":"Baker_Scores_Men_Var!S389","v":183},{"$f":"Baker_Scores_Men_Var!T389","v":183},{"$f":"Baker_Scores_Men_Var!U389","v":220},{"$f":"Baker_Scores_Men_Var!V389","v":116},{"$f":"Baker_Scores_Men_Var!W389","v":202},{"$f":"Baker_Scores_Men_Var!X389","v":222},{"$f":"Baker_Scores_Men_Var!Y389","v":157},{"$f":"Baker_Scores_Men_Var!Z389","v":163},{"$f":"Baker_Scores_Men_Var!AA389","v":192},3740,9450]
[{"$f":"RANK(AF25,$AF$12:$AF$43)","v":14},"Baker University V",null,{"$f":"Individual_Scores_Men_Var!G36","v":975},{"$f":"Individual_Scores_Men_Var!H36","v":956},{"$f":"Individual_Scores_Men_Var!I36","v":979},{"$f":"Individual_Scores_Men_Var!J36","v":903},{"$f":"Individual_Scores_Men_Var!K36","v":954},{"$f":"Individual_Scores_Men_Var!L36","v":1043},5810,{"$f":"Baker_Scores_Men_Var!H25","v":193},{"$f":"Baker_Scores_Men_Var!I25","v":223},{"$f":"Baker_Scores_Men_Var!J25","v":145},{"$f":"Baker_Scores_Men_Var!K25","v":189},{"$f":"Baker_Scores_Men_Var!L25","v":173},{"$f":"Baker_Scores_Men_Var!M25","v":155},{"$f":"Baker_Scores_Men_Var!N25","v":208},{"$f":"Baker_Scores_Men_Var!O25","v":176},{"$f":"Baker_Scores_Men_Var!P25","v":144},{"$f":"Baker_Scores_Men_Var!Q25","v":203},{"$f":"Baker_Scores_Men_Var!R25","v":193},{"$f":"Baker_Scores_Men_Var!S25","v":162},{"$f":"Baker_Scores_Men_Var!T25","v":145},{"$f":"Baker_Scores_Men_Var!U25","v":171},{"$f":"Baker_Scores_Men_Var!V25","v":187},{"$f":"Baker_Scores_Men_Var!W25","v":189},{"$f":"Baker_Scores_Men_Var!X25","v":165},{"$f":"Baker_Scores_Men_Var!Y25","v":174},{"$f":"Baker_Scores_Men_Var!Z25","v":219},{"$f":"Baker_Scores_Men_Var!AA25","v":195},3609,9419]
[{"$f":"RANK(AF26,$AF$12:$AF$43)","v":15},"Drury University V",null,{"$f":"Individual_Scores_Men_Var!G101","v":896},{"$f":"Individual_Scores_Men_Var!H101","v":1023},{"$f":"Individual_Scores_Men_Var!I101","v":1019},{"$f":"Individual_Scores_Men_Var!J101","v":929},{"$f":"Individual_Scores_Men_Var!K101","v":892},{"$f":"Individual_Scores_Men_Var!L101","v":835},5594,{"$f":"Baker_Scores_Men_Var!H90","v":181},{"$f":"Baker_Scores_Men_Var!I90","v":169},{"$f":"Baker_Scores_Men_Var!J90","v":216},{"$f":"Baker_Scores_Men_Var!K90","v":176},{"$f":"Baker_Scores_Men_Var!L90","v":212},{"$f":"Baker_Scores_Men_Var!M90","v":192},{"$f":"Baker_Scores_Men_Var!N90","v":174},{"$f":"Baker_Scores_Men_Var!O90","v":184},{"$f":"Baker_Scores_Men_Var!P90","v":193},{"$f":"Baker_Scores_Men_Var!Q90","v":205},{"$f":"Baker_Scores_Men_Var!R90","v":189},{"$f":"Baker_Scores_Men_Var!S90","v":185},{"$f":"Baker_Scores_Men_Var!T90","v":223},{"$f":"Baker_Scores_Men_Var!U90","v":181},{"$f":"Baker_Scores_Men_Var!V90","v":139},{"$f":"Baker_Scores_Men_Var!W90","v":185},{"$f":"Baker_Scores_Men_Var!X90","v":211},{"$f":"Baker_Scores_Men_Var!Y90","v":194},{"$f":"Baker_Scores_Men_Var!Z90","v":179},{"$f":"Baker_Scores_Men_Var!AA90","v":170},3758,9352]
[{"$f":"RANK(AF27,$AF$12:$AF$43)","v":16},"Grand View University V",null,{"$f":"Individual_Scores_Men_Var!G114","v":1014},{"$f":"Individual_Scores_Men_Var!H114","v":946},{"$f":"Individual_Scores_Men_Var!I114","v":1001},{"$f":"Individual_Scores_Men_Var!J114","v":884},{"$f":"Individual_Scores_Men_Var!K114","v":988},{"$f":"Individual_Scores_Men_Var!L114","v":1030},5863,{"$f":"Baker_Scores_Men_Var!H103","v":142},{"$f":"Baker_Scores_Men_Var!I103","v":183},{"$f":"Baker_Scores_Men_Var!J103","v":193},{"$f":"Baker_Scores_Men_Var!K103","v":215},{"$f":"Baker_Scores_Men_Var!L103","v":223},{"$f":"Baker_Scores_Men_Var!M103","v":163},{"$f":"Baker_Scores_Men_Var!N103","v":158},{"$f":"Baker_Scores_Men_Var!O103","v":170},{"$f":"Baker_Scores_Men_Var!P103","v":179},{"$f":"Baker_Scores_Men_Var!Q103","v":181},{"$f":"Baker_Scores_Men_Var!R103","v":149},{"$f":"Baker_Scores_Men_Var!S103","v":170},{"$f":"Baker_Scores_Men_Var!T103","v":175},{"$f":"Baker_Scores_Men_Var!U103","v":142},{"$f":"Baker_Scores_Men_Var!V103","v":149},{"$f":"Baker_Scores_Men_Var!W103","v":210},{"$f":"Baker_Scores_Men_Var!X103","v":157},{"$f":"Baker_Scores_Men_Var!Y103","v":184},{"$f":"Baker_Scores_Men_Var!Z103","v":182},{"$f":"Baker_Scores_Men_Var!AA103","v":161},3486,9349]
[{"$f":"RANK(AF28,$AF$12:$AF$43)","v":17},"Culver-Stockton College V",null,{"$f":"Individual_Scores_Men_Var!G75","v":1049},{"$f":"Individual_Scores_Men_Var!H75","v":989},{"$f":"Individual_Scores_Men_Var!I75","v":800},{"$f":"Individual_Scores_Men_Var!J75","v":872},{"$f":"Individual_Scores_Men_Var!K75","v":1022},{"$f":"Individual_Scores_Men_Var!L75","v":823},5555,{"$f":"Baker_Scores_Men_Var!H64","v":172},{"$f":"Baker_Scores_Men_Var!I64","v":179},{"$f":"Baker_Scores_Men_Var!J64","v":166},{"$f":"Baker_Scores_Men_Var!K64","v":218},{"$f":"Baker_Scores_Men_Var!L64","v":167},{"$f":"Baker_Scores_Men_Var!M64","v":217},{"$f":"Baker_Scores_Men_Var!N64","v":226},{"$f":"Baker_Scores_Men_Var!O64","v":195},{"$f":"Baker_Scores_Men_Var!P64","v":167},{"$f":"Baker_Scores_Men_Var!Q64","v":194},{"$f":"Baker_Scores_Men_Var!R64","v":205},{"$f":"Baker_Scores_Men_Var!S64","v":161},{"$f":"Baker_Scores_Men_Var!T64","v":149},{"$f":"Baker_Scores_Men_Var!U64","v":191},{"$f":"Baker_Scores_Men_Var!V64","v":160},{"$f":"Baker_Scores_Men_Var!W64","v":221},{"$f":"Baker_Scores_Men_Var!X64","v":224},{"$f":"Baker_Scores_Men_Var!Y64","v":171},{"$f":"Baker_Scores_Men_Var!Z64","v":140},{"$f":"Baker_Scores_Men_Var!AA64","v":192},3715,9270]
[{"$f":"RANK(AF29,$AF$12:$AF$43)","v":18},"Avila University V",null,{"$f":"Individual_Scores_Men_Var!G23","v":859},{"$f":"Individual_Scores_Men_Var!H23","v":1040},{"$f":"Individual_Scores_Men_Var!I23","v":945},{"$f":"Individual_Scores_Men_Var!J23","v":1030},{"$f":"Individual_Scores_Men_Var!K23","v":824},{"$f":"Individual_Scores_Men_Var!L23","v":802},5500,{"$f":"Baker_Scores_Men_Var!H12","v":138},{"$f":"Baker_Scores_Men_Var!I12","v":156},{"$f":"Baker_Scores_Men_Var!J12","v":233},{"$f":"Baker_Scores_Men_Var!K12","v":213},{"$f":"Baker_Scores_Men_Var!L12","v":159},{"$f":"Baker_Scores_Men_Var!M12","v":210},{"$f":"Baker_Scores_Men_Var!N12","v":170},{"$f":"Baker_Scores_Men_Var!O12","v":204},{"$f":"Baker_Scores_Men_Var!P12","v":192},{"$f":"Baker_Scores_Men_Var!Q12","v":225},{"$f":"Baker_Scores_Men_Var!R12","v":195},{"$f":"Baker_Scores_Men_Var!S12","v":186},{"$f":"Baker_Scores_Men_Var!T12","v":186},{"$f":"Baker_Scores_Men_Var!U12","v":216},{"$f":"Baker_Scores_Men_Var!V12","v":156},{"$f":"Baker_Scores_Men_Var!W12","v":214},{"$f":"Baker_Scores_Men_Var!X12","v":151},{"$f":"Baker_Scores_Men_Var!Y12","v":167},{"$f":"Baker_Scores_Men_Var!Z12","v":186},{"$f":"Baker_Scores_Men_Var!AA12","v":172},3729,9229]
[{"$f":"RANK(AF30,$AF$12:$AF$43)","v":19},"Peru State College V",null,{"$f":"Individual_Scores_Men_Var!G309","v":860},{"$f":"Individual_Scores_Men_Var!H309","v":900},{"$f":"Individual_Scores_Men_Var!I309","v":923},{"$f":"Individual_Scores_Men_Var!J309","v":969},{"$f":"Individual_Scores_Men_Var!K309","v":962},{"$f":"Individual_Scores_Men_Var!L309","v":942},5556,{"$f":"Baker_Scores_Men_Var!H298","v":183},{"$f":"Baker_Scores_Men_Var!I298","v":242},{"$f":"Baker_Scores_Men_Var!J298","v":191},{"$f":"Baker_Scores_Men_Var!K298","v":131},{"$f":"Baker_Scores_Men_Var!L298","v":223},{"$f":"Baker_Scores_Men_Var!M298","v":193},{"$f":"Baker_Scores_Men_Var!N298","v":197},{"$f":"Baker_Scores_Men_Var!O298","v":182},{"$f":"Baker_Scores_Men_Var!P298","v":182},{"$f":"Baker_Scores_Men_Var!Q298","v":171},{"$f":"Baker_Scores_Men_Var!R298","v":164},{"$f":"Baker_Scores_Men_Var!S298","v":136},{"$f":"Baker_Scores_Men_Var!T298","v":178},{"$f":"Baker_Scores_Men_Var!U298","v":203},{"$f":"Baker_Scores_Men_Var!V298","v":211},{"$f":"Baker_Scores_Men_Var!W298","v":172},{"$f":"Baker_Scores_Men_Var!X298","v":194},{"$f":"Baker_Scores_Men_Var!Y298","v":204},{"$f":"Baker_Scores_Men_Var!Z298","v":171},{"$f":"Baker_Scores_Men_Var!AA298","v":139},3667,9223]
[{"$f":"RANK(AF31,$AF$12:$AF$43)","v":20},"Barton Community College V",null,{"$f":"Individual_Scores_Men_Var!G49","v":929},{"$f":"Individual_Scores_Men_Var!H49","v":1103},{"$f":"Individual_Scores_Men_Var!I49","v":815},{"$f":"Individual_Scores_Men_Var!J49","v":909},{"$f":"Individual_Scores_Men_Var!K49","v":917},{"$f":"Individual_Scores_Men_Var!L49","v":834},5507,{"$f":"Baker_Scores_Men_Var!H38","v":181},{"$f":"Baker_Scores_Men_Var!I38","v":191},{"$f":"Baker_Scores_Men_Var!J38","v":171},{"$f":"Baker_Scores_Men_Var!K38","v":197},{"$f":"Baker_Scores_Men_Var!L38","v":151},{"$f":"Baker_Scores_Men_Var!M38","v":148},{"$f":"Baker_Scores_Men_Var!N38","v":161},{"$f":"Baker_Scores_Men_Var!O38","v":207},{"$f":"Baker_Scores_Men_Var!P38","v":152},{"$f":"Baker_Scores_Men_Var!Q38","v":214},{"$f":"Baker_Scores_Men_Var!R38","v":148},{"$f":"Baker_Scores_Men_Var!S38","v":156},{"$f":"Baker_Scores_Men_Var!T38","v":202},{"$f":"Baker_Scores_Men_Var!U38","v":194},{"$f":"Baker_Scores_Men_Var!V38","v":187},{"$f":"Baker_Scores_Men_Var!W38","v":201},{"$f":"Baker_Scores_Men_Var!X38","v":168},{"$f":"Baker_Scores_Men_Var!Y38","v":192},{"$f":"Baker_Scores_Men_Var!Z38","v":226},{"$f":"Baker_Scores_Men_Var!AA38","v":235},3682,9189]
[{"$f":"RANK(AF32,$AF$12:$AF$43)","v":21},"Quincy University V",null,{"$f":"Individual_Scores_Men_Var!G322","v":888},{"$f":"Individual_Scores_Men_Var!H322","v":928},{"$f":"Individual_Scores_Men_Var!I322","v":870},{"$f":"Individual_Scores_Men_Var!J322","v":945},{"$f":"Individual_Scores_Men_Var!K322","v":907},{"$f":"Individual_Scores_Men_Var!L322","v":981},5519,{"$f":"Baker_Scores_Men_Var!H311","v":192},{"$f":"Baker_Scores_Men_Var!I311","v":187},{"$f":"Baker_Scores_Men_Var!J311","v":160},{"$f":"Baker_Scores_Men_Var!K311","v":212},{"$f":"Baker_Scores_Men_Var!L311","v":197},{"$f":"Baker_Scores_Men_Var!M311","v":170},{"$f":"Baker_Scores_Men_Var!N311","v":163},{"$f":"Baker_Scores_Men_Var!O311","v":139},{"$f":"Baker_Scores_Men_Var!P311","v":167},{"$f":"Baker_Scores_Men_Var!Q311","v":226},{"$f":"Baker_Scores_Men_Var!R311","v":178},{"$f":"Baker_Scores_Men_Var!S311","v":196},{"$f":"Baker_Scores_Men_Var!T311","v":179},{"$f":"Baker_Scores_Men_Var!U311","v":179},{"$f":"Baker_Scores_Men_Var!V311","v":183},{"$f":"Baker_Scores_Men_Var!W311","v":179},{"$f":"Baker_Scores_Men_Var!X311","v":153},{"$f":"Baker_Scores_Men_Var!Y311","v":167},{"$f":"Baker_Scores_Men_Var!Z311","v":187},{"$f":"Baker_Scores_Men_Var!AA311","v":216},3630,9149]
[{"$f":"RANK(AF33,$AF$12:$AF$43)","v":22},"Waldorf University V",null,{"$f":"Individual_Scores_Men_Var!G361","v":842},{"$f":"Individual_Scores_Men_Var!H361","v":964},{"$f":"Individual_Scores_Men_Var!I361","v":870},{"$f":"Individual_Scores_Men_Var!J361","v":939},{"$f":"Individual_Scores_Men_Var!K361","v":887},{"$f":"Individual_Scores_Men_Var!L361","v":876},5378,{"$f":"Baker_Scores_Men_Var!H350","v":194},{"$f":"Baker_Scores_Men_Var!I350","v":186},{"$f":"Baker_Scores_Men_Var!J350","v":149},{"$f":"Baker_Scores_Men_Var!K350","v":213},{"$f":"Baker_Scores_Men_Var!L350","v":204},{"$f":"Baker_Scores_Men_Var!M350","v":143},{"$f":"Baker_Scores_Men_Var!N350","v":194},{"$f":"Baker_Scores_Men_Var!O350","v":177},{"$f":"Baker_Scores_Men_Var!P350","v":219},{"$f":"Baker_Scores_Men_Var!Q350","v":182},{"$f":"Baker_Scores_Men_Var!R350","v":172},{"$f":"Baker_Scores_Men_Var!S350","v":167},{"$f":"Baker_Scores_Men_Var!T350","v":188},{"$f":"Baker_Scores_Men_Var!U350","v":199},{"$f":"Baker_Scores_Men_Var!V350","v":184},{"$f":"Baker_Scores_Men_Var!W350","v":189},{"$f":"Baker_Scores_Men_Var!X350","v":178},{"$f":"Baker_Scores_Men_Var!Y350","v":170},{"$f":"Baker_Scores_Men_Var!Z350","v":211},{"$f":"Baker_Scores_Men_Var!AA350","v":170},3689,9067]
[{"$f":"RANK(AF34,$AF$12:$AF$43)","v":23},"Kansas ,University Of V",null,{"$f":"Individual_Scores_Men_Var!G166","v":875},{"$f":"Individual_Scores_Men_Var!H166","v":773},{"$f":"Individual_Scores_Men_Var!I166","v":863},{"$f":"Individual_Scores_Men_Var!J166","v":779},{"$f":"Individual_Scores_Men_Var!K166","v":771},{"$f":"Individual_Scores_Men_Var!L166","v":828},4889,{"$f":"Baker_Scores_Men_Var!H155","v":178},{"$f":"Baker_Scores_Men_Var!I155","v":177},{"$f":"Baker_Scores_Men_Var!J155","v":193},{"$f":"Baker_Scores_Men_Var!K155","v":190},{"$f":"Baker_Scores_Men_Var!L155","v":203},{"$f":"Baker_Scores_Men_Var!M155","v":190},{"$f":"Baker_Scores_Men_Var!N155","v":243},{"$f":"Baker_Scores_Men_Var!O155","v":238},{"$f":"Baker_Scores_Men_Var!P155","v":211},{"$f":"Baker_Scores_Men_Var!Q155","v":115},{"$f":"Baker_Scores_Men_Var!R155","v":198},{"$f":"Baker_Scores_Men_Var!S155","v":275},{"$f":"Baker_Scores_Men_Var!T155","v":210},{"$f":"Baker_Scores_Men_Var!U155","v":207},{"$f":"Baker_Scores_Men_Var!V155","v":192},{"$f":"Baker_Scores_Men_Var!W155","v":197},{"$f":"Baker_Scores_Men_Var!X155","v":237},{"$f":"Baker_Scores_Men_Var!Y155","v":172},{"$f":"Baker_Scores_Men_Var!Z155","v":180},{"$f":"Baker_Scores_Men_Var!AA155","v":168},3974,8863]
[{"$f":"RANK(AF35,$AF$12:$AF$43)","v":24},"Missouri Valley College V",null,{"$f":"Individual_Scores_Men_Var!G218","v":761},{"$f":"Individual_Scores_Men_Var!H218","v":867},{"$f":"Individual_Scores_Men_Var!I218","v":990},{"$f":"Individual_Scores_Men_Var!J218","v":841},{"$f":"Individual_Scores_Men_Var!K218","v":939},{"$f":"Individual_Scores_Men_Var!L218","v":908},5306,{"$f":"Baker_Scores_Men_Var!H207","v":179},{"$f":"Baker_Scores_Men_Var!I207","v":146},{"$f":"Baker_Scores_Men_Var!J207","v":157},{"$f":"Baker_Scores_Men_Var!K207","v":159},{"$f":"Baker_Scores_Men_Var!L207","v":149},{"$f":"Baker_Scores_Men_Var!M207","v":170},{"$f":"Baker_Scores_Men_Var!N207","v":215},{"$f":"Baker_Scores_Men_Var!O207","v":189},{"$f":"Baker_Scores_Men_Var!P207","v":157},{"$f":"Baker_Scores_Men_Var!Q207","v":204},{"$f":"Baker_Scores_Men_Var!R207","v":180},{"$f":"Baker_Scores_Men_Var!S207","v":140},{"$f":"Baker_Scores_Men_Var!T207","v":173},{"$f":"Baker_Scores_Men_Var!U207","v":196},{"$f":"Baker_Scores_Men_Var!V207","v":196},{"$f":"Baker_Scores_Men_Var!W207","v":180},{"$f":"Baker_Scores_Men_Var!X207","v":201},{"$f":"Baker_Scores_Men_Var!Y207","v":169},{"$f":"Baker_Scores_Men_Var!Z207","v":135},{"$f":"Baker_Scores_Men_Var!AA207","v":222},3517,8823]
[{"$f":"RANK(AF36,$AF$12:$AF$43)","v":25},"Nebraska ,University Of V",null,{"$f":"Individual_Scores_Men_Var!G244","v":866},{"$f":"Individual_Scores_Men_Var!H244","v":1029},{"$f":"Individual_Scores_Men_Var!I244","v":862},{"$f":"Individual_Scores_Men_Var!J244","v":855},{"$f":"Individual_Scores_Men_Var!K244","v":817},{"$f":"Individual_Scores_Men_Var!L244","v":818},5247,{"$f":"Baker_Scores_Men_Var!H233","v":149},{"$f":"Baker_Scores_Men_Var!I233","v":194},{"$f":"Baker_Scores_Men_Var!J233","v":198},{"$f":"Baker_Scores_Men_Var!K233","v":153},{"$f":"Baker_Scores_Men_Var!L233","v":148},{"$f":"Baker_Scores_Men_Var!M233","v":241},{"$f":"Baker_Scores_Men_Var!N233","v":199},{"$f":"Baker_Scores_Men_Var!O233","v":141},{"$f":"Baker_Scores_Men_Var!P233","v":149},{"$f":"Baker_Scores_Men_Var!Q233","v":187},{"$f":"Baker_Scores_Men_Var!R233","v":215},{"$f":"Baker_Scores_Men_Var!S233","v":145},{"$f":"Baker_Scores_Men_Var!T233","v":138},{"$f":"Baker_Scores_Men_Var!U233","v":136},{"$f":"Baker_Scores_Men_Var!V233","v":195},{"$f":"Baker_Scores_Men_Var!W233","v":183},{"$f":"Baker_Scores_Men_Var!X233","v":212},{"$f":"Baker_Scores_Men_Var!Y233","v":216},{"$f":"Baker_Scores_Men_Var!Z233","v":190},{"$f":"Baker_Scores_Men_Var!AA233","v":180},3569,8816]
[{"$f":"RANK(AF37,$AF$12:$AF$43)","v":26},"Oklahoma State University V",null,{"$f":"Individual_Scores_Men_Var!G283","v":918},{"$f":"Individual_Scores_Men_Var!H283","v":889},{"$f":"Individual_Scores_Men_Var!I283","v":844},{"$f":"Individual_Scores_Men_Var!J283","v":774},{"$f":"Individual_Scores_Men_Var!K283","v":776},{"$f":"Individual_Scores_Men_Var!L283","v":932},5133,{"$f":"Baker_Scores_Men_Var!H272","v":224},{"$f":"Baker_Scores_Men_Var!I272","v":201},{"$f":"Baker_Scores_Men_Var!J272","v":159},{"$f":"Baker_Scores_Men_Var!K272","v":181},{"$f":"Baker_Scores_Men_Var!L272","v":175},{"$f":"Baker_Scores_Men_Var!M272","v":145},{"$f":"Baker_Scores_Men_Var!N272","v":162},{"$f":"Baker_Scores_Men_Var!O272","v":178},{"$f":"Baker_Scores_Men_Var!P272","v":192},{"$f":"Baker_Scores_Men_Var!Q272","v":222},{"$f":"Baker_Scores_Men_Var!R272","v":181},{"$f":"Baker_Scores_Men_Var!S272","v":189},{"$f":"Baker_Scores_Men_Var!T272","v":216},{"$f":"Baker_Scores_Men_Var!U272","v":130},{"$f":"Baker_Scores_Men_Var!V272","v":162},{"$f":"Baker_Scores_Men_Var!W272","v":182},{"$f":"Baker_Scores_Men_Var!X272","v":155},{"$f":"Baker_Scores_Men_Var!Y272","v":185},{"$f":"Baker_Scores_Men_Var!Z272","v":175},{"$f":"Baker_Scores_Men_Var!AA272","v":166},3580,8713]
[{"$f":"RANK(AF38,$AF$12:$AF$43)","v":27},"Kansas State University V",null,{"$f":"Individual_Scores_Men_Var!G179","v":1011},{"$f":"Individual_Scores_Men_Var!H179","v":908},{"$f":"Individual_Scores_Men_Var!I179","v":767},{"$f":"Individual_Scores_Men_Var!J179","v":885},{"$f":"Individual_Scores_Men_Var!K179","v":900},{"$f":"Individual_Scores_Men_Var!L179","v":854},5325,{"$f":"Baker_Scores_Men_Var!H168","v":180},{"$f":"Baker_Scores_Men_Var!I168","v":232},{"$f":"Baker_Scores_Men_Var!J168","v":149},{"$f":"Baker_Scores_Men_Var!K168","v":157},{"$f":"Baker_Scores_Men_Var!L168","v":158},{"$f":"Baker_Scores_Men_Var!M168","v":175},{"$f":"Baker_Scores_Men_Var!N168","v":193},{"$f":"Baker_Scores_Men_Var!O168","v":142},{"$f":"Baker_Scores_Men_Var!P168","v":181},{"$f":"Baker_Scores_Men_Var!Q168","v":157},{"$f":"Baker_Scores_Men_Var!R168","v":135},{"$f":"Baker_Scores_Men_Var!S168","v":145},{"$f":"Baker_Scores_Men_Var!T168","v":138},{"$f":"Baker_Scores_Men_Var!U168","v":202},{"$f":"Baker_Scores_Men_Var!V168","v":179},{"$f":"Baker_Scores_Men_Var!W168","v":200},{"$f":"Baker_Scores_Men_Var!X168","v":146},{"$f":"Baker_Scores_Men_Var!Y168","v":153},{"$f":"Baker_Scores_Men_Var!Z168","v":169},{"$f":"Baker_Scores_Men_Var!AA168","v":172},3363,8688]
[{"$f":"RANK(AF39,$AF$12:$AF$43)","v":28},"West Texas A&M University V",null,{"$f":"Individual_Scores_Men_Var!G374","v":942},{"$f":"Individual_Scores_Men_Var!H374","v":904},{"$f":"Individual_Scores_Men_Var!I374","v":726},{"$f":"Individual_Scores_Men_Var!J374","v":968},{"$f":"Individual_Scores_Men_Var!K374","v":961},{"$f":"Individual_Scores_Men_Var!L374","v":804},5305,{"$f":"Baker_Scores_Men_Var!H363","v":180},{"$f":"Baker_Scores_Men_Var!I363","v":138},{"$f":"Baker_Scores_Men_Var!J363","v":115},{"$f":"Baker_Scores_Men_Var!K363","v":186},{"$f":"Baker_Scores_Men_Var!L363","v":148},{"$f":"Baker_Scores_Men_Var!M363","v":146},{"$f":"Baker_Scores_Men_Var!N363","v":211},{"$f":"Baker_Scores_Men_Var!O363","v":151},{"$f":"Baker_Scores_Men_Var!P363","v":148},{"$f":"Baker_Scores_Men_Var!Q363","v":201},{"$f":"Baker_Scores_Men_Var!R363","v":203},{"$f":"Baker_Scores_Men_Var!S363","v":150},{"$f":"Baker_Scores_Men_Var!T363","v":167},{"$f":"Baker_Scores_Men_Var!U363","v":156},{"$f":"Baker_Scores_Men_Var!V363","v":189},{"$f":"Baker_Scores_Men_Var!W363","v":192},{"$f":"Baker_Scores_Men_Var!X363","v":187},{"$f":"Baker_Scores_Men_Var!Y363","v":170},{"$f":"Baker_Scores_Men_Var!Z363","v":157},{"$f":"Baker_Scores_Men_Var!AA363","v":149},3344,8649]
[{"$f":"RANK(AF40,$AF$12:$AF$43)","v":29},"University Of Saint Mary V",null,{"$f":"Individual_Scores_Men_Var!G348","v":914},{"$f":"Individual_Scores_Men_Var!H348","v":811},{"$f":"Individual_Scores_Men_Var!I348","v":913},{"$f":"Individual_Scores_Men_Var!J348","v":787},{"$f":"Individual_Scores_Men_Var!K348","v":832},{"$f":"Individual_Scores_Men_Var!L348","v":842},5099,{"$f":"Baker_Scores_Men_Var!H337","v":183},{"$f":"Baker_Scores_Men_Var!I337","v":159},{"$f":"Baker_Scores_Men_Var!J337","v":223},{"$f":"Baker_Scores_Men_Var!K337","v":188},{"$f":"Baker_Scores_Men_Var!L337","v":119},{"$f":"Baker_Scores_Men_Var!M337","v":113},{"$f":"Baker_Scores_Men_Var!N337","v":154},{"$f":"Baker_Scores_Men_Var!O337","v":191},{"$f":"Baker_Scores_Men_Var!P337","v":202},{"$f":"Baker_Scores_Men_Var!Q337","v":157},{"$f":"Baker_Scores_Men_Var!R337","v":169},{"$f":"Baker_Scores_Men_Var!S337","v":168},{"$f":"Baker_Scores_Men_Var!T337","v":154},{"$f":"Baker_Scores_Men_Var!U337","v":167},{"$f":"Baker_Scores_Men_Var!V337","v":175},{"$f":"Baker_Scores_Men_Var!W337","v":165},{"$f":"Baker_Scores_Men_Var!X337","v":157},{"$f":"Baker_Scores_Men_Var!Y337","v":156},{"$f":"Baker_Scores_Men_Var!Z337","v":204},{"$f":"Baker_Scores_Men_Var!AA337","v":199},3403,8502]
[{"$f":"RANK(AF41,$AF$12:$AF$43)","v":30},"William Woods University V",null,{"$f":"Individual_Scores_Men_Var!G413","v":795},{"$f":"Individual_Scores_Men_Var!H413","v":1002},{"$f":"Individual_Scores_Men_Var!I413","v":814},{"$f":"Individual_Scores_Men_Var!J413","v":776},{"$f":"Individual_Scores_Men_Var!K413","v":851},{"$f":"Individual_Scores_Men_Var!L413","v":809},5047,{"$f":"Baker_Scores_Men_Var!H402","v":133},{"$f":"Baker_Scores_Men_Var!I402","v":185},{"$f":"Baker_Scores_Men_Var!J402","v":202},{"$f":"Baker_Scores_Men_Var!K402","v":173},{"$f":"Baker_Scores_Men_Var!L402","v":175},{"$f":"Baker_Scores_Men_Var!M402","v":177},{"$f":"Baker_Scores_Men_Var!N402","v":124},{"$f":"Baker_Scores_Men_Var!O402","v":215},{"$f":"Baker_Scores_Men_Var!P402","v":173},{"$f":"Baker_Scores_Men_Var!Q402","v":150},{"$f":"Baker_Scores_Men_Var!R402","v":165},{"$f":"Baker_Scores_Men_Var!S402","v":161},{"$f":"Baker_Scores_Men_Var!T402","v":165},{"$f":"Baker_Scores_Men_Var!U402","v":133},{"$f":"Baker_Scores_Men_Var!V402","v":158},{"$f":"Baker_Scores_Men_Var!W402","v":246},{"$f":"Baker_Scores_Men_Var!X402","v":173},{"$f":"Baker_Scores_Men_Var!Y402","v":176},{"$f":"Baker_Scores_Men_Var!Z402","v":157},{"$f":"Baker_Scores_Men_Var!AA402","v":191},3432,8479]
[{"$f":"RANK(AF42,$AF$12:$AF$43)","v":31},"Dallas Baptist University V",null,{"$f":"Individual_Scores_Men_Var!G88","v":634},{"$f":"Individual_Scores_Men_Var!H88","v":735},{"$f":"Individual_Scores_Men_Var!I88","v":738},{"$f":"Individual_Scores_Men_Var!J88","v":692},{"$f":"Individual_Scores_Men_Var!K88","v":658},{"$f":"Individual_Scores_Men_Var!L88","v":641},4098,{"$f":"Baker_Scores_Men_Var!H77","v":135},{"$f":"Baker_Scores_Men_Var!I77","v":81},{"$f":"Baker_Scores_Men_Var!J77","v":109},{"$f":"Baker_Scores_Men_Var!K77","v":133},{"$f":"Baker_Scores_Men_Var!L77","v":109},{"$f":"Baker_Scores_Men_Var!M77","v":116},{"$f":"Baker_Scores_Men_Var!N77","v":177},{"$f":"Baker_Scores_Men_Var!O77","v":128},{"$f":"Baker_Scores_Men_Var!P77","v":124},{"$f":"Baker_Scores_Men_Var!Q77","v":169},{"$f":"Baker_Scores_Men_Var!R77","v":132},{"$f":"Baker_Scores_Men_Var!S77","v":159},{"$f":"Baker_Scores_Men_Var!T77","v":103},{"$f":"Baker_Scores_Men_Var!U77","v":131},{"$f":"Baker_Scores_Men_Var!V77","v":143},{"$f":"Baker_Scores_Men_Var!W77","v":121},{"$f":"Baker_Scores_Men_Var!X77","v":101},{"$f":"Baker_Scores_Men_Var!Y77","v":84},{"$f":"Baker_Scores_Men_Var!Z77","v":149},{"$f":"Baker_Scores_Men_Var!AA77","v":141},2545,6643]
[]
[null,"Total Team Pins:",null,{"$f":"SUM(D12:D42)","v":28578},30136,29174,29410,28901,29053,175252,5598,5686,5827,5925,5664,5784,5793,5772,5838,6117,5765,5779,5665,5832,5721,6256,5893,5815,5893,6018,116641,291893]
[null,"Team Field Ave:",null,{"$f":"(D44/31)","v":921.8709677},972.1290323,941.0967742,948.7096774,932.2903226,937.1935484,5653.290323,180.5806452,183.4193548,187.9677419,191.1290323,182.7096774,186.5806452,186.8709677,186.1935484,188.3225806,197.3225806,185.9677419,186.4193548,182.7419355,188.1290323,184.5483871,201.8064516,190.0967742,187.5806452,190.0967742,194.1290323,3762.612903]
[null,"Individual Field Ave:",null,{"$f":"IF(D53 = 0, 0,D44/D53)","v":184.3741935},194.4258065,188.2193548,189.7419355,186.4580645,187.4387097,188.4430108]
[]
[]
[]
[]
[]
[]
[null,null,null,{"$f":"COUNTIF(Individual_Scores_Men_Var!G12:G22, \">0\")+COUNTIF(Individual_Scores_Men_Var!G25:G35, \">0\")+COUNTIF(Individual_Scores_Men_Var!G38:G48, \">0\")+COUNTIF(Individual_Scores_Men_Var!G51:G61, \">0\")+COUNTIF(Individual_Scores_Men_Var!G64:G74, \">0\")+COUNTIF(Individual_Scores_Men_Var!G77:G87, \">0\")+COUNTIF(Individual_Scores_Men_Var!G90:G100, \">0\")+COUNTIF(Individual_Scores_Men_Var!G103:G113, \">0\")+COUNTIF(Individual_Scores_Men_Var!G116:G126, \">0\")+COUNTIF(Individual_Scores_Men_Var!G129:G139, \">0\")+COUNTIF(Individual_Scores_Men_Var!G142:G152, \">0\")+COUNTIF(Individual_Scores_Men_Var!G155:G165, \">0\")+COUNTIF(Individual_Scores_Men_Var!G168:G178, \">0\")+COUNTIF(Individual_Scores_Men_Var!G181:G191, \">0\")+COUNTIF(Individual_Scores_Men_Var!G194:G204, \">0\")+COUNTIF(Individual_Scores_Men_Var!G207:G217, \">0\")+COUNTIF(Individual_Scores_Men_Var!G220:G230, \">0\")+COUNTIF(Individual_Scores_Men_Var!G233:G243, \">0\")+COUNTIF(Individual_Scores_Men_Var!G246:G256, \">0\")+COUNTIF(Individual_Scores_Men_Var!G259:G269, \">0\")+COUNTIF(Individual_Scores_Men_Var!G272:G282, \">0\")+COUNTIF(Individual_Scores_Men_Var!G285:G295, \">0\")+COUNTIF(Individual_Scores_Men_Var!G298:G308, \">0\")+COUNTIF(Individual_Scores_Men_Var!G311:G321, \">0\")+COUNTIF(Individual_Scores_Men_Var!G324:G334, \">0\")+COUNTIF(Individual_Scores_Men_Var!G337:G347, \">0\")+COUNTIF(Individual_Scores_Men_Var!G350:G360, \">0\")+COUNTIF(Individual_Scores_Men_Var!G363:G373, \">0\")+COUNTIF(Individual_Scores_Men_Var!G376:G386, \">0\")+COUNTIF(Individual_Scores_Men_Var!G389:G399, \">0\")+COUNTIF(Individual_Scores_Men_Var!G402:G412, \">0\")","v":155},{"$f":"COUNTIF(Individual_Scores_Men_Var!H12:H22, \">0\")+COUNTIF(Individual_Scores_Men_Var!H25:H35, \">0\")+COUNTIF(Individual_Scores_Men_Var!H38:H48, \">0\")+COUNTIF(Individual_Scores_Men_Var!H51:H61, \">0\")+COUNTIF(Individual_Scores_Men_Var!H64:H74, \">0\")+COUNTIF(Individual_Scores_Men_Var!H77:H87, \">0\")+COUNTIF(Individual_Scores_Men_Var!H90:H100, \">0\")+COUNTIF(Individual_Scores_Men_Var!H103:H113, \">0\")+COUNTIF(Individual_Scores_Men_Var!H116:H126, \">0\")+COUNTIF(Individual_Scores_Men_Var!H129:H139, \">0\")+COUNTIF(Individual_Scores_Men_Var!H142:H152, \">0\")+COUNTIF(Individual_Scores_Men_Var!H155:H165, \">0\")+COUNTIF(Individual_Scores_Men_Var!H168:H178, \">0\")+COUNTIF(Individual_Scores_Men_Var!H181:H191, \">0\")+COUNTIF(Individual_Scores_Men_Var!H194:H204, \">0\")+COUNTIF(Individual_Scores_Men_Var!H207:H217, \">0\")+COUNTIF(Individual_Scores_Men_Var!H220:H230, \">0\")+COUNTIF(Individual_Scores_Men_Var!H233:H243, \">0\")+COUNTIF(Individual_Scores_Men_Var!H246:H256, \">0\")+COUNTIF(Individual_Scores_Men_Var!H259:H269, \">0\")+COUNTIF(Individual_Scores_Men_Var!H272:H282, \">0\")+COUNTIF(Individual_Scores_Men_Var!H285:H295, \">0\")+COUNTIF(Individual_Scores_Men_Var!H298:H308, \">0\")+COUNTIF(Individual_Scores_Men_Var!H311:H321, \">0\")+COUNTIF(Individual_Scores_Men_Var!H324:H334, \">0\")+COUNTIF(Individual_Scores_Men_Var!H337:H347, \">0\")+COUNTIF(Individual_Scores_Men_Var!H350:H360, \">0\")+COUNTIF(Individual_Scores_Men_Var!H363:H373, \">0\")+COUNTIF(Individual_Scores_Men_Var!H376:H386, \">0\")+COUNTIF(Individual_Scores_Men_Var!H389:H399, \">0\")+COUNTIF(Individual_Scores_Men_Var!H402:H412, \">0\")","v":155},{"$f":"COUNTIF(Individual_Scores_Men_Var!I12:I22, \">0\")+COUNTIF(Individual_Scores_Men_Var!I25:I35, \">0\")+COUNTIF(Individual_Scores_Men_Var!I38:I48, \">0\")+COUNTIF(Individual_Scores_Men_Var!I51:I61, \">0\")+COUNTIF(Individual_Scores_Men_Var!I64:I74, \">0\")+COUNTIF(Individual_Scores_Men_Var!I77:I87, \">0\")+COUNTIF(Individual_Scores_Men_Var!I90:I100, \">0\")+COUNTIF(Individual_Scores_Men_Var!I103:I113, \">0\")+COUNTIF(Individual_Scores_Men_Var!I116:I126, \">0\")+COUNTIF(Individual_Scores_Men_Var!I129:I139, \">0\")+COUNTIF(Individual_Scores_Men_Var!I142:I152, \">0\")+COUNTIF(Individual_Scores_Men_Var!I155:I165, \">0\")+COUNTIF(Individual_Scores_Men_Var!I168:I178, \">0\")+COUNTIF(Individual_Scores_Men_Var!I181:I191, \">0\")+COUNTIF(Individual_Scores_Men_Var!I194:I204, \">0\")+COUNTIF(Individual_Scores_Men_Var!I207:I217, \">0\")+COUNTIF(Individual_Scores_Men_Var!I220:I230, \">0\")+COUNTIF(Individual_Scores_Men_Var!I233:I243, \">0\")+COUNTIF(Individual_Scores_Men_Var!I246:I256, \">0\")+COUNTIF(Individual_Scores_Men_Var!I259:I269, \">0\")+COUNTIF(Individual_Scores_Men_Var!I272:I282, \">0\")+COUNTIF(Individual_Scores_Men_Var!I285:I295, \">0\")+COUNTIF(Individual_Scores_Men_Var!I298:I308, \">0\")+COUNTIF(Individual_Scores_Men_Var!I311:I321, \">0\")+COUNTIF(Individual_Scores_Men_Var!I324:I334, \">0\")+COUNTIF(Individual_Scores_Men_Var!I337:I347, \">0\")+COUNTIF(Individual_Scores_Men_Var!I350:I360, \">0\")+COUNTIF(Individual_Scores_Men_Var!I363:I373, \">0\")+COUNTIF(Individual_Scores_Men_Var!I376:I386, \">0\")+COUNTIF(Individual_Scores_Men_Var!I389:I399, \">0\")+COUNTIF(Individual_Scores_Men_Var!I402:I412, \">0\")","v":155},{"$f":"COUNTIF(Individual_Scores_Men_Var!J12:J22, \">0\")+COUNTIF(Individual_Scores_Men_Var!J25:J35, \">0\")+COUNTIF(Individual_Scores_Men_Var!J38:J48, \">0\")+COUNTIF(Individual_Scores_Men_Var!J51:J61, \">0\")+COUNTIF(Individual_Scores_Men_Var!J64:J74, \">0\")+COUNTIF(Individual_Scores_Men_Var!J77:J87, \">0\")+COUNTIF(Individual_Scores_Men_Var!J90:J100, \">0\")+COUNTIF(Individual_Scores_Men_Var!J103:J113, \">0\")+COUNTIF(Individual_Scores_Men_Var!J116:J126, \">0\")+COUNTIF(Individual_Scores_Men_Var!J129:J139, \">0\")+COUNTIF(Individual_Scores_Men_Var!J142:J152, \">0\")+COUNTIF(Individual_Scores_Men_Var!J155:J165, \">0\")+COUNTIF(Individual_Scores_Men_Var!J168:J178, \">0\")+COUNTIF(Individual_Scores_Men_Var!J181:J191, \">0\")+COUNTIF(Individual_Scores_Men_Var!J194:J204, \">0\")+COUNTIF(Individual_Scores_Men_Var!J207:J217, \">0\")+COUNTIF(Individual_Scores_Men_Var!J220:J230, \">0\")+COUNTIF(Individual_Scores_Men_Var!J233:J243, \">0\")+COUNTIF(Individual_Scores_Men_Var!J246:J256, \">0\")+COUNTIF(Individual_Scores_Men_Var!J259:J269, \">0\")+COUNTIF(Individual_Scores_Men_Var!J272:J282, \">0\")+COUNTIF(Individual_Scores_Men_Var!J285:J295, \">0\")+COUNTIF(Individual_Scores_Men_Var!J298:J308, \">0\")+COUNTIF(Individual_Scores_Men_Var!J311:J321, \">0\")+COUNTIF(Individual_Scores_Men_Var!J324:J334, \">0\")+COUNTIF(Individual_Scores_Men_Var!J337:J347, \">0\")+COUNTIF(Individual_Scores_Men_Var!J350:J360, \">0\")+COUNTIF(Individual_Scores_Men_Var!J363:J373, \">0\")+COUNTIF(Individual_Scores_Men_Var!J376:J386, \">0\")+COUNTIF(Individual_Scores_Men_Var!J389:J399, \">0\")+COUNTIF(Individual_Scores_Men_Var!J402:J412, \">0\")","v":155},{"$f":"COUNTIF(Individual_Scores_Men_Var!K12:K22, \">0\")+COUNTIF(Individual_Scores_Men_Var!K25:K35, \">0\")+COUNTIF(Individual_Scores_Men_Var!K38:K48, \">0\")+COUNTIF(Individual_Scores_Men_Var!K51:K61, \">0\")+COUNTIF(Individual_Scores_Men_Var!K64:K74, \">0\")+COUNTIF(Individual_Scores_Men_Var!K77:K87, \">0\")+COUNTIF(Individual_Scores_Men_Var!K90:K100, \">0\")+COUNTIF(Individual_Scores_Men_Var!K103:K113, \">0\")+COUNTIF(Individual_Scores_Men_Var!K116:K126, \">0\")+COUNTIF(Individual_Scores_Men_Var!K129:K139, \">0\")+COUNTIF(Individual_Scores_Men_Var!K142:K152, \">0\")+COUNTIF(Individual_Scores_Men_Var!K155:K165, \">0\")+COUNTIF(Individual_Scores_Men_Var!K168:K178, \">0\")+COUNTIF(Individual_Scores_Men_Var!K181:K191, \">0\")+COUNTIF(Individual_Scores_Men_Var!K194:K204, \">0\")+COUNTIF(Individual_Scores_Men_Var!K207:K217, \">0\")+COUNTIF(Individual_Scores_Men_Var!K220:K230, \">0\")+COUNTIF(Individual_Scores_Men_Var!K233:K243, \">0\")+COUNTIF(Individual_Scores_Men_Var!K246:K256, \">0\")+COUNTIF(Individual_Scores_Men_Var!K259:K269, \">0\")+COUNTIF(Individual_Scores_Men_Var!K272:K282, \">0\")+COUNTIF(Individual_Scores_Men_Var!K285:K295, \">0\")+COUNTIF(Individual_Scores_Men_Var!K298:K308, \">0\")+COUNTIF(Individual_Scores_Men_Var!K311:K321, \">0\")+COUNTIF(Individual_Scores_Men_Var!K324:K334, \">0\")+COUNTIF(Individual_Scores_Men_Var!K337:K347, \">0\")+COUNTIF(Individual_Scores_Men_Var!K350:K360, \">0\")+COUNTIF(Individual_Scores_Men_Var!K363:K373, \">0\")+COUNTIF(Individual_Scores_Men_Var!K376:K386, \">0\")+COUNTIF(Individual_Scores_Men_Var!K389:K399, \">0\")+COUNTIF(Individual_Scores_Men_Var!K402:K412, \">0\")","v":155},{"$f":"COUNTIF(Individual_Scores_Men_Var!L12:L22, \">0\")+COUNTIF(Individual_Scores_Men_Var!L25:L35, \">0\")+COUNTIF(Individual_Scores_Men_Var!L38:L48, \">0\")+COUNTIF(Individual_Scores_Men_Var!L51:L61, \">0\")+COUNTIF(Individual_Scores_Men_Var!L64:L74, \">0\")+COUNTIF(Individual_Scores_Men_Var!L77:L87, \">0\")+COUNTIF(Individual_Scores_Men_Var!L90:L100, \">0\")+COUNTIF(Individual_Scores_Men_Var!L103:L113, \">0\")+COUNTIF(Individual_Scores_Men_Var!L116:L126, \">0\")+COUNTIF(Individual_Scores_Men_Var!L129:L139, \">0\")+COUNTIF(Individual_Scores_Men_Var!L142:L152, \">0\")+COUNTIF(Individual_Scores_Men_Var!L155:L165, \">0\")+COUNTIF(Individual_Scores_Men_Var!L168:L178, \">0\")+COUNTIF(Individual_Scores_Men_Var!L181:L191, \">0\")+COUNTIF(Individual_Scores_Men_Var!L194:L204, \">0\")+COUNTIF(Individual_Scores_Men_Var!L207:L217, \">0\")+COUNTIF(Individual_Scores_Men_Var!L220:L230, \">0\")+COUNTIF(Individual_Scores_Men_Var!L233:L243, \">0\")+COUNTIF(Individual_Scores_Men_Var!L246:L256, \">0\")+COUNTIF(Individual_Scores_Men_Var!L259:L269, \">0\")+COUNTIF(Individual_Scores_Men_Var!L272:L282, \">0\")+COUNTIF(Individual_Scores_Men_Var!L285:L295, \">0\")+COUNTIF(Individual_Scores_Men_Var!L298:L308, \">0\")+COUNTIF(Individual_Scores_Men_Var!L311:L321, \">0\")+COUNTIF(Individual_Scores_Men_Var!L324:L334, \">0\")+COUNTIF(Individual_Scores_Men_Var!L337:L347, \">0\")+COUNTIF(Individual_Scores_Men_Var!L350:L360, \">0\")+COUNTIF(Individual_Scores_Men_Var!L363:L373, \">0\")+COUNTIF(Individual_Scores_Men_Var!L376:L386, \">0\")+COUNTIF(Individual_Scores_Men_Var!L389:L399, \">0\")+COUNTIF(Individual_Scores_Men_Var!L402:L412, \">0\")","v":155},{"$f":"SUM(D53:I53)","v":930}]
[null,"Qualifying Team Standings "]
[null,"Mid States Championships (Tier I Men)"]
[null,"Men's Varsity"]
[null,null,null,"Overall"]
["Rank","Team",null,"Total"]
[{"$f":"A12","v":1},"Wichita State University V",null,{"$f":"AF12","v":11250}]
[{"$f":"A13","v":2},"St. Ambrose University V",null,10681]
[{"$f":"A14","v":3},"Newman University V",null,10625]
[{"$f":"A15","v":4},"Oklahoma Christian University V",null,10555]
[{"$f":"A16","v":5},"Hastings College V",null,10470]
[{"$f":"A17","v":6},"Mount Mercy University V",null,10335]
[{"$f":"A18","v":7},"Iowa Western Community College V",null,10061]
[{"$f":"A19","v":8},"Ottawa University (KS) V",null,10044]
[{"$f":"A20","v":9},"Lindenwood University V",null,9974]
[{"$f":"A21","v":10},"Coe College V",null,9738]
[{"$f":"A22","v":11},"Kansas Wesleyan University V",null,9680]
[{"$f":"A23","v":12},"Iowa Central Community College V",null,9607]
[{"$f":"A24","v":13},"William Penn University V",null,9450]
[{"$f":"A25","v":14},"Baker University V",null,9419]
[{"$f":"A26","v":15},"Drury University V",null,9352]
[{"$f":"A27","v":16},"Grand View University V",null,9349]
[{"$f":"A28","v":17},"Culver-Stockton College V",null,9270]
[{"$f":"A29","v":18},"Avila University V",null,9229]
[{"$f":"A30","v":19},"Peru State College V",null,9223]
[{"$f":"A31","v":20},"Barton Community College V",null,9189]
[{"$f":"A32","v":21},"Quincy University V",null,9149]
[{"$f":"A33","v":22},"Waldorf University V",null,9067]
[{"$f":"A34","v":23},"Kansas ,University Of V",null,8863]
[{"$f":"A35","v":24},"Missouri Valley College V",null,8823]
[{"$f":"A36","v":25},"Nebraska ,University Of V",null,8816]
[{"$f":"A37","v":26},"Oklahoma State University V",null,8713]
[{"$f":"A38","v":27},"Kansas State University V",null,8688]
[{"$f":"A39","v":28},"West Texas A&M University V",null,8649]
[{"$f":"A40","v":29},"University Of Saint Mary V",null,8502]
[{"$f":"A41","v":30},"William Woods University V",null,8479]
[{"$f":"A42","v":31},"Dallas Baptist University V",null,6643]

{"sheet":"Qual_Team_Standings_Men_JV","index":6,"n_rows":51,"n_cols":54,"rows_kept":51,"cut":false,"hidden":false,"merged":[[0,0,0,17]]}
["Qualifying Team Standings",{"$nulls":50},"A12:AF23"]
[{"$nulls":51},"A12:A23"]
[null,"Mid States Championships (Tier I Men)",null,"10/15/2022 - 10/16/2022",{"$nulls":47},"Individual_Scores_Men_JV"]
[null,"Tier 1","USBC","Wichita, KS",{"$nulls":49},"IBCYouth"]
[]
[]
[]
[null,"Men's Division",null,null,"Cert. No: 05700"]
[]
[null,null,null,"Team","Team","Team","Team","Team","Team","Team","Baker","Baker","Baker","Baker","Baker","Baker","Baker","Baker","Baker","Baker","Baker","Baker","Baker","Baker","Baker","Baker","Baker","Baker","Baker","Baker","Baker","Overall"]
["Rank","Team","State",1.0,2.0,3.0,4.0,5.0,6.0,"Total",1.0,2.0,3.0,4.0,5.0,6.0,7.0,8.0,9.0,10.0,11.0,12.0,13.0,14.0,15.0,16.0,17.0,18.0,19.0,20.0,"Total","Total"]
[{"$f":"RANK(AF12,$AF$12:$AF$24)","v":1},"Wichita State University JV1",null,{"$f":"Individual_Scores_Men_JV!G153","v":1089},{"$f":"Individual_Scores_Men_JV!H153","v":1066},{"$f":"Individual_Scores_Men_JV!I153","v":1095},{"$f":"Individual_Scores_Men_JV!J153","v":1124},{"$f":"Individual_Scores_Men_JV!K153","v":1131},{"$f":"Individual_Scores_Men_JV!L153","v":1078},{"$f":"SUM(D12:I12)","v":6583},{"$f":"Baker_Scores_Men_JV!H142","v":181},{"$f":"Baker_Scores_Men_JV!I142","v":236},{"$f":"Baker_Scores_Men_JV!J142","v":220},{"$f":"Baker_Scores_Men_JV!K142","v":186},{"$f":"Baker_Scores_Men_JV!L142","v":201},{"$f":"Baker_Scores_Men_JV!M142","v":187},{"$f":"Baker_Scores_Men_JV!N142","v":222},{"$f":"Baker_Scores_Men_JV!O142","v":193},{"$f":"Baker_Scores_Men_JV!P142","v":221},{"$f":"Baker_Scores_Men_JV!Q142","v":189},{"$f":"Baker_Scores_Men_JV!R142","v":190},{"$f":"Baker_Scores_Men_JV!S142","v":228},{"$f":"Baker_Scores_Men_JV!T142","v":180},{"$f":"Baker_Scores_Men_JV!U142","v":212},{"$f":"Baker_Scores_Men_JV!V142","v":237},{"$f":"Baker_Scores_Men_JV!W142","v":188},{"$f":"Baker_Scores_Men_JV!X142","v":234},{"$f":"Baker_Scores_Men_JV!Y142","v":228},{"$f":"Baker_Scores_Men_JV!Z142","v":204},{"$f":"Baker_Scores_Men_JV!AA142","v":203},{"$f":"SUM(K12:AD12)","v":4140},{"$f":"J12+AE12","v":10723}]
[{"$f":"RANK(AF13,$AF$12:$AF$24)","v":2},"Lindenwood University JV1",null,{"$f":"Individual_Scores_Men_JV!G62","v":941},{"$f":"Individual_Scores_Men_JV!H62","v":946},{"$f":"Individual_Scores_Men_JV!I62","v":959},{"$f":"Individual_Scores_Men_JV!J62","v":1042},{"$f":"Individual_Scores_Men_JV!K62","v":997},{"$f":"Individual_Scores_Men_JV!L62","v":1006},5891,{"$f":"Baker_Scores_Men_JV!H51","v":167},{"$f":"Baker_Scores_Men_JV!I51","v":164},{"$f":"Baker_Scores_Men_JV!J51","v":208},{"$f":"Baker_Scores_Men_JV!K51","v":177},{"$f":"Baker_Scores_Men_JV!L51","v":176},{"$f":"Baker_Scores_Men_JV!M51","v":197},{"$f":"Baker_Scores_Men_JV!N51","v":244},{"$f":"Baker_Scores_Men_JV!O51","v":239},{"$f":"Baker_Scores_Men_JV!P51","v":212},{"$f":"Baker_Scores_Men_JV!Q51","v":208},{"$f":"Baker_Scores_Men_JV!R51","v":149},{"$f":"Baker_Scores_Men_JV!S51","v":229},{"$f":"Baker_Scores_Men_JV!T51","v":236},{"$f":"Baker_Scores_Men_JV!U51","v":210},{"$f":"Baker_Scores_Men_JV!V51","v":153},{"$f":"Baker_Scores_Men_JV!W51","v":183},{"$f":"Baker_Scores_Men_JV!X51","v":176},{"$f":"Baker_Scores_Men_JV!Y51","v":207},{"$f":"Baker_Scores_Men_JV!Z51","v":157},{"$f":"Baker_Scores_Men_JV!AA51","v":182},3874,9765]
[{"$f":"RANK(AF14,$AF$12:$AF$24)","v":3},"Wichita State University JV2",null,{"$f":"Individual_Scores_Men_JV!G166","v":956},{"$f":"Individual_Scores_Men_JV!H166","v":1010},{"$f":"Individual_Scores_Men_JV!I166","v":933},{"$f":"Individual_Scores_Men_JV!J166","v":1071},{"$f":"Individual_Scores_Men_JV!K166","v":951},{"$f":"Individual_Scores_Men_JV!L166","v":930},5851,{"$f":"Baker_Scores_Men_JV!H155","v":197},{"$f":"Baker_Scores_Men_JV!I155","v":186},{"$f":"Baker_Scores_Men_JV!J155","v":149},{"$f":"Baker_Scores_Men_JV!K155","v":189},{"$f":"Baker_Scores_Men_JV!L155","v":156},{"$f":"Baker_Scores_Men_JV!M155","v":204},{"$f":"Baker_Scores_Men_JV!N155","v":213},{"$f":"Baker_Scores_Men_JV!O155","v":210},{"$f":"Baker_Scores_Men_JV!P155","v":168},{"$f":"Baker_Scores_Men_JV!Q155","v":220},{"$f":"Baker_Scores_Men_JV!R155","v":197},{"$f":"Baker_Scores_Men_JV!S155","v":162},{"$f":"Baker_Scores_Men_JV!T155","v":177},{"$f":"Baker_Scores_Men_JV!U155","v":164},{"$f":"Baker_Scores_Men_JV!V155","v":161},{"$f":"Baker_Scores_Men_JV!W155","v":195},{"$f":"Baker_Scores_Men_JV!X155","v":203},{"$f":"Baker_Scores_Men_JV!Y155","v":245},{"$f":"Baker_Scores_Men_JV!Z155","v":173},{"$f":"Baker_Scores_Men_JV!AA155","v":192},3761,9612]
[{"$f":"RANK(AF15,$AF$12:$AF$24)","v":4},"St. Ambrose University JV1",null,{"$f":"Individual_Scores_Men_JV!G140","v":814},{"$f":"Individual_Scores_Men_JV!H140","v":925},{"$f":"Individual_Scores_Men_JV!I140","v":992},{"$f":"Individual_Scores_Men_JV!J140","v":977},{"$f":"Individual_Scores_Men_JV!K140","v":1014},{"$f":"Individual_Scores_Men_JV!L140","v":1012},5734,{"$f":"Baker_Scores_Men_JV!H129","v":176},{"$f":"Baker_Scores_Men_JV!I129","v":202},{"$f":"Baker_Scores_Men_JV!J129","v":184},{"$f":"Baker_Scores_Men_JV!K129","v":235},{"$f":"Baker_Scores_Men_JV!L129","v":216},{"$f":"Baker_Scores_Men_JV!M129","v":213},{"$f":"Baker_Scores_Men_JV!N129","v":196},{"$f":"Baker_Scores_Men_JV!O129","v":192},{"$f":"Baker_Scores_Men_JV!P129","v":180},{"$f":"Baker_Scores_Men_JV!Q129","v":223},{"$f":"Baker_Scores_Men_JV!R129","v":167},{"$f":"Baker_Scores_Men_JV!S129","v":163},{"$f":"Baker_Scores_Men_JV!T129","v":179},{"$f":"Baker_Scores_Men_JV!U129","v":162},{"$f":"Baker_Scores_Men_JV!V129","v":224},{"$f":"Baker_Scores_Men_JV!W129","v":189},{"$f":"Baker_Scores_Men_JV!X129","v":221},{"$f":"Baker_Scores_Men_JV!Y129","v":157},{"$f":"Baker_Scores_Men_JV!Z129","v":165},{"$f":"Baker_Scores_Men_JV!AA129","v":203},3847,9581]
[{"$f":"RANK(AF16,$AF$12:$AF$24)","v":5},"Newman University JV1",null,{"$f":"Individual_Scores_Men_JV!G88","v":1019},{"$f":"Individual_Scores_Men_JV!H88","v":897},{"$f":"Individual_Scores_Men_JV!I88","v":1025},{"$f":"Individual_Scores_Men_JV!J88","v":914},{"$f":"Individual_Scores_Men_JV!K88","v":959},{"$f":"Individual_Scores_Men_JV!L88","v":912},5726,{"$f":"Baker_Scores_Men_JV!H77","v":167},{"$f":"Baker_Scores_Men_JV!I77","v":149},{"$f":"Baker_Scores_Men_JV!J77","v":182},{"$f":"Baker_Scores_Men_JV!K77","v":223},{"$f":"Baker_Scores_Men_JV!L77","v":181},{"$f":"Baker_Scores_Men_JV!M77","v":215},{"$f":"Baker_Scores_Men_JV!N77","v":173},{"$f":"Baker_Scores_Men_JV!O77","v":147},{"$f":"Baker_Scores_Men_JV!P77","v":164},{"$f":"Baker_Scores_Men_JV!Q77","v":207},{"$f":"Baker_Scores_Men_JV!R77","v":204},{"$f":"Baker_Scores_Men_JV!S77","v":211},{"$f":"Baker_Scores_Men_JV!T77","v":182},{"$f":"Baker_Scores_Men_JV!U77","v":208},{"$f":"Baker_Scores_Men_JV!V77","v":244},{"$f":"Baker_Scores_Men_JV!W77","v":215},{"$f":"Baker_Scores_Men_JV!X77","v":145},{"$f":"Baker_Scores_Men_JV!Y77","v":163},{"$f":"Baker_Scores_Men_JV!Z77","v":221},{"$f":"Baker_Scores_Men_JV!AA77","v":167},3768,9494]
[{"$f":"RANK(AF17,$AF$12:$AF$24)","v":6},"Ottawa University (KS) JV1",null,{"$f":"Individual_Scores_Men_JV!G127","v":835},{"$f":"Individual_Scores_Men_JV!H127","v":1001},{"$f":"Individual_Scores_Men_JV!I127","v":975},{"$f":"Individual_Scores_Men_JV!J127","v":969},{"$f":"Individual_Scores_Men_JV!K127","v":886},{"$f":"Individual_Scores_Men_JV!L127","v":844},5510,{"$f":"Baker_Scores_Men_JV!H116","v":180},{"$f":"Baker_Scores_Men_JV!I116","v":149},{"$f":"Baker_Scores_Men_JV!J116","v":178},{"$f":"Baker_Scores_Men_JV!K116","v":190},{"$f":"Baker_Scores_Men_JV!L116","v":190},{"$f":"Baker_Scores_Men_JV!M116","v":192},{"$f":"Baker_Scores_Men_JV!N116","v":181},{"$f":"Baker_Scores_Men_JV!O116","v":213},{"$f":"Baker_Scores_Men_JV!P116","v":168},{"$f":"Baker_Scores_Men_JV!Q116","v":197},{"$f":"Baker_Scores_Men_JV!R116","v":224},{"$f":"Baker_Scores_Men_JV!S116","v":168},{"$f":"Baker_Scores_Men_JV!T116","v":121},{"$f":"Baker_Scores_Men_JV!U116","v":184},{"$f":"Baker_Scores_Men_JV!V116","v":150},{"$f":"Baker_Scores_Men_JV!W116","v":171},{"$f":"Baker_Scores_Men_JV!X116","v":252},{"$f":"Baker_Scores_Men_JV!Y116","v":189},{"$f":"Baker_Scores_Men_JV!Z116","v":179},{"$f":"Baker_Scores_Men_JV!AA116","v":201},3677,9187]
[{"$f":"RANK(AF18,$AF$12:$AF$24)","v":7},"Oklahoma Christian University JV1",null,{"$f":"Individual_Scores_Men_JV!G114","v":883},{"$f":"Individual_Scores_Men_JV!H114","v":877},{"$f":"Individual_Scores_Men_JV!I114","v":944},{"$f":"Individual_Scores_Men_JV!J114","v":1028},{"$f":"Individual_Scores_Men_JV!K114","v":1000},{"$f":"Individual_Scores_Men_JV!L114","v":974},5706,{"$f":"Baker_Scores_Men_JV!H103","v":157},{"$f":"Baker_Scores_Men_JV!I103","v":136},{"$f":"Baker_Scores_Men_JV!J103","v":186},{"$f":"Baker_Scores_Men_JV!K103","v":135},{"$f":"Baker_Scores_Men_JV!L103","v":212},{"$f":"Baker_Scores_Men_JV!M103","v":211},{"$f":"Baker_Scores_Men_JV!N103","v":162},{"$f":"Baker_Scores_Men_JV!O103","v":177},{"$f":"Baker_Scores_Men_JV!P103","v":244},{"$f":"Baker_Scores_Men_JV!Q103","v":200},{"$f":"Baker_Scores_Men_JV!R103","v":125},{"$f":"Baker_Scores_Men_JV!S103","v":143},{"$f":"Baker_Scores_Men_JV!T103","v":183},{"$f":"Baker_Scores_Men_JV!U103","v":171},{"$f":"Baker_Scores_Men_JV!V103","v":189},{"$f":"Baker_Scores_Men_JV!W103","v":184},{"$f":"Baker_Scores_Men_JV!X103","v":153},{"$f":"Baker_Scores_Men_JV!Y103","v":136},{"$f":"Baker_Scores_Men_JV!Z103","v":197},{"$f":"Baker_Scores_Men_JV!AA103","v":160},3461,9167]
[{"$f":"RANK(AF19,$AF$12:$AF$24)","v":8},"Hastings College JV1",null,{"$f":"Individual_Scores_Men_JV!G36","v":886},{"$f":"Individual_Scores_Men_JV!H36","v":892},{"$f":"Individual_Scores_Men_JV!I36","v":965},{"$f":"Individual_Scores_Men_JV!J36","v":951},{"$f":"Individual_Scores_Men_JV!K36","v":781},{"$f":"Individual_Scores_Men_JV!L36","v":933},5408,{"$f":"Baker_Scores_Men_JV!H25","v":234},{"$f":"Baker_Scores_Men_JV!I25","v":188},{"$f":"Baker_Scores_Men_JV!J25","v":176},{"$f":"Baker_Scores_Men_JV!K25","v":217},{"$f":"Baker_Scores_Men_JV!L25","v":169},{"$f":"Baker_Scores_Men_JV!M25","v":172},{"$f":"Baker_Scores_Men_JV!N25","v":160},{"$f":"Baker_Scores_Men_JV!O25","v":164},{"$f":"Baker_Scores_Men_JV!P25","v":183},{"$f":"Baker_Scores_Men_JV!Q25","v":187},{"$f":"Baker_Scores_Men_JV!R25","v":217},{"$f":"Baker_Scores_Men_JV!S25","v":130},{"$f":"Baker_Scores_Men_JV!T25","v":168},{"$f":"Baker_Scores_Men_JV!U25","v":176},{"$f":"Baker_Scores_Men_JV!V25","v":167},{"$f":"Baker_Scores_Men_JV!W25","v":170},{"$f":"Baker_Scores_Men_JV!X25","v":180},{"$f":"Baker_Scores_Men_JV!Y25","v":245},{"$f":"Baker_Scores_Men_JV!Z25","v":144},{"$f":"Baker_Scores_Men_JV!AA25","v":192},3639,9047]
[{"$f":"RANK(AF20,$AF$12:$AF$24)","v":9},"Newman University JV2",null,{"$f":"Individual_Scores_Men_JV!G101","v":913},{"$f":"Individual_Scores_Men_JV!H101","v":855},{"$f":"Individual_Scores_Men_JV!I101","v":872},{"$f":"Individual_Scores_Men_JV!J101","v":909},{"$f":"Individual_Scores_Men_JV!K101","v":899},{"$f":"Individual_Scores_Men_JV!L101","v":898},5346,{"$f":"Baker_Scores_Men_JV!H90","v":162},{"$f":"Baker_Scores_Men_JV!I90","v":163},{"$f":"Baker_Scores_Men_JV!J90","v":153},{"$f":"Baker_Scores_Men_JV!K90","v":208},{"$f":"Baker_Scores_Men_JV!L90","v":101},{"$f":"Baker_Scores_Men_JV!M90","v":179},{"$f":"Baker_Scores_Men_JV!N90","v":147},{"$f":"Baker_Scores_Men_JV!O90","v":203},{"$f":"Baker_Scores_Men_JV!P90","v":162},{"$f":"Baker_Scores_Men_JV!Q90","v":153},{"$f":"Baker_Scores_Men_JV!R90","v":181},{"$f":"Baker_Scores_Men_JV!S90","v":171},{"$f":"Baker_Scores_Men_JV!T90","v":186},{"$f":"Baker_Scores_Men_JV!U90","v":156},{"$f":"Baker_Scores_Men_JV!V90","v":171},{"$f":"Baker_Scores_Men_JV!W90","v":121},{"$f":"Baker_Scores_Men_JV!X90","v":180},{"$f":"Baker_Scores_Men_JV!Y90","v":160},{"$f":"Baker_Scores_Men_JV!Z90","v":154},{"$f":"Baker_Scores_Men_JV!AA90","v":176},3287,8633]
[{"$f":"RANK(AF21,$AF$12:$AF$24)","v":10},"Barton Community College JV1",null,{"$f":"Individual_Scores_Men_JV!G23","v":765},{"$f":"Individual_Scores_Men_JV!H23","v":919},{"$f":"Individual_Scores_Men_JV!I23","v":894},{"$f":"Individual_Scores_Men_JV!J23","v":821},{"$f":"Individual_Scores_Men_JV!K23","v":837},{"$f":"Individual_Scores_Men_JV!L23","v":845},5081,{"$f":"Baker_Scores_Men_JV!H12","v":202},{"$f":"Baker_Scores_Men_JV!I12","v":158},{"$f":"Baker_Scores_Men_JV!J12","v":187},{"$f":"Baker_Scores_Men_JV!K12","v":155},{"$f":"Baker_Scores_Men_JV!L12","v":161},{"$f":"Baker_Scores_Men_JV!M12","v":180},{"$f":"Baker_Scores_Men_JV!N12","v":150},{"$f":"Baker_Scores_Men_JV!O12","v":195},{"$f":"Baker_Scores_Men_JV!P12","v":164},{"$f":"Baker_Scores_Men_JV!Q12","v":150},{"$f":"Baker_Scores_Men_JV!R12","v":180},{"$f":"Baker_Scores_Men_JV!S12","v":144},{"$f":"Baker_Scores_Men_JV!T12","v":143},{"$f":"Baker_Scores_Men_JV!U12","v":144},{"$f":"Baker_Scores_Men_JV!V12","v":171},{"$f":"Baker_Scores_Men_JV!W12","v":132},{"$f":"Baker_Scores_Men_JV!X12","v":149},{"$f":"Baker_Scores_Men_JV!Y12","v":189},{"$f":"Baker_Scores_Men_JV!Z12","v":168},{"$f":"Baker_Scores_Men_JV!AA12","v":130},3252,8333]
[{"$f":"RANK(AF22,$AF$12:$AF$24)","v":11},"Kansas ,University Of JV1",null,{"$f":"Individual_Scores_Men_JV!G49","v":839},{"$f":"Individual_Scores_Men_JV!H49","v":849},{"$f":"Individual_Scores_Men_JV!I49","v":710},{"$f":"Individual_Scores_Men_JV!J49","v":916},{"$f":"Individual_Scores_Men_JV!K49","v":785},{"$f":"Individual_Scores_Men_JV!L49","v":794},4893,{"$f":"Baker_Scores_Men_JV!H38","v":199},{"$f":"Baker_Scores_Men_JV!I38","v":133},{"$f":"Baker_Scores_Men_JV!J38","v":115},{"$f":"Baker_Scores_Men_JV!K38","v":155},{"$f":"Baker_Scores_Men_JV!L38","v":168},{"$f":"Baker_Scores_Men_JV!M38","v":204},{"$f":"Baker_Scores_Men_JV!N38","v":155},{"$f":"Baker_Scores_Men_JV!O38","v":188},{"$f":"Baker_Scores_Men_JV!P38","v":159},{"$f":"Baker_Scores_Men_JV!Q38","v":139},{"$f":"Baker_Scores_Men_JV!R38","v":154},{"$f":"Baker_Scores_Men_JV!S38","v":136},{"$f":"Baker_Scores_Men_JV!T38","v":182},{"$f":"Baker_Scores_Men_JV!U38","v":135},{"$f":"Baker_Scores_Men_JV!V38","v":174},{"$f":"Baker_Scores_Men_JV!W38","v":161},{"$f":"Baker_Scores_Men_JV!X38","v":161},{"$f":"Baker_Scores_Men_JV!Y38","v":168},{"$f":"Baker_Scores_Men_JV!Z38","v":114},{"$f":"Baker_Scores_Men_JV!AA38","v":136},3136,8029]
[{"$f":"RANK(AF23,$AF$12:$AF$24)","v":12},"Nebraska ,University Of JV1",null,{"$f":"Individual_Scores_Men_JV!G75","v":0},{"$f":"Individual_Scores_Men_JV!H75","v":0},{"$f":"Individual_Scores_Men_JV!I75","v":0},{"$f":"Individual_Scores_Men_JV!J75","v":0},{"$f":"Individual_Scores_Men_JV!K75","v":0},{"$f":"Individual_Scores_Men_JV!L75","v":0},0,{"$f":"Baker_Scores_Men_JV!H64","v":0},{"$f":"Baker_Scores_Men_JV!I64","v":0},{"$f":"Baker_Scores_Men_JV!J64","v":0},{"$f":"Baker_Scores_Men_JV!K64","v":0},{"$f":"Baker_Scores_Men_JV!L64","v":0},{"$f":"Baker_Scores_Men_JV!M64","v":0},{"$f":"Baker_Scores_Men_JV!N64","v":0},{"$f":"Baker_Scores_Men_JV!O64","v":0},{"$f":"Baker_Scores_Men_JV!P64","v":0},{"$f":"Baker_Scores_Men_JV!Q64","v":0},{"$f":"Baker_Scores_Men_JV!R64","v":0},{"$f":"Baker_Scores_Men_JV!S64","v":0},{"$f":"Baker_Scores_Men_JV!T64","v":0},{"$f":"Baker_Scores_Men_JV!U64","v":0},{"$f":"Baker_Scores_Men_JV!V64","v":0},{"$f":"Baker_Scores_Men_JV!W64","v":0},{"$f":"Baker_Scores_Men_JV!X64","v":0},{"$f":"Baker_Scores_Men_JV!Y64","v":0},{"$f":"Baker_Scores_Men_JV!Z64","v":0},{"$f":"Baker_Scores_Men_JV!AA64","v":0},0,0]
[]
[null,"Total Team Pins:",null,{"$f":"SUM(D12:D23)","v":9940},10237,10364,10722,10240,10226,61729,2022,1864,1938,2070,1931,2154,2003,2121,2025,2073,1988,1885,1937,1922,2041,1909,2054,2087,1876,1942,39842,101571]
[null,"Team Field Ave:",null,{"$f":"(D25/12)","v":828.3333333},853.0833333,863.6666667,893.5,853.3333333,852.1666667,5144.083333,168.5,155.3333333,161.5,172.5,160.9166667,179.5,166.9166667,176.75,168.75,172.75,165.6666667,157.0833333,161.4166667,160.1666667,170.0833333,159.0833333,171.1666667,173.9166667,156.3333333,161.8333333,3320.166667]
[null,"Individual Field Ave:",null,{"$f":"IF(D34 = 0, 0,D25/D34)","v":180.7272727},186.1272727,188.4363636,194.9454545,186.1818182,185.9272727,187.0575758]
[]
[]
[]
[]
[]
[]
[null,null,null,{"$f":"COUNTIF(Individual_Scores_Men_JV!G12:G22, \">0\")+COUNTIF(Individual_Scores_Men_JV!G25:G35, \">0\")+COUNTIF(Individual_Scores_Men_JV!G38:G48, \">0\")+COUNTIF(Individual_Scores_Men_JV!G51:G61, \">0\")+COUNTIF(Individual_Scores_Men_JV!G64:G74, \">0\")+COUNTIF(Individual_Scores_Men_JV!G77:G87, \">0\")+COUNTIF(Individual_Scores_Men_JV!G90:G100, \">0\")+COUNTIF(Individual_Scores_Men_JV!G103:G113, \">0\")+COUNTIF(Individual_Scores_Men_JV!G116:G126, \">0\")+COUNTIF(Individual_Scores_Men_JV!G129:G139, \">0\")+COUNTIF(Individual_Scores_Men_JV!G142:G152, \">0\")+COUNTIF(Individual_Scores_Men_JV!G155:G165, \">0\")","v":55},{"$f":"COUNTIF(Individual_Scores_Men_JV!H12:H22, \">0\")+COUNTIF(Individual_Scores_Men_JV!H25:H35, \">0\")+COUNTIF(Individual_Scores_Men_JV!H38:H48, \">0\")+COUNTIF(Individual_Scores_Men_JV!H51:H61, \">0\")+COUNTIF(Individual_Scores_Men_JV!H64:H74, \">0\")+COUNTIF(Individual_Scores_Men_JV!H77:H87, \">0\")+COUNTIF(Individual_Scores_Men_JV!H90:H100, \">0\")+COUNTIF(Individual_Scores_Men_JV!H103:H113, \">0\")+COUNTIF(Individual_Scores_Men_JV!H116:H126, \">0\")+COUNTIF(Individual_Scores_Men_JV!H129:H139, \">0\")+COUNTIF(Individual_Scores_Men_JV!H142:H152, \">0\")+COUNTIF(Individual_Scores_Men_JV!H155:H165, \">0\")","v":55},{"$f":"COUNTIF(Individual_Scores_Men_JV!I12:I22, \">0\")+COUNTIF(Individual_Scores_Men_JV!I25:I35, \">0\")+COUNTIF(Individual_Scores_Men_JV!I38:I48, \">0\")+COUNTIF(Individual_Scores_Men_JV!I51:I61, \">0\")+COUNTIF(Individual_Scores_Men_JV!I64:I74, \">0\")+COUNTIF(Individual_Scores_Men_JV!I77:I87, \">0\")+COUNTIF(Individual_Scores_Men_JV!I90:I100, \">0\")+COUNTIF(Individual_Scores_Men_JV!I103:I113, \">0\")+COUNTIF(Individual_Scores_Men_JV!I116:I126, \">0\")+COUNTIF(Individual_Scores_Men_JV!I129:I139, \">0\")+COUNTIF(Individual_Scores_Men_JV!I142:I152, \">0\")+COUNTIF(Individual_Scores_Men_JV!I155:I165, \">0\")","v":55},{"$f":"COUNTIF(Individual_Scores_Men_JV!J12:J22, \">0\")+COUNTIF(Individual_Scores_Men_JV!J25:J35, \">0\")+COUNTIF(Individual_Scores_Men_JV!J38:J48, \">0\")+COUNTIF(Individual_Scores_Men_JV!J51:J61, \">0\")+COUNTIF(Individual_Scores_Men_JV!J64:J74, \">0\")+COUNTIF(Individual_Scores_Men_JV!J77:J87, \">0\")+COUNTIF(Individual_Scores_Men_JV!J90:J100, \">0\")+COUNTIF(Individual_Scores_Men_JV!J103:J113, \">0\")+COUNTIF(Individual_Scores_Men_JV!J116:J126, \">0\")+COUNTIF(Individual_Scores_Men_JV!J129:J139, \">0\")+COUNTIF(Individual_Scores_Men_JV!J142:J152, \">0\")+COUNTIF(Individual_Scores_Men_JV!J155:J165, \">0\")","v":55},{"$f":"COUNTIF(Individual_Scores_Men_JV!K12:K22, \">0\")+COUNTIF(Individual_Scores_Men_JV!K25:K35, \">0\")+COUNTIF(Individual_Scores_Men_JV!K38:K48, \">0\")+COUNTIF(Individual_Scores_Men_JV!K51:K61, \">0\")+COUNTIF(Individual_Scores_Men_JV!K64:K74, \">0\")+COUNTIF(Individual_Scores_Men_JV!K77:K87, \">0\")+COUNTIF(Individual_Scores_Men_JV!K90:K100, \">0\")+COUNTIF(Individual_Scores_Men_JV!K103:K113, \">0\")+COUNTIF(Individual_Scores_Men_JV!K116:K126, \">0\")+COUNTIF(Individual_Scores_Men_JV!K129:K139, \">0\")+COUNTIF(Individual_Scores_Men_JV!K142:K152, \">0\")+COUNTIF(Individual_Scores_Men_JV!K155:K165, \">0\")","v":55},{"$f":"COUNTIF(Individual_Scores_Men_JV!L12:L22, \">0\")+COUNTIF(Individual_Scores_Men_JV!L25:L35, \">0\")+COUNTIF(Individual_Scores_Men_JV!L38:L48, \">0\")+COUNTIF(Individual_Scores_Men_JV!L51:L61, \">0\")+COUNTIF(Individual_Scores_Men_JV!L64:L74, \">0\")+COUNTIF(Individual_Scores_Men_JV!L77:L87, \">0\")+COUNTIF(Individual_Scores_Men_JV!L90:L100, \">0\")+COUNTIF(Individual_Scores_Men_JV!L103:L113, \">0\")+COUNTIF(Individual_Scores_Men_JV!L116:L126, \">0\")+COUNTIF(Individual_Scores_Men_JV!L129:L139, \">0\")+COUNTIF(Individual_Scores_Men_JV!L142:L152, \">0\")+COUNTIF(Individual_Scores_Men_JV!L155:L165, \">0\")","v":55},{"$f":"SUM(D34:I34)","v":330}]
[null,"Qualifying Team Standings "]
[null,"Mid States Championships (Tier I Men)"]
[null,"Men's Jr. Varsity"]
[null,null,null,"Overall"]
["Rank","Team",null,"Total"]
[{"$f":"A12","v":1},"Wichita State University JV1",null,{"$f":"AF12","v":10723}]
[{"$f":"A13","v":2},"Lindenwood University JV1",null,9765]
[{"$f":"A14","v":3},"Wichita State University JV2",null,9612]
[{"$f":"A15","v":4},"St. Ambrose University JV1",null,9581]
[{"$f":"A16","v":5},"Newman University JV1",null,9494]
[{"$f":"A17","v":6},"Ottawa University (KS) JV1",null,9187]
[{"$f":"A18","v":7},"Oklahoma Christian University JV1",null,9167]
[{"$f":"A19","v":8},"Hastings College JV1",null,9047]
[{"$f":"A20","v":9},"Newman University JV2",null,8633]
[{"$f":"A21","v":10},"Barton Community College JV1",null,8333]
[{"$f":"A22","v":11},"Kansas ,University Of JV1",null,8029]
[{"$f":"A23","v":12},"Nebraska ,University Of JV1",null,0]

{"sheet":"Indiv_Combined_Scores_Men","index":7,"n_rows":489,"n_cols":141,"rows_kept":489,"cut":false,"hidden":false,"merged":[[0,0,0,17]]}
["Individual Combined Scores",{"$nulls":25},43.0,{"$nulls":104},"G12:L22","B12:B22","D12:D22","C12:C22","Individual_Scores_Men_Var","G13:L23","E13:E23","B13:B23","C13:C23","Indiv_Combined_Scores_Men"]
[{"$nulls":26},"B13:O485",{"$nulls":104},"G25:L35","B25:B35","D25:D35","C25:C35","Individual_Scores_Men_Var","G24:L34","E24:E34","B24:B34","C24:C34","Indiv_Combined_Scores_Men"]
[null,"Mid States Championships (Tier I Men)",null,null,"10/15/2022 - 10/16/2022",{"$nulls":21},"M13:M485","B13:B485",{"$nulls":103},"G38:L48","B38:B48","D38:D48","C38:C48","Individual_Scores_Men_Var","G35:L45","E35:E45","B35:B45","C35:C45","Indiv_Combined_Scores_Men"]
[null,"Tier 1","USBC",null,"Wichita, KS",{"$nulls":48},"IBCYouth",{"$nulls":77},"G51:L61","B51:B61","D51:D61","C51:C61","Individual_Scores_Men_Var","G46:L56","E46:E56","B46:B56","C46:C56","Indiv_Combined_Scores_Men"]
[{"$nulls":131},"G64:L74","B64:B74","D64:D74","C64:C74","Individual_Scores_Men_Var","G57:L67","E57:E67","B57:B67","C57:C67","Indiv_Combined_Scores_Men"]
[{"$nulls":131},"G77:L87","B77:B87","D77:D87","C77:C87","Individual_Scores_Men_Var","G68:L78","E68:E78","B68:B78","C68:C78","Indiv_Combined_Scores_Men"]
[{"$nulls":131},"G90:L100","B90:B100","D90:D100","C90:C100","Individual_Scores_Men_Var","G79:L89","E79:E89","B79:B89","C79:C89","Indiv_Combined_Scores_Men"]
[null,"Men's Division",null,null,"Cert. No: 05700",{"$nulls":126},"G103:L113","B103:B113","D103:D113","C103:C113","Individual_Scores_Men_Var","G90:L100","E90:E100","B90:B100","C90:C100","Indiv_Combined_Scores_Men"]
[{"$nulls":131},"G116:L126","B116:B126","D116:D126","C116:C126","Individual_Scores_Men_Var","G101:L111","E101:E111","B101:B111","C101:C111","Indiv_Combined_Scores_Men"]
[{"$nulls":131},"G129:L139","B129:B139","D129:D139","C129:C139","Individual_Scores_Men_Var","G112:L122","E112:E122","B112:B122","C112:C122","Indiv_Combined_Scores_Men"]
[{"$nulls":6},"Game","Game","Game","Game","Game","Game","Individual","Game","Tourn.",{"$nulls":116},"G142:L152","B142:B152","D142:D152","C142:C152","Individual_Scores_Men_Var","G123:L133","E123:E133","B123:B133","C123:C133","Indiv_Combined_Scores_Men"]
["Rank","Bowler","Bowler ID",null,"Team","State",1.0,2.0,3.0,4.0,5.0,6.0,"Total","Bowled","Ave.",{"$nulls":116},"G155:L165","B155:B165","D155:D165","C155:C165","Individual_Scores_Men_Var","G134:L144","E134:E144","B134:B144","C134:C144","Indiv_Combined_Scores_Men"]
[1.0,"Cameron Brundage","20-9086",null,"Iowa Western Community College V ","",266.0,279.0,188.0,299.0,225.0,194.0,{"$f":"SUM(G13:L13)","v":1451},{"$f":"COUNTIF(G13:L13, \">0\" )","v":6},{"$f":"IF(N13=0,0,M13/N13)","v":241.8333333},{"$nulls":116},"G168:L178","B168:B178","D168:D178","C168:C178","Individual_Scores_Men_Var","G145:L155","E145:E155","B145:B155","C145:C155","Indiv_Combined_Scores_Men"]
[2.0,"Spencer Robarge","8845-13565",null,"Wichita State University V ","",181.0,247.0,248.0,250.0,267.0,257.0,1450,6,241.6666667,{"$nulls":116},"G181:L191","B181:B191","D181:D191","C181:C191","Individual_Scores_Men_Var","G156:L166","E156:E166","B156:B166","C156:C166","Indiv_Combined_Scores_Men"]
[3.0,"Chasten Pojas","5617-3699",null,"Newman University V ","",222.0,238.0,238.0,176.0,279.0,242.0,1395,6,232.5,{"$nulls":116},"G194:L204","B194:B204","D194:D204","C194:C204","Individual_Scores_Men_Var","G167:L177","E167:E177","B167:B177","C167:C177","Indiv_Combined_Scores_Men"]
[4.0,"Alec Keplinger","5984-243",null,"Wichita State University V ","",207.0,254.0,232.0,213.0,199.0,279.0,1384,6,230.6666667,{"$nulls":116},"G207:L217","B207:B217","D207:D217","C207:C217","Individual_Scores_Men_Var","G178:L188","E178:E188","B178:B188","C178:C188","Indiv_Combined_Scores_Men"]
[5.0,"Ashton Holladay","15-57483",null,"Oklahoma Christian University V ","",247.0,233.0,277.0,214.0,187.0,212.0,1370,6,228.3333333,{"$nulls":116},"G220:L230","B220:B230","D220:D230","C220:C230","Individual_Scores_Men_Var","G189:L199","E189:E199","B189:B199","C189:C199","Indiv_Combined_Scores_Men"]
[6.0,"Samuel Calderon","5900-26986",null,"Wichita State University JV1 ","",235.0,198.0,253.0,203.0,223.0,256.0,1368,6,228,{"$nulls":116},"G233:L243","B233:B243","D233:D243","C233:C243","Individual_Scores_Men_Var","G200:L210","E200:E210","B200:B210","C200:C210","Indiv_Combined_Scores_Men"]
[7.0,"Brandon Bonta","5900-25321",null,"Wichita State University V ","",199.0,240.0,226.0,265.0,202.0,230.0,1362,6,227,{"$nulls":116},"G246:L256","B246:B256","D246:D256","C246:C256","Individual_Scores_Men_Var","G211:L221","E211:E221","B211:B221","C211:C221","Indiv_Combined_Scores_Men"]
[8.0,"Zachary Leshikar","5617-4286",null,"Wichita State University JV1 ","",189.0,180.0,254.0,244.0,256.0,223.0,1346,6,224.3333333,{"$nulls":116},"G259:L269","B259:B269","D259:D269","C259:C269","Individual_Scores_Men_Var","G222:L232","E222:E232","B222:B232","C222:C232","Indiv_Combined_Scores_Men"]
[9.0,"Brandon Bohn","11-258258",null,"Mount Mercy University V ","",244.0,258.0,218.0,167.0,218.0,234.0,1339,6,223.1666667,{"$nulls":116},"G272:L282","B272:B282","D272:D282","C272:C282","Individual_Scores_Men_Var","G233:L243","E233:E243","B233:B243","C233:C243","Indiv_Combined_Scores_Men"]
[10.0,"Carter Street","7914-45013",null,"Wichita State University JV1 ","",237.0,215.0,185.0,268.0,191.0,243.0,1339,6,223.1666667,{"$nulls":116},"G285:L295","B285:B295","D285:D295","C285:C295","Individual_Scores_Men_Var","G244:L254","E244:E254","B244:B254","C244:C254","Indiv_Combined_Scores_Men"]
[11.0,"Brandon Caruso","11-719521",null,"Wichita State University JV1 ","",259.0,226.0,233.0,183.0,258.0,179.0,1338,6,223,{"$nulls":116},"G298:L308","B298:B308","D298:D308","C298:C308","Individual_Scores_Men_Var","G255:L265","E255:E265","B255:B265","C255:C265","Indiv_Combined_Scores_Men"]
[12.0,"James McIver","9115-2715",null,"Newman University JV1 ","",259.0,183.0,237.0,218.0,200.0,238.0,1335,6,222.5,{"$nulls":116},"G311:L321","B311:B321","D311:D321","C311:C321","Individual_Scores_Men_Var","G266:L276","E266:E276","B266:B276","C266:C276","Indiv_Combined_Scores_Men"]
[13.0,"Ty'un Mattison","17-34053",null,"Wichita State University JV2 ","",239.0,204.0,236.0,204.0,215.0,223.0,1321,6,220.1666667,{"$nulls":116},"G324:L334","B324:B334","D324:D334","C324:C334","Individual_Scores_Men_Var","G277:L287","E277:E287","B277:B287","C277:C287","Indiv_Combined_Scores_Men"]
[14.0,"Louis Luna","7914-43393",null,"Wichita State University JV2 ","",172.0,289.0,212.0,264.0,193.0,188.0,1318,6,219.6666667,{"$nulls":116},"G337:L347","B337:B347","D337:D347","C337:C347","Individual_Scores_Men_Var","G288:L298","E288:E298","B288:B298","C288:C298","Indiv_Combined_Scores_Men"]
[15.0,"Noah Akiona","15-8308",null,"Newman University V ","",222.0,201.0,223.0,236.0,237.0,195.0,1314,6,219,{"$nulls":116},"G350:L360","B350:B360","D350:D360","C350:C360","Individual_Scores_Men_Var","G299:L309","E299:E309","B299:B309","C299:C309","Indiv_Combined_Scores_Men"]
[16.0,"Taylor Miller","5900-23606",null,"Kansas Wesleyan University V ","",225.0,225.0,196.0,237.0,253.0,177.0,1313,6,218.8333333,{"$nulls":116},"G363:L373","B363:B373","D363:D373","C363:C373","Individual_Scores_Men_Var","G310:L320","E310:E320","B310:B320","C310:C320","Indiv_Combined_Scores_Men"]
[17.0,"Trey Maloy","11-610746",null,"Oklahoma Christian University V ","",220.0,209.0,243.0,198.0,248.0,193.0,1311,6,218.5,{"$nulls":116},"G376:L386","B376:B386","D376:D386","C376:C386","Individual_Scores_Men_Var","G321:L331","E321:E331","B321:B331","C321:C331","Indiv_Combined_Scores_Men"]
[18.0,"Zach Greim","11-628825",null,"St. Ambrose University V ","",194.0,257.0,233.0,207.0,204.0,216.0,1311,6,218.5,{"$nulls":116},"G389:L399","B389:B399","D389:D399","C389:C399","Individual_Scores_Men_Var","G332:L342","E332:E342","B332:B342","C332:C342","Indiv_Combined_Scores_Men"]
[19.0,"Andrew Sacks","6455-5561",null,"Lindenwood University V ","",171.0,205.0,239.0,220.0,234.0,227.0,1296,6,216,{"$nulls":116},"G402:L412","B402:B412","D402:D412","C402:C412","Individual_Scores_Men_Var","G343:L353","E343:E353","B343:B353","C343:C353","Indiv_Combined_Scores_Men"]
[20.0,"Lucas Kramer","5860-323",null,"Grand View University V ","",204.0,191.0,235.0,236.0,182.0,245.0,1293,6,215.5,{"$nulls":116},"G12:L22","B12:B22","D12:D22","C12:C22","Individual_Scores_Men_JV","G354:L364","E354:E364","B354:B364","C354:C364","Indiv_Combined_Scores_Men"]
[21.0,"Brady Kaufmann","8219-74921",null,"Hastings College V ","",242.0,215.0,225.0,193.0,215.0,193.0,1283,6,213.8333333,{"$nulls":116},"G25:L35","B25:B35","D25:D35","C25:C35","Individual_Scores_Men_JV","G365:L375","E365:E375","B365:B375","C365:C375","Indiv_Combined_Scores_Men"]
[22.0,"Zane Cairo","19-85485",null,"Iowa Western Community College V ","",183.0,216.0,276.0,217.0,203.0,180.0,1275,6,212.5,{"$nulls":116},"G38:L48","B38:B48","D38:D48","C38:C48","Individual_Scores_Men_JV","G376:L386","E376:E386","B376:B386","C376:C386","Indiv_Combined_Scores_Men"]
[23.0,"Anthony Hernandez","6238-1210",null,"Hastings College V ","",157.0,199.0,236.0,204.0,224.0,247.0,1267,6,211.1666667,{"$nulls":116},"G51:L61","B51:B61","D51:D61","C51:C61","Individual_Scores_Men_JV","G387:L397","E387:E397","B387:B397","C387:C397","Indiv_Combined_Scores_Men"]
[24.0,"Ryan Speer","11-651099",null,"St. Ambrose University V ","",174.0,279.0,234.0,213.0,204.0,160.0,1264,6,210.6666667,{"$nulls":116},"G64:L74","B64:B74","D64:D74","C64:C74","Individual_Scores_Men_JV","G398:L408","E398:E408","B398:B408","C398:C408","Indiv_Combined_Scores_Men"]
[25.0,"Garrett Jolly","8482-467",null,"Lindenwood University V ","",220.0,182.0,198.0,192.0,237.0,234.0,1263,6,210.5,{"$nulls":116},"G77:L87","B77:B87","D77:D87","C77:C87","Individual_Scores_Men_JV","G409:L419","E409:E419","B409:B419","C409:C419","Indiv_Combined_Scores_Men"]
[26.0,"Justin Graves","8731-3049",null,"Iowa Central Community College V ","",203.0,191.0,187.0,213.0,236.0,233.0,1263,6,210.5,{"$nulls":116},"G90:L100","B90:B100","D90:D100","C90:C100","Individual_Scores_Men_JV","G420:L430","E420:E430","B420:B430","C420:C430","Indiv_Combined_Scores_Men"]
[27.0,"Jared Freed","5900-23017",null,"Ottawa University (KS) V ","",213.0,198.0,245.0,179.0,220.0,200.0,1255,6,209.1666667,{"$nulls":116},"G103:L113","B103:B113","D103:D113","C103:C113","Individual_Scores_Men_JV","G431:L441","E431:E441","B431:B441","C431:C441","Indiv_Combined_Scores_Men"]
[28.0,"Juan Pablo Aguirre Moreno","21-12175",null,"Lindenwood University JV1 ","",179.0,201.0,195.0,244.0,225.0,211.0,1255,6,209.1666667,{"$nulls":116},"G116:L126","B116:B126","D116:D126","C116:C126","Individual_Scores_Men_JV","G442:L452","E442:E452","B442:B452","C442:C452","Indiv_Combined_Scores_Men"]
[29.0,"Zacary Barbee","9129-614",null,"Drury University V ","",195.0,244.0,216.0,220.0,178.0,197.0,1250,6,208.3333333,{"$nulls":116},"G129:L139","B129:B139","D129:D139","C129:C139","Individual_Scores_Men_JV","G453:L463","E453:E463","B453:B463","C453:C463","Indiv_Combined_Scores_Men"]
[30.0,"Peyton Montgomery","11-487407",null,"Newman University V ","",256.0,191.0,241.0,199.0,180.0,182.0,1249,6,208.1666667,{"$nulls":116},"G142:L152","B142:B152","D142:D152","C142:C152","Individual_Scores_Men_JV","G464:L474","E464:E474","B464:B474","C464:C474","Indiv_Combined_Scores_Men"]
[31.0,"Jorell Morris","11-370860",null,"St. Ambrose University JV1 ","",204.0,191.0,201.0,209.0,203.0,237.0,1245,6,207.5,{"$nulls":116},"G155:L165","B155:B165","D155:D165","C155:C165","Individual_Scores_Men_JV","G475:L485","E475:E485","B475:B485","C475:C485","Indiv_Combined_Scores_Men"]
[32.0,"Winton Gassmann","11-102582",null,"Hastings College V ","",202.0,202.0,206.0,257.0,197.0,180.0,1244,6,207.3333333]
[33.0,"Justin Weddige","16-124170",null,"Ottawa University (KS) JV1 ","",217.0,220.0,181.0,241.0,210.0,174.0,1243,6,207.1666667]
[34.0,"Jayson Palacios","8259-42274",null,"Newman University V ","",241.0,194.0,192.0,221.0,191.0,192.0,1231,6,205.1666667]
[35.0,"Nicholas Prochnow","5689-4652",null,"Grand View University V ","",193.0,223.0,217.0,163.0,214.0,221.0,1231,6,205.1666667]
[36.0,"Blake Reiger","11-305608",null,"Lindenwood University V ","",182.0,209.0,220.0,213.0,190.0,214.0,1228,6,204.6666667]
[37.0,"Kyle Lovell","5900-23216",null,"Ottawa University (KS) V ","",201.0,148.0,224.0,235.0,190.0,227.0,1225,6,204.1666667]
[38.0,"Carstin Olson","11-120329",null,"Hastings College JV1 ","",214.0,255.0,203.0,224.0,149.0,176.0,1221,6,203.5]
[39.0,"Dillon Harris","11-246267",null,"Baker University V ","",214.0,235.0,178.0,206.0,184.0,202.0,1219,6,203.1666667]
[40.0,"C. J. Petrin","8138-10890",null,"Oklahoma Christian University V ","",211.0,206.0,225.0,166.0,206.0,200.0,1214,6,202.3333333]
[41.0,"Clayton Reid","11-537531",null,"Mount Mercy University V ","",198.0,199.0,213.0,212.0,180.0,211.0,1213,6,202.1666667]
[42.0,"Bryce Cady","11-464684",null,"Coe College V ","",179.0,246.0,177.0,218.0,198.0,194.0,1212,6,202]
[43.0,"Kaleb Anderson","11-513100",null,"Iowa Western Community College V ","",215.0,198.0,174.0,226.0,230.0,169.0,1212,6,202]
[44.0,"Jacob Miner","5712-982",null,"Waldorf University V ","",260.0,161.0,199.0,237.0,150.0,204.0,1211,6,201.8333333]
[45.0,"Cayden Thoms","11-697151",null,"Quincy University V ","",239.0,192.0,177.0,199.0,206.0,193.0,1206,6,201]
[46.0,"River VanVeghel","17-52681",null,"Culver-Stockton College V ","",200.0,226.0,186.0,202.0,215.0,172.0,1201,6,200.1666667]
[47.0,"Alexander Schnieders","15-131663",null,"Nebraska ,University Of V ","",221.0,240.0,182.0,177.0,204.0,175.0,1199,6,199.8333333]
[48.0,"Nicholas Hays","11-280786",null,"Avila University V ","",201.0,224.0,221.0,200.0,168.0,185.0,1199,6,199.8333333]
[49.0,"Brandon Collins","5900-27892",null,"Wichita State University JV1 ","",169.0,247.0,170.0,226.0,203.0,177.0,1192,6,198.6666667]
[50.0,"Jared Smith","11-102941",null,"William Penn University V ","",210.0,248.0,155.0,224.0,191.0,162.0,1190,6,198.3333333]
[51.0,"Kyler Stockstill","11-625840",null,"Newman University JV2 ","",175.0,265.0,192.0,178.0,186.0,192.0,1188,6,198]
[52.0,"Anthony Lundy","11-479052",null,"Quincy University V ","",177.0,206.0,189.0,166.0,221.0,228.0,1187,6,197.8333333]
[53.0,"Cole Munley","18-90181",null,"Newman University JV1 ","",184.0,177.0,202.0,180.0,233.0,211.0,1187,6,197.8333333]
[54.0,"Will Davis","15-83216",null,"West Texas A&M University V ","",186.0,166.0,128.0,255.0,231.0,212.0,1178,6,196.3333333]
[55.0,"Kaden Whitehurst","8216-1716",null,"Ottawa University (KS) JV1 ","",195.0,200.0,205.0,188.0,203.0,186.0,1177,6,196.1666667]
[56.0,"Ian Tibbott","21-4165",null,"Coe College V ","",179.0,214.0,214.0,162.0,210.0,197.0,1176,6,196]
[57.0,"Taylor Wiley","11-617695",null,"Kansas Wesleyan University V ","",158.0,266.0,170.0,198.0,220.0,163.0,1175,6,195.8333333]
[58.0,"Isaac Young","7914-15647",null,"Nebraska ,University Of V ","",193.0,258.0,186.0,150.0,176.0,209.0,1172,6,195.3333333]
[59.0,"Lucas Campbell","11-241684",null,"Iowa Central Community College V ","",204.0,162.0,190.0,188.0,216.0,212.0,1172,6,195.3333333]
[60.0,"Andru Wilder","11-389770",null,"Grand View University V ","",196.0,169.0,215.0,164.0,238.0,188.0,1170,6,195]
[61.0,"Dalton Smith","17-15383",null,"Oklahoma Christian University JV1 ","",187.0,187.0,226.0,226.0,173.0,171.0,1170,6,195]
[62.0,"Jackson Penny","18-94173",null,"Kansas Wesleyan University V ","",193.0,167.0,212.0,196.0,204.0,195.0,1167,6,194.5]
[63.0,"Bryce Moore","11-97260",null,"Barton Community College V ","",212.0,224.0,181.0,206.0,194.0,146.0,1163,6,193.8333333]
[64.0,"Joshua Drouin","22-1764",null,"Oklahoma Christian University JV1 ","",177.0,177.0,165.0,195.0,195.0,251.0,1160,6,193.3333333]
[65.0,"Jake Evitts","11-32574",null,"Culver-Stockton College V ","",233.0,206.0,151.0,193.0,212.0,162.0,1157,6,192.8333333]
[66.0,"Preston Downard","6161-280",null,"West Texas A&M University V ","",193.0,178.0,154.0,216.0,240.0,172.0,1153,6,192.1666667]
[67.0,"Caleb Wangler","11-485194",null,"Avila University V ","",142.0,245.0,211.0,234.0,172.0,146.0,1150,6,191.6666667]
[68.0,"V-Thoon Thanasouk","19-4539",null,"Barton Community College V ","",208.0,212.0,200.0,197.0,141.0,191.0,1149,6,191.5]
[69.0,"Justin Aboud","11-450746",null,"St. Ambrose University V ","",158.0,194.0,176.0,218.0,193.0,208.0,1147,6,191.1666667]
[70.0,"Jake Cook","5853-217",null,"William Penn University V ","",161.0,191.0,184.0,171.0,189.0,246.0,1142,6,190.3333333]
[71.0,"Tyler Seeley","11-104668",null,"Hastings College V ","",0.0,238.0,224.0,237.0,224.0,219.0,1142,5,228.4]
[72.0,"Levi Staley","7914-19067",null,"Culver-Stockton College V ","",165.0,212.0,156.0,176.0,257.0,173.0,1139,6,189.8333333]
[73.0,"Layne Riggs","21-470",null,"University Of Saint Mary V ","",161.0,193.0,225.0,179.0,186.0,194.0,1138,6,189.6666667]
[74.0,"Jeremy Vanost","11-111286",null,"Drury University V ","",137.0,212.0,221.0,189.0,193.0,178.0,1130,6,188.3333333]
[75.0,"Zachery Boh","21-1165",null,"Newman University JV2 ","",216.0,140.0,169.0,152.0,225.0,226.0,1128,6,188]
[76.0,"Corey Roth","5816-1483",null,"St. Ambrose University JV1 ","",115.0,187.0,254.0,165.0,191.0,212.0,1124,6,187.3333333]
[77.0,"Connor Meegan","16-162510",null,"Quincy University V ","",164.0,182.0,187.0,245.0,170.0,173.0,1121,6,186.8333333]
[78.0,"Andrei Tacorda","11-626689",null,"Mount Mercy University V ","",0.0,202.0,232.0,215.0,203.0,268.0,1120,5,224]
[79.0,"Mason Sterkel","8128-4496",null,"Iowa Western Community College V ","",189.0,186.0,191.0,201.0,203.0,147.0,1117,6,186.1666667]
[80.0,"Chase Horsley","6507-11202",null,"Oklahoma State University V ","",212.0,200.0,191.0,141.0,156.0,213.0,1113,6,185.5]
[81.0,"Brody Stanback","11-392672",null,"Avila University V ","",131.0,206.0,180.0,183.0,198.0,214.0,1112,6,185.3333333]
[82.0,"Brandon Lacy","11-375377",null,"Drury University V ","",193.0,207.0,214.0,139.0,188.0,169.0,1110,6,185]
[83.0,"Devon Urbano","11-366233",null,"Newman University JV1 ","",182.0,179.0,213.0,216.0,182.0,136.0,1108,6,184.6666667]
[84.0,"Nathan Galicia","11-550328",null,"Newman University JV2 ","",192.0,167.0,184.0,200.0,165.0,200.0,1108,6,184.6666667]
[85.0,"Haden Barbee","11-29144",null,"Drury University V ","",188.0,195.0,173.0,209.0,184.0,152.0,1101,6,183.5]
[86.0,"Matthew Lennox","11-661049",null,"William Woods University V ","",164.0,219.0,172.0,184.0,161.0,195.0,1095,6,182.5]
[87.0,"Cameron Kotwitz","11-90659",null,"Kansas State University V ","",171.0,225.0,185.0,162.0,187.0,163.0,1093,6,182.1666667]
[88.0,"Ryan Kaufman","11-69054",null,"Waldorf University V ","",156.0,207.0,168.0,206.0,210.0,146.0,1093,6,182.1666667]
[89.0,"Zach Hathaway","6507-11763",null,"Oklahoma State University V ","",167.0,181.0,201.0,180.0,150.0,207.0,1086,6,181]
[90.0,"Joshua Kacich","18-48027",null,"University Of Saint Mary V ","",232.0,160.0,151.0,175.0,162.0,205.0,1085,6,180.8333333]
[91.0,"Josh King","18-65090",null,"Ottawa University (KS) JV1 ","",189.0,207.0,182.0,174.0,178.0,153.0,1083,6,180.5]
[92.0,"Cameryn Wheeler","11-595310",null,"Kansas ,University Of JV1 ","",176.0,238.0,156.0,167.0,179.0,166.0,1082,6,180.3333333]
[93.0,"Aidan Vanmetre","19-16176",null,"Barton Community College JV1 ","",157.0,211.0,179.0,180.0,211.0,143.0,1081,6,180.1666667]
[94.0,"Mory Ashenberg","22-27350",null,"Kansas ,University Of V ","",211.0,142.0,166.0,157.0,203.0,202.0,1081,6,180.1666667]
[95.0,"Caleb Kelley","19-57818",null,"Oklahoma Christian University JV1 ","",203.0,171.0,169.0,205.0,184.0,148.0,1080,6,180]
[96.0,"Gavin Moeller","19-3783",null,"Culver-Stockton College V ","",239.0,165.0,162.0,143.0,189.0,160.0,1058,6,176.3333333]
[97.0,"Christian Merrick","11-301300",null,"William Woods University V ","",171.0,204.0,132.0,208.0,204.0,137.0,1056,6,176]
[98.0,"Daniel Moser","11-469451",null,"Kansas ,University Of JV1 ","",159.0,181.0,148.0,237.0,167.0,160.0,1052,6,175.3333333]
[99.0,"Caleb Horton","11-645936",null,"Lindenwood University JV1 ","",0.0,168.0,246.0,201.0,221.0,209.0,1045,5,209]
[100.0,"Brett Lloyd","7914-17584",null,"Mount Mercy University V ","",130.0,0.0,245.0,234.0,183.0,252.0,1044,5,208.8]
[101.0,"Joseph Walgenbach","22-1354",null,"Waldorf University V ","",156.0,185.0,199.0,155.0,192.0,153.0,1040,6,173.3333333]
[102.0,"Conor Fetherston","22-20754",null,"William Penn University V ","",226.0,225.0,208.0,223.0,156.0,0.0,1038,5,207.6]
[103.0,"Jerry Jennings","8608-3907",null,"Ottawa University (KS) V ","",0.0,199.0,226.0,208.0,221.0,180.0,1034,5,206.8]
[104.0,"Seth Baratz","6507-11452",null,"Kansas Wesleyan University V ","",0.0,244.0,169.0,211.0,190.0,217.0,1031,5,206.2]
[105.0,"Elijah Roberts","22-23714",null,"Dallas Baptist University V ","",148.0,183.0,175.0,185.0,138.0,200.0,1029,6,171.5]
[106.0,"Kari Beyer","11-484627",null,"Dallas Baptist University V ","",160.0,180.0,208.0,191.0,164.0,121.0,1024,6,170.6666667]
[107.0,"Isaac Skalak","11-377455",null,"Peru State College V ","",195.0,203.0,212.0,205.0,0.0,205.0,1020,5,204]
[108.0,"Mason Martin","17-107448",null,"Oklahoma State University V ","",180.0,174.0,154.0,166.0,156.0,189.0,1019,6,169.8333333]
[109.0,"Caden Witt","11-479885",null,"Quincy University V ","",173.0,181.0,180.0,158.0,161.0,163.0,1016,6,169.3333333]
[110.0,"Landon Woeltje","20-39192",null,"Missouri Valley College V ","",152.0,0.0,213.0,202.0,212.0,228.0,1007,5,201.4]
[111.0,"Zachery Brehm","17-89549",null,"Baker University V ","",164.0,209.0,172.0,0.0,180.0,279.0,1004,5,200.8]
[112.0,"Marcus Cole","8219-86694",null,"Wichita State University JV2 ","",234.0,193.0,191.0,214.0,170.0,0.0,1002,5,200.4]
[113.0,"Benjamin Weinzirl","16-162899",null,"Kansas ,University Of JV1 ","",171.0,149.0,136.0,221.0,167.0,157.0,1001,6,166.8333333]
[114.0,"Braden Lallier","11-451268",null,"William Woods University V ","",170.0,171.0,163.0,136.0,190.0,171.0,1001,6,166.8333333]
[115.0,"Blake Hemann","11-235313",null,"Culver-Stockton College V ","",212.0,180.0,145.0,158.0,149.0,156.0,1000,6,166.6666667]
[116.0,"Brandon Engels","11-607179",null,"Hastings College JV1 ","",230.0,203.0,253.0,192.0,121.0,0.0,999,5,199.8]
[117.0,"Zachary Phillips","5900-26805",null,"Peru State College V ","",0.0,173.0,168.0,241.0,244.0,173.0,999,5,199.8]
[118.0,"Jake DeVoe","18-58159",null,"Oklahoma Christian University V ","",196.0,235.0,218.0,191.0,158.0,0.0,998,5,199.6]
[119.0,"Wesley Outman","11-677214",null,"Ottawa University (KS) V ","",195.0,0.0,204.0,214.0,203.0,181.0,997,5,199.4]
[120.0,"Anthony Hudson","19-11395",null,"Kansas ,University Of JV1 ","",181.0,160.0,153.0,169.0,163.0,168.0,994,6,165.6666667]
[121.0,"Kenneth High","11-672708",null,"Hastings College V ","",168.0,222.0,191.0,225.0,185.0,0.0,991,5,198.2]
[122.0,"Christopher Little","17-18636",null,"William Woods University V ","",147.0,196.0,173.0,130.0,176.0,168.0,990,6,165]
[123.0,"Chavous Kuamo'O-Malama","7914-24637",null,"Newman University JV2 ","",190.0,122.0,170.0,186.0,168.0,141.0,977,6,162.8333333]
[124.0,"Alex Gomez","20-20962",null,"Hastings College JV1 ","",133.0,143.0,181.0,202.0,149.0,167.0,975,6,162.5]
[125.0,"Chase Milledge","11-489693",null,"Kansas ,University Of V ","",178.0,188.0,166.0,169.0,144.0,128.0,973,6,162.1666667]
[126.0,"Oscar Rubio","22-2676",null,"Barton Community College V ","",0.0,234.0,147.0,174.0,229.0,188.0,972,5,194.4]
[127.0,"Paul Marquez","11-777155",null,"Dallas Baptist University V ","",138.0,176.0,176.0,164.0,157.0,156.0,967,6,161.1666667]
[128.0,"Jose Limon","11-207956",null,"University Of Saint Mary V ","",237.0,188.0,214.0,142.0,179.0,0.0,960,5,192]
[129.0,"Alex DuFour","16-25815",null,"Coe College V ","",211.0,227.0,175.0,183.0,163.0,0.0,959,5,191.8]
[130.0,"Patrick Bloomer","19-83040",null,"Kansas ,University Of V ","",175.0,160.0,173.0,156.0,129.0,164.0,957,6,159.5]
[131.0,"Joe Tillery","15-107222",null,"Kansas State University V ","",249.0,211.0,160.0,158.0,0.0,178.0,956,5,191.2]
[132.0,"Michael Anderson","11-364326",null,"Lindenwood University V ","",0.0,204.0,185.0,212.0,195.0,152.0,948,5,189.6]
[133.0,"Lawton Simons","11-460910",null,"Newman University JV2 ","",140.0,161.0,157.0,193.0,155.0,139.0,945,6,157.5]
[134.0,"Brett Gamber","18-1332",null,"Baker University V ","",0.0,175.0,214.0,174.0,215.0,162.0,940,5,188]
[135.0,"Jacob Kraft","6987-998",null,"Iowa Central Community College V ","",165.0,0.0,201.0,221.0,167.0,185.0,939,5,187.8]
[136.0,"Cale McConncell","17-107341",null,"Barton Community College JV1 ","",0.0,237.0,182.0,155.0,182.0,182.0,938,5,187.6]
[137.0,"Jeremiah 'Jp' Richmond","20-58105",null,"Coe College V ","",176.0,0.0,237.0,181.0,166.0,178.0,938,5,187.6]
[138.0,"Emma Bowes","11-79337",null,"Nebraska ,University Of V ","",144.0,180.0,153.0,181.0,153.0,119.0,930,6,155]
[139.0,"Alexander Nolan","11-288359",null,"St. Ambrose University JV1 ","",0.0,0.0,210.0,231.0,251.0,230.0,922,4,230.5]
[140.0,"Dawson Weber","11-123571",null,"Iowa Central Community College V ","",168.0,188.0,147.0,0.0,199.0,215.0,917,5,183.4]
[141.0,"Israel Reveles","21-4507",null,"Oklahoma Christian University V ","",0.0,0.0,208.0,234.0,196.0,278.0,916,4,229]
[142.0,"Zachary Smullen","11-659944",null,"Newman University V ","",0.0,0.0,212.0,227.0,233.0,244.0,916,4,229]
[143.0,"Nathan Stinemates","11-429466",null,"Hastings College JV1 ","",132.0,0.0,165.0,169.0,204.0,237.0,907,5,181.4]
[144.0,"Tyklen Salmons","22-27621",null,"William Woods University V ","",143.0,212.0,174.0,118.0,120.0,138.0,905,6,150.8333333]
[145.0,"Brady Cline","19-85683",null,"Kansas State University V ","",197.0,178.0,143.0,0.0,179.0,200.0,897,5,179.4]
[146.0,"Anthony Mastroianni","8947-49201",null,"St. Ambrose University JV1 ","",171.0,219.0,168.0,174.0,164.0,0.0,896,5,179.2]
[147.0,"Blake Albers","17-101622",null,"Newman University JV1 ","",224.0,157.0,178.0,0.0,157.0,160.0,876,5,175.2]
[148.0,"James Jackson","6507-8681",null,"Oklahoma Christian University JV1 ","",0.0,0.0,224.0,199.0,226.0,217.0,866,4,216.5]
[149.0,"Braden Maltz","22-16685",null,"Kansas State University V ","",0.0,170.0,139.0,196.0,190.0,170.0,865,5,173]
[150.0,"Wyatt Grunwald","11-540859",null,"Missouri Valley College V ","",129.0,168.0,0.0,175.0,194.0,199.0,865,5,173]
[151.0,"Jordan Monnens","11-377191",null,"St. Ambrose University V ","",156.0,0.0,0.0,234.0,246.0,225.0,861,4,215.25]
[152.0,"Ashton Yamasaki","15-185155",null,"St. Ambrose University V ","",0.0,0.0,234.0,236.0,196.0,193.0,859,4,214.75]
[153.0,"Aidan Tesdall","19-81745",null,"Avila University V ","",194.0,176.0,160.0,200.0,128.0,0.0,858,5,171.6]
[154.0,"Cole Clough","11-663062",null,"Ottawa University (KS) JV1 ","",0.0,224.0,265.0,234.0,135.0,0.0,858,4,214.5]
[155.0,"Jacob Griffin","8216-1672",null,"West Texas A&M University V ","",156.0,222.0,141.0,0.0,200.0,134.0,853,5,170.6]
[156.0,"Brady Jennings","11-88267",null,"Wichita State University JV2 ","",160.0,166.0,151.0,183.0,0.0,192.0,852,5,170.4]
[157.0,"Trey Myers","11-607472",null,"Baker University V ","",277.0,174.0,231.0,165.0,0.0,0.0,847,4,211.75]
[158.0,"Brady Aebersold","20-50265",null,"Kansas ,University Of V ","",177.0,164.0,200.0,122.0,0.0,179.0,842,5,168.4]
[159.0,"Ian Templin","11-605053",null,"Waldorf University V ","",164.0,190.0,168.0,170.0,138.0,0.0,830,5,166]
[160.0,"Malcolm Saltzman","9562-18261",null,"Nebraska ,University Of V ","",149.0,173.0,190.0,166.0,145.0,0.0,823,5,164.6]
[161.0,"Aaron Wickland","17-8",null,"Nebraska ,University Of V ","",159.0,178.0,151.0,181.0,139.0,0.0,808,5,161.6]
[162.0,"Jonah Musial","17-67876",null,"Mount Mercy University V ","",0.0,0.0,205.0,220.0,181.0,200.0,806,4,201.5]
[163.0,"Camden Schrickel","22-1905",null,"University Of Saint Mary V ","",150.0,169.0,144.0,0.0,159.0,178.0,800,5,160]
[164.0,"Guy Mapstone","7914-9005",null,"Missouri Valley College V ","",182.0,212.0,211.0,0.0,0.0,178.0,783,4,195.75]
[165.0,"Josh King","18-43056",null,"Baker University V ","",0.0,0.0,184.0,166.0,204.0,214.0,768,4,192]
[166.0,"Wyatt Woodward","11-713121",null,"Peru State College V ","",0.0,0.0,221.0,170.0,179.0,196.0,766,4,191.5]
[167.0,"Kellen McGowan","20-25203",null,"Kansas ,University Of JV1 ","",152.0,121.0,117.0,122.0,109.0,143.0,764,6,127.3333333]
[168.0,"Brendan Iaulualo","8756-13138",null,"Ottawa University (KS) V ","",223.0,177.0,197.0,161.0,0.0,0.0,758,4,189.5]
[169.0,"Daniel Liddle","6933-7657",null,"Lindenwood University JV1 ","",148.0,0.0,0.0,233.0,187.0,187.0,755,4,188.75]
[170.0,"Kristopher Quidachay","5900-20916",null,"Ottawa University (KS) V ","",200.0,168.0,0.0,0.0,179.0,200.0,747,4,186.75]
[171.0,"Elijah Barnes","20-54170",null,"Lindenwood University JV1 ","",0.0,0.0,203.0,203.0,157.0,181.0,744,4,186]
[172.0,"Hunter Richards","22-17669",null,"Oklahoma State University V ","",169.0,170.0,135.0,146.0,121.0,0.0,741,5,148.2]
[173.0,"Jaylon Jackson","11-400036",null,"Oklahoma Christian University JV1 ","",123.0,0.0,0.0,203.0,222.0,187.0,735,4,183.75]
[174.0,"Creyton Nisly","11-276735",null,"Peru State College V ","",173.0,163.0,0.0,0.0,223.0,175.0,734,4,183.5]
[175.0,"Bryce Keykal","8223-85672",null,"William Penn University V ","",157.0,172.0,177.0,0.0,0.0,223.0,729,4,182.25]
[176.0,"Griffin Peterson","16-165419",null,"Barton Community College V ","",169.0,202.0,152.0,0.0,204.0,0.0,727,4,181.75]
[177.0,"Caleb Carr","15-181271",null,"Barton Community College V ","",197.0,231.0,135.0,163.0,0.0,0.0,726,4,181.5]
[178.0,"Johnathan Hemmingsen","9138-8600",null,"Grand View University V ","",196.0,173.0,178.0,173.0,0.0,0.0,720,4,180]
[179.0,"Jordan McConnell","18-82246",null,"Drury University V ","",183.0,165.0,195.0,172.0,0.0,0.0,715,4,178.75]
[180.0,"Jayden Briggs","16-67827",null,"Missouri Valley College V ","",170.0,0.0,208.0,163.0,170.0,0.0,711,4,177.75]
[181.0,"Alex Harms","8599-56155",null,"Wichita State University JV2 ","",0.0,158.0,0.0,206.0,200.0,146.0,710,4,177.5]
[182.0,"Cooper Clumsky","11-59176",null,"Barton Community College JV1 ","",0.0,124.0,0.0,174.0,166.0,228.0,692,4,173]
[183.0,"Will Wallace","11-317301",null,"Hastings College JV1 ","",177.0,176.0,163.0,0.0,0.0,175.0,691,4,172.75]
[184.0,"Parker Lymenstull","11-237083",null,"Quincy University V ","",135.0,0.0,0.0,177.0,149.0,224.0,685,4,171.25]
[185.0,"Cooper Watkins","18-48073",null,"Newman University JV1 ","",170.0,0.0,0.0,160.0,187.0,167.0,684,4,171]
[186.0,"David Hayes","11-459860",null,"Wichita State University V ","",0.0,0.0,0.0,259.0,205.0,217.0,681,3,227]
[187.0,"Easton Lee","15-118474",null,"Iowa Central Community College V ","",183.0,156.0,0.0,191.0,147.0,0.0,677,4,169.25]
[188.0,"Stephen Acton","8232-944",null,"Peru State College V ","",139.0,0.0,0.0,186.0,159.0,193.0,677,4,169.25]
[189.0,"Garraty Richmond","5873-792",null,"William Penn University V ","",166.0,190.0,114.0,0.0,0.0,203.0,673,4,168.25]
[190.0,"Alec Elskamp","16-163630",null,"Kansas Wesleyan University V ","",162.0,165.0,0.0,0.0,146.0,196.0,669,4,167.25]
[191.0,"Nicholas Sommer","5717-1804",null,"Wichita State University V ","",0.0,0.0,0.0,235.0,178.0,253.0,666,3,222]
[192.0,"Alexander Flinn","11-765034",null,"Barton Community College JV1 ","",138.0,0.0,204.0,158.0,0.0,162.0,662,4,165.5]
[193.0,"Lillynn Lewis","21-61926",null,"West Texas A&M University V ","",196.0,161.0,159.0,144.0,0.0,0.0,660,4,165]
[194.0,"Jacob Johns","11-317456",null,"Oklahoma State University V ","",190.0,164.0,163.0,141.0,0.0,0.0,658,4,164.5]
[195.0,"Chaz Smith","5900-26169",null,"Barton Community College JV1 ","",208.0,159.0,0.0,154.0,0.0,130.0,651,4,162.75]
[196.0,"Aidan Baker","11-553047",null,"Wichita State University JV2 ","",151.0,0.0,143.0,0.0,173.0,181.0,648,4,162]
[197.0,"Ginna Holzman","16-154902",null,"West Texas A&M University V ","",211.0,177.0,144.0,0.0,115.0,0.0,647,4,161.75]
[198.0,"Caleb Murphy","18-7262",null,"Barton Community College JV1 ","",142.0,188.0,159.0,0.0,145.0,0.0,634,4,158.5]
[199.0,"Braden Boswell","17-15924",null,"Barton Community College V ","",143.0,0.0,0.0,169.0,149.0,166.0,627,4,156.75]
[200.0,"Nate Moser","16-139103",null,"Missouri Valley College V ","",0.0,145.0,0.0,131.0,196.0,153.0,625,4,156.25]
[201.0,"Maxx Uecker","11-748575",null,"Hastings College JV1 ","",0.0,115.0,0.0,164.0,158.0,178.0,615,4,153.75]
[202.0,"Kody Sapp","5853-303",null,"William Penn University V ","",0.0,0.0,0.0,238.0,170.0,201.0,609,3,203]
[203.0,"Ryan Barnes","8072-7714",null,"Wichita State University V ","",215.0,201.0,193.0,0.0,0.0,0.0,609,3,203]
[204.0,"Chandler Scott","15-118730",null,"Iowa Western Community College V ","",0.0,0.0,222.0,200.0,185.0,0.0,607,3,202.3333333]
[205.0,"John Kane","19-11396",null,"Kansas ,University Of V ","",134.0,0.0,158.0,0.0,159.0,155.0,606,4,151.5]
[206.0,"Brendan De Werth","11-395386",null,"St. Ambrose University JV1 ","",0.0,0.0,0.0,198.0,205.0,188.0,591,3,197]
[207.0,"Steven Stone","17-29871",null,"Iowa Central Community College V ","",0.0,213.0,215.0,160.0,0.0,0.0,588,3,196]
[208.0,"Hunter Pirtle","11-678471",null,"Lindenwood University JV1 ","",0.0,0.0,0.0,161.0,207.0,218.0,586,3,195.3333333]
[209.0,"Graham Mortimore","16-147279",null,"Lindenwood University JV1 ","",203.0,224.0,156.0,0.0,0.0,0.0,583,3,194.3333333]
[210.0,"Joshua Bauder","19-44138",null,"Ottawa University (KS) JV1 ","",93.0,0.0,142.0,0.0,160.0,180.0,575,4,143.75]
[211.0,"Ian Carpenter","11-629159",null,"Ottawa University (KS) JV1 ","",141.0,150.0,0.0,132.0,0.0,151.0,574,4,143.5]
[212.0,"Caden Ziegler","11-742664",null,"Grand View University V ","",225.0,190.0,156.0,0.0,0.0,0.0,571,3,190.3333333]
[213.0,"Landon Hodge","17-80840",null,"Kansas Wesleyan University V ","",165.0,0.0,224.0,176.0,0.0,0.0,565,3,188.3333333]
[214.0,"Terrance (T.J.) Rock","8019-45865",null,"Wichita State University V ","",213.0,182.0,167.0,0.0,0.0,0.0,562,3,187.3333333]
[215.0,"Nate O'Connell","16-86758",null,"Lindenwood University JV1 ","",221.0,180.0,159.0,0.0,0.0,0.0,560,3,186.6666667]
[216.0,"Evan Serrage","15-18094",null,"Avila University V ","",191.0,189.0,173.0,0.0,0.0,0.0,553,3,184.3333333]
[217.0,"Carter Schaffer","21-24464",null,"Kansas State University V ","",198.0,0.0,0.0,193.0,153.0,0.0,544,3,181.3333333]
[218.0,"Justin Brookens","11-758428",null,"Peru State College V ","",187.0,204.0,153.0,0.0,0.0,0.0,544,3,181.3333333]
[219.0,"Jessi Stem","18-11862",null,"Missouri Valley College V ","",0.0,194.0,180.0,0.0,167.0,0.0,541,3,180.3333333]
[220.0,"Peyton Stokes","18-64855",null,"West Texas A&M University V ","",0.0,0.0,0.0,185.0,175.0,180.0,540,3,180]
[221.0,"Javier Muniz Vega","7063-2626",null,"Lindenwood University V ","",173.0,196.0,169.0,0.0,0.0,0.0,538,3,179.3333333]
[222.0,"Matthew Reed","11-78128",null,"Newman University JV1 ","",0.0,201.0,195.0,140.0,0.0,0.0,536,3,178.6666667]
[223.0,"Dakota Harris","5816-1477",null,"Coe College V ","",188.0,213.0,133.0,0.0,0.0,0.0,534,3,178]
[224.0,"Benjamin Banks","7914-6106",null,"Baker University V ","",183.0,163.0,0.0,0.0,0.0,186.0,532,3,177.3333333]
[225.0,"Carter Robinson","11-506954",null,"Oklahoma Christian University JV1 ","",193.0,173.0,160.0,0.0,0.0,0.0,526,3,175.3333333]
[226.0,"Ryan Eddy","11-232528",null,"Coe College V ","",0.0,0.0,0.0,176.0,177.0,170.0,523,3,174.3333333]
[227.0,"Luke Belvin","17-101586",null,"Kansas State University V ","",0.0,0.0,0.0,176.0,191.0,143.0,510,3,170]
[228.0,"Dane Conner","7914-17029",null,"Peru State College V ","",166.0,0.0,169.0,167.0,0.0,0.0,502,3,167.3333333]
[229.0,"Tanner Eckerle","11-439937",null,"Baker University V ","",137.0,0.0,0.0,192.0,171.0,0.0,500,3,166.6666667]
[230.0,"Braedon Robinson","22-1904",null,"University Of Saint Mary V ","",0.0,0.0,179.0,147.0,0.0,151.0,477,3,159]
[231.0,"Justin Kennedy","16-71962",null,"St. Ambrose University JV1 ","",170.0,156.0,0.0,0.0,0.0,145.0,471,3,157]
[232.0,"Tyler Harlow","6419-842",null,"Waldorf University V ","",106.0,221.0,136.0,0.0,0.0,0.0,463,3,154.3333333]
[233.0,"Devin Morelock","11-275379",null,"Kansas State University V ","",196.0,124.0,140.0,0.0,0.0,0.0,460,3,153.3333333]
[234.0,"Blake Paulhamus","20-48261",null,"Missouri Valley College V ","",128.0,0.0,178.0,0.0,0.0,150.0,456,3,152]
[235.0,"Preston Pacheco","11-348802",null,"Kansas ,University Of V ","",0.0,119.0,0.0,175.0,136.0,0.0,430,3,143.3333333]
[236.0,"Dantoine Ballard","18-48037",null,"University Of Saint Mary V ","",134.0,0.0,0.0,144.0,146.0,0.0,424,3,141.3333333]
[237.0,"Cooper Holloway","19-11824",null,"Barton Community College JV1 ","",120.0,0.0,170.0,0.0,133.0,0.0,423,3,141]
[238.0,"Jonathan Wallace","22-23707",null,"Dallas Baptist University V ","",84.0,104.0,78.0,73.0,0.0,79.0,418,5,83.6]
[239.0,"Brayden Fishel","11-295590",null,"Grand View University V ","",0.0,0.0,0.0,0.0,169.0,217.0,386,2,193]
[240.0,"Max Sturgeon","21-11945",null,"Avila University V ","",0.0,0.0,0.0,213.0,158.0,0.0,371,2,185.5]
[241.0,"Zack Denton","5895-18",null,"St. Ambrose University V ","",206.0,165.0,0.0,0.0,0.0,0.0,371,2,185.5]
[242.0,"Grant McClymont","20-23769",null,"Waldorf University V ","",0.0,0.0,0.0,171.0,197.0,0.0,368,2,184]
[243.0,"Connor Fleming","11-151757",null,"Oklahoma Christian University V ","",169.0,198.0,0.0,0.0,0.0,0.0,367,2,183.5]
[244.0,"Silas Limes","11-186329",null,"Newman University V ","",183.0,183.0,0.0,0.0,0.0,0.0,366,2,183]
[245.0,"William Jones","6058-4136",null,"St. Ambrose University V ","",0.0,189.0,177.0,0.0,0.0,0.0,366,2,183]
[246.0,"Katrina Smith","22-23712",null,"Dallas Baptist University V ","",0.0,0.0,101.0,79.0,99.0,85.0,364,4,91]
[247.0,"Emmaunel McPherson","7914-19385",null,"Lindenwood University JV1 ","",190.0,173.0,0.0,0.0,0.0,0.0,363,2,181.5]
[248.0,"Rolando Ng","22-16969",null,"Lindenwood University V ","",0.0,0.0,0.0,209.0,146.0,0.0,355,2,177.5]
[249.0,"Harley Shene","11-365628",null,"Mount Mercy University V ","",165.0,182.0,0.0,0.0,0.0,0.0,347,2,173.5]
[250.0,"Collen Campbell","11-412060",null,"Oklahoma State University V ","",0.0,0.0,0.0,0.0,193.0,153.0,346,2,173]
[251.0,"Derek Baucom","11-227599",null,"Grand View University V ","",0.0,0.0,0.0,0.0,185.0,159.0,344,2,172]
[252.0,"Andrew Chavarria","7914-26313",null,"Iowa Western Community College V ","",182.0,161.0,0.0,0.0,0.0,0.0,343,2,171.5]
[253.0,"Spencer Fleming","17-85693",null,"William Penn University V ","",0.0,0.0,0.0,164.0,165.0,0.0,329,2,164.5]
[254.0,"Caleb Gillmore","11-76593",null,"St. Ambrose University JV1 ","",154.0,172.0,0.0,0.0,0.0,0.0,326,2,163]
[255.0,"Kai Yamada","5617-3547",null,"Mount Mercy University V ","",155.0,165.0,0.0,0.0,0.0,0.0,320,2,160]
[256.0,"Nicholas Miles","11-460695",null,"Missouri Valley College V ","",0.0,148.0,0.0,170.0,0.0,0.0,318,2,159]
[257.0,"Jett Tolentino","20-53888",null,"Peru State College V ","",0.0,157.0,0.0,0.0,157.0,0.0,314,2,157]
[258.0,"Peter Coniaris","22-23718",null,"Dallas Baptist University V ","",104.0,92.0,0.0,0.0,100.0,0.0,296,3,98.66666667]
[259.0,"Ammon Janey","11-499796",null,"Drury University V ","",0.0,0.0,0.0,0.0,149.0,139.0,288,2,144]
[260.0,"Paizley Madrigal","21-14229",null,"West Texas A&M University V ","",0.0,0.0,0.0,168.0,0.0,106.0,274,2,137]
[261.0,"Jared Felipa","11-719508",null,"Lindenwood University V ","",0.0,0.0,0.0,0.0,0.0,258.0,258,1,258]
[262.0,"Andrew Hall","7914-660",null,"Iowa Western Community College V ","",0.0,0.0,0.0,0.0,0.0,234.0,234,1,234]
[263.0,"Emilio Gutierrez","22-1902",null,"University Of Saint Mary V ","",0.0,101.0,0.0,0.0,0.0,114.0,215,2,107.5]
[264.0,"Paul Baker","17-60831",null,"Hastings College V ","",0.0,0.0,0.0,0.0,0.0,195.0,195,1,195]
[265.0,"Bryson Randol","11-701000",null,"Waldorf University V ","",0.0,0.0,0.0,0.0,0.0,191.0,191,1,191]
[266.0,"Braden Smith","22-2807",null,"Coe College V ","",0.0,0.0,0.0,0.0,0.0,189.0,189,1,189]
[267.0,"Tyler Lacher-Hambor","11-49205",null,"Waldorf University V ","",0.0,0.0,0.0,0.0,0.0,182.0,182,1,182]
[268.0,"Leotis Johnson","5743-5157",null,"Oklahoma Christian University V ","",0.0,0.0,0.0,0.0,0.0,173.0,173,1,173]
[269.0,"Alleyn Campbell","11-412059",null,"Oklahoma State University V ","",0.0,0.0,0.0,0.0,0.0,170.0,170,1,170]
[270.0,"Benicio Lara","21-47554",null,"Oklahoma Christian University JV1 ","",0.0,169.0,0.0,0.0,0.0,0.0,169,1,169]
[271.0,"Tyler Call","8813-4825",null,"Hastings College V ","",168.0,0.0,0.0,0.0,0.0,0.0,168,1,168]
[272.0,"Brenden Unseld","18-92281",null,"Quincy University V ","",0.0,167.0,0.0,0.0,0.0,0.0,167,1,167]
[273.0,"Alexis Wuestewald","11-626566",null,"Nebraska ,University Of V ","",0.0,0.0,0.0,0.0,0.0,162.0,162,1,162]
[274.0,"Michael Bonner","21-4164",null,"Coe College V ","",0.0,162.0,0.0,0.0,0.0,0.0,162,1,162]
[275.0,"Alton Barber","11-71264",null,"St. Ambrose University JV1 ","",0.0,0.0,159.0,0.0,0.0,0.0,159,1,159]
[276.0,"Troy Owens","11-120819",null,"Lindenwood University V ","",159.0,0.0,0.0,0.0,0.0,0.0,159,1,159]
[277.0,"Ashton Pohlmann","11-654953",null,"Nebraska ,University Of V ","",0.0,0.0,0.0,0.0,0.0,153.0,153,1,153]
[278.0,"Nathan Swanson","19-52211",null,"Iowa Central Community College V ","",0.0,0.0,0.0,0.0,0.0,150.0,150,1,150]
[279.0,"Tim Lincoln","9138-8601",null,"Grand View University V ","",0.0,0.0,0.0,148.0,0.0,0.0,148,1,148]
[280.0,"Conner Eastman","20-298",null,"Barton Community College V ","",0.0,0.0,0.0,0.0,0.0,143.0,143,1,143]
[281.0,"Lucas Forthofer","7914-29201",null,"Quincy University V ","",0.0,0.0,137.0,0.0,0.0,0.0,137,1,137]
[282.0,"Wesley Smith","11-429373",null,"Avila University V ","",0.0,0.0,0.0,0.0,0.0,129.0,129,1,129]
[283.0,"Bryce Stewart","8599-78423",null,"Avila University V ","",0.0,0.0,0.0,0.0,0.0,128.0,128,1,128]
[284.0,"Andrew Fonseca","5900-25891",null,"Kansas Wesleyan University V ","",0.0,0.0,0.0,0.0,0.0,0.0,0,0,0]
[285.0,"Angel Carrillo","22-22130",null,"Oklahoma State University V ","",0.0,0.0,0.0,0.0,0.0,0.0,0,0,0]
[286.0,"Brandon Savino","20-5362",null,"Iowa Western Community College V ","",0.0,0.0,0.0,0.0,0.0,0.0,0,0,0]
[287.0,"Caleb Sterbenz","5822-1038",null,"William Penn University V ","",0.0,0.0,0.0,0.0,0.0,0.0,0,0,0]
[288.0,"Cameron Crowe","11-81520",null,"St. Ambrose University V ","",0.0,0.0,0.0,0.0,0.0,0.0,0,0,0]
[289.0,"Glen Sills","8845-26727",null,"Drury University V ","",0.0,0.0,0.0,0.0,0.0,0.0,0,0,0]
[290.0,"Jared McQuilliam","20-45947",null,"Barton Community College JV1 ","",0.0,0.0,0.0,0.0,0.0,0.0,0,0,0]
[291.0,"Joshua Quaas","11-400668",null,"Nebraska ,University Of V ","",0.0,0.0,0.0,0.0,0.0,0.0,0,0,0]
[292.0,"Justin Wallace","22-23704",null,"Dallas Baptist University V ","",0.0,0.0,0.0,0.0,0.0,0.0,0,0,0]
[293.0,"Kaden McDow","11-100889",null,"William Woods University V ","",0.0,0.0,0.0,0.0,0.0,0.0,0,0,0]
[294.0,"Landon Jones","11-762339",null,"Kansas Wesleyan University V ","",0.0,0.0,0.0,0.0,0.0,0.0,0,0,0]
[295.0,"Nathan Curnutt","15-20464",null,"Oklahoma Christian University V ","",0.0,0.0,0.0,0.0,0.0,0.0,0,0,0]
[296.0,"Nicholas Puente","20-20396",null,"Quincy University V ","",0.0,0.0,0.0,0.0,0.0,0.0,0,0,0]
[297.0,"Quinten Schulte","18-27844",null,"Drury University V ","",0.0,0.0,0.0,0.0,0.0,0.0,0,0,0]
[298.0,"Ricardo Tello","21-342",null,"University Of Saint Mary V ","",0.0,0.0,0.0,0.0,0.0,0.0,0,0,0]
[299.0,"Spencer Giffin","5900-26017",null,"Ottawa University (KS) V ","",0.0,0.0,0.0,0.0,0.0,0.0,0,0,0]
[300.0,"Travis Sorola","16-86986",null,"Oklahoma Christian University JV1 ","",0.0,0.0,0.0,0.0,0.0,0.0,0,0,0]
[301.0,"Tyler Whitner","18-88391",null,"Iowa Central Community College V ","",0.0,0.0,0.0,0.0,0.0,0.0,0,0,0]
[302.0,"William Day","8921-2363",null,"Newman University V ","",0.0,0.0,0.0,0.0,0.0,0.0,0,0,0]
[303.0,"Zachary Lantz","17-37893",null,"Culver-Stockton College V ","",0.0,0.0,0.0,0.0,0.0,0.0,0,0,0]
[304.0,null,"",null,"Avila University V","",{"$nulls":6},0,0,0]
[305.0,null,"",null,"Avila University V","",{"$nulls":6},0,0,0]
[306.0,null,"",null,"Avila University V","",{"$nulls":6},0,0,0]
[307.0,null,"",null," V ","",0.0,0.0,0.0,0.0,0.0,0.0,0,0,0]
[308.0,null,"",null,"Baker University V","",{"$nulls":6},0,0,0]
[309.0,null,"",null,"Baker University V","",{"$nulls":6},0,0,0]
[310.0,null,"",null,"Baker University V","",{"$nulls":6},0,0,0]
[311.0,null,"",null," V ","",0.0,0.0,0.0,0.0,0.0,0.0,0,0,0]
[312.0,null,"",null,"Barton Community College V","",{"$nulls":6},0,0,0]
[313.0,null,"",null,"Barton Community College V","",{"$nulls":6},0,0,0]
[314.0,null,"",null,"Barton Community College V","",{"$nulls":6},0,0,0]
[315.0,null,"",null,"Coe College V","",{"$nulls":6},0,0,0]
[316.0,null,"",null,"Coe College V","",{"$nulls":6},0,0,0]
[317.0,null,"",null,"Coe College V","",{"$nulls":6},0,0,0]
[318.0,null,"",null," V ","",0.0,0.0,0.0,0.0,0.0,0.0,0,0,0]
[319.0,null,"",null," V ","",0.0,0.0,0.0,0.0,0.0,0.0,0,0,0]
[320.0,null,"",null,"Culver-Stockton College V","",{"$nulls":6},0,0,0]
[321.0,null,"",null,"Culver-Stockton College V","",{"$nulls":6},0,0,0]
[322.0,null,"",null,"Culver-Stockton College V","",{"$nulls":6},0,0,0]
[323.0,null,"",null," V ","",0.0,0.0,0.0,0.0,0.0,0.0,0,0,0]
[324.0,null,"",null,"Dallas Baptist University V","",{"$nulls":6},0,0,0]
[325.0,null,"",null,"Dallas Baptist University V","",{"$nulls":6},0,0,0]
[326.0,null,"",null,"Dallas Baptist University V","",{"$nulls":6},0,0,0]
[327.0,null,"",null,"Drury University V","",{"$nulls":6},0,0,0]
[328.0,null,"",null,"Drury University V","",{"$nulls":6},0,0,0]
[329.0,null,"",null,"Drury University V","",{"$nulls":6},0,0,0]
[330.0,null,"",null,"Grand View University V","",{"$nulls":6},0,0,0]
[331.0,null,"",null,"Grand View University V","",{"$nulls":6},0,0,0]
[332.0,null,"",null,"Grand View University V","",{"$nulls":6},0,0,0]
[333.0,null,"",null," V ","",0.0,0.0,0.0,0.0,0.0,0.0,0,0,0]
[334.0,null,"",null,"Hastings College V","",{"$nulls":6},0,0,0]
[335.0,null,"",null,"Hastings College V","",{"$nulls":6},0,0,0]
[336.0,null,"",null,"Hastings College V","",{"$nulls":6},0,0,0]
[337.0,null,"",null,"Iowa Central Community College V","",{"$nulls":6},0,0,0]
[338.0,null,"",null,"Iowa Central Community College V","",{"$nulls":6},0,0,0]
[339.0,null,"",null,"Iowa Central Community College V","",{"$nulls":6},0,0,0]
[340.0,null,"",null,"Iowa Western Community College V","",{"$nulls":6},0,0,0]
[341.0,null,"",null,"Iowa Western Community College V","",{"$nulls":6},0,0,0]
[342.0,null,"",null,"Iowa Western Community College V","",{"$nulls":6},0,0,0]
[343.0,null,"",null," V ","",0.0,0.0,0.0,0.0,0.0,0.0,0,0,0]
[344.0,null,"",null," V ","",0.0,0.0,0.0,0.0,0.0,0.0,0,0,0]
[345.0,null,"",null,"Kansas ,University Of V","",{"$nulls":6},0,0,0]
[346.0,null,"",null,"Kansas ,University Of V","",{"$nulls":6},0,0,0]
[347.0,null,"",null,"Kansas ,University Of V","",{"$nulls":6},0,0,0]
[348.0,null,"",null," V ","",0.0,0.0,0.0,0.0,0.0,0.0,0,0,0]
[349.0,null,"",null,"Kansas State University V","",{"$nulls":6},0,0,0]
[350.0,null,"",null,"Kansas State University V","",{"$nulls":6},0,0,0]
[351.0,null,"",null,"Kansas State University V","",{"$nulls":6},0,0,0]
[352.0,null,"",null,"Kansas Wesleyan University V","",{"$nulls":6},0,0,0]
[353.0,null,"",null,"Kansas Wesleyan University V","",{"$nulls":6},0,0,0]
[354.0,null,"",null,"Kansas Wesleyan University V","",{"$nulls":6},0,0,0]
[355.0,null,"",null,"Lindenwood University V","",{"$nulls":6},0,0,0]
[356.0,null,"",null,"Lindenwood University V","",{"$nulls":6},0,0,0]
[357.0,null,"",null,"Lindenwood University V","",{"$nulls":6},0,0,0]
[358.0,null,"",null,"Missouri Valley College V","",{"$nulls":6},0,0,0]
[359.0,null,"",null,"Missouri Valley College V","",{"$nulls":6},0,0,0]
[360.0,null,"",null,"Missouri Valley College V","",{"$nulls":6},0,0,0]
[361.0,null,"",null," V ","",0.0,0.0,0.0,0.0,0.0,0.0,0,0,0]
[362.0,null,"",null,"Mount Mercy University V","",{"$nulls":6},0,0,0]
[363.0,null,"",null,"Mount Mercy University V","",{"$nulls":6},0,0,0]
[364.0,null,"",null,"Mount Mercy University V","",{"$nulls":6},0,0,0]
[365.0,null,"",null,"Nebraska ,University Of V","",{"$nulls":6},0,0,0]
[366.0,null,"",null,"Nebraska ,University Of V","",{"$nulls":6},0,0,0]
[367.0,null,"",null,"Nebraska ,University Of V","",{"$nulls":6},0,0,0]
[368.0,null,"",null," V ","",0.0,0.0,0.0,0.0,0.0,0.0,0,0,0]
[369.0,null,"",null,"Newman University V","",{"$nulls":6},0,0,0]
[370.0,null,"",null,"Newman University V","",{"$nulls":6},0,0,0]
[371.0,null,"",null,"Newman University V","",{"$nulls":6},0,0,0]
[372.0,null,"",null,"Oklahoma Christian University V","",{"$nulls":6},0,0,0]
[373.0,null,"",null,"Oklahoma Christian University V","",{"$nulls":6},0,0,0]
[374.0,null,"",null,"Oklahoma Christian University V","",{"$nulls":6},0,0,0]
[375.0,null,"",null,"Oklahoma State University V","",{"$nulls":6},0,0,0]
[376.0,null,"",null,"Oklahoma State University V","",{"$nulls":6},0,0,0]
[377.0,null,"",null,"Oklahoma State University V","",{"$nulls":6},0,0,0]
[378.0,null,"",null," V ","",0.0,0.0,0.0,0.0,0.0,0.0,0,0,0]
[379.0,null,"",null,"Ottawa University (KS) V","",{"$nulls":6},0,0,0]
[380.0,null,"",null,"Ottawa University (KS) V","",{"$nulls":6},0,0,0]
[381.0,null,"",null,"Ottawa University (KS) V","",{"$nulls":6},0,0,0]
[382.0,null,"",null,"Peru State College V","",{"$nulls":6},0,0,0]
[383.0,null,"",null,"Peru State College V","",{"$nulls":6},0,0,0]
[384.0,null,"",null,"Peru State College V","",{"$nulls":6},0,0,0]
[385.0,null,"",null,"Quincy University V","",{"$nulls":6},0,0,0]
[386.0,null,"",null,"Quincy University V","",{"$nulls":6},0,0,0]
[387.0,null,"",null,"Quincy University V","",{"$nulls":6},0,0,0]
[388.0,null,"",null,"St. Ambrose University V","",{"$nulls":6},0,0,0]
[389.0,null,"",null,"St. Ambrose University V","",{"$nulls":6},0,0,0]
[390.0,null,"",null,"St. Ambrose University V","",{"$nulls":6},0,0,0]
[391.0,null,"",null,"University Of Saint Mary V","",{"$nulls":6},0,0,0]
[392.0,null,"",null,"University Of Saint Mary V","",{"$nulls":6},0,0,0]
[393.0,null,"",null,"University Of Saint Mary V","",{"$nulls":6},0,0,0]
[394.0,null,"",null,"Waldorf University V","",{"$nulls":6},0,0,0]
[395.0,null,"",null,"Waldorf University V","",{"$nulls":6},0,0,0]
[396.0,null,"",null,"Waldorf University V","",{"$nulls":6},0,0,0]
[397.0,null,"",null," V ","",0.0,0.0,0.0,0.0,0.0,0.0,0,0,0]
[398.0,null,"",null,"West Texas A&M University V","",{"$nulls":6},0,0,0]
[399.0,null,"",null,"West Texas A&M University V","",{"$nulls":6},0,0,0]
[400.0,null,"",null,"West Texas A&M University V","",{"$nulls":6},0,0,0]
[401.0,null,"",null," V ","",0.0,0.0,0.0,0.0,0.0,0.0,0,0,0]
[402.0,null,"",null,"Wichita State University V","",{"$nulls":6},0,0,0]
[403.0,null,"",null,"Wichita State University V","",{"$nulls":6},0,0,0]
[404.0,null,"",null,"Wichita State University V","",{"$nulls":6},0,0,0]
[405.0,null,"",null,"William Penn University V","",{"$nulls":6},0,0,0]
[406.0,null,"",null,"William Penn University V","",{"$nulls":6},0,0,0]
[407.0,null,"",null,"William Penn University V","",{"$nulls":6},0,0,0]
[408.0,null,"",null," V ","",0.0,0.0,0.0,0.0,0.0,0.0,0,0,0]
[409.0,null,"",null," V ","",0.0,0.0,0.0,0.0,0.0,0.0,0,0,0]
[410.0,null,"",null,"William Woods University V","",{"$nulls":6},0,0,0]
[411.0,null,"",null,"William Woods University V","",{"$nulls":6},0,0,0]
[412.0,null,"",null,"William Woods University V","",{"$nulls":6},0,0,0]
[413.0,null,"",null,"Barton Community College JV1","",{"$nulls":6},0,0,0]
[414.0,null,"",null,"Barton Community College JV1","",{"$nulls":6},0,0,0]
[415.0,null,"",null,"Barton Community College JV1","",{"$nulls":6},0,0,0]
[416.0,null,"",null," JV1 ","",0.0,0.0,0.0,0.0,0.0,0.0,0,0,0]
[417.0,null,"",null," JV1 ","",0.0,0.0,0.0,0.0,0.0,0.0,0,0,0]
[418.0,null,"",null,"Hastings College JV1","",{"$nulls":6},0,0,0]
[419.0,null,"",null,"Hastings College JV1","",{"$nulls":6},0,0,0]
[420.0,null,"",null,"Hastings College JV1","",{"$nulls":6},0,0,0]
[421.0,null,"",null," JV1 ","",0.0,0.0,0.0,0.0,0.0,0.0,0,0,0]
[422.0,null,"",null," JV1 ","",0.0,0.0,0.0,0.0,0.0,0.0,0,0,0]
[423.0,null,"",null," JV1 ","",0.0,0.0,0.0,0.0,0.0,0.0,0,0,0]
[424.0,null,"",null,"Kansas ,University Of JV1","",{"$nulls":6},0,0,0]
[425.0,null,"",null,"Kansas ,University Of JV1","",{"$nulls":6},0,0,0]
[426.0,null,"",null,"Kansas ,University Of JV1","",{"$nulls":6},0,0,0]
[427.0,null,"",null,"Lindenwood University JV1","",{"$nulls":6},0,0,0]
[428.0,null,"",null,"Lindenwood University JV1","",{"$nulls":6},0,0,0]
[429.0,null,"",null,"Lindenwood University JV1","",{"$nulls":6},0,0,0]
[430.0,null,"",null," JV1 ","",0.0,0.0,0.0,0.0,0.0,0.0,0,0,0]
[431.0,null,"",null," JV1 ","",0.0,0.0,0.0,0.0,0.0,0.0,0,0,0]
[432.0,null,"",null," JV1 ","",0.0,0.0,0.0,0.0,0.0,0.0,0,0,0]
[433.0,null,"",null," JV1 ","",0.0,0.0,0.0,0.0,0.0,0.0,0,0,0]
[434.0,null,"",null," JV1 ","",0.0,0.0,0.0,0.0,0.0,0.0,0,0,0]
[435.0,null,"",null," JV1 ","",0.0,0.0,0.0,0.0,0.0,0.0,0,0,0]
[436.0,null,"",null," JV1 ","",0.0,0.0,0.0,0.0,0.0,0.0,0,0,0]
[437.0,null,"",null," JV1 ","",0.0,0.0,0.0,0.0,0.0,0.0,0,0,0]
[438.0,null,"",null,"Nebraska ,University Of JV1","",{"$nulls":6},0,0,0]
[439.0,null,"",null,"Nebraska ,University Of JV1","",{"$nulls":6},0,0,0]
[440.0,null,"",null,"Nebraska ,University Of JV1","",{"$nulls":6},0,0,0]
[441.0,null,"",null," JV1 ","",0.0,0.0,0.0,0.0,0.0,0.0,0,0,0]
[442.0,null,"",null," JV1 ","",0.0,0.0,0.0,0.0,0.0,0.0,0,0,0]
[443.0,null,"",null,"Newman University JV1","",{"$nulls":6},0,0,0]
[444.0,null,"",null,"Newman University JV1","",{"$nulls":6},0,0,0]
[445.0,null,"",null,"Newman University JV1","",{"$nulls":6},0,0,0]
[446.0,null,"",null," JV2 ","",0.0,0.0,0.0,0.0,0.0,0.0,0,0,0]
[447.0,null,"",null," JV2 ","",0.0,0.0,0.0,0.0,0.0,0.0,0,0,0]
[448.0,null,"",null," JV2 ","",0.0,0.0,0.0,0.0,0.0,0.0,0,0,0]
[449.0,null,"",null,"Newman University JV2","",{"$nulls":6},0,0,0]
[450.0,null,"",null,"Newman University JV2","",{"$nulls":6},0,0,0]
[451.0,null,"",null,"Newman University JV2","",{"$nulls":6},0,0,0]
[452.0,null,"",null,"Oklahoma Christian University JV1","",{"$nulls":6},0,0,0]
[453.0,null,"",null,"Oklahoma Christian University JV1","",{"$nulls":6},0,0,0]
[454.0,null,"",null,"Oklahoma Christian University JV1","",{"$nulls":6},0,0,0]
[455.0,null,"",null," JV1 ","",0.0,0.0,0.0,0.0,0.0,0.0,0,0,0]
[456.0,null,"",null," JV1 ","",0.0,0.0,0.0,0.0,0.0,0.0,0,0,0]
[457.0,null,"",null,"Ottawa University (KS) JV1","",{"$nulls":6},0,0,0]
[458.0,null,"",null,"Ottawa University (KS) JV1","",{"$nulls":6},0,0,0]
[459.0,null,"",null,"Ottawa University (KS) JV1","",{"$nulls":6},0,0,0]
[460.0,null,"",null,"St. Ambrose University JV1","",{"$nulls":6},0,0,0]
[461.0,null,"",null,"St. Ambrose University JV1","",{"$nulls":6},0,0,0]
[462.0,null,"",null,"St. Ambrose University JV1","",{"$nulls":6},0,0,0]
[463.0,null,"",null," JV1 ","",0.0,0.0,0.0,0.0,0.0,0.0,0,0,0]
[464.0,null,"",null," JV1 ","",0.0,0.0,0.0,0.0,0.0,0.0,0,0,0]
[465.0,null,"",null," JV1 ","",0.0,0.0,0.0,0.0,0.0,0.0,0,0,0]
[466.0,null,"",null,"Wichita State University JV1","",{"$nulls":6},0,0,0]
[467.0,null,"",null,"Wichita State University JV1","",{"$nulls":6},0,0,0]
[468.0,null,"",null,"Wichita State University JV1","",{"$nulls":6},0,0,0]
[469.0,null,"",null," JV2 ","",0.0,0.0,0.0,0.0,0.0,0.0,0,0,0]
[470.0,null,"",null," JV2 ","",0.0,0.0,0.0,0.0,0.0,0.0,0,0,0]
[471.0,null,"",null,"Wichita State University JV2","",{"$nulls":6},0,0,0]
[472.0,null,"",null,"Wichita State University JV2","",{"$nulls":6},0,0,0]
[473.0,null,"",null,"Wichita State University JV2","",{"$nulls":6},0,0,0]
[]
[]
[{"$nulls":4},"Total Pins Bowled:",null,{"$f":"SUM(G13:G485)","v":38518},40373,39538,40132,39141,39279,236981]
[{"$nulls":4},"Field Ave::",null,{"$f":"SUM(G488 / (COUNTIF(G13:G485,\">0\")))","v":183.4190476},192.252381,188.2761905,191.1047619,186.3857143,187.0428571,837.3886926]